{"text_format":"1","workbook":"xlsx","n_sheets":5,"sheets":["WA Gas - Sched 191","Revenue - current rates","DSM Balance","Base Revenue","RCF"],"not_rendered":{"charts":0,"images":0,"macros":0,"external_links":3,"defined_names":4,"comments":1,"pivot_tables":0},"unopened":[],"bounds":{"document_bytes":16777216,"sheet_cells":100000,"rows_first":2000,"rows_last":500,"rows_between":2000,"halvings":0,"cell_chars":16384,"cell_head_chars":4096},"cells_cut":0,"cells_raw":0,"read":"whole","date_system":"1900"}

{"sheet":"WA Gas - Sched 191","index":0,"n_rows":44,"n_cols":12,"rows_kept":44,"cut":false,"hidden":false,"merged":[]}
[]
[null,""]
[]
[null,null," ","GEN SERVICE","LRG GEN SVC","EX LRG GEN SVC","INTERRUPTIBLE","TRANSPORT","TRANSPORT"]
["Source",null,"TOTAL","SCHEDULE 101&102","SCH. 111,112&116","SCH. 121,122&126","SCH. 131&132","SCHEDULE 146","SCHEDULE 148"]
[]
["Forecast","Total Annual Therms",{"$f":"SUM(D7:I7)","v":184274156.62654004},{"$f":"SUM('Revenue - current rates'!K4:V4)","v":125413767.8717187},{"$f":"SUM('Revenue - current rates'!K5:V5)","v":53411916.678104788},{"$f":"SUM('Revenue - current rates'!K6:V6)","v":4507854.0514412131},{"$f":"SUM('Revenue - current rates'!K7:V7)","v":940618.02527532144},null,null,null,null,"August 2018 - July 2019"]
[]
[null,"Present DSM Rates",null,2.2290000000000001E-2,1.5810000000000001E-2,1.6140000000000002E-2,1.521E-2]
[]
[null,"Present Gross DSM Revenue",{"$f":"SUM(D11:I11)","v":3726978.8530961457},{"$f":"D7*D9","v":2795472.8858606098},{"$f":"E7*E9","v":844442.40268083673},{"$f":"F7*F9","v":72756.764390261189},{"$f":"G7*G9","v":14306.800164437638}]
[]
["UG-170486","Base Revenue",{"$f":"SUM(D13:I13)","v":82226000},{"$f":"ROUND('Base Revenue'!F14*1000,-3)","v":65960000},{"$f":"ROUND('Base Revenue'!F15*1000,-3)","v":15082000},{"$f":"ROUND('Base Revenue'!F16*1000,-3)","v":999000},{"$f":"ROUND('Base Revenue'!F17*1000,-3)","v":185000}]
[]
[null,"Percentage of Current Base Volumetric Revenue",{"$f":"SUM(D15:H15)","v":1.0000000000000002},{"$f":"D13/$C$13","v":0.80217935932673368},{"$f":"E13/$C$13","v":0.18342130226449055},{"$f":"F13/$C$13","v":1.2149441782404593E-2},{"$f":"G13/$C$13","v":2.2498966263712209E-3}]
[]
[null,"Revenue Requirement",4733802.6927214656]
[]
[null,"Revenue Spread Based on Current Allocation",{"$f":"SUM(D19:H19)","v":4733802.6927214656},{"$f":"$C$17*D15","v":3797358.8112264718},{"$f":"$C$17*E15","v":868280.25456212321},{"$f":"$C$17*F15","v":57513.060224609544},{"$f":"$C$17*G15","v":10650.566708261027}]
[]
[null,"DSM Revenue Increase <Decrease>",{"$f":"SUM(D21:H21)","v":1006823.8396253202},{"$f":"D19-D11","v":1001885.925365862},{"$f":"E19-E11","v":23837.851881286479},-15243.704165651645,-3656.2334561766111]
[]
[null,"Proposed DSM Rates",null,{"$f":"D19/D7","v":3.0278643849618293E-2},{"$f":"E19/E7","v":1.6256302124391997E-2},{"$f":"F19/F7","v":1.2758412221935612E-2},{"$f":"G19/G7","v":1.1322945576280635E-2}]
[]
[null,"Percentage Increase <Decrease>",null,{"$f":"D19/D11-1","v":0.358395865842005},{"$f":"E19/E11-1","v":2.8229103377102938E-2},-0.2095159713794541,-0.2555591337093599]
[]
[null,"Present Billed Revenue",{"$f":"SUM(D27:I27)","v":135308000},100191000,27941000,2247000,426000,2891000,1612000]
[]
[null,"Proposed Billed Revenue",{"$f":"SUM(D29:I29)","v":136314823.83962533},{"$f":"D27+D21","v":101192885.92536587},{"$f":"E27+E21","v":27964837.851881288},2231756.2958343485,422343.76654382341,2891000,1612000]
[]
[null,"Overall Billed Percentage Increase <Decrease>",{"$f":"C29/C27-1","v":7.4409779142794452E-3},{"$f":"D29/D27-1","v":9.999759712607581E-3},{"$f":"E29/E27-1","v":8.5314956090654093E-4},{"$f":"F29/F27-1","v":-6.7840249958395216E-3},{"$f":"G29/G27-1","v":-8.5827076436070238E-3},0,0]
[]
[]
[null,"Present DSM Revenue as a Percentage of Billed Revenue",{"$f":"C11/C27","v":2.7544408705295665E-2}]
[]
[]
["UG-170486","Revenue Conversion Factor",{"$f":"RCF!C25","v":0.95353500000000002}]
[]
[null,"Proposed Net DSM Revenue",{"$f":"SUM(D39:I39)","v":4513846.5506041627},{"$f":"D19*$C$37","v":3620914.534062834},{"$f":"E19*$C$37","v":827935.61253389413},54840.715881273063,10155.688126161678,0,0]
[]
[null,"Proposed DSM Revenue as a % of Billed Revenue",{"$f":"C19/C27","v":3.4985386619575086E-2}]
[]
[null,null,"Present","Proposed"]
[null,"Average Monthly Bill @ 65 Therms",{"$f":"9.5+(65*0.65426)","v":52.026899999999998},{"$f":"9.5+(65*(0.65426+(ROUND(D23,5)-D9)))","v":52.546250000000001},{"$f":"D44-C44","v":0.51935000000000286},{"$f":"E44/C44","v":9.9823360607686189E-3}]

{"sheet":"Revenue - current rates","index":1,"n_rows":51,"n_cols":38,"rows_kept":51,"cut":false,"hidden":false,"merged":[]}
[]
[]
["Forecasted Usage",null,null,"2018-01-01","2018-02-01","2018-03-01","2018-04-01","2018-05-01","2018-06-01","2018-07-01","2018-08-01","2018-09-01","2018-10-01","2018-11-01","2018-12-01","2019-01-01","2019-02-01","2019-03-01","2019-04-01","2019-05-01","2019-06-01","2019-07-01","2019-08-01","2019-09-01","2019-10-01","2019-11-01","2019-12-01","2020-01-01","2020-02-01","2020-03-01","2020-04-01","2020-05-01","2020-06-01","2020-07-01",null,"2018-2019","2019-2020"]
[null,"Small Service Schedule 101",null,null,null,null,{"$f":"G42","v":11688527.324704388},{"$f":"H42","v":4933991.2844133256},2947345.4485411197,2341775.4052680354,2171370.1317786262,2572701.7552712322,6931638.448010237,15496470.643818373,22498767.115636773,22531428.823769566,17964194.473520312,15363243.721406652,9326373.2832147945,5062409.4388516303,3035236.7570467559,2459933.2793937563,2282350.3517480902,2603627.5529349442,7088808.1079627275,15589507.650355218,22745738.372293532,22647091.314483784,18636273.366297405,15472345.686357632,9398746.5289214738,5126667.1602702839,3091595.1827602424,2541619.1624725526,null,{"$f":"SUM(K4:V4)","v":125413767.8717187},{"$f":"SUM(W4:AH4)","v":127224370.43685788}]
[null,"Large Service Schedule 111",null,null,null,null,{"$f":"G43+G44","v":4575160.4429171151},{"$f":"H43+H44","v":2132626.0718039582},1603324.9567756448,1603390.1499723494,1721494.0399613078,2085011.0604412418,4354135.6140492326,7082138.0108760577,8708553.3699688092,8315588.6943758074,6634088.44007299,5684569.1001992989,3584642.6538123116,2146619.2015138511,1558586.128879451,1536490.363954436,1701965.3043586272,2068759.3880452751,4451362.4739246592,7322463.023987934,8895026.8612526134,8490307.9216872677,6963927.9722233303,5752765.3134498298,3635846.9090526495,2135477.5805854853,1534337.2185538299,1489788.0115577348,null,{"$f":"SUM(K5:V5)","v":53411916.678104788},{"$f":"SUM(W5:AH5)","v":54442027.978679232}]
[null,"Extra Large Service Schedule 121",null,null,null,null,{"$f":"G45","v":366867.22115826531},{"$f":"H45","v":217201.1505908721},191022.45945606695,218783.46810150461,246374.06281260759,257982.81870442594,464518.78411370626,583937.75158835808,549249.18784502312,546922.29956838908,488814.41236202006,413105.62657724234,300574.13267517823,225398.08416540752,206827.31718914807,224149.57383970739,249789.18787409566,268162.43497531099,459704.70355835895,587956.18015747494,552807.58858778037,544814.3828496174,511002.59807208122,415839.71343915351,305411.22582161392,232727.6297555542,213075.66844558981,232286.46608376867,null,4507854.0514412131,4573577.7796203997]
[null,"Interrupt Service Schedule 131",null,null,null,null,{"$f":"G46","v":91951.184965093635},52160.687655705784,40631.400111988856,36891.356126621657,27985.967619872506,30815.301618903115,68525.577480805616,114466.484231661,133269.06733269885,137012.37655986092,117727.77080752153,105014.51798388493,72951.376457375125,53416.636923369602,41417.851370939439,38015.096888428925,27846.430907332233,30557.357756327907,67339.690772554561,113167.55656861261,132163.12330436494,135628.84743904602,120799.24802319512,104417.59758415322,72933.478456902958,53603.409021838699,42072.430710819768,38515.64292125748,null,940618.02527532144,939044.81346640538]
[null,"Transport Service Schedule 146",null,null,null,null,3363026,2788406,2366298,2124081,1983520,2031865,2202293,2912935,3241516,3707334,3995641,3358243,3370313,2823329,2430936,2176014,2033122,2077351,2231609,2937694,3288535,3764853,4030690,3423700,3409415,2885762,2512017,2244285]
[null,"Special Contract Transport",null,null,null,null,4349512,3935607,3619411,3485178,3311152,3444386,3535930,4053454,4439028,4784684,4902463,4375317,4397724,3986541,3669394,3532375,3355617,3487041,3576009,4092546,4478220,4824490,4942839,4416222,4438686,4026798,3708685,3570615]
["Total Forecasted Usage",null,null,{"$f":"SUM(D4:D9)","v":0},0,0,24435044.173744865,{"$f":"SUM(H4:H9)","v":14059992.194463862},10768033.26488482,9810099.3794685118,9461896.2021724135,10422761.936035804,17557041.423653983,30243401.890514452,39570382.740783304,40022970.194273621,34102929.096762851,29299492.966167077,21052578.446159661,14297713.36145426,10942398.054486293,9966977.3140763287,9650690.2748881467,10535498.733711857,17874832.976218298,30643334.41106924,40092490.945438288,40407185.466459721,35205532.184616014,29585290.310830768,21261039.142252639,14461035.779633161,11101782.500470482,10117109.283035314,null,{"$f":"SUM(AJ4:AJ9)","v":184274156.62654004},{"$f":"SUM(AK4:AK9)","v":187179021.00862393},{"$f":"(AK10-AJ10)/AJ10","v":1.5763818623633959E-2}]
[null,null,null,null,null,null,null,null,null,null,null,null,null,null,null,null,null,null,null,null,null,null,null,null,null,null,null,null,null,null,null,null,null,null,null,{"$f":"'WA Gas - Sched 191'!C7","v":184274156.62654004}]
[]
["DSM Rates"]
[null,"Small Service Schedule 101",null,{"$f":"'WA Gas - Sched 191'!D9","v":2.2290000000000001E-2},{"$f":"'WA Gas - Sched 191'!$D$9","v":2.2290000000000001E-2},{"$f":"'WA Gas - Sched 191'!$D$9","v":2.2290000000000001E-2},{"$f":"'WA Gas - Sched 191'!$D$9","v":2.2290000000000001E-2},{"$f":"'WA Gas - Sched 191'!$D$9","v":2.2290000000000001E-2},{"$f":"'WA Gas - Sched 191'!$D$9","v":2.2290000000000001E-2},{"$f":"'WA Gas - Sched 191'!$D$9","v":2.2290000000000001E-2},{"$f":"'WA Gas - Sched 191'!$D$23","v":3.0278643849618293E-2},{"$f":"'WA Gas - Sched 191'!$D$23","v":3.0278643849618293E-2},{"$f":"'WA Gas - Sched 191'!$D$23","v":3.0278643849618293E-2},{"$f":"'WA Gas - Sched 191'!$D$23","v":3.0278643849618293E-2},{"$f":"'WA Gas - Sched 191'!$D$23","v":3.0278643849618293E-2},{"$f":"'WA Gas - Sched 191'!$D$23","v":3.0278643849618293E-2},{"$f":"'WA Gas - Sched 191'!$D$23","v":3.0278643849618293E-2},{"$f":"'WA Gas - Sched 191'!$D$23","v":3.0278643849618293E-2},{"$f":"'WA Gas - Sched 191'!$D$23","v":3.0278643849618293E-2},{"$f":"'WA Gas - Sched 191'!$D$23","v":3.0278643849618293E-2},{"$f":"'WA Gas - Sched 191'!$D$23","v":3.0278643849618293E-2},{"$f":"'WA Gas - Sched 191'!$D$23","v":3.0278643849618293E-2},{"$f":"'WA Gas - Sched 191'!$D$23","v":3.0278643849618293E-2},{"$f":"'WA Gas - Sched 191'!$D$23","v":3.0278643849618293E-2},{"$f":"'WA Gas - Sched 191'!$D$23","v":3.0278643849618293E-2},{"$f":"'WA Gas - Sched 191'!$D$23","v":3.0278643849618293E-2},{"$f":"'WA Gas - Sched 191'!$D$23","v":3.0278643849618293E-2},{"$f":"'WA Gas - Sched 191'!$D$23","v":3.0278643849618293E-2},{"$f":"'WA Gas - Sched 191'!$D$23","v":3.0278643849618293E-2},{"$f":"'WA Gas - Sched 191'!$D$23","v":3.0278643849618293E-2},{"$f":"'WA Gas - Sched 191'!$D$23","v":3.0278643849618293E-2},{"$f":"'WA Gas - Sched 191'!$D$23","v":3.0278643849618293E-2},{"$f":"'WA Gas - Sched 191'!$D$23","v":3.0278643849618293E-2},{"$f":"'WA Gas - Sched 191'!$D$23","v":3.0278643849618293E-2}]
[null,"Large Service Schedule 111",null,{"$f":"'WA Gas - Sched 191'!E9","v":1.5810000000000001E-2},{"$f":"'WA Gas - Sched 191'!$E$9","v":1.5810000000000001E-2},{"$f":"'WA Gas - Sched 191'!$E$9","v":1.5810000000000001E-2},{"$f":"'WA Gas - Sched 191'!$E$9","v":1.5810000000000001E-2},{"$f":"'WA Gas - Sched 191'!$E$9","v":1.5810000000000001E-2},{"$f":"'WA Gas - Sched 191'!$E$9","v":1.5810000000000001E-2},{"$f":"'WA Gas - Sched 191'!$E$9","v":1.5810000000000001E-2},{"$f":"'WA Gas - Sched 191'!$E$23","v":1.6256302124391997E-2},{"$f":"'WA Gas - Sched 191'!$E$23","v":1.6256302124391997E-2},{"$f":"'WA Gas - Sched 191'!$E$23","v":1.6256302124391997E-2},{"$f":"'WA Gas - Sched 191'!$E$23","v":1.6256302124391997E-2},{"$f":"'WA Gas - Sched 191'!$E$23","v":1.6256302124391997E-2},{"$f":"'WA Gas - Sched 191'!$E$23","v":1.6256302124391997E-2},{"$f":"'WA Gas - Sched 191'!$E$23","v":1.6256302124391997E-2},{"$f":"'WA Gas - Sched 191'!$E$23","v":1.6256302124391997E-2},{"$f":"'WA Gas - Sched 191'!$E$23","v":1.6256302124391997E-2},{"$f":"'WA Gas - Sched 191'!$E$23","v":1.6256302124391997E-2},{"$f":"'WA Gas - Sched 191'!$E$23","v":1.6256302124391997E-2},{"$f":"'WA Gas - Sched 191'!$E$23","v":1.6256302124391997E-2},{"$f":"'WA Gas - Sched 191'!$E$23","v":1.6256302124391997E-2},{"$f":"'WA Gas - Sched 191'!$E$23","v":1.6256302124391997E-2},{"$f":"'WA Gas - Sched 191'!$E$23","v":1.6256302124391997E-2},{"$f":"'WA Gas - Sched 191'!$E$23","v":1.6256302124391997E-2},{"$f":"'WA Gas - Sched 191'!$E$23","v":1.6256302124391997E-2},{"$f":"'WA Gas - Sched 191'!$E$23","v":1.6256302124391997E-2},{"$f":"'WA Gas - Sched 191'!$E$23","v":1.6256302124391997E-2},{"$f":"'WA Gas - Sched 191'!$E$23","v":1.6256302124391997E-2},{"$f":"'WA Gas - Sched 191'!$E$23","v":1.6256302124391997E-2},{"$f":"'WA Gas - Sched 191'!$E$23","v":1.6256302124391997E-2},{"$f":"'WA Gas - Sched 191'!$E$23","v":1.6256302124391997E-2},{"$f":"'WA Gas - Sched 191'!$E$23","v":1.6256302124391997E-2}]
[null,"Extra Large Service Schedule 121",null,{"$f":"'WA Gas - Sched 191'!$F$9","v":1.6140000000000002E-2},{"$f":"'WA Gas - Sched 191'!$F$9","v":1.6140000000000002E-2},{"$f":"'WA Gas - Sched 191'!$F$9","v":1.6140000000000002E-2},{"$f":"'WA Gas - Sched 191'!$F$9","v":1.6140000000000002E-2},{"$f":"'WA Gas - Sched 191'!$F$9","v":1.6140000000000002E-2},{"$f":"'WA Gas - Sched 191'!$F$9","v":1.6140000000000002E-2},{"$f":"'WA Gas - Sched 191'!$F$9","v":1.6140000000000002E-2},{"$f":"'WA Gas - Sched 191'!$F$23","v":1.2758412221935612E-2},{"$f":"'WA Gas - Sched 191'!$F$23","v":1.2758412221935612E-2},{"$f":"'WA Gas - Sched 191'!$F$23","v":1.2758412221935612E-2},{"$f":"'WA Gas - Sched 191'!$F$23","v":1.2758412221935612E-2},{"$f":"'WA Gas - Sched 191'!$F$23","v":1.2758412221935612E-2},{"$f":"'WA Gas - Sched 191'!$F$23","v":1.2758412221935612E-2},{"$f":"'WA Gas - Sched 191'!$F$23","v":1.2758412221935612E-2},{"$f":"'WA Gas - Sched 191'!$F$23","v":1.2758412221935612E-2},{"$f":"'WA Gas - Sched 191'!$F$23","v":1.2758412221935612E-2},{"$f":"'WA Gas - Sched 191'!$F$23","v":1.2758412221935612E-2},{"$f":"'WA Gas - Sched 191'!$F$23","v":1.2758412221935612E-2},{"$f":"'WA Gas - Sched 191'!$F$23","v":1.2758412221935612E-2},{"$f":"'WA Gas - Sched 191'!$F$23","v":1.2758412221935612E-2},{"$f":"'WA Gas - Sched 191'!$F$23","v":1.2758412221935612E-2},{"$f":"'WA Gas - Sched 191'!$F$23","v":1.2758412221935612E-2},{"$f":"'WA Gas - Sched 191'!$F$23","v":1.2758412221935612E-2},{"$f":"'WA Gas - Sched 191'!$F$23","v":1.2758412221935612E-2},{"$f":"'WA Gas - Sched 191'!$F$23","v":1.2758412221935612E-2},{"$f":"'WA Gas - Sched 191'!$F$23","v":1.2758412221935612E-2},{"$f":"'WA Gas - Sched 191'!$F$23","v":1.2758412221935612E-2},{"$f":"'WA Gas - Sched 191'!$F$23","v":1.2758412221935612E-2},{"$f":"'WA Gas - Sched 191'!$F$23","v":1.2758412221935612E-2},{"$f":"'WA Gas - Sched 191'!$F$23","v":1.2758412221935612E-2},{"$f":"'WA Gas - Sched 191'!$F$23","v":1.2758412221935612E-2}]
[null,"Interrupt Service Schedule 131",null,{"$f":"'WA Gas - Sched 191'!$G$9","v":1.521E-2},{"$f":"'WA Gas - Sched 191'!$G$9","v":1.521E-2},{"$f":"'WA Gas - Sched 191'!$G$9","v":1.521E-2},{"$f":"'WA Gas - Sched 191'!$G$9","v":1.521E-2},{"$f":"'WA Gas - Sched 191'!$G$9","v":1.521E-2},{"$f":"'WA Gas - Sched 191'!$G$9","v":1.521E-2},{"$f":"'WA Gas - Sched 191'!$G$9","v":1.521E-2},{"$f":"'WA Gas - Sched 191'!$G$23","v":1.1322945576280635E-2},{"$f":"'WA Gas - Sched 191'!$G$23","v":1.1322945576280635E-2},{"$f":"'WA Gas - Sched 191'!$G$23","v":1.1322945576280635E-2},{"$f":"'WA Gas - Sched 191'!$G$23","v":1.1322945576280635E-2},{"$f":"'WA Gas - Sched 191'!$G$23","v":1.1322945576280635E-2},{"$f":"'WA Gas - Sched 191'!$G$23","v":1.1322945576280635E-2},{"$f":"'WA Gas - Sched 191'!$G$23","v":1.1322945576280635E-2},{"$f":"'WA Gas - Sched 191'!$G$23","v":1.1322945576280635E-2},{"$f":"'WA Gas - Sched 191'!$G$23","v":1.1322945576280635E-2},{"$f":"'WA Gas - Sched 191'!$G$23","v":1.1322945576280635E-2},{"$f":"'WA Gas - Sched 191'!$G$23","v":1.1322945576280635E-2},{"$f":"'WA Gas - Sched 191'!$G$23","v":1.1322945576280635E-2},{"$f":"'WA Gas - Sched 191'!$G$23","v":1.1322945576280635E-2},{"$f":"'WA Gas - Sched 191'!$G$23","v":1.1322945576280635E-2},{"$f":"'WA Gas - Sched 191'!$G$23","v":1.1322945576280635E-2},{"$f":"'WA Gas - Sched 191'!$G$23","v":1.1322945576280635E-2},{"$f":"'WA Gas - Sched 191'!$G$23","v":1.1322945576280635E-2},{"$f":"'WA Gas - Sched 191'!$G$23","v":1.1322945576280635E-2},{"$f":"'WA Gas - Sched 191'!$G$23","v":1.1322945576280635E-2},{"$f":"'WA Gas - Sched 191'!$G$23","v":1.1322945576280635E-2},{"$f":"'WA Gas - Sched 191'!$G$23","v":1.1322945576280635E-2},{"$f":"'WA Gas - Sched 191'!$G$23","v":1.1322945576280635E-2},{"$f":"'WA Gas - Sched 191'!$G$23","v":1.1322945576280635E-2},{"$f":"'WA Gas - Sched 191'!$G$23","v":1.1322945576280635E-2}]
[null,"Transport Service Schedule 146"]
[null,"Special Contract Transport"]
[null,"Total"]
[]
[]
["Gross DSM Revenue",null,null,{"$f":"D3","v":"2018-01-01"},{"$f":"E3","v":"2018-02-01"},"2018-03-01","2018-04-01","2018-05-01","2018-06-01","2018-07-01","2018-08-01","2018-09-01","2018-10-01","2018-11-01","2018-12-01","2019-01-01","2019-02-01",{"$f":"R3","v":"2019-03-01"},"2019-04-01","2019-05-01","2019-06-01","2019-07-01",{"$f":"W3","v":"2019-08-01"},"2019-09-01","2019-10-01","2019-11-01","2019-12-01","2020-01-01","2020-02-01","2020-03-01","2020-04-01","2020-05-01","2020-06-01",{"$f":"AH3","v":"2020-07-01"}]
[null,"Small Service Schedule 101",null,{"$f":"D4*D14","v":0},0,0,260537.27406766082,109978.66572957303,65696.330047981566,52198.173783424507,65746.142885823763,77897.920179145483,209880.61186162286,469212.11555024161,681232.15654986969,682221.10877794272,543931.44650900271,{"$f":"R4*R14","v":465178.1850153564},282389.93505105603,153282.89241993451,{"$f":"U4*U14","v":91902.852765889125},74483.443660587116,{"$f":"W4*W14","v":69106.473440631467},78834.311392370379,214639.49601928995,472029.14993600536,688710.11127127241,685723.21214103827,564281.08394224616,468481.64455540065,284581.29878204945,155228.5290813579,93609.309465992963,{"$f":"AH4*AH14","v":76956.78142187155}]
[null,"Large Service Schedule 111",null,{"$f":"D5*D15","v":0},0,0,72333.286602519598,33716.818195220578,25348.567566622947,25349.598271062845,27985.127218951169,33894.569731231772,70782.144032559387,115129.37519144177,141568.87464860504,135180.7221579515,107845.74600176293,{"$f":"R5*R15","v":92410.072739822965},58273.033988355244,{"$f":"T5*T15","v":34896.090285830272},25336.846997950917,24977.65156766033,{"$f":"W5*W15","v":27667.662192886623},33630.377634736295,72362.693241300251,119036.17121263689,144600.24406110475,138021.01070406692,113207.71708896698,93518.690986163056,59105.425831596665,34714.968729863307,24942.649385510333,{"$f":"AH5*AH15","v":24218.444017179732}]
[null,"Extra Large Service Schedule 121",null,{"$f":"D6*D16","v":0},0,0,5921.2369494944023,3505.6265705366759,3083.1024956209208,3531.1651751582849,3143.3418541563051,3291.4511472079471,5926.5221325549801,7450.1185467145096,{"$f":"O6*O16","v":7007.5475510901524},6977.8601512624655,6236.4957729378712,{"$f":"R6*R16","v":5270.5718750734577},3834.8486879206903,2875.721671816807,2638.7881714561804,2859.7926624181819,{"$f":"W6*W16","v":3186.9134274802332},3421.3268878530216,5865.1021083602545,7501.3873148837047,7052.9470946170904,6950.9664808348662,6519.5817926836926,5305.4544823082988,3896.5623162388165,2969.235035855369,2718.5072124933131,{"$f":"AH6*AH16","v":2963.6064878733864}]
[null,"Interrupt Service Schedule 131",null,{"$f":"D7*D17","v":0},0,0,1398.5775233190741,793.36405924328494,618.00359570335047,561.11752668591544,316.88358825936848,348.91998314751254,775.91138439836391,1296.097771263283,1508.9983964098285,1551.3836830641737,1333.0251416704064,{"$f":"R7*R17","v":1189.0736718508731},826.02446534161891,604.8336727512567,468.97207695962754,430.44287314471603,{"$f":"W7*W17","v":315.30362165738188},345.99929882983781,762.4836537412026,1281.3900840270608,1496.4758523665912,1535.7180581259872,1367.8033110222646,1182.3147746513393,825.82180725634839,606.94848305739004,476.38384320045026,{"$f":"AH7*AH17","v":436.11052863285693}]
[null,"Transport Service Schedule 146"]
[null,"Special Contract Transport"]
[null,"Total",null,{"$f":"SUM(D24:D29)","v":0},{"$f":"SUM(E24:E29)","v":0},0,340190.37514299387,147994.47455457356,94746.003705928786,81640.054756331549,97191.4955471906,115432.86104073271,287365.18941113557,593087.70705966128,831317.57714597462,825931.0747702209,659346.71342537389,{"$f":"SUM(R24:R29)","v":564047.90330210375},345323.84219267365,191659.53805033283,120347.46001225585,102751.33076381034,{"$f":"SUM(W24:W29)","v":100276.35268265571},116232.01521378953,293629.77502269164,599848.09854755306,841859.77827936073,832230.90738406603,685376.18613491906,568488.10479852336,348409.1087371413,193519.68133013399,121746.84990719706,{"$f":"SUM(AH24:AH29)","v":104574.94245555752}]
[]
["Net DSM Revenue",null,{"$f":"RCF!C25","v":0.95353500000000002},{"$f":"D23","v":"2018-01-01"},{"$f":"E23","v":"2018-02-01"},"2018-03-01","2018-04-01","2018-05-01","2018-06-01","2018-07-01","2018-08-01","2018-09-01","2018-10-01","2018-11-01","2018-12-01","2019-01-01","2019-02-01",{"$f":"R23","v":"2019-03-01"},"2019-04-01","2019-05-01","2019-06-01","2019-07-01",{"$f":"W23","v":"2019-08-01"},"2019-09-01","2019-10-01","2019-11-01","2019-12-01","2020-01-01","2020-02-01","2020-03-01","2020-04-01","2020-05-01","2020-06-01",{"$f":"AH23","v":"2020-07-01"}]
[null,"Small Service Schedule 101",null,{"$f":"D24*$C$32","v":0},{"$f":"E24*$C$32","v":0},0,248431.40962810698,104868.50702644842,62643.750072302108,49772.78563857769,62691.248356633965,74278.393318021495,200128.50923147256,447410.17460119963,649578.70439577999,650521.70495857566,518657.67184696189,{"$f":"R24*$C$32","v":443563.68064861785},269268.68671890872,146160.60282364226,{"$f":"U24*$C$32","v":87632.586712122094},{"$f":"V24*$C$32","v":71022.57045089794},{"$f":"W24*$C$32","v":65895.44115221253},75171.275113523894,204666.27183675364,450096.31548422889,656709.19595105271,653861.08308890497,538061.76337686973,446713.64494113397,271358.22873414151,148015.83547759263,89259.752901655607,{"$f":"AH24*$C$32","v":73380.984573104288}]
[null,"Large Service Schedule 111",null,{"$f":"D25*$C$32","v":0},0,0,68972.320440533527,32150.166237779653,24170.746374639813,24171.729187397912,26684.798282722604,32319.65854867009,67493.251710086523,109779.88877317142,134990.8768880576,128899.5499028823,102834.69341379103,{"$f":"R25*$C$32","v":88116.238709967089},55565.377464086319,{"$f":"T25*$C$32","v":33274.643450699172},24159.57040219113,23817.064987568992,{"$f":"W25*$C$32","v":26382.084269094146},32067.742137938272,69000.360699843237,113505.15551724173,137881.39372080553,131607.86444170246,107947.52051442814,89173.345009490993,56359.092220331528,33101.937707830206,23783.689181812595,{"$f":"AH25*$C$32","v":23093.134015921478}]
[null,"Extra Large Service Schedule 121",null,{"$f":"D26*$C$32","v":0},0,0,5646.1066746361448,3342.7376319366895,2939.8461381618949,3367.0895852945555,2997.2864749029322,3138.5138696529298,5651.1462816658131,7103.9487884414202,{"$f":"O26*$C$32","v":6681.9418541287487},6653.6338793340556,5946.7169968483131,{"$f":"R26*$C$32","v":5025.6747528981696},3656.6624436364555,2742.101264335839,2516.1768790694691,2726.9123963589209,{"$f":"W26*$C$32","v":3038.8334950723643},3262.3549340089312,5592.580138895295,7152.8353532976334,6725.2319078657074,6627.9898233028744,6216.649424686645,5058.9365397878437,3715.5085482147801,2831.2695299143493,2592.1917748648116,{"$f":"AH26*$C$32","v":2825.9025124143495}]
[null,"Interrupt Service Schedule 131",null,{"$f":"D27*$C$32","v":0},0,0,1333.5926186980532,756.50039823054567,589.28805862899435,535.04520080845441,302.15959233089694,332.70741613056339,739.85866192229389,1235.8745883215345,{"$f":"O27*$C$32","v":1438.8827859206458},1479.2986402305969,1271.086128462691,{"$f":"R27*$C$32","v":1133.8233636883224},787.64323855952057,576.73007614686958,447.18128940369849,410.44234504404682,{"$f":"W27*$C$32","v":300.65303887707165},329.92244140970939,727.0548507701177,1221.8502937727435,1426.9421018863775,1464.3609185551632,1304.2483301756151,1127.3785186471648,787.44999698218214,578.74662179212839,454.24866792614137,{"$f":"AH27*$C$32","v":415.84665291993122}]
[null,"Transport Service Schedule 146"]
[null,"Special Contract Transport"]
[null,"Total",null,{"$f":"SUM(D33:D38)","v":0},0,0,324383.4293619747,141117.91129439531,90343.630643732817,77846.649612078618,92675.49270659039,110069.27315247509,274012.76588514721,565529.88675113395,792690.40592388692,787554.18738102261,628710.168386064,{"$f":"SUM(R33:R38)","v":537839.41747517139},329278.36986519105,182754.07761482411,114755.51528278638,97976.990179869914,{"$f":"SUM(W33:W38)","v":95617.011955256123},110831.29462688082,279986.26752626227,571976.15664854099,802742.76368161035,793561.29827246547,653530.1816461602,542073.30500905996,332220.27949967002,184527.78933712927,116089.88252625914,{"$f":"SUM(AH33:AH38)","v":99715.86775436005},null,{"$f":"SUM(D39:V39)","v":5147538.1715163449},{"$f":"AJ39+SUM('DSM Balance'!C3:U3)","v":0}]
[]
[]
[null,"WA101",null,null,null,null,11688527.324704388,4933991.2844133256,2947345.4485411197,2341775.4052680354,2171370.1317786262,2572701.7552712322,6931638.448010237,15496470.643818373,22498767.115636773,22531428.823769566,17964194.473520312,15363243.721406652,9326373.2832147945,5062409.4388516303,3035236.7570467559,2459933.2793937563,2282350.3517480902,2603627.5529349442,7088808.1079627275,15589507.650355218,22745738.372293532,22647091.314483784,18636273.366297405,15472345.686357632,9398746.5289214738,5126667.1602702839,3091595.1827602424,2541619.1624725526]
[null,"WA111",null,null,null,null,4575160.4429171151,2132626.0718039582,1603324.9567756448,1603390.1499723494,1721494.0399613078,2085011.0604412418,4354135.6140492326,7082138.0108760577,8708553.3699688092,8315588.6943758074,6634088.44007299,5684569.1001992989,3584642.6538123116,2146619.2015138511,1558586.128879451,1536490.363954436,1701965.3043586272,2068759.3880452751,4451362.4739246592,7322463.023987934,8895026.8612526134,8490307.9216872677,6963927.9722233303,5752765.3134498298,3635846.9090526495,2135477.5805854853,1534337.2185538299,1489788.0115577348]
[null,"WA112",null,null,null,null,0,0,0,0,0,0,0,0,0,0,0,0,0,0,0,0,0,0,0,0,0,0,0,0,0,0,0,0]
[null,"WA121",null,null,null,null,366867.22115826531,217201.1505908721,191022.45945606695,218783.46810150461,246374.06281260759,257982.81870442594,464518.78411370626,583937.75158835808,549249.18784502312,546922.29956838908,488814.41236202006,413105.62657724234,300574.13267517823,225398.08416540752,206827.31718914807,224149.57383970739,249789.18787409566,268162.43497531099,459704.70355835895,587956.18015747494,552807.58858778037,544814.3828496174,511002.59807208122,415839.71343915351,305411.22582161392,232727.6297555542,213075.66844558981,232286.46608376867]
[null,"WA132",null,null,null,null,91951.184965093635,52160.687655705784,40631.400111988856,36891.356126621657,27985.967619872506,30815.301618903115,68525.577480805616,114466.484231661,133269.06733269885,137012.37655986092,117727.77080752153,105014.51798388493,72951.376457375125,53416.636923369602,41417.851370939439,38015.096888428925,27846.430907332233,30557.357756327907,67339.690772554561,113167.55656861261,132163.12330436494,135628.84743904602,120799.24802319512,104417.59758415322,72933.478456902958,53603.409021838699,42072.430710819768,38515.64292125748]
[null,"WA146",null,null,null,null,3363026,2788406,2366298,2124081,1983520,2031865,2202293,2912935,3241516,3707334,3995641,3358243,3370313,2823329,2430936,2176014,2033122,2077351,2231609,2937694,3288535,3764853,4030690,3423700,3409415,2885762,2512017,2244285]
[null,"WA148",null,null,null,null,4349512,3935607,3619411,3485178,3311152,3444386,3535930,4053454,4439028,4784684,4902463,4375317,4397724,3986541,3669394,3532375,3355617,3487041,3576009,4092546,4478220,4824490,4942839,4416222,4438686,4026798,3708685,3570615]
[]
[]
[null,null,null,null,null,null,{"$f":"SUM(G42:G48)-G10","v":0},{"$f":"SUM(H42:H48)-H10","v":0},0,0,0,0,0,0,0,0,0,0,0,0,0,0,0,0,0,0,0,0,0,0,0,0,0,0]

{"sheet":"DSM Balance","index":2,"n_rows":32,"n_cols":33,"rows_kept":32,"cut":false,"hidden":false,"merged":[]}
[null,null,null,null,null,null,null,null,2018,null,null,null,null,null,null,null,null,null,null,null,2019,null,null,null,null,null,null,null,null,null,null,null,2020]
[null,"End December","End January","End February","End March","End April","End May","End June","End July","End August","End September","End October","End November","End December","End January","End February","End March","End April","End May","End June","End July","End August","End September","End October","End November","End December","End January","End February","End March","End April","End May","End June","End July"]
["Expected gas tariff rider revenue",null,null,null,null,{"$f":"-'Revenue - current rates'!G39","v":-324383.4293619747},{"$f":"-'Revenue - current rates'!H39","v":-141117.91129439531},{"$f":"-'Revenue - current rates'!I39","v":-90343.630643732817},{"$f":"-'Revenue - current rates'!J39","v":-77846.649612078618},{"$f":"-'Revenue - current rates'!K39","v":-92675.49270659039},{"$f":"-'Revenue - current rates'!L39","v":-110069.27315247509},{"$f":"-'Revenue - current rates'!M39","v":-274012.76588514721},{"$f":"-'Revenue - current rates'!N39","v":-565529.88675113395},{"$f":"-'Revenue - current rates'!O39","v":-792690.40592388692},{"$f":"-'Revenue - current rates'!P39","v":-787554.18738102261},{"$f":"-'Revenue - current rates'!Q39","v":-628710.168386064},{"$f":"-'Revenue - current rates'!R39","v":-537839.41747517139},{"$f":"-'Revenue - current rates'!S39","v":-329278.36986519105},{"$f":"-'Revenue - current rates'!T39","v":-182754.07761482411},{"$f":"-'Revenue - current rates'!U39","v":-114755.51528278638},{"$f":"-'Revenue - current rates'!V39","v":-97976.990179869914},{"$f":"-'Revenue - current rates'!W39","v":-95617.011955256123},{"$f":"-'Revenue - current rates'!X39","v":-110831.29462688082},{"$f":"-'Revenue - current rates'!Y39","v":-279986.26752626227},{"$f":"-'Revenue - current rates'!Z39","v":-571976.15664854099},{"$f":"-'Revenue - current rates'!AA39","v":-802742.76368161035},{"$f":"-'Revenue - current rates'!AB39","v":-793561.29827246547},{"$f":"-'Revenue - current rates'!AC39","v":-653530.1816461602},{"$f":"-'Revenue - current rates'!AD39","v":-542073.30500905996},{"$f":"-'Revenue - current rates'!AE39","v":-332220.27949967002},{"$f":"-'Revenue - current rates'!AF39","v":-184527.78933712927},{"$f":"-'Revenue - current rates'!AG39","v":-116089.88252625914},{"$f":"-'Revenue - current rates'!AH39","v":-99715.86775436005}]
["Expected DSM cash expenditures",null,null,null,null,333155.15999999997,333155.15999999997,416443.95,333155.15999999997,333155.15999999997,333155.15999999997,333155.15999999997,333155.15999999997,416443.95,333155.15999999997,333155.15999999997,333155.15999999997,333155.15999999997,333155.15999999997,416443.95,333155.15999999997,333155.15999999997,333155.15999999997,333155.15999999997,333155.15999999997,416443.95,333155.15999999997,333155.15999999997,333155.15999999997,333155.15999999997,333155.15999999997,416443.95,333155.15999999997]
["Accounting Adjustment"]
["Net change in balance",null,null,{"$f":"D3+D4","v":0},{"$f":"E3+E4","v":0},8771.7306380252703,192037.24870560467,326100.31935626722,{"$f":"I3+I4","v":255308.51038792136},{"$f":"J3+J4","v":240479.66729340958},223085.8868475249,59142.394114852767,-232374.72675113397,-376246.45592388691,-454399.02738102264,-295555.00838606403,-204684.25747517141,3876.7901348089217,150401.08238517586,301688.43471721362,235178.16982013005,{"$f":"V3+V4","v":237538.14804474387},222323.86537311916,53168.892473737709,-238820.99664854101,-386298.81368161034,-460406.1382724655,-320375.02164616022,-208918.14500905998,934.88050032994943,148627.3706628707,300354.0674737409,233439.29224563992]
[]
["Gas Tariff rider balance",null,null,0,-14378.16,{"$f":"F6+E8","v":-5606.4293619747295},{"$f":"G6+F8","v":186430.81934362993},{"$f":"H6+G8","v":512531.13869989716},{"$f":"I6+H8","v":767839.64908781857},{"$f":"J6+I8","v":1008319.3163812282},{"$f":"K6+J8","v":1231405.2032287531},{"$f":"L6+K8","v":1290547.5973436059},{"$f":"M6+L8","v":1058172.8705924719},{"$f":"N6+M8","v":681926.41466858494},{"$f":"O6+N8","v":227527.38728756231},{"$f":"P6+O8","v":-68027.621098501724},{"$f":"Q6+P8","v":-272711.87857367314},{"$f":"R6+Q8","v":-268835.08843886422},{"$f":"S6+R8","v":-118434.00605368835},{"$f":"T6+S8","v":183254.42866352526},{"$f":"U6+T8","v":418432.59848365531},{"$f":"V6+U8","v":655970.74652839918},878294.61190151831,931463.50437525602,692642.50772671495,306343.69404510461,-154062.44422736089,-474437.46587352111,-683355.6108825811,-682420.73038225109,-533793.35971938039,-233439.29224563949,4.3655745685100555E-10]
[]
[]
[]
[]
["2015 Washington gas DSM budget ",null,"CY 2015 expected expenditures (From DSM Business Plan)"]
["2016 Washington gas DSM budget ",null,"CY 2016 expected expenditures"]
["2017 Washington gas DSM budget ",null,"CY 2016 expected expenditures + 2%"]
["2018 Washington gas DSM budget ",null,"CY 2017 expected expenditures + 2%"]
[]
["End of July 2018 Balance",{"$f":"I8","v":767839.64908781857},"Underfunded \"Surcharge\""]
["Aug 2018 - July 2020 Expenditure Budget",{"$f":"SUM(J4:AG4)","v":8328879.0000000019}]
["Total Projected DSM Balance + Expenditures",{"$f":"B18+B19","v":9096718.6490878202}]
[]
["Net Revenue Projected to be Recovered ",{"$f":"SUM(J3:AG3)","v":-9096718.6490878183},"Aug 2018 - July 2020"]
[]
["Total Projected DSM Balance (July 2020)",{"$f":"B20+B22","v":0},"Underfunded (Surcharge)"]
[]
[]
[]
[]
["August 2018 - July 2019"]
["DSM Revenue",{"$f":"SUM(J3:U3)","v":-4513846.5506041637}]
["DSM Expense",{"$f":"SUM(J4:U4)","v":4164439.5000000005}]
[null,{"$f":"B30+B31","v":-349407.0506041632}]

{"sheet":"Base Revenue","index":3,"n_rows":36,"n_cols":17,"rows_kept":36,"cut":false,"hidden":false,"merged":[[0,11,2,12]]}
["AVISTA UTILITIES",null,null,null,null,null,null,null,null,null,null,"This worksheet pulls data from 'Pres & Prop Rev' tab."]
["WASHINGTON NATURAL GAS"]
["PROPOSED INCREASE BY SERVICE SCHEDULE"]
["12 MONTHS ENDED DECEMBER 31, 2016"]
["(000s of Dollars)"]
["From UG-170486 Compliance Filing, Attachment 2, Page 1"]
[]
[null,null,null,"Base Tariff",null,"Base Tariff","Base","Total Billed",null,"Percent ",null,null,null,null,"Present "]
[null,null,null,"Revenue","Final","Revenue","Tariff","Revenue","Final","Increase","Gas",null,"Margin ",null,"Margin"]
["Line","Type of","Schedule","Under Present","General","Under Proposed","Percent","at Present","General","on Billed","Costs",null,"Increase",null,"Revenue"]
["No.","Service","Number","Rates(1)","Decrease","Rates","Increase","Rates (2)","Decrease","Revenue"]
[null,"(a)","(b)","(c)","(d)","(e)","(f)","(g)","(i)","(j)"]
[]
[1,"General Service","101/102",67622.221049999993,-1662.5956499999986,65959.525399999999,{"$f":"E14/D14","v":-2.4586528277009304E-2},101853.98361,{"$f":"E14","v":-1662.5956499999986},{"$f":"(+E14)/H14","v":-1.6323324734809543E-2},{"$f":"('[3]Pres & Prop Rev'!D46*[3]Exh3!E15)/1000","v":46969.155635490002},null,{"$f":"E14/(D14-K14)","v":-8.0501156444889171E-2},null,{"$f":"D14-K14","v":20653.065414509991},{"$f":"I14/H14","v":-1.6323324734809543E-2},{"$f":"#REF!/H14","v":{"$error":"#REF!"}}]
[2,"Large General Service","111/112/116",15462.140309999999,-380.46057999999823,15081.67973,{"$f":"E15/D15","v":-2.4605945384801535E-2},28321.832710000002,-380.46057999999823,{"$f":"(+E15)/H15","v":-1.3433473175825357E-2},{"$f":"('[3]Pres & Prop Rev'!E46*[3]Exh3!E19)/1000","v":18143.079048119998},null,0.14191319428163998,null,-2680.9387381199995,-1.3433473175825357E-2,{"$f":"#REF!/H15","v":{"$error":"#REF!"}}]
[3,"Large General Svc.-High Annual Load Factor","121/122/126",1024.17931,-25.189519999999902,998.88979000000006,-2.4594833887046499E-2,2271.7746000000002,-25.189519999999902,-1.1088036638846081E-2,{"$f":"('[3]Pres & Prop Rev'!F46*[3]Exh3!E28)/1000","v":2126.3796684899999},null,2.2853848491311703E-2,null,-1102.2003584899999,-1.1088036638846081E-2,{"$f":"#REF!/H16","v":{"$error":"#REF!"}}]
[4,"Interruptible Service ","131/132",190.16824000000003,-4.6779000000000233,185.29034000000001,{"$f":"E17/D17","v":-2.4598744774627049E-2},430.80652999999995,-4.6779000000000233,-1.0858470506470791E-2,{"$f":"('[3]Pres & Prop Rev'!G46*[3]Exh3!E40)/1000","v":375.37861080000005},null,2.5257224958808965E-2,null,-185.21037080000002,-1.0858470506470791E-2,{"$f":"#REF!/H17","v":{"$error":"#REF!"}}]
[5,"Transportation Service","146",2920.5861954500001,-71.888519999999559,2848.8976754500004,{"$f":"E18/D18","v":-2.4614414774676106E-2},2963.2863354500005,-71.888519999999559,-2.4259727836622533E-2,{"$f":"('[3]Pres & Prop Rev'!H46*[3]Exh3!E49)/1000","v":17.124913119999999},null,-2.4759593123387446E-2,null,2903.4612823299999,-2.4259727836622533E-2,{"$f":"#REF!/H18","v":{"$error":"#REF!"}}]
[6,"Special Contracts","148",1612.3641100000002,0,1612.3641100000002,0,1612.3641100000002,0,0,null,null,0,null,1612.3641100000002,0,{"$f":"#REF!/H19","v":{"$error":"#REF!"}}]
[7,"Total",null,{"$f":"SUM(D14:D19)-0.2","v":88831.459215449999},{"$f":"SUM(E14:E19)","v":-2144.8121699999965},{"$f":"SUM(F14:F19)-0.6","v":86686.047045450003},{"$f":"E20/D20","v":-2.4144736436198948E-2},{"$f":"SUM(H14:H19)+1","v":137455.04789545},{"$f":"SUM(I14:I19)-0.2","v":-2145.0121699999963},-1.5603735205355041E-2,{"$f":"SUM(K14:K19)","v":67631.117876020013},null,-0.10116875646765715,null,21200.341339429986,-1.5605190226491492E-2,{"$f":"#REF!/H20","v":{"$error":"#REF!"}}]
[null,null,null,null,null,null,null,null,{"$f":"ROUND(I20-SUM(I14:I19),-1)","v":0},{"$f":"ROUND(J20-SUM(J14:J19),0)","v":0}]
[]
[null,null,null,{"$f":"IF(Base1_Billing2=2,\"Exhibit won't work until Base1_Billing2 range set to '1'\",\"\")","v":""}]
[]
["(1) Includes Purchase Adjustment Schedule 150; excludes all other rate adjustments."]
[]
["(2) Includes Schedule 150 (Purchase Gas Cost Adjustment), Schedule 155 (Gas Rate Adjustment), "]
[" Schedule 191 (DSM Adjustment) and Schedule 192 (LIRAP Adjustment)."]
[]
[null,null,null,{"$f":"SUM(ROUND(D14:D19,0))","v":{"$error":"#VALUE!"}},{"$f":"SUM(ROUND(E14:E19,0))","v":-2145},{"$f":"SUM(ROUND(F14:F19,0))","v":86687},null,{"$f":"SUM(ROUND(H14:H19,0))","v":137454},null,{"$f":"SUM(ROUND(J14:J19,0))","v":0}]
[null,null,null,{"$f":"ROUND(D20,0)-D30","v":{"$error":"#VALUE!"}},{"$f":"ROUND(E20,0)-E30","v":0},{"$f":"ROUND(F20,0)-F30","v":-1},null,{"$f":"ROUND(H20,0)-H30","v":1},null,{"$f":"ROUND(J20,0)-J30","v":0}]
[]
[]
[null,null,null,null,null,null,"Rate Sch.","Therms","Sch 155 Rate","Sch 155 Rate"]
[null,null,null,null,null,null,112,0,-1.451E-2,-1.3999999999999999E-4,"No 112's in test year"]
[null,null,null,null,null,null,122,{"$f":"'[3]Rev Runs CY'!O40","v":665507},5.3899999999999998E-3,-1.3999999999999999E-4]

{"sheet":"RCF","index":4,"n_rows":29,"n_cols":3,"rows_kept":29,"cut":false,"hidden":false,"merged":[]}
["AVISTA UTILITIES"]
["REVENUE CONVERSION FACTOR"]
["WASHINGTON NATURAL GAS"]
["TWELVE MONTHS ENDED DECEMBER 31, 2016"]
[]
[]
["From UG-170486"]
[]
[]
["Description",null,"Factor"]
[]
["Revenues",null,1]
[]
["Expense:"]
["  Uncollectibles  ",null,6.1830000000000001E-3]
[]
["  Commission Fees ",null,2E-3]
[]
["  Washington Excise Tax  ",null,3.8281999999999997E-2]
[]
["  Franchise Fees  (City of Millwood Expired in 2004)",null,0]
[]
["    Total Expense",null,{"$f":"C15+C17+C19+C21","v":4.6464999999999992E-2}]
[]
["Net Operating Income Before FIT",null,{"$f":"C12-C23","v":0.95353500000000002}]
[]
["  Federal Income Tax @ 21%",null,0.200242]
[]
["REVENUE CONVERSION FACTOR",null,{"$f":"C25-C27","v":0.75329299999999999}]