{"text_format":"1","workbook":"xlsx","n_sheets":10,"sheets":["Summary 2188","FAR 12.2023","FAR Dep Summary","Bud Capital Input 2024","Trucks 2188","Containers 2188","OTHER EQUIP 2188","Trucks 2188 - Original","Containers 2188 - Original","OTHER EQUIP 2188 - Original"],"not_rendered":{"charts":0,"images":0,"macros":0,"external_links":4,"defined_names":43,"comments":9,"pivot_tables":1},"unopened":[],"bounds":{"document_bytes":16777216,"sheet_cells":100000,"rows_first":2000,"rows_last":500,"rows_between":2000,"halvings":0,"cell_chars":16384,"cell_head_chars":4096},"cells_cut":0,"cells_raw":0,"read":"whole","date_system":"1900"}

{"sheet":"Summary 2188","index":0,"n_rows":111,"n_cols":35,"rows_kept":111,"cut":false,"hidden":false,"merged":[[80,0,80,4],[3,0,3,7],[3,9,3,16],[3,18,3,25]]}
["Average Investment & Depreciation Summary"]
["2188 - Lewis County/Joe's Refuse"]
["2023-12-31"]
["ASSETS THROUGH 12.31.2020",null,null,null,null,null,null,null,null,"NEW ASSET ADDS FROM FAR (1.1.2021 and Beyond)",null,null,null,null,null,null,null,null,"PROFORMA ADDS",null,null,null,null,null,null,null,null,"Combined Summary - This Section to Proforma"]
[null,null,null,null,null,"Beginning","Ending","Average",null,null,null,null,null,null,"Beginning","Ending","Average",null,null,null,null,null,null,"Beginning","Ending","Average",null,null,null,null,null,null,"Beginning","Ending","Average"]
["Equipment","Cost","Salvage","Depr","Test Year","Accum Depr","Accum Depr","Investment",null,"Equipment","Cost","Salvage","Depr","Test Year","Accum Depr","Accum Depr","Investment",null,"Equipment","Cost","Salvage","Depr","Test Year","Accum Depr","Accum Depr","Investment",null,"Equipment","Cost","Salvage","Depr","Test Year","Accum Depr","Accum Depr","Investment"]
[null,null,null,"Cost","Depr",{"$f":"+G7-364","v":"2023-01-01"},{"$f":"+A3","v":"2023-12-31"},{"$f":"G7","v":"2023-12-31"},null,null,null,null,"Cost","Depr",{"$f":"F7","v":"2023-01-01"},{"$f":"G7","v":"2023-12-31"},{"$f":"H7","v":"2023-12-31"},null,null,null,null,"Cost","Depr",{"$f":"F7","v":"2023-01-01"},{"$f":"G7","v":"2023-12-31"},{"$f":"H7","v":"2023-12-31"},null,null,null,null,"Cost","Depr",{"$f":"F7","v":"2023-01-01"},{"$f":"G7","v":"2023-12-31"},{"$f":"H7","v":"2023-12-31"}]
["Trucks",null,null,null,null,null,null,null,null,"Trucks",null,null,null,null,null,null,null,null,"Trucks",null,null,null,null,null,null,null,null,"Trucks"]
["Garbage",{"$f":"'Trucks 2188'!M84","v":6961623.0168421045},{"$f":"B9-D9","v":0},{"$f":"'Trucks 2188'!N84","v":6961623.0168421045},{"$f":"'Trucks 2188'!Q84","v":503167.68113888887},{"$f":"'Trucks 2188'!R84","v":4237430.3812240027},{"$f":"'Trucks 2188'!S84","v":4779126.2612795606},{"$f":"'Trucks 2188'!T84","v":2182496.7555625415},null,"Garbage",{"$f":"IFERROR(VLOOKUP($J9,'FAR Dep Summary'!$A$18:$F$29,2,FALSE),0)","v":3597885.0300000003},{"$f":"K9-M9","v":0},{"$f":"K9","v":3597885.0300000003},{"$f":"IFERROR(VLOOKUP($J9,'FAR Dep Summary'!$A$18:$F$28,3,FALSE),0)","v":332342.4932857143},{"$f":"IFERROR(VLOOKUP($J9,'FAR Dep Summary'!$A$18:$F$28,4,FALSE),0)","v":704994.78840475029},{"$f":"IFERROR(VLOOKUP($J9,'FAR Dep Summary'!$A$18:$F$28,5,FALSE),0)","v":1037337.2816904648},{"$f":"IFERROR(VLOOKUP($J9,'FAR Dep Summary'!$A$18:$F$28,6,FALSE),0)","v":2560547.7483095364},null,"Garbage",null,null,null,null,null,null,null,null,"Garbage",{"$f":"B9+K9+T9","v":10559508.046842106},{"$f":"C9+L9+U9","v":0},10559508.046842106,835510.17442460312,4942425.1696287533,5816463.5429700259,4743044.5038720779]
[]
["Roll Off",{"$f":"'Trucks 2188'!M117","v":1174256.8000000003},{"$f":"B11-D11","v":0},{"$f":"'Trucks 2188'!N117","v":1174256.8000000003},{"$f":"'Trucks 2188'!Q117","v":0},{"$f":"'Trucks 2188'!R117","v":1174256.8000000003},{"$f":"'Trucks 2188'!S117","v":1174256.8000000003},{"$f":"'Trucks 2188'!T117","v":0},null,"Roll Off",{"$f":"IFERROR(VLOOKUP($J11,'FAR Dep Summary'!$A$18:$F$29,2,FALSE),0)","v":376378.51},{"$f":"K11-M11","v":0},{"$f":"K11","v":376378.51},{"$f":"IFERROR(VLOOKUP($J11,'FAR Dep Summary'!$A$18:$F$28,3,FALSE),0)","v":59865.111666666671},{"$f":"IFERROR(VLOOKUP($J11,'FAR Dep Summary'!$A$18:$F$28,4,FALSE),0)","v":63479.382944436162},{"$f":"IFERROR(VLOOKUP($J11,'FAR Dep Summary'!$A$18:$F$28,5,FALSE),0)","v":123344.49461110283},{"$f":"IFERROR(VLOOKUP($J11,'FAR Dep Summary'!$A$18:$F$28,6,FALSE),0)","v":253034.01538889715},null,"Roll Off",null,null,null,null,null,null,null,null,"Roll Off",{"$f":"B11+K11+T11","v":1550635.3100000003},0,1550635.3100000003,59865.111666666671,1237736.1829444366,1297601.2946111031,253034.01538889715]
[]
["Residential Recycling",{"$f":"'Trucks 2188'!M134","v":651021.50715789467},{"$f":"B13-D13","v":0},{"$f":"'Trucks 2188'!N134","v":651021.50715789467},{"$f":"'Trucks 2188'!Q134","v":37977.800000000003},{"$f":"'Trucks 2188'!R134","v":363023.19049122219},{"$f":"'Trucks 2188'!S134","v":401000.99049122224},{"$f":"'Trucks 2188'!T134","v":250020.51666667248},null,"Residential Recycling",{"$f":"IFERROR(VLOOKUP($J13,'FAR Dep Summary'!$A$18:$F$29,2,FALSE),0)","v":133500},{"$f":"K13-M13","v":0},{"$f":"K13","v":133500},{"$f":"IFERROR(VLOOKUP($J13,'FAR Dep Summary'!$A$18:$F$28,3,FALSE),0)","v":0},{"$f":"IFERROR(VLOOKUP($J13,'FAR Dep Summary'!$A$18:$F$28,4,FALSE),0)","v":133500},{"$f":"IFERROR(VLOOKUP($J13,'FAR Dep Summary'!$A$18:$F$28,5,FALSE),0)","v":133500},{"$f":"IFERROR(VLOOKUP($J13,'FAR Dep Summary'!$A$18:$F$28,6,FALSE),0)","v":0},null,"Residential Recycling",null,null,null,null,null,null,null,null,"Residential Recycling",{"$f":"B13+K13+T13","v":784521.50715789467},0,784521.50715789467,37977.800000000003,496523.19049122219,534500.99049122224,250020.51666667248]
[]
["MF",{"$f":"'Trucks 2188'!M146","v":15451.2},{"$f":"B15-D15","v":0},{"$f":"'Trucks 2188'!N146","v":15451.2},{"$f":"'Trucks 2188'!Q146","v":0},{"$f":"'Trucks 2188'!R146","v":15451.2},{"$f":"'Trucks 2188'!S146","v":15451.2},{"$f":"'Trucks 2188'!T146","v":0},null,"MF",{"$f":"IFERROR(VLOOKUP($J15,'FAR Dep Summary'!$A$18:$F$29,2,FALSE),0)","v":0},{"$f":"K15-M15","v":0},{"$f":"K15","v":0},{"$f":"IFERROR(VLOOKUP($J15,'FAR Dep Summary'!$A$18:$F$28,3,FALSE),0)","v":0},{"$f":"IFERROR(VLOOKUP($J15,'FAR Dep Summary'!$A$18:$F$28,4,FALSE),0)","v":0},{"$f":"IFERROR(VLOOKUP($J15,'FAR Dep Summary'!$A$18:$F$28,5,FALSE),0)","v":0},{"$f":"IFERROR(VLOOKUP($J15,'FAR Dep Summary'!$A$18:$F$28,6,FALSE),0)","v":0},null,"MF",null,null,null,null,null,null,null,null,"MF",{"$f":"B15+K15+T15","v":15451.2},0,15451.2,0,15451.2,15451.2,0]
[]
["Yard Waste",{"$f":"'Trucks 2188'!M158","v":15451.2},{"$f":"B17-D17","v":0},{"$f":"'Trucks 2188'!N158","v":15451.2},{"$f":"'Trucks 2188'!Q158","v":0},{"$f":"'Trucks 2188'!R158","v":15451.2},{"$f":"'Trucks 2188'!S158","v":15451.2},{"$f":"'Trucks 2188'!T158","v":0},null,"Yard Waste",{"$f":"IFERROR(VLOOKUP($J17,'FAR Dep Summary'!$A$18:$F$29,2,FALSE),0)","v":0},{"$f":"K17-M17","v":0},{"$f":"K17","v":0},{"$f":"IFERROR(VLOOKUP($J17,'FAR Dep Summary'!$A$18:$F$28,3,FALSE),0)","v":0},{"$f":"IFERROR(VLOOKUP($J17,'FAR Dep Summary'!$A$18:$F$28,4,FALSE),0)","v":0},{"$f":"IFERROR(VLOOKUP($J17,'FAR Dep Summary'!$A$18:$F$28,5,FALSE),0)","v":0},{"$f":"IFERROR(VLOOKUP($J17,'FAR Dep Summary'!$A$18:$F$28,6,FALSE),0)","v":0},null,"Yard Waste",null,null,null,null,null,null,null,null,"Yard Waste",{"$f":"B17+K17+T17","v":15451.2},0,15451.2,0,15451.2,15451.2,0]
[]
["Commercial Recycling",{"$f":"'Trucks 2188'!M177","v":346297.32000000007},{"$f":"B19-D19","v":0},{"$f":"'Trucks 2188'!N177","v":346297.32000000007},{"$f":"'Trucks 2188'!Q177","v":11449.463333333335},{"$f":"'Trucks 2188'!R177","v":281417.02777777694},{"$f":"'Trucks 2188'!S177","v":292866.49111111026},{"$f":"'Trucks 2188'!T177","v":52964.162222223094},null,"Commercial Recycling",{"$f":"IFERROR(VLOOKUP($J19,'FAR Dep Summary'!$A$18:$F$29,2,FALSE),0)","v":0},{"$f":"K19-M19","v":0},{"$f":"K19","v":0},{"$f":"IFERROR(VLOOKUP($J19,'FAR Dep Summary'!$A$18:$F$28,3,FALSE),0)","v":0},{"$f":"IFERROR(VLOOKUP($J19,'FAR Dep Summary'!$A$18:$F$28,4,FALSE),0)","v":0},{"$f":"IFERROR(VLOOKUP($J19,'FAR Dep Summary'!$A$18:$F$28,5,FALSE),0)","v":0},{"$f":"IFERROR(VLOOKUP($J19,'FAR Dep Summary'!$A$18:$F$28,6,FALSE),0)","v":0},null,"Commercial Recycling",null,null,null,null,null,null,null,null,"Commercial Recycling",{"$f":"B19+K19+T19","v":346297.32000000007},0,346297.32000000007,11449.463333333335,281417.02777777694,292866.49111111026,52964.162222223094]
[]
["Container Delivery",{"$f":"'Trucks 2188'!M186","v":186330.39},{"$f":"B21-D21","v":0},{"$f":"'Trucks 2188'!N186","v":186330.39},{"$f":"'Trucks 2188'!Q186","v":0},{"$f":"'Trucks 2188'!R186","v":186330.39},{"$f":"'Trucks 2188'!S186","v":186330.39},{"$f":"'Trucks 2188'!T186","v":0},null,"Container Delivery",{"$f":"IFERROR(VLOOKUP($J21,'FAR Dep Summary'!$A$18:$F$29,2,FALSE),0)","v":0},{"$f":"K21-M21","v":0},{"$f":"K21","v":0},{"$f":"IFERROR(VLOOKUP($J21,'FAR Dep Summary'!$A$18:$F$28,3,FALSE),0)","v":0},{"$f":"IFERROR(VLOOKUP($J21,'FAR Dep Summary'!$A$18:$F$28,4,FALSE),0)","v":0},{"$f":"IFERROR(VLOOKUP($J21,'FAR Dep Summary'!$A$18:$F$28,5,FALSE),0)","v":0},{"$f":"IFERROR(VLOOKUP($J21,'FAR Dep Summary'!$A$18:$F$28,6,FALSE),0)","v":0},null,"Container Delivery",null,null,null,null,null,null,null,null,"Container Delivery",{"$f":"B21+K21+T21","v":186330.39},0,186330.39,0,186330.39,186330.39,0]
[]
["General Recycling",{"$f":"+'Trucks 2188'!M196","v":21000},{"$f":"B23-D23","v":0},{"$f":"+'Trucks 2188'!N196","v":21000},{"$f":"+'Trucks 2188'!Q196","v":0},{"$f":"+'Trucks 2188'!R196","v":21000},{"$f":"+'Trucks 2188'!S196","v":21000},{"$f":"+'Trucks 2188'!T196","v":0},null,"General Recycling",{"$f":"IFERROR(VLOOKUP($J23,'FAR Dep Summary'!$A$18:$F$29,2,FALSE),0)","v":0},{"$f":"K23-M23","v":0},{"$f":"K23","v":0},{"$f":"IFERROR(VLOOKUP($J23,'FAR Dep Summary'!$A$18:$F$28,3,FALSE),0)","v":0},{"$f":"IFERROR(VLOOKUP($J23,'FAR Dep Summary'!$A$18:$F$28,4,FALSE),0)","v":0},{"$f":"IFERROR(VLOOKUP($J23,'FAR Dep Summary'!$A$18:$F$28,5,FALSE),0)","v":0},{"$f":"IFERROR(VLOOKUP($J23,'FAR Dep Summary'!$A$18:$F$28,6,FALSE),0)","v":0},null,"General Recycling",null,null,null,null,null,null,null,null,"General Recycling",{"$f":"B23+K23+T23","v":21000},0,21000,0,21000,21000,0]
[]
["Total Trucks",{"$f":"SUM(B9:B24)","v":9371431.4339999985},{"$f":"SUM(C9:C24)","v":0},9371431.4339999985,552594.94447222224,6294360.1894930024,6885483.332881894,2485481.4344514371,null,"Total Trucks",{"$f":"SUM(K9:K24)","v":4107763.54},{"$f":"SUM(L9:L24)","v":0},4107763.54,392207.60495238099,901974.17134918645,1294181.7763015677,2813581.7636984335,null,"Total Trucks",{"$f":"SUM(T9:T24)","v":0},{"$f":"SUM(U9:U24)","v":0},0,0,0,0,0,null,"Total Trucks",{"$f":"SUM(AC9:AC24)","v":13479194.973999999},{"$f":"SUM(AD9:AD24)","v":0},13479194.973999999,944802.54942460323,7196334.3608421888,8179665.1091834614,5299063.1981498701]
[null,{"$f":"+B25-'Trucks 2188'!M198","v":0},null,null,{"$f":"+E25-'Trucks 2188'!Q198","v":0},{"$f":"+F25-'Trucks 2188'!R198","v":0},{"$f":"+G25-'Trucks 2188'!S198","v":0},{"$f":"+H25-'Trucks 2188'!T198","v":0}]
["Containers:",null,null,null,null,null,null,null,"+","Containers:",null,null,null,null,null,null,null,"+","Containers:",null,null,null,null,null,null,null,"=","Containers:"]
["Garbage Containers",{"$f":"'Containers 2188'!K143","v":1224354.7799999996},{"$f":"B28-D28","v":0},{"$f":"'Containers 2188'!L143","v":1224354.7799999996},{"$f":"'Containers 2188'!O143","v":50070.033405547307},{"$f":"'Containers 2188'!P143","v":901832.69296064449},{"$f":"'Containers 2188'!Q143","v":957751.1887471443},{"$f":"'Containers 2188'!R143","v":266603.59125285526},null,"Garbage Containers",{"$f":"IFERROR(VLOOKUP($J28,'FAR Dep Summary'!$A$18:$F$29,2,FALSE),0)","v":589902.33000000019},{"$f":"K28-M28","v":0},{"$f":"K28","v":589902.33000000019},{"$f":"IFERROR(VLOOKUP($J28,'FAR Dep Summary'!$A$18:$F$28,3,FALSE),0)","v":45112.130000000012},{"$f":"IFERROR(VLOOKUP($J28,'FAR Dep Summary'!$A$18:$F$28,4,FALSE),0)","v":85162.295208329568},{"$f":"IFERROR(VLOOKUP($J28,'FAR Dep Summary'!$A$18:$F$28,5,FALSE),0)","v":130274.42520832956},{"$f":"IFERROR(VLOOKUP($J28,'FAR Dep Summary'!$A$18:$F$28,6,FALSE),0)","v":459627.90479167044},null,"Garbage Containers",null,null,null,null,null,null,null,null,"Garbage Containers",{"$f":"B28+K28+T28","v":1814257.1099999999},0,1814257.1099999999,95182.163405547326,986994.98816897406,1088025.6139554738,726231.49604452564]
[]
["Garbage Carts",{"$f":"'Containers 2188'!K215","v":1364265.6899999997},{"$f":"B30-D30","v":0},{"$f":"'Containers 2188'!L215","v":1364265.6899999997},{"$f":"'Containers 2188'!O215","v":57199.148793546876},{"$f":"'Containers 2188'!P215","v":1186132.1439677288},{"$f":"'Containers 2188'!Q215","v":1245696.1844279431},{"$f":"'Containers 2188'!R215","v":118569.50557205702},null,"Garbage Carts",{"$f":"IFERROR(VLOOKUP($J30,'FAR Dep Summary'!$A$18:$F$29,2,FALSE),0)","v":525841.88},{"$f":"K30-M30","v":0},{"$f":"K30","v":525841.88},{"$f":"IFERROR(VLOOKUP($J30,'FAR Dep Summary'!$A$18:$F$28,3,FALSE),0)","v":73761.53857142858},{"$f":"IFERROR(VLOOKUP($J30,'FAR Dep Summary'!$A$18:$F$28,4,FALSE),0)","v":66879.905833327837},{"$f":"IFERROR(VLOOKUP($J30,'FAR Dep Summary'!$A$18:$F$28,5,FALSE),0)","v":140641.44440475639},{"$f":"IFERROR(VLOOKUP($J30,'FAR Dep Summary'!$A$18:$F$28,6,FALSE),0)","v":385200.43559524353},null,"Garbage Carts",null,null,null,null,null,null,null,null,"Garbage Carts",{"$f":"B30+K30+T30","v":1890107.5699999998},0,1890107.5699999998,130960.68736497546,1253012.0498010567,1386337.6288326995,503769.94116730057]
[]
["Drop Boxes",{"$f":"'Containers 2188'!K232","v":400342.9},{"$f":"B32-D32","v":0},{"$f":"'Containers 2188'!L232","v":400342.9},{"$f":"'Containers 2188'!O232","v":23623.554166666669},{"$f":"'Containers 2188'!P232","v":226467.98638888821},{"$f":"'Containers 2188'!Q232","v":250091.54055555488},{"$f":"'Containers 2188'!R232","v":150251.35944444514},null,"Drop Boxes",{"$f":"IFERROR(VLOOKUP($J32,'FAR Dep Summary'!$A$18:$F$29,2,FALSE),0)","v":971399.33},{"$f":"K32-M32","v":0},{"$f":"K32","v":971399.33},{"$f":"IFERROR(VLOOKUP($J32,'FAR Dep Summary'!$A$18:$F$28,3,FALSE),0)","v":62558.75},{"$f":"IFERROR(VLOOKUP($J32,'FAR Dep Summary'!$A$18:$F$28,4,FALSE),0)","v":273421.51749999746},{"$f":"IFERROR(VLOOKUP($J32,'FAR Dep Summary'!$A$18:$F$28,5,FALSE),0)","v":335980.26749999763},{"$f":"IFERROR(VLOOKUP($J32,'FAR Dep Summary'!$A$18:$F$28,6,FALSE),0)","v":635419.06250000268},null,"Drop Boxes",null,null,null,null,null,null,null,null,"Drop Boxes",{"$f":"B32+K32+T32","v":1371742.23},0,1371742.23,86182.304166666669,499889.50388888567,586071.80805555254,785670.42194444779]
[]
["Recycling ",{"$f":"'Containers 2188'!K268","v":716485.16999999993},{"$f":"B34-D34","v":0},{"$f":"'Containers 2188'!L268","v":716485.16999999993},{"$f":"'Containers 2188'!O268","v":27657.929999999997},{"$f":"'Containers 2188'!P268","v":617592.31666666281},{"$f":"'Containers 2188'!Q268","v":649727.83333333046},{"$f":"'Containers 2188'!R268","v":66757.336666669551},null,"Recycling ",{"$f":"IFERROR(VLOOKUP($J34,'FAR Dep Summary'!$A$18:$F$29,2,FALSE),0)","v":270629.43},{"$f":"K34-M34","v":0},{"$f":"K34","v":270629.43},{"$f":"IFERROR(VLOOKUP($J34,'FAR Dep Summary'!$A$18:$F$28,3,FALSE),0)","v":18603.89},{"$f":"IFERROR(VLOOKUP($J34,'FAR Dep Summary'!$A$18:$F$28,4,FALSE),0)","v":151316.77238095127},{"$f":"IFERROR(VLOOKUP($J34,'FAR Dep Summary'!$A$18:$F$28,5,FALSE),0)","v":169920.66238095122},{"$f":"IFERROR(VLOOKUP($J34,'FAR Dep Summary'!$A$18:$F$28,6,FALSE),0)","v":100708.76761904877},null,"Recycling ",{"$f":"+'Bud Capital Input 2024'!N66","v":115000},0,{"$f":"+T34-U34","v":115000},{"$f":"+'Bud Capital Input 2024'!P66","v":16428.571428571428},0,{"$f":"+X34+W34","v":16428.571428571428},{"$f":"+'Bud Capital Input 2024'!R66","v":98571.42857142858},null,"Recycling ",{"$f":"B34+K34+T34","v":1102114.5999999999},0,1102114.5999999999,62690.39142857142,768909.08904761402,836077.06714285316,266037.53285714693]
[]
["Yard Waste ",{"$f":"'Containers 2188'!K282","v":88536.53},{"$f":"B36-D36","v":0},{"$f":"'Containers 2188'!L282","v":88536.53},{"$f":"'Containers 2188'!O282","v":6106.2842857142859},{"$f":"'Containers 2188'!P282","v":66018.423214285009},{"$f":"'Containers 2188'!Q282","v":72124.707499999291},{"$f":"'Containers 2188'!R282","v":16411.822500000704},null,"Yard Waste ",{"$f":"IFERROR(VLOOKUP($J36,'FAR Dep Summary'!$A$18:$F$29,2,FALSE),0)","v":44290.18},{"$f":"K36-M36","v":0},{"$f":"K36","v":44290.18},{"$f":"IFERROR(VLOOKUP($J36,'FAR Dep Summary'!$A$18:$F$28,3,FALSE),0)","v":6327.1685714285722},{"$f":"IFERROR(VLOOKUP($J36,'FAR Dep Summary'!$A$18:$F$28,4,FALSE),0)","v":4278.1542857140448},{"$f":"IFERROR(VLOOKUP($J36,'FAR Dep Summary'!$A$18:$F$28,5,FALSE),0)","v":10605.322857142617},{"$f":"IFERROR(VLOOKUP($J36,'FAR Dep Summary'!$A$18:$F$28,6,FALSE),0)","v":33684.857142857378},null,"Yard Waste ",null,null,null,null,null,null,null,null,"Yard Waste ",{"$f":"B36+K36+T36","v":132826.71},0,132826.71,12433.452857142858,70296.577499999054,82730.030357141906,50096.679642858086]
[]
["Total Cont, Carts,Totes",{"$f":"SUM(B28:B37)","v":3793985.0699999989},0,3793985.0699999989,164656.95065147514,2998043.5631982093,3175391.4545639721,618593.61543602776,null,"Total Cont, Carts,Totes",{"$f":"SUM(K28:K37)","v":2402063.1500000004},0,2402063.1500000004,206363.47714285715,581058.64520832011,787422.1223511775,1614641.0276488226,null,"Total Cont, Carts,Totes",{"$f":"SUM(T28:T37)","v":115000},0,115000,16428.571428571428,0,16428.571428571428,98571.42857142858,null,"Total Cont, Carts,Totes",{"$f":"SUM(AC28:AC37)","v":6311048.2199999997},{"$f":"SUM(AD28:AD37)","v":0},6311048.2199999997,387448.99922290369,3579102.2084065294,3979242.1483437209,2331806.0716562788]
[null,{"$f":"+B38-'Containers 2188'!K284","v":0},null,null,{"$f":"+E38-'Containers 2188'!O284","v":0},{"$f":"+F38-'Containers 2188'!P284","v":0},{"$f":"+G38-'Containers 2188'!Q284","v":0},{"$f":"+H38-'Containers 2188'!R284","v":0}]
["Service Equipment",{"$f":"'OTHER EQUIP 2188'!L98","v":121996.53},{"$f":"B40-D40","v":0},{"$f":"'OTHER EQUIP 2188'!M98","v":121996.53},{"$f":"'OTHER EQUIP 2188'!P98","v":17641.2595},{"$f":"'OTHER EQUIP 2188'!Q98","v":81521.98454166569},{"$f":"'OTHER EQUIP 2188'!R98","v":99163.24404166569},{"$f":"'OTHER EQUIP 2188'!S98","v":22833.285958334312},null,"Service Equipment",{"$f":"IFERROR(VLOOKUP($J40,'FAR Dep Summary'!$A$18:$F$29,2,FALSE),0)","v":103290.88999999998},{"$f":"K40-M40","v":0},{"$f":"K40","v":103290.88999999998},{"$f":"IFERROR(VLOOKUP($J40,'FAR Dep Summary'!$A$18:$F$28,3,FALSE),0)","v":14248.27515632754},{"$f":"IFERROR(VLOOKUP($J40,'FAR Dep Summary'!$A$18:$F$28,4,FALSE),0)","v":35098.079882959057},{"$f":"IFERROR(VLOOKUP($J40,'FAR Dep Summary'!$A$18:$F$28,5,FALSE),0)","v":49808.350872619929},{"$f":"IFERROR(VLOOKUP($J40,'FAR Dep Summary'!$A$18:$F$28,6,FALSE),0)","v":53482.539127380063},null,"Service Equipment",null,null,null,null,null,null,null,null,"Service Equipment",{"$f":"B40+K40+T40","v":225287.41999999998},0,225287.41999999998,31889.534656327538,116620.06442462475,148971.59491428561,76315.825085714372]
[]
["Shop Equipment",{"$f":"'OTHER EQUIP 2188'!L82","v":150246.60999999996},{"$f":"B42-D42","v":0},{"$f":"'OTHER EQUIP 2188'!M82","v":150246.60999999996},{"$f":"'OTHER EQUIP 2188'!P82","v":2548.4850000000001},{"$f":"'OTHER EQUIP 2188'!Q82","v":145588.5779166666},{"$f":"'OTHER EQUIP 2188'!R82","v":148137.06291666656},{"$f":"'OTHER EQUIP 2188'!S82","v":2109.547083333357},null,"Shop Equipment",{"$f":"IFERROR(VLOOKUP($J42,'FAR Dep Summary'!$A$18:$F$29,2,FALSE),0)","v":0},{"$f":"K42-M42","v":0},{"$f":"K42","v":0},{"$f":"IFERROR(VLOOKUP($J42,'FAR Dep Summary'!$A$18:$F$28,3,FALSE),0)","v":0},{"$f":"IFERROR(VLOOKUP($J42,'FAR Dep Summary'!$A$18:$F$28,4,FALSE),0)","v":0},{"$f":"IFERROR(VLOOKUP($J42,'FAR Dep Summary'!$A$18:$F$28,5,FALSE),0)","v":0},{"$f":"IFERROR(VLOOKUP($J42,'FAR Dep Summary'!$A$18:$F$28,6,FALSE),0)","v":0},null,"Shop Equipment",{"$f":"+'Bud Capital Input 2024'!N67","v":14000},0,{"$f":"+T42-U42","v":14000},{"$f":"+'Bud Capital Input 2024'!P67","v":1400},0,{"$f":"+W42+X42","v":1400},{"$f":"+'Bud Capital Input 2024'!R67","v":12600},null,"Shop Equipment",{"$f":"B42+K42+T42","v":164246.60999999996},0,164246.60999999996,3948.4850000000001,145588.5779166666,149537.06291666656,14709.547083333357]
[]
["Office Equipment",{"$f":"'OTHER EQUIP 2188'!L125","v":112812.93000000001},{"$f":"B44-D44","v":0},{"$f":"'OTHER EQUIP 2188'!M125","v":112812.93000000001},{"$f":"'OTHER EQUIP 2188'!P125","v":0},{"$f":"'OTHER EQUIP 2188'!Q125","v":110867.35349999985},{"$f":"'OTHER EQUIP 2188'!R125","v":112812.93000000001},{"$f":"'OTHER EQUIP 2188'!S125","v":0},null,"Office Equipment",{"$f":"IFERROR(VLOOKUP($J44,'FAR Dep Summary'!$A$18:$F$29,2,FALSE),0)","v":2469.63},{"$f":"K44-M44","v":0},{"$f":"K44","v":2469.63},{"$f":"IFERROR(VLOOKUP($J44,'FAR Dep Summary'!$A$18:$F$28,3,FALSE),0)","v":823.21},{"$f":"IFERROR(VLOOKUP($J44,'FAR Dep Summary'!$A$18:$F$28,4,FALSE),0)","v":1082.3138888888593},{"$f":"IFERROR(VLOOKUP($J44,'FAR Dep Summary'!$A$18:$F$28,5,FALSE),0)","v":1905.5238888888593},{"$f":"IFERROR(VLOOKUP($J44,'FAR Dep Summary'!$A$18:$F$28,6,FALSE),0)","v":564.10611111114054},null,"Office Equipment",null,null,null,null,null,null,null,null,"Office Equipment",{"$f":"B44+K44+T44","v":115282.56000000001},0,115282.56000000001,823.21,111949.66738888872,114718.45388888886,564.10611111114054]
[]
["Software/Comp Upgrades",{"$f":"'OTHER EQUIP 2188'!L145","v":33277.759999999995},{"$f":"B46-D46","v":0},{"$f":"'OTHER EQUIP 2188'!M145","v":33277.759999999995},{"$f":"'OTHER EQUIP 2188'!P145","v":0},{"$f":"'OTHER EQUIP 2188'!Q145","v":33277.759999999995},{"$f":"'OTHER EQUIP 2188'!R145","v":33277.759999999995},{"$f":"'OTHER EQUIP 2188'!S145","v":0},null,"Software/Comp Upgrades",{"$f":"IFERROR(VLOOKUP($J46,'FAR Dep Summary'!$A$18:$F$29,2,FALSE),0)","v":0},{"$f":"K46-M46","v":0},{"$f":"K46","v":0},{"$f":"IFERROR(VLOOKUP($J46,'FAR Dep Summary'!$A$18:$F$28,3,FALSE),0)","v":0},{"$f":"IFERROR(VLOOKUP($J46,'FAR Dep Summary'!$A$18:$F$28,4,FALSE),0)","v":0},{"$f":"IFERROR(VLOOKUP($J46,'FAR Dep Summary'!$A$18:$F$28,5,FALSE),0)","v":0},{"$f":"IFERROR(VLOOKUP($J46,'FAR Dep Summary'!$A$18:$F$28,6,FALSE),0)","v":0},null,"Software/Comp Upgrades",null,null,null,null,null,null,null,null,"Software/Comp Upgrades",{"$f":"B46+K46+T46","v":33277.759999999995},0,33277.759999999995,0,33277.759999999995,33277.759999999995,0]
[]
["Leasehold Improvements",{"$f":"'OTHER EQUIP 2188'!L51","v":1102701.9600000002},{"$f":"B48-D48","v":0},{"$f":"'OTHER EQUIP 2188'!M51","v":1102701.9600000002},{"$f":"'OTHER EQUIP 2188'!P51","v":53924.750410256405},{"$f":"'OTHER EQUIP 2188'!Q51","v":847997.67506837228},{"$f":"'OTHER EQUIP 2188'!R51","v":901922.42547862872},{"$f":"'OTHER EQUIP 2188'!S51","v":200779.53452137127},null,"Leasehold Improvements",{"$f":"IFERROR(VLOOKUP($J48,'FAR Dep Summary'!$A$18:$F$29,2,FALSE),0)","v":0},{"$f":"K48-M48","v":0},{"$f":"K48","v":0},{"$f":"IFERROR(VLOOKUP($J48,'FAR Dep Summary'!$A$18:$F$28,3,FALSE),0)","v":0},{"$f":"IFERROR(VLOOKUP($J48,'FAR Dep Summary'!$A$18:$F$28,4,FALSE),0)","v":0},{"$f":"IFERROR(VLOOKUP($J48,'FAR Dep Summary'!$A$18:$F$28,5,FALSE),0)","v":0},{"$f":"IFERROR(VLOOKUP($J48,'FAR Dep Summary'!$A$18:$F$28,6,FALSE),0)","v":0},null,"Leasehold Improvements",null,null,null,null,null,null,null,null,"Leasehold Improvements",{"$f":"B48+K48+T48","v":1102701.9600000002},0,1102701.9600000002,53924.750410256405,847997.67506837228,901922.42547862872,200779.53452137127]
[]
["Recycling Baler",{"$f":"'OTHER EQUIP 2188'!L151","v":8532.31},{"$f":"B50-D50","v":0},{"$f":"'OTHER EQUIP 2188'!M151","v":8532.31},{"$f":"'OTHER EQUIP 2188'!P151","v":0},{"$f":"'OTHER EQUIP 2188'!Q151","v":8532.31},{"$f":"'OTHER EQUIP 2188'!R151","v":8532.31},{"$f":"'OTHER EQUIP 2188'!S151","v":0},null,"Recycling Baler",{"$f":"IFERROR(VLOOKUP($J50,'FAR Dep Summary'!$A$18:$F$29,2,FALSE),0)","v":0},{"$f":"K50-M50","v":0},{"$f":"K50","v":0},{"$f":"IFERROR(VLOOKUP($J50,'FAR Dep Summary'!$A$18:$F$28,3,FALSE),0)","v":0},{"$f":"IFERROR(VLOOKUP($J50,'FAR Dep Summary'!$A$18:$F$28,4,FALSE),0)","v":0},{"$f":"IFERROR(VLOOKUP($J50,'FAR Dep Summary'!$A$18:$F$28,5,FALSE),0)","v":0},{"$f":"IFERROR(VLOOKUP($J50,'FAR Dep Summary'!$A$18:$F$28,6,FALSE),0)","v":0},null,"Recycling Baler",null,null,null,null,null,null,null,null,"Recycling Baler",{"$f":"B50+K50+T50","v":8532.31},0,8532.31,0,8532.31,8532.31,0]
[]
["Building",{"$f":"'OTHER EQUIP 2188'!L27","v":658913.28999999992},{"$f":"B52-D52","v":0},{"$f":"'OTHER EQUIP 2188'!M27","v":658913.28999999992},{"$f":"'OTHER EQUIP 2188'!P27","v":15762.178205128204},{"$f":"'OTHER EQUIP 2188'!Q27","v":384763.5287393161},{"$f":"'OTHER EQUIP 2188'!R27","v":400525.70694444427},{"$f":"'OTHER EQUIP 2188'!S27","v":258387.5830555557},null,"Building",{"$f":"IFERROR(VLOOKUP($J52,'FAR Dep Summary'!$A$18:$F$29,2,FALSE),0)","v":0},{"$f":"K52-M52","v":0},{"$f":"K52","v":0},{"$f":"IFERROR(VLOOKUP($J52,'FAR Dep Summary'!$A$18:$F$28,3,FALSE),0)","v":0},{"$f":"IFERROR(VLOOKUP($J52,'FAR Dep Summary'!$A$18:$F$28,4,FALSE),0)","v":0},{"$f":"IFERROR(VLOOKUP($J52,'FAR Dep Summary'!$A$18:$F$28,5,FALSE),0)","v":0},{"$f":"IFERROR(VLOOKUP($J52,'FAR Dep Summary'!$A$18:$F$28,6,FALSE),0)","v":0},null,"Building",null,null,null,null,null,null,null,null,"Building",{"$f":"B52+K52+T52","v":658913.28999999992},0,658913.28999999992,15762.178205128204,384763.5287393161,400525.70694444427,258387.5830555557]
[]
["Land",{"$f":"54962.41","v":54962.41},0,0,0,0,0,{"$f":"+B54","v":54962.41},null,"Land",{"$f":"IFERROR(VLOOKUP($J54,'FAR Dep Summary'!$A$18:$F$29,2,FALSE),0)","v":0},{"$f":"K54-M54","v":0},{"$f":"K54","v":0},{"$f":"IFERROR(VLOOKUP($J54,'FAR Dep Summary'!$A$18:$F$28,3,FALSE),0)","v":0},{"$f":"IFERROR(VLOOKUP($J54,'FAR Dep Summary'!$A$18:$F$28,4,FALSE),0)","v":0},{"$f":"IFERROR(VLOOKUP($J54,'FAR Dep Summary'!$A$18:$F$28,5,FALSE),0)","v":0},{"$f":"IFERROR(VLOOKUP($J54,'FAR Dep Summary'!$A$18:$F$28,6,FALSE),0)","v":0},null,"Land",null,null,null,null,null,null,null,null,"Land",{"$f":"B54+K54+T54","v":54962.41},0,0,0,0,0,54962.41]
[]
["Total Other Equipment",{"$f":"SUM(B40:B55)","v":2243443.8000000003},{"$f":"SUM(C40:C55)","v":0},{"$f":"SUM(D40:D55)","v":2188481.39},89876.673115384619,1612549.1897660207,1704371.4393814052,539072.36061859468,null,"Total Other Equipment",{"$f":"SUM(K40:K55)","v":105760.51999999999},{"$f":"SUM(L40:L55)","v":0},105760.51999999999,15071.485156327541,36180.393771847914,51713.874761508785,54046.645238491205,null,"Total Other Equipment",{"$f":"SUM(T40:T55)","v":14000},{"$f":"SUM(U40:U55)","v":0},14000,1400,0,1400,12600,null,"Total Other Equipment",{"$f":"SUM(AC40:AC55)","v":2363204.3200000003},{"$f":"SUM(AD40:AD55)","v":0},2308241.91,106348.15827171215,1648729.5835378685,1757485.314142914,605719.00585708593]
[null,{"$f":"+B56-'OTHER EQUIP 2188'!L153-B54","v":1.4551915228366852E-10}]
["Total Equipment",{"$f":"B25+B38+B56","v":15408860.303999998},0,15353897.893999998,807128.568239082,10904952.942457233,11765246.226827271,3643147.4105060594,null,"Total Equipment",{"$f":"K25+K38+K56","v":6615587.21},0,6615587.21,613642.56725156563,1519213.2103293545,2133317.7734142542,4482269.4365857467,null,"Total Equipment",{"$f":"T25+T38+T56","v":129000},0,129000,17828.571428571428,0,17828.571428571428,111171.42857142858,null,"Total Equipment",{"$f":"AC25+AC38+AC56","v":22153447.513999999},0,22098485.103999998,1438599.7069192191,12424166.152786586,13916392.571670096,8236588.2756632343]
[]
["Check",{"$f":"B58-'Trucks 2188'!M198-'Containers 2188'!K284-'OTHER EQUIP 2188'!L153-B54","v":-2.1827872842550278E-9},null,{"$f":"'Trucks 2188'!N198+'Containers 2188'!L284+'OTHER EQUIP 2188'!M153-D58","v":0},{"$f":"'Trucks 2188'!Q198+'Containers 2188'!O284+'OTHER EQUIP 2188'!P153-E58","v":0},{"$f":"'Trucks 2188'!R198+'Containers 2188'!P284+'OTHER EQUIP 2188'!Q153-F58","v":0},{"$f":"'Trucks 2188'!S198+'Containers 2188'!Q284+'OTHER EQUIP 2188'!R153-G58","v":0},{"$f":"'Trucks 2188'!T198+'Containers 2188'!R284+'OTHER EQUIP 2188'!S153-H58+H54","v":-1.4551915228366852E-10},"Check",null,{"$f":"K58-'FAR Dep Summary'!B28","v":0},null,null,{"$f":"N58-'FAR Dep Summary'!C28","v":0},{"$f":"O58-'FAR Dep Summary'!D28","v":0},{"$f":"P58-'FAR Dep Summary'!E28","v":0},{"$f":"Q58-'FAR Dep Summary'!F28","v":0},null,null,null,null,null,null,null,null,null,null,"Check",{"$f":"AC58-B58-K58-T58","v":9.3132257461547852E-10},{"$f":"AD58-C58-L58-U58","v":0},9.3132257461547852E-10,5.0931703299283981E-11,-6.9849193096160889E-10,-5.3114490583539009E-10,-4.0745362639427185E-10]
[]
[]
[]
[]
[]
[]
[]
[]
[]
[]
[]
[]
[]
[]
[]
[]
[]
[]
[]
[]
["UTC Group Tracking"]
[]
["Updated Through","Updated By","FAR $","UTC Sched $","Difference"]
[]
["1/1/2010 - 12/31/2010","HL",101214.57,92769.639999999985]
["Asset #71922",null,null,10920.23]
["Asset #79884",null,2472.3000000000002]
[null,null,{"$f":"SUM(C85:C87)","v":103686.87000000001},{"$f":"SUM(D85:D87)","v":103689.86999999998},{"$f":"D88-C88","v":2.9999999999708962}]
["1/1/2011 - 12/31/2011","HL",{"$f":"669668.96+C87","v":672141.26},{"$f":"776571.07+2019.6+129.14","v":778719.80999999994},{"$f":"C89-D89","v":-106578.54999999993},{"$f":"-108532.26-3443.64-129.14","v":-112105.04},"Truck #3543 on 2189 FAR, on 2188 UTC."]
[null,null,null,null,null,{"$f":"-625.95","v":-625.95000000000005},"Drive Cam for #3543 on 2189 FAR, on 2188 UTC"]
[null,null,null,null,null,-9450,"12/31/2011 CAPEX"]
[null,null,null,null,null,{"$f":"13130.09","v":13130.09},"Radios on 2189"]
[null,null,null,null,null,{"$f":"C87","v":2472.3000000000002},"12/31/2010 CAPEX"]
["1/1/2012 - 3/31/2012","HL",17783.189999999999,8333.19,{"$f":"C94-D94","v":9449.9999999999982},9450,"12/31/2011 CAPEX",null,"Retirements/Transfers also updated through 3/31/2012."]
["1/1/2013-6/30/2013","HL",41851.440000000002,41851.440000000002,0]
["7/1/2013-12/31/2013","HG",545484.02,559470.02,-13986]
[null,"CAP EX #111061",13986,null,13986]
[null,null,559470.02,null,559470.02]
["1/1/2014-6/30/2014","HG",43543.38,43543.38,0]
["1/1/2014-12/31/2014","JB",771174.23,770997.98,176.25]
["Irmgard updated Jan-June 2015, need to reconcile and do retirements/transfers.",null,null,null,0]
["1/1/2015 - 10/31/2015","HG",266133.57,266133.57,0]
["11/1/2015 - 12/31/2015","JB",513934.35,513934.35,0]
["01/01/2016 - 08/31/2016","BJT",983119.51,983119.51,0]
["09/01/2016 - 12/31/2016","BJT",125208.99,125208.99,0]
["1/1/2017-9/30/2017","LAW",212935.92,212935.91999999998,0]
["10/1/2017-12/31/2018","CRP",{"$f":"SUM([2]Assets!$R$14:$R$44,[2]Assets!$R$47)","v":1598805.7799999998},{"$f":"SUM('Trucks 2188'!M60:M347,'Containers 2188'!K96:K110,'Containers 2188'!K199:K202,'Containers 2188'!K222:K223,'Containers 2188'!K259:K261,'Containers 2188'!K277)","v":30261200.571157895},-28662394.791157894]
["1/1/2019-08/31/2019","LAW",902041.45,{"$f":"+SUM('Trucks 2188'!M68,'Trucks 2188'!M284,'Trucks 2188'!M282,'Containers 2188'!K51:K54,'Containers 2188'!K62,'Containers 2188'!K68:K71,'Containers 2188'!K77:K79,'Containers 2188'!K127:K132,'Containers 2188'!K203:K206,'Containers 2188'!K221:K221,'Containers 2188'!K229,'Containers 2188'!K262:K263,'OTHER EQUIP 2188'!L76:L79,'OTHER EQUIP 2188'!L91,'OTHER EQUIP 2188'!L94:L95)","v":831368.89000000013},70672.559999999823,"Difference is related to FAR 209229.  This was transferred from 2183 so and had salvage value to amortize.  We updated the value to match 2183's Depr Schedule."]
["9/1/2019-12/31/2019","HMG",1155212.48,{"$f":"'Trucks 2188'!M6+'Containers 2188'!K8+'OTHER EQUIP 2188'!L7+682.66","v":1149221.0499999998},{"$f":"C109-D109","v":5991.4300000001676}]
["1/1/2020-05/31/2020","LAW",811881.02,{"$f":"+SUM('Trucks 2188'!M295,'Trucks 2188'!M296,'Trucks 2188'!M72:M74,'OTHER EQUIP 2188'!L49)","v":811881.02},{"$f":"C110-D110","v":0}]
["6/1/2020-12/31/2020","JTH",1077753.3,{"$f":"+SUM('Trucks 2188'!M75:M82,'Containers 2188'!K307,'Containers 2188'!K55:K301,'Containers 2188'!K106,'Containers 2188'!K126,'Containers 2188'!K134:K141,'Containers 2188'!K209:K213,'Containers 2188'!K428:K434,'Containers 2188'!K265:K266,'Containers 2188'!K279:K280,'OTHER EQUIP 2188'!L96,'OTHER EQUIP 2188'!L123)","v":12178263.410000004},{"$f":"D111-C111","v":11100510.110000003},4353.6000000000004,{"$f":"+E111+F111","v":11104863.710000003},"imm","The $4.3k is related to an old asset that was xferred in and had no depreciable value (FAR: 240301)"]

{"sheet":"FAR 12.2023","index":1,"n_rows":580,"n_cols":51,"rows_kept":580,"cut":false,"hidden":false,"merged":[[8,12,8,13],[9,12,9,13],[10,12,10,13],[9,2,9,3],[8,5,9,9]]}
[null,"Location","AssetID","ParentChild","Description","SystemNo",null,"MFGSerialNum","LicensePlate","ModelYear","VendorMfg","BodyManuf","InsuranceCategory","InServiceDate","AcquisitionDate","PONumber","EstimatedLife","AssetGL","AcqValue","AccumulatedGL","CurrentLifeToDate",null,"CurrentYearToDate","ExpenseGL","CurrentPeriodDepr","AcqType","FormerCompany","InvoiceNum","CompAsstNo","Book","ActivityCd","DeprMethod","BegLsDeprDate","LongName","Sequence","BegLifeToDate"]
[null,null,null,null,null,null,null,null,null,null,null,null,null,null,null,null,null,null,null,null,null,{"$f":"S2-U2","v":0}]
[null,{"$f":"_xll.ReportRange(\"FARReport\",A14:AJ581,A1:AJ1,A2:AJ2,_xll.Param($C$9,$C$10,C12,$M$9,$M$10,$M$11,$S$9,M12,$Y$10,$Y$9,S10,S11,CELL(\"address\",$E$6)),TRUE,FALSE)","v":"OK!: ReportRange Formula OK [jAction{}]"},null,null,null,null,null,null,null,null,null,"Default Month :",{"$f":"MONTH(NOW())","v":3},null,null,null,null,null,{"$f":"_xll.ReportDrill([3]ProjDepr!D3,,_xll.PairGroup(_xll.Pair('FAR 12.2023'!C9,[3]ProjDepr!D19),_xll.Pair(\"C:B\",[3]ProjDepr!D20),_xll.Pair(\"C:C\",[3]ProjDepr!D21),_xll.Pair(\"C:V\",[3]ProjDepr!D22)),\"Projected Depr\")","v":"OK!: ReportDrill 'Projected Depr' Formula OK [jAction{}]"},null,null,null,null,null,{"$f":"_xll.jFreezePanes(A14,A5)","v":"> jFreezePanes is ready. "},null,null,{"$f":"_xll.jFocus(C9)","v":"> jFocus is ready. "}]
[null,null,null,null,null,null,null,null,null,null,null,"Default Year :",{"$f":"IF(M3=12,YEAR(NOW()),YEAR(NOW()))","v":2024},null,null,null,null,null,"reportdrill(Invoice!C2,,pairgroup(pair(\"C:C\",Invoice!E8),pair(\"\",Invoice!E7,\"N\")),\"Drill To Invoices by FAS# (Exc CIP)\")",null,{"$f":"_xll.ReportDrill([3]Invoice!$C$2,,_xll.PairGroup(_xll.Pair(\"C:P\",[3]Invoice!$E$7),_xll.Pair(\"\",[3]Invoice!$E$8,\"N\"),_xll.Pair(\"\",[3]Invoice!$E$9,\"n\")),\"Drill To All Invoices by PO#\")","v":"OK!: ReportDrill 'Drill To All Invoices by PO#' Formula OK [jAction{}]"},null,null,{"$f":"_xll.ReportDrill([3]Invoice!$C$2,,_xll.PairGroup(_xll.Pair(\"C:P\",[3]Invoice!$E$7),_xll.Pair(\"\",[3]Invoice!$E$8,\"N\"),_xll.Pair(\"C:Z\",[3]Invoice!$E$9,\"n\")),\"Drill to Invoice by PO# and Invoice #\")","v":"OK!: ReportDrill 'Drill to Invoice by PO# and Invoice #' Formula OK [jAction{}]"}]
[null,"Fixed Asset Register",null,null,null,null,null,"Asset Count:",{"$f":"COUNT(C14:C581)","v":567},null,null,null,null,null,null,null,null,null,null,null,null,null,null,null,null,null,null,null,null,null,null,null,null,null,null,null,1,"Test Period Beg. Month"]
[null,"Data Last Updated in this Pull:",null,null,"Jan 11 2024  8:26AM",null,null,null,null,null,null,null,null,null,null,null,null,null,null,null,null,null,null,null,null,null,null,null,null,null,null,null,null,null,null,null,12,"Test Period End Month"]
[null,null,null,null,null,null,null,null,null,null,null,null,null,null,null,null,null,null,null,null,null,null,null,null,null,null,null,null,null,null,null,null,null,null,null,null,2023,"First Year"]
[null,null,null,null,null,null,null,null,null,null,null,null,null,null,null,null,null,null,null,null,null,null,null,null,null,null,null,null,null,null,null,null,null,null,null,null,2023,"Second year"]
[null,"Period:","2023-12",null,null,"Ctrl + Shift + J",null,null,null,null,null,"VIN:",null,null,"(Contains the string)",null,null,"Parent/Child:",null,"(Leave blank for all)",null,null,null,"Service Date To:",null,null,null,null,null,null,null,null,null,null,null,null,{"$f":"+AK8+(AK6/12)","v":2024},"Test Period End Mo/Yr"]
[null,"District:","2188",null,"(F9 Aware)",null,null,null,null,null,null,"Description:",null,null,"(Contains the string)",null,null,"Asset Acct:",null,null,null,null,null,"Service Date From:",null,null,null,null,null,null,null,null,null,null,null,null,{"$f":"+AK7+(AK5/12)","v":2023.0833333333333},"Test Period Beg. Mo/Yr"]
[null,null,null,null,null,null,null,null,null,null,null,"PO Number:",null,null,"(Contains the string)",null,null,"Exp Acct:"]
[null,"Asset #:",null,null,null,null,null,null,null,null,null,"Ins Category:",null,null,"(Not setup yet)",null,null,"Depreciated %:",null,"(Not setup yet)"]
[null,"District","Asset #","Parent/ Child","Descr","Container Count","BL","MFG Serial#","License Plate","Model Year","Vendor/Mfg","Body Mfg","Ins Category","In Service Date","Acq Date","CER #","Useful Life","Asset Account","Cost","Accum Account","Accum Life to Date","NBV","Accum YTD","Expense Account","Current Depr","Acq Type","Former Company","Invoice #","Company Asset #","Book","Activity Cd","Depr Meth","Beg Date","Dbase","Seq","Beg Depr","Truck #","Equipment Type","Month","Year","Year Fully Dep","Year/Mo Fully Dep","Monthly Depreciation","Annual Depreciation","Test Year Depreciation","BOY Accum","EOY Accum","EOY Average Investment","Pre 2021 Add?"]
[null,2188,321164,"P","2024 Peterbilt ASL Truck",null,null,"3BPDLK0X5RF116259",null,2024,null,null,"Automated Sideload","2023-12-30","2023-12-30","2188-23-0003-1",1000,14040,224449.02,14046,0,{"$f":"S14-U14","v":224449.02},0,51260,0,"P",null,null,null,"Internal","A","SL",null,"WCNX",0,0,null,"Garbage",{"$f":"MONTH($N14)","v":12},{"$f":"YEAR($N14)","v":2023},{"$f":"$AN14+($Q14/100)","v":2033},{"$f":"$AO14+($AM14/12)","v":2034},{"$f":"IFERROR($S14/($Q14/100)/12,0)","v":1870.4084999999998},{"$f":"$AQ14*12","v":22444.901999999998},{"$f":"+IF(AP14<=$AK$9,0,AR14)","v":22444.901999999998},{"$f":"+IF(AP14<=$AK$10,S14,IF((AN14+(AM14/12))>=$AK$10,0,((S14-((AP14-$AK$10)*12)*AQ14))))","v":0},{"$f":"IF(AP14<=$AK$9,S14,IF($AT14=0,$AS14,($AT14+$AS14)))","v":22444.901999999998},{"$f":"$S14-$AU14","v":202004.11799999999},"No",null,{"$f":"+AR14-AS14","v":0}]
[null,2188,321163,"P","2024 Peterbilt ASL Truck",null,null,"3BPDLK0X1RF116260",null,2024,null,null,"Automated Sideload","2023-12-30","2023-12-30","2188-23-0004-1",1000,14040,224509.73,14046,0,224509.73,0,51260,0,"P",null,null,null,"Internal","A","SL",null,"WCNX",0,0,null,"Garbage",12,2023,2033,2034,1870.9144166666667,22450.973000000002,{"$f":"+IF(AP15<=$AK$9,0,AR15)","v":22450.973000000002},{"$f":"+IF(AP15<=$AK$10,S15,IF((AN15+(AM15/12))>=$AK$10,0,((S15-((AP15-$AK$10)*12)*AQ15))))","v":0},{"$f":"IF(AP15<=$AK$9,S15,IF($AT15=0,$AS15,($AT15+$AS15)))","v":22450.973000000002},{"$f":"$S15-$AU15","v":202058.75700000001},"No"]
[null,2188,321162,"P","2024 Freightliner REL Truck",null,null,"1FVHCYFEXRHUV1452",null,2024,null,null,"REL Truck","2023-12-30","2023-12-30","2188-23-0005-1",1000,14040,136818.84,14046,0,136818.84,0,51260,0,"P",null,null,null,"Internal","A","SL",null,"WCNX",0,0,null,"Garbage",12,2023,2033,2034,1140.1569999999999,13681.883999999998,13681.883999999998,0,13681.883999999998,123136.95600000001,"No"]
[null,2188,319456,"P","96 Gal Carts",351,null,null,null,0,"FILE 2524",null,"Non-Container Audit","2023-11-23","2023-11-23","2188-23-0012-2",700,14050,22179.26,14056,264.04000000000002,21915.219999999998,264.04000000000002,54260,264.04000000000002,"P",null,50354681,null,"Internal","A","SL",null,"WCNX",0,0,null,"Garbage Carts",11,2023,2030,2030.9166666666667,264.0388095238095,3168.4657142857141,3168.4657142857141,0,3168.4657142857141,19010.794285714284,"No"]
[null,2188,319455,"P","65 Gal Carts",468,null,null,null,0,"FILE 2524",null,"Non-Container Audit","2023-11-29","2023-11-29","2188-23-0012-1",700,14050,25632.75,14056,305.14999999999998,25327.599999999999,305.14999999999998,54260,305.14999999999998,"P",null,50354681,null,"Internal","A","SL",null,"WCNX",0,0,null,"Garbage Carts",11,2023,2030,2030.9166666666667,305.15178571428572,3661.8214285714284,3661.8214285714284,0,3661.8214285714284,21970.928571428572,"No"]
[null,2188,318781,318781,"1 Yd Frontload/Rearload Containers",6,null,null,null,0,"Cascade Container",null,"1 YD FEL/REL/SL Metal","2002-05-24","2002-05-24","02-2010-014",1200,14050,4637.8900000000003,14056,4637.8900000000003,0,0,54260,0,"P",null,2202484,null,"Internal","A","SL","2023-10-31","WCNX",0,4637.8900000000003,null,"Garbage Containers",5,2002,2014,2014.4166666666667,32.207569444444445,386.49083333333334,0,4637.8900000000003,4637.8900000000003,0,"No"]
[null,2188,318307,"P","2 YD REARLOAD CONTAINERS",26,null,null,null,0,null,null,"2 YD FEL/REL/SL Metal","2000-02-01","2000-02-01",null,700,14050,602.22,14056,602.22,0,0,54260,0,"A","Lakeside Disposal",null,null,"Internal","A","SL","2023-10-31","WCNX",0,602.22,null,"Garbage Containers",2,2000,2007,2007.1666666666667,7.1692857142857145,86.031428571428577,0,602.22,602.22,0,"No"]
[null,2188,316406,"P","2007 Type H Ttrac Tr",0,null,"4V4M99GH17N481935",null,2007,"Volvo","N/A","Road Tractor","2008-11-03","2008-11-03",null,800,14040,58500,14046,58500,0,0,51260,0,"A","LeMay Enterprises",null,5616,"Internal","A","SL","2023-09-30","WCNX",0,58500,null,"Recycling ",11,2008,2016,2016.9166666666667,609.375,7312.5,0,58500,58500,0,"No"]
[null,2188,316405,"P","2020 Peterbilt 389 Transfer Tractor",null,null,"1XPXP49X3LD679890",null,2020,"PETERBILT",389,"Transfer Tractor","2023-01-02",44928,"2189-22-0003",700,14040,186448,14046,26635.43,159812.57,6658.86,51260,2219.62,"P",null,null,5671,"Internal","A","SL",45199,"WCNX",0,19976.57,null,"Recycling ",1,2023,2030,2030.0833333333333,2219.6190476190477,26635.428571428572,26635.428571428572,0,26635.428571428572,159812.57142857142,"No"]
[null,2188,316404,316403,"Licensing on new tractor 5648",null,null,null,null,0,"WA DOL",null,"Non-Rolling Stock","2017-06-30","2017-06-30","2189-17-0001-1",1000,14040,1074.96,14046,698.75,376.21000000000004,26.87,51260,8.9600000000000009,"P",null,"5648 License",null,"Internal","A","SL","2023-09-30","WCNX",0,671.88,null,"Garbage",6,2017,2027,2027.5,8.9580000000000002,107.49600000000001,107.49600000000001,600.18599999999196,707.68199999999194,367.27800000000809,"No"]
[null,2188,316403,"P","2018 Type H Trac Tr",null,null,"1XPCP49X5JD462353",null,2018,"peterbilt","peterbilt","Tractor",42916,42916,"2189-17-0001-1",700,14040,157455.79999999999,14046,146208.97,11246.829999999987,5623.41,51260,1874.47,"P",null,"P462353",5648,"Internal","A","SL",45199,"WCNX",0,140585.56,null,"Garbage",6,2017,2024,2024.5,1874.4738095238092,22493.685714285712,22493.685714285712,125589.74523809353,148083.43095237925,9372.3690476207412,"No"]
[null,2188,316402,"P","2008 Type H Ttrac Tr",0,null,"4V4M99GH48N487374",null,2008,"Volvo 2008 Year","N/A","Road Tractor","2008-11-03","2008-11-03",null,900,14040,73500,14046,73500,0,0,51260,0,"A","LeMay Enterprises",null,5622,"Internal","A","SL","2023-09-30","WCNX",0,73500,null,"Garbage",11,2008,2017,2017.9166666666667,680.55555555555554,8166.6666666666661,0,73500,73500,0,"No"]
[null,2188,313381,"P","2005 Type HT W-F Trailer",0,null,"2K9WF1Z485H035447",null,2005,"Titan","Other","Trailer","2008-11-03","2008-11-03",null,300,14040,38000,14046,38000,0,0,51260,0,"A","LeMay Enterprises",null,8040,"Internal","A","SL","2023-08-31","WCNX",0,38000,null,"Recycling ",11,2008,2011,2011.9166666666667,1055.5555555555554,12666.666666666664,0,38000,38000,0,"No"]
[null,2188,312997,"P","2005 Type HT W-F Trailer",0,null,"2K9WF1Z465H035446",null,2005,"Titan","Other","Trailer","2008-11-03","2008-11-03",null,300,14040,38000,14046,38000,0,0,51260,0,"A","LeMay Enterprises",null,8039,"Internal","A","SL","2023-07-31","WCNX",0,38000,0,"Recycling ",11,2008,2011,2011.9166666666667,1055.5555555555554,12666.666666666664,0,38000,38000,0,"No"]
[null,2188,310505,"P","95Gal Yardwaste Cart - Plastic",351,null,null,null,0,"FILE 2524",null,"Non-Container Audit","2023-06-14","2023-06-14","2188-23-0010-3",700,14050,21829.87,14056,1819.16,20010.71,1819.16,54260,259.88,"P",null,50320742,null,"Internal","A","SL",null,"WCNX",0,0,0,"Yard Waste ",6,2023,2030,2030.5,259.87940476190477,3118.5528571428572,3118.5528571428572,0,3118.5528571428572,18711.31714285714,"No"]
[null,2188,310504,"P","96Gal Recycle Cart - Plastic",351,null,null,null,0,"FILE 2524",null,"Non-Container Audit","2023-06-14","2023-06-14","2188-23-0010-2",700,14050,22589.42,14056,1882.45,20706.969999999998,1882.45,54260,268.92,"P",null,50320742,null,"Internal","A","SL",null,"WCNX",0,0,0,"Recycling ",6,2023,2030,2030.5,268.92166666666668,3227.0600000000004,3227.0600000000004,0,3227.0600000000004,19362.359999999997,"No"]
[null,2188,309355,"P","30Yd Roll Off Containers",2,null,null,null,0,"PO BOX 80983",null,"30 YD RO Box","2023-05-31","2023-05-31","2188-23-0007-1",1200,14050,19960,14056,970.27,18989.73,970.27,54260,138.61000000000001,"P",null,179186,null,"Internal","A","SL",null,"WCNX",0,0,0,"Drop Boxes",5,2023,2035,2035.4166666666667,138.61111111111111,1663.3333333333335,1663.3333333333335,0,1663.3333333333335,18296.666666666668,"No"]
[null,2188,309354,"P","30Yd Roll Off Containers",2,null,null,null,0,"PO BOX 80983",null,"30 YD RO Box","2023-05-31","2023-05-31","2188-23-0007-1",1200,14050,19960,14056,970.27,18989.73,970.27,54260,138.61000000000001,"P",null,179187,null,"Internal","A","SL",null,"WCNX",0,0,0,"Drop Boxes",5,2023,2035,2035.4166666666667,138.61111111111111,1663.3333333333335,1663.3333333333335,0,1663.3333333333335,18296.666666666668,"No"]
[null,2188,309353,"P","30Yd Roll Off Containers",2,null,null,null,0,"PO BOX 80983",null,"30 YD RO Box","2023-05-31","2023-05-31","2188-23-0007-1",1200,14050,19960,14056,970.27,18989.73,970.27,54260,138.61000000000001,"P",null,179188,null,"Internal","A","SL",null,"WCNX",0,0,0,"Drop Boxes",5,2023,2035,2035.4166666666667,138.61111111111111,1663.3333333333335,1663.3333333333335,0,1663.3333333333335,18296.666666666668,"No"]
[null,2188,309352,"P","30Yd Roll Off Containers",2,null,null,null,0,"PO BOX 80983",null,"30 YD RO Box","2023-05-31","2023-05-31","2188-23-0007-1",1200,14050,19960,14056,970.27,18989.73,970.27,54260,138.61000000000001,"P",null,179189,null,"Internal","A","SL",null,"WCNX",0,0,0,"Drop Boxes",5,2023,2035,2035.4166666666667,138.61111111111111,1663.3333333333335,1663.3333333333335,0,1663.3333333333335,18296.666666666668,"No"]
[null,2188,309349,"P","30Yd Roll Off Containers",2,null,null,null,0,"PO BOX 80983",null,"30 YD RO Box","2023-05-31","2023-05-31","2188-23-0007-1",1200,14050,19960,14056,970.27,18989.73,970.27,54260,138.61000000000001,"P",null,179190,null,"Internal","A","SL",null,"WCNX",0,0,0,"Drop Boxes",5,2023,2035,2035.4166666666667,138.61111111111111,1663.3333333333335,1663.3333333333335,0,1663.3333333333335,18296.666666666668,"No"]
[null,2188,309052,"P","95 Gallon Trash Carts",702,null,null,null,0,"FILE 2524",null,"Non-Container Audit","2023-06-16","2023-06-16","2188-23-0010-1",700,14050,43659.74,14056,3118.55,40541.189999999995,3118.55,54260,519.76,"P",null,50319008,null,"Internal","A","SL",null,"WCNX",0,0,0,"Garbage Carts",6,2023,2030,2030.5,519.75880952380953,6237.1057142857144,6237.1057142857144,0,6237.1057142857144,37422.634285714281,"No"]
[null,2188,308611,"P","2YD REL Containers",10,null,null,null,0,"PO BOX 80983",null,"2 YD REL Container","2023-05-31","2023-05-31","2188-23-0007-1",1200,14050,9683.9,14056,470.75,9213.15,470.75,54260,67.25,"P",null,179185,null,"Internal","A","SL",null,"WCNX",0,0,0,"Garbage Containers",5,2023,2035,2035.4166666666667,67.249305555555551,806.99166666666656,806.99166666666656,0,806.99166666666656,8876.9083333333328,"No"]
[null,2188,308342,"P","20 yard boxes",11,null,0,null,0,"CAPITAL INDUSTRIES, INC.",null,"20 YD RO Box","2006-12-14","2006-12-14","06-2144-402",1200,14050,39951.360000000001,14056,39951.360000000001,0,0,54260,0,"P",null,174410000,null,"Internal","A","SL","2023-05-31","WCNX",0,39951.360000000001,0,"Drop Boxes",12,2006,2018,2019,277.44,3329.2799999999997,0,39951.360000000001,39951.360000000001,0,"No"]
[null,2188,308287,"P","2 YD Commercial Customers ($100 each)",7,null,null,null,0,null,null,null,"2008-11-03","2008-11-03",null,700,14050,609.59,14056,609.59,0,0,54260,0,"A","LeMay Enterprises",null,null,"Internal","A","SL","2023-05-31","WCNX",0,609.59,0,"Garbage Containers",11,2008,2015,2015.9166666666667,7.2570238095238091,87.084285714285713,0,609.59,609.59,0,"No"]
[null,2188,308286,"P","2 YD Commercial Customers ($100 each)",7,null,null,null,0,null,null,null,"2008-11-03","2008-11-03",null,700,14050,609.59,14056,609.59,0,0,54260,0,"A","LeMay Enterprises",null,null,"Internal","A","SL","2023-05-31","WCNX",0,609.59,0,"Garbage Containers",11,2008,2015,2015.9166666666667,7.2570238095238091,87.084285714285713,0,609.59,609.59,0,"No"]
[null,2188,308202,"P","3 Yard Commercial Containers",8,null,null,null,0,null,null,"3 YD FEL/REL/SL Metal","2008-11-03","2008-11-03",null,1200,14050,1110,14056,1110,0,0,54260,0,"A","LeMay Enterprises",null,null,"Internal","A","SL","2023-05-31","WCNX",0,1110,0,"Garbage Containers",11,2008,2020,2020.9166666666667,7.708333333333333,92.5,0,1110,1110,0,"No"]
[null,2188,307819,"P","1 Yd Containers",153,null,null,null,0,null,null,"1 YD FEL/REL/SL Metal","2008-11-03","2008-11-03",null,700,14050,13742.86,14056,13742.86,0,0,54260,0,"A","LeMay Enterprises",null,null,"Internal","A","SL","2023-05-31","WCNX",0,13742.86,0,"Garbage Containers",11,2008,2015,2015.9166666666667,163.6054761904762,1963.2657142857142,0,13742.86,13742.86,0,"No"]
[null,2188,307720,"P","20Yd  RO Container",1,null,null,null,0,"PO BOX 80983",null,"20 YD RO Box","2023-05-31","2023-05-31","2188-23-0007-1",1200,14050,8815,14056,428.51,8386.49,428.51,54260,61.22,"P",null,179553,null,"Internal","A","SL",null,"WCNX",0,0,0,"Drop Boxes",5,2023,2035,2035.4166666666667,61.215277777777779,734.58333333333337,734.58333333333337,0,734.58333333333337,8080.416666666667,"No"]
[null,2188,307717,"P","20Yd  RO Container",3,null,null,null,0,"PO BOX 80983",null,"20 YD RO Box","2023-05-31","2023-05-31","2188-23-0007-1",1200,14050,26445,14056,1285.52,25159.48,1285.52,54260,183.65,"P",null,179551,null,"Internal","A","SL",null,"WCNX",0,0,0,"Drop Boxes",5,2023,2035,2035.4166666666667,183.64583333333334,2203.75,2203.75,0,2203.75,24241.25,"No"]
[null,2188,307716,"P","20Yd  RO Container",3,null,null,null,0,"PO BOX 80983",null,"20 YD RO Box","2023-05-31","2023-05-31","2188-23-0007-1",1200,14050,26445,14056,1285.52,25159.48,1285.52,54260,183.65,"P",null,179552,null,"Internal","A","SL",null,"WCNX",0,0,0,"Drop Boxes",5,2023,2035,2035.4166666666667,183.64583333333334,2203.75,2203.75,0,2203.75,24241.25,"No"]
[null,2188,307715,"P","20Yd  RO Container",3,null,null,null,0,"PO BOX 80983",null,"20 YD RO Box","2023-05-31","2023-05-31","2188-23-0007-1",1200,14050,26445,14056,1285.52,25159.48,1285.52,54260,183.65,"P",null,179542,null,"Internal","A","SL",null,"WCNX",0,0,0,"Drop Boxes",5,2023,2035,2035.4166666666667,183.64583333333334,2203.75,2203.75,0,2203.75,24241.25,"No"]
[null,2188,307558,"P","4 Yard Commercial Containers",6,null,null,null,0,null,null,"4 YD FEL/REL/SL Metal","2008-11-03","2008-11-03",null,1200,14050,1379.83,14056,1379.83,0,0,54260,0,"A","LeMay Enterprises",null,null,"Internal","A","SL","2023-05-31","WCNX",0,1379.83,0,"Garbage Containers",11,2008,2020,2020.9166666666667,9.5821527777777771,114.98583333333332,0,1379.83,1379.83,0,"No"]
[null,2188,307556,"P","3 Yard Commercial Containers",13,null,null,null,0,null,null,"3 YD FEL/REL/SL Metal","2008-11-03","2008-11-03",null,1200,14050,1110.42,14056,1110.42,0,0,54260,0,"A","LeMay Enterprises",null,null,"Internal","A","SL","2023-05-31","WCNX",0,1110.42,0,"Garbage Containers",11,2008,2020,2020.9166666666667,7.7112500000000006,92.535000000000011,0,1110.42,1110.42,0,"No"]
[null,2188,307555,"P","40 Yard R/O Containers",33,null,null,null,0,null,null,"40 YD RO Box","2008-11-03","2008-11-03",null,700,14050,19350,14056,19350,0,0,54260,0,"A","LeMay Enterprises",null,null,"Internal","A","SL","2023-05-31","WCNX",0,19350,0,"Drop Boxes",11,2008,2015,2015.9166666666667,230.35714285714286,2764.2857142857142,0,19350,19350,0,"No"]
[null,2188,307554,"P","30 Yard R/O Containers",29,null,null,null,0,null,null,"30 YD RO Box","2008-11-03","2008-11-03",null,700,14050,14000,14056,14000,0,0,54260,0,"A","LeMay Enterprises",null,null,"Internal","A","SL","2023-05-31","WCNX",0,14000,0,"Drop Boxes",11,2008,2015,2015.9166666666667,166.66666666666666,2000,0,14000,14000,0,"No"]
[null,2188,307546,"P","1.5 Yard Containers",112,null,null,null,0,null,null,"1.5 YD FEL/REL/SL Metal","2008-11-20","2008-11-20",null,700,14050,11187.12,14056,11187.12,0,0,54260,0,"A","Yakima Waste Systems",null,null,"Internal","A","SL","2023-05-31","WCNX",0,11187.12,0,"Garbage Containers",11,2008,2015,2015.9166666666667,133.18,1598.16,0,11187.12,11187.12,0,"No"]
[null,2188,306153,264434,"Drivecam",null,null,"1NPCL40X5ND789344",null,2022,"xxxx","Van Raden","Non-Rolling Stock","2023-04-20","2023-04-20","2188-23-0009-1",500,14040,605.94000000000005,14046,80.790000000000006,525.15000000000009,80.790000000000006,51260,10.1,"P",null,5621924,null,"Internal","A","SL",null,"WCNX",0,0,0,"Roll Off",4,2023,2028,2028.3333333333333,10.099000000000002,121.18800000000002,121.18800000000002,0,121.18800000000002,484.75200000000007,"No"]
[null,2188,305313,"P","2YD REL Container",20,null,null,"94-3283464",0,"PO BOX 80983",null,"2 YD REL Container","2023-04-30","2023-04-30","2188-23-0007-1",1200,14050,17203.8,14056,955.77,16248.029999999999,955.77,54260,119.47,"P",null,179039,null,"Internal","A","SL",null,"WCNX",0,0,0,"Garbage Containers",4,2023,2035,2035.3333333333333,119.47083333333332,1433.6499999999999,1433.6499999999999,0,1433.6499999999999,15770.15,"No"]
[null,2188,305312,"P","1 YD REL Container",20,null,null,"94-3283464",0,"PO BOX 80983",null,"1 YD REL Container","2023-04-30","2023-04-30","2188-23-0007-1",1200,14050,16446.400000000001,14056,913.69,15532.710000000001,913.69,54260,114.21,"P",null,179040,null,"Internal","A","SL",null,"WCNX",0,0,0,"Garbage Containers",4,2023,2035,2035.3333333333333,114.21111111111112,1370.5333333333335,1370.5333333333335,0,1370.5333333333335,15075.866666666669,"No"]
[null,2188,305311,"P","40yd R/O Containers",10,null,null,"94-3283464",0,"PO BOX 80983",null,"40 YD RO Box","2023-04-30","2023-04-30","2188-23-0007-1",1200,14050,109700,14056,6094.45,103605.55,6094.45,54260,761.81,"P",null,179034,null,"Internal","A","SL",null,"WCNX",0,0,0,"Drop Boxes",4,2023,2035,2035.3333333333333,761.80555555555554,9141.6666666666661,9141.6666666666661,0,9141.6666666666661,100558.33333333333,"No"]
[null,2188,305087,"P","6yd FEL Containers",14,null,null,"94-3283464",0,"PO BOX 603008",null,"6 YD FEL Container","2023-04-24","2023-04-24","2188-23-0008-1",1200,14050,17479.03,14056,971.06,16507.969999999998,971.06,54260,121.38,"P",null,"20INV000356078",null,"Internal","A","SL",null,"WCNX",0,0,0,"Garbage Containers",4,2023,2035,2035.3333333333333,121.38215277777778,1456.5858333333333,1456.5858333333333,0,1456.5858333333333,16022.444166666666,"No"]
[null,2188,305070,264434,"2022 Peterbilt ROL Truck - Remaining Balance - Rollover 2188-21-0004",null,null,"1NPCL40X5ND789344","94-3283464",2022,"Van Raden",null,"Non-Rolling Stock","2023-04-20","2023-04-20","2188-23-0009-1",1000,14040,53330.239999999998,14046,3555.35,49774.89,3555.35,51260,444.42,"P",null,43384,null,"Internal","A","SL",null,"WCNX",0,0,0,"Roll Off",4,2023,2033,2033.3333333333333,444.41866666666664,5333.0239999999994,5333.0239999999994,0,5333.0239999999994,47997.216,"No"]
[null,2188,303915,"P","65 Gallon Refuse Carts",936,null,null,"94-3283464",0,"REHRIG PACIFIC COMPANY IN",null,"Non-Container Audit","2023-01-28","2023-01-28","2188-23-0006-1",700,14050,50465.43,14056,6608.57,43856.86,6608.57,54260,600.78,"P",null,50292968,null,"Internal","A","SL",null,"WCNX",0,0,0,"Garbage Carts",1,2023,2030,2030.0833333333333,600.77892857142854,7209.3471428571429,7209.3471428571429,0,7209.3471428571429,43256.082857142857,"No"]
[null,2188,302429,"P","1993 Wabi Van Trailers #9304",0,null,"1JJV533UXPL203694","9936VY",1993,"Wabi Van","Other","Trailer","2010-12-01","2010-12-01","2170-10-0006-1",300,14040,5902.2,14046,5902.2,0,0,51260,0,"P",null,"October 20 2010",8923,"Internal","A","SL","2023-03-31","WCNX",0,5902.2,0,"Recycling ",12,2010,2013,2014,163.95,1967.3999999999999,0,5902.2,5902.2,0,"No"]
[null,2188,300093,294557,"Decals Truck #3731",null,null,null,null,0,"LARSEN SIGN CO",null,"Non-Rolling Stock","2023-01-02","2023-01-02","2188-22-0003-1",1000,14040,984.62,14046,98.45,886.17,98.45,51260,8.1999999999999993,"P",null,31549,null,"Internal","A","SL",null,"WCNX",0,0,0,"Garbage",1,2023,2033,2033.0833333333333,8.2051666666666669,98.462000000000003,98.462000000000003,0,98.462000000000003,886.15800000000002,"No"]
[null,2188,299485,"P","2007 Type H TSide ASL",0,null,"3BPZLD9X17F717573",null,2007,"Peterbilt","Wayne","Automated Sideload","2008-11-03","2008-11-03",null,800,14040,133500,14046,133500,0,0,51260,0,"A","LeMay Enterprises",null,3601,"Internal","A","SL","2023-01-31","WCNX",0,133500,0,"Garbage",11,2008,2016,2016.9166666666667,1390.625,16687.5,0,133500,133500,0,"No"]
[null,2188,299470,"P","2007 Type H TSide ASL",0,null,"3BPZLD9X97F717577",null,2007,"Peterbilt","Wayne","Automated Sideload","2008-11-03","2008-11-03",null,800,14040,133500,14046,133500,0,0,51260,0,"A","LeMay Enterprises",null,3605,"Internal","A","SL","2023-01-31","WCNX",0,133500,0,"Residential Recycling",11,2008,2016,2016.9166666666667,1390.625,16687.5,0,133500,133500,0,"No"]
[null,2188,299416,"P","95 Gallon Recycle Carts",702,null,null,null,0,"REHRIG PACIFIC COMPANY IN",null,"Non-Container Audit","2023-02-08","2023-02-08","2188-23-0006-1",700,14050,43287.55,14056,5668.61,37618.94,5668.61,54260,515.33000000000004,"P",null,50295318,null,"Internal","A","SL",null,"WCNX",0,0,0,"Recycling ",2,2023,2030,2030.1666666666667,515.32797619047619,6183.9357142857143,6183.9357142857143,0,6183.9357142857143,37103.614285714291,"No"]
[null,2188,299359,"P","2023 Peterbilt MSL Truck",null,null,"3BPDLK0X3PF114135",null,2023,null,null,"S/L Truck","2023-01-02","2023-01-02","2188-22-0002",1000,14040,424670.08,14046,42467.01,382203.07,42467.01,51260,3538.92,"P",null,null,null,"Internal","A","SL",null,"WCNX",0,0,0,"Garbage",1,2023,2033,2033.0833333333333,3538.9173333333333,42467.008000000002,42467.008000000002,0,42467.008000000002,382203.07200000004,"No"]
[null,2188,298878,294557,"License Truck #3731",null,null,null,null,0,"WA DOL",null,"Non-Rolling Stock","2023-01-02","2023-01-02","2188-22-0003-1",1000,14040,957.13,14046,95.71,861.42,95.71,51260,7.98,"P",null,"D02067B",null,"Internal","A","SL",null,"WCNX",0,0,0,"Garbage",1,2023,2033,2033.0833333333333,7.9760833333333325,95.712999999999994,95.712999999999994,0,95.712999999999994,861.41700000000003,"No"]
[null,2188,298282,"P","2013 Great Dane Flat Bed (Flat Bed 53' trailer)",null,null,"1GRDM96201M002303",null,2013,null,null,"Flat Bed Trailer","2021-11-01","2021-11-01",null,300,14040,95000,14046,68611.12,26388.880000000005,31666.67,51260,2638.89,"A","Peninsula Sanitation",null,80,"Internal","A","SL","2022-12-31","WCNX",0,36944.449999999997,0,"Roll Off",11,2021,2024,2024.9166666666667,2638.8888888888891,31666.666666666672,31666.666666666672,36944.444444439636,68611.111111106307,26388.888888893693,"No"]
[null,2188,295933,"P","24 Gallon Plastic Totes",200,null,null,null,0,"WASTEQUIP LLC",null,"Non-Container Audit","2022-11-26","2022-11-26","2188-22-0014-1",700,14050,12669.17,14056,1960.7,10708.47,1809.88,54260,150.82,"P",null,"20INV000269828",null,"Internal","A","SL",null,"WCNX",0,0,0,"Garbage Carts",11,2022,2029,2029.9166666666667,150.82345238095238,1809.8814285714284,1809.8814285714284,301.64690476163014,2111.5283333330585,10557.641666666941,"No"]
[null,2188,295932,"P","3Yd FEL Containers",15,null,null,null,0,"CAPITAL INDUSTRIES INC",null,"3 YD FEL Container","2022-12-19","2022-12-19","2188-22-0010-1",1200,14050,17771.849999999999,14056,1480.99,16290.859999999999,1480.99,54260,123.42,"P",null,176724,null,"Internal","A","SL",null,"WCNX",0,0,0,"Garbage Containers",12,2022,2034,2035,123.41562499999999,1480.9875,1480.9875,123.41562499988868,1604.4031249998886,16167.446875000111,"No"]
[null,2188,295071,"P","4YD FEL Container",5,null,null,null,0,"CAPITAL INDUSTRIES INC",null,"4 YD FEL Container","2022-12-19","2022-12-19","2188-22-0010-1",1200,14050,6816.6,14056,568.04999999999995,6248.55,568.04999999999995,54260,47.34,"P",null,176647,null,"Internal","A","SL",null,"WCNX",0,0,0,"Garbage Containers",12,2022,2034,2035,47.337500000000006,568.05000000000007,568.05000000000007,47.33749999995689,615.38749999995696,6201.2125000000433,"No"]
[null,2188,295070,"P","4Yd FEL Containers",10,null,null,null,0,"CAPITAL INDUSTRIES INC",null,"4 YD FEL Container","2022-12-19","2022-12-19","2188-22-0010-1",1200,14050,13633.2,14056,1136.0999999999999,12497.1,1136.0999999999999,54260,94.67,"P",null,176631,null,"Internal","A","SL",null,"WCNX",0,0,0,"Garbage Containers",12,2022,2034,2035,94.675000000000011,1136.1000000000001,1136.1000000000001,94.67499999991378,1230.7749999999139,12402.425000000087,"No"]
[null,2188,294557,"P","2023 Peterbilt MSL Truck",null,null,"3BPDLK0X1PF114134",null,2023,"PETERBILT","LABRIE","S/L Truck","2022-12-01","2022-12-01","2188-22-0003-1",1000,14040,423721.68,14046,45903.18,377818.5,42372.17,51260,3531.01,"P",null,null,3731,"Internal","A","SL",null,"WCNX",0,0,12303,"Garbage",12,2022,2032,2033,3531.0139999999997,42372.167999999998,42372.167999999998,3531.0139999968233,45903.181999996821,377818.49800000316,"No"]
[null,2188,294347,"P","Truck Lift",1,null,"958-008442",null,0,"GRAY MANUFACTURING CO INC",null,null,"2022-11-10","2022-11-10","2188-22-0015-1",500,14070,16374.48,14076,3820.72,12553.76,3274.9,51260,272.91000000000003,"P",null,947614,null,"Internal","A","SL",null,"WCNX",0,0,0,"Service Equipment",11,2022,2027,2027.9166666666667,272.90799999999996,3274.8959999999997,3274.8959999999997,545.81599999950595,3820.7119999995057,12553.768000000495,"No"]
[null,2188,294346,"P","Truck Lift",1,null,"958-008451",null,0,"GRAY MANUFACTURING CO INC",null,null,"2022-11-10","2022-11-10","2188-22-0015-1",500,14070,16374.47,14076,3820.71,12553.759999999998,3274.89,51260,272.91000000000003,"P",null,947614,null,"Internal","A","SL",null,"WCNX",0,0,0,"Service Equipment",11,2022,2027,2027.9166666666667,272.90783333333331,3274.8939999999998,3274.8939999999998,545.81566666617073,3820.7096666661705,12553.760333333828,"No"]
[null,2188,294345,"P","Truck Lift",1,null,"958-008447",null,0,"GRAY MANUFACTURING CO INC",null,null,"2022-11-10","2022-11-10","2188-22-0015-1",500,14070,16374.47,14076,3820.71,12553.759999999998,3274.89,51260,272.91000000000003,"P",null,947614,null,"Internal","A","SL",null,"WCNX",0,0,0,"Service Equipment",11,2022,2027,2027.9166666666667,272.90783333333331,3274.8939999999998,3274.8939999999998,545.81566666617073,3820.7096666661705,12553.760333333828,"No"]
[null,2188,294344,"P","Truck Lift",1,null,"958-008443",null,0,"GRAY MANUFACTURING CO INC",null,null,"2022-11-10","2022-11-10","2188-22-0015-1",500,14070,16374.48,14076,3820.72,12553.76,3274.9,51260,272.91000000000003,"P",null,947614,null,"Internal","A","SL",null,"WCNX",0,0,0,"Service Equipment",11,2022,2027,2027.9166666666667,272.90799999999996,3274.8959999999997,3274.8959999999997,545.81599999950595,3820.7119999995057,12553.768000000495,"No"]
[null,2188,293932,290432,"Overpayment Credit",null,null,null,null,0,"Dobbs Peterbilt",null,"Non-Rolling Stock","2022-09-07","2022-09-07","2188-22-0001-1",1000,14040,-990.27,14046,-132.04,-858.23,-99.03,51260,-8.25,"P",null,"PPD811914",null,"Internal","A","SL",null,"WCNX",0,0,4096,"Garbage",9,2022,2032,2032.75,-8.2522500000000001,-99.027000000000001,-99.027000000000001,-33.008999999992511,-132.0359999999925,-858.23400000000743,"No"]
[null,2188,292606,"P","2Yd REL Containers",15,null,null,null,0,"CAPITAL INDUSTRIES INC",null,"2 YD REL Container","2022-10-18","2022-10-18","2188-22-0010-2",1200,14050,14282.4,14056,1388.57,12893.83,1190.2,54260,99.18,"P",null,175974,null,"Internal","A","SL",null,"WCNX",0,0,0,"Garbage Containers",10,2022,2034,2034.8333333333333,99.183333333333337,1190.2,1190.2,297.54999999999927,1487.7499999999993,12794.65,"No"]
[null,2188,292605,"P","1.5Yd REL Containers",15,null,null,null,0,"CAPITAL INDUSTRIES INC",null,"1.5 YD REL Container","2022-10-18","2022-10-18","2188-22-0010-2",1200,14050,14038.95,14056,1364.9,12674.050000000001,1169.9100000000001,54260,97.49,"P",null,175619,null,"Internal","A","SL",null,"WCNX",0,0,0,"Garbage Containers",10,2022,2034,2034.8333333333333,97.49270833333334,1169.9125000000001,1169.9125000000001,292.47812499999964,1462.3906249999998,12576.559375000001,"No"]
[null,2188,292604,"P","1Yd REL Containers",15,null,null,null,0,"CAPITAL INDUSTRIES INC",null,"1 YD REL Container","2022-10-18","2022-10-18","2188-22-0010-2",1200,14050,13795.5,14056,1341.24,{"$f":"S78-U78","v":12454.26},1149.6300000000001,54260,95.8,"P",null,175618,null,"Internal","A","SL",null,"WCNX",0,0,0,"Garbage Containers",{"$f":"MONTH($N78)","v":10},{"$f":"YEAR($N78)","v":2022},{"$f":"$AN78+($Q78/100)","v":2034},{"$f":"$AO78+($AM78/12)","v":2034.8333333333333},{"$f":"IFERROR($S78/($Q78/100)/12,0)","v":95.802083333333329},{"$f":"$AQ78*12","v":1149.625},1149.625,287.40625,1437.03125,12358.46875,"No"]
[null,2188,291784,290432,"Truck 4096 Decals",null,null,null,null,2023,"LARSEN SIGN CO",null,"Non-Rolling Stock","2022-09-07","2022-09-07","2188-22-0001-1",1000,14040,286.73,14046,38.229999999999997,248.50000000000003,28.67,51260,2.39,"P",null,30985,null,"Internal","A","SL",null,"WCNX",0,0,4096,"Garbage",9,2022,2032,2032.75,2.389416666666667,28.673000000000002,{"$f":"+IF(AP79<=$AK$9,0,AR79)","v":28.673000000000002},{"$f":"+IF(AP79<=$AK$10,S79,IF((AN79+(AM79/12))>=$AK$10,0,((S79-((AP79-$AK$10)*12)*AQ79))))","v":9.5576666666644883},{"$f":"IF(AP79<=$AK$9,S79,IF($AT79=0,$AS79,($AT79+$AS79)))","v":38.23066666666449},{"$f":"$S79-$AU79","v":248.49933333333553},"No"]
[null,2188,290432,"P","2023 Peterbilt ROL Truck",null,null,"1NPCX4EX0PD811914",null,2023,"PETERBILT","AA WELDING","R/O Truck","2022-08-10","2022-08-10","2188-22-0001-1",1000,14040,282845.65000000002,14046,40069.81,242775.84000000003,28284.57,51260,2357.0500000000002,"P",null,null,4096,"Internal","A","SL",null,"WCNX",0,0,4096,"Garbage",8,2022,2032,2032.6666666666667,2357.0470833333334,28284.565000000002,28284.565000000002,11785.235416662414,40069.800416662416,242775.84958333761,"No"]
[null,2188,289420,290432,"License Truck  # 4096",null,null,null,null,0,"WA DOL",null,"Non-Rolling Stock","2022-09-07","2022-09-07","2188-22-0001-1",1000,14040,1152.06,14046,153.6,998.45999999999992,115.2,51260,9.6,"P",null,"D68504A",null,"Internal","A","SL",null,"WCNX",0,0,4096,"Garbage",9,2022,2032,2032.75,9.6004999999999985,115.20599999999999,115.20599999999999,38.401999999991403,153.60799999999139,998.45200000000852,"No"]
[null,2188,289363,"P","95 Gallon Plastic Recycle Totes",351,null,null,null,0,"REHRIG PACIFIC COMPANY IN",null,"Non-Container Audit","2022-09-20","2022-09-20","2188-22-0013-1",700,14050,23136.32,14056,4131.49,19004.830000000002,3305.19,54260,275.43,"P",null,50266895,null,"Internal","A","SL",null,"WCNX",0,0,0,"Recycling ",9,2022,2029,2029.75,275.43238095238092,3305.1885714285709,3305.1885714285709,1101.7295238092738,4406.9180952378447,18729.401904762155,"No"]
[null,2188,289362,"P","65 Gallon Plastic MSW Totes",468,null,null,null,0,"REHRIG PACIFIC COMPANY IN",null,"Non-Container Audit","2022-09-20","2022-09-20","2188-22-0013-1",700,14050,26959.46,14056,4814.1899999999996,22145.27,3851.35,54260,320.95,"P",null,50266895,null,"Internal","A","SL",null,"WCNX",0,0,0,"Garbage Carts",9,2022,2029,2029.75,320.94595238095241,3851.3514285714291,3851.3514285714291,1283.7838095235165,5135.1352380949456,21824.324761905053,"No"]
[null,2188,289101,240077,"Cap Repair - Engine",0,null,null,null,0,null,null,"Non-Rolling Stock","2019-07-31","2019-07-31","2183-19-0027-1",300,14040,2748.77,14046,2748.77,0,0,51260,0,"P",null,null,null,"Internal","A","SL","2022-08-31","WCNX",0,2748.77,4067,"Garbage",7,2019,2022,2022.5833333333333,76.354722222222222,916.25666666666666,0,2748.77,2748.77,0,"No"]
[null,2188,289100,240077,"Truck 4068 Engine Replacement",null,null,null,null,0,"TEC EQUIPMENT INC",null,"Non-Rolling Stock","2019-06-05","2019-06-05","2183-19-0027-1",300,14040,35401.68,14046,35401.68,0,0,51260,0,"P",null,"5002850KS",null,"Internal","A","SL","2022-08-31","WCNX",0,35401.68,4067,"Garbage",6,2019,2022,2022.5,983.38,11800.56,0,35401.68,35401.68,0,"No"]
[null,2188,289099,240077,"Install AA Welding Auto Tarper",null,null,null,null,0,"SOLID WASTE SYSTEMS INC",null,"Non-Rolling Stock","2013-11-12","2013-11-12","2183-13-0008-4",300,14040,8837.86,14046,8837.86,0,0,51260,0,"P",null,127589,null,"Internal","A","SL","2022-08-31","WCNX",0,8837.86,4067,"Garbage",11,2013,2016,2016.9166666666667,245.49611111111111,2945.9533333333334,0,8837.86,8837.86,0,"No"]
[null,2188,289098,240077,"Autogreaser for Truck 4067",0,null,null,null,0,null,null,"Non-Rolling Stock","2009-01-01","2009-01-01","2180-8-0011-1",300,14040,3895.03,14046,3895.03,0,0,51260,0,"P",null,"024/40006518",null,"Internal","A","SL","2022-08-31","WCNX",0,3895.03,4067,"Garbage",1,2009,2012,2012.0833333333333,108.19527777777779,1298.3433333333335,0,3895.03,3895.03,0,"No"]
[null,2188,289097,"P","2009 Type H Drop R/O Unit# 4068",0,null,"4V5M99EH59N277270","C70186S",2009,"Volvo","Helm","R/O Truck","2008-11-03","2008-11-03",null,1000,14040,165486.5,14046,165486.5,0,0,51260,0,"A","LeMay Enterprises",null,4068,"Internal","A","SL","2022-08-31","WCNX",0,165486.5,4068,"Garbage",11,2008,2018,2018.9166666666667,1379.0541666666668,16548.650000000001,0,165486.5,165486.5,0,"No"]
[null,2188,288039,"P","2 Yd REL Metal Containers",15,null,null,null,0,"CAPITAL INDUSTRIES INC",null,"2 YD REL Container","2022-08-19","2022-08-19","2188-22-0009-1",1200,14050,14525.85,14056,1613.99,12911.86,1210.49,54260,100.87,"P",null,174639,null,"Internal","A","SL",null,"WCNX",0,0,0,"Garbage Containers",8,2022,2034,2034.6666666666667,100.87395833333333,1210.4875,1210.4875,504.36979166648416,1714.8572916664841,12810.992708333517,"No"]
[null,2188,288038,"P","2 Yd REL Metal Containers",15,null,null,null,0,"CAPITAL INDUSTRIES INC",null,"2 YD REL Container","2022-08-19","2022-08-19","2188-22-0009-1",1200,14050,14525.85,14056,1613.99,12911.86,1210.49,54260,100.87,"P",null,174645,null,"Internal","A","SL",null,"WCNX",0,0,0,"Garbage Containers",8,2022,2034,2034.6666666666667,100.87395833333333,1210.4875,1210.4875,504.36979166648416,1714.8572916664841,12810.992708333517,"No"]
[null,2188,287248,290432,"DriveCam",null,null,null,null,0,"Lytx",null,"Non-Rolling Stock","2022-08-10","2022-08-10","2188-22-0001-1",500,14040,602.70000000000005,14046,170.76,431.94000000000005,120.53,51260,10.039999999999999,"P",null,5524396,null,"Internal","A","SL",null,"WCNX",0,0,4096,"Garbage",8,2022,2027,2027.6666666666667,10.045,120.53999999999999,120.53999999999999,50.224999999981833,170.76499999998182,431.93500000001825,"No"]
[null,2188,285934,"P","6 Yd FEL Metal Containers",8,null,null,null,0,"CAPITAL INDUSTRIES INC",null,"6 YD FEL Container","2022-06-29","2022-06-29","2188-22-0009-1",1200,14050,16403.12,14056,2050.39,14352.73,1366.93,54260,113.91,"P",null,173813,null,"Internal","A","SL",null,"WCNX",0,0,0,"Garbage Containers",6,2022,2034,2034.5,113.91055555555555,1366.9266666666665,1366.9266666666665,797.37388888878559,2164.3005555554519,14238.819444444547,"No"]
[null,2188,285933,"P","6 Yd FEL Metal Containers",8,null,null,null,0,"CAPITAL INDUSTRIES INC",null,"6 YD FEL Container","2022-06-30","2022-06-30","2188-22-0009-1",1200,14050,16403.12,14056,2050.39,14352.73,1366.93,54260,113.91,"P",null,173815,null,"Internal","A","SL",null,"WCNX",0,0,0,"Garbage Containers",6,2022,2034,2034.5,113.91055555555555,1366.9266666666665,1366.9266666666665,797.37388888878559,2164.3005555554519,14238.819444444547,"No"]
[null,2188,285932,"P","6 Yd FEL Metal Containers",7,null,null,null,0,"CAPITAL INDUSTRIES INC",null,"6 YD FEL Container","2022-06-29","2022-06-29","2188-22-0009-1",1200,14050,14352.73,14056,1794.09,12558.64,1196.06,54260,99.67,"P",null,173814,null,"Internal","A","SL",null,"WCNX",0,0,0,"Garbage Containers",6,2022,2034,2034.5,99.671736111111102,1196.0608333333332,1196.0608333333332,697.70215277768875,1893.762986111022,12458.967013888978,"No"]
[null,2188,285929,"P","6 Yd FEL Metal Containers",7,null,null,null,0,"CAPITAL INDUSTRIES INC",null,"6 YD FEL Container","2022-06-30","2022-06-30","2188-22-0009-1",1200,14050,14352.73,14056,1794.09,12558.64,1196.06,54260,99.67,"P",null,173810,null,"Internal","A","SL",null,"WCNX",0,0,0,"Garbage Containers",6,2022,2034,2034.5,99.671736111111102,1196.0608333333332,1196.0608333333332,697.70215277768875,1893.762986111022,12458.967013888978,"No"]
[null,2188,285294,"P","95 Gallon Plastic MSW Totes",351,null,null,null,0,"REHRIG PACIFIC COMPANY IN",null,"Non-Container Audit","2022-07-18","2022-07-18","2188-22-0011-1",700,14050,23371.78,14056,4730.01,18641.769999999997,3338.83,54260,278.24,"P",null,50254233,null,"Internal","A","SL",null,"WCNX",0,0,0,"Garbage Carts",7,2022,2029,2029.5833333333333,278.23547619047616,3338.8257142857137,3338.8257142857137,1669.4128571428591,5008.2385714285729,18363.541428571425,"No"]
[null,2188,285293,"P","65 Gallon Plastic MSW Totes",468,null,null,null,0,"REHRIG PACIFIC COMPANY IN",null,"Non-Container Audit","2022-07-18","2022-07-18","2188-22-0011-1",700,14050,28144.38,14056,5695.89,22448.49,4020.63,54260,335.05,"P",null,50254233,null,"Internal","A","SL",null,"WCNX",0,0,0,"Garbage Carts",7,2022,2029,2029.5833333333333,335.05214285714288,4020.6257142857148,4020.6257142857148,2010.312857142857,6030.9385714285718,22113.44142857143,"No"]
[null,2188,285279,"P","1.5 Yd REL Metal Containers",30,null,null,null,0,"CAPITAL INDUSTRIES INC",null,"1.5 YD REL Container","2022-07-25","2022-07-25","2188-22-0009-1",1200,14050,28077.9,14056,3314.76,24763.14,2339.83,54260,194.99,"P",null,174165,null,"Internal","A","SL",null,"WCNX",0,0,0,"Garbage Containers",7,2022,2034,2034.5833333333333,194.98541666666668,2339.8250000000003,2339.8250000000003,1169.9124999999985,3509.7374999999988,24568.162500000002,"No"]
[null,2188,283447,277225,"Truck 3721 Decals",null,null,null,null,0,"Larsen Sign Co.",null,"Non-Rolling Stock","2022-04-22","2022-04-22","2188-22-0004-1",1000,14040,984.62,14046,164.08,820.54,98.45,51260,8.1999999999999993,"P",null,30372,null,"Internal","A","SL",null,"WCNX",0,0,3721,"Garbage",4,2022,2032,2032.3333333333333,8.2051666666666669,98.462000000000003,98.462000000000003,73.846499999999992,172.30849999999998,812.31150000000002,"No"]
[null,2188,283446,277225,"Truck 3721 License",null,null,null,null,0,"WA DOL",null,"Non-Rolling Stock","2022-04-14","2022-04-14","2188-22-0004-1",1000,14040,576.29,14046,100.85,475.43999999999994,57.63,51260,4.8,"P",null,144285604,null,"Internal","A","SL",null,"WCNX",0,0,3721,"Garbage",4,2022,2032,2032.3333333333333,4.8024166666666668,57.629000000000005,57.629000000000005,43.221749999999929,100.85074999999993,475.43925000000002,"No"]
[null,2188,283420,"P","53' Three Axle Van Trailer",0,null,"1JJV533U4ML158019",null,1991,"Wabi Van","Other","Trailer","2010-12-01","2010-12-01","2170-10-0006-1",300,14040,5902.2,14046,5902.2,0,0,51260,0,"P",null,"October 20 2010",9138,"Internal","A","SL","2022-05-31","WCNX",0,5902.2,0,"Service Equipment",12,2010,2013,2014,163.95,1967.3999999999999,0,5902.2,5902.2,0,"No"]
[null,2188,283419,"P","53' Three Axle Van Trailer",0,null,"1JJV533U8ML158007",null,1991,"Wabi Van","Other","Trailer","2010-12-01","2010-12-01","2170-10-0006-1",300,14040,5902.2,14046,5902.2,0,0,51260,0,"P",null,"October 20 2010",9126,"Internal","A","SL","2022-05-31","WCNX",0,5902.2,0,"Service Equipment",12,2010,2013,2014,163.95,1967.3999999999999,0,5902.2,5902.2,0,"No"]
[null,2188,282656,"P","2 Yd REL Metal Containers",30,null,null,null,0,"CAPITAL INDUSTRIES INC",null,"2 YD REL Container","2022-05-31","2022-05-31","2188-22-0009-1",1200,14050,28564.799999999999,14056,3768.97,24795.829999999998,2380.4,54260,198.37,"P",null,173157,null,"Internal","A","SL",null,"WCNX",0,0,0,"Garbage Containers",5,2022,2034,2034.4166666666667,198.36666666666667,2380.4,2380.4,1586.9333333329705,3967.3333333329706,24597.466666667027,"No"]
[null,2188,282648,"P","1 Yd REL Metal Containers",30,null,null,null,0,"CAPITAL INDUSTRIES INC",null,"1 YD REL Container","2022-05-31","2022-05-31","2188-22-0009-1",1200,14050,27591,14056,3640.48,23950.52,2299.25,54260,191.6,"P",null,173120,null,"Internal","A","SL",null,"WCNX",0,0,0,"Garbage Containers",5,2022,2034,2034.4166666666667,191.60416666666666,2299.25,2299.25,1532.8333333329865,3832.0833333329865,23758.916666667013,"No"]
[null,2188,280272,"P","2 YD Containers",24,null,null,null,0,null,null,"2 YD FEL/REL/SL Metal","2008-11-03","2008-11-03",null,700,14050,2210.4,14056,2210.4,0,0,54260,0,"A","LeMay Enterprises",null,null,"Internal","A","SL","2022-04-30","WCNX",0,2210.4,0,"Garbage Containers",11,2008,2015,2015.9166666666667,26.314285714285717,315.7714285714286,0,2210.4,2210.4,0,"No"]
[null,2188,279877,"P","6 YD Commercial Customers ($100 each)",51,null,null,null,0,null,null,null,"2008-11-03","2008-11-03",null,700,14050,4441.3100000000004,14056,4441.3100000000004,0,0,54260,0,"A","LeMay Enterprises",null,null,"Internal","A","SL","2022-04-30","WCNX",0,4441.3100000000004,0,"Garbage Containers",11,2008,2015,2015.9166666666667,52.872738095238098,634.47285714285715,0,4441.3100000000004,4441.3100000000004,0,"No"]
[null,2188,279859,"P","1 Yard Commerical Containers",12,null,null,null,0,null,null,"1 YD FEL/REL/SL Metal","2008-11-03","2008-11-03",null,1200,14050,868.68,14056,868.68,0,0,54260,0,"A","LeMay Enterprises",null,null,"Internal","A","SL","2022-04-30","WCNX",2,868.68,0,"Garbage Containers",11,2008,2020,2020.9166666666667,6.0324999999999998,72.39,0,868.68,868.68,0,"No"]
[null,2188,279850,"P","40 Yard R/O Containers",1,null,null,null,0,null,null,"40 YD RO Box","2008-11-03","2008-11-03",null,700,14050,10968.75,14056,10968.75,0,0,54260,0,"A","LeMay Enterprises",null,null,"Internal","A","SL","2022-04-30","WCNX",0,10968.75,0,"Drop Boxes",11,2008,2015,2015.9166666666667,130.58035714285714,1566.9642857142858,0,10968.75,10968.75,0,"No"]
[null,2188,279806,"P","1.5 Yard REL Containers",4,null,null,null,0,null,null,"1.5 YD FEL/REL/SL Metal","2001-11-01","2001-11-01",null,600,14050,98.71,14056,98.71,0,0,54260,0,"A","Island",null,null,"Internal","A","SL","2022-04-30","WCNX",2,98.71,0,"Garbage Containers",11,2001,2007,2007.9166666666667,1.370972222222222,16.451666666666664,0,98.71,98.71,0,"No"]
[null,2188,279340,"P","Open Top 20 YD Roll Off Container",1,null,null,null,0,"Enterprise Sales, Inc",null,"20 YD RO Box","2004-10-29","2004-10-29",42149005,1200,14050,3561.66,14056,3561.66,0,0,54260,0,"P",0,2270,null,"Internal","A","SL","2022-04-30","WCNX",0,3561.66,0,"Drop Boxes",10,2004,2016,2016.8333333333333,24.733750000000001,296.80500000000001,0,3561.66,3561.66,0,"No"]
[null,2188,279339,"P","20 Yd Containers",3,null,null,null,0,"Cascon",null,"20 YD RO Box","2002-01-04","2002-01-04","02-2149-004",1200,14050,7623.75,14056,7623.75,0,0,54260,0,"P",null,2202006,null,"Internal","A","SL","2022-04-30","WCNX",0,7623.75,0,"Drop Boxes",1,2002,2014,2014.0833333333333,52.942708333333336,635.3125,0,7623.75,7623.75,0,"No"]
[null,2188,279338,"P","20 YD Roll Off Containers",2,null,null,null,0,null,null,"20 YD RO Box","2001-07-01","2001-07-01",null,600,14050,941.2,14056,941.2,0,0,54260,0,"A","Mason County",null,null,"Internal","A","SL","2022-04-30","WCNX",2,941.2,0,"Drop Boxes",7,2001,2007,2007.5833333333333,13.072222222222223,156.86666666666667,0,941.2,941.2,0,"No"]
[null,2188,277225,"P","2022 Peterbilt ASL Truck",null,null,"3BPDLK0X1NF113160",null,2022,"PETERBILT","labrie","Automated Sideload","2022-04-14","2022-04-14","2188-22-0004-1",1000,14040,391578.28,14046,68526.179999999993,323052.10000000003,39157.82,51260,3263.15,"P",null,null,3721,"Internal","A","SL",null,"WCNX",0,0,3721,"Garbage",4,2022,2032,2032.3333333333333,3263.1523333333334,39157.828000000001,39157.828000000001,29368.371000000043,68526.199000000051,323052.08100000001,"No"]
[null,2188,276524,276523,"solid state drive - 500 GB - SATA6Gb",1,null,null,null,0,"CDW DIR #PO  2188-22-0",null,null,"2022-03-03","2022-03-03","2188-22-0008-1",300,14110,101.91,14116,62.26,39.65,33.96,70260,2.83,"P",null,"T093574",null,"Internal","A","SL",null,"WCNX",0,0,0,"Office Equipment",3,2022,2025,2025.25,2.8308333333333331,33.97,33.97,28.308333333330765,62.278333333330764,39.631666666669233,"No"]
[null,2188,276523,"P","HP ProBook 450 Serial # : 5CD145NFF6",1,null,null,null,0,"CDW DIR #PO  2188-22-0",null,null,"2022-03-03","2022-03-03","2188-22-0008-1",300,14110,1070.72,14116,654.33000000000004,416.39,356.91,70260,29.74,"P",null,"T005513",null,"Internal","A","SL",null,"WCNX",0,0,0,"Office Equipment",3,2022,2025,2025.25,29.742222222222225,356.90666666666669,356.90666666666669,297.42222222219516,654.32888888886191,416.39111111113812,"No"]
[null,2188,274962,"P","95 Gallon Plastic Yardwaste Totes",351,null,null,null,0,"REHRIG PACIFIC COMPANY IN",null,"Non-Container Audit","2022-02-28","2022-02-28","2188-22-0007-1",700,14050,23227.46,14056,6083.38,17144.079999999998,3318.21,54260,276.52,"P",null,50225494,null,"Internal","A","SL",null,"WCNX",0,0,0,"Garbage Carts",2,2022,2029,2029.1666666666667,276.51738095238096,3318.2085714285713,3318.2085714285713,3041.6911904756853,6359.8997619042566,16867.560238095743,"No"]
[null,2188,274961,"P","95 Gallon Plastic Recycle Totes",702,null,null,null,0,"REHRIG PACIFIC COMPANY IN",null,"Non-Container Audit","2022-03-01","2022-03-01","2188-22-0007-1",700,14050,47958.87,14056,12560.66,35398.210000000006,6851.27,54260,570.94000000000005,"P",null,50226718,null,"Internal","A","SL",null,"WCNX",0,0,0,"Garbage Carts",3,2022,2029,2029.25,570.93892857142862,6851.267142857143,6851.267142857143,5709.3892857137689,12560.656428570912,35398.213571429093,"No"]
[null,2188,274960,"P","95 Gallon Plastic MSW Totes",351,null,null,null,0,"REHRIG PACIFIC COMPANY IN",null,"Non-Container Audit","2022-02-28","2022-02-28","2188-22-0007-1",700,14050,23227.47,14056,6083.39,17144.080000000002,3318.21,54260,276.52,"P",null,50225494,null,"Internal","A","SL",null,"WCNX",0,0,0,"Garbage Carts",2,2022,2029,2029.1666666666667,276.51749999999998,3318.21,3318.21,3041.692499999499,6359.902499999499,16867.567500000503,"No"]
[null,2188,274389,"P","65 Gallon Plastic MSW Totes",936,null,null,null,0,"REHRIG PACIFIC COMPANY IN",null,"Non-Container Audit","2022-02-18","2022-02-18","2188-22-0007-1",700,14050,54334.14,14056,14230.37,40103.769999999997,7762.02,54260,646.83000000000004,"P",null,50224373,null,"Internal","A","SL",null,"WCNX",0,0,0,"Garbage Carts",2,2022,2029,2029.1666666666667,646.83499999999992,7762.0199999999986,7762.0199999999986,7115.1849999988262,14877.204999998825,39456.935000001176,"No"]
[null,2188,273626,"P","Geo Tablets",75,null,null,null,0,null,null,null,"2022-01-31","2022-01-31","1010-21-0060",100,14110,9511.11,14116,9511.11,0,792.59,70260,0,"P",null,null,null,"Internal","A","SL",null,"WCNX",0,0,0,"Garbage Carts",1,2022,2023,2023.0833333333333,792.59250000000009,9511.11,0,9511.11,9511.11,0,"No"]
[null,2188,270757,"P","3rd Eye Camera - installs",null,null,null,null,0,null,null,null,"2021-12-31","2021-12-31","1010-21-0039",500,14070,4436.2,14076,1774.48,2661.72,887.24,51260,73.94,"P",null,null,null,"Internal","A","SL",null,"WCNX",0,0,0,"Service Equipment",12,2021,2026,2027,73.936666666666667,887.24,887.24,961.17666666659943,1848.4166666665994,2587.7833333334002,"No"]
[null,2188,270740,"P","3rd Eye Camera -Cables",null,null,null,null,0,null,null,null,"2021-12-31","2021-12-31","1010-21-0039",500,14070,42.21,14076,16.88,25.330000000000002,8.44,51260,0.7,"P",null,null,null,"Internal","A","SL",null,"WCNX",0,0,0,"Service Equipment",12,2021,2026,2027,0.70350000000000001,8.4420000000000002,8.4420000000000002,9.1454999999993589,17.587499999999359,24.622500000000642,"No"]
[null,2188,270657,"P","3rd Eye Camera - Credit",null,null,null,null,0,null,null,null,"2021-12-31","2021-12-31","1010-21-0039",500,14070,-177.47,14076,-70.98,-106.49,-35.49,51260,-2.96,"P",null,null,null,"Internal","A","SL",null,"WCNX",0,0,0,"Service Equipment",12,2021,2026,2027,-2.9578333333333333,-35.494,-35.494,-38.451833333330654,-73.945833333330654,-103.52416666666934,"No"]
[null,2188,270656,"P","3rd Eye Camera",6,null,null,null,0,null,null,null,"2021-12-31","2021-12-31","1010-21-0039",500,14070,1628.64,14076,651.46,977.18000000000006,325.73,51260,27.14,"P",null,null,null,"Internal","A","SL",null,"WCNX",0,0,0,"Service Equipment",12,2021,2026,2027,27.144000000000002,325.72800000000001,325.72800000000001,352.87199999997529,678.59999999997535,950.04000000002475,"No"]
[null,2188,270334,"P","18 RouteTab Mounts for 2188",null,null,null,null,0,"PROCLIPUSA",null,null,"2020-04-25","2020-04-25","1010-20-0033-2",300,14110,2851.18,14116,2851.18,0,316.8,70260,0,"P",null,"SI-1171635",null,"Internal","A","SL","2021-11-30","WCNX",0,1504.79,0,"Service Equipment",4,2020,2023,2023.3333333333333,79.199444444444438,950.3933333333332,0,2613.5816666666665,2851.18,0,"No"]
[null,2188,270333,"P","17 RouteTab Mounts for 2188",null,null,null,null,0,"PROCLIPUSA",null,null,"2020-04-25","2020-04-25","1010-20-0033-2",300,14110,2692.77,14116,2692.77,0,299.2,70260,0,"P",null,"SI-1171635",null,"Internal","A","SL","2021-11-30","WCNX",0,1421.18,0,"Service Equipment",4,2020,2023,2023.3333333333333,74.799166666666665,897.58999999999992,0,2468.3724999999999,2692.77,0,"No"]
[null,2188,270332,"P","18  Samsung Active Pro Tablets for 2188",null,null,null,null,0,"COMPLETE TABLET SOLUTIONS",null,null,"2020-04-15","2020-04-15","1010-20-0033-1",100,14110,12315.06,14116,12315.06,0,0,70260,0,"P",null,13279,null,"Internal","A","SL","2021-11-30","WCNX",0,12315.06,0,"Service Equipment",4,2020,2021,2021.3333333333333,1026.2549999999999,12315.059999999998,0,12315.06,12315.06,0,"No"]
[null,2188,270161,"P","40Yd Metal RO Boxes",2,null,null,null,0,"CAPITAL INDUSTRIES INC",null,"40 YD RO Box","2021-12-20","2021-12-20","2188-21-0022-1",1200,14050,17450,14056,2908.34,14541.66,1454.17,54260,121.18,"P",null,170424,null,"Internal","A","SL",null,"WCNX",0,0,0,"Drop Boxes",12,2021,2033,2034,121.18055555555556,1454.1666666666667,1454.1666666666667,1575.3472222221117,3029.5138888887786,14420.486111111222,"No"]
[null,2188,270160,"P","40Yd Metal RO Boxes",2,null,null,null,0,"CAPITAL INDUSTRIES INC",null,"40 YD RO Box","2021-12-20","2021-12-20","2188-21-0022-1",1200,14050,17450,14056,2908.34,14541.66,1454.17,54260,121.18,"P",null,170423,null,"Internal","A","SL",null,"WCNX",0,0,0,"Drop Boxes",12,2021,2033,2034,121.18055555555556,1454.1666666666667,1454.1666666666667,1575.3472222221117,3029.5138888887786,14420.486111111222,"No"]
[null,2188,270159,"P","40Yd Metal RO Boxes",2,null,null,null,0,"CAPITAL INDUSTRIES INC",null,"40 YD RO Box","2021-12-20","2021-12-20","2188-21-0022-1",1200,14050,17450,14056,2908.34,14541.66,1454.17,54260,121.18,"P",null,170421,null,"Internal","A","SL",null,"WCNX",0,0,0,"Drop Boxes",12,2021,2033,2034,121.18055555555556,1454.1666666666667,1454.1666666666667,1575.3472222221117,3029.5138888887786,14420.486111111222,"No"]
[null,2188,270158,"P","40Yd Metal RO Boxes",2,null,null,null,0,"CAPITAL INDUSTRIES INC",null,"40 YD RO Box","2021-12-20","2021-12-20","2188-21-0022-1",1200,14050,17450,14056,2908.34,14541.66,1454.17,54260,121.18,"P",null,170419,null,"Internal","A","SL",null,"WCNX",0,0,0,"Drop Boxes",12,2021,2033,2034,121.18055555555556,1454.1666666666667,1454.1666666666667,1575.3472222221117,3029.5138888887786,14420.486111111222,"No"]
[null,2188,270154,"P","40 Yd Metal RO Boxes",2,null,null,null,0,"CAPITAL INDUSTRIES INC",null,"40 YD RO Box","2021-12-20","2021-12-20","2188-21-0022-1",1200,14050,17450,14056,2908.34,14541.66,1454.17,54260,121.18,"P",null,170422,null,"Internal","A","SL",null,"WCNX",0,0,0,"Drop Boxes",12,2021,2033,2034,121.18055555555556,1454.1666666666667,1454.1666666666667,1575.3472222221117,3029.5138888887786,14420.486111111222,"No"]
[null,2188,270135,"P","2yd REL Metal Container",12,null,null,null,0,"CAPITAL INDUSTRIES INC",null,"2 YD REL Container","2021-12-22","2021-12-22","2188-21-0024-1",1200,14050,11490.84,14056,1915.14,9575.7000000000007,957.57,54260,79.8,"P",null,170460,null,"Internal","A","SL",null,"WCNX",0,0,0,"Garbage Containers",12,2021,2033,2034,79.797499999999999,957.56999999999994,957.56999999999994,1037.3674999999275,1994.9374999999275,9495.9025000000729,"No"]
[null,2188,270134,"P","2yd REL Metal Container",13,null,null,null,0,"CAPITAL INDUSTRIES INC",null,"2 YD REL Container","2021-12-22","2021-12-22","2188-21-0024-1",1200,14050,12448.41,14056,2074.7399999999998,10373.67,1037.3699999999999,54260,86.45,"P",null,170464,null,"Internal","A","SL",null,"WCNX",0,0,0,"Garbage Containers",12,2021,2033,2034,86.447291666666672,1037.3675000000001,1037.3675000000001,1123.8147916665876,2161.1822916665878,10287.227708333412,"No"]
[null,2188,270127,"P","20Yd Metal RO Boxes",3,null,null,null,0,"CAPITAL INDUSTRIES INC",null,"20 YD RO Box","2021-12-20","2021-12-20","2188-21-0022-1",1200,14050,20670,14056,3445,17225,1722.5,54260,143.54,"P",null,169842,null,"Internal","A","SL",null,"WCNX",0,0,0,"Drop Boxes",12,2021,2033,2034,143.54166666666666,1722.5,1722.5,1866.0416666665369,3588.5416666665369,17081.458333333463,"No"]
[null,2188,270126,"P","20Yd Metal RO Boxes",3,null,null,null,0,"CAPITAL INDUSTRIES INC",null,"20 YD RO Box","2021-12-20","2021-12-20","2188-21-0022-1",1200,14050,20670,14056,3445,17225,1722.5,54260,143.54,"P",null,169841,null,"Internal","A","SL",null,"WCNX",0,0,0,"Drop Boxes",12,2021,2033,2034,143.54166666666666,1722.5,1722.5,1866.0416666665369,3588.5416666665369,17081.458333333463,"No"]
[null,2188,268649,"P","1yd REL Metal Containers",6,null,null,null,0,"CAPITAL INDUSTRIES INC",null,"1 YD REL Container","2021-12-20","2021-12-20","2188-21-0024-1",1200,14050,5420.82,14056,903.48,4517.34,451.74,54260,37.64,"P",null,170358,null,"Internal","A","SL",null,"WCNX",0,0,0,"Garbage Containers",12,2021,2033,2034,37.64458333333333,451.73499999999996,451.73499999999996,489.37958333329971,941.11458333329961,4479.7054166667003,"No"]
[null,2188,268648,"P","1Yd Rel Metal Containers",12,null,null,null,0,"CAPITAL INDUSTRIES INC",null,"1 YD REL Container","2021-12-20","2021-12-20","2188-21-0024-1",1200,14050,10841.64,14056,1806.94,9034.6999999999989,903.47,54260,75.290000000000006,"P",null,170357,null,"Internal","A","SL",null,"WCNX",0,0,0,"Garbage Containers",12,2021,2033,2034,75.289166666666659,903.46999999999991,903.46999999999991,978.75916666659941,1882.2291666665992,8959.4108333334007,"No"]
[null,2188,268647,"P","1Yd REL Metal Containers",12,null,null,null,0,"CAPITAL INDUSTRIES INC",null,"1 YD REL Container","2021-12-20","2021-12-20","2188-21-0024-1",1200,14050,10841.64,14056,1806.94,9034.6999999999989,903.47,54260,75.290000000000006,"P",null,170348,null,"Internal","A","SL",null,"WCNX",0,0,0,"Garbage Containers",12,2021,2033,2034,75.289166666666659,903.46999999999991,903.46999999999991,978.75916666659941,1882.2291666665992,8959.4108333334007,"No"]
[null,2188,266851,"P","30yd RO Boxes",2,null,null,null,0,"CAPITAL INDUSTRIES INC",null,"30 YD RO Box","2021-10-30","2021-10-30","2188-21-0022-1",1200,14050,15500,14056,2798.62,12701.380000000001,1291.67,54260,107.64,"P",null,169522,null,"Internal","A","SL",null,"WCNX",0,0,0,"Drop Boxes",10,2021,2033,2033.8333333333333,107.6388888888889,1291.6666666666667,1291.6666666666667,1614.5833333333321,2906.2499999999991,12593.75,"No"]
[null,2188,266850,"P","2yd REL Metal Container",30,null,null,null,0,"CAPITAL INDUSTRIES INC",null,"2 YD REL Container","2021-11-22","2021-11-22","2188-21-0024-1",1200,14050,27591,14056,4790.1099999999997,22800.89,2299.25,54260,191.6,"P",null,169949,null,"Internal","A","SL",null,"WCNX",0,0,0,"Garbage Containers",11,2021,2033,2033.9166666666667,191.60416666666666,2299.25,2299.25,2682.4583333329865,4981.7083333329865,22609.291666667013,"No"]
[null,2188,266849,"P","20yd RO Boxes",2,null,null,null,0,"CAPITAL INDUSTRIES INC",null,"20 YD RO Box","2021-11-16","2021-11-16","2188-21-0022-1",1200,14050,13780,14056,2392.36,{"$f":"S142-U142","v":11387.64},1148.33,54260,95.69,"P",null,169839,null,"Internal","A","SL",null,"WCNX",0,0,0,"Drop Boxes",{"$f":"MONTH($N142)","v":11},{"$f":"YEAR($N142)","v":2021},{"$f":"$AN142+($Q142/100)","v":2033},{"$f":"$AO142+($AM142/12)","v":2033.9166666666667},{"$f":"IFERROR($S142/($Q142/100)/12,0)","v":95.694444444444443},{"$f":"$AQ142*12","v":1148.3333333333333},1148.3333333333333,1339.722222222048,2488.055555555381,11291.94444444462,"No"]
[null,2188,265429,"P","30yd RO Boxes",2,null,null,null,0,"CAPITAL INDUSTRIES INC",null,"30 YD RO Box","2021-10-30","2021-10-30","2188-21-0022-1",1200,14050,15500,14056,2798.62,12701.380000000001,1291.67,54260,107.64,"P",null,169523,null,"Internal","A","SL",null,"WCNX",0,0,0,"Drop Boxes",10,2021,2033,2033.8333333333333,107.6388888888889,1291.6666666666667,{"$f":"+IF(AP143<=$AK$9,0,AR143)","v":1291.6666666666667},{"$f":"+IF(AP143<=$AK$10,S143,IF((AN143+(AM143/12))>=$AK$10,0,((S143-((AP143-$AK$10)*12)*AQ143))))","v":1614.5833333333321},{"$f":"IF(AP143<=$AK$9,S143,IF($AT143=0,$AS143,($AT143+$AS143)))","v":2906.2499999999991},{"$f":"$S143-$AU143","v":12593.75},"No"]
[null,2188,265428,"P","30yd RO Boxes",2,null,null,null,0,"CAPITAL INDUSTRIES INC",null,"30 YD RO Box","2021-10-30","2021-10-30","2188-21-0022-1",1200,14050,15500,14056,2798.62,12701.380000000001,1291.67,54260,107.64,"P",null,169521,null,"Internal","A","SL",null,"WCNX",0,0,0,"Drop Boxes",10,2021,2033,2033.8333333333333,107.6388888888889,1291.6666666666667,1291.6666666666667,1614.5833333333321,2906.2499999999991,12593.75,"No"]
[null,2188,265427,"P","30yd RO Boxes",2,null,null,null,0,"CAPITAL INDUSTRIES INC",null,"30 YD RO Box","2021-10-30","2021-10-30","2188-21-0022-1",1200,14050,15500,14056,2798.62,12701.380000000001,1291.67,54260,107.64,"P",null,169520,null,"Internal","A","SL",null,"WCNX",0,0,0,"Drop Boxes",10,2021,2033,2033.8333333333333,107.6388888888889,1291.6666666666667,1291.6666666666667,1614.5833333333321,2906.2499999999991,12593.75,"No"]
[null,2188,265426,"P","30yd RO Box",2,null,null,null,0,"CAPITAL INDUSTRIES INC",null,"30 YD RO Box","2021-10-30","2021-10-30","2188-21-0022-1",1200,14050,15500,14056,2798.62,12701.380000000001,1291.67,54260,107.64,"P",null,169516,null,"Internal","A","SL",null,"WCNX",0,0,0,"Drop Boxes",10,2021,2033,2033.8333333333333,107.6388888888889,1291.6666666666667,1291.6666666666667,1614.5833333333321,2906.2499999999991,12593.75,"No"]
[null,2188,265278,"P","20yd RO Boxes",2,null,null,null,0,"CAPITAL INDUSTRIES INC",null,"20 YD RO Box","2021-11-16","2021-11-16","2188-21-0022-1",1200,14050,13780,14056,2392.36,11387.64,1148.33,54260,95.69,"P",null,169840,null,"Internal","A","SL",null,"WCNX",0,0,0,"Drop Boxes",11,2021,2033,2033.9166666666667,95.694444444444443,1148.3333333333333,1148.3333333333333,1339.722222222048,2488.055555555381,11291.94444444462,"No"]
[null,2188,264434,"P","2022 Peterbilt ROL Truck",null,null,"1NPCL40X5ND789344",null,2022,null,null,"R/O Truck","2021-11-30","2021-11-30","2188-21-0004",1000,14040,227442.33,14046,47383.81,180058.52,22744.23,51260,1895.35,"P",null,null,null,"Internal","A","SL",null,"WCNX",0,0,0,"Roll Off",11,2021,2031,2031.9166666666667,1895.35275,22744.233,22744.233,26534.938499996526,49279.171499996526,178163.15850000345,"No"]
[null,2188,260639,"P","1995 Type HT D-V Trailer",null,null,"1S13E9536SE392140",null,1995,"STRICKLAND","Other","Trailer","2008-11-03","2008-11-03",null,300,14040,2500,14046,2500,0,0,51260,0,"A","LeMay Enterprises",null,8141,"Internal","A","SL","2021-08-31","WCNX",0,2500,0,"Service Equipment",11,2008,2011,2011.9166666666667,69.444444444444443,833.33333333333326,0,2500,2500,0,"No"]
[null,2188,260020,"P","2Yd Metal FEL Commercial Container",14,null,null,null,0,"CAPITAL INDUSTRIES INC",null,"2 YD FEL Container","2021-08-13","2021-08-13","2188-21-0020-1",1200,14050,10982.3,14056,2211.71,8770.59,915.19,54260,76.27,"P",null,168212,null,"Internal","A","SL",null,"WCNX",0,0,0,"Garbage Containers",8,2021,2033,2033.6666666666667,76.265972222222217,915.19166666666661,915.19166666666661,1296.5215277776388,2211.7131944443054,8770.586805555693,"No"]
[null,2188,259972,"P","95gal Yardwaste Totes",351,null,null,null,0,"REHRIG PACIFIC COMPANY IN",null,"Non-Container Audit","2021-09-02","2021-09-02","2188-21-0023-1",700,14050,22460.31,14056,7486.78,14973.530000000002,3208.62,54260,267.38,"P",null,50191505,null,"Internal","A","SL",null,"WCNX",0,0,0,"Yard Waste ",9,2021,2028,2028.75,267.38464285714286,3208.6157142857146,3208.6157142857146,4278.1542857140448,7486.7699999997594,14973.540000000241,"No"]
[null,2188,259971,"P","65gal MSW Totes",324,null,null,null,0,"REHRIG PACIFIC COMPANY IN",null,"Non-Container Audit","2021-09-02","2021-09-02","2188-21-0023-1",700,14050,18520.5,14056,6173.51,12346.99,2645.79,54260,220.48,"P",null,50191505,null,"Internal","A","SL",null,"WCNX",0,0,0,"Garbage Carts",9,2021,2028,2028.75,220.48214285714286,2645.7857142857142,2645.7857142857142,3527.7142857140843,6173.4999999997981,12347.000000000202,"No"]
[null,2188,259508,255412,"License for truck # 3716",null,null,null,null,0,"WA DOL",null,"Non-Rolling Stock","2021-07-20","2021-07-20","2188-21-0002-1",1000,14040,368.61,14046,89.08,279.53000000000003,36.86,51260,3.07,"P",null,"C17316Y",null,"Internal","A","SL",null,"WCNX",0,0,3716,"Garbage",7,2021,2031,2031.5833333333333,3.0717500000000002,36.861000000000004,36.861000000000004,55.291499999999985,92.152499999999989,276.45750000000004,"No"]
[null,2188,258996,"P","3Yd Metal FEL Commercial Containers",12,null,null,null,0,"CAPITAL INDUSTRIES INC",null,"3 YD FEL Container","2021-08-19","2021-08-19","2188-21-0020-1",1200,14050,10581.96,14056,2057.6,8524.3599999999988,881.83,54260,73.489999999999995,"P",null,168312,null,"Internal","A","SL",null,"WCNX",0,0,0,"Garbage Containers",8,2021,2033,2033.6666666666667,73.485833333333332,881.82999999999993,881.82999999999993,1249.2591666665321,2131.089166666532,8450.8708333334671,"No"]
[null,2188,258995,"P","3Yd Metal FEL Commercial Containers",8,null,null,null,0,"CAPITAL INDUSTRIES INC",null,"3 YD FEL Container","2021-08-19","2021-08-19","2188-21-0020-1",1200,14050,7054.64,14056,1371.72,5682.92,587.88,54260,48.99,"P",null,168305,null,"Internal","A","SL",null,"WCNX",0,0,0,"Garbage Containers",8,2021,2033,2033.6666666666667,48.990555555555552,587.88666666666666,587.88666666666666,832.83944444435565,1420.7261111110224,5633.9138888889775,"No"]
[null,2188,258987,"P","2Yd Metal FEL Commercial Container",6,null,null,null,0,"CAPITAL INDUSTRIES INC",null,"2 YD FEL Container","2021-08-13","2021-08-13","2188-21-0020-1",1200,14050,4706.7,14056,947.89,3758.81,392.23,54260,32.69,"P",null,168235,null,"Internal","A","SL",null,"WCNX",0,0,0,"Garbage Containers",8,2021,2033,2033.6666666666667,32.685416666666661,392.22499999999991,392.22499999999991,555.65208333327428,947.87708333327419,3758.8229166667256,"No"]
[null,2188,257150,"P","20 Yd Containers",24,null,null,null,0,null,null,"20 YD RO Box","2008-11-03","2008-11-03",null,700,14050,36041.519999999997,14056,36041.519999999997,0,0,54260,0,"A","LeMay Enterprises",null,null,"Internal","A","SL","2021-07-31","WCNX",0,36041.519999999997,0,"Drop Boxes",11,2008,2015,2015.9166666666667,429.06571428571425,5148.7885714285712,0,36041.519999999997,36041.519999999997,0,"No"]
[null,2188,257149,"P","2 Yard Commercial Containers",15,null,null,null,0,null,null,"2 YD FEL/REL/SL Metal","2008-11-03","2008-11-03",null,1200,14050,2094.75,14056,2094.75,0,0,54260,0,"A","LeMay Enterprises",null,null,"Internal","A","SL","2021-07-31","WCNX",0,2094.75,0,"Garbage Containers",11,2008,2020,2020.9166666666667,14.546875,174.5625,0,2094.75,2094.75,0,"No"]
[null,2188,256613,"P","2 yd Lids w/Chute",25,null,null,null,0,null,null,"2 YD FEL/REL/SL Metal","1988-01-26","1988-01-26",null,1200,14050,1804.65,14056,1804.65,0,0,54260,0,"A","DM Recycling",null,null,"Internal","A","SL","2021-07-31","WCNX",0,1804.65,0,"Garbage Containers",1,1988,2000,2000.0833333333333,12.532291666666667,150.38750000000002,0,1804.65,1804.65,0,"No"]
[null,2188,256612,"P","20 Yard R/O Containers",8,null,null,null,0,null,null,"20 YD RO Box","2008-11-03","2008-11-03",null,700,14050,88000,14056,88000,0,0,54260,0,"A","LeMay Enterprises",null,null,"Internal","A","SL","2021-07-31","WCNX",0,88000,0,"Drop Boxes",11,2008,2015,2015.9166666666667,1047.6190476190475,12571.428571428569,0,88000,88000,0,"No"]
[null,2188,256279,255412,"Truck 3716 Decals",null,null,null,null,0,"Larsen Sign Co.",null,"Non-Rolling Stock","2021-07-20","2021-07-20","2188-21-0002-1",1000,14040,984.62,14046,237.93,746.69,98.45,51260,8.1999999999999993,"P",null,28836,null,"Internal","A","SL",null,"WCNX",0,0,3716,"Garbage",7,2021,2031,2031.5833333333333,8.2051666666666669,98.462000000000003,98.462000000000003,147.69299999999998,246.15499999999997,738.46500000000003,"No"]
[null,2188,256278,253112,"Truck 2063 License",null,null,null,null,0,"WA DOL",null,"Non-Rolling Stock","2021-06-30","2021-06-30","2188-21-0001-1",1000,14040,555.69000000000005,14046,138.93,416.76000000000005,55.57,51260,4.63,"P",null,"C02200X",null,"Internal","A","SL",null,"WCNX",0,0,2063,"Garbage",6,2021,2031,2031.5,4.6307499999999999,55.569000000000003,55.569000000000003,87.984249999995825,143.55324999999584,412.13675000000421,"No"]
[null,2188,256277,253112,"Truck 2063 Decals",null,null,null,null,0,"Larsen Sign Co.",null,"Non-Rolling Stock","2021-06-30","2021-06-30","2188-21-0001-1",1000,14040,952.16,14046,238.05,714.1099999999999,95.22,51260,7.93,"P",null,28745,null,"Internal","A","SL",null,"WCNX",0,0,2063,"Garbage",6,2021,2031,2031.5,7.9346666666666659,95.215999999999994,95.215999999999994,150.75866666665945,245.97466666665946,706.18533333334051,"No"]
[null,2188,255883,"P","4 yd Metal FEL Commercial Containers",10,null,null,null,0,"CAPITAL INDUSTRIES INC",null,"4 YD FEL Container","2021-07-14","2021-07-14","2188-21-0020-1",1200,14050,9683.9,14056,2017.48,7666.42,806.99,54260,67.25,"P",null,167525,null,"Internal","A","SL",null,"WCNX",0,0,0,"Garbage Containers",7,2021,2033,2033.5833333333333,67.249305555555551,806.99166666666656,806.99166666666656,1210.4874999999993,2017.4791666666658,7666.4208333333336,"No"]
[null,2188,255882,"P","4 yd Metal FEL Commercial Containers",10,null,null,null,0,"CAPITAL INDUSTRIES INC",null,"4 YD FEL Container","2021-07-14","2021-07-14","2188-21-0020-1",1200,14050,9683.9,14056,2017.48,7666.42,806.99,54260,67.25,"P",null,167527,null,"Internal","A","SL",null,"WCNX",0,0,0,"Garbage Containers",7,2021,2033,2033.5833333333333,67.249305555555551,806.99166666666656,806.99166666666656,1210.4874999999993,2017.4791666666658,7666.4208333333336,"No"]
[null,2188,255412,"P","2021 Peterbilt ASL Truck",null,null,"3BPDLK0X1MF111049",null,2021,null,null,"Automated Sideload","2021-07-20","2021-07-20","2188-21-0002",1000,14040,370212.96,14046,89468.14,280744.82,37021.300000000003,51260,3085.11,"P",null,null,3716,"Internal","A","SL",null,"WCNX",0,0,0,"Garbage",7,2021,2031,2031.5833333333333,3085.1080000000002,37021.296000000002,37021.296000000002,55531.944000000018,92553.24000000002,277659.71999999997,"No"]
[null,2188,255163,"P","6 Yd Metal FEL Containers",3,null,null,null,0,"CAPITAL INDUSTRIES INC",null,"6 YD FEL Container","2021-05-26","2021-05-26","2188-21-0018-1",1200,14050,4073.73,14056,876.99,3196.74,339.48,54260,28.29,"P",null,166657,null,"Internal","A","SL",null,"WCNX",0,0,0,"Garbage Containers",5,2021,2033,2033.4166666666667,28.28979166666667,339.47750000000002,339.47750000000002,565.79583333328173,905.2733333332817,3168.4566666667183,"No"]
[null,2188,255162,"P","6 Yd Metal FEL Containers",5,null,null,null,0,"CAPITAL INDUSTRIES INC",null,"6 YD FEL Container","2021-05-26","2021-05-26","2188-21-0018-1",1200,14050,6789.55,14056,1461.65,5327.9,565.79999999999995,54260,47.15,"P",null,166658,null,"Internal","A","SL",null,"WCNX",0,0,0,"Garbage Containers",5,2021,2033,2033.4166666666667,47.149652777777781,565.79583333333335,565.79583333333335,942.99305555546925,1508.7888888888026,5280.7611111111974,"No"]
[null,2188,255161,"P","20yd Metal RO Boxes",15,null,null,null,0,"CAPITAL INDUSTRIES INC",null,"20 YD RO Box","2021-06-22","2021-06-22","2188-21-0017-1",1200,14050,85650,14056,17843.75,67806.25,7137.5,54260,594.79,"P",null,167144,null,"Internal","A","SL",null,"WCNX",0,0,0,"Drop Boxes",6,2021,2033,2033.5,594.79166666666663,7137.5,7137.5,11301.041666666133,18438.541666666133,67211.458333333867,"No"]
[null,2188,255150,253112,"Truck 2063 Radio",null,null,null,null,0,"WHISLER COMMUNICATIONS",null,"Non-Rolling Stock","2021-06-30","2021-06-30","2188-21-0001-1",500,14040,681.66,14046,340.83,340.83,136.33000000000001,51260,11.36,"P",null,70833,null,"Internal","A","SL",null,"WCNX",0,0,2063,"Garbage",6,2021,2026,2026.5,11.360999999999999,136.33199999999999,136.33199999999999,215.85899999998969,352.19099999998969,329.46900000001028,"No"]
[null,2188,254231,"P","6 Yd Metal FEL Containers",6,null,null,null,0,"CAPITAL INDUSTRIES INC",null,"6 YD FEL Container","2021-05-26","2021-05-26","2188-21-0018-1",1200,14050,8147.46,14056,1753.98,6393.48,678.96,54260,56.58,"P",null,166655,null,"Internal","A","SL",null,"WCNX",0,0,0,"Garbage Containers",5,2021,2033,2033.4166666666667,56.579583333333339,678.95500000000004,678.95500000000004,1131.5916666665635,1810.5466666665634,6336.9133333334366,"No"]
[null,2188,254230,"P","6 Yd Metal FEL Containers",4,null,null,null,0,"CAPITAL INDUSTRIES INC",null,"6 YD FEL Container","2021-05-26","2021-05-26","2188-21-0018-1",1200,14050,5431.64,14056,1169.32,4262.3200000000006,452.64,54260,37.72,"P",null,166659,null,"Internal","A","SL",null,"WCNX",0,0,0,"Garbage Containers",5,2021,2033,2033.4166666666667,37.719722222222224,452.63666666666666,452.63666666666666,754.39444444437595,1207.0311111110427,4224.6088888889572,"No"]
[null,2188,254229,"P","2Yd Metal REL Container",5,null,null,null,0,"CAPITAL INDUSTRIES INC",null,"2 YD REL Container","2021-05-26","2021-05-26","2188-21-0018-1",1200,14050,3516.5,14056,757.02,2759.48,293.04000000000002,54260,24.42,"P",null,166701,null,"Internal","A","SL",null,"WCNX",0,0,0,"Garbage Containers",5,2021,2033,2033.4166666666667,24.420138888888889,293.04166666666669,293.04166666666669,488.40277777773326,781.44444444440001,2735.0555555556002,"No"]
[null,2188,254228,"P","2Yd Metal REL Container",6,null,null,null,0,"CAPITAL INDUSTRIES INC",null,"2 YD REL Container","2021-05-26","2021-05-26","2188-21-0018-1",1200,14050,4219.8,14056,908.43,3311.3700000000003,351.65,54260,29.3,"P",null,166702,null,"Internal","A","SL",null,"WCNX",0,0,0,"Garbage Containers",5,2021,2033,2033.4166666666667,29.304166666666671,351.65000000000003,351.65000000000003,586.08333333327982,937.73333333327992,3282.0666666667203,"No"]
[null,2188,254227,"P","2Yd Metal REL Container",4,null,null,null,0,"CAPITAL INDUSTRIES INC",null,"2 YD REL Container","2021-05-24","2021-05-24","2188-21-0018-1",1200,14050,2813.2,14056,605.61,2207.5899999999997,234.43,54260,19.54,"P",null,166703,null,"Internal","A","SL",null,"WCNX",0,0,0,"Garbage Containers",5,2021,2033,2033.4166666666667,19.536111111111108,234.43333333333328,234.43333333333328,390.7222222221867,625.15555555551998,2188.0444444444797,"No"]
[null,2188,253863,"P","95gal Recycle Totes",702,null,null,null,0,"REHRIG PACIFIC COMPANY IN",null,"Non-Container Audit","2021-05-28","2021-05-28","2188-21-0021-1",700,14050,41213.94,14056,15209.92,26004.020000000004,5887.71,54260,490.64,"P",null,50172244,null,"Internal","A","SL",null,"WCNX",0,0,0,"Recycling ",5,2021,2028,2028.4166666666667,490.64214285714291,5887.7057142857147,5887.7057142857147,9812.8428571419645,15700.54857142768,25513.391428572322,"No"]
[null,2188,253862,"P","95gal Garbage Totes",351,null,null,null,0,"REHRIG PACIFIC COMPANY IN",null,"Non-Container Audit","2021-06-01","2021-06-01","2188-21-0021-1",700,14050,19923.36,14056,7352.68,12570.68,2846.2,54260,237.18,"P",null,50172977,null,"Internal","A","SL",null,"WCNX",0,0,0,"Garbage Carts",6,2021,2028,2028.5,237.18285714285716,2846.1942857142858,2846.1942857142858,4506.47428571407,7352.6685714283558,12570.691428571645,"No"]
[null,2188,253861,"P","65gal Garbage Totes",468,null,null,null,0,"REHRIG PACIFIC COMPANY IN",null,"Non-Container Audit","2021-06-01","2021-06-01","2188-21-0021-1",700,14050,23936.400000000001,14056,8833.68,15102.720000000001,3419.49,54260,284.95999999999998,"P",null,50172977,null,"Internal","A","SL",null,"WCNX",0,0,0,"Garbage Carts",6,2021,2028,2028.5,284.95714285714286,3419.4857142857145,3419.4857142857145,5414.1857142854569,8833.6714285711714,15102.72857142883,"No"]
[null,2188,253458,"P","20 YD RO",3,null,null,null,0,null,null,null,"2008-11-03","2008-11-03",null,700,14050,256.08999999999997,14056,256.08999999999997,0,0,54260,0,"A","LeMay Enterprises",null,null,"Internal","A","SL","2021-05-31","WCNX",0,256.08999999999997,0,"Drop Boxes",11,2008,2015,2015.9166666666667,3.0486904761904761,36.584285714285713,0,256.08999999999997,256.08999999999997,0,"No"]
[null,2188,253457,"P","2 YD Container",24,null,null,null,0,null,null,null,"2008-11-03","2008-11-03",null,700,14050,2048.75,14056,2048.75,0,0,54260,0,"A","LeMay Enterprises",null,null,"Internal","A","SL","2021-05-31","WCNX",0,2048.75,0,"Garbage Containers",11,2008,2015,2015.9166666666667,24.389880952380953,292.67857142857144,0,2048.75,2048.75,0,"No"]
[null,2188,253166,"P","6yd Metal FEL Containers",6,null,null,"94-3283464",0,"CAPITAL INDUSTRIES INC",null,"6 YD FEL Container","2021-05-26","2021-05-26","2188-21-0018-1",1200,14050,8147.46,14056,1753.98,6393.48,678.96,54260,56.58,"P",null,166599,null,"Internal","A","SL",null,"WCNX",0,0,0,"Garbage Containers",5,2021,2033,2033.4166666666667,56.579583333333339,678.95500000000004,678.95500000000004,1131.5916666665635,1810.5466666665634,6336.9133333334366,"No"]
[null,2188,253165,"P","2yd Metal REL Containers",10,null,null,"94-3283464",0,"CAPITAL INDUSTRIES INC",null,"2 YD REL Container","2021-05-26","2021-05-26","2188-21-0018-1",1200,14050,7033,14056,1514.04,5518.96,586.08000000000004,54260,48.84,"P",null,166682,null,"Internal","A","SL",null,"WCNX",0,0,0,"Garbage Containers",5,2021,2033,2033.4166666666667,48.840277777777779,586.08333333333337,586.08333333333337,976.80555555546653,1562.8888888888,5470.1111111112004,"No"]
[null,2188,253164,"P","2Yd Metal REL Containers",10,null,null,"94-3283464",0,"CAPITAL INDUSTRIES INC",null,"2 YD REL Container","2021-05-26","2021-05-26","2188-21-0018-1",1200,14050,7033,14056,1514.04,5518.96,586.08000000000004,54260,48.84,"P",null,166698,null,"Internal","A","SL",null,"WCNX",0,0,0,"Garbage Containers",5,2021,2033,2033.4166666666667,48.840277777777779,586.08333333333337,586.08333333333337,976.80555555546653,1562.8888888888,5470.1111111112004,"No"]
[null,2188,253163,"P","2Yd Metal REL Containers",5,null,null,"94-3283464",0,"CAPITAL INDUSTRIES INC",null,"2 YD REL Container","2021-05-26","2021-05-26","2188-21-0018-1",1200,14050,3516.5,14056,757.02,2759.48,293.04000000000002,54260,24.42,"P",null,166700,null,"Internal","A","SL",null,"WCNX",0,0,0,"Garbage Containers",5,2021,2033,2033.4166666666667,24.420138888888889,293.04166666666669,293.04166666666669,488.40277777773326,781.44444444440001,2735.0555555556002,"No"]
[null,2188,253162,"P","30yd Metal RO Boxes",10,null,null,"94-3283464",0,"CAPITAL INDUSTRIES INC",null,"30 YD RO Box","2021-05-26","2021-05-26","2188-21-0017-1",1200,14050,63500,14056,13670.15,49829.85,5291.67,54260,440.97,"P",null,166706,null,"Internal","A","SL",null,"WCNX",0,0,0,"Drop Boxes",5,2021,2033,2033.4166666666667,440.97222222222223,5291.666666666667,5291.666666666667,8819.4444444436449,14111.111111110313,49388.888888889691,"No"]
[null,2188,253112,"P","2020 Peterbilt FEL Truck -Chassis",null,null,"3BPDLK0X0LF108674",null,2020,null,null,"FEL Truck","2021-06-30","2021-06-30","2188-20-0011",1000,14040,183322.84,14046,45830.7,137492.14000000001,18332.28,51260,1527.69,"P",null,null,2063,"Internal","A","SL",null,"WCNX",0,0,2063,"Garbage",6,2021,2031,2031.5,1527.6903333333332,18332.284,18332.284,29026.116333331942,47358.400333331942,135964.43966666807,"No"]
[null,2188,253111,253112,"2020 Peterbilt FEL Truck -Body",null,null,"3BPDLK0X0LF108674",null,2020,null,null,"Non-Rolling Stock","2021-06-30","2021-06-30","2188-21-0001",1000,14040,157373.95000000001,14046,39343.5,118030.45000000001,15737.4,51260,1311.45,"P",null,null,null,"Internal","A","SL",null,"WCNX",0,0,2063,"Garbage",6,2021,2031,2031.5,1311.4495833333333,15737.395,15737.395,24917.54208333217,40654.937083332174,116719.01291666784,"No"]
[null,2188,251872,253162,"Plastic RO Lids",25,null,null,null,0,"IMPACT PLASTICS CORPORATI",null,"Non-Container Audit","2021-04-30","2021-04-30","2188-21-0017-1",1200,14050,70255,14056,15612.22,54642.78,5854.58,54260,487.88,"P",null,101734,null,"Internal","A","SL",null,"WCNX",0,0,0,"Drop Boxes",4,2021,2033,2033.3333333333333,487.8819444444444,5854.583333333333,5854.583333333333,10245.520833333336,16100.104166666668,54154.895833333328,"No"]
[null,2188,251601,"P","HP ProBook 630 Serial # 5CD112SS94",1,null,null,null,0,"CDW",null,null,"2021-04-22","2021-04-22","2188-21-0019-1",300,14110,1297,14116,1152.8800000000001,144.11999999999989,432.33,70260,36.03,"P",null,"C183897",null,"Internal","A","SL",null,"WCNX",0,0,0,"Office Equipment",4,2021,2024,2024.3333333333333,36.027777777777779,432.33333333333337,432.33333333333337,756.58333333333337,1188.9166666666667,108.08333333333326,"No"]
[null,2188,250036,"P","1.5yd Metal REL Container",30,null,null,null,0,"RULE STEEL TANKS INC",null,"1.5 YD FEL/REL/SL Metal","2021-03-10","2021-03-10","2188-21-0015-1",1200,14050,17322.82,14056,4090.11,13232.71,1443.57,54260,120.3,"P",null,"0038793-IN",null,"Internal","A","SL",null,"WCNX",0,0,0,"Garbage Containers",3,2021,2033,2033.25,120.29736111111112,1443.5683333333334,1443.5683333333334,2646.5419444443341,4090.1102777776678,13232.709722222331,"No"]
[null,2188,250035,"P","1yd Metal REL Container",30,null,null,null,0,"RULE STEEL TANKS INC",null,"1 YD FEL/REL/SL Metal","2021-03-10","2021-03-10","2188-21-0015-1",1200,14050,16024.42,14056,3783.5,12240.92,1335.35,54260,111.28,"P",null,"0038793-IN",null,"Internal","A","SL",null,"WCNX",0,0,0,"Garbage Containers",3,2021,2033,2033.25,111.28069444444445,1335.3683333333333,1335.3683333333333,2448.1752777776765,3783.5436111110098,12240.87638888899,"No"]
[null,2188,247914,"P","65 Gallon Plast MSW totes",936,null,null,null,0,"REHRIG PACIFIC COMPANY IN",null,"Non-Container Audit","2021-02-26","2021-02-26","2188-21-0016-1",700,14050,39041.589999999997,14056,15802.53,23239.059999999998,5577.36,54260,464.78,"P",null,50151666,null,"Internal","A","SL",null,"WCNX",0,0,0,"Garbage Carts",2,2021,2028,2028.1666666666667,464.78083333333331,5577.37,5577.37,10689.95916666582,16267.329166665819,22774.260833334178,"No"]
[null,2188,247913,"P","95 Gallon Plastic MSW Totes",702,null,null,null,0,"REHRIG PACIFIC COMPANY IN",null,"Non-Container Audit","2021-02-26","2021-02-26","2188-21-0016-1",700,14050,33079.01,14056,13389.12,19689.89,4725.57,54260,393.8,"P",null,50151999,null,"Internal","A","SL",null,"WCNX",0,0,0,"Garbage Carts",2,2021,2028,2028.1666666666667,393.79773809523812,4725.5728571428572,4725.5728571428572,9057.3479761897615,13782.920833332619,19296.089166667385,"No"]
[null,2188,247391,212515,"Tommie Vaugh Rebate",null,null,null,null,0,null,null,"Non-Rolling Stock","2021-02-01","2021-02-01","2188-19-0006-1",806,14040,-300,14046,-102.94,-197.06,-35.299999999999997,51260,-2.94,"P",null,null,null,"Internal","A","SL",null,"WCNX",0,0,0,"Service Equipment",2,2021,2029.06,2029.2266666666667,-3.1017369727047144,-37.220843672456574,-37.220843672456574,-71.339950372204839,-108.56079404466141,-191.43920595533859,"No"]
[null,2188,246438,241522,"FEL Truck 2062 Decals",null,null,null,null,2020,"Big Truck Rental","McNeilus","Non-Rolling Stock","2021-01-01","2021-01-01","2188-20-0018-1",800,14040,952.16,14046,357.06,595.09999999999991,119.02,51260,9.92,"P",null,27893,null,"Internal","A","SL",null,"WCNX",0,0,2062,"Garbage",1,2021,2029,2029.0833333333333,9.918333333333333,119.02,119.02,238.03999999999996,357.05999999999995,595.1,"No"]
[null,2188,246437,242815,"ASL Truck 3714 Decals",null,null,null,null,0,"Larsen Sign Co.",null,"Non-Rolling Stock","2021-01-01","2021-01-01","2188-20-0010-1",1000,14040,984.62,14046,295.35000000000002,689.27,98.45,51260,8.1999999999999993,"P",null,27966,null,"Internal","A","SL",null,"WCNX",0,0,3714,"Garbage",1,2021,2031,2031.0833333333333,8.2051666666666669,98.462000000000003,98.462000000000003,196.92399999999998,295.38599999999997,689.23400000000004,"No"]
[null,2188,244671,241522,"License & Use Tax",null,null,null,null,2020,"Big Truck Rental","McNeilus","Non-Rolling Stock","2020-12-08","2020-12-08","2188-20-0018-1",800,14040,2442.65,14046,941.44,1501.21,305.33,51260,25.44,"P",null,"C33949V-5",null,"Internal","A","SL",null,"WCNX",0,0]
[null,2188,244670,241522,"License & Use Tax",null,null,null,null,2020,"Big Truck Rental","McNeilus","Non-Rolling Stock","2020-12-08","2020-12-08","2188-20-0018-1",800,14040,5150,14046,1984.9,3165.1,643.75,51260,53.65,"P",null,"C33949V-4",null,"Internal","A","SL",null,"WCNX",0,0]
[null,2188,244669,241522,"License & Use Tax",null,null,null,null,2020,"Big Truck Rental","McNeilus","Non-Rolling Stock","2020-12-08","2020-12-08","2188-20-0018-1",800,14040,5150,14046,1984.9,3165.1,643.75,51260,53.65,"P",null,"C33949V-3",null,"Internal","A","SL",null,"WCNX",0,0]
[null,2188,244668,241522,"License & Use Tax",null,null,null,null,2020,"Big Truck Rental","McNeilus","Non-Rolling Stock","2020-12-08","2020-12-08","2188-20-0018-1",800,14040,5150,14046,1984.9,3165.1,643.75,51260,53.65,"P",null,"C33949V-2",null,"Internal","A","SL",null,"WCNX",0,0]
[null,2188,244667,241522,"License & Use Tax",null,null,null,null,2020,"Big Truck Rental","McNeilus","Non-Rolling Stock","2020-12-08","2020-12-08","2188-20-0018-1",800,14040,5150,14046,1984.9,3165.1,643.75,51260,53.65,"P",null,"C33949V-1",null,"Internal","A","SL",null,"WCNX",0,0]
[null,2188,243140,"P","2Yd Commercial Container",27,null,null,null,0,null,null,"2 YD FEL/REL/SL Metal","2016-06-01","2016-06-01",null,700,14050,4050,14056,4050,0,241.08,54260,0,"A","Progressive Waste",null,null,"Internal","A","SL","2020-11-30","WCNX",0,2603.5700000000002]
[null,2188,243139,"p","2 YD FEL CONTAINER",28,null,null,null,0,0,null,"2 YD FEL/REL/SL Metal","2018-01-01","2018-01-01",null,500,14050,4760,14056,4760,0,0,54260,0,"A","Bay Disposal",null,null,"Internal","A","SL","2020-11-30","WCNX",0,2776.67]
[null,2188,242815,"P","2021 Peterbilt ASL Truck",null,null,"3BPDLK0X6MF110107",null,2021,"PETERBILT","LABRIE","Automated Sideload","2020-11-01","2020-11-01","2188-20-0010",1000,14040,367978.17,14046,116526.43,251451.74,36797.82,51260,3066.48,"P",null,null,3714,"Internal","A","SL",null,"WCNX",0,0]
[null,2188,241858,"P","20 yd RO Boxes",2,null,null,null,0,null,null,"20 YD RO Box","2019-11-01","2019-11-01","Container Audit Input",0,14050,0,14056,0,0,0,54260,0,"P",null,null,null,"Internal","A","NO",null,"WCNX",0,0]
[null,2188,241522,"P","2019 Peterbilt FEL Truck",null,null,"3BPDLJ0X2KF103193",null,2019,"PETERBILT","NCNEILUS","FEL Truck","2020-11-12","2020-11-12","2188-20-0018",800,14040,252000,14046,99750,{"$f":"S206-U206","v":152250},31500,51260,2625,"P",null,null,2062,"Internal","A","SL",null,"WCNX",0,0]
[null,2188,241361,"P","95 Gallon Recycle Totes",702,null,null,null,0,"REHRIG PACIFIC COMPANY IN",null,"Non-Container Audit","2020-11-12","2020-11-12","2188-20-0023-1",700,14050,32919.5,14056,14892.17,18027.330000000002,4702.79,54260,391.9,"P",null,50133182,null,"Internal","A","SL",null,"WCNX",0,0]
[null,2188,241360,"P","2yd Metal REL Containers",30,null,null,null,0,"RULE STEEL TANKS INC",null,"2 YD FEL/REL/SL Metal","2020-11-12","2020-11-12","2188-20-0020-1",1200,14050,19540.919999999998,14056,5156.51,14384.409999999998,1628.37,54260,135.69999999999999,"P",null,"0038340-IN",null,"Internal","A","SL",null,"WCNX",0,0]
[null,2188,240727,"P","HP SB Probook 600 Serial #MXL03932DY",null,null,null,null,0,"CDW",null,null,"2020-10-15","2020-10-15","2188-20-0022-1",300,14110,952.89,14116,952.89,0,238.22,70260,0,"P",null,2863283,null,"Internal","A","SL",null,"WCNX",0,0]
[null,2188,240303,"P","6 Yard Commercial Containers",6,null,null,null,0,null,null,"6 YD FEL/REL/SL Metal","2008-11-03","2008-11-03",null,700,14050,82.56,14056,82.56,0,0,54260,0,"A","LeMay Enterprises",null,null,"Internal","A","SL","2023-05-31","WCNX",2,82.56]
[null,2188,240301,"P","6 YD Container",6,null,null,null,0,null,null,null,"2008-11-03","2008-11-03",null,700,14050,512.19000000000005,14056,512.19000000000005,0,0,54260,0,"A","LeMay Enterprises",null,null,"Internal","A","SL","2022-04-30","WCNX",6,512.19000000000005]
[null,2188,240300,"P","1.5 Yard Commercial Containers",82,null,null,null,0,null,null,"1.5 YD FEL/REL/SL Metal","2008-11-03","2008-11-03",null,1200,14050,6872.43,14056,6872.43,0,0,54260,0,"A","LeMay Enterprises",null,null,"Internal","A","SL","2020-09-30","WCNX",0,6824.7]
[null,2188,239569,"P","(64) DriveCam SF300 Event Recorders",64,null,null,null,0,"Lytx",null,null,"2020-09-25","2020-09-25","2188-20-0021-1",500,14070,52119.42,14076,33877.61,18241.809999999998,10423.879999999999,51260,868.66,"P",null,5307142,null,"Internal","A","SL",null,"WCNX",0,0]
[null,2188,237939,"P","20 Yard R/O Containers",1,null,null,null,0,null,null,"20 YD RO Box","2008-11-03","2008-11-03",null,700,14050,1300,14056,1300,0,0,54260,0,"A","LeMay Enterprises",null,null,"Internal","A","SL","2020-08-31","WCNX",0,1300]
[null,2188,237938,"P","3 Yard Commercial Containers",1,null,null,null,0,null,null,"3 YD FEL/REL/SL Metal","2008-11-03","2008-11-03",null,1200,14050,185,14056,185,0,0,54260,0,"A","LeMay Enterprises",null,null,"Internal","A","SL","2020-08-31","WCNX",4,182.43]
[null,2188,237937,"P","2 Yard REL Containers",16,null,null,null,0,null,null,"2 YD FEL/REL/SL Metal","2001-07-01","2001-07-01",null,600,14050,1016.6,14056,1016.6,0,0,54260,0,"A","Mason County",null,null,"Internal","A","SL","2020-08-31","WCNX",2,1016.6]
[null,2188,237697,"P","24 Yard R/O Container",1,null,null,null,0,null,null,"24 YD RO Box","2008-11-03","2008-11-03",null,700,14050,12700,14056,12700,0,0,54260,0,"A","LeMay Enterprises",null,null,"Internal","A","SL","2020-08-31","WCNX",0,12700]
[null,2188,237696,"P","3 Yard Commercial Containers (plastic)",3,null,null,null,0,"REHRIG PACIFIC COMPANY-LA",null,"3 YD FEL/REL/SL Plastic","2010-06-17","2010-06-17","2186-10-0005-1",700,14050,2104.0500000000002,14056,2104.0500000000002,0,0,54260,0,"P",null,"AT126953",null,"Internal","A","SL","2020-08-31","WCNX",0,2104.0500000000002]
[null,2188,237695,"P","2 Yard Commercial Containers (plastic)",5,null,null,null,0,"REHRIG PACIFIC COMPANY-LA",null,"2 YD FEL/REL/SL Metal","2010-06-17","2010-06-17","2183-10-0013-1",700,14050,2741.65,14056,2741.65,0,0,54260,0,"P",null,"LA126950",null,"Internal","A","SL","2020-08-31","WCNX",0,2741.65]
[null,2188,237694,"P","1.5 Yard Commercial Containers",20,null,null,null,0,null,null,"1.5 YD FEL/REL/SL Metal","2008-11-03","2008-11-03",null,1200,14050,2391.71,14056,2391.71,0,0,54260,0,"A","LeMay Enterprises",null,null,"Internal","A","SL","2020-08-31","WCNX",0,2358.4899999999998]
[null,2188,237693,"P","20 yard boxes",2,null,0,null,0,"CAPITAL INDUSTRIES, INC.",null,"20 YD RO Box","2006-11-30","2006-11-30","06-2144-400",1200,14050,9987.84,14056,9987.84,0,0,54260,0,"P",null,18435,null,"Internal","A","SL","2020-08-31","WCNX",0,9987.84]
[null,2188,237692,"P","20 yard boxes",2,null,0,null,0,"CAPITAL INDUSTRIES, INC.",null,"20 YD RO Box","2006-11-30","2006-11-30","06-2144-400",1200,14050,9987.84,14056,9987.84,0,0,54260,0,"P",null,18434,null,"Internal","A","SL","2020-08-31","WCNX",0,9987.84]
[null,2188,237691,"P","20 yard boxes",2,null,0,null,0,"CAPITAL INDUSTRIES, INC.",null,"20 YD RO Box","2006-11-30","2006-11-30","06-2144-400",1200,14050,9987.84,14056,9987.84,0,0,54260,0,"P",null,18438,null,"Internal","A","SL","2020-08-31","WCNX",0,9987.84]
[null,2188,237690,"P","20 yard boxes",2,null,0,null,0,"CAPITAL INDUSTRIES, INC.",null,"20 YD RO Box","2006-11-30","2006-11-30","06-2144-400",1200,14050,9987.84,14056,9987.84,0,0,54260,0,"P",null,18437,null,"Internal","A","SL","2020-08-31","WCNX",0,9987.84]
[null,2188,237689,"P","20 yard boxes",4,null,0,null,0,"CAPITAL INDUSTRIES, INC.",null,"20 YD RO Box","2006-12-14","2006-12-14","06-2144-402",1200,14050,19975.68,14056,19975.68,0,0,54260,0,"P",null,174410000,null,"Internal","A","SL","2022-04-30","WCNX",1,19975.68]
[null,2188,237688,"P","20 yard boxes",1,null,0,null,0,"CASCADE CONTAINER-FAB COM",null,"20 YD RO Box","2006-10-23","2006-10-23","06-2144-015",1200,14050,4927.2,14056,4927.2,0,0,54260,0,"P",null,2502685,null,"Internal","A","SL","2020-08-31","WCNX",0,4927.2]
[null,2188,237479,"P","65gal MSW Totes",468,null,null,null,0,"REHRIG PACIFIC COMPANY IN",null,"Non-Container Audit","2020-08-31","2020-08-31","2188-20-0019-1",700,14050,17186.400000000001,14056,8184,9002.4000000000015,2455.1999999999998,54260,204.6,"P",null,50119284,null,"Internal","A","SL",null,"WCNX",0,0]
[null,2188,237478,"P","95gal YDW Totes",117,null,null,null,0,"REHRIG PACIFIC COMPANY IN",null,"Non-Container Audit","2020-08-31","2020-08-31","2188-20-0019-1",700,14050,5005.53,14056,2383.6,2621.93,715.08,54260,59.59,"P",null,50119284,null,"Internal","A","SL",null,"WCNX",0,0]
[null,2188,237477,"P","95gal MSW Totes",234,null,null,null,0,"REHRIG PACIFIC COMPANY IN",null,"Non-Container Audit","2020-08-31","2020-08-31","2188-20-0019-1",700,14050,10011.049999999999,14056,4767.17,5243.8799999999992,1430.15,54260,119.18,"P",null,50119284,null,"Internal","A","SL",null,"WCNX",0,0]
[null,2188,237328,"P","3Yd REL Metal Containers",10,null,null,"94-3283464",0,"CAPITAL INDUSTRIES INC",null,"3 YD FEL/REL/SL Metal","2020-07-23","2020-07-23","2188-20-0016-1",1200,14050,6181.1,14056,1759.85,4421.25,515.08000000000004,54260,42.92,"P",null,162046,null,"Internal","A","SL",null,"WCNX",0,0]
[null,2188,235564,"P","65 Gallon MSW Tote",936,null,null,null,0,"REHRIG PACIFIC COMPANY IN",null,"Non-Container Audit","2020-06-30","2020-06-30","2188-20-0017-1",700,14050,33572.730000000003,14056,16786.38,16786.350000000002,4796.1099999999997,54260,399.68,"P",null,50107049,null,"Internal","A","SL",null,"WCNX",0,0]
[null,2188,235563,"P","1yd REL Metal Containers",23,null,null,null,0,"CAPITAL INDUSTRIES INC",null,"1 YD FEL/REL/SL Metal","2020-07-23","2020-07-23","2188-20-0016-1",1200,14050,12194.14,14056,3471.95,8722.1899999999987,1016.18,54260,84.68,"P",null,161367,null,"Internal","A","SL",null,"WCNX",0,0]
[null,2188,235562,"P","1yd REL Metal Containers",7,null,null,null,0,"CAPITAL INDUSTRIES INC",null,"1 YD FEL/REL/SL Metal","2020-07-23","2020-07-23","2188-20-0016-1",1200,14050,3711.26,14056,1056.6300000000001,2654.63,309.26,54260,25.77,"P",null,161376,null,"Internal","A","SL",null,"WCNX",0,0]
[null,2188,234955,"P","95 Gallon Yardwaste Containers",250,null,null,null,0,"REHRIG PACIFIC COMPANY IN",null,"Non-Container Audit","2020-06-30","2020-06-30","2188-20-0017-1",700,14050,10143.74,14056,5071.88,5071.8599999999997,1449.11,54260,120.76,"P",null,50107506,null,"Internal","A","SL",null,"WCNX",0,0]
[null,2188,234954,"P","95 Gallon Recycle Containers",452,null,null,null,0,"REHRIG PACIFIC COMPANY IN",null,"Non-Container Audit","2020-06-30","2020-06-30","2188-20-0017-1",700,14050,19220.22,14056,9610.11,9610.11,2745.75,54260,228.81,"P",null,50107506,null,"Internal","A","SL",null,"WCNX",0,0]
[null,2188,234953,"P","2yd REL Metal Containers",25,null,null,null,0,"CAPITAL INDUSTRIES INC",null,"2 YD FEL/REL/SL Metal","2020-06-30","2020-06-30","2188-20-0016-1",1200,14050,13930.75,14056,4063.15,9867.6,1160.9000000000001,54260,96.74,"P",null,161012,null,"Internal","A","SL",null,"WCNX",0,0]
[null,2188,234514,232998,"Decals",null,null,null,null,0,"LARSEN SIGN COMPANY",null,"Non-Rolling Stock","2020-05-01","2020-05-01","2188-20-0012-1",1000,14040,843.96,14046,309.45999999999998,534.5,84.4,51260,7.03,"P",null,27050,null,"Internal","A","SL",null,"WCNX",0,0]
[null,2188,234069,"P","65 Gallon Refuse Containers",442,null,null,null,0,"REHRIG PACIFIC COMPANY IN",null,"Non-Container Audit","2020-04-24","2020-04-24","2188-20-0014-1",700,14050,16183.78,14056,8477.2199999999993,7706.5600000000013,2311.9699999999998,54260,192.66,"P",null,50093521,null,"Internal","A","SL",null,"WCNX",0,0]
[null,2188,234068,"P","95 Gallon Refuse Containers",325,null,null,null,0,"REHRIG PACIFIC COMPANY IN",null,"Non-Container Audit","2020-04-24","2020-04-24","2188-20-0014-1",700,14050,13763.58,14056,7209.51,6554.07,1966.23,54260,163.85,"P",null,50093521,null,"Internal","A","SL",null,"WCNX",0,0]
[null,2188,232998,"P","2020 Peterbilt REL Truck",null,null,"3BPDLK0X1LF109509",null,2020,"PETERBILT","LABRIE","REL Truck","2020-05-01","2020-05-01","2188-20-0012",1000,14040,312121.17,14046,114444.44,197676.72999999998,31212.12,51260,2601.0100000000002,"P",null,null,1089,"Internal","A","SL",null,"WCNX",0,0]
[null,2188,232358,90441,"Cap Repair: Truck 3543",null,null,null,null,0,"RWC",null,"Non-Rolling Stock","2020-04-23","2020-04-23","2188-20-0015-1",300,14040,-79.22,14046,-79.22,0,-8.84,51260,0,"P",null,"1188413 Updated",null,"Internal","A","SL",null,"WCNX",0,0]
[null,2188,232184,90441,"Cap Repair: Truck 3543",null,null,null,null,0,"RWC Group",null,"Non-Rolling Stock","2020-04-23","2020-04-23","2188-20-0015-1",300,14040,33092.15,14046,33092.15,0,3676.9,51260,0,"P",null,1188413,null,"Internal","A","SL",null,"WCNX",0,0]
[null,2188,230534,"P","HV/AC System",null,null,null,null,0,"CHEHALIS SHEET METAL & RO",null,null,"2020-03-24","2020-03-24","2188-20-0004-1",1000,14080,34245.300000000003,14086,12841.99,21403.310000000005,3424.53,57260,285.38,"P",null,44020,null,"Internal","A","SL",null,"WCNX",0,0]
[null,2188,229087,225451,"Truck Vinyls",null,null,null,null,0,"Larsen Sign Company",null,"Non-Rolling Stock","2020-01-01","2020-01-01","2188-19-0001-1",1000,14040,984.62,14046,393.8,590.81999999999994,98.45,51260,8.1999999999999993,"P",null,26388,null,"Internal","A","SL",null,"WCNX",0,0]
[null,2188,225988,223833,"Decals",null,null,null,null,0,"Larsen Sign Company",null,"Non-Rolling Stock","2019-11-30","2019-11-30","2188-19-0007-1",1000,14040,843.96,14046,344.63,499.33000000000004,84.4,51260,7.03,"P",null,26202,null,"Internal","A","SL",null,"WCNX",0,0]
[null,2188,225452,"P","2020 Peterbilt ASL Truck",null,null,"3BPDLK0X4LF107432",null,2020,"peterbilt","labrie","Automated Sideload","2019-12-31","2019-12-31","2188-19-0002",1000,14040,364924.22,14046,145969.68,218954.53999999998,36492.42,51260,3041.03,"P",null,null,3702,"Internal","A","SL",null,"WCNX",0,0]
[null,2188,225451,"P","2020 Peterbilt ASL Truck",null,null,"3BPDLK0X1LF107422",null,2020,"peterbilt","labrie","Automated Sideload","2019-12-31","2019-12-31","2188-19-0001",1000,14040,364924.22,14046,145969.68,218954.53999999998,36492.42,51260,3041.03,"P",null,null,3701,"Internal","A","SL",null,"WCNX",0,0]
[null,2188,225392,"P","20Yd RO Metal Containers",6,null,null,null,0,"RULE STEEL TANKS INC",null,"20 YD RO Box","2019-12-05","2019-12-05","2188-19-0015-1",1200,14050,33967.300000000003,14056,11558.32,22408.980000000003,2830.61,54260,235.88,"P",null,"0036972IN",null,"Internal","A","SL",null,"WCNX",0,0]
[null,2188,225391,"P","2Yd REL Metal Containers",40,null,null,null,0,"RULE STEEL TANKS INC",null,"2 YD FEL/REL/SL Metal","2019-12-05","2019-12-05","2188-19-0015-1",1200,14050,26713.17,14056,9089.91,17623.259999999998,2226.1,54260,185.51,"P",null,"0036972IN",null,"Internal","A","SL",null,"WCNX",0,0]
[null,2188,223833,"P","2020 Peterbilt REL Truck",null,null,"3BPDLK0X4LF107415",null,2020,"peterbilt","labrie","REL Truck","2019-11-01","2019-11-01","2188-19-0007",1000,14040,304103.06,14046,126709.63,177393.43,30410.31,51260,2534.19,"P",null,null,1084,"Internal","A","SL",null,"WCNX",0,0]
[null,2188,222255,"P","Clean Burn Shop Heater",null,null,null,null,0,"NW Environmental & Equipm",null,null,"2019-10-31","2019-10-31","2188-19-0016-1",500,14070,11256.05,14076,9380.0400000000009,1876.0099999999984,2251.21,51260,187.6,"P",null,13546,null,"Internal","A","SL",null,"WCNX",0,0]
[null,2188,221165,"P","1.5 Yard Commercial Containers",46,null,null,null,0,null,null,"1.5 YD FEL/REL/SL Metal","2008-11-03","2008-11-03",null,1200,14050,5404.94,14056,5404.94,0,0,54260,0,"A","LeMay Enterprises",null,null,"Internal","A","SL","2019-09-30","WCNX",2,4917.01]
[null,2188,219605,"P","65gal MSW Container",936,null,null,null,0,"REHRIG PACIFIC COMPANY IN",null,null,"2019-08-15","2019-08-15","2188-19-0014-1",700,14050,41806.410000000003,14056,26377.88,15428.530000000002,5972.35,54260,497.7,"P",null,50040304,null,"Internal","A","SL",null,"WCNX",0,0]
[null,2188,219403,217463,"Mobile Radio",null,null,null,null,2019,".",".","Non-Rolling Stock","2019-09-01","2019-09-01","2188-19-0013-1",900,14040,681.66,14046,328.21,353.45,75.739999999999995,51260,6.31,"P",null,4129,null,"Internal","A","SL",null,"WCNX",0,0]
[null,2188,218958,"P","95 Gallon Reycle Containers",702,null,null,null,0,"REHRIG PACIFIC COMPANY IN",null,null,"2019-08-15","2019-08-15","2188-19-0014-1",700,14050,34719.67,14056,21906.45,12813.219999999998,4959.95,54260,413.33,"P",null,50038246,null,"Internal","A","SL",null,"WCNX",0,0]
[null,2188,218576,"P","40Yd Metal Containers and Lids",10,null,null,null,0,"RULE STEEL TANKS INC",null,"40 YD RO Box","2019-07-23","2019-07-23","2188-19-0010-1",1200,14050,76118.570000000007,14056,28015.85,48102.720000000008,6343.21,54260,528.6,"P",null,"0036393-IN",null,"Internal","A","SL",null,"WCNX",0,0]
[null,2188,218575,"P","2Yd Metal Containers",25,null,null,null,0,"RULE STEEL TANKS INC",null,"2 YD FEL/REL/SL Metal","2019-07-23","2019-07-23","2188-19-0010-1",1200,14050,16496.64,14056,6071.68,10424.959999999999,1374.72,54260,114.56,"P",null,"0036393-IN",null,"Internal","A","SL",null,"WCNX",0,0]
[null,2188,218574,"P","1.5Yd Metal Containers",20,null,null,null,0,"RULE STEEL TANKS INC",null,"1.5 YD FEL/REL/SL Metal","2019-07-23","2019-07-23","2188-19-0010-1",1200,14050,11292.99,14056,4156.4399999999996,7136.55,941.08,54260,78.42,"P",null,"0036393-IN",null,"Internal","A","SL",null,"WCNX",0,0]
[null,2188,218573,"P","1Yd Metal Containers",30,null,null,null,0,"RULE STEEL TANKS INC",null,"1 YD FEL/REL/SL Metal","2019-07-23","2019-07-23","2188-19-0010-1",1200,14050,15738.46,14056,5792.64,9945.82,1311.54,54260,109.29,"P",null,"0036393-IN",null,"Internal","A","SL",null,"WCNX",0,0]
[null,2188,218572,"P","6Yd Metal Containers",10,null,null,null,0,"RULE STEEL TANKS INC",null,"6 YD FEL/REL/SL Metal","2019-07-23","2019-07-23","2188-19-0010-1",1200,14050,8816.75,14056,3245.06,5571.6900000000005,734.73,54260,61.23,"P",null,"0036393-IN",null,"Internal","A","SL",null,"WCNX",0,0]
[null,2188,218571,"P","4Yd Metal Containers",20,null,null,null,0,"RULE STEEL TANKS INC",null,"4 YD FEL/REL/SL Metal","2019-07-23","2019-07-23","2188-19-0010-1",1200,14050,12829.43,14056,4721.95,8107.4800000000005,1069.1199999999999,54260,89.09,"P",null,"0036393-IN",null,"Internal","A","SL",null,"WCNX",0,0]
[null,2188,218570,"P","3Yd Metal Containers",25,null,null,null,0,"RULE STEEL TANKS INC",null,"3 YD FEL/REL/SL Metal","2019-07-23","2019-07-23","2188-19-0010-1",1200,14050,15225.29,14056,5603.78,9621.510000000002,1268.78,54260,105.73,"P",null,"0036393-IN",null,"Internal","A","SL",null,"WCNX",0,0]
[null,2188,218453,"P","Shop Diagnostic Laptop",null,null,null,null,0,"CUMMINS NORTHWEST LLC",null,null,"2019-05-29","2019-05-29","2188-19-0012-1",300,14110,338.68,14116,338.68,0,0,70260,0,"P",null,"D6-51403",null,"Internal","A","SL",null,"WCNX",0,0]
[null,2188,217463,"P","New 2019 REL Truck",null,null,"3ALHCYFE0KDKL6433",null,2019,"freightlner","labrie","REL Truck","2019-07-31","2019-07-31","2188-19-0013-1",900,14040,217213.1,14046,106595.27,110617.83,24134.78,51260,2011.23,"P",null,null,1082,"Internal","A","SL",null,"WCNX",0,0]
[null,2188,216678,212515,"License",null,null,null,null,0,"WA DOL",null,"Non-Rolling Stock","2019-06-18","2019-06-18","2188-19-0006-1",300,14040,2188.5100000000002,14046,2188.5100000000002,0,0,51260,0,"P",null,53119,null,"Internal","A","SL",null,"WCNX",0,0]
[null,2188,216402,"P","Shop Diagnostic Laptop - Detroit DDL software",null,null,null,null,0,"NOREGON SYSTEMS INC",null,null,"2019-05-29","2019-05-29","2188-19-0012-1",300,14110,2563.37,14116,2563.37,0,0,70260,0,"P",null,200959,null,"Internal","A","SL",null,"WCNX",0,0]
[null,2188,215660,212515,"New Ford F150 Supervisor Truck - Radio",null,null,null,null,0,"WHISLER COMMUNICATIONS",null,"Non-Rolling Stock","2019-06-18","2019-06-18","2188-19-0006-1",300,14040,681.66,14046,681.66,0,0,51260,0,"P",null,3937,null,"Internal","A","SL",null,"WCNX",0,0]
[null,2188,214376,"P","Panasonic Toughbook 54 Lite Shop Diagnostic Laptop",null,null,null,null,0,"CDW",null,null,"2019-05-29","2019-05-29","2188-19-0012-1",300,14110,1547.86,14116,1547.86,0,0,70260,0,"P",null,"SCV6690 // SBB0433",null,"Internal","A","SL",null,"WCNX",0,0]
[null,2188,214017,"P","65 Gallon MSW Container",648,null,null,null,0,"REHRIG PACIFIC COMPANY IN",null,null,"2019-05-03","2019-05-03","2188-19-0011-1",700,14050,28942.89,14056,19295.27,9647.619999999999,4134.7,54260,344.56,"P",null,50023493,null,"Internal","A","SL",null,"WCNX",0,0]
[null,2188,212515,"P","2019 Ford F150 Supervisor Truck",null,null,"1FTMF1CB2KKD06904",null,2019,"FORD",null,"Pick Up Truck","2019-04-30","2019-04-30","2188-19-0006-1",500,14040,23642.44,14046,22066.29,{"$f":"S270-U270","v":1576.1499999999978},4728.49,51260,394.04,"P",null,378265,6061,"Internal","A","SL",null,"WCNX",0,0]
[null,2188,211016,"P","95 Gallon Recycle Containers",210,null,null,null,0,"Rehrig Pacific Company In",null,null,"2019-02-01","2019-02-01","2188-19-0008-1",700,14050,11167.87,14056,7843.91,3323.9600000000009,1595.37,54260,132.94999999999999,"P",null,"LA229591",null,"Internal","A","SL",null,"WCNX",0,0]
[null,2188,211015,"P","95 Gallon Refuse Containers",492,null,null,null,0,"Rehrig Pacific Company In",null,null,"2019-02-01","2019-02-01","2188-19-0008-1",700,14050,25206.49,14056,17704.57,7501.9200000000019,3600.93,54260,300.08,"P",null,"LA229590R",null,"Internal","A","SL",null,"WCNX",0,0]
[null,2188,210514,"P","HP ProBook 650 G4",null,null,null,null,0,"Cdw",null,null,"2019-01-24","2019-01-24","2188-19-0009-1",300,14110,1670.96,14116,1670.96,0,0,70260,0,"P",null,"QVD9379",null,"Internal","A","SL",null,"WCNX",0,0]
[null,2188,210350,"P","65 Gallon Refuse Containers",580,null,null,null,0,"REHRIG PACIFIC COMPANY IN",null,null,"2019-02-01","2019-02-01","2188-19-0008-1",700,14050,26326.15,14056,18490.990000000002,7835.16,3760.88,54260,313.41000000000003,"P",null,"LA229423",null,"Internal","A","SL",null,"WCNX",0,0]
[null,2188,210349,"P","35 Gallon Refuse Containers",112,null,null,null,0,"REHRIG PACIFIC COMPANY IN",null,null,"2019-02-01","2019-02-01","2188-19-0008-1",700,14050,4122.68,14056,2895.72,1226.9600000000005,588.96,54260,49.08,"P",null,"LA229424",null,"Internal","A","SL",null,"WCNX",0,0]
[null,2188,207703,203826,"Decals on Truck 3688",null,null,null,null,0,"Larsen Sign Company",null,"Non-Rolling Stock","2018-09-28","2018-09-28","2188-18-0005-1",1000,14040,1071.18,14046,562.38,508.80000000000007,107.12,51260,8.93,"P",null,24409,null,"Internal","A","SL",null,"WCNX",0,0]
[null,2188,206421,"P","30yd RO Containers",1,null,null,null,0,"ENVIRONMENTAL METAL WORKS",null,"30 YD RO Box","2018-11-15","2018-11-15","2188-18-0014-1",1200,14050,8889.07,14056,3827.26,5061.8099999999995,740.76,54260,61.73,"P",null,"IN007317-C",null,"Internal","A","SL",null,"WCNX",0,0]
[null,2188,206420,"P","2yd Metal Containers",16,null,null,null,0,"ENVIRONMENTAL METAL WORKS",null,"2 YD FEL/REL/SL Metal","2018-11-02","2018-11-02","2188-18-0014-1",1200,14050,10069.18,14056,4335.3500000000004,5733.83,839.1,54260,69.92,"P",null,"IN007317-B",null,"Internal","A","SL",null,"WCNX",0,0]
[null,2188,206419,"P","30yd RO Container",4,null,null,null,0,"ENVIRONMENTAL METAL WORKS",null,"30 YD RO Box","2018-11-02","2018-11-02","2188-18-0014-1",1200,14050,28508.71,14056,12274.61,16234.099999999999,2375.73,54260,197.98,"P",null,"IN007317",null,"Internal","A","SL",null,"WCNX",0,0]
[null,2188,206418,"P","2YD Metal Container",10,null,null,null,0,"ENVIRONMENTAL METAL WORKS",null,"2 YD FEL/REL/SL Metal","2018-11-02","2018-11-02","2188-18-0014-1",1200,14050,7057.39,14056,3038.62,4018.7700000000004,588.12,54260,49.01,"P",null,"IN007317",null,"Internal","A","SL",null,"WCNX",0,0]
[null,2188,206417,"P","2YD Metal OCC Container",10,null,null,null,0,"ENVIRONMENTAL METAL WORKS",null,"2 YD FEL/REL/SL Metal","2018-11-02","2018-11-02","2188-18-0014-1",1200,14050,8441.24,14056,3634.44,4806.7999999999993,703.44,54260,58.62,"P",null,"IN007317",null,"Internal","A","SL",null,"WCNX",0,0]
[null,2188,204912,202837,"Decals",null,null,null,null,0,"LARSEN SIGN CO",null,"Non-Rolling Stock","2018-09-30","2018-09-30","2188-18-0004-1",1000,14040,1071.18,14046,562.38,508.80000000000007,107.12,51260,8.93,"P",null,24300,null,"Internal","A","SL",null,"WCNX",0,0]
[null,2188,203826,"P","2019 ASL Truck",null,null,"3BPDL70X6KF103958",null,2019,"peterbilt","Labrie","Automated Sideload","2018-10-12","2018-10-12","2188-18-0005-1",1000,14040,336943.72,14046,176895.38,160048.33999999997,33694.36,51260,2807.86,"P",null,9934,3688,"Internal","A","SL",null,"WCNX",0,0]
[null,2188,203026,"P","95 Gallon Recycle Container",702,null,null,null,0,"REHRIG PACIFIC COMPANY IN",null,null,"2018-08-08","2018-08-08","2188-18-0013-1",700,14050,35065.480000000003,14056,27134.03,7931.4500000000044,5009.3599999999997,54260,417.45,"P",null,"LA225311",null,"Internal","A","SL",null,"WCNX",0,0]
[null,2188,202946,"P","95 Gallon Refuse Container",351,null,null,null,0,"REHRIG PACIFIC COMPANY IN",null,null,"2018-08-08","2018-08-08","2188-18-0013-1",700,14050,21048.63,14056,16287.65,4760.9800000000014,3006.95,54260,250.58,"P",null,"LA225257",null,"Internal","A","SL",null,"WCNX",0,0]
[null,2188,202945,"P","95 Gallon Yardwaste Container",351,null,null,null,0,"REHRIG PACIFIC COMPANY IN",null,null,"2018-08-08","2018-08-08","2188-18-0013-1",700,14050,17450.98,14056,13503.75,3947.2299999999996,2493,54260,207.75,"P",null,"LA225258",null,"Internal","A","SL",null,"WCNX",0,0]
[null,2188,202837,"P","2019 ASL Truck",null,null,"3BPDL70X6KF103961",null,2019,"peterbilt","Labrie","Automated Sideload","2018-09-30","2018-09-30","2188-18-0004-1",1000,14040,337246.78,14046,177054.57,160192.21000000002,33724.68,51260,2810.39,"P",null,9740,3684,"Internal","A","SL",null,"WCNX",0,0]
[null,2188,202196,"P","65 Gallon Refuse Container",648,null,null,null,0,"REHRIG PACIFIC COMPANY IN",null,null,"2018-08-08","2018-08-08","2188-18-0013-1",700,14050,32253.07,14056,24957.73,7295.34,4607.58,54260,383.96,"P",null,"LA225124",null,"Internal","A","SL",null,"WCNX",0,0]
[null,2188,200837,"P","2YD Containers",381,null,null,null,0,null,null,"2 YD FEL/REL/SL Metal","2008-11-03","2008-11-03",null,700,14050,26144.22,14056,26144.22,0,0,54260,0,"A","LeMay Enterprises",null,null,"Internal","A","SL","2018-06-30","WCNX",0,26144.22]
[null,2188,200836,"P","1YD Containers",24,null,null,null,0,null,null,"1 YD FEL/REL/SL Metal","2008-11-03","2008-11-03",null,700,14050,1646.88,14056,1646.88,0,0,54260,0,"A","LeMay Enterprises",null,null,"Internal","A","SL","2021-07-31","WCNX",1,1646.88]
[null,2188,200835,"P","30YD Containers",56,null,null,null,0,null,null,"30 YD RO Box","2008-11-03","2008-11-03",null,700,14050,35040,14056,35040,0,0,54260,0,"A","LeMay Enterprises",null,null,"Internal","A","SL","2018-06-30","WCNX",0,35040]
[null,2188,200603,"P","4 YD Containers",6,null,null,null,0,"RULE STEEL TANKS INC",null,"4 YD FEL/REL/SL Metal","2011-11-08","2011-11-08","2188-11-0012-1",1200,14050,3195.6,14056,3195.6,0,221.91,54260,0,"P",null,"0007942-IN",null,"Internal","A","SL","2018-06-30","WCNX",0,1775.34]
[null,2188,200602,"P","3YD Containers",49,null,null,null,0,null,null,"3 YD FEL/REL/SL Metal","2008-11-03","2008-11-03",null,700,14050,2352,14056,2352,0,0,54260,0,"A","LeMay Enterprises",null,null,"Internal","A","SL","2018-06-30","WCNX",2,2352]
[null,2188,200598,"P","2 Yd Cubic Yard FEL Containers",5,null,null,null,0,"Rule Steal",null,"2 YD FEL/REL/SL Metal","2012-01-31","2012-01-31","2188-12-0008-1",1200,14050,2990.55,14056,2969.77,20.7800000000002,249.21,54260,20.77,"P",null,7943,null,"Internal","A","SL","2018-06-30","WCNX",0,1599.12]
[null,2188,200597,"P","2 YD Containers",10,null,null,null,0,"RULE STEEL TANKS INC",null,"2 YD FEL/REL/SL Metal","2011-11-08","2011-11-08","2188-11-0012-1",1200,14050,5326,14056,5326,0,369.87,54260,0,"P",null,"0007942-IN",null,"Internal","A","SL","2018-06-30","WCNX",0,2958.9]
[null,2188,200596,"P","2Yd Containers",21,null,null,null,0,null,null,"2 YD FEL/REL/SL Metal","2008-11-03","2008-11-03",null,700,14050,1008,14056,1008,0,0,54260,0,"A","LeMay Enterprises",null,null,"Internal","A","SL","2018-06-30","WCNX",2,1008]
[null,2188,200595,"P","40YD Containers",61,null,null,null,0,null,null,"40 YD RO Box","2008-11-03","2008-11-03",null,700,14050,9753.9599999999991,14056,9753.9599999999991,0,0,54260,0,"A","LeMay Enterprises",null,null,"Internal","A","SL","2022-04-30","WCNX",5,9753.9599999999991]
[null,2188,200592,"P","1.5YD Containers",3,null,null,null,0,"Rule Steal",null,"1.5 YD FEL/REL/SL Metal","2012-01-31","2012-01-31","2188-12-0008-1",1200,14050,1794.33,14056,1781.89,12.439999999999827,149.53,54260,12.46,"P",null,7943,null,"Internal","A","SL","2018-06-30","WCNX",0,959.48]
[null,2188,200591,"P","1.5 YD Containers",7,null,null,null,0,"RULE STEEL TANKS INC",null,"1.5 YD FEL/REL/SL Metal","2011-11-08","2011-11-08","2188-11-0012-1",1200,14050,3728.2,14056,3728.2,0,258.91000000000003,54260,0,"P",null,"0007942-IN",null,"Internal","A","SL","2018-06-30","WCNX",0,2071.23]
[null,2188,200580,"P","1 yd Containers for Chehalis",80,null,null,null,0,"RULE STEEL TANKS INC",null,"1 YD FEL/REL/SL Metal","2010-01-01","2010-01-01","2189-9-0008-1",1200,14050,35644,14056,35644,0,0,54260,0,"P",null,"0003212-IN",null,"Internal","A","SL","2018-06-30","WCNX",0,25247.85]
[null,2188,200579,"P","1 YD Containers",4,null,null,null,0,"Rule Steal",null,"1 YD FEL/REL/SL Metal","2012-01-31","2012-01-31","2188-12-0008-1",1200,14050,2392.48,14056,2375.85,16.630000000000109,199.37,54260,16.61,"P",null,7943,null,"Internal","A","SL","2018-06-30","WCNX",0,1279.32]
[null,2188,200578,"P","1 YD Containers",8,null,null,null,0,"RULE STEEL TANKS INC",null,"1 YD FEL/REL/SL Metal","2011-11-08","2011-11-08","2188-11-0012-1",1200,14050,4260.8,14056,4260.8,0,295.87,54260,0,"P",null,"0007942-IN",null,"Internal","A","SL","2018-06-30","WCNX",0,2367.12]
[null,2188,200577,"P","1YD Containers",568,null,null,null,0,null,null,"1 YD FEL/REL/SL Metal","2008-11-03","2008-11-03",null,700,14050,27264,14056,27264,0,0,54260,0,"A","LeMay Enterprises",null,null,"Internal","A","SL","2021-07-31","WCNX",5,27264]
[null,2188,200576,"P","20 YD Containers",56,null,null,null,0,null,null,"20 YD RO Box","2008-11-03","2008-11-03",null,700,14050,7848.96,14056,7848.96,0,0,54260,0,"A","LeMay Enterprises",null,null,"Internal","A","SL","2022-04-30","WCNX",3,7848.96]
[null,2188,200354,61382,"Cap Repair: Engine Repair Truck 2019",null,null,null,null,0,"NC MACHINERY CO",null,"Non-Rolling Stock","2018-06-20","2018-06-20","2188-18-0012-1",300,14040,35182.239999999998,14046,35182.239999999998,0,0,51260,0,"P",null,"CH60161",null,"Internal","A","SL",null,"WCNX",0,0]
[null,2188,198695,"P","2Yd Metal Containers",30,null,null,null,0,"ENVIRONMENTAL METAL WORKS",null,"2 YD FEL/REL/SL Metal","2018-04-18","2018-04-18","2188-18-0011-1",1200,14050,17172.21,14056,8109.11,9063.0999999999985,1431.02,54260,119.25,"P",null,"IN006792-A",null,"Internal","A","SL",null,"WCNX",0,0]
[null,2188,198694,"P","1Yd Metal Containers",40,null,null,null,0,"ENVIRONMENTAL METAL WORKS",null,"1 YD FEL/REL/SL Metal","2018-05-07","2018-05-07","2188-18-0011-1",1200,14050,21642.89,14056,10220.280000000001,11422.609999999999,1803.58,54260,150.30000000000001,"P",null,"IN006792-A",null,"Internal","A","SL",null,"WCNX",0,0]
[null,2188,198077,"P","2 Yard Commercial Containers",30,null,null,null,0,null,null,"2 YD FEL/REL/SL Metal","2008-11-03","2008-11-03",null,1200,14050,1867.5,14056,1867.5,0,0,54260,0,"A","LeMay Enterprises",null,null,"Internal","A","SL","2018-05-31","WCNX",0,1491.4]
[null,2188,197275,"P","6yd FL Containers",20,null,null,null,0,"ENVIRONMENTAL METAL WORKS",null,"6 YD FEL/REL/SL Metal","2018-04-18","2018-04-18","2188-18-0011-1",1200,14050,17684.02,14056,8350.7999999999993,9333.2200000000012,1473.67,54260,122.81,"P",null,"IN006792",null,"Internal","A","SL",null,"WCNX",0,0]
[null,2188,195384,"P","2000 Type H Drop R/O",0,null,"2HTCEAMR6YC073586",null,2000,"International","Helm","R/O Truck","2008-11-03","2008-11-03",null,300,14040,41500,14046,41500,0,0,51260,0,"A","LeMay Enterprises",null,4024,"Internal","A","SL","2018-03-31","WCNX",0,41500]
[null,2188,195382,"P","2009 Type H Drop R/O",0,null,"4V5M99EH79N277268",null,2009,"Volvo","Helm","R/O Truck","2008-11-03","2008-11-03",null,1000,14040,165486.5,14046,165486.5,0,0,51260,0,"A","LeMay Enterprises",null,4065,"Internal","A","SL","2018-03-31","WCNX",0,155833.12]
[null,2188,193351,191690,"Decals for New Truck",null,null,"N/A","94-3283464",0,"N/A",null,"Non-Rolling Stock","2018-01-01","2018-01-01","2188-17-0011-1",1000,14040,957.42,14046,574.44000000000005,382.9799999999999,95.74,51260,7.98,"P",null,2664,null,"Internal","A","SL",null,"WCNX",0,0]
[null,2188,191690,"P","2018 FEL Truck",null,null,"3BPDL70X3JF196775",null,2018,"PETERBILT","Wittke","FEL Truck","2018-01-01","2018-01-01","2188-17-0011-1",1000,14040,312655.15999999997,14046,187593.12,125062.03999999998,31265.52,51260,2605.46,"P",null,"P196775",2510,"Internal","A","SL",null,"WCNX",0,0]
[null,2188,191606,"P","65 Gallon Refuse Carts",648,null,null,"94-3283464",0,"REHRIG PACIFIC COMPANY IN",null,null,"2018-01-01","2018-01-01","2188-17-0020-1",611,14050,32819.910000000003,14056,28470.18,4349.7300000000032,4745.03,54260,395.42,"P",null,"LA218833",null,"Internal","A","SL",null,"WCNX",0,0]
[null,2188,191450,"P","95 Gallon Recycle Carts",486,null,null,"94-3283464",0,"REHRIG PACIFIC COMPANY IN",null,null,"2018-01-01","2018-01-01","2188-17-0020-1",700,14050,29585.919999999998,14056,25359.360000000001,4226.5599999999977,4226.5600000000004,54260,352.21,"P",null,"LA219149",null,"Internal","A","SL",null,"WCNX",0,0]
[null,2188,191384,"P","95 Gallon Recycle Carts",216,null,null,"94-3283464",0,"REHRIG PACIFIC COMPANY IN",null,null,"2018-01-01","2018-01-01","2188-17-0020-1",700,14050,11706.63,14056,10034.280000000001,1672.3499999999985,1672.38,54260,139.36000000000001,"P",null,"LA219291R",null,"Internal","A","SL",null,"WCNX",0,0]
[null,2188,189796,"P","4 Yd Containers",1,null,null,"94-3283464",0,"ENVIRONMENTAL METAL WORKS",null,"4 YD FEL/REL/SL Metal","2017-11-07","2017-11-07","2188-17-0019-1",1200,14050,619.94000000000005,14056,318.57,301.37000000000006,51.66,54260,4.3,"P",null,"IN006315A",null,"Internal","A","SL",null,"WCNX",0,0]
[null,2188,189795,"P","3 Yd Containers",15,null,null,"94-3283464",0,"ENVIRONMENTAL METAL WORKS",null,"3 YD FEL/REL/SL Metal","2017-11-07","2017-11-07","2188-17-0019-1",1200,14050,8703.01,14056,4472.38,4230.63,725.25,54260,60.44,"P",null,"IN006315A",null,"Internal","A","SL",null,"WCNX",0,0]
[null,2188,189794,"P","2 Yd Containers",20,null,null,"94-3283464",0,"ENVIRONMENTAL METAL WORKS",null,"2 YD FEL/REL/SL Metal","2017-11-07","2017-11-07","2188-17-0019-1",1200,14050,9843.3799999999992,14056,5058.3900000000003,4784.9899999999989,820.28,54260,68.36,"P",null,"IN006315A",null,"Internal","A","SL",null,"WCNX",0,0]
[null,2188,189793,"P","1.5 Yd Containers",20,null,null,"94-3283464",0,"ENVIRONMENTAL METAL WORKS",null,"1.5 YD FEL/REL/SL Metal","2017-11-07","2017-11-07","2188-17-0019-1",1200,14050,9609.24,14056,4938.0200000000004,4671.2199999999993,800.76,54260,66.73,"P",null,"IN006315A",null,"Internal","A","SL",null,"WCNX",0,0]
[null,2188,189792,"P","1 Yd Containers",20,null,null,"94-3283464",0,"ENVIRONMENTAL METAL WORKS",null,"1 YD FEL/REL/SL Metal","2017-11-07","2017-11-07","2188-17-0019-1",1200,14050,9303.25,14056,4780.83,4522.42,775.27,54260,64.61,"P",null,"IN006315A",null,"Internal","A","SL",null,"WCNX",0,0]
[null,2188,188899,"P","6 Yd Containers",20,null,null,"94-3283464",0,"ENVIRONMENTAL METAL WORKS",null,"6 YD FEL/REL/SL Metal","2017-11-07","2017-11-07","2188-17-0019-1",1200,14050,18010.150000000001,14056,9255.24,8754.9100000000017,1500.85,54260,125.07,"P",null,"IN006315",null,"Internal","A","SL",null,"WCNX",0,0]
[null,2188,188898,"P","4 Yd Containers",14,null,null,"94-3283464",0,"ENVIRONMENTAL METAL WORKS",null,"4 YD FEL/REL/SL Metal","2017-11-07","2017-11-07","2188-17-0019-1",1200,14050,11053.99,14056,5680.55,5373.44,921.17,54260,76.760000000000005,"P",null,"IN006315",null,"Internal","A","SL",null,"WCNX",0,0]
[null,2188,187750,"P","65 Gallon  Refuse Carts",648,null,null,"94-3283464",0,"REHRIG PACIFIC COMPANY IN",null,null,"2017-09-01","2017-09-01","2188-17-0017-1",700,14050,27848.17,14056,25195.96,2652.2099999999991,3978.31,54260,331.53,"P",null,"LA216254",null,"Internal","A","SL",null,"WCNX",0,0]
[null,2188,187610,"P","2017 SL Truck",null,null,"JALE5W164J7300872",null,2017,"ISUZU","Wayne Tomcat","Retriever Truck","2017-10-31","2017-10-31","2188-17-0010-1",1000,14040,135413.12,14046,83504.69,51908.429999999993,13541.3,51260,1128.44,"P",null,4102438,3303,"Internal","A","SL",null,"WCNX",0,0]
[null,2188,186098,"P","35 Gallon Refuse Carts",50,null,null,"94-3283464",0,"REHRIG PACIFIC COMPANY IN",null,null,"2017-09-01","2017-09-01","2188-17-0017-1",700,14050,1761.5,14056,1593.72,167.77999999999997,251.64,54260,20.97,"P",null,"LA216219",null,"Internal","A","SL",null,"WCNX",0,0]
[null,2188,185772,"P","1Yd RL Containers",24,null,null,null,0,"CAPITAL INDUSTRIES INC",null,"1 YD FEL/REL/SL Metal","2017-08-28","2017-08-28","2188-17-0016-1",1200,14050,11815.44,14056,6235.93,5579.51,984.62,54260,82.05,"P",null,132780,null,"Internal","A","SL",null,"WCNX",0,0]
[null,2188,185771,"P","2 Yd RL Containers",24,null,null,null,0,"CAPITAL INDUSTRIES INC",null,"2 YD FEL/REL/SL Metal","2017-08-28","2017-08-28","2188-17-0016-1",1200,14050,13113.84,14056,6921.19,6192.6500000000005,1092.82,54260,91.07,"P",null,132781,null,"Internal","A","SL",null,"WCNX",0,0]
[null,2188,185007,"P","30 Yd Lidded RO Box",6,null,null,null,0,"CAPITAL INDUSTRIES INC",null,"30 YD RO Box","2017-07-31","2017-07-31","2188-17-0015-1",1200,14050,38205,14056,20429.060000000001,17775.939999999999,3183.75,54260,265.31,"P",null,131817,null,"Internal","A","SL",null,"WCNX",0,0]
[null,2188,185006,"P","40 Yd Lidded RO Box",6,null,null,null,0,"CAPITAL INDUSTRIES INC",null,"40 YD RO Box","2017-07-31","2017-07-31","2188-17-0015-1",1200,14050,44025,14056,23541.15,20483.849999999999,3668.75,54260,305.73,"P",null,131790,null,"Internal","A","SL",null,"WCNX",0,0]
[null,2188,182399,"P","1.5 Yard Commercial Containers",34,null,null,null,0,null,null,"1.5 YD FEL/REL/SL Metal","2008-11-03","2008-11-03",null,1200,14050,4038.58,14056,4038.58,0,0,54260,0,"A","LeMay Enterprises",null,null,"Internal","A","SL","2017-05-31","WCNX",0,2888.7]
[null,2188,182394,"P","2 Yard Commercial Containers",16,null,null,null,0,null,null,"2 YD FEL/REL/SL Metal","2008-11-03","2008-11-03",null,1200,14050,5041.74,14056,5041.74,0,0,54260,0,"A","LeMay Enterprises",null,null,"Internal","A","SL","2017-05-31","WCNX",0,3606.25]
[null,2188,182213,"P","HP ProBook 650 G2 - 15.6\"",null,null,null,null,0,"CDW",null,null,"2017-04-28","2017-04-28","2188-17-0014-1",300,14110,1293.3800000000001,14116,1293.3800000000001,0,0,70260,0,"P",null,"HQJ6924",null,"Internal","A","SL",null,"WCNX",0,0]
[null,2188,178892,"P","65gal Garbage Carts",648,null,null,null,0,"REHRIG PACIFIC COMPANY IN",null,null,"2017-03-14","2017-03-14","2188-17-0013-1",700,14050,29663.68,14056,28957.41,{"$f":"S334-U334","v":706.27000000000044},4237.67,54260,353.14,"P",null,"LA211523",null,"Internal","A","SL",null,"WCNX",0,0]
[null,2188,174546,"P","HP ProBook 650 G2",null,null,null,null,0,"CDW",null,null,"2017-01-23","2017-01-23","2188-17-0012-1",300,14110,1275.8599999999999,14116,1275.8599999999999,0,0,70260,0,"P",null,"GQC8832",null,"Internal","A","SL",null,"WCNX",0,0]
[null,2188,172849,"P","2 Yd REL Container",50,null,null,null,0,"RULE STEEL TANKS INC",null,"2 YD FEL/REL/SL Metal","2017-01-01","2017-01-01","2188-16-0028-1",1200,14050,26954.09,14056,15723.19,11230.9,2246.17,54260,187.18,"P",null,"0026118-IN",null,"Internal","A","SL",null,"WCNX",0,0]
[null,2188,172848,"P","1 Yd REL Container",30,null,null,null,0,"RULE STEEL TANKS INC",null,"1 YD FEL/REL/SL Metal","2017-01-01","2017-01-01","2188-16-0028-1",1200,14050,13708.81,14056,7996.8,5712.0099999999993,1142.4000000000001,54260,95.2,"P",null,"0026118-IN",null,"Internal","A","SL",null,"WCNX",0,0]
[null,2188,172847,"P","6 Yd FEL Container",20,null,null,null,0,"RULE STEEL TANKS INC",null,"6 YD FEL/REL/SL Metal","2017-01-01","2017-01-01","2188-16-0028-3",1200,14050,15953.91,14056,9306.43,6647.48,1329.49,54260,110.79,"P",null,"0026118-IN",null,"Internal","A","SL",null,"WCNX",0,0]
[null,2188,172846,"P","4 Yd FEL Container",10,null,null,null,0,"RULE STEEL TANKS INC",null,"4 YD FEL/REL/SL Metal","2017-01-01","2017-01-01","2188-16-0028-3",1200,14050,6085.09,14056,3549.63,2535.46,507.09,54260,42.26,"P",null,"0026118-IN",null,"Internal","A","SL",null,"WCNX",0,0]
[null,2188,170906,"P","20 Yd Roll Off Containers",4,null,null,null,0,"RULE STEEL TANKS INC",null,"20 YD RO Box","2016-10-27","2016-10-27","2188-16-0026-1",1200,14050,26044,14056,15554.03,10489.97,2170.33,54260,180.86,"P",null,"0025818IN",null,"Internal","A","SL",null,"WCNX",0,0]
[null,2188,169575,"P","20 YD Containers with Dome Lids",5,null,null,null,0,"RULE STEEL TANKS INC",null,"20 YD RO Box","2016-10-27","2016-10-27","2188-16-0026-1",1200,14050,27725,14056,16558.009999999998,11166.990000000002,2310.42,54260,192.53,"P",null,"0025418IN",null,"Internal","A","SL",null,"WCNX",0,0]
[null,2188,169284,"P","HP ProBook 640 Laptop",null,null,null,null,0,"CDW",null,null,"2016-10-15","2016-10-15","2188-16-0030-1",300,14110,1092.99,14116,1092.99,0,0,70260,0,"P",null,"FQQ5299",null,"Internal","A","SL",null,"WCNX",0,0]
[null,2188,168986,"P","2 Yd Plastic Containers",15,null,null,null,0,"REHRIG PACIFIC COMPANY IN",null,"2 YD FEL/REL/SL Plastic","2016-10-15","2016-10-15","2188-16-0027-1",700,14050,8796.66,14056,8796.66,0,942.47,54260,0,"P",null,"LA207967",null,"Internal","A","SL",null,"WCNX",0,0]
[null,2188,167964,133014,"Hansen Cash Call Recording System",null,null,null,null,0,"Gaynor Telesystems",null,null,"2016-05-20","2016-05-20","2188-16-0024-1",500,14100,7346.78,14106,7346.78,0,0,70260,0,"P",null,"INV000031818",null,"Internal","A","SL",null,"WCNX",0,0]
[null,2188,167733,"P","(5) Mounting hardware and AC adapters",null,null,null,null,0,"ProClip",null,null,"2016-06-27","2016-06-27","2188-16-0020-1",100,14110,472.52,14116,472.52,0,0,70260,0,"P",null,"SI-1138964",null,"Internal","A","SL",null,"WCNX",0,0]
[null,2188,167287,"P","95 Gallon Recycle Containers and Lids",1404,null,null,null,0,"REHRIG PACIFIC COMPANY",null,null,"2016-08-29","2016-08-29","2188-16-0025-1",700,14050,53731.040000000001,14056,53731.040000000001,0,5117.26,54260,0,"P",null,"LA154270",null,"Internal","A","SL",null,"WCNX",0,0]
[null,2188,166330,"P","65 Gallon Refuse Containers",648,null,null,null,0,"REHRIG PACIFIC COMPANY",null,null,"2016-08-08","2016-08-08","2188-16-0025-1",700,14050,28378.7,14056,28378.7,0,2364.89,54260,0,"P",null,"LA206228",null,"Internal","A","SL",null,"WCNX",0,0]
[null,2188,165761,133442,"License for truck #3656",null,null,null,null,0,"Washington State DOL",null,"Non-Rolling Stock","2016-06-17","2016-06-17","2188-16-0022-1",1000,14040,472,14046,354,118,47.2,51260,3.93,"P",null,58672089,null,"Internal","A","SL",null,"WCNX",0,0]
[null,2188,165760,133443,"License for truck #1074",null,null,null,null,0,"Washington State DOL",null,"Non-Rolling Stock","2016-06-17","2016-06-17","2188-16-0023-1",1000,14040,472,14046,354,118,47.2,51260,3.93,"P",null,58671890,null,"Internal","A","SL",null,"WCNX",0,0]
[null,2188,165759,132761,"LIcense for Truck #3655",null,null,null,null,0,"Washington State DOL",null,"Non-Rolling Stock","2016-05-31","2016-05-31","2188-16-0021-1",1000,14040,472,14046,357.93,114.07,47.2,51260,3.93,"P",null,58671995,null,"Internal","A","SL",null,"WCNX",0,0]
[null,2188,139787,132281,"Setup fees for 38 Route Tablets",null,null,null,null,0,"Liquid Networx",null,null,"2016-04-30","2016-04-30","2188-16-0020-1",100,14110,342,14116,342,0,0,70260,0,"P",null,"NA",null,"Internal","A","SL",null,"WCNX",0,0]
[null,2188,139727,133443,"Truck Decals Unit # 1074",null,null,null,null,0,"Lytx",null,"Non-Rolling Stock","2016-06-17","2016-06-17","2188-16-0023-1",1000,14040,1554.65,14046,1166.02,388.63000000000011,155.47,51260,12.96,"P",null,5038041,null,"Internal","A","SL",null,"WCNX",0,0]
[null,2188,139726,133442,"Truck Decals Unit #3656",null,null,null,null,0,"Lytx",null,"Non-Rolling Stock","2016-06-17","2016-06-17","2188-16-0022-1",1000,14040,1609.81,14046,1207.27,402.53999999999996,160.97,51260,13.41,"P",null,5038040,null,"Internal","A","SL",null,"WCNX",0,0]
[null,2188,139725,132761,"Truck Decals Unit #3655",null,null,null,null,0,"Lytx",null,"Non-Rolling Stock","2016-05-31","2016-05-31","2188-16-0021-1",1000,14040,1609.81,14046,1220.7,389.1099999999999,160.97,51260,13.41,"P",null,5038010,null,"Internal","A","SL",null,"WCNX",0,0]
[null,2188,133543,132281,"Tablet Mounting Hardware",null,null,null,null,0,"ProClip",null,null,"2016-04-30","2016-04-30","2188-16-0020-1",100,14110,8314.08,14116,8314.08,0,0,70260,0,"P",null,"SI-1137888",null,"Internal","A","SL",null,"WCNX",0,0]
[null,2188,133443,"P","2016 REL Truck",null,null,"3BPZL70X7GF107384",null,2016,"peterbilt","newway","REL Truck","2016-06-17","2016-06-17","2188-16-0023-1",1000,14040,284597.5,14046,213448.13,71149.37,28459.75,51260,2371.65,"P",null,"P107384",1074,"Internal","A","SL",null,"WCNX",0,0]
[null,2188,133442,"P","2016 ASL Truck",null,null,"3BPZL70X5GF107187",null,2016,"peterbilt","Curbtender","Automated Sideload","2016-06-17","2016-06-17","2188-16-0022-1",1000,14040,323407.89,14046,242555.93,80851.960000000021,32340.79,51260,2695.07,"P",null,"P107187",3656,"Internal","A","SL",null,"WCNX",0,0]
[null,2188,133014,"P","Phone Recorder unit",null,null,null,null,0,"CDW",null,null,"2016-05-20","2016-05-20","2188-16-0024-1",500,14100,1077.29,14106,1077.29,0,0,70260,0,"P",null,"DDC2127",null,"Internal","A","SL",null,"WCNX",0,0]
[null,2188,132761,"P","2016 ASL Truck",null,null,"3BPZL70X3GF107186",null,2016,"peterbilt","curbtender","Automated Sideload","2016-05-31","2016-05-31","2188-16-0021-1",1000,14040,323407.89,14046,245250.99,78156.900000000023,32340.79,51260,2695.07,"P",null,"P107186",3655,"Internal","A","SL",null,"WCNX",0,0]
[null,2188,132281,"P","(38) Samsung Tab E  Tablets",null,null,null,null,0,"Verizon Wireless",null,null,"2016-04-30","2016-04-30","2188-16-0020-1",100,14110,7403.89,14116,7403.89,0,0,70260,0,"P",null,"MB7000004800370",null,"Internal","A","SL",null,"WCNX",0,0]
[null,2188,128837,128675,"Drive Cam/Decals for Truck #2522",null,null,null,null,0,"SIGN CONNECTIONS",null,"Non-Rolling Stock","2015-12-24","2015-12-24","2188-15-0012-1",1000,14040,1674.62,14046,1339.68,334.93999999999983,167.46,51260,13.95,"P",null,1973,null,"Internal","A","SL",null,"WCNX",0,0]
[null,2188,128675,"P","2016 ASL Truck",null,null,"3BPZL70X5GF106282",null,2016,"peterbilt","curbtender","Automated Sideload","2015-12-24","2015-12-24","2188-15-0012-1",1000,14040,336161.88,14046,268929.52,67232.359999999986,33616.19,51260,2801.35,"P",null,"P106282",3646,"Internal","A","SL",null,"WCNX",0,0]
[null,2188,128623,"P","96 Gallon Blue  Refuse Carts and Lids",312,null,null,null,0,"TOTER INCORPORATED",null,null,"2015-12-11","2015-12-11","2188-15-0025-1",700,14050,14826.24,14056,14826.24,0,0,54260,0,"P",null,65391079,null,"Internal","A","SL",null,"WCNX",0,0]
[null,2188,128449,"P","96 Gallon Recycle Carts",624,null,null,null,0,"TOTER INCORPORATED",null,null,"2015-12-10","2015-12-10","2188-15-0025-1",700,14050,31924.06,14056,31924.06,0,0,54260,0,"P",null,65390981,null,"Internal","A","SL",null,"WCNX",0,0]
[null,2188,128431,"P","JLG 1932RS Scissor Lift",null,null,200254280,null,2015,"N/A","N/A","Forklift","2015-12-22","2015-12-22","2188-15-0022-1",900,14030,11772,14036,10464,1308,1308,51260,109,"P",null,"J04630",7968,"Internal","A","SL",null,"WCNX",0,0]
[null,2188,128358,"P","65 Gallon Blue Refuse Cart and Lid",684,null,null,null,0,"TOTER INCORPORATED",null,null,"2015-12-10","2015-12-10","2188-15-0025-1",700,14050,31007.79,14056,31007.79,0,0,54260,0,"P",null,65390982,null,"Internal","A","SL",null,"WCNX",0,0]
[null,2188,127549,"P","HP Probook 640 G1 Computer",null,null,null,null,0,"CDW",null,null,"2015-11-30","2015-11-30","2188-15-0024-1",300,14110,1120.06,14116,1120.06,0,0,70260,0,"P","District 2188 CIP","BHF9637",null,"Internal","A","SL",null,"WCNX",0,0]
[null,2188,126871,"P","6 Yd FEL Containers",24,null,null,null,0,"RULE STEEL TANKS INC",null,"6 YD FEL/REL/SL Metal","2015-11-10","2015-11-10","2188-15-0020-2",1200,14050,18925.25,14056,12879.73,6045.52,1577.11,54260,131.43,"P",null,"0021642in",null,"Internal","A","SL",null,"WCNX",0,0]
[null,2188,126870,"P","3 Yd FEL Containers",24,null,null,null,0,"RULE STEEL TANKS INC",null,"3 YD FEL/REL/SL Metal","2015-11-10","2015-11-10","2188-15-0020-2",1200,14050,14155.75,14056,9633.81,4521.9400000000005,1179.6500000000001,54260,98.3,"P",null,"0021642in",null,"Internal","A","SL",null,"WCNX",0,0]
[null,2188,126869,"P","1.5 Yd REL Containers",20,null,null,null,0,"RULE STEEL TANKS INC",null,"1.5 YD FEL/REL/SL Metal","2015-11-10","2015-11-10","2188-15-0020-1",1200,14050,10047.02,14056,6837.54,3209.4800000000005,837.25,54260,69.77,"P",null,"0021642in",null,"Internal","A","SL",null,"WCNX",0,0]
[null,2188,126868,"P","1 Yd REL Containers",50,null,null,null,0,"RULE STEEL TANKS INC",null,"1 YD FEL/REL/SL Metal","2015-11-10","2015-11-10","2188-15-0020-1",1200,14050,23227.18,14056,15807.4,7419.7800000000007,1935.6,54260,161.30000000000001,"P",null,"0021642in",null,"Internal","A","SL",null,"WCNX",0,0]
[null,2188,126851,126850,"Sales tax & licensing fees",0,null,"SEE ORIGINAL",null,1992,null,null,"Non-Rolling Stock","2007-04-10","2007-04-10","07-2132-001",400,14040,1592.5,14046,1592.5,0,0,51260,0,"P",null,"TRUCK 10",null,"Internal","A","SL","2015-10-31","WCNX",0,1592.5]
[null,2188,126850,"P","2002 Ford F150 Pickup Truck",0,null,"1FTRX18L22NA20487",null,2002,"Ford F150","Pickup","Pick Up Truck","2007-01-26","2007-01-26","07-2132-001",300,14040,17500,14046,17500,0,0,51260,0,"P",null,"BOS 2007",6054,"Internal","A","SL","2015-10-31","WCNX",0,17500]
[null,2188,126246,126242,"Sales tax and registration for new truck",0,null,"1HTWCAZR76J312556",null,2005,null,null,"Non-Rolling Stock","2006-02-01","2006-02-01","06-2149-013",1000,14040,10631.75,14046,10631.75,0,0,51260,0,"C",null,"Manual Check",null,"Internal","A","SL","2015-09-30","WCNX",0,10277.41]
[null,2188,126245,126242,"Camera System",0,null,"6J3556",null,2006,null,null,"Non-Rolling Stock","2006-01-01","2006-01-01","06-2149-013",1000,14040,285.02999999999997,14046,285.02999999999997,0,0,51260,0,"C",0,29931,5,"Internal","A","SL","2015-09-30","WCNX",0,277.89999999999998]
[null,2188,126244,126242,"2006 REL Body",0,null,312556,null,2006,null,null,"Recycle Truck","2006-04-20","2006-04-20","06-2149-013",1000,14040,56659,14046,56659,0,0,51260,0,"P",null,"24005704 RI",5,"Internal","A","SL","2015-09-30","WCNX",0,53353.9]
[null,2188,126243,126242,"2 Way Radio Installation on new RL truck",0,null,"4F1301476",null,2006,null,null,"Non-Rolling Stock","2006-05-11","2006-05-11","06-2149-013",1000,14040,947.42,14046,947.42,0,0,51260,0,"P",null,3951,null,"Internal","A","SL","2015-09-30","WCNX",0,892.14]
[null,2188,126242,"P","2006 Intl 7400 Chassis",0,null,"1HTWCAZR76J312556",null,2006,"International 7400","Heil","REL Truck","2006-02-13","2006-02-13","06-2149-013",1000,14040,73695.5,14046,73695.5,0,0,51260,0,"P",0,6571,1072,"Internal","A","SL","2015-09-30","WCNX",0,71238.98]
[null,2188,124988,"P","HP Prodesk 600G1",null,null,null,null,0,"CDW",null,null,"2015-08-14","2015-08-14","2188-15-0019-1",300,14110,710.05,14116,710.05,0,0,70260,0,"P",null,"XK 49089",null,"Internal","A","SL",null,"WCNX",0,0]
[null,2188,124165,"P","24 Gallon Garbage Carts (Blue Cart & Blue Lid)",50,null,null,null,0,"WASTEQUIP LLC",null,null,"2015-06-03","2015-06-03","2188-15-0017-1",700,14050,1811.7,14056,1811.7,0,0,54260,0,"P",null,65373223,null,"Internal","A","SL",null,"WCNX",0,0]
[null,2188,124164,"P","64 Gallon Garbage Carts (Blue Cart & Blue Lid)",684,null,null,null,0,"WASTEQUIP LLC",null,null,"2015-06-03","2015-06-03","2188-15-0017-1",700,14050,30287.52,14056,30287.52,0,0,54260,0,"P",null,65373223,null,"Internal","A","SL",null,"WCNX",0,0]
[null,2188,124072,"P","96 Gallon Recycle Carts (Forest Cart & Tan Lid)",312,null,null,null,0,"WASTEQUIP LLC",null,null,"2015-06-16","2015-06-16","2188-15-0017-1",700,14050,16125.97,14056,16125.97,0,0,54260,0,"P",null,65373074,null,"Internal","A","SL",null,"WCNX",0,0]
[null,2188,124071,"P","96 Gallon Yard Waste Carts (Forest Cart & Lid)",312,null,null,null,0,"WASTEQUIP LLC",null,null,"2015-06-16","2015-06-16","2188-15-0017-1",700,14050,16125.96,14056,16125.96,0,0,54260,0,"P",null,65373074,null,"Internal","A","SL",null,"WCNX",0,0]
[null,2188,124070,"P","35 Gallon Garbage Carts (Blue Cart & Blue Lid)",50,null,null,null,0,"WASTEQUIP LLC",null,null,"2015-06-24","2015-06-24","2188-15-0017-1",700,14050,1836,14056,1836,0,0,54260,0,"P",null,65373915,null,"Internal","A","SL",null,"WCNX",0,0]
[null,2188,123521,66904,"Cap Repair Engine",null,null,null,null,0,"Cummins",null,"Non-Rolling Stock","2015-05-19","2015-05-19","2188-15-0018-1",300,14040,21954.799999999999,14046,21954.799999999999,0,0,51260,0,"P",null,"004-86866",null,"Internal","A","SL",null,"WCNX",0,0]
[null,2188,121105,"P","6 Winterms for New IT Rollout",null,null,null,null,0,"CDW",null,null,"2015-03-11","2015-03-11","2188-15-0016-1",300,14110,1967.27,14116,1967.27,0,0,70260,0,"P",null,"TB74498",null,"Internal","A","SL",null,"WCNX",0,0]
[null,2188,120926,"P","6 YD  Refuse Containers (Blue)",20,null,null,null,0,"CAPITAL INDUSTRIES INC",null,"6 YD FEL/REL/SL Metal","2015-01-01","2015-01-01","2188-15-0015-1",1111,14050,16092,14056,12153.33,3938.67,1350.37,54260,112.53,"P",null,102296,null,"Internal","A","SL",null,"WCNX",0,0]
[null,2188,118904,"P","1Yd REL Containers with lids",10,null,null,null,0,"CAPITAL INDUSTRIES INC",null,"1 YD FEL/REL/SL Metal","2015-01-01","2015-01-01","2188-14-0030-2",1110,14050,4503.6000000000004,14056,3425.31,1078.2900000000004,380.59,54260,31.72,"P",null,101257,null,"Internal","A","SL",null,"WCNX",0,0]
[null,2188,118760,118140,"Capitalized Labor for (41) RO Winch Replacements",0,null,null,null,0,"Internal",null,null,"2014-12-31","2014-12-31","2188-14-0028-1",500,14050,30514.81,14056,30514.81,0,0,54260,0,"P",null,"2014-12-30",null,"Internal","A","SL",null,"WCNX",0,0]
[null,2188,118603,"P","Volvo Diagnostic Software",null,null,null,null,0,"TEC Equipment",null,null,"2014-12-08","2014-12-08","2188-14-0027-2",300,14110,789,14116,789,0,0,70260,0,"P",null,"552807K",null,"Internal","A","SL",null,"WCNX",0,0]
[null,2188,118567,118079,"Large Truck Decals Truck #3642",null,null,null,null,0,"Sign Connections",null,"Non-Rolling Stock","2014-12-08","2014-12-08","2188-14-0011-1",1000,14040,912.06,14046,828.49,83.569999999999936,91.21,51260,7.6,"P",null,1576,null,"Internal","A","SL",null,"WCNX",0,0]
[null,2188,118254,66904,"Improvement - ASL Auto Hopper Cover Kit- Trk # 3627",null,null,null,null,0,"SOLID WASTE SYSTEMS INC",null,"Non-Rolling Stock","2014-12-15","2014-12-15","2188-14-0031-5",300,14040,2532.61,14046,2532.61,0,0,51260,0,"P",null,132288,null,"Internal","A","SL",null,"WCNX",0,0]
[null,2188,118253,61404,"Improvement - ASL Auto Hopper Cover Kit- Trk # 3614",null,null,null,null,0,"SOLID WASTE SYSTEMS INC",null,"Non-Rolling Stock","2014-12-15","2014-12-15","2188-14-0031-4",300,14040,2532.61,14046,2532.61,0,0,51260,0,"P",null,132287,null,"Internal","A","SL",null,"WCNX",0,0]
[null,2188,118140,"P","R/O Winch Upgrades",0,null,null,null,0,null,null,null,"2014-12-31","2014-12-31","2188-14-0028-1",500,14050,13762.19,14056,13762.19,0,0,54260,0,"P",null,null,null,"Internal","A","SL",null,"WCNX",0,0]
[null,2188,118080,"P","2012 Container Delivery Truck",null,null,"2NP2HM7X9CM173463",null,2012," Peterbilt "," AA Welding ","Container Delivery Truck","2014-12-22","2014-12-22","2188-14-0012-1",700,14040,144943.14000000001,14046,144943.14000000001,0,0,51260,0,"P",null,null,9388,"Internal","A","SL",null,"WCNX",0,0]
[null,2188,118079,"P","2015 ASL Truck",null,null,"3BPZL70X5FF273692",null,2015," Peterbilt "," Wayne ","Automated Sideload","2014-12-08","2014-12-08","2188-14-0011-1",1000,14040,327334.15999999997,14046,297328.57,30005.589999999967,32733.42,51260,2727.78,"P",null,null,3642,"Internal","A","SL",null,"WCNX",0,0]
[null,2188,117913,"P","2Yd REL Containers",30,null,null,null,0,"CAPITAL INDUSTRIES INC",null,"2 YD FEL/REL/SL Metal","2014-11-12","2014-11-12","2188-14-0030-2",1200,14050,16038,14056,12251.25,3786.75,1336.5,54260,111.37,"P",null,101840,null,"Internal","A","SL",null,"WCNX",0,0]
[null,2188,117912,"P","1Yd REL Containers",30,null,null,null,0,"CAPITAL INDUSTRIES INC",null,"1 YD FEL/REL/SL Metal","2014-11-12","2014-11-12","2188-14-0030-2",1200,14050,13510.8,14056,10320.75,{"$f":"S398-U398","v":3190.0499999999993},1125.9000000000001,54260,93.82,"P",null,101243,null,"Internal","A","SL",null,"WCNX",0,0]
[null,2188,117629,"P","Diagnositic Software for International Trucks",null,null,null,null,0,"RWC",null,null,"2014-11-05","2014-11-05","2188-14-0027-2",300,14110,861.84,14116,861.84,0,0,70260,0,"P",null,"3076M",null,"Internal","A","SL",null,"WCNX",0,0]
[null,2188,117342,"P","Panasonic Toughbook",null,null,null,null,0,null,null,null,"2014-11-30","2014-11-30","2188-14-0027-2",200,14110,2051.8200000000002,14116,2051.8200000000002,0,0,70260,0,"P",null,null,null,"Internal","A","SL",null,"WCNX",0,0]
[null,2188,116613,"P","Panasonic Toughbook",null,null,null,null,0,null,null,null,"2014-09-03","2014-09-03","2188-14-0027-1",200,14110,1711,14116,1711,0,0,70260,0,"P",null,null,null,"Internal","A","SL",null,"WCNX",0,0]
[null,2188,116111,"P","HP Prodesk 600 G1",null,null,null,null,0,"CDW",null,null,"2014-09-04","2014-09-04","2188-14-0026-1",300,14110,739.01,14116,739.01,0,0,70260,0,"P",null,"PF79399",null,"Internal","A","SL",null,"WCNX",0,0]
[null,2188,116110,"P","HP Prodesk 600 G1",null,null,null,null,0,"CDW",null,null,"2014-09-04","2014-09-04","2188-14-0026-1",300,14110,731.58,14116,731.58,0,0,70260,0,"P",null,"PF79401",null,"Internal","A","SL",null,"WCNX",0,0]
[null,2188,116098,"P","95 Gal MSW Carts",504,null,null,null,0,"Otto Environmental System",null,null,"2014-08-21","2014-08-21","2188-14-0025-1",700,14050,27565.759999999998,14056,27565.759999999998,0,0,54260,0,"P",null,"ELOY 17070",null,"Internal","A","SL",null,"WCNX",0,0]
[null,2188,116097,"P","95 Gal Recycle Carts",504,null,null,null,0,"Otto Environmental System",null,null,"2014-08-25","2014-08-25","2188-14-0025-1",700,14050,27565.759999999998,14056,27565.759999999998,0,0,54260,0,"P",null,"ELOY 17079",null,"Internal","A","SL",null,"WCNX",0,0]
[null,2188,116096,"P","65 Gal Recycle Carts",720,null,null,null,0,"Otto Environmental System",null,null,"2014-09-03","2014-09-03","2188-14-0025-1",700,14050,33549.949999999997,14056,33549.949999999997,0,0,54260,0,"P",null,"ELOY 17136",null,"Internal","A","SL",null,"WCNX",0,0]
[null,2188,115200,"P","1.5 Yd REL Containers",5,null,null,null,0,"CAPITAL INDUSTRIES INC",null,"1.5 YD FEL/REL/SL Metal","2014-07-31","2014-07-31","2188-14-0024-2",1200,14050,2408.4,14056,1889.93,518.47,200.7,54260,16.72,"P",null,97398,null,"Internal","A","SL",null,"WCNX",0,0]
[null,2188,115115,"P","1.5 YD FEL Containers",4,null,null,null,0,"CAPITAL INDUSTRIES INC",null,"1.5 YD FEL/REL/SL Metal","2014-07-14","2014-07-14","2188-14-0024-1",1200,14050,1961.28,14056,1552.68,408.59999999999991,163.44,54260,13.62,"P",null,96660,null,"Internal","A","SL",null,"WCNX",0,0]
[null,2188,115114,"P","1 YD REL Containers",12,null,null,null,0,"CAPITAL INDUSTRIES INC",null,"1 YD FEL/REL/SL Metal","2014-07-31","2014-07-31","2188-14-0024-2",1200,14050,5404.32,14056,4240.8900000000003,1163.4299999999994,450.36,54260,37.53,"P",null,96894,null,"Internal","A","SL",null,"WCNX",0,0]
[null,2188,115112,"P","2 YD REL Containers",13,null,null,null,0,"CAPITAL INDUSTRIES INC",null,"2 YD FEL/REL/SL Metal","2014-07-31","2014-07-31","2188-14-0024-2",1200,14050,6949.8,14056,5453.66,1496.1400000000003,579.15,54260,48.26,"P",null,96919,null,"Internal","A","SL",null,"WCNX",0,0]
[null,2188,115111,"P","2 YD REL Containers",12,null,null,null,0,"CAPITAL INDUSTRIES INC",null,"2 YD FEL/REL/SL Metal","2014-07-31","2014-07-31","2188-14-0024-2",1200,14050,6415.2,14056,5034.1499999999996,1381.0500000000002,534.6,54260,44.55,"P",null,96895,null,"Internal","A","SL",null,"WCNX",0,0]
[null,2188,115110,"P","6 YD FEL Containers",5,null,null,null,0,"CAPITAL INDUSTRIES INC",null,"6 YD FEL/REL/SL Metal","2014-07-14","2014-07-14","2188-14-0024-1",1200,14050,3877.2,14056,3069.45,807.75,323.10000000000002,54260,26.92,"P",null,96663,null,"Internal","A","SL",null,"WCNX",0,0]
[null,2188,115109,"P","3 YD FEL Containers",10,null,null,null,0,"CAPITAL INDUSTRIES INC",null,"3 YD FEL/REL/SL Metal","2014-07-14","2014-07-14","2188-14-0024-1",1200,14050,5756.4,14056,4557.1499999999996,1199.25,479.7,54260,39.97,"P",null,96662,null,"Internal","A","SL",null,"WCNX",0,0]
[null,2188,115108,"P","2 YD FEL Containers",10,null,null,null,0,"CAPITAL INDUSTRIES INC",null,"2 YD FEL/REL/SL Metal","2014-07-14","2014-07-14","2188-14-0024-1",1200,14050,5238,14056,4146.6499999999996,1091.3500000000004,436.49,54260,36.369999999999997,"P",null,96661,null,"Internal","A","SL",null,"WCNX",0,0]
[null,2188,115107,"P","1.5 YD FEL Containers",6,null,null,null,0,"CAPITAL INDUSTRIES INC",null,"1.5 YD FEL/REL/SL Metal","2014-07-14","2014-07-14","2188-14-0024-1",1200,14050,2941.92,14056,2329.02,612.90000000000009,245.16,54260,20.43,"P",null,96666,null,"Internal","A","SL",null,"WCNX",0,0]
[null,2188,115106,"P","2 YD REL Containers",15,null,null,null,0,"CAPITAL INDUSTRIES INC",null,"2 YD FEL/REL/SL Metal","2014-07-31","2014-07-31","2188-14-0024-2",1200,14050,8958.6,14056,7030.01,1928.5900000000001,746.55,54260,62.21,"P",null,97187,null,"Internal","A","SL",null,"WCNX",0,0]
[null,2188,115105,"P","1.5 Yd REL Containers",10,null,null,null,0,"CAPITAL INDUSTRIES INC",null,"1.5 YD FEL/REL/SL Metal","2014-07-31","2014-07-31","2188-14-0024-2",1200,14050,4816.8,14056,3779.85,1036.9500000000003,401.4,54260,33.450000000000003,"P",null,97425,null,"Internal","A","SL",null,"WCNX",0,0]
[null,2188,113273,"P","Wyse Winterms D10D",2,null,null,null,0,"CDW",null,null,"2014-04-20","2014-04-20","2000-14-0006-1",300,14110,651.76,14116,651.76,0,0,70260,0,"P",null,"Multiple beginning with K",null,"Internal","A","SL",null,"WCNX",0,0]
[null,2188,111682,"P","2008 Genie TH5519 Reach Forklift",null,null,"GTH5519-19516",null,2008," Genie ","Genie","Forklift","2014-02-24","2014-02-24","2188-14-0014-1",400,14030,37530,14036,37530,0,0,51260,0,"P",null,"HM205168S",7038,"Internal","A","SL",null,"WCNX",0,0]
[null,2188,111060,109578,"Installation and delivery - Office Furniture",null,null,null,null,0,"Creative Office",null,null,"2014-01-01","2014-01-01","2188-13-0007-1",1000,14100,13986,14106,13986,0,1398.6,70260,116.55,"P",null,"13-21607",null,"Internal","A","SL",null,"WCNX",0,0]
[null,2188,110151,"P","MillerMatic Welder 252",null,null,null,null,0,"PACIFIC WELDING",null,null,"2013-12-04","2013-12-04","2188-13-0014-1",500,14070,2428.92,14076,2428.92,0,0,51260,0,"P",null,1178769,null,"Internal","A","SL",null,"WCNX",0,0]
[null,2188,110129,109521,"Drivecam unit for Truck #901",null,null,null,null,0,null,null,"Non-Rolling Stock","2013-12-31","2013-12-31","2188-13-0005-1",1000,14040,632.57000000000005,14046,632.57000000000005,0,63.23,51260,5.24,"P",null,5014943,null,"Internal","A","SL",null,"WCNX",0,0]
[null,2188,109687,"P","95 Gallon Refuse Cart",243,null,null,null,0,"REHRIG PACIFIC COMPANY",null,null,"2013-11-22","2013-11-22","2188-13-0013-2",700,14050,12390.3,14056,12390.3,0,0,54260,0,"P",null,"LA183144",null,"Internal","A","SL",null,"WCNX",0,0]
[null,2188,109686,"P","95 Gallon Yardwaste carts",243,null,null,null,0,"REHRIG PACIFIC COMPANY",null,null,"2013-11-22","2013-11-22","2188-13-0013-4",700,14050,12390.3,14056,12390.3,0,0,54260,0,"P",null,"LA183143",null,"Internal","A","SL",null,"WCNX",0,0]
[null,2188,109685,"P","95 Gallon Recycle Carts",486,null,null,null,0,"REHRIG PACIFIC COMPANY",null,null,"2013-11-21","2013-11-21","2188-13-0013-3",700,14050,25961.57,14056,25961.57,0,0,54260,0,"P",null,"LA183084",null,"Internal","A","SL",null,"WCNX",0,0]
[null,2188,109684,"P","65 Gallon Refuse Carts",648,null,null,null,0,"REHRIG PACIFIC COMPANY",null,null,"2013-11-27","2013-11-27","2188-13-0013-1",700,14050,28522.98,14056,28522.98,0,0,54260,0,"P",null,"LA183308",null,"Internal","A","SL",null,"WCNX",0,0]
[null,2188,109578,"P","Office Furniture",null,null,null,null,0,null,null,null,"2013-12-20","2013-12-20","2188-13-0007-1",1000,14100,4639.68,14106,4639.68,0,464.04,70260,38.67,"P",null,null,null,"Internal","A","SL",null,"WCNX",0,0]
[null,2188,109522,"P","2014 Ford F550",null,null,"1FDUF5GT5EEA35670",null,2014,"Ford","AA welding","Container Delivery Truck","2013-12-31","2013-12-31","2188-13-0006-1",1000,14040,67654.960000000006,14046,67654.960000000006,0,6765.46,51260,563.74,"P",null,null,9389,"Internal","A","SL",null,"WCNX",0,0]
[null,2188,109521,"P","2014 ASL Truck",null,null,"3BPZL70X3EF234890",null,2014,"Peterbilt 320","Wayne","Automated Sideload","2013-12-31","2013-12-31","2188-13-0005-1",1000,14040,322008.34000000003,14046,322008.34000000003,0,32200.87,51260,2683.41,"P",null,null,3636,"Internal","A","SL",null,"WCNX",0,0]
[null,2188,109346,"P","6yd FEL Containers",11,null,null,null,0,"CAPITAL INDUSTRIES INC",null,"6 YD FEL/REL/SL Metal","2013-09-30","2013-09-30","2188-13-0004-5",1200,14050,8613,14056,7356.94,1256.0600000000004,717.75,54260,59.81,"P",null,86713,null,"Internal","A","SL",null,"WCNX",0,0]
[null,2188,109345,"P","6 YD FEL container",17,null,null,null,0,"CAPITAL INDUSTRIES INC",null,"6 YD FEL/REL/SL Metal","2013-09-30","2013-09-30","2188-13-0004-3",1200,14050,7047,14056,6019.31,1027.6899999999996,587.25,54260,48.94,"P",null,86739,null,"Internal","A","SL",null,"WCNX",0,0]
[null,2188,108496,"P","1.5YD REL containers",8,null,null,null,0,"CAPITAL INDUSTRIES INC",null,"1.5 YD FEL/REL/SL Metal","2013-09-30","2013-09-30","2188-13-0004-5",1200,14050,3758.4,14056,3210.3,548.09999999999991,313.2,54260,26.1,"P",null,87383,null,"Internal","A","SL",null,"WCNX",0,0]
[null,2188,108495,"P","1YD REL containers",6,null,null,null,0,"CAPITAL INDUSTRIES INC",null,"1 YD FEL/REL/SL Metal","2013-09-30","2013-09-30","2188-13-0004-4",1200,14050,2656.8,14056,2269.35,387.45000000000027,221.4,54260,18.45,"P",null,87077,null,"Internal","A","SL",null,"WCNX",0,0]
[null,2188,108494,"P","1.5YD REL containers",12,null,null,null,0,"CAPITAL INDUSTRIES INC",null,"1.5 YD FEL/REL/SL Metal","2013-09-30","2013-09-30","2188-13-0004-4",1200,14050,5637.6,14056,4815.45,822.15000000000055,469.8,54260,39.15,"P",null,87377,null,"Internal","A","SL",null,"WCNX",0,0]
[null,2188,108493,"P","4YD FEL Containers",10,null,null,null,0,"CAPITAL INDUSTRIES INC",null,"4 YD FEL/REL/SL Metal","2013-09-30","2013-09-30","2188-13-0004-4",1200,14050,6210,14056,5304.38,905.61999999999989,517.5,54260,43.12,"P",null,87378,null,"Internal","A","SL",null,"WCNX",0,0]
[null,2188,106428,"P","95 Gallon Resi Containers",648,null,null,null,0,"REHRIG PACIFIC COMPANY",null,null,"2013-07-17","2013-07-17","2188-13-0002-4",700,14050,15565.82,14056,15565.82,0,0,54260,0,"P",null,"LA179721",null,"Internal","A","SL",null,"WCNX",0,0]
[null,2188,106427,"P","95 Gallon Recycle Carts",243,null,null,null,0,"REHRIG PACIFIC COMPANY",null,null,"2013-07-17","2013-07-17","2188-13-0002-4",700,14050,13166.58,14056,13166.58,0,0,54260,0,"P",null,"LA179722",null,"Internal","A","SL",null,"WCNX",0,0]
[null,2188,102420,61410,"AA Welding Automatice Tarp Unit",0,null,null,null,0,null,null,"Non-Rolling Stock","2013-02-01","2013-02-01","2188-12-0020-3",300,14040,8837.86,14046,8837.86,0,0,51260,0,"P",null,"0060350IN",null,"Internal","A","SL",null,"WCNX",0,0]
[null,2188,102419,61401,"AA Welding Automatice Tarp Unit",0,null,null,null,0,null,null,"Non-Rolling Stock","2013-02-01","2013-02-01","2188-12-0020-2",300,14040,8837.86,14046,8837.86,0,0,51260,0,"P",null,"0060238IN",null,"Internal","A","SL",null,"WCNX",0,0]
[null,2188,102418,66929,"AA Welding Automatice Tarp Unit",0,null,null,null,0,null,null,"Non-Rolling Stock","2013-02-01","2013-02-01","2188-12-0020-1",300,14040,8837.86,14046,8837.86,0,0,51260,0,"P",null,"0060237IN",null,"Internal","A","SL",null,"WCNX",0,0]
[null,2188,101833,61411,"AA Welding Automatic Tarp Units / AA Welding Automatic Tarp Unit  4071",0,null,null,null,0,"SOLID WASTE SYSTEMS INC",null,"Non-Rolling Stock","2013-01-01","2013-01-01","2188-12-0020-4",300,14040,8837.86,14046,8837.86,0,0,51260,0,"P",null,"0060350IN",null,"Internal","A","SL",null,"WCNX",0,0]
[null,2188,99664,"P","Peterbilt 320 / New Way REL",0,null,"3BPZL70X6DF184324",null,2013,"Peterbilt 320","New Way","REL Truck","2012-12-31","2012-12-31","2188-12-0004-1",1000,14040,259759.91,14046,259759.91,0,0,51260,0,"P",null,"0059325-IN",1070,"Internal","A","SL",null,"WCNX",0,0]
[null,2188,98832,"P","65 Gallon Residential Carts - Dark Blue",386,null,"#P005869 T0 P006254",null,0,"REHRIG PACIFIC COMPANY",null,null,"2012-11-21","2012-11-21","2188-12-0019-1",700,14050,17179.43,14056,17179.43,0,0,54260,0,"P",null,"LA174349",null,"Internal","A","SL",null,"WCNX",0,0]
[null,2188,98288,"P","City for Centralia Sidewalk Project",0,null,null,null,0,null,null,null,"2012-10-31","2012-10-31","2188-12-0013-1",1000,14010,32439.96,14016,32439.96,0,0,57260,0,"P",null,9430,null,"Internal","A","SL",null,"WCNX",0,0]
[null,2188,97959,"P","95 Gallon Carts Forest Green w/ Lids",243,null,"990793 - 991035",null,0,"REHRIG PACIFIC COMPANY",null,null,"2012-08-19","2012-08-19","2188-12-0014-2",700,14050,12796.58,14056,12796.58,0,0,54260,0,"P",null,"LA172161",null,"Internal","A","SL",null,"WCNX",0,0]
[null,2188,97958,"P","95 Gallon Carts Forest Green w/ Lids",243,null,"990550 - 990792",null,0,"REHRIG PACIFIC COMPANY",null,null,"2012-08-19","2012-08-19","2188-12-0014-1",700,14050,12534.13,14056,12534.13,0,0,54260,0,"P",null,"LA172160",null,"Internal","A","SL",null,"WCNX",0,0]
[null,2188,97914,97913,"Shop Laptop (additional funds)",0,null,null,null,0,"Snap - On Business Soluti",null,null,"2011-01-01","2011-01-01","2120-10-0009-2",211,14110,1636.98,14116,1636.98,0,0,70260,0,"P",null,1243417,null,"Internal","A","SL","2012-10-31","WCNX",0,1028.96]
[null,2188,97913,"P","Shop Laptop w/ Maintenance Programs",0,null,null,null,0,"Snap - On Business Soluti",null,null,"2011-01-01","2011-01-01","2120-10-0009-1",211,14110,3587,14116,3587,0,0,70260,0,"P",null,1243417,null,"Internal","A","SL","2012-10-31","WCNX",0,2254.69]
[null,2188,97261,61403,"Plastic Hopper Door",0,null,null,null,0,"SOLID WASTE SYSTEMS INC",null,"Non-Rolling Stock","2012-10-19","2012-10-19","2188-12-0015-1",300,14040,2558.5300000000002,14046,2558.5300000000002,0,0,51260,0,"P",null,"0059170-IN",null,"Internal","A","SL",null,"WCNX",0,0]
[null,2188,95401,"P","PORTABLE LOADING RAMP",0,null,null,null,0,"DURA RAMP",null,null,"2012-07-27","2012-07-27","2188-12-0012-1",500,14070,8532.31,14076,8532.31,0,0,51260,0,"P",null,62536,null,"Internal","A","SL",null,"WCNX",0,0]
[null,2188,95094,"P","RTA Equipment",0,null,null,null,0,"CDW",null,null,"2012-04-25","2012-04-25","1010-12-0021-1",300,14110,1045.9000000000001,14116,1045.9000000000001,0,0,70260,0,"P",null,"J454933",null,"Internal","A","SL","2012-06-30","WCNX",0,58.11]
[null,2188,94136,88662,"To add .3% Tax to Asset Value",0,null,"n/a",null,2012,"n/a","n/a","FEL Truck","2012-01-01","2012-01-01","2189-11-0003-1",611,14040,129.13999999999999,14046,129.13999999999999,0,0,51260,0,"P",null,"3543-LICENSE",null,"Internal","A","SL","2012-05-31","WCNX",0,7.78]
[null,2188,93408,"P","80 Litter Carts - Dark Navy Blue",49,null,null,null,0,"REHRIG PACIFIC COMPANY",null,null,"2012-04-16","2012-04-16","2188-12-0010-2",700,14050,1816.14,14056,1816.14,0,0,54260,0,"P",null,"KB73240",null,"Internal","A","SL",null,"WCNX",0,0]
[null,2188,93241,"P","65 Gallon Carts - Dark Aqua Blue",612,null,null,null,0,"REHRIG PACIFIC COMPANY",null,null,"2012-04-13","2012-04-13","2188-12-0010-1",700,14050,26726.71,14056,26726.71,0,0,54260,0,"P",null,"LA169543",null,"Internal","A","SL",null,"WCNX",0,0]
[null,2188,90479,"P","Sony Internet TV (SN = 3S18264700B1CC1135036)",0,null,null,null,0,"cdw",null,null,"2012-01-25","2012-01-25","1010-12-0018-1",500,14110,557.73,14116,557.73,0,0,70260,0,"P",null,"D506814",null,"Internal","A","SL",null,"WCNX",0,0]
[null,2188,90443,"P","20 FT Cable Extension",0,null,"n/a",null,2010,null,"n/a",null,"2011-11-01","2011-11-01","2189-11-0003-1",500,14070,64.8,14076,64.8,0,0,51260,0,"P",null,5003257,null,"Internal","A","SL","2011-12-31","WCNX",0,2.16]
[null,2188,90442,"P","(2) Drive Cam Units",0,null,"n/a",null,2010,null,"n/a",null,"2011-11-01","2011-11-01","2189-11-0003-1",500,14070,1187.0999999999999,14076,1187.0999999999999,0,0,51260,0,"P",null,5003250,null,"Internal","A","SL","2011-12-31","WCNX",0,39.57]
[null,2188,90441,"P","Intl Retriever Truck / Wayne Tom Cat",0,null,"1HTJSSKK5CJ592912",null,2012,"International","Wayne","Retriever Truck","2011-12-01","2011-12-01","2189-11-0003-1",700,14040,108532.26,14046,108532.26,0,0,51260,0,"P",null,"0053159-IN",3543,"Internal","A","SL","2011-12-31","WCNX",0,1292.05]
[null,2188,90437,"P","Used 2005 FORD F-150  Pickup Truck",0,null,"1FTPX14505FA67837",null,2005,"FORD F-150","Pickup","Pick Up Truck","2011-02-03","2011-02-03","2189-11-0004-1",300,14040,20177,14046,20177,0,0,51260,0,"P",null,1385671,6045,"Internal","A","SL","2011-12-31","WCNX",0,6165.2]
[null,2188,90436,"P","2005 Isuzu Delivery Truck",0,null,"JALC4B16057001582",null,2005,"Isuzu NPR","Flatbed","Container Delivery Truck","2007-02-16","2007-02-16","07-4018-008",500,14040,30083.75,14046,30083.75,0,0,51260,0,"P",null,211708,9571,"Internal","A","SL","2011-12-31","WCNX",0,29080.959999999999]
[null,2188,90434,"P","95 Gallon Navy Blue Carts",243,null,null,null,0,"REHRIG PACIFIC COMPANY-LA",null,null,"2010-03-19","2010-03-19","2189-10-0005-1",700,14050,12139.72,14056,12139.72,0,0,54260,0,"P",null,"LA154789",null,"Internal","A","SL","2011-12-31","WCNX",0,3034.94]
[null,2188,90433,"P","65 Gallon - Navy Blue Carts",324,null,null,null,0,"REHRIG PACIFIC COMPANY-LA",null,null,"2010-03-19","2010-03-19","2189-10-0005-1",700,14050,14319.46,14056,14319.46,{"$f":"S462-U462","v":0},0,54260,0,"P",null,"LA154788",null,"Internal","A","SL","2011-12-31","WCNX",0,3579.87]
[null,2188,90432,"P","2 Yd FL Containers for Chehalis",100,null,null,null,0,"RULE STEEL TANKS INC",null,"2 YD FEL/REL/SL Metal","2010-01-01","2010-01-01","2189-9-0008-1",1200,14050,44554.83,14056,44554.83,0,0,54260,0,"P",null,"0003212-IN",null,"Internal","A","SL","2018-06-30","WCNX",1,31559.69]
[null,2188,90431,"P","(300) Liter Carts & (300) 65 Liter Lids - Blue",300,null,null,null,0,"REHRIG PACIFIC COMPANY-LA",null,null,"2009-11-03","2009-11-03","2189-9-0004-1",700,14050,10368.11,14056,10368.11,0,0,54260,0,"P",null,"ER82514",null,"Internal","A","SL","2011-12-31","WCNX",0,3209.18]
[null,2188,90429,"P","Distribute Drive Cams Invoices (Onsite Technicians)",0,null,null,null,0,"Drive Cam",null,null,"2009-07-09","2009-07-09","2189-9-0006-1",500,14070,4215.6400000000003,14076,4215.6400000000003,0,0,51260,0,"P",null,"4072961-IN",null,"Internal","A","SL","2011-12-31","WCNX",0,2107.8000000000002]
[null,2188,90428,"P","95 Gallon Carts - Forrest Green",280,null,null,null,0,"REHRIG PACIFIC COMPANY-LA",null,null,"2009-08-07","2009-08-07","2189-9-0004-1",700,14050,13936.79,14056,13936.79,0,0,54260,0,"P",null,"LA150246",null,"Internal","A","SL","2011-12-31","WCNX",0,4811.51]
[null,2188,90427,"P","65 Gallon Carts - Dark Aqua Blue",452,null,null,null,0,"REHRIG PACIFIC COMPANY-LA",null,null,"2009-08-01","2009-08-01","2189-9-0004-1",700,14050,18171.27,14056,18171.27,0,0,54260,0,"P",null,"LA150090",null,"Internal","A","SL","2011-12-31","WCNX",0,6273.42]
[null,2188,90426,"P","95 Gallon Carts - Forrest Green",90,null,null,null,0,"REHRIG PACIFIC COMPANY-LA",null,null,"2009-08-01","2009-08-01","2189-9-0004-1",700,14050,4479.7,14056,4479.7,0,0,54260,0,"P",null,"LA150091",null,"Internal","A","SL","2011-12-31","WCNX",0,1546.57]
[null,2188,90425,"P","35 35 Gallon Carts - Dark Aqua Blue",120,null,null,null,0,"REHRIG PACIFIC COMPANY-LA",null,null,"2009-08-01","2009-08-01","2189-9-0004-1",700,14050,4329.82,14056,4329.82,0,0,54260,0,"P",null,"LA150092",null,"Internal","A","SL","2011-12-31","WCNX",0,1494.83]
[null,2188,90424,"P","35 Gallon Carts - Dark Aqua Blue",1080,null,null,null,0,"REHRIG PACIFIC COMPANY-LA",null,null,"2009-08-01","2009-08-01","2189-9-0004-1",700,14050,38968.300000000003,14056,38968.300000000003,0,0,54260,0,"P",null,"LA150093",null,"Internal","A","SL","2011-12-31","WCNX",0,13453.34]
[null,2188,90423,"P","95 Gallon Carts - Dark Aqua Blue",648,null,null,null,0,"REHRIG PACIFIC COMPANY-LA",null,null,"2009-08-01","2009-08-01","2189-9-0004-1",700,14050,28156.46,14056,28156.46,0,0,54260,0,"P",null,"LA150031",null,"Internal","A","SL","2011-12-31","WCNX",0,9720.68]
[null,2188,90422,"P","95 Gallon Carts - Forrest Green",486,null,null,null,0,"REHRIG PACIFIC COMPANY-LA",null,null,"2009-08-01","2009-08-01","2189-9-0004-1",700,14050,24190.29,14056,24190.29,0,0,54260,0,"P",null,"LA149992",null,"Internal","A","SL","2011-12-31","WCNX",0,8351.42]
[null,2188,90421,"P","95 Gallon Carts - Forrest Green",486,null,null,null,0,"REHRIG PACIFIC COMPANY-LA",null,null,"2009-08-01","2009-08-01","2189-9-0004-1",700,14050,24190.29,14056,24190.29,0,0,54260,0,"P",null,"LA149993",null,"Internal","A","SL","2011-12-31","WCNX",0,8351.42]
[null,2188,90420,"P","95 Gallon Carts - Forrest Green",486,null,null,null,0,"REHRIG PACIFIC COMPANY-LA",null,null,"2009-08-01","2009-08-01","2189-9-0004-1",700,14050,24190.29,14056,24190.29,0,0,54260,0,"P",null,"LA149994",null,"Internal","A","SL","2011-12-31","WCNX",0,8351.42]
[null,2188,90419,"P","95 Gallon Carts - Forrest Green",486,null,null,null,0,"REHRIG PACIFIC COMPANY-LA",null,null,"2009-08-01","2009-08-01","2189-9-0004-1",700,14050,24190.29,14056,24190.29,0,0,54260,0,"P",null,"LA149964",null,"Internal","A","SL","2011-12-31","WCNX",0,8351.42]
[null,2188,90418,"P","95 Gallon Carts - Forrest Green",186,null,null,null,0,"REHRIG PACIFIC COMPANY-LA",null,null,"2009-08-01","2009-08-01","2189-9-0004-1",700,14050,9258,14056,9258,0,0,54260,0,"P",null,"LA149963",null,"Internal","A","SL","2011-12-31","WCNX",0,3196.21]
[null,2188,90417,"P","95 Gallon Carts - Dark Aqua Blue",300,null,null,null,0,"REHRIG PACIFIC COMPANY-LA",null,null,"2009-08-01","2009-08-01","2189-9-0004-1",700,14050,14608.59,14056,14608.59,0,0,54260,0,"P",null,"LA149962",null,"Internal","A","SL","2011-12-31","WCNX",0,5043.4399999999996]
[null,2188,90416,"P","Distribute Drive Cams Invoice (Subscription Fees)",0,null,null,null,0,"Drive Cam",null,null,"2009-06-26","2009-06-26","2189-9-0006-1",500,14070,379.36,14076,379.36,0,0,51260,0,"P",null,"4072169-IN",null,"Internal","A","SL","2011-12-31","WCNX",0,189.66]
[null,2188,90415,"P","Distribute Drive Cams Invoice (Subscription Fees)",0,null,null,null,0,"Drive Cam",null,null,"2009-06-22","2009-06-22","2189-9-0006-1",500,14070,12775.32,14076,12775.32,0,0,51260,0,"P",null,"4071790-IN",null,"Internal","A","SL","2011-12-31","WCNX",0,6387.65]
[null,2188,90412,null,"Goodwill",0,null,null,null,0,null,null,null,"2004-08-31","2004-08-31",null,0,15110,324487.61,15120,-53092.65,377580.26,0,70268,0,"A","Superior",null,null,"Internal","A","NO","2011-12-31","WCNX",0,-53092.65]
[null,2188,90411,null,"Goodwill - Superior",0,null,null,null,0,null,null,null,"1999-06-01","1999-06-01",null,0,15110,822079.68,15120,53092.65,768987.03,0,70268,0,"A","Superior",null,null,"Internal","A","NO","2011-12-31","WCNX",0,53092.65]
[null,2188,90410,"P","1 Route Manager User License",0,null,0,null,0,"DESERT MICRO",null,null,"2007-02-22","2007-02-22","07-2147-405",300,14110,875,14116,875,0,0,70260,0,"P",null,9292,null,"Internal","A","SL","2011-12-31","WCNX",0,875]
[null,2188,90409,null,"Compaq PC",0,null,254789001,null,0,"Quest",null,null,"2002-03-29","2002-03-29","U-02-2147-001",300,14110,754.25,14116,754.25,0,0,70260,0,"P",null,295743,null,"Internal","A","SL","2011-12-31","WCNX",0,754.25]
[null,2188,90408,null,"(1)Route Manager License for Chehalis Site 2147",0,null,null,null,0,"DesertMicro",null,null,"2004-12-20","2004-12-20","U042147009",300,14110,1750,14116,1750,0,0,70260,0,"P",0,7597,null,"Internal","A","SL","2011-12-31","WCNX",0,1750]
[null,2188,90407,null,"CREDIT for Overcharge of (1) additional License",0,null,null,null,0,"DesertMicro",null,null,"2004-12-20","2004-12-20","U042147009",300,14110,-875,14116,-875,0,0,70260,0,"P",0,"7597a",null,"Internal","A","SL","2011-12-31","WCNX",0,-875]
[null,2188,90406,"P","Tax - Automated Containers",0,null,null,null,0,"Toter",null,"Non Audit Assets","2003-12-31","2003-12-31","U-03-2147-004",700,14050,39.130000000000003,14056,39.130000000000003,0,0,54260,0,"P",null,126258,null,"Internal","A","SL","2011-12-31","WCNX",0,39.130000000000003]
[null,2188,90405,"P","64 GA Carts",50,null,0,null,0,"TOTER, INC.",null,null,"2007-06-15","2007-06-15","07-2147-003",700,14050,2722.34,14056,2722.34,0,0,54260,0,"P",null,203161,null,"Internal","A","SL","2011-12-31","WCNX",0,1782.5]
[null,2188,90404,"P","64 Gal UNIV XHD Automated Carts-Graystone",50,null,"A0574311-A0574335",null,0,"Toter Incorporated",null,null,"2005-10-03","2005-10-03",52147004,700,14050,2859.35,14056,2859.35,0,0,54260,0,"P",0,"KB 171043",null,"Internal","A","SL","2011-12-31","WCNX",0,2553]
[null,2188,90403,"P","96 Gal UNIV XHD AS0201 Carts - Graystone",25,null,"A0574311-A0574335",null,0,"Toter Incorporated",null,null,"2005-09-27","2005-09-27",52147004,700,14050,2130.0100000000002,14056,2130.0100000000002,0,0,54260,0,"P",0,"KB 170621",null,"Internal","A","SL","2011-12-31","WCNX",0,1901.81]
[null,2188,90402,"P","2 Yd Front/Rear Load Container",7,null,null,null,0,"Enterprise Sales, Inc",null,"2 YD FEL/REL/SL Metal","2005-09-01","2005-09-01",52147003,1200,14050,3164,14056,3164,0,0,54260,0,"P",0,2630,null,"Internal","A","SL","2011-12-31","WCNX",0,1669.91]
[null,2188,90399,"P","96 GA Carts",25,null,0,null,0,"TOTER, INC.",null,null,"2007-06-15","2007-06-15","07-2147-003",700,14050,1511.26,14056,1511.26,0,0,54260,0,"P",null,203161,null,"Internal","A","SL","2011-12-31","WCNX",0,989.39]
[null,2188,90398,"P","64 Gallon Toters",180,null,"Z6000351-Z6000700",null,0,"Toter Incorporated",null,null,"2004-02-05","2004-02-05",42147002,700,14050,7190.19,14056,7190.19,0,0,54260,0,"A",0,"130608-1",null,"Internal","A","SL","2011-12-31","WCNX",0,7190.19]
[null,2188,90394,"P","2yd RL Containers",5,null,null,null,0,"Enterprise Sales, Inc",null,"2 YD FEL/REL/SL Metal","2004-03-17","2004-03-17","042147002b",1200,14050,1922.45,14056,1922.45,0,0,54260,0,"P",0,1982,null,"Internal","A","SL","2011-12-31","WCNX",0,1241.6600000000001]
[null,2188,90392,"P","20 Gallon Inserts",400,null,null,null,0,"Toter",null,null,"2003-10-31","2003-10-31","U-03-2147-004",700,14050,6672.79,14056,6672.79,0,0,54260,0,"P",null,123924,null,"Internal","A","SL","2011-12-31","WCNX",0,6672.79]
[null,2188,90391,"P","64 Gallon Automated Containers",25,null,"Y0521217-Y0521241",null,0,"Toter",null,null,"2003-10-31","2003-10-31","U-03-2147-004",700,14050,1103.6400000000001,14056,1103.6400000000001,0,0,54260,0,"P",null,123924,null,"Internal","A","SL","2011-12-31","WCNX",0,1103.6400000000001]
[null,2188,90390,"P","96 Gallon Automated Containers",75,null,"Y0521242-Y0521316",null,0,"Toter",null,null,"2003-10-31","2003-10-31","U-03-2147-004",700,14050,3553.24,14056,3553.24,0,0,54260,0,"P",null,123924,null,"Internal","A","SL","2011-12-31","WCNX",0,3553.24]
[null,2188,90389,"P","32 Gallon Automated Containers",1100,null,"Y0520117-Y0521216",null,0,"Toter",null,null,"2003-10-31","2003-10-31","U03-2147-004",700,14050,34240.68,14056,34240.68,0,0,54260,0,"P",null,123655,null,"Internal","A","SL","2011-12-31","WCNX",0,34240.68]
[null,2188,90384,"P","Goodwill",0,null,null,null,0,null,null,null,"2008-12-31","2008-12-31",null,0,15110,-276856.28000000003,15120,0,-276856.28000000003,0,0,0,"A","LeMay Enterprises",null,null,"Internal","A","NO","2011-12-31","WCNX",0,0]
[null,2188,90383,"P","City of Centralia",0,null,null,null,0,null,null,null,"2008-11-03","2008-11-03",null,4000,15250,2295578,15256,870406.66,1425171.3399999999,57389.45,70269,4782.45,"A","LeMay Enterprises",null,null,"Internal","A","SL","2011-12-31","WCNX",0,181733.26]
[null,2188,90382,"P","Town of Budoca",0,null,null,null,0,null,null,null,"2008-11-03","2008-11-03",null,2500,15250,185,15256,112.23,72.77,7.4,70269,0.62,"A","LeMay Enterprises",null,null,"Internal","A","SL","2011-12-31","WCNX",0,23.43]
[null,2188,90381,"P","City of Napavine",0,null,null,null,0,null,null,null,"2008-11-03","2008-11-03",null,2500,15250,71207,15256,43198.91,28008.089999999997,2848.28,70269,237.36,"A","LeMay Enterprises",null,null,"Internal","A","SL","2011-12-31","WCNX",0,9019.5499999999993]
[null,2188,90380,"P","City of Morton",0,null,null,null,0,null,null,null,"2008-11-03","2008-11-03",null,2500,15250,137403,15256,83357.820000000007,54045.179999999993,5496.12,70269,458.01,"A","LeMay Enterprises",null,null,"Internal","A","SL","2011-12-31","WCNX",0,17404.38]
[null,2188,90379,"P","City of Tenino",0,null,null,null,0,null,null,null,"2008-11-03","2008-11-03",null,2500,15250,197682,15256,119927.08,77754.92,7907.28,70269,658.94,"A","LeMay Enterprises",null,null,"Internal","A","SL","2011-12-31","WCNX",0,25039.72]
[null,2188,90378,"P","Goodwil - LeMay Enterprises",0,null,null,null,0,null,null,null,"2008-11-03","2008-11-03",null,0,15110,575439,15120,0,575439,0,null,0,"A","LeMay Enterprises",null,null,"Internal","A","NO","2011-12-31","WCNX",0,0]
[null,2188,90377,"P","Air Compressor (Shop Equipment)",0,null,null,null,0,null,null,null,"2008-11-03","2008-11-03",null,300,14070,1000,14076,1000,0,0,51260,0,"A","LeMay Enterprises",null,null,"Internal","A","SL","2011-12-31","WCNX",0,1000]
[null,2188,90278,88676,"Completion of Interior Painting",0,null,null,null,0,"C.A. SIMPSON",null,null,"2012-01-01","2012-01-01","2188-11-0013-1",1000,14080,6058.8,14086,6058.8,0,0,57260,0,"P",null,7,null,"Internal","A","SL",null,"WCNX",0,0]
[null,2188,90277,88676,"Electrical Change Order",0,null,null,null,0,"C.A. SIMPSON",null,null,"2012-01-01","2012-01-01","2188-11-0013-1",1000,14080,1371.6,14086,1371.6,0,0,57260,0,"P",null,6,null,"Internal","A","SL",null,"WCNX",0,0]
[null,2188,90239,"P","4 Cubic Yard FEL Containers",1,null,null,null,0,"Rule Steal",null,"4 YD FEL/REL/SL Metal","2012-01-31","2012-01-31","2188-12-0008-1",1200,14050,598.1,14056,593.94000000000005,4.1599999999999682,49.84,54260,4.1500000000000004,"P",null,7943,null,"Internal","A","SL","2018-06-30","WCNX",3,319.82]
[null,2188,89370,null,"Remodeling Construction Fees",0,null,null,null,0,null,null,null,"2012-01-01","2012-01-01","2188-11-0013-1",1000,14080,2019.6,14086,2019.6,0,0,57260,0,"P",null,8,null,"Internal","A","SL",null,"WCNX",0,0]
[null,2188,88801,"P","AaquaTools CartBlaster II Container Cleaning System",0,null,null,null,0,"Aaqua Tools",null,null,"2011-11-21","2011-11-21","2188-11-0015-1",500,14070,3050.46,14076,3050.46,0,0,51260,0,"P",null,28923,null,"Internal","A","SL",null,"WCNX",0,0]
[null,2188,88724,"P","(55) Mounted Radios",0,null,null,null,0,null,null,null,"2011-12-01","2011-12-01","2183-11-0019-1",500,14070,25791.25,14076,25791.25,0,0,51260,0,"P",null,"10-4013929",null,"Internal","A","SL",null,"WCNX",0,0]
[null,2188,88676,"P","Remodel for Centralia Office",0,null,null,null,0,null,null,null,"2011-12-19","2011-12-19","2188-11-0013-1",1000,14080,12117.6,14086,12117.6,0,0,57260,0,"P",null,"1SW23496X2079614D",null,"Internal","A","SL",null,"WCNX",0,0]
[null,2188,88673,"P","Pressure Washer",0,null,null,null,0,null,null,null,"2011-12-15","2011-12-15","2188-11-0016-1",500,14070,9437.07,14076,9437.07,0,0,51260,0,"P",null,1037705,null,"Internal","A","SL",null,"WCNX",0,0]
[null,2188,87859,"P","6 YD FEL Containers",3,null,null,null,0,"RULE STEEL TANKS INC",null,"6 YD FEL/REL/SL Metal","2011-11-08","2011-11-08","2188-11-0012-1",1200,14050,1597.72,14056,1597.72,0,110.97,54260,0,"P",null,"0007942-IN",null,"Internal","A","SL","2018-06-30","WCNX",4,887.62]
[null,2188,87755,"P","2012 Peterbilt FEL / Wittke Starlight",0,null,"3BPZL70X3CF149691",null,2012,"Peterbilt 320","Labrie","FEL Truck","2011-11-01","2011-11-01","2188-11-0004-1",1000,14040,281004.90000000002,14046,281004.90000000002,0,0,51260,0,"P",null,4101814,2037,"Internal","A","SL",null,"WCNX",0,0]
[null,2188,86473,"P","95 Gallon Carts - Dark Aqua",243,null,null,null,0,"REHRIG PACIFIC COMPANY",null,null,"2011-09-14","2011-09-14","2188-11-0011-1",700,14050,13162.28,14056,13162.28,0,0,54260,0,"P",null,"LA165760",null,"Internal","A","SL",null,"WCNX",0,0]
[null,2188,86472,"P","65 Gallon Carts - Dark Aqua",180,null,null,null,0,"REHRIG PACIFIC COMPANY",null,null,"2011-09-14","2011-09-14","2188-11-0011-1",700,14050,8633.08,14056,8633.08,0,0,54260,0,"P",null,"LA165759",null,"Internal","A","SL",null,"WCNX",0,0]
[null,2188,85510,"P","HP ProBook 6450B (SN = CNU1250B0R)  and Docking Station (SN = CNU120W54N)",0,null,null,null,0,"CDW",null,null,"2011-07-11","2011-07-11","2188-11-0010-1",300,14110,978.9,14116,978.9,0,0,70260,0,"P",null,"XWL9329",null,"Internal","A","SL",null,"WCNX",0,0]
[null,2188,85267,"P","AA Welding R/O Skid Trailer",0,null,"1G9FHAP72CA008004",null,2012,"FHAP","AA Welding","R/O Trailer","2011-07-31","2011-07-31","2188-11-0005-1",1000,14040,51904.55,14046,51904.55,0,0,51260,0,"P",null,4101832,8715,"Internal","A","SL",null,"WCNX",0,0]
[null,2188,84465,"P","2 Yard Commercial Containers",37,null,null,null,0,null,null,"2 YD FEL/REL/SL Metal","2011-01-01","2011-01-01",null,100,14050,0,14056,0,0,0,54260,0,"P",null,null,null,"Internal","A","NO",null,"WCNX",0,0]
[null,2188,79884,79491,"Equipment for Phone System for Centrailia",0,null,null,null,0,"CDW",null,null,"2011-01-01","2011-01-01","2188-10-0013-1",500,14100,2472.3000000000002,14106,2472.3000000000002,0,0,70260,0,"P",null,"VXR9856",null,"Internal","A","SL",null,"WCNX",0,0]
[null,2188,79586,79491,"Add tax for invoice# 16793 (phone system)",0,null,null,null,0,"GAYNOR TELESYSTEMS",null,null,"2010-12-31","2010-12-31","2188-10-0013-1",500,14100,409.13,14106,409.13,0,0,70260,0,"P",null,16793,null,"Internal","A","SL",null,"WCNX",0,0]
[null,2188,79585,79491,"Add tax for invoice# 16794 (phone system)",0,null,null,null,0,"GAYNOR TELESYSTEMS",null,null,"2010-12-31","2010-12-31","2188-10-0013-1",500,14100,357.98,14106,357.98,0,0,70260,0,"P",null,16794,null,"Internal","A","SL",null,"WCNX",0,0]
[null,2188,79493,79491,"Phone system Final payment for LeMay Centrailia",0,null,null,null,0,"Gaynor Telesystems",null,null,"2010-12-31","2010-12-31","2188-10-0013-1",500,14100,4531.45,14106,4531.45,0,0,70260,0,"P",null,"INV000016794",null,"Internal","A","SL",null,"WCNX",0,0]
[null,2188,79492,79491,"Phone system progress payment for LeMay Centrailia",0,null,null,null,0,"Gaynor Telesystems",null,null,"2010-12-31","2010-12-31","2188-10-0013-1",500,14100,5178.8100000000004,14106,5178.8100000000004,0,0,70260,0,"P",null,"INV000016793",null,"Internal","A","SL",null,"WCNX",0,0]
[null,2188,79491,"P","Down Payment for Phone system for Centralia 2188",0,null,null,null,0,"Gaynor Telesystems",null,null,"2010-12-31","2010-12-31","2188-10-0013-1",500,14100,3236.76,14106,3236.76,{"$f":"S526-U526","v":0},0,70260,0,"P",null,"INV000016641",null,"Internal","A","SL",null,"WCNX",0,0]
[null,2188,77163,"P","95 Gallon Carts - Navy Blue w/ Lids",162,null,null,null,0,"REHRIG PACIFIC COMPANY-LA",null,null,"2010-09-11","2010-09-11","2188-10-0012-1",700,14050,7855.42,14056,7855.42,0,0,54260,0,"P",null,"LA158657",null,"Internal","A","SL",null,"WCNX",0,0]
[null,2188,77162,"P","65 Gal Navy Blue cart with lid dark aqua blue  #p44241 to #p44672",432,null,null,null,0,"REHRIG PACIFIC COMPANY-LA",null,null,"2010-09-11","2010-09-11","2188-10-0012-1",700,14050,17834.060000000001,14056,17834.060000000001,0,0,54260,0,"P",null,"LA158658",null,"Internal","A","SL",null,"WCNX",0,0]
[null,2188,75728,"P","3 Yard Commercial Containers (plastic)",8,null,null,null,0,"REHRIG PACIFIC COMPANY-LA",null,"3 YD FEL/REL/SL Plastic","2010-06-17","2010-06-17","2188-10-0007-1",700,14050,5610.74,14056,5610.74,0,0,54260,0,"P",null,"AT126953",null,"Internal","A","SL",null,"WCNX",0,0]
[null,2188,75725,"P","2 Yard Commercial Containers (plastic)",7,null,null,null,0,"REHRIG PACIFIC COMPANY-LA",null,"2 YD FEL/REL/SL Plastic","2010-06-17","2010-06-17","2188-10-0007-1",700,14050,3838.31,14056,3838.31,0,0,54260,0,"P",null,"LA126950",null,"Internal","A","SL",null,"WCNX",0,0]
[null,2188,75189,"P","RouteManager Site Licenses and 10 Users for LeMay Centralia",0,null,null,null,0,"DESERT MICRO",null,null,"2010-06-30","2010-06-30","2188-10-0008-1",300,14110,11150,14116,11150,0,0,70260,0,"P",null,11171,null,"Internal","A","SL",null,"WCNX",0,0]
[null,2188,74790,66904,"2009 Peterbilt 320 Body",0,null,719301,null,2009,null,null,"Automated Sideload","2008-12-05","2008-12-05","2180-8-0003-1",1000,14040,100569.69,14046,100569.69,0,0,51260,0,"P",null,"0036476-IN",null,"Internal","A","SL","2010-05-31","WCNX",0,15085.45]
[null,2188,73292,71149,"Amount deducted for retention Stormwater in Centralia",0,null,null,null,0,"GARYS BULLDOZING LLC",null,null,"2010-01-31","2010-01-31","2188-10-0006-1",1000,14010,10681.88,14016,10681.88,0,0,57260,0,"P",null,8315,null,"Internal","A","SL",null,"WCNX",0,0]
[null,2188,71922,71149,"Improvement Stormwater in Centralia",0,null,null,null,0,"PACLAND",null,null,"2010-01-01","2010-01-01","2188-9-0004-1",911,14010,10920.23,14016,10920.23,0,0,57260,0,"P",null,21594,null,"Internal","A","SL",null,"WCNX",0,0]
[null,2188,71662,"P","PR Wheel Jacks with Mp-5/10",0,null,null,null,0,"Emerson Manufacturing A/R",null,null,"2009-12-07","2009-12-07","2188-9-0019-1",500,14070,7569.08,14076,7569.08,0,0,51260,0,"P",null,7242,null,"Internal","A","SL",null,"WCNX",0,0]
[null,2188,71335,71149,"Stormwater Improvement in Centralia Yardwaste",0,null,null,null,0,"GARYS BULLDOZING LLC",null,null,"2009-12-15","2009-12-15","2188-9-0004-1",1000,14010,1904.99,14016,1904.99,0,0,57260,0,"P",null,8312,null,"Internal","A","SL",null,"WCNX",0,0]
[null,2188,71199,71149,"Stormwater mprovements in Centralia",0,null,null,null,0,"PACLAND",null,null,"2009-12-15","2009-12-15","2188-9-0004-1",1000,14010,59.9,14016,59.9,0,0,57260,0,"P",null,21386,null,"Internal","A","SL",null,"WCNX",0,0]
[null,2188,71198,71149,"Stormwater Impvement in Centralia",0,null,null,null,0,"PACLAND",null,null,"2009-12-15","2009-12-15","2188-9-0004-1",1000,14010,41.14,14016,41.14,0,0,57260,0,"P",null,21387,null,"Internal","A","SL",null,"WCNX",0,0]
[null,2188,71197,71149,"Install drainage gallery for stormwater improvements in Centralia",0,null,null,null,0,"GARYS BULLDOZING LLC",null,null,"2009-12-15","2009-12-15","2188-9-0004-1",1000,14010,2158,14016,2158,0,0,57260,0,"P",null,8294,null,"Internal","A","SL",null,"WCNX",0,0]
[null,2188,71196,71149,"Stormwater Improvements in Centralia",0,null,null,null,0,"GARYS BULLDOZING LLC",null,null,"2009-12-15","2009-12-15","2188-9-0004-1",1000,14010,35019.1,14016,35019.1,0,0,57260,0,"P",null,8290,null,"Internal","A","SL",null,"WCNX",0,0]
[null,2188,71195,71149,"Design and tripe new layout for stormwater in Centralia",0,null,null,null,0,"CURB MASTER INC",null,null,"2009-12-15","2009-12-15","2188-9-0004-1",1000,14010,2087.87,14016,2087.87,0,0,57260,0,"P",null,8106,null,"Internal","A","SL",null,"WCNX",0,0]
[null,2188,71149,"P","Stormwater Improvements - Centrailia",0,null,null,null,0,null,null,null,"2009-12-15","2009-12-15","2188-9-0004-1",1000,14010,591301.18000000005,14016,591301.18000000005,0,0,57260,0,"P",null,8294,null,"Internal","A","SL",null,"WCNX",0,0]
[null,2188,68732,"P","Tools for Centralia Shop",0,null,null,null,0,"Emerson Manufacturing",null,null,"2009-09-18","2009-09-18","2188-9-0010-1",500,14070,5898.89,14076,5898.89,0,0,51260,0,"P",null,6877,null,"Internal","A","SL",null,"WCNX",0,0]
[null,2188,68606,"P","Distribute Drive Cams Invoices (Onsite Technicians)",0,null,null,null,0,"Drive Cam",null,null,"2009-07-09","2009-07-09","2188-9-0017-1",500,14070,4416.37,14076,4416.37,0,0,51260,0,"P",null,"4072961-IN",null,"Internal","A","SL",null,"WCNX",0,0]
[null,2188,67755,"P","2007 Type H Rear REL",0,null,"1HTWCAAN57J471893",null,2007,"International - 2007","McNeilus","REL Truck","2008-11-03","2008-11-03",null,800,14040,133500,14046,133500,0,0,51260,0,"A","LeMay Enterprises",null,1061,"Internal","A","SL","2009-08-31","WCNX",0,13906.25]
[null,2188,67256,"P","Distribute Drive Cams Invoice (46 - DriveCams & Installation) Cont.",0,null,null,null,0,"Drive Cam",null,null,"2009-06-26","2009-06-26","2188-9-0017-1",500,14070,397.42,14076,397.42,0,0,51260,0,"P",null,"4072169-IN",null,"Internal","A","SL",null,"WCNX",0,0]
[null,2188,67254,"P","Distribute Drive Cams Invoice (46 - DriveCams & Installation)",0,null,null,null,0,"Drive Cam",null,null,"2009-06-22","2009-06-22","2188-9-0017-1",500,14070,13383.67,14076,13383.67,0,0,51260,0,"P",null,"4071790-IN",null,"Internal","A","SL",null,"WCNX",0,0]
[null,2188,66929,"P","2006 Type H Drop R/O",0,null,"4V5M99GHX6N425468",null,2006,"Volvo","Helm","R/O Truck","2008-11-03","2008-11-03",null,700,14040,81500,14046,81500,0,0,51260,0,"A","LeMay Enterprises",null,4045,"Internal","A","SL","2009-07-31","WCNX",0,8732.15]
[null,2188,66904,"P","2009 Type H TSide ASL",0,null,"3BPZL50X39F719301",null,2009,"Peterbilt","Wayne","Automated Sideload","2008-11-03","2008-11-03",null,1000,14040,132128.6,14046,132128.6,0,0,51260,0,"A","LeMay Enterprises",null,3627,"Internal","A","SL","2009-07-31","WCNX",0,9909.64]
[null,2188,66803,"P","1994 Dodge Ram ",0,null,"1B7KC26CXRS643373",null,1994,"Dodge","Other","Pick Up Truck","2009-01-01","2009-01-01",null,100,14040,0,14046,0,0,0,51260,0,"P",null,null,6205,"Internal","A","NO",null,"WCNX",0,0]
[null,2188,65051,61382,"FLUP - Truck 2019",0,null,714965,null,2003,null,null,"Non-Rolling Stock","2009-05-03","2009-05-03","2188-9-0002-1",300,14040,7366.07,14046,7366.07,0,0,51260,0,"P",null,965132,2019,"Internal","A","SL",null,"WCNX",0,0]
[null,2188,65048,61373,"FLUP - Truck 3554",0,null,712348,null,2000,null,null,"Non-Rolling Stock","2009-05-03","2009-05-03","2188-9-0005-1",300,14040,5048.87,14046,5048.87,0,0,51260,0,"P",null,55989,3554,"Internal","A","SL",null,"WCNX",0,0]
[null,2188,64719,"P","3 Yard Commercial Containers",25,null,null,null,0,null,null,"3 YD FEL/REL/SL Metal","2008-11-03","2008-11-03",null,1200,14050,4625,14056,4625,0,0,54260,0,"A","LeMay Enterprises",null,null,"Internal","A","SL","2021-07-31","WCNX",1,4625]
[null,2188,64715,"P","2 Yard Commercial Containers",87,null,null,null,0,null,null,"2 YD FEL/REL/SL Metal","2008-11-03","2008-11-03",null,1200,14050,12180,14056,12180,0,0,54260,0,"A","LeMay Enterprises",null,null,"Internal","A","SL","2009-04-30","WCNX",2,507.5]
[null,2188,64711,"P","20 Yard R/O Containers",2,null,null,null,0,null,null,"20 YD RO Box","2008-11-03","2008-11-03",null,700,14050,22500,14056,22500,0,0,54260,0,"A","LeMay Enterprises",null,null,"Internal","A","SL","2009-04-30","WCNX",0,1607.15]
[null,2188,64678,"P","25 Yard R/O Containers",2,null,null,null,0,null,null,"25 YD RO Box","2008-11-03","2008-11-03",null,700,14050,26250,14056,26250,0,0,54260,0,"A","LeMay Enterprises",null,null,"Internal","A","SL","2009-04-30","WCNX",0,1875]
[null,2188,62782,"P","Shop Jacks",0,null,null,null,0,"ARI HETRA",null,null,"2009-01-01","2009-01-01","2188-8-0004-1",411,14070,2847,14076,2847,0,0,51260,0,"P",null,"0030881-IN",null,"Internal","A","SL",null,"WCNX",0,0]
[null,2188,62608,61411,"Autogreaser for New Truck VIN 277273",0,null,null,null,0,null,null,"Non-Rolling Stock","2009-01-01","2009-01-01","2188-8-0005-1",300,14040,3902.23,14046,3902.23,0,0,51260,0,"P",null,"024/40006547",null,"Internal","A","SL",null,"WCNX",0,0]
[null,2188,62492,"P","Goodwill Entries",0,null,null,null,0,null,null,null,"2008-12-01","2008-12-01",null,0,15110,-208545.97,15120,0,-208545.97,0,0,0,"A","LeMay",null,null,"Internal","A","NO",null,"WCNX",0,0]
[null,2188,61527,"P","Thurston County G Certificate",0,null,null,null,0,null,null,null,"2008-11-03","2008-11-03",null,0,15260,3733994,15266,0,3733994,0,null,0,"A","LeMay Enterprises",null,null,"Internal","A","NO",null,"WCNX",0,0]
[null,2188,61526,"P","Lewis County G Certificate",0,null,null,null,0,null,null,null,"2008-11-03","2008-11-03",null,0,15260,5372380,15266,0,5372380,0,null,0,"A","LeMay Enterprises",null,null,"Internal","A","NO",null,"WCNX",0,0]
[null,2188,61525,"P","Centralia Building",0,null,null,null,0,null,null,null,"2008-11-03","2008-11-03",null,2000,14080,643000,14086,487608.33,155391.66999999998,32150,57260,2679.17,"A","LeMay Enterprises",null,null,"Internal","A","SL",null,"WCNX",0,0]
[null,2188,61523,"P","4YD Containers",147,null,null,null,0,null,null,"4 YD FEL/REL/SL Metal","2008-11-03","2008-11-03",null,700,14050,7056,14056,7056,0,0,54260,0,"A","LeMay Enterprises",null,null,"Internal","A","SL","2022-04-30","WCNX",16,7056]
[null,2188,61522,"P","Residential Customers ($10 each)",15553,null,null,null,0,null,null,null,"2008-11-03","2008-11-03",null,500,14050,155530,14056,155530,0,0,54260,0,"A","LeMay Enterprises",null,null,"Internal","A","SL",null,"WCNX",0,0]
[null,2188,61520,"P","6YD Containers",64,null,null,null,0,null,null,"6 YD FEL/REL/SL Metal","2008-11-03","2008-11-03",null,700,14050,25475.27,14056,25475.27,0,0,54260,0,"A","LeMay Enterprises",null,null,"Internal","A","SL","2023-05-31","WCNX",12,25475.27]
[null,2188,61519,"P","Residential Customers ($10 each)",20130,null,null,null,0,null,null,null,"2008-11-03","2008-11-03",null,500,14050,182580,14056,182580,0,0,54260,0,"A","LeMay Enterprises",null,null,"Internal","A","SL",null,"WCNX",0,0]
[null,2188,61516,"P","Centralia Building Improvements",0,null,null,null,0,null,null,null,"2008-11-03","2008-11-03",null,2000,14010,25000,14016,18958.330000000002,6041.6699999999983,1250,57260,104.17,"A","LeMay Enterprises",null,null,"Internal","A","SL",null,"WCNX",0,0]
[null,2188,61416,"P","Goodwil - LeMay Enterprises",0,null,null,null,0,null,null,null,"2008-11-03","2008-11-03",null,0,15110,927097,15120,0,927097,0,null,0,"A","LeMay Enterprises",null,null,"Internal","A","NO",null,"WCNX",0,0]
[null,2188,61415,"P","Air Compressor (Shop Equipment)",0,null,null,null,0,null,null,null,"2008-11-03","2008-11-03",null,300,14070,1000,14076,1000,0,0,51260,0,"A","LeMay Enterprises",null,null,"Internal","A","SL",null,"WCNX",0,0]
[null,2188,61414,"P","Welder (Shop Equipment)",0,null,null,null,0,null,null,null,"2008-11-03","2008-11-03",null,300,14070,2000,14076,2000,0,0,51260,0,"A","LeMay Enterprises",null,null,"Internal","A","SL",null,"WCNX",0,0]
[null,2188,61411,"P","2009 Type H Drop R/O",0,null,"4V5M99EH09N277273",null,2009,"Volvo","Helm","R/O Truck","2008-11-03","2008-11-03",null,1000,14040,165487,14046,165487,0,0,51260,0,"A","LeMay Enterprises",null,4071,"Internal","A","SL",null,"WCNX",0,0]
[null,2188,61410,"P","2009 Type H Drop R/O",0,null,"4V5M99EH99N277269",null,2009,"Volvo","Helm","R/O Truck","2008-11-03","2008-11-03",null,1000,14040,165487,14046,165487,0,0,51260,0,"A","LeMay Enterprises",null,4066,"Internal","A","SL",null,"WCNX",0,0]
[null,2188,61404,"P","2007 Type H TSide ASL",0,null,"3BPZLD9X67F717682",null,2007,"Peterbilt","Wayne","Automated Sideload","2008-11-03","2008-11-03",null,800,14040,133500,14046,133500,0,0,51260,0,"A","LeMay Enterprises",null,3614,"Internal","A","SL",null,"WCNX",0,0]
[null,2188,61403,"P","2007 Type H TSide ASL",0,null,"3BPZLD9X47F717681",null,2007,"Peterbilt","Wayne","Automated Sideload","2008-11-03","2008-11-03",null,800,14040,133500,14046,133500,0,0,51260,0,"A","LeMay Enterprises",null,3613,"Internal","A","SL",null,"WCNX",0,0]
[null,2188,61401,"P","2007 Type H Drop R/O",0,null,"4V5M99GHX7N481931",null,2007,"Volvo","Helm","R/O Truck","2008-11-03","2008-11-03",null,800,14040,86500,14046,86500,0,0,51260,0,"A","LeMay Enterprises",null,4057,"Internal","A","SL",null,"WCNX",0,0]
[null,2188,61400,"P","2007 Type H Rear REL",0,null,"1HTWCAAN17J411772",null,2007,"International","McNeilus","REL Truck","2008-11-03","2008-11-03",null,800,14040,133500,14046,133500,0,0,51260,0,"A","LeMay Enterprises",null,1060,"Internal","A","SL",null,"WCNX",0,0]
[null,2188,61392,"P","2006 Type H Drop R/O",0,null,"4V5M99GHX6N425471",null,2006,"Volvo","Helm","R/O Truck","2008-11-03","2008-11-03",null,700,14040,81500,14046,81500,0,0,51260,0,"A","LeMay Enterprises",null,4043,"Internal","A","SL",null,"WCNX",0,0]
[null,2188,61382,"P","2003 Type H Front FEL",0,null,"1NPZLT0X13D714965",null,2003,"Peterbilt","Labrie","FEL Truck","2008-11-03","2008-11-03",null,400,14040,133500,14046,133500,0,0,51260,0,"A","LeMay Enterprises",null,2019,"Internal","A","SL",null,"WCNX",0,0]
[null,2188,61318,"P","1990 Type M Bobcat Welder",0,null,"LCO89582",null,1990,"Other","Other","Non-Rolling Stock","2008-11-03","2008-11-03",null,300,14030,2500,14036,2500,0,0,51260,0,"A","LeMay Enterprises",null,7369,"Internal","A","SL",null,"WCNX",0,0]
[null,2188,61317,"P","Centralia Land",0,null,null,null,0,null,null,null,"2008-11-03","2008-11-03",null,0,14000,422000,14016,0,422000,0,57260,0,"A","LeMay Enterprises",null,null,"Internal","A","NO",null,"WCNX",0,0]

{"sheet":"FAR Dep Summary","index":2,"n_rows":29,"n_cols":6,"rows_kept":29,"cut":false,"hidden":false,"merged":[[15,0,15,5]]}
["Pre 2021 Add?","No",null,"LIVE PIVOT"]
[]
["Row Labels","Sum of Cost","Sum of Test Year Depreciation","Sum of BOY Accum","Sum of EOY Accum","Sum of EOY Average Investment"]
["Drop Boxes",971399.33,62558.75,273421.51749999746,335980.26749999763,635419.06250000268]
["Garbage",3597885.0300000003,332342.4932857143,704994.78840475029,1037337.2816904648,2560547.7483095364]
["Garbage Carts",525841.88,73761.53857142858,66879.905833327837,140641.44440475639,385200.43559524353]
["Garbage Containers",589902.33000000019,45112.130000000012,85162.295208329568,130274.42520832956,459627.90479167044]
["Office Equipment",2469.63,823.21,1082.3138888888593,1905.5238888888593,564.10611111114054]
["Recycling ",270629.43,18603.89,151316.77238095127,169920.66238095122,100708.76761904877]
["Roll Off",376378.51,59865.111666666671,63479.382944436162,123344.49461110283,253034.01538889715]
["Service Equipment",103290.88999999998,14248.27515632754,35098.079882959057,49808.350872619929,53482.539127380063]
["Yard Waste ",44290.18,6327.1685714285722,4278.1542857140448,10605.322857142617,33684.857142857378]
["Residential Recycling",133500,0,133500,133500,0]
["Grand Total",6615587.209999999,613642.56725156575,1519213.2103293545,2133317.7734142542,4482269.4365857476]
[]
["PASTED VALUES"]
["Row Labels","Sum of Cost","Sum of Test Year Depreciation","Sum of BOY Accum","Sum of EOY Accum","Sum of EOY Average Investment"]
["Drop Boxes",971399.33,62558.75,273421.51749999746,335980.26749999763,635419.06250000268]
["Garbage",3597885.0300000003,332342.4932857143,704994.78840475029,1037337.2816904648,2560547.7483095364]
["Garbage Carts",525841.88,73761.53857142858,66879.905833327837,140641.44440475639,385200.43559524353]
["Garbage Containers",589902.33000000019,45112.130000000012,85162.295208329568,130274.42520832956,459627.90479167044]
["Office Equipment",2469.63,823.21,1082.3138888888593,1905.5238888888593,564.10611111114054]
["Recycling ",270629.43,18603.89,151316.77238095127,169920.66238095122,100708.76761904877]
["Roll Off",376378.51,59865.111666666671,63479.382944436162,123344.49461110283,253034.01538889715]
["Service Equipment",103290.88999999998,14248.27515632754,35098.079882959057,49808.350872619929,53482.539127380063]
["Yard Waste ",44290.18,6327.1685714285722,4278.1542857140448,10605.322857142617,33684.857142857378]
["Residential Recycling",133500,0,133500,133500,0]
["Grand Total",{"$f":"SUM(B18:B27)","v":6615587.209999999},{"$f":"SUM(C18:C27)","v":613642.56725156575},{"$f":"SUM(D18:D27)","v":1519213.2103293545},{"$f":"SUM(E18:E27)","v":2133317.7734142542},{"$f":"SUM(F18:F27)","v":4482269.4365857476}]
[null,{"$f":"B14-B28","v":0},{"$f":"C14-C28","v":0},{"$f":"D14-D28","v":0},{"$f":"E14-E28","v":0},{"$f":"F14-F28","v":0}]

{"sheet":"Bud Capital Input 2024","index":3,"n_rows":75,"n_cols":59,"rows_kept":75,"cut":false,"hidden":false,"merged":[]}
[null,null,null,"Column Definitions"]
[null,null,null,null,null,null,null,null,null,null,null,null,null,null,null,null,null,"TruckRequest#"]
["PONum_Modified","CurrentProjectNumber_FPS","ProjectNumber_FPS",null,"DeleteFlag","BusinessUnitCode","PoNumber","PoItemNumber","ProjectName_FPS","ItemDescription","Explanation",null,"AssetType","AssetSubType","Life","AddReplace","Condition","TruckCenterNum ValueList:RequestedTruckList","Jan","Feb","Mar","Apr","May","Jun","Jul","Aug","Sep","Oct","Nov","Dec",null,null,null,"FASNum",null,"ReplacementNotes","EquipmentNum","EquipmentModelYear",null,"FileLink hlink:FileLink"]
[null,null,"CurrentProjectNumber_FPS",null,null,null,null,"PoItemNumber",null,null,null,null,null,null,null,null,null,null,null,null,null,null,null,null,null,null,null,null,null,null,null,null,null,null,null,null,null,null,null,null,null,"MessageToUser"]
[null,null,null,"Formatting Range"]
[{"$f":"IF(AND(C6<>\"\", B6<>C6),TRUE, FALSE)","v":false},{"$f":"IF(RIGHT(\"0000\"&G6,4)&\"-\"&H6 <> \"0000-\", RIGHT(\"0000\"&G6,4)&\"-\"&H6, \"\")","v":""},null,1,null,null,null,null,null,null,null,null,null,null,null,null,null,null,null,null,null,null,null,null,null,null,null,null,null,null,null,{"$f":"SUM(S6:AD6)","v":0},null,null,null,null,null,null,null,null," ",null,null,{"$f":"IF(R6=\"\", \"\", R6)","v":""},{"$f":"IFERROR(VLOOKUP($AR6,[1]TruckCenterReference!$C$23:$I32,3,FALSE), \"\")","v":""},{"$f":"IF(R6<>\"\",IF(AS6<>I6,\"Review\",\"ok\"), \"\")","v":""},null,{"$f":"IFERROR(VLOOKUP($AR6,[1]TruckCenterReference!$C$23:$I32,4,FALSE), \"\")","v":""},{"$f":"IF(R6=\"\",\"\", IF($AV6<>$Q6, \"Fix!\", \"OK\"))","v":""},null,{"$f":"IFERROR(VLOOKUP(N6,SubtypeToTruckType,2,FALSE),\"\")","v":""},{"$f":"IFERROR(VLOOKUP($AR6,[1]TruckCenterReference!$C$23:$I32,6,FALSE), \"\")","v":""},{"$f":"IF(R6<>\"\",IF(AY6<>AZ6,\"Fix!\",\"ok\"), \"\")","v":""},null,{"$f":"IFERROR(VLOOKUP($AR6,[1]TruckCenterReference!$C$23:$I32,7,FALSE), 0)","v":0},{"$f":"IFERROR(VLOOKUP($AR6,[1]TruckCenterReference!$C$23:$K32,9,FALSE), 0)","v":0},{"$f":"IFERROR(VLOOKUP($AR6,[1]TruckCenterReference!$C$23:$K32,8,FALSE), 0)","v":0},{"$f":"IF(BC6<>0,BC6-AF6-BE6,\"\")","v":""},{"$f":"IF(R6=\"\",\"\",IF(ABS(BF6)>3000,IF(RIGHT(N6,4)=\"Body\",\"Review\",\"Fix!\"),\"OK\"))","v":""}]
[null,null,null,"Report Formulas"]
[null,null,null,null,null,"Pull",null,null,null,null,null,null,{"$f":"_xll.jFreezePanes(J29,D22)","v":"> jFreezePanes is ready. "}]
[null,null,null,null,"Clear Hash:",{"$f":"_xll.ReportDefaults(\"Pull\",\"Clear\",_xll.PairGroup(_xll.Pair(\"\",H18)))","v":"OK!: ReportDefaults Formula OK [jAction{}]"},null,null,null,null,null,"CC Query Drill:",{"$f":"_xll.ReportDrill(,\"CCQueryDrill\",_xll.PairGroup(_xll.Pair(L18,\"SummaryLevel\"),_xll.Pair(I24,\"BudYear\"),_xll.Pair(I23,\"DistrictCell\"),_xll.Pair(C30:C84,\"PONumber\"),_xll.Pair(G20:AP20)),\"Drill to CC Query for Change History\")","v":"OK!: ReportDrill 'Drill to CC Query for Change History' Formula OK [jAction{}]"}]
[null,null,null,null,"Pull AssetTypeList:",{"$f":"_xll.ReportRun([1]AssetTypeList!C7,FALSE,\"Pull\")","v":"OK!: ReportRun Formula OK [jAction{}]"}]
[null,null,null,null,"Pull - BudCap:",{"$f":"_xll.ReportRange(\"BudgetCapitalDetailPull\",30:58,C3:BF3,C6:BF6,_xll.Param(I23,I24,H18,O18,L19))","v":"OK!: ReportRange Formula OK [jAction{}]"},null,null,null,null,null,null,null,null,null,null,null,null,null,null,null,null,null,null,null,null,null,null,null,null,null,null,null,"FASNum","FASDescription"]
[null,null,null,null,"Pull - FAS:",{"$f":"_xll.ReportFixed(\"BudCap1\",AH30:AH58,AH11:AI11,_xll.Param(DetailBudYear, DetailDistrict))","v":"OK!: ReportFixed Formula OK [jAction{}]"}]
[null,null,null,null,null,{"$f":"_xll.ReportRun([1]TruckCenterReference!F16,,\"Pull\")","v":"OK!: ReportRun Formula OK [jAction{}]"}]
[null,null,null,null,null,"Save"]
[null,null,null,null,"Save:",{"$f":"_xll.ReportSave(\"BudgetCapitalDetailSave\",F30:F58,A3:AN3,C4:AP4,_xll.Param(I23,I24,H18,O18))","v":"OK!: ReportSave Formula OK [jAction{}]"}]
[]
[null,null,null,"Hidden Parameters & Notes"]
["Repull?:",{"$f":"IFERROR(OR(A30:A58),FALSE)","v":false},null,null,null,null,"FilterHash:","44FC3F5321BC42270F210C90C44071",null,null,"CC Query Summary Level:","By Change",null,"Exclude Items:",2]
[null,{"$f":"IF(B18=TRUE,\"Save\",\"SkipRePull\")","v":"SkipRePull"},null,null,null,null,null,null,null,null,"Pull Blank Rows:","Yes"]
[null,null,null,null,null,null,"For Drill","For Drill","For Drill","For Drill","For Drill",null,"For Drill","For Drill","For Drill","For Drill","For Drill","For Drill","For Drill","For Drill","For Drill","For Drill","For Drill","For Drill","For Drill","For Drill","For Drill","For Drill","For Drill","For Drill",null,"For Drill",null,"For Drill",null,null,"For Drill","For Drill",null,"For Drill",null,"For Drill"]
[null,null,null,"Report Area Below"]
[]
[null,null,null,null,null,null,null,"Dist / Div / Reg:","2188"]
[null,null,null,null,null,null,null,"Budget Year:",2024]
[null,null,null,null,null,null,null,null,null,null,null,null,"IMPORTANT:  Pull your district(s) BEFORE inputting.  This will auto create new lines for you and prepare the page for input.",null,null,null,null,null,null,null,null,null,null,null,null,null,null,null,null,null,null,null,null,null,null,null,null,null,null,null,null,null,null,"Recon Check Against Garage"]
[null,null,null,null,"CAPITAL DETAIL"]
[null,null,null,null,null,null,null,null,null,null,null,null,null,null,null,null,null,null,null,null,null,null,null,null,null,null,null,null,null,null,null,null,"Replacement Info",null,null,null,null,null,null,null,null,null,null,null,"Suggested",null,null,"New / Used",null,null,"Truck Type","Truck Type",null,null,"Truck Cost"]
[null,null,null,null,"Delete on Save","Dist.","PO #","Item #","PO Description (Required)","PO Item Description","PO Explanation",null,"Asset Type","SubType","Life","A / R","N / U","Truck #","2010-01-31","2010-02-28","2010-03-31","2010-04-30","2010-05-31","2010-06-30","2010-07-31","2010-08-31","2010-09-30","2010-10-31","2010-11-30","2010-12-31",null,"Total",null,"FAS #","FAS Description","Replacement Notes","Site Eq #","Model Year",null,"Folder/File Link",null,"Save Message",null,"Truck #","PO Description","Note",null,"Garage","Note*",null,"PO Center","Garage","Note",null,"Garage $","Prior PO","Prior PO $","Variance","Note*"]
[]
[{"$f":"IF(AND(C30<>\"\", B30<>C30),TRUE, FALSE)","v":false},{"$f":"IF(RIGHT(\"0000\"&G30,4)&\"-\"&H30 <> \"0000-\", RIGHT(\"0000\"&G30,4)&\"-\"&H30, \"\")","v":"0001-1"},"0001-1",1,"$115,000 of containers will arrive before May 1st. ",2188,1,1,"Containers Various","Various Containers","Site spent $675k on containers in 2023, and $505k in 2022. Site has seen growth in all lines of business as well as increase in cost of containers. Site anticipates similar spend to 2023 with 100k anticipated for roll out of east end Lewis county recucling program. Plastic carts are expected to cost $181k and metal containers will cost $493k for a combined $775k for containers.",null,"Containers","Toter – Plastic",7,"R","N",null,168750,0,0,168750,0,0,168750,0,0,168750,0,0,null,{"$f":"SUM(S30:AD30)","v":675000},null,null,null,"Site spent $675k on containers in 2023, and $505k in 2022. Site has seen growth in all lines of business as well as increase in cost of containers. Site anticipates similar spend to 2023 with 100k anticipated for roll out of east end Lewis county recucling program. Plastic carts are expected to cost $181k and metal containers will cost $493k for a combined $775k for containers.",null,null,null,{"$f":"HYPERLINK(\"\\\\WEST-FILE01\\DistShares\\2000 Western Region Office\\ControllerDir\\KevinJ\\South LeMay\\Budget History\\Budget 2024\\2183-2184\\Capex Support\",\"\\\\WEST-FILE01\\DistShares\\2000 Western Region Office\\ControllerDir\\KevinJ\\South LeMay\\Budget History\\Budget 2024\\2183-2184\\Capex Support\")","v":"\\\\WEST-FILE01\\DistShares\\2000 Western Region Office\\ControllerDir\\KevinJ\\South LeMay\\Budget History\\Budget 2024\\2183-2184\\Capex Support"}," ",null,null,{"$f":"IF(R30=\"\", \"\", R30)","v":""},{"$f":"IFERROR(VLOOKUP($AR30,[1]TruckCenterReference!$C$23:$I56,3,FALSE), \"\")","v":""},{"$f":"IF(R30<>\"\",IF(AS30<>I30,\"Review\",\"ok\"), \"\")","v":""},null,{"$f":"IFERROR(VLOOKUP($AR30,[1]TruckCenterReference!$C$23:$I56,4,FALSE), \"\")","v":""},{"$f":"IF(R30=\"\",\"\", IF($AV30<>$Q30, \"Fix!\", \"OK\"))","v":""},null,{"$f":"IFERROR(VLOOKUP(N30,SubtypeToTruckType,2,FALSE),\"\")","v":""},{"$f":"IFERROR(VLOOKUP($AR30,[1]TruckCenterReference!$C$23:$I56,6,FALSE), \"\")","v":""},{"$f":"IF(R30<>\"\",IF(AY30<>AZ30,\"Fix!\",\"ok\"), \"\")","v":""},null,{"$f":"IFERROR(VLOOKUP($AR30,[1]TruckCenterReference!$C$23:$I56,7,FALSE), 0)","v":0},{"$f":"IFERROR(VLOOKUP($AR30,[1]TruckCenterReference!$C$23:$K56,9,FALSE), 0)","v":0},{"$f":"IFERROR(VLOOKUP($AR30,[1]TruckCenterReference!$C$23:$K56,8,FALSE), 0)","v":0},{"$f":"IF(BC30<>0,BC30-AF30-BE30,\"\")","v":""},{"$f":"IF(R30=\"\",\"\",IF(ABS(BF30)>3000,IF(RIGHT(N30,4)=\"Body\",\"Review\",\"Fix!\"),\"OK\"))","v":""}]
[false,"0002-1","0002-1",1,null,2188,2,1,"24 Pre Order - New ASL Peterbilt 520 RH Only Diesel / Labrie Automizer Full Eject","New ASL Peterbilt 520 RH Only Diesel / Labrie Automizer Full Eject","Site is looking to add a new ASL to service the newly added East Lewis county area. An additional truck would be needed to add the routes as planned.",null,"New Trucks","Sideloader",10,"A","N",18465,501594,0,0,0,0,0,0,0,0,0,0,0,null,501594,null,299485,"2007 Type H TSide ASL","Site is looking to add a new ASL to service the newly added East Lewis county area. An additional truck would be needed to add the routes as planned.",null,null,null,"\\\\WEST-FILE01\\DistShares\\2000 Western Region Office\\ControllerDir\\KevinJ\\South LeMay\\Budget History\\Budget 2024\\2183-2184\\Capex Support"," ","Garbage",null,18465,{"$f":"IFERROR(VLOOKUP($AR31,[1]TruckCenterReference!$C$23:$I57,3,FALSE), \"\")","v":""},"Review",null,{"$f":"IFERROR(VLOOKUP($AR31,[1]TruckCenterReference!$C$23:$I57,4,FALSE), \"\")","v":""},"Fix!",null,"Sideloader",{"$f":"IFERROR(VLOOKUP($AR31,[1]TruckCenterReference!$C$23:$I57,6,FALSE), \"\")","v":""},"Fix!",null,{"$f":"IFERROR(VLOOKUP($AR31,[1]TruckCenterReference!$C$23:$I57,7,FALSE), 0)","v":0},{"$f":"IFERROR(VLOOKUP($AR31,[1]TruckCenterReference!$C$23:$K57,9,FALSE), 0)","v":0},{"$f":"IFERROR(VLOOKUP($AR31,[1]TruckCenterReference!$C$23:$K57,8,FALSE), 0)","v":0},"",{"$error":"#VALUE!"}]
[false,"0003-1","0003-1",1,null,2188,3,1,"24 Pre Order - New ASL Peterbilt 520 RH Only Diesel / Labrie Automizer Full Eject","New ASL Peterbilt 520 RH Only Diesel / Labrie Automizer Full Eject","Site is looking to replace Truck#3601. Truck is a 2007 Pete 320 / Curbtender. Over the last year the maintnence cost for this truck was $13.7k. The chassis and body are poor. The truck will need partial floor reline and arm repair within the upcoming 12 months. The engine has fuel in oil. Truck has 225k miles and 27k hours of run time on it. ",null,"New Trucks","Sideloader",10,"R","N",18653,0,0,0,0,0,501594,0,0,0,0,0,0,null,501594,null,299485,null,"Site is looking to replace Truck#3601. Truck is a 2007 Pete 320 / Curbtender. Over the last year the maintnence cost for this truck was $13.7k. The chassis and body are poor. The truck will need partial floor reline and arm repair within the upcoming 12 months. The engine has fuel in oil. Truck has 225k miles and 27k hours of run time on it. ",3601,2007,null,"\\\\WEST-FILE01\\DistShares\\2000 Western Region Office\\ControllerDir\\KevinJ\\South LeMay\\Budget History\\Budget 2024\\2183-2184\\Capex Support"," ","Garbage",null,18653,{"$f":"IFERROR(VLOOKUP($AR32,[1]TruckCenterReference!$C$23:$I58,3,FALSE), \"\")","v":""},"Review",null,{"$f":"IFERROR(VLOOKUP($AR32,[1]TruckCenterReference!$C$23:$I58,4,FALSE), \"\")","v":""},"Fix!",null,"Sideloader",{"$f":"IFERROR(VLOOKUP($AR32,[1]TruckCenterReference!$C$23:$I58,6,FALSE), \"\")","v":""},"Fix!",null,{"$f":"IFERROR(VLOOKUP($AR32,[1]TruckCenterReference!$C$23:$I58,7,FALSE), 0)","v":0},{"$f":"IFERROR(VLOOKUP($AR32,[1]TruckCenterReference!$C$23:$K58,9,FALSE), 0)","v":0},{"$f":"IFERROR(VLOOKUP($AR32,[1]TruckCenterReference!$C$23:$K58,8,FALSE), 0)","v":0},"",{"$error":"#VALUE!"}]
[false,"0004-1","0004-1",1,null,2188,4,1,"New REL Freightliner M2 106 62K GVW/ Labrie Leach 2R3","New REL Freightliner M2 106 62K GVW/ Labrie Leach 2R3","Site is looking to replace Truck#1035.Truck is a 2002 International RearLoader. Over the last year the monthly maintnence cost for this truck was $6.2k. The engine is tired, the bed needs a new floor, the back is rusted and there is poor visibility out of the cab.Truck has over 264k miles and 30.3k hours of run time. ",null,"New Trucks","Rear Load",10,"R","N",18656,0,0,0,348386,0,0,0,0,0,0,0,0,null,348386,null,306555,"2002 Type H Rear REL","Site is looking to replace Truck#1035.Truck is a 2002 International RearLoader. Over the last year the monthly maintnence cost for this truck was $6.2k. The engine is tired, the bed needs a new floor, the back is rusted and there is poor visibility out of the cab.Truck has over 264k miles and 30.3k hours of run time. ",1035,2002,null,"\\\\WEST-FILE01\\DistShares\\2000 Western Region Office\\ControllerDir\\KevinJ\\South LeMay\\Budget History\\Budget 2024\\2183-2184\\Capex Support"," ","Garbage",null,18656,{"$f":"IFERROR(VLOOKUP($AR33,[1]TruckCenterReference!$C$23:$I59,3,FALSE), \"\")","v":""},"Review",null,{"$f":"IFERROR(VLOOKUP($AR33,[1]TruckCenterReference!$C$23:$I59,4,FALSE), \"\")","v":""},"Fix!",null,"Rear Loader",{"$f":"IFERROR(VLOOKUP($AR33,[1]TruckCenterReference!$C$23:$I59,6,FALSE), \"\")","v":""},"Fix!",null,{"$f":"IFERROR(VLOOKUP($AR33,[1]TruckCenterReference!$C$23:$I59,7,FALSE), 0)","v":0},{"$f":"IFERROR(VLOOKUP($AR33,[1]TruckCenterReference!$C$23:$K59,9,FALSE), 0)","v":0},{"$f":"IFERROR(VLOOKUP($AR33,[1]TruckCenterReference!$C$23:$K59,8,FALSE), 0)","v":0},"",{"$error":"#VALUE!"}]
[false,"0005-1","0005-1",1,null,2188,5,1,"New ASL Peterbilt 520 RH Only Diesel / Labrie Automizer Full Eject","New ASL Peterbilt 520 RH Only Diesel / Labrie Automizer Full Eject","Site is looking to replace Truck#3065. Truck is a 2007 Pete 320 / Curbtender. Over the last year the maintnence cost was $14.3k. The body and chassis are poor and will need a partial floor reline and arm repair. The truck has 251k miles on it with 29.5k hours of run time. ",null,"New Trucks","Sideloader",10,"R","N",18757,0,0,0,0,0,0,0,0,501594,0,0,0,null,501594,null,61122,null,"Site is looking to replace Truck#3065. Truck is a 2007 Pete 320 / Curbtender. Over the last year the maintnence cost was $14.3k. The body and chassis are poor and will need a partial floor reline and arm repair. The truck has 251k miles on it with 29.5k hours of run time. ",3605,2007,null,"\\\\WEST-FILE01\\DistShares\\2000 Western Region Office\\ControllerDir\\KevinJ\\South LeMay\\Budget History\\Budget 2024\\2183-2184\\Capex Support"," ","Garbage",null,18757,{"$f":"IFERROR(VLOOKUP($AR34,[1]TruckCenterReference!$C$23:$I60,3,FALSE), \"\")","v":""},"Review",null,{"$f":"IFERROR(VLOOKUP($AR34,[1]TruckCenterReference!$C$23:$I60,4,FALSE), \"\")","v":""},"Fix!",null,"Sideloader",{"$f":"IFERROR(VLOOKUP($AR34,[1]TruckCenterReference!$C$23:$I60,6,FALSE), \"\")","v":""},"Fix!",null,{"$f":"IFERROR(VLOOKUP($AR34,[1]TruckCenterReference!$C$23:$I60,7,FALSE), 0)","v":0},{"$f":"IFERROR(VLOOKUP($AR34,[1]TruckCenterReference!$C$23:$K60,9,FALSE), 0)","v":0},{"$f":"IFERROR(VLOOKUP($AR34,[1]TruckCenterReference!$C$23:$K60,8,FALSE), 0)","v":0},"",{"$error":"#VALUE!"}]
[false,"0006-1","0006-1",1,null,2188,6,1,"Delivery Truck","Delivery Truck","Site is looking to replace delivery truck 9571. Truck is a 2005 Iszu delivery truck for various types of containers. The engine is tired and there is fuel in oil. The bed needs a new floor and the lift gate is worn out, which does not allow for metal containers to be delivered. Over the past year, the maintnence cost was $9.6k. Truck has 263k miles on it. ",null,"New Trucks","Pickup",10,"R","N",18658,0,0,0,0,106974,0,0,0,0,0,0,0,null,106974,null,90436,"2005 Isuzu Delivery Truck","Site is looking to replace delivery truck 9571. Truck is a 2005 Iszu delivery truck for various types of containers. The engine is tired and there is fuel in oil. The bed needs a new floor and the lift gate is worn out, which does not allow for metal containers to be delivered. Over the past year, the maintnence cost was $9.6k. Truck has 263k miles on it. ",9571,2005,null,"\\\\WEST-FILE01\\DistShares\\2000 Western Region Office\\ControllerDir\\KevinJ\\South LeMay\\Budget History\\Budget 2024\\2183-2184\\Capex Support"," ","Container Delivery",null,18658,{"$f":"IFERROR(VLOOKUP($AR35,[1]TruckCenterReference!$C$23:$I61,3,FALSE), \"\")","v":""},"Review",null,{"$f":"IFERROR(VLOOKUP($AR35,[1]TruckCenterReference!$C$23:$I61,4,FALSE), \"\")","v":""},"Fix!",null,"Pickup",{"$f":"IFERROR(VLOOKUP($AR35,[1]TruckCenterReference!$C$23:$I61,6,FALSE), \"\")","v":""},"Fix!",null,{"$f":"IFERROR(VLOOKUP($AR35,[1]TruckCenterReference!$C$23:$I61,7,FALSE), 0)","v":0},{"$f":"IFERROR(VLOOKUP($AR35,[1]TruckCenterReference!$C$23:$K61,9,FALSE), 0)","v":0},{"$f":"IFERROR(VLOOKUP($AR35,[1]TruckCenterReference!$C$23:$K61,8,FALSE), 0)","v":0},"",{"$error":"#VALUE!"}]
[false,"0010-1","0010-1",1,null,2188,10,1,"23 Rollover - New REL Peterbilt 520 / Labrie Body Alpha III","23 Rollover - New REL Peterbilt 520 / Labrie Body Alpha III","Requesting a new REL truck to replace #1060 - 2007 - Type H. Single axel, Changing to tandem due to weight. Bed is worn out. Truck has 290k miles on it, and 24k service hours. Truck condition is poor.",null,"New Trucks","Rear Load",10,"R","N",null,0,175652,0,0,0,0,0,0,0,0,0,0,null,175652,null,61400,"2007 Type H Rear REL","Requesting a new REL truck to replace #1060 - 2007 - Type H. Single axel, Changing to tandem due to weight. Bed is worn out. Truck has 290k miles on it, and 24k service hours. Truck condition is poor.",1060,2007,null,null," ","Residential Recycling",null,"",{"$f":"IFERROR(VLOOKUP($AR36,[1]TruckCenterReference!$C$23:$I62,3,FALSE), \"\")","v":""},"",null,{"$f":"IFERROR(VLOOKUP($AR36,[1]TruckCenterReference!$C$23:$I62,4,FALSE), \"\")","v":""},"",null,"Rear Loader",{"$f":"IFERROR(VLOOKUP($AR36,[1]TruckCenterReference!$C$23:$I62,6,FALSE), \"\")","v":""},"",null,{"$f":"IFERROR(VLOOKUP($AR36,[1]TruckCenterReference!$C$23:$I62,7,FALSE), 0)","v":0},{"$f":"IFERROR(VLOOKUP($AR36,[1]TruckCenterReference!$C$23:$K62,9,FALSE), 0)","v":0},{"$f":"IFERROR(VLOOKUP($AR36,[1]TruckCenterReference!$C$23:$K62,8,FALSE), 0)","v":0},"",""]
[false,"0011-1","0011-1",1,null,2188,11,1,"(1,500) 96 Gal Recy Carts (East End UTC Rollout)","(1,500) 96 Gal Recy Carts (East End UTC Rollout)","Rolling out a commingle program for the East side of Lewis County. Mandatory payment for every customer totaling $X in monthly revenue",null,"Containers","Toter – Plastic",7,"A","N",null,0,0,100000,0,0,0,0,0,0,0,0,0,null,100000,null,null,null,"Rolling out a commingle program for the East side of Lewis County. Mandatory payment for every customer totaling $X in monthly revenue",null,null,null,null," ","Recycling ",null,"",{"$f":"IFERROR(VLOOKUP($AR37,[1]TruckCenterReference!$C$23:$I63,3,FALSE), \"\")","v":""},"",null,{"$f":"IFERROR(VLOOKUP($AR37,[1]TruckCenterReference!$C$23:$I63,4,FALSE), \"\")","v":""},"",null,"",{"$f":"IFERROR(VLOOKUP($AR37,[1]TruckCenterReference!$C$23:$I63,6,FALSE), \"\")","v":""},"",null,{"$f":"IFERROR(VLOOKUP($AR37,[1]TruckCenterReference!$C$23:$I63,7,FALSE), 0)","v":0},{"$f":"IFERROR(VLOOKUP($AR37,[1]TruckCenterReference!$C$23:$K63,9,FALSE), 0)","v":0},{"$f":"IFERROR(VLOOKUP($AR37,[1]TruckCenterReference!$C$23:$K63,8,FALSE), 0)","v":0},"",""]
[false,"","",1,"$14k wet kit was non budgeted but will happen before rate case.",null,null,null,"","","",null,"","",null,"","",null,0,0,0,0,0,0,0,0,0,0,0,0,null,0,null,null,null,"",null,null,null,null," ",null,null,"",{"$f":"IFERROR(VLOOKUP($AR38,[1]TruckCenterReference!$C$23:$I64,3,FALSE), \"\")","v":""},"",null,{"$f":"IFERROR(VLOOKUP($AR38,[1]TruckCenterReference!$C$23:$I64,4,FALSE), \"\")","v":""},"",null,"",{"$f":"IFERROR(VLOOKUP($AR38,[1]TruckCenterReference!$C$23:$I64,6,FALSE), \"\")","v":""},"",null,{"$f":"IFERROR(VLOOKUP($AR38,[1]TruckCenterReference!$C$23:$I64,7,FALSE), 0)","v":0},{"$f":"IFERROR(VLOOKUP($AR38,[1]TruckCenterReference!$C$23:$K64,9,FALSE), 0)","v":0},{"$f":"IFERROR(VLOOKUP($AR38,[1]TruckCenterReference!$C$23:$K64,8,FALSE), 0)","v":0},"",""]
[false,"","",1,null,null,null,null,"","","",null,"","",null,"","",null,0,0,0,0,0,0,0,0,0,0,0,0,null,0,null,null,null,"",null,null,null,null," ",null,null,"",{"$f":"IFERROR(VLOOKUP($AR39,[1]TruckCenterReference!$C$23:$I65,3,FALSE), \"\")","v":""},"",null,{"$f":"IFERROR(VLOOKUP($AR39,[1]TruckCenterReference!$C$23:$I65,4,FALSE), \"\")","v":""},"",null,"",{"$f":"IFERROR(VLOOKUP($AR39,[1]TruckCenterReference!$C$23:$I65,6,FALSE), \"\")","v":""},"",null,{"$f":"IFERROR(VLOOKUP($AR39,[1]TruckCenterReference!$C$23:$I65,7,FALSE), 0)","v":0},{"$f":"IFERROR(VLOOKUP($AR39,[1]TruckCenterReference!$C$23:$K65,9,FALSE), 0)","v":0},{"$f":"IFERROR(VLOOKUP($AR39,[1]TruckCenterReference!$C$23:$K65,8,FALSE), 0)","v":0},"",""]
[false,"","",1,null,null,null,null,"","","",null,"","",null,"","",null,0,0,0,0,0,0,0,0,0,0,0,0,null,0,null,null,null,"",null,null,null,null," ",null,null,"",{"$f":"IFERROR(VLOOKUP($AR40,[1]TruckCenterReference!$C$23:$I66,3,FALSE), \"\")","v":""},"",null,{"$f":"IFERROR(VLOOKUP($AR40,[1]TruckCenterReference!$C$23:$I66,4,FALSE), \"\")","v":""},"",null,"",{"$f":"IFERROR(VLOOKUP($AR40,[1]TruckCenterReference!$C$23:$I66,6,FALSE), \"\")","v":""},"",null,{"$f":"IFERROR(VLOOKUP($AR40,[1]TruckCenterReference!$C$23:$I66,7,FALSE), 0)","v":0},{"$f":"IFERROR(VLOOKUP($AR40,[1]TruckCenterReference!$C$23:$K66,9,FALSE), 0)","v":0},{"$f":"IFERROR(VLOOKUP($AR40,[1]TruckCenterReference!$C$23:$K66,8,FALSE), 0)","v":0},"",""]
[false,"","",1,null,null,null,null,"","","",null,"","",null,"","",null,0,0,0,0,0,0,0,0,0,0,0,0,null,0,null,null,null,"",null,null,null,null," ",null,null,"",{"$f":"IFERROR(VLOOKUP($AR41,[1]TruckCenterReference!$C$23:$I67,3,FALSE), \"\")","v":""},"",null,{"$f":"IFERROR(VLOOKUP($AR41,[1]TruckCenterReference!$C$23:$I67,4,FALSE), \"\")","v":""},"",null,"",{"$f":"IFERROR(VLOOKUP($AR41,[1]TruckCenterReference!$C$23:$I67,6,FALSE), \"\")","v":""},"",null,{"$f":"IFERROR(VLOOKUP($AR41,[1]TruckCenterReference!$C$23:$I67,7,FALSE), 0)","v":0},{"$f":"IFERROR(VLOOKUP($AR41,[1]TruckCenterReference!$C$23:$K67,9,FALSE), 0)","v":0},{"$f":"IFERROR(VLOOKUP($AR41,[1]TruckCenterReference!$C$23:$K67,8,FALSE), 0)","v":0},"",""]
[false,"","",1,null,null,null,null,"","","",null,"","",null,"","",null,0,0,0,0,0,0,0,0,0,0,0,0,null,0,null,null,null,"",null,null,null,null," ",null,null,"",{"$f":"IFERROR(VLOOKUP($AR42,[1]TruckCenterReference!$C$23:$I68,3,FALSE), \"\")","v":""},"",null,{"$f":"IFERROR(VLOOKUP($AR42,[1]TruckCenterReference!$C$23:$I68,4,FALSE), \"\")","v":""},"",null,"",{"$f":"IFERROR(VLOOKUP($AR42,[1]TruckCenterReference!$C$23:$I68,6,FALSE), \"\")","v":""},"",null,{"$f":"IFERROR(VLOOKUP($AR42,[1]TruckCenterReference!$C$23:$I68,7,FALSE), 0)","v":0},{"$f":"IFERROR(VLOOKUP($AR42,[1]TruckCenterReference!$C$23:$K68,9,FALSE), 0)","v":0},{"$f":"IFERROR(VLOOKUP($AR42,[1]TruckCenterReference!$C$23:$K68,8,FALSE), 0)","v":0},"",""]
[false,"","",1,null,null,null,null,"","","",null,"","",null,"","",null,0,0,0,0,0,0,0,0,0,0,0,0,null,0,null,null,null,"",null,null,null,null," ",null,null,"",{"$f":"IFERROR(VLOOKUP($AR43,[1]TruckCenterReference!$C$23:$I69,3,FALSE), \"\")","v":""},"",null,{"$f":"IFERROR(VLOOKUP($AR43,[1]TruckCenterReference!$C$23:$I69,4,FALSE), \"\")","v":""},"",null,"",{"$f":"IFERROR(VLOOKUP($AR43,[1]TruckCenterReference!$C$23:$I69,6,FALSE), \"\")","v":""},"",null,{"$f":"IFERROR(VLOOKUP($AR43,[1]TruckCenterReference!$C$23:$I69,7,FALSE), 0)","v":0},{"$f":"IFERROR(VLOOKUP($AR43,[1]TruckCenterReference!$C$23:$K69,9,FALSE), 0)","v":0},{"$f":"IFERROR(VLOOKUP($AR43,[1]TruckCenterReference!$C$23:$K69,8,FALSE), 0)","v":0},"",""]
[false,"","",1,null,null,null,null,"","","",null,"","",null,"","",null,0,0,0,0,0,0,0,0,0,0,0,0,null,0,null,null,null,"",null,null,null,null," ",null,null,"",{"$f":"IFERROR(VLOOKUP($AR44,[1]TruckCenterReference!$C$23:$I70,3,FALSE), \"\")","v":""},"",null,{"$f":"IFERROR(VLOOKUP($AR44,[1]TruckCenterReference!$C$23:$I70,4,FALSE), \"\")","v":""},"",null,"",{"$f":"IFERROR(VLOOKUP($AR44,[1]TruckCenterReference!$C$23:$I70,6,FALSE), \"\")","v":""},"",null,{"$f":"IFERROR(VLOOKUP($AR44,[1]TruckCenterReference!$C$23:$I70,7,FALSE), 0)","v":0},{"$f":"IFERROR(VLOOKUP($AR44,[1]TruckCenterReference!$C$23:$K70,9,FALSE), 0)","v":0},{"$f":"IFERROR(VLOOKUP($AR44,[1]TruckCenterReference!$C$23:$K70,8,FALSE), 0)","v":0},"",""]
[false,"","",1,null,null,null,null,"","","",null,"","",null,"","",null,0,0,0,0,0,0,0,0,0,0,0,0,null,0,null,null,null,"",null,null,null,null," ",null,null,"",{"$f":"IFERROR(VLOOKUP($AR45,[1]TruckCenterReference!$C$23:$I71,3,FALSE), \"\")","v":""},"",null,{"$f":"IFERROR(VLOOKUP($AR45,[1]TruckCenterReference!$C$23:$I71,4,FALSE), \"\")","v":""},"",null,"",{"$f":"IFERROR(VLOOKUP($AR45,[1]TruckCenterReference!$C$23:$I71,6,FALSE), \"\")","v":""},"",null,{"$f":"IFERROR(VLOOKUP($AR45,[1]TruckCenterReference!$C$23:$I71,7,FALSE), 0)","v":0},{"$f":"IFERROR(VLOOKUP($AR45,[1]TruckCenterReference!$C$23:$K71,9,FALSE), 0)","v":0},{"$f":"IFERROR(VLOOKUP($AR45,[1]TruckCenterReference!$C$23:$K71,8,FALSE), 0)","v":0},"",""]
[false,"","",1,null,null,null,null,"","","",null,"","",null,"","",null,0,0,0,0,0,0,0,0,0,0,0,0,null,0,null,null,null,"",null,null,null,null," ",null,null,"",{"$f":"IFERROR(VLOOKUP($AR46,[1]TruckCenterReference!$C$23:$I72,3,FALSE), \"\")","v":""},"",null,{"$f":"IFERROR(VLOOKUP($AR46,[1]TruckCenterReference!$C$23:$I72,4,FALSE), \"\")","v":""},"",null,"",{"$f":"IFERROR(VLOOKUP($AR46,[1]TruckCenterReference!$C$23:$I72,6,FALSE), \"\")","v":""},"",null,{"$f":"IFERROR(VLOOKUP($AR46,[1]TruckCenterReference!$C$23:$I72,7,FALSE), 0)","v":0},{"$f":"IFERROR(VLOOKUP($AR46,[1]TruckCenterReference!$C$23:$K72,9,FALSE), 0)","v":0},{"$f":"IFERROR(VLOOKUP($AR46,[1]TruckCenterReference!$C$23:$K72,8,FALSE), 0)","v":0},"",""]
[false,"","",1,null,null,null,null,"","","",null,"","",null,"","",null,0,0,0,0,0,0,0,0,0,0,0,0,null,0,null,null,null,"",null,null,null,null," ",null,null,"",{"$f":"IFERROR(VLOOKUP($AR47,[1]TruckCenterReference!$C$23:$I73,3,FALSE), \"\")","v":""},"",null,{"$f":"IFERROR(VLOOKUP($AR47,[1]TruckCenterReference!$C$23:$I73,4,FALSE), \"\")","v":""},"",null,"",{"$f":"IFERROR(VLOOKUP($AR47,[1]TruckCenterReference!$C$23:$I73,6,FALSE), \"\")","v":""},"",null,{"$f":"IFERROR(VLOOKUP($AR47,[1]TruckCenterReference!$C$23:$I73,7,FALSE), 0)","v":0},{"$f":"IFERROR(VLOOKUP($AR47,[1]TruckCenterReference!$C$23:$K73,9,FALSE), 0)","v":0},{"$f":"IFERROR(VLOOKUP($AR47,[1]TruckCenterReference!$C$23:$K73,8,FALSE), 0)","v":0},"",""]
[false,"","",1,null,null,null,null,"","","",null,"","",null,"","",null,0,0,0,0,0,0,0,0,0,0,0,0,null,0,null,null,null,"",null,null,null,null," ",null,null,"",{"$f":"IFERROR(VLOOKUP($AR48,[1]TruckCenterReference!$C$23:$I74,3,FALSE), \"\")","v":""},"",null,{"$f":"IFERROR(VLOOKUP($AR48,[1]TruckCenterReference!$C$23:$I74,4,FALSE), \"\")","v":""},"",null,"",{"$f":"IFERROR(VLOOKUP($AR48,[1]TruckCenterReference!$C$23:$I74,6,FALSE), \"\")","v":""},"",null,{"$f":"IFERROR(VLOOKUP($AR48,[1]TruckCenterReference!$C$23:$I74,7,FALSE), 0)","v":0},{"$f":"IFERROR(VLOOKUP($AR48,[1]TruckCenterReference!$C$23:$K74,9,FALSE), 0)","v":0},{"$f":"IFERROR(VLOOKUP($AR48,[1]TruckCenterReference!$C$23:$K74,8,FALSE), 0)","v":0},"",""]
[false,"","",1,null,null,null,null,"","","",null,"","",null,"","",null,0,0,0,0,0,0,0,0,0,0,0,0,null,0,null,null,null,"",null,null,null,null," ",null,null,"",{"$f":"IFERROR(VLOOKUP($AR49,[1]TruckCenterReference!$C$23:$I75,3,FALSE), \"\")","v":""},"",null,{"$f":"IFERROR(VLOOKUP($AR49,[1]TruckCenterReference!$C$23:$I75,4,FALSE), \"\")","v":""},"",null,"",{"$f":"IFERROR(VLOOKUP($AR49,[1]TruckCenterReference!$C$23:$I75,6,FALSE), \"\")","v":""},"",null,{"$f":"IFERROR(VLOOKUP($AR49,[1]TruckCenterReference!$C$23:$I75,7,FALSE), 0)","v":0},{"$f":"IFERROR(VLOOKUP($AR49,[1]TruckCenterReference!$C$23:$K75,9,FALSE), 0)","v":0},{"$f":"IFERROR(VLOOKUP($AR49,[1]TruckCenterReference!$C$23:$K75,8,FALSE), 0)","v":0},"",""]
[false,"","",1,null,null,null,null,"","","",null,"","",null,"","",null,0,0,0,0,0,0,0,0,0,0,0,0,null,0,null,null,null,"",null,null,null,null," ",null,null,"",{"$f":"IFERROR(VLOOKUP($AR50,[1]TruckCenterReference!$C$23:$I76,3,FALSE), \"\")","v":""},"",null,{"$f":"IFERROR(VLOOKUP($AR50,[1]TruckCenterReference!$C$23:$I76,4,FALSE), \"\")","v":""},"",null,"",{"$f":"IFERROR(VLOOKUP($AR50,[1]TruckCenterReference!$C$23:$I76,6,FALSE), \"\")","v":""},"",null,{"$f":"IFERROR(VLOOKUP($AR50,[1]TruckCenterReference!$C$23:$I76,7,FALSE), 0)","v":0},{"$f":"IFERROR(VLOOKUP($AR50,[1]TruckCenterReference!$C$23:$K76,9,FALSE), 0)","v":0},{"$f":"IFERROR(VLOOKUP($AR50,[1]TruckCenterReference!$C$23:$K76,8,FALSE), 0)","v":0},"",""]
[false,"","",1,null,null,null,null,"","","",null,"","",null,"","",null,0,0,0,0,0,0,0,0,0,0,0,0,null,0,null,null,null,"",null,null,null,null," ",null,null,"",{"$f":"IFERROR(VLOOKUP($AR51,[1]TruckCenterReference!$C$23:$I77,3,FALSE), \"\")","v":""},"",null,{"$f":"IFERROR(VLOOKUP($AR51,[1]TruckCenterReference!$C$23:$I77,4,FALSE), \"\")","v":""},"",null,"",{"$f":"IFERROR(VLOOKUP($AR51,[1]TruckCenterReference!$C$23:$I77,6,FALSE), \"\")","v":""},"",null,{"$f":"IFERROR(VLOOKUP($AR51,[1]TruckCenterReference!$C$23:$I77,7,FALSE), 0)","v":0},{"$f":"IFERROR(VLOOKUP($AR51,[1]TruckCenterReference!$C$23:$K77,9,FALSE), 0)","v":0},{"$f":"IFERROR(VLOOKUP($AR51,[1]TruckCenterReference!$C$23:$K77,8,FALSE), 0)","v":0},"",""]
[false,"","",1,null,null,null,null,"","","",null,"","",null,"","",null,0,0,0,0,0,0,0,0,0,0,0,0,null,0,null,null,null,"",null,null,null,null," ",null,null,"",{"$f":"IFERROR(VLOOKUP($AR52,[1]TruckCenterReference!$C$23:$I78,3,FALSE), \"\")","v":""},"",null,{"$f":"IFERROR(VLOOKUP($AR52,[1]TruckCenterReference!$C$23:$I78,4,FALSE), \"\")","v":""},"",null,"",{"$f":"IFERROR(VLOOKUP($AR52,[1]TruckCenterReference!$C$23:$I78,6,FALSE), \"\")","v":""},"",null,{"$f":"IFERROR(VLOOKUP($AR52,[1]TruckCenterReference!$C$23:$I78,7,FALSE), 0)","v":0},{"$f":"IFERROR(VLOOKUP($AR52,[1]TruckCenterReference!$C$23:$K78,9,FALSE), 0)","v":0},{"$f":"IFERROR(VLOOKUP($AR52,[1]TruckCenterReference!$C$23:$K78,8,FALSE), 0)","v":0},"",""]
[false,"","",1,null,null,null,null,"","","",null,"","",null,"","",null,0,0,0,0,0,0,0,0,0,0,0,0,null,0,null,null,null,"",null,null,null,null," ",null,null,"",{"$f":"IFERROR(VLOOKUP($AR53,[1]TruckCenterReference!$C$23:$I79,3,FALSE), \"\")","v":""},"",null,{"$f":"IFERROR(VLOOKUP($AR53,[1]TruckCenterReference!$C$23:$I79,4,FALSE), \"\")","v":""},"",null,"",{"$f":"IFERROR(VLOOKUP($AR53,[1]TruckCenterReference!$C$23:$I79,6,FALSE), \"\")","v":""},"",null,{"$f":"IFERROR(VLOOKUP($AR53,[1]TruckCenterReference!$C$23:$I79,7,FALSE), 0)","v":0},{"$f":"IFERROR(VLOOKUP($AR53,[1]TruckCenterReference!$C$23:$K79,9,FALSE), 0)","v":0},{"$f":"IFERROR(VLOOKUP($AR53,[1]TruckCenterReference!$C$23:$K79,8,FALSE), 0)","v":0},"",""]
[false,"","",1,null,null,null,null,"","","",null,"","",null,"","",null,0,0,0,0,0,0,0,0,0,0,0,0,null,0,null,null,null,"",null,null,null,null," ",null,null,"",{"$f":"IFERROR(VLOOKUP($AR54,[1]TruckCenterReference!$C$23:$I80,3,FALSE), \"\")","v":""},"",null,{"$f":"IFERROR(VLOOKUP($AR54,[1]TruckCenterReference!$C$23:$I80,4,FALSE), \"\")","v":""},"",null,"",{"$f":"IFERROR(VLOOKUP($AR54,[1]TruckCenterReference!$C$23:$I80,6,FALSE), \"\")","v":""},"",null,{"$f":"IFERROR(VLOOKUP($AR54,[1]TruckCenterReference!$C$23:$I80,7,FALSE), 0)","v":0},{"$f":"IFERROR(VLOOKUP($AR54,[1]TruckCenterReference!$C$23:$K80,9,FALSE), 0)","v":0},{"$f":"IFERROR(VLOOKUP($AR54,[1]TruckCenterReference!$C$23:$K80,8,FALSE), 0)","v":0},"",""]
[false,"","",1,null,null,null,null,"","","",null,"","",null,"","",null,0,0,0,0,0,0,0,0,0,0,0,0,null,0,null,null,null,"",null,null,null,null," ",null,null,"",{"$f":"IFERROR(VLOOKUP($AR55,[1]TruckCenterReference!$C$23:$I81,3,FALSE), \"\")","v":""},"",null,{"$f":"IFERROR(VLOOKUP($AR55,[1]TruckCenterReference!$C$23:$I81,4,FALSE), \"\")","v":""},"",null,"",{"$f":"IFERROR(VLOOKUP($AR55,[1]TruckCenterReference!$C$23:$I81,6,FALSE), \"\")","v":""},"",null,{"$f":"IFERROR(VLOOKUP($AR55,[1]TruckCenterReference!$C$23:$I81,7,FALSE), 0)","v":0},{"$f":"IFERROR(VLOOKUP($AR55,[1]TruckCenterReference!$C$23:$K81,9,FALSE), 0)","v":0},{"$f":"IFERROR(VLOOKUP($AR55,[1]TruckCenterReference!$C$23:$K81,8,FALSE), 0)","v":0},"",""]
[false,"","",1,null,null,null,null,"","","",null,"","",null,"","",null,0,0,0,0,0,0,0,0,0,0,0,0,null,0,null,null,null,"",null,null,null,null," ",null,null,"",{"$f":"IFERROR(VLOOKUP($AR56,[1]TruckCenterReference!$C$23:$I82,3,FALSE), \"\")","v":""},"",null,{"$f":"IFERROR(VLOOKUP($AR56,[1]TruckCenterReference!$C$23:$I82,4,FALSE), \"\")","v":""},"",null,"",{"$f":"IFERROR(VLOOKUP($AR56,[1]TruckCenterReference!$C$23:$I82,6,FALSE), \"\")","v":""},"",null,{"$f":"IFERROR(VLOOKUP($AR56,[1]TruckCenterReference!$C$23:$I82,7,FALSE), 0)","v":0},{"$f":"IFERROR(VLOOKUP($AR56,[1]TruckCenterReference!$C$23:$K82,9,FALSE), 0)","v":0},{"$f":"IFERROR(VLOOKUP($AR56,[1]TruckCenterReference!$C$23:$K82,8,FALSE), 0)","v":0},"",""]
[false,"","",1,null,null,null,null,"","","",null,"","",null,"","",null,0,0,0,0,0,0,0,0,0,0,0,0,null,0,null,null,null,"",null,null,null,null," ",null,null,"",{"$f":"IFERROR(VLOOKUP($AR57,[1]TruckCenterReference!$C$23:$I83,3,FALSE), \"\")","v":""},"",null,{"$f":"IFERROR(VLOOKUP($AR57,[1]TruckCenterReference!$C$23:$I83,4,FALSE), \"\")","v":""},"",null,"",{"$f":"IFERROR(VLOOKUP($AR57,[1]TruckCenterReference!$C$23:$I83,6,FALSE), \"\")","v":""},"",null,{"$f":"IFERROR(VLOOKUP($AR57,[1]TruckCenterReference!$C$23:$I83,7,FALSE), 0)","v":0},{"$f":"IFERROR(VLOOKUP($AR57,[1]TruckCenterReference!$C$23:$K83,9,FALSE), 0)","v":0},{"$f":"IFERROR(VLOOKUP($AR57,[1]TruckCenterReference!$C$23:$K83,8,FALSE), 0)","v":0},"",""]
[null,null,null,null,"End of List (save and re-pull for at least 5 more rows)"]
[null,null,null,null,null,null,null,null,null,null,null,null,null,null,null,null,null,"TOTAL CAPITAL",{"$f":"SUM(S29:S58)","v":670344},175652,100000,517136,106974,501594,168750,0,501594,168750,0,0,null,{"$f":"SUM(AF29:AF58)","v":2910794}]
[]
[]
[]
[]
[null,null,null,null,null,null,null,null,null,null,null,null,null,null,null,null,null,null,null,null,null,null,null,null,null,null,null,null,null,null,null,null,null,null,null,null,null,"Life",null,"Test Year Depreciation",null,"NBV"]
[null,null,null,null,null,null,null,null,null,null,null,null,null,"Purchase","Useful Life","Test Year Depreciation","Ending Depreciation","NBV",null,null,null,null,null,null,null,null,null,null,null,null,null,null,null,null,null,"Garbage",{"$f":"+SUMIF($AP$30:$AP$57,AJ65,$AF$30:$AF$57)*0.5","v":926584},10,null,{"$f":"+AK65/AL65","v":92658.4},null,{"$f":"+AK65-AN65","v":833925.6}]
[null,null,null,null,null,null,null,null,null,null,null,null,"Recycling Carts",115000,7,{"$f":"+N66/O66","v":16428.571428571428},{"$f":"+P66","v":16428.571428571428},{"$f":"+N66-Q66","v":98571.42857142858},null,null,null,null,null,null,null,null,null,null,null,null,null,null,null,null,null,"Container Delivery",{"$f":"+SUMIF($AP$30:$AP$57,AJ66,$AF$30:$AF$57)*0.5","v":53487},10,null,{"$f":"+AK66/AL66","v":5348.7},null,{"$f":"+AK66-AN66","v":48138.3}]
[null,null,null,null,null,null,null,null,null,null,null,null,"Wet Kit",14000,10,{"$f":"+N67/O67","v":1400},{"$f":"+P67","v":1400},{"$f":"+N67-Q67","v":12600},null,null,null,null,null,null,null,null,null,null,null,null,null,null,null,null,null,"Residential Recycling",{"$f":"+SUMIF($AP$30:$AP$57,AJ67,$AF$30:$AF$57)*0.5","v":87826},10,null,8782.6,null,79043.399999999994]
[null,null,null,null,null,null,null,null,null,null,null,null,null,null,null,null,null,null,null,null,null,null,null,null,null,null,null,null,null,null,null,null,null,null,null,"Recycling ",{"$f":"+SUMIF($AP$30:$AP$57,AJ68,$AF$30:$AF$57)+181000/3*0.5","v":130166.66666666667},7,null,18595.238095238095,null,111571.42857142858]
[null,null,null,null,null,null,null,null,null,null,null,null,null,null,null,null,null,null,null,null,null,null,null,null,null,null,null,null,null,null,null,null,null,null,null,"Garbage Containers",{"$f":"494000*0.5","v":247000},7,null,35285.714285714283,null,211714.28571428571]
[null,null,null,null,null,null,null,null,null,null,null,null,null,null,null,null,null,null,null,null,null,null,null,null,null,null,null,null,null,null,null,null,null,null,null,"Garbage Carts",{"$f":"181000/3*0.5","v":30166.666666666668},7,null,4309.5238095238101,null,25857.142857142859]
[null,null,null,null,null,null,null,null,null,null,null,null,null,null,null,null,null,null,null,null,null,null,null,null,null,null,null,null,null,null,null,null,null,null,null,null,null,7,null,0,null,0]
[null,null,null,null,null,null,null,null,null,null,null,null,null,null,null,null,null,null,null,null,null,null,null,null,null,null,null,null,null,null,null,null,null,null,null,"Yard Waste ",{"$f":"181000/3*0.5","v":30166.666666666668},7,null,4309.5238095238101,null,25857.142857142859]
[null,null,null,null,null,null,null,null,null,null,null,null,null,null,null,null,null,null,null,null,null,null,null,null,null,null,null,null,null,null,null,null,null,null,null,"Containers (Mixed)",null,12,null,0,null,0]
[null,null,null,null,null,null,null,null,null,null,null,null,null,null,null,null,null,null,null,null,null,null,null,null,null,null,null,null,null,null,null,null,null,null,null,null,{"$f":"SUM(AK65:AK73)","v":1505397.0000000002},null,null,{"$f":"SUM(AN65:AN73)","v":169289.7},null,{"$f":"SUM(AP65:AP73)","v":1336107.3000000003}]
[null,null,null,null,null,null,null,null,null,null,null,null,null,null,null,null,null,null,null,null,null,null,null,null,null,null,null,null,null,null,null,null,null,null,null,null,{"$f":"+AK74-AF59","v":-1405396.9999999998}]

{"sheet":"Trucks 2188","index":4,"n_rows":347,"n_cols":41,"rows_kept":347,"cut":false,"hidden":false,"merged":[[2,2,2,4],[0,2,0,4],[1,2,1,4],[9,5,9,6]]}
[null,null,"2188 Lewis County/Joe's Refuse "]
[null,null,"Depreciation Schedule",null,null,null,null,null,null,null,null,null,null,1,"Test Period Beg. Month",null,null,null,null,null,null,null,null,null,null,null,null,null,null,null,null,null,null,null,null,null,"CONVENTIONS"]
[null,null,"2020-05-31",null,null,null,null,null,null,null,null,null,null,12,"Test Period End Month"]
[null,null,null,null,null,null,null,null,null,null,null,null,null,2023,"First Year",null,null,null,null,null,null,null,null,null,null,null,null,null,null,null,null,null,null,null,null,1,"Calendar year test period: ",null,null,12,"mos in first year"]
[null,null,null,null,null,null,"Last Filing ",null,"2009-12-31",null,null,null,null,2023,"Second year",null,null,null,null,null,null,null,null,null,null,null,null,null,null,null,null,null,null,null,null,null,1993,null,null,0,"mos in 2nd year"]
[null,null,null,null,null,null,null,null,null,null,null,null,{"$f":"SUM(M69:M71)","v":1034795.46},{"$f":"+N5+(N3/12)","v":2024},"Test Period End Mo/Yr",null,null,null,null,null,null,null,null,null,null,null,null,null,null,null,null,null,null,null,null,null,null,null,null,93,"First year"]
[null,null,null,null,null,null,null,null,null,null,null,null,null,{"$f":"+N4+(N2/12)","v":2023.0833333333333},"Test Period Beg. Mo/Yr",null,null,null,null,null,null,null,null,null,null,null,null,null,null,null,null,null,null,null,null,null,null,null,null,94,"Second Year"]
[null,null,null,null,null,null,null,null,null,null,null,null,null,null,null,null,null,"Beginning ","Ending"]
[null,null,null," ","GARBAGE",null,null,"Salvage"," ",null,"Year",null," "," ",null,null,"Total","Accum.","Accum.","Average"]
[null,null,null,"Truck",null,"Date in Service",null,"Value","Method","Life ","Fully ","Year/Mo","Asset","Depr","Monthly ","Annual","Test yr.","Depr.","Depr.","Investment",null,null,null,null,null,null,null,null,null,null,null,null,null,null,null,2,"Dispositions must be in test period"]
["FAR #","FAR","Codes","No","Asset Description","Year","Mo","%","M","Years","Depr","Fully Depr","Cost","Cost","Depr","Depr","Depn.",{"$f":"+'Summary 2188'!F7","v":"2023-01-01"},{"$f":"+'Summary 2188'!G7","v":"2023-12-31"},{"$f":"+'Summary 2188'!H7","v":"2023-12-31"}]
[null,null,"P/U",6205,"1986 DODGE TRUCK",1994,3,0,"S/L",7,{"$f":"F12+J12","v":2001},{"$f":"+K12+(G12/12)","v":2001.25},{"$f":"+'Trucks 2188 - Original'!Q12","v":21357.599999999999},{"$f":"M12-M12*H12","v":21357.599999999999},{"$f":"N12/J12/12","v":254.25714285714284},{"$f":"+O12*12","v":3051.0857142857139},{"$f":"+IF(L12<=$N$6,0,P12)","v":0},{"$f":"+IF($L12<=$N$7,$M12,IF(($F12+($G12/12))>=$N$7,0,((($M12-((($L12-$N$7)*12)*$O12))))))","v":21357.599999999999},{"$f":"+IF(L12<=$N$6,M12,IF(Q12=0,R12,R12+Q12))","v":21357.599999999999},{"$f":"+M12-S12","v":0}]
[null,null,null,6205,"Truck #6205 Amort of Salvage",2019,6,0,"S/L",3,2022,{"$f":"+K13+(G13/12)","v":2022.5},{"$f":"+'Trucks 2188 - Original'!O12-'Trucks 2188'!M12","v":5339.4000000000015},{"$f":"M13-M13*H13","v":5339.4000000000015},{"$f":"N13/J13/12","v":148.31666666666669},{"$f":"+O13*12","v":1779.8000000000002},{"$f":"+IF(L13<=$N$6,0,P13)","v":0},{"$f":"+IF($L13<=$N$7,$M13,IF(($F13+($G13/12))>=$N$7,0,((($M13-((($L13-$N$7)*12)*$O13))))))","v":5339.4000000000015},5339.4000000000015,{"$f":"+M13-S13","v":0}]
[null,null,"P/U",6014,"'97 FORD RANGER",1999,1,0,"S/L",5,2004,{"$f":"+K14+(G14/12)","v":2004.0833333333333},{"$f":"+'Trucks 2188 - Original'!Q16","v":5810.24},{"$f":"M14-M14*H14","v":5810.24},96.837333333333333,1162.048,0,5810.24,5810.24,0]
[null,null,null,6014,"Truck #1002 Amort of Salvage",2019,6,0,"S/L",3,{"$f":"F15+J15","v":2022},{"$f":"+K15+(G15/12)","v":2022.5},{"$f":"+'Trucks 2188 - Original'!O16-'Trucks 2188'!M14","v":2861.76},{"$f":"M15-M15*H15","v":2861.76},79.493333333333339,953.92000000000007,0,2861.76,2861.76,0]
[null,null,"FL",2019,"03 PB 320 W/WITTKE FLC-2102 PA",2003,5,0,"S/L",7,2010,2010.4166666666667,{"$f":"+'Trucks 2188 - Original'!Q18","v":137042.712},137042.712,1631.4608571428571,19577.530285714285,0,137042.712,137042.712,0]
[null,null,null,2019,"Truck #2019 Amort of Salvage",2019,6,0,"S/L",3,2022,{"$f":"+K17+(G17/12)","v":2022.5},{"$f":"+'Trucks 2188 - Original'!O18-'Trucks 2188'!M16","v":34260.678000000014},{"$f":"M17-M17*H17","v":34260.678000000014},951.68550000000039,11420.226000000004,0,34260.678000000014,34260.678000000014,0]
[null,null,"SL",3592,"'06 PETE W/27 CY CURBTENDER",2006,4,0,"S/L",7,2013,2013.3333333333333,{"$f":"+'Trucks 2188 - Original'!Q19","v":143783.984},143783.984,1711.7140952380951,20540.569142857141,0,143783.984,143783.984,0]
[null,null,null,3592,"Truck #3592 Amort of Salvage",2019,6,0,"S/L",3,{"$f":"F19+J19","v":2022},{"$f":"+K19+(G19/12)","v":2022.5},{"$f":"+'Trucks 2188 - Original'!O19-'Trucks 2188'!M18","v":35945.996000000014},{"$f":"M19-M19*H19","v":35945.996000000014},998.49988888888936,11981.998666666672,0,35945.996000000014,35945.996000000014,0]
[null,null,"SL",3592,"GREASER UNIT FOR 3592",2006,4,0,"S/L",7,2013,2013.3333333333333,{"$f":"+'Trucks 2188 - Original'!Q20","v":3058.5919999999996},3058.5919999999996,36.411809523809517,436.94171428571417,0,3058.5919999999996,3058.5919999999996,0]
[null,null,null,3592,"Truck #3592 Amort of Salvage",2019,6,0,"S/L",3,2022,{"$f":"+K21+(G21/12)","v":2022.5},{"$f":"+'Trucks 2188 - Original'!O20-'Trucks 2188'!M20","v":764.64800000000014},{"$f":"M21-M21*H21","v":764.64800000000014},21.240222222222226,254.88266666666669,0,764.64800000000014,764.64800000000014,0]
[null,null,"RW",11092,"ROUTWARE INSTALLATIONS (NON-REG)",2007,4,0,"S/L",7,2014,2014.3333333333333,{"$f":"+'Trucks 2188 - Original'!Q26","v":50784.871999999996},50784.871999999996,604.58180952380951,7254.9817142857137,0,50784.871999999996,50784.871999999996,0]
[null,null,null,11092,"Truck #11092 Amort of Salvage",2019,6,0,"S/L",3,2022,{"$f":"+K23+(G23/12)","v":2022.5},{"$f":"+'Trucks 2188 - Original'!O26-'Trucks 2188'!M22","v":12696.218000000001},{"$f":"M23-M23*H23","v":12696.218000000001},352.67272222222226,4232.0726666666669,0,12696.218000000001,12696.218000000001,0]
[null,null,"RL",1061,"07 INT'L W/METROPAK R/L BODY",2007,5,0,"S/L",7,2014,2014.4166666666667,{"$f":"+'Trucks 2188 - Original'!Q28","v":101874.976},101874.976,1212.7973333333332,14553.567999999999,0,101874.976,101874.976,0]
[null,null,null,1061,"Truck #1061 Amort of Salvage",2019,6,0,"S/L",3,2022,{"$f":"+K25+(G25/12)","v":2022.5},{"$f":"+'Trucks 2188 - Original'!O28-'Trucks 2188'!M24","v":25468.744000000006},{"$f":"M25-M25*H25","v":25468.744000000006},707.46511111111124,8489.5813333333354,0,25468.744000000006,25468.744000000006,0]
[null,null,"RW",11093,"ROUTWARE INSTALLATIONS",2007,7,0,"S/L",5,2012,2012.5833333333333,{"$f":"+'Trucks 2188 - Original'!Q29","v":118876.62599999999},118876.62599999999,1981.2771,23775.325199999999,0,118876.62599999999,118876.62599999999,0]
[null,null,null,11093,"Truck #11093 Amort of Salvage",2019,6,0,"S/L",3,{"$f":"F27+J27","v":2022},{"$f":"+K27+(G27/12)","v":2022.5},{"$f":"+'Trucks 2188 - Original'!O29-'Trucks 2188'!M26","v":58551.173999999999},{"$f":"M27-M27*H27","v":58551.173999999999},1626.4215000000002,19517.058000000001,0,58551.173999999999,58551.173999999999,0]
[null,null,"RL",1060,"'07 INT'L W/METROPAK R/L BODY",2007,7,0,"S/L",7,2014,2014.5833333333333,{"$f":"+'Trucks 2188 - Original'!Q30","v":101874.976},101874.976,1212.7973333333332,14553.567999999999,0,101874.976,101874.976,0]
[null,null,null,1060,"Truck #1060 Amort of Salvage",2019,6,0,"S/L",3,2022,{"$f":"+K29+(G29/12)","v":2022.5},{"$f":"+'Trucks 2188 - Original'!O30-'Trucks 2188'!M28","v":25468.744000000006},{"$f":"M29-M29*H29","v":25468.744000000006},707.46511111111124,8489.5813333333354,0,25468.744000000006,25468.744000000006,0]
[null,null,"SL",3627,"2009 PB CHASSIS FOR ASL",2008,10,0,"S/L",7,2015,2015.8333333333333,{"$f":"+'Trucks 2188 - Original'!Q35","v":101681.23199999999},101681.23199999999,1210.4908571428571,14525.890285714286,0,101681.23199999999,101681.23199999999,0]
[null,null,null,3627,"Truck #3627 Amort of Salvage",2019,6,0,"S/L",3,{"$f":"F31+J31","v":2022},{"$f":"+K31+(G31/12)","v":2022.5},{"$f":"+'Trucks 2188 - Original'!O35-'Trucks 2188'!M30","v":25420.308000000005},{"$f":"M31-M31*H31","v":25420.308000000005},706.11966666666683,8473.4360000000015,0,25420.308000000005,25420.308000000005,0]
[null,null,"SL",3627,"2009 PETERBILT 320 BODY",2008,12,0,"S/L",7,2015,2016,{"$f":"+'Trucks 2188 - Original'!Q36","v":80455.752000000008},80455.752000000008,957.8065714285716,11493.678857142859,0,80455.752000000008,80455.752000000008,0]
[null,null,null,3627,"Truck #3627 Amort of Salvage",2019,6,0,"S/L",3,2022,{"$f":"+K33+(G33/12)","v":2022.5},{"$f":"+'Trucks 2188 - Original'!O36-'Trucks 2188'!M32","v":20113.937999999995},{"$f":"M33-M33*H33","v":20113.937999999995},558.72049999999979,6704.645999999997,0,20113.937999999995,20113.937999999995,0]
[null,null,"SL",3592,"FLUP - TRUCK 3592",2009,5,0,"S/L",3,2012,2012.4166666666667,2584.0700000000002,2584.0700000000002,71.779722222222219,861.35666666666657,0,2584.0700000000002,2584.0700000000002,0,null,null,null,null,null,null,null,null,null,null,null,null,null,null,null,4,"Asset put in service in first month of test"]
[null,null,"FL",2019,"FLUP - TRUCK 2019",2009,5,0,"S/L",3,{"$f":"F35+J35","v":2012},2012.4166666666667,7366.07,7366.07,204.61305555555555,2455.3566666666666,0,7366.07,7366.07,0]
[null,null,"DC",67254,"DRIVE CAM INSTALLATIONS (46)",2009,6,0,"S/L",5,2014,2014.5,{"$f":"+'Trucks 2188 - Original'!Q48","v":8967.0589},8967.0589,149.45098166666665,1793.4117799999999,0,8967.0589,8967.0589,0]
[null,null,null,67254,"Truck #67254 Amort of Salvage",2019,6,0,"S/L",3,2022,{"$f":"+K37+(G37/12)","v":2022.5},{"$f":"+'Trucks 2188 - Original'!O48-M36","v":4416.6111000000001},{"$f":"M37-M37*H37","v":4416.6111000000001},122.68364166666667,1472.2037,0,4416.6111000000001,4416.6111000000001,0]
[null,null,"DC",67256,"DRIVE CAM INSTALLATIONS (46)",2009,6,0,"S/L",5,2014,2014.5,{"$f":"+'Trucks 2188 - Original'!Q49","v":266.27139999999997},266.27139999999997,4.4378566666666659,53.254279999999994,0,266.27139999999997,266.27139999999997,0]
[null,null,null,67256,"Truck #67256 Amort of Salvage",2019,6,0,"S/L",3,{"$f":"F39+J39","v":2022},{"$f":"+K39+(G39/12)","v":2022.5},{"$f":"+'Trucks 2188 - Original'!O49-M38","v":131.14860000000004},{"$f":"M39-M39*H39","v":131.14860000000004},3.6430166666666679,43.716200000000015,0,131.14860000000004,131.14860000000004,0]
["89106, 89107",2189,null,3543,"DRIVE CAM",2011,11,0,"S/L",7,2018,2018.9166666666667,{"$f":"1251.9/2","v":625.95000000000005},625.95000000000005,7.4517857142857151,89.421428571428578,0,625.95000000000005,625.95000000000005,0]
[null,null,null,88724,"(16) TRUCK RADIOS",2011,12,0,"S/L",5,2016,2017,{"$f":"468.93*16","v":7502.88},7502.88,125.048,1500.576,0,7502.88,7502.88,0]
["88662, 88898",2189,null,3543,"2012 INTERNATIONAL RETRIEVER (N)",2011,12,0,"S/L",6.11,2017.11,2018.11,{"$f":"108532.26+3443.64+129.14","v":112105.04},112105.04,1528.9830878341515,18347.797054009818,0,112105.04,112105.04,0]
[88724,null,null,null,"(6) TRUCK RADIOS",2011,12,0,"S/L",5,2016,2017,{"$f":"468.93*6","v":2813.58},2813.58,46.893000000000001,562.71600000000001,0,2813.58,2813.58,0]
[99664,null,null,1070,"2013 PETERBILT 320 W/ NEW WAY BODY (N)",2012,12,0,"S/L",10,2022,2023,259759.91,259759.91,2164.6659166666668,25975.991000000002,0,259759.91,{"$f":"+IF(L44<=$N$6,M44,IF(Q44=0,R44,R44+Q44))","v":259759.91},0]
[109521,null,"ASL",3636,"2014 Peterbilt/Wayne ASL (N)",2013,12,0,"S/L",10,2023,2024,322008.34000000003,322008.34000000003,2683.4028333333335,32200.834000000003,0,292490.9088333309,322008.34000000003,0]
[110129,null,null,3636,"DriveCam #3636",2013,12,0,"S/L",10,2023,2024,632.57000000000005,632.57000000000005,5.2714166666666671,63.257000000000005,{"$f":"+IF(L46<=$N$6,0,P46)","v":0},574.58441666666192,632.57000000000005,0]
[109522,null,"DEL",9389,"2014 Ford F-550 Cont. Del (N)",2013,12,0,"S/L",10,2023,2024,67654.960000000006,67654.960000000006,563.79133333333345,6765.496000000001,0,61453.255333332825,67654.960000000006,{"$f":"+M47-S47","v":0}]
[118079,null,"ASL",3642,"2015 ASL Truck (N)",2014,12,0,"S/L",10,2024,2025,{"$f":"327334.16+912.06","v":328246.21999999997},328246.21999999997,2735.3851666666665,32824.621999999996,32824.621999999996,265332.36116666417,298156.98316666414,{"$f":"+M48-S48","v":30089.236833335832}]
[118254,null,"SL",3627,"Improvement - ASL Auto Hopper Cover Kit",2014,12,0,"S/L",3,2017,2018,2532.61,2532.61,70.350277777777777,844.20333333333338,0,2532.61,2532.61,0]
[118253,null,"SL",3614,"Improvement - ASL Auto Hopper Cover Kit",2014,12,0,"S/L",3,2017,2018,2532.61,2532.61,70.350277777777777,844.20333333333338,0,2532.61,2532.61,0]
[118250,null,"SL",3592,"Improvement - ASL Auto Hopper Cover Kit",2014,12,0,"S/L",3,2017,2018,2532.61,2532.61,70.350277777777777,844.20333333333338,0,2532.61,2532.61,0]
[123521,null,"SL",3627,"Engine Repair",2015,5,0,"S/L",3,2018,2018.4166666666667,21954.799999999999,21954.799999999999,609.8555555555555,7318.2666666666664,0,21954.799999999999,21954.799999999999,0]
["132281/133543/139787",null,null,null,"(34) Samsung Tablets, Hardware, & Setup",2016,4,0,"S/L",1,2017,2017.3333333333333,{"$f":"((7403.89+8314.08+342)/38)*34","v":14369.446842105262},14369.446842105262,1197.4539035087719,14369.446842105262,0,14369.446842105262,14369.446842105262,0]
["132761/139725/132761",null,"ASL",3655,"2016 ASL Truck (N), Decals, and Licensing",2016,5,0,"S/L",10,2026,2026.4166666666667,{"$f":"323407.89+1609.81+472","v":325489.7},325489.7,2712.4141666666669,32548.97,32548.97,216993.13333332841,249542.10333332841,75947.596666671598]
["133442/139726/165761",null,"ASL",3656,"2016 ASL Truck (N), Decals, and Licensing",2016,6,0,"S/L",10,2026,2026.5,{"$f":"323407.89+1609.81+472","v":325489.7},325489.7,2712.4141666666669,32548.97,32548.97,214280.7191666642,246829.6891666642,78660.010833335808]
["133443/139727/165760",null,"RL",1074,"2016 REL Truck (N), Decals, and Licensing",2016,6,0,"S/L",10,2026,2026.5,{"$f":"284597.5+1554.65+472","v":286624.15000000002},286624.15000000002,2388.5345833333336,28662.415000000001,28662.415000000001,188694.23208333115,217356.64708333116,69267.502916668862]
[167733,null,null,null,"(5) Mounting Hardware & AC Adapters",2016,6,0,"S/L",1,2017,2017.5,472.52,472.52,39.376666666666665,472.52,0,472.52,{"$f":"+IF(L57<=$N$6,M57,IF(Q57=0,R57,R57+Q57))","v":472.52},0]
[128675,null,"ASL",3646,"2016 ASL Truck- Resi Garbage",2016,12,0,"S/L",10,{"$f":"F58+J58","v":2026},{"$f":"+K58+(G58/12)","v":2027},336161.88,{"$f":"M58-M58*H58","v":336161.88},{"$f":"N58/J58/12","v":2801.3490000000002},{"$f":"+O58*12","v":33616.188000000002},{"$f":"+IF(L58<=$N$6,0,P58)","v":33616.188000000002},{"$f":"+IF($L58<=$N$7,$M58,IF(($F58+($G58/12))>=$N$7,0,((($M58-((($L58-$N$7)*12)*$O58))))))","v":204498.47699999745},238114.66499999745,{"$f":"+M58-S58","v":98047.215000002558}]
[128837,null,"ASL",3646,"Drive Cam/ Decals ",2016,12,0,"S/L",10,{"$f":"F59+J59","v":2026},{"$f":"+K59+(G59/12)","v":2027},1674.62,{"$f":"M59-M59*H59","v":1674.62},13.955166666666665,167.46199999999999,167.46199999999999,1018.7271666666539,1186.1891666666538,488.43083333334607]
[187610,null,null,3303,"2017 SL Truck",2017,10,0,"S/L",10,2027,2027.8333333333333,135413.12,135413.12,1128.4426666666666,13541.311999999998,13541.311999999998,71091.888000000006,84633.200000000012,50779.919999999984]
[191690,null,null,2510,"2018 FEL Truck",2018,1,0,"S/L",10,{"$f":"F61+J61","v":2028},2028.0833333333333,312655.15999999997,312655.15999999997,2605.4596666666662,31265.515999999996,31265.515999999996,156327.58000000002,187593.09600000002,125062.06399999995]
["193351/191690",null,null,2510,"Decals for New Truck",2018,1,0,"S/L",10,2028,{"$f":"+K62+(G62/12)","v":2028.0833333333333},957.42,{"$f":"M62-M62*H62","v":957.42},7.9784999999999995,95.74199999999999,95.74199999999999,478.71,574.452,382.96799999999996]
["200354/61382",null,null,2019,"Cap Repair: Engine Repair Truck 2019",2018,6,0,"S/L",3,2021,2021.5,35182.239999999998,35182.239999999998,977.28444444444438,11727.413333333332,0,35182.239999999998,35182.239999999998,0]
["207703/203826",null,null,3688,"Decals on Truck 3688",2018,9,0,"S/L",10,2028,2028.75,1071.18,1071.18,8.9265000000000008,107.11800000000001,107.11800000000001,464.17799999999193,571.29599999999198,499.88400000000809]
[202837,null,null,3684,"2019 ASL Truck",2018,9,0,"S/L",10,2028,2028.75,337246.78,337246.78,2810.3898333333332,33724.678,33724.678,146140.27133333081,179864.94933333079,157381.83066666924]
["204912/202837",null,null,3684,"Decals",2018,9,0,"S/L",10,2028,2028.75,1071.18,1071.18,8.9265000000000008,107.11800000000001,107.11800000000001,464.17799999999193,571.29599999999198,499.88400000000809]
[203826,null,null,3688,"2019 ASL Truck",2018,10,0,"S/L",10,2028,2028.8333333333333,336943.72,336943.72,2807.864333333333,33694.371999999996,33694.371999999996,143201.08100000001,176895.45300000001,160048.26699999996]
[217463,null,null,1082,"New 2019 REL Truck",2019,7,0,"S/L",9,2028,2028.5833333333333,{"$f":"217213.1+681.66","v":217894.76},217894.76,2017.5440740740742,24210.52888888889,24210.52888888889,84736.851111111115,108947.38,108947.38]
[223833,null,null,1084,"2020 Peterbilt REL Truck",2019,11,0,"S/L",10,2029,2029.9166666666667,{"$f":"304103.06+843.96","v":304947.02},304947.02,2541.2251666666666,30494.701999999997,30494.701999999997,96566.556333328743,127061.25833332873,177885.76166667129]
[225451,null,null,3702,"2020 Peterbilt ASL Truck",2019,12,0,"S/L",10,{"$f":"F70+J70","v":2029},{"$f":"+K70+(G70/12)","v":2030},364924.22,{"$f":"M70-M70*H70","v":364924.22},3041.0351666666666,36492.421999999999,36492.421999999999,112518.30116666388,149010.72316666387,215913.4968333361]
[225452,null,null,3701,"2020 Peterbilt ASL Truck",2019,12,0,"S/L",10,2029,2030,364924.22,364924.22,3041.0351666666666,36492.421999999999,36492.421999999999,112518.30116666388,149010.72316666387,215913.4968333361]
["229087/225451",null,null,3702,"Truck Vinyls",2020,3,0,"S/L",10,2030,2030.25,984.62,984.62,8.2051666666666669,98.462000000000003,98.462000000000003,278.97566666665921,377.4376666666592,607.18233333334081]
["232358/232184/90441",null,null,3543,"Capital Repair: Truck 3543",2020,4,0,"S/L",3,2023,2023.3333333333333,{"$f":"33092.15-79.22","v":33012.93},33012.93,917.02583333333325,11004.31,0,30261.852500000001,33012.93,0]
[232998,null,null,1089,"2020 Peterbilt REL Truck",2020,5,0,"S/L",10,2030,2030.4166666666667,312121.17,312121.17,2601.0097499999997,31212.116999999998,31212.116999999998,83232.311999995291,114444.42899999529,197676.74100000469]
[241522,null,null,2062,"2019 Peterbilt FEL Truck",2020,11,0,"S/L",8,2028,2028.9166666666667,252000,252000,2625,31500,31500,68249.999999995227,99749.999999995227,152250.00000000477]
[242815,null,null,3714,"2021 Peterbilt ASL Truck",2020,11,0,"S/L",10,2030,2030.9166666666667,367978.17,367978.17,3066.4847499999996,36797.816999999995,36797.816999999995,79728.603499994439,116526.42049999443,251451.74950000556]
["244667/241522",null,null,2062,"License & Use Tax",2020,12,0,"S/L",8,{"$f":"F77+J77","v":2028},{"$f":"+K77+(G77/12)","v":2029},5150,{"$f":"M77-M77*H77","v":5150},53.645833333333336,643.75,643.75,1341.1458333332844,1984.8958333332844,3165.1041666667156]
["244668/241522",null,null,2062,"License & Use Tax",2020,12,0,"S/L",8,2028,2029,5150,5150,53.645833333333336,643.75,643.75,1341.1458333332844,1984.8958333332844,3165.1041666667156]
["244669/241522",null,null,2062,"License & Use Tax",2020,12,0,"S/L",8,2028,2029,5150,5150,53.645833333333336,643.75,643.75,1341.1458333332844,1984.8958333332844,3165.1041666667156]
["244670/241522",null,null,2062,"License & Use Tax",2020,12,0,"S/L",8,2028,2029,5150,5150,53.645833333333336,643.75,643.75,1341.1458333332844,1984.8958333332844,3165.1041666667156]
["244671/241522",null,null,2062,"License & Use Tax",2020,12,0,"S/L",8,2028,2029,2442.65,2442.65,25.444270833333334,305.33125000000001,305.33125000000001,636.10677083331029,941.43802083331025,1501.2119791666898]
["232998/234514",null,null,1089,"Decals",2020,5,0,"S/L",10,2030,2030.4166666666667,843.96,843.96,7.0330000000000004,84.396000000000001,84.396000000000001,225.05599999998719,309.45199999998721,534.50800000001277]
[null,null,null,null,""]
[null,null,null,16,"TOTAL GARBAGE",null,null,null,null,null,null,null,{"$f":"SUM(M12:M83)","v":6961623.0168421045},{"$f":"SUM(N12:N83)","v":6961623.0168421045},71333.335444821743,856000.02533786104,503167.68113888887,4237430.3812240027,4779126.2612795606,2182496.7555625415,"Updated Useful Lives to FAR"]
[]
[null,null,null,null,""]
[null,null,null,null,"ROLL OFF"]
[null,null,null,4024,"'00 INT'L 9200I SBA 6X4 CAB & CHASSIS",2000,8,0,"S/L",7,{"$f":"F88+J88","v":2007},{"$f":"+K88+(G88/12)","v":2007.6666666666667},{"$f":"+'Trucks 2188 - Original'!Q93","v":73750.376000000004},{"$f":"M88-M88*H88","v":73750.376000000004},{"$f":"N88/J88/12","v":877.98066666666671},{"$f":"+O88*12","v":10535.768},{"$f":"+IF(L88<=$N$6,0,P88)","v":0},{"$f":"+IF($L88<=$N$7,$M88,IF(($F88+($G88/12))>=$N$7,0,((($M88-((($L88-$N$7)*12)*$O88))))))","v":73750.376000000004},{"$f":"+IF(L88<=$N$6,M88,IF(Q88=0,R88,R88+Q88))","v":73750.376000000004},{"$f":"+M88-S88","v":0}]
[null,null,null,4024,"Truck #4024 Amort of Salvage",2019,6,0,"S/L",3,2022,{"$f":"+K89+(G89/12)","v":2022.5},{"$f":"+'Trucks 2188 - Original'!O93-M88","v":18437.593999999997},{"$f":"M89-M89*H89","v":18437.593999999997},512.15538888888875,6145.8646666666646,0,18437.593999999997,18437.593999999997,0]
[null,null,"RO",4045,"'06 VOLVO W/DROP MECHANISM",2005,9,0,"S/L",7,2012,2012.75,{"$f":"+'Trucks 2188 - Original'!Q96","v":116925.504},{"$f":"M90-M90*H90","v":116925.504},1391.9702857142856,16703.643428571428,0,116925.504,116925.504,0]
[null,null,null,4045,"Truck #4045 Amort of Salvage",2019,6,0,"S/L",3,{"$f":"F91+J91","v":2022},{"$f":"+K91+(G91/12)","v":2022.5},{"$f":"+'Trucks 2188 - Original'!O96-M90","v":29231.376000000004},{"$f":"M91-M91*H91","v":29231.376000000004},811.98266666666677,9743.7920000000013,0,29231.376000000004,29231.376000000004,0]
[null,null,"RO",4043,"'06 VOLVO ROLLOFF",2005,12,0,"S/L",7,2012,2013,{"$f":"+'Trucks 2188 - Original'!Q97","v":116339.08},116339.08,1384.9890476190476,16619.868571428571,0,116339.08,116339.08,0]
[null,null,null,4043,"Truck #4043 Amort of Salvage",2019,6,0,"S/L",3,2022,{"$f":"+K93+(G93/12)","v":2022.5},{"$f":"+'Trucks 2188 - Original'!O97-M92","v":29084.770000000004},{"$f":"M93-M93*H93","v":29084.770000000004},807.91027777777788,9694.9233333333341,0,29084.770000000004,29084.770000000004,0]
[null,null,"RO",4057,"'07 VOLVO W/HELM DROP",2007,5,0,"S/L",7,2014,2014.4166666666667,{"$f":"+'Trucks 2188 - Original'!Q98","v":125666.272},125666.272,1496.0270476190474,17952.324571428569,0,125666.272,125666.272,0]
[null,null,null,4057,"Truck #4057 Amort of Salvage",2019,6,0,"S/L",3,{"$f":"F95+J95","v":2022},{"$f":"+K95+(G95/12)","v":2022.5},{"$f":"+'Trucks 2188 - Original'!O98-M94","v":31416.567999999999},{"$f":"M95-M95*H95","v":31416.567999999999},872.68244444444451,10472.189333333334,0,31416.567999999999,31416.567999999999,0]
[null,null,"RO",11095,"ROUTWARE INSTALLATIONS (NON-REG)",2008,1,0,"S/L",7,2015,2015.0833333333333,{"$f":"+'Trucks 2188 - Original'!Q99","v":48001.32},48001.32,571.44428571428568,6857.3314285714278,0,48001.32,48001.32,0]
[null,null,null,11095,"Truck #11095 Amort of Salvage",2019,6,0,"S/L",3,2022,{"$f":"+K97+(G97/12)","v":2022.5},{"$f":"+'Trucks 2188 - Original'!O99-M96","v":12000.330000000002},{"$f":"M97-M97*H97","v":12000.330000000002},333.34250000000003,4000.1100000000006,0,12000.330000000002,12000.330000000002,0]
[null,null,"RO",4066,"'09 VOLVO VNM84T W/HELM BOOM",2008,10,0,"S/L",7,2015,2015.8333333333333,{"$f":"+'Trucks 2188 - Original'!Q100","v":135504.63200000001},135504.63200000001,1613.1503809523811,19357.804571428573,0,135504.63200000001,135504.63200000001,0]
[null,null,null,4066,"Truck #4066 Amort of Salvage",2019,6,0,"S/L",3,{"$f":"F99+J99","v":2022},{"$f":"+K99+(G99/12)","v":2022.5},{"$f":"+'Trucks 2188 - Original'!O100-M98","v":33876.157999999996},{"$f":"M99-M99*H99","v":33876.157999999996},941.00438888888868,11292.052666666665,0,33876.157999999996,33876.157999999996,0]
[null,null,"RO",4071,"2009 VOLVO TYPE: H  DROP",2008,10,0,"S/L",7,2015,2015.8333333333333,{"$f":"+'Trucks 2188 - Original'!Q101","v":132388.56},132388.56,1576.0542857142857,18912.651428571429,0,132388.56,132388.56,0]
[null,null,null,4071,"Truck #4071 Amort of Salvage",2019,6,0,"S/L",3,2022,{"$f":"+K101+(G101/12)","v":2022.5},{"$f":"+'Trucks 2188 - Original'!O101-M100","v":33097.140000000014},{"$f":"M101-M101*H101","v":33097.140000000014},919.36500000000035,11032.380000000005,0,33097.140000000014,33097.140000000014,0]
[null,null,null,4065,"2009 VOLVO VNM84T200 TYPE: H  DROP",2008,10,0,"S/L",7,2015,2015.8333333333333,127101.54,127101.54,1513.1135714285713,18157.362857142856,0,127101.54,127101.54,0]
[null,null,"RO",4071,"AUTOGREASER",2009,1,0,"S/L",7,2016,2016.0833333333333,{"$f":"+'Trucks 2188 - Original'!Q103","v":3121.7840000000001},3121.7840000000001,37.164095238095236,445.96914285714286,0,3121.7840000000001,3121.7840000000001,0]
[null,null,null,4071,"Truck #4071 Amort of Salvage",2019,6,0,"S/L",3,{"$f":"F104+J104","v":2022},{"$f":"+K104+(G104/12)","v":2022.5},{"$f":"+'Trucks 2188 - Original'!O103-'Trucks 2188'!M103","v":780.44599999999991},{"$f":"M104-M104*H104","v":780.44599999999991},21.679055555555554,260.14866666666666,0,780.44599999999991,780.44599999999991,0]
[null,null,"DC",4024,"FLUP 4024",2009,6,0,"S/L",3,2012,2012.5,2534.42,2534.42,70.400555555555556,844.80666666666662,0,2534.42,2534.42,0]
[68607,null,null,null,"DRIVE CAMS",2009,7,0,"S/L",5,2014,2014.5833333333333,{"$f":"+'Trucks 2188 - Original'!Q105","v":2824.4787999999999},2824.4787999999999,47.074646666666666,564.89576,0,2824.4787999999999,2824.4787999999999,0]
[null,null,null,null,"Drive Cams Amort of Salvage",2019,6,0,"S/L",3,2022,{"$f":"+K107+(G107/12)","v":2022.5},{"$f":"+'Trucks 2188 - Original'!O105-'Trucks 2188'!M106","v":1391.1612000000005},{"$f":"M107-M107*H107","v":1391.1612000000005},38.64336666666668,463.72040000000015,0,1391.1612000000005,1391.1612000000005,0]
[null,null,"RO",8715,"2012 R/O SKID TRAILER (N)",2011,7,0,"S/L",10,2021,2021.5833333333333,51904.55,51904.55,432.53791666666666,5190.4549999999999,0,51904.55,51904.55,0]
[null,null,null,88724,"(6) TRUCK RADIOS",2011,12,0,"S/L",5,2016,2017,{"$f":"468.93*6","v":2813.58},2813.58,46.893000000000001,562.71600000000001,0,2813.58,2813.58,0]
[88724,null,null,null,"(4) TRUCK RADIOS",2011,12,0,"S/L",5,2016,2017,{"$f":"468.93*4","v":1875.72},1875.72,31.262,375.14400000000001,0,1875.72,1875.72,0]
[100082,null,null,4065,"Automatic Tarp Unit #4065",2012,12,0,"S/L",3,2015,2016,8838,8838,245.5,2946,0,8838,8838,0]
[101833,null,null,4057,"AA Welding Automatic Tarp Unit",2013,1,0,"S/L",3,2016,2016.0833333333333,8837.86,8837.86,245.49611111111111,2945.9533333333334,0,8837.86,8837.86,0]
[102419,null,null,4066,"AA Welding Automatic Tarp Unit",2013,2,0,"S/L",3,2016,2016.1666666666667,8837.86,8837.86,245.49611111111111,2945.9533333333334,0,8837.86,8837.86,0]
[102420,null,null,4071,"AA Welding Automatic Tarp Unit",2013,2,0,"S/L",3,2016,2016.1666666666667,8837.86,8837.86,245.49611111111111,2945.9533333333334,0,8837.86,8837.86,0]
[102418,null,null,4045,"AA Welding Automatic Tarp Unit",2013,2,0,"S/L",3,2016,2016.1666666666667,8837.86,8837.86,245.49611111111111,2945.9533333333334,0,8837.86,8837.86,0]
[]
[null,null,null,6,"TOTAL ROLL OFF",null,null,null,null,null,null,null,{"$f":"SUM(M88:M116)","v":1174256.8000000003},{"$f":"SUM(N88:N116)","v":1174256.8000000003},17576.311318888893,210915.73582666667,0,1174256.8000000003,1174256.8000000003,{"$f":"SUM(T88:T116)","v":0},"Updated Useful Lives to FAR"]
[null,null,null,null,""]
[null,null,null,null,""]
[null,null,null,null,"RESI RECYCLE"]
[null,null,"SL",3613,"07 PB 320 W/27 CY CURBTENDER",2007,8,0,"S/L",7,{"$f":"F121+J121","v":2014},{"$f":"+K121+(G121/12)","v":2014.6666666666667},{"$f":"+'Trucks 2188 - Original'!Q131","v":155764.03200000001},{"$f":"M121-M121*H121","v":155764.03200000001},{"$f":"N121/J121/12","v":1854.3337142857144},{"$f":"+O121*12","v":22252.004571428573},{"$f":"+IF(L121<=$N$6,0,P121)","v":0},{"$f":"+IF($L121<=$N$7,$M121,IF(($F121+($G121/12))>=$N$7,0,((($M121-((($L121-$N$7)*12)*$O121))))))","v":155764.03200000001},{"$f":"+IF(L121<=$N$6,M121,IF(Q121=0,R121,R121+Q121))","v":155764.03200000001},{"$f":"+M121-S121","v":0}]
[null,null,null,3613,"Truck #3613 Amort of Salvage",2019,6,0,"S/L",3,{"$f":"F122+J122","v":2022},{"$f":"+K122+(G122/12)","v":2022.5},{"$f":"+'Trucks 2188 - Original'!O131-'Trucks 2188'!M121","v":38941.008000000002},{"$f":"M122-M122*H122","v":38941.008000000002},1081.6946666666668,12980.336000000001,0,38941.008000000002,38941.008000000002,0]
[null,null,"RW",11094,"ROUTWARE INSTALLATIONS",2007,9,0,"S/L",7,2014,2014.75,{"$f":"+'Trucks 2188 - Original'!Q132","v":26695.296000000002},26695.296000000002,317.80114285714291,3813.6137142857151,0,26695.296000000002,26695.296000000002,0]
[null,null,null,11094,"Truck #11094 Amort of Salvage",2019,6,0,"S/L",3,2022,{"$f":"+K124+(G124/12)","v":2022.5},{"$f":"+'Trucks 2188 - Original'!O132-'Trucks 2188'!M123","v":6673.8240000000005},{"$f":"M124-M124*H124","v":6673.8240000000005},185.38400000000001,2224.6080000000002,0,6673.8240000000005,6673.8240000000005,0]
[null,null,"DC",68606,"DRIVE CAMS (ONSITE TECHNICIANS)",2009,7,0,"S/L",5,2014,2014.5833333333333,{"$f":"+'Trucks 2188 - Original'!Q137","v":2958.9678999999996},2958.9678999999996,49.316131666666656,591.79357999999991,0,2958.9678999999996,2958.9678999999996,0]
[null,null,null,68606,"Truck #68606 Amort of Salvage",2019,6,0,"S/L",3,2022,{"$f":"+K126+(G126/12)","v":2022.5},{"$f":"+'Trucks 2188 - Original'!O137-'Trucks 2188'!M125","v":1457.4021000000002},{"$f":"M126-M126*H126","v":1457.4021000000002},40.48339166666667,485.80070000000001,0,1457.4021000000002,1457.4021000000002,0]
[null,null,null,88724,"(5) TRUCK RADIOS",2011,12,0,"S/L",5,2016,2017,{"$f":"468.93*5","v":2344.65},2344.65,39.077500000000001,468.93,0,2344.65,2344.65,0]
[97261,null,null,3613,"Plastic Hopper Door for #3613",2012,10,0,"S/L",3,2015,2015.8333333333333,2558.5300000000002,2558.5300000000002,71.070277777777775,852.84333333333325,0,2558.5300000000002,2558.5300000000002,0]
[88724,null,null,null,"(2) TRUCK RADIOS",2011,12,0,"S/L",5,2016,2017,{"$f":"468.93*2","v":937.86},{"$f":"M129-M129*H129","v":937.86},15.631,187.572,0,937.86,937.86,0]
["132281/133543/139787",null,null,null,"(4) Samsung Tablets, Hardware, & Setup",2016,4,0,"S/L",1,2017,2017.3333333333333,{"$f":"((7403.89+8314.08+342)/38)*4","v":1690.5231578947369},{"$f":"M130-M130*H130","v":1690.5231578947369},140.87692982456142,1690.5231578947369,0,1690.5231578947369,1690.5231578947369,0]
["PROFORMA",null,"ASL",null,"2020 ASL Pete 520/ Labrie 29 YD",2020,8,0,"S/L",10,2030,2030.6666666666667,379778,{"$f":"M131-M131*H131","v":379778},3164.8166666666671,37977.800000000003,37977.800000000003,91779.683333327528,129757.48333332753,250020.51666667248]
[null,null,null,null,"Amortization of Salvage Value of 2019 & 2020 Retired Trucks",2019,6,0,"S/L",3,{"$f":"F132+J132","v":2022},{"$f":"+K132+(G132/12)","v":2022.5},{"$f":"+M263","v":31221.414000000004},{"$f":"M132-M132*H132","v":31221.414000000004},867.26150000000007,10407.138000000001,0,31221.414000000004,31221.414000000004,0]
[null,null,null,null,""]
[null,null,null,5,"TOTAL RESI RECYCLE",null,null,null,null,null,null,null,{"$f":"SUM(M121:M133)","v":651021.50715789467},{"$f":"SUM(N121:N133)","v":651021.50715789467},7827.7469214118646,93932.963056942361,37977.800000000003,363023.19049122219,401000.99049122224,250020.51666667248,"Updated Useful Lives to FAR"]
[null,null,null,null,""]
[null,null,null,null,""]
[null,null,null,null,"MF"]
[null,null,null,null,""]
[null,null,"RL - SP",1002,"TYRONE UNITS    (20%)",1995,9,0,"S/L",7,{"$f":"F139+J139","v":2002},{"$f":"+K139+(G139/12)","v":2002.75},{"$f":"+'Trucks 2188 - Original'!Q153","v":61.760000000000005},{"$f":"M139-M139*H139","v":61.760000000000005},{"$f":"N139/J139/12","v":0.73523809523809536},{"$f":"+O139*12","v":8.8228571428571438},{"$f":"+IF(L139<=$N$6,0,P139)","v":0},{"$f":"+IF($L139<=$N$7,$M139,IF(($F139+($G139/12))>=$N$7,0,((($M139-((($L139-$N$7)*12)*$O139))))))","v":61.760000000000005},{"$f":"+IF(L139<=$N$6,M139,IF(Q139=0,R139,R139+Q139))","v":61.760000000000005},{"$f":"+M139-S139","v":0},null,null,null,null,null,null,null,null,null,null,null,null,null,null,null,3,"Computes with one month convention"]
[null,null,null,1002,"Truck #1002 Amort of Salvage",2019,6,0,"S/L",3,2022,2022.5,{"$f":"+'Trucks 2188 - Original'!O153-'Trucks 2188'!M139","v":15.439999999999998},15.439999999999998,0.42888888888888882,5.1466666666666656,0,15.439999999999998,15.439999999999998,0]
[null,null,"RL - SP",1002,"20YD ALPHA BODY    (20%)",1995,10,0,"S/L",7,2002,2002.8333333333333,{"$f":"+'Trucks 2188 - Original'!Q154","v":4347.2},4347.2,51.752380952380946,621.02857142857135,0,4347.2,4347.2,0,null,null,null,null,null,null,null,null,null,null,null,null,null,null,null,null,"i.e. whole month depreciation no"]
[null,null,null,1002,"Truck #1002 Amort of Salvage",2019,6,0,"S/L",3,2022,2022.5,{"$f":"+'Trucks 2188 - Original'!O154-'Trucks 2188'!M141","v":1086.8000000000002},1086.8000000000002,30.188888888888894,362.26666666666671,0,1086.8000000000002,1086.8000000000002,0]
[null,null,"RL - SP",1002,"1996 VOLVO FE42    (20%)",1995,10,0,"S/L",7,2002,2002.8333333333333,{"$f":"+'Trucks 2188 - Original'!Q155","v":7952},7952,94.666666666666671,1136,0,7952,7952,0,null,null,null,null,null,null,null,null,null,null,null,null,null,null,null,null,"matter what day of month put on"]
[null,null,null,1002,"Truck #1002 Amort of Salvage",2019,6,0,"S/L",3,2022,2022.5,{"$f":"+'Trucks 2188 - Original'!O155-'Trucks 2188'!M143","v":1988},1988,55.222222222222221,662.66666666666663,0,1988,1988,0]
[null,null,null,null,""]
[null,null,null,null,"TOTAL MF",null,null,null,null,null,null,null,{"$f":"SUM(M139:M145)","v":15451.2},{"$f":"SUM(N139:N145)","v":15451.2},232.99428571428572,2795.9314285714286,0,15451.2,15451.2,0]
[null,null,null,null,""]
[null,null,null,null,""]
[null,null,null,null,"YARD WASTE"]
[null,null,null,null,""]
[null,null,"RL - SP",1002,"TYRONE UNITS    (20%)",1995,9,0,"S/L",7,{"$f":"F151+J151","v":2002},{"$f":"+K151+(G151/12)","v":2002.75},{"$f":"+'Trucks 2188 - Original'!Q162","v":61.760000000000005},{"$f":"M151-M151*H151","v":61.760000000000005},{"$f":"N151/J151/12","v":0.73523809523809536},{"$f":"+O151*12","v":8.8228571428571438},{"$f":"+IF(L151<=$N$6,0,P151)","v":0},{"$f":"+IF($L151<=$N$7,$M151,IF(($F151+($G151/12))>=$N$7,0,((($M151-((($L151-$N$7)*12)*$O151))))))","v":61.760000000000005},{"$f":"+IF(L151<=$N$6,M151,IF(Q151=0,R151,R151+Q151))","v":61.760000000000005},{"$f":"+M151-S151","v":0},null,null,null,null,null,null,null,null,null,null,null,null,null,null,null,3,"Computes with one month convention"]
[null,null,null,1002,"Truck #1002 Amort of Salvage",2019,6,0,"S/L",3,2022,2022.5,{"$f":"+'Trucks 2188 - Original'!O162-'Trucks 2188'!M151","v":15.439999999999998},15.439999999999998,0.42888888888888882,5.1466666666666656,0,15.439999999999998,15.439999999999998,0]
[null,null,"RL - SP",1002,"20YD ALPHA BODY    (20%)",1995,10,0,"S/L",7,2002,2002.8333333333333,{"$f":"+'Trucks 2188 - Original'!Q163","v":4347.2},4347.2,51.752380952380946,621.02857142857135,0,4347.2,4347.2,0,null,null,null,null,null,null,null,null,null,null,null,null,null,null,null,null,"i.e. whole month depreciation no"]
[null,null,null,1002,"Truck #1002 Amort of Salvage",2019,6,0,"S/L",3,2022,2022.5,{"$f":"+'Trucks 2188 - Original'!O163-'Trucks 2188'!M153","v":1086.8000000000002},1086.8000000000002,30.188888888888894,362.26666666666671,0,1086.8000000000002,1086.8000000000002,0]
[null,null,"RL - SP",1002,"1996 VOLVO FE42    (20%)",1995,10,0,"S/L",7,2002,2002.8333333333333,{"$f":"+'Trucks 2188 - Original'!Q164","v":7952},7952,94.666666666666671,1136,0,7952,7952,0,null,null,null,null,null,null,null,null,null,null,null,null,null,null,null,null,"matter what day of month put on"]
[null,null,null,1002,"Truck #1002 Amort of Salvage",2019,6,0,"S/L",3,2022,2022.5,{"$f":"+'Trucks 2188 - Original'!O164-'Trucks 2188'!M155","v":1988},1988,55.222222222222221,662.66666666666663,0,1988,1988,0]
[]
[null,null,null,null,"TOTAL YARD WASTE",null,null,null,null,null,null,null,{"$f":"SUM(M151:M157)","v":15451.2},{"$f":"SUM(N151:N157)","v":15451.2},232.99428571428572,2795.9314285714286,0,15451.2,15451.2,0]
[]
[null,null,null,null,""]
[null,null,null,null,"Commercial Recycling"]
[]
[null,null,"TRL",8707,"S828 PEERLESS TRAILER",1997,5,0,"S/L",7,{"$f":"F163+J163","v":2004},{"$f":"+K163+(G163/12)","v":2004.4166666666667},{"$f":"+'Trucks 2188 - Original'!Q171","v":2400},{"$f":"M163-M163*H163","v":2400},{"$f":"N163/J163/12","v":28.571428571428569},{"$f":"+O163*12","v":342.85714285714283},{"$f":"+IF(L163<=$N$6,0,P163)","v":0},{"$f":"+IF($L163<=$N$7,$M163,IF(($F163+($G163/12))>=$N$7,0,((($M163-((($L163-$N$7)*12)*$O163))))))","v":2400},{"$f":"+IF(L163<=$N$6,M163,IF(Q163=0,R163,R163+Q163))","v":2400},{"$f":"+M163-S163","v":0}]
[null,null,null,8707,"S828 PEERLESS TRAILER Amort of Salvage",2022,9,0,"S/L",6,{"$f":"F164+J164","v":2028},{"$f":"+K164+(G164/12)","v":2028.75},{"$f":"+'Trucks 2188 - Original'!O171-M163","v":600},{"$f":"M164-M164*H164","v":600},{"$f":"N164/J164/12","v":8.3333333333333339},{"$f":"+O164*12","v":100},{"$f":"+IF(L164<=$N$6,0,P164)","v":100},33.333333333325754,{"$f":"+IF(L164<=$N$6,M164,IF(Q164=0,R164,R164+Q164))","v":133.33333333332575}]
[null,null,null,8707,"TAX ON #8707",1997,6,0,"S/L",7,2004,2004.5,{"$f":"+'Trucks 2188 - Original'!Q172","v":224},224,2.6666666666666665,32,0,224,224,0]
[null,null,null,8707,"TAX ON #8707 Amort of Salvage",2022,9,0,"S/L",6,{"$f":"F166+J166","v":2028},{"$f":"+K166+(G166/12)","v":2028.75},{"$f":"+'Trucks 2188 - Original'!O172-M165","v":56},{"$f":"M166-M166*H166","v":56},{"$f":"N166/J166/12","v":0.77777777777777779},{"$f":"+O166*12","v":9.3333333333333339},{"$f":"+IF(L166<=$N$6,0,P166)","v":9.3333333333333339},3.1111111111104037,{"$f":"+IF(L166<=$N$6,M166,IF(Q166=0,R166,R166+Q166))","v":12.444444444443738},{"$f":"+M166-S166","v":43.555555555556261}]
[null,null,null,8587,"S837 PEERLESS DOLLY",1997,5,0,"S/L",7,2004,2004.4166666666667,{"$f":"+'Trucks 2188 - Original'!Q173","v":2400},2400,28.571428571428569,342.85714285714283,0,2400,2400,0]
[null,null,null,8587,"S837 PEERLESS DOLLY Amort of Salvage",2022,9,0,"S/L",6,{"$f":"F168+J168","v":2028},{"$f":"+K168+(G168/12)","v":2028.75},{"$f":"+'Trucks 2188 - Original'!O173-M167","v":600},{"$f":"M168-M168*H168","v":600},{"$f":"N168/J168/12","v":8.3333333333333339},{"$f":"+O168*12","v":100},{"$f":"+IF(L168<=$N$6,0,P168)","v":100},33.333333333325754,{"$f":"+IF(L168<=$N$6,M168,IF(Q168=0,R168,R168+Q168))","v":133.33333333332575},{"$f":"+M168-S168","v":466.66666666667425}]
[null,null,null,8587,"TAX ON #8587",1997,6,0,"S/L",7,2004,2004.5,{"$f":"+'Trucks 2188 - Original'!Q174","v":224},224,2.6666666666666665,32,0,224,224,0]
[null,null,null,8587,"TAX ON #8587 Amort of Salvage",2022,9,0,"S/L",6,{"$f":"F170+J170","v":2028},{"$f":"+K170+(G170/12)","v":2028.75},{"$f":"+'Trucks 2188 - Original'!O174-M169","v":56},{"$f":"M170-M170*H170","v":56},{"$f":"N170/J170/12","v":0.77777777777777779},{"$f":"+O170*12","v":9.3333333333333339},{"$f":"+IF(L170<=$N$6,0,P170)","v":9.3333333333333339},3.1111111111104037,{"$f":"+IF(L170<=$N$6,M170,IF(Q170=0,R170,R170+Q170))","v":12.444444444443738},{"$f":"+M170-S170","v":43.555555555556261}]
[88724,null,null,null,"(6) TRUCK RADIOS",2011,12,0,"S/L",5,2016,2017,{"$f":"468.93*6","v":2813.58},2813.58,46.893000000000001,562.71600000000001,0,2813.58,2813.58,0]
["126242, 126243,126244,126245,126246",null,null,1072,"2006 Int'l 7400 Chassis (N)",2006,4,0,"S/L",7,{"$f":"F172+J172","v":2013},{"$f":"+K172+(G172/12)","v":2013.3333333333333},{"$f":"+'Trucks 2188 - Original'!Q178","v":113774.96},{"$f":"M172-M172*H172","v":113774.96},1354.4638095238095,16253.565714285713,0,113774.96,113774.96,0]
["126242, 126243,126244,126245,126246",null,null,1072,"2006 Int'l 7400 Chassis (N) Amort of Salvage",2022,9,0,"S/L",6,{"$f":"F173+J173","v":2028},{"$f":"+K173+(G173/12)","v":2028.75},{"$f":"+'Trucks 2188 - Original'!O178-M172","v":28443.740000000005},{"$f":"M173-M173*H173","v":28443.740000000005},{"$f":"N173/J173/12","v":395.05194444444447},{"$f":"+O173*12","v":4740.6233333333339},{"$f":"+IF(L173<=$N$6,0,P173)","v":4740.6233333333339},1580.2077777774211,{"$f":"+IF(L173<=$N$6,M173,IF(Q173=0,R173,R173+Q173))","v":6320.831111110755},{"$f":"+M173-S173","v":22122.908888889251}]
[null,null,"SL",3614,"07 PB 320 W/27 CY CURBTENDER",2007,8,0,"S/L",7,{"$f":"F174+J174","v":2014},{"$f":"+K174+(G174/12)","v":2014.6666666666667},{"$f":"+'Trucks 2188 - Original'!Q179","v":155764},{"$f":"M174-M174*H174","v":155764},1854.3333333333333,22252,0,155764,155764,0]
[null,null,"SL",3614,"07 PB 320 W/27 CY CURBTENDER Amort of Salvage",2022,9,0,"S/L",6,{"$f":"F175+J175","v":2028},{"$f":"+K175+(G175/12)","v":2028.75},{"$f":"+'Trucks 2188 - Original'!O179-M174","v":38941.040000000008},{"$f":"M175-M175*H175","v":38941.040000000008},{"$f":"N175/J175/12","v":540.84777777777788},{"$f":"+O175*12","v":6490.1733333333341},{"$f":"+IF(L175<=$N$6,0,P175)","v":6490.1733333333341},2163.3911111106208,{"$f":"+IF(L175<=$N$6,M175,IF(Q175=0,R175,R175+Q175))","v":8653.5644444439549},{"$f":"+M175-S175","v":30287.475555556055}]
[]
[null,null,null,null,"TOTAL COMMERCIAL RECYCLING",null,null,null,null,null,null,null,{"$f":"SUM(M163:M176)","v":346297.32000000007},{"$f":"SUM(N163:N176)","v":346297.32000000007},4272.2882777777777,51267.459333333325,11449.463333333335,281417.02777777694,292866.49111111026,52964.162222223094]
[]
[null,null,null,null,"Container Delivery"]
[]
[79653,null,"DEL",9571,"2005 ISUZU DELIVERY TRUCK (U)",2007,2,0,"S/L",5,{"$f":"F181+J181","v":2012},{"$f":"+K181+(G181/12)","v":2012.1666666666667},{"$f":"+'Trucks 2188 - Original'!Q186","v":20156.112499999999},{"$f":"M181-M181*H181","v":20156.112499999999},{"$f":"N181/J181/12","v":335.93520833333332},{"$f":"+O181*12","v":4031.2224999999999},{"$f":"+IF(L181<=$N$6,0,P181)","v":0},{"$f":"+IF($L181<=$N$7,$M181,IF(($F181+($G181/12))>=$N$7,0,((($M181-((($L181-$N$7)*12)*$O181))))))","v":20156.112499999999},{"$f":"+IF(L181<=$N$6,M181,IF(Q181=0,R181,R181+Q181))","v":20156.112499999999},{"$f":"+M181-S181","v":0}]
[null,null,null,9571,"Truck #9571 Amort of Salvage",2019,6,0,"S/L",3,{"$f":"F182+J182","v":2022},{"$f":"+K182+(G182/12)","v":2022.5},{"$f":"+'Trucks 2188 - Original'!O186-'Trucks 2188'!M181","v":9927.6375000000007},{"$f":"M182-M182*H182","v":9927.6375000000007},{"$f":"N182/J182/12","v":275.76770833333336},{"$f":"+O182*12","v":3309.2125000000005},{"$f":"+IF(L182<=$N$6,0,P182)","v":0},{"$f":"+IF($L182<=$N$7,$M182,IF(($F182+($G182/12))>=$N$7,0,((($M182-((($L182-$N$7)*12)*$O182))))))","v":9927.6375000000007},{"$f":"+IF(L182<=$N$6,M182,IF(Q182=0,R182,R182+Q182))","v":9927.6375000000007},{"$f":"+M182-S182","v":0}]
[118080,null,"DEL",9388,"2012 Container Delivery Truck (U)",2014,12,0,"S/L",7,{"$f":"F183+J183","v":2021},{"$f":"+K183+(G183/12)","v":2022},144943.14000000001,{"$f":"M183-M183*H183","v":144943.14000000001},{"$f":"N183/J183/12","v":1725.5135714285716},{"$f":"+O183*12","v":20706.162857142859},{"$f":"+IF(L183<=$N$6,0,P183)","v":0},{"$f":"+IF($L183<=$N$7,$M183,IF(($F183+($G183/12))>=$N$7,0,((($M183-((($L183-$N$7)*12)*$O183))))))","v":144943.14000000001},{"$f":"+IF(L183<=$N$6,M183,IF(Q183=0,R183,R183+Q183))","v":144943.14000000001},{"$f":"+M183-S183","v":0}]
[null,null,null,null,"Amortization of Salvage Value of 2019 & 2020 Retired Trucks",2019,6,0,"S/L",3,{"$f":"F184+J184","v":2022},{"$f":"+K184+(G184/12)","v":2022.5},{"$f":"+M251+M253","v":11303.5},{"$f":"M184-M184*H184","v":11303.5},{"$f":"N184/J184/12","v":313.98611111111114},{"$f":"+O184*12","v":3767.8333333333339},{"$f":"+IF(L184<=$N$6,0,P184)","v":0},{"$f":"+IF($L184<=$N$7,$M184,IF(($F184+($G184/12))>=$N$7,0,((($M184-((($L184-$N$7)*12)*$O184))))))","v":11303.5},{"$f":"+IF(L184<=$N$6,M184,IF(Q184=0,R184,R184+Q184))","v":11303.5},{"$f":"+M184-S184","v":0}]
[]
[null,null,null,null,"TOTAL CONTAINER DELIVERY",null,null,null,null,null,null,null,{"$f":"SUM(M181:M185)","v":186330.39},{"$f":"SUM(N181:N185)","v":186330.39},2651.2025992063495,31814.431190476193,0,186330.39,186330.39,0,"Updated Useful Lives to FAR"]
[]
[null,null,null,null,"General Recycling"]
[67022,null,"LH",5600,"2001 Type H Trac Tr",2008,11,0,"S/L",3,{"$f":"F189+J189","v":2011},{"$f":"+K189+(G189/12)","v":2011.9166666666667},15000,{"$f":"M189-M189*H189","v":15000},{"$f":"N189/J189/12","v":416.66666666666669},{"$f":"+O189*12","v":5000},{"$f":"+IF(L189<=$N$6,0,P189)","v":0},{"$f":"+IF($L189<=$N$7,$M189,IF(($F189+($G189/12))>=$N$7,0,((($M189-((($L189-$N$7)*12)*$O189))))))","v":15000},{"$f":"+IF(L189<=$N$6,M189,IF(Q189=0,R189,R189+Q189))","v":15000},{"$f":"+M189-S189","v":0},"2189 FAR"]
[86922,null,"LH",8142,"1990 Type HT D-V Trailer",2008,11,0,"S/L",3,2011,2011.9166666666667,2500,2500,69.444444444444443,833.33333333333326,0,2500,2500,0,"2189 FAR"]
[90985,null,"LH",8141,"1995 Type HT D-V Trailer",2008,11,0,"S/L",3,2011,2011.9166666666667,2500,2500,69.444444444444443,833.33333333333326,0,2500,2500,0,"2189 FAR"]
[217499,null,"LH",8136,"53 Foot Trailer 4 axle Dry Van",2019,7,0,"S/L",0,2019,2019.5833333333333,0,0,{"$f":"IFERROR(N192/J192/12,0)","v":0},0,0,0,0,0,"2189 FAR"]
[86896,null,null,8149,"1990 Dry Van 53' Trailer",2011,1,0,"S/L",1,2012,2012.0833333333333,0,0,0,0,0,0,0,0,"2189 FAR"]
[67700,null,null,8394,"1964 Type HT Flat Trailer",2008,11,0,"S/L",3,2011,2011.9166666666667,1000,1000,27.777777777777775,333.33333333333331,0,1000,1000,0,"2189 FAR"]
[]
[null,null,null,null,"TOTAL GENERAL RECYCLING",null,null,null,null,null,null,null,{"$f":"SUM(M189:M195)","v":21000},{"$f":"SUM(N189:N195)","v":21000},583.33333333333337,6999.9999999999991,0,21000,21000,0]
[]
[null,null,null,null,"GRAND TOTAL",null,null,null,null,null,null,null,{"$f":"SUM(M158,M146,M134,M117,M84,M177,M186,M196)","v":9371431.4340000004},{"$f":"SUM(N158,N146,N134,N117,N84,N177,N186,N196)","v":9371431.4340000004},104710.20646686852,1256522.4776024227,552594.94447222224,6294360.1894930024,6885483.332881893,2485481.4344514371]
[]
[]
[]
[]
[null,null,null,null,"RETIRED/TRANSFERRED 2011"]
[null,null,"FL",2027,"'05 AUTOCAR W/MCNEILUS F/L BODY",2006,9,0.2,"S/L",7,{"$f":"F204+J204","v":2013},{"$f":"+K204+(G204/12)","v":2013.75},201740.62,{"$f":"M204-M204*H204","v":161392.49599999998},{"$f":"N204/J204/12","v":1921.339238095238},{"$f":"+O204*12","v":23056.070857142855},{"$f":"+IF(L204<=$N$5,0,IF(K204>$N$4,P204,(O204*G204)))","v":0},{"$f":"+IF(Q204=0,M204,IF($N$3-F204<1,0,(($N$3-F204)*P204)))","v":201740.62},{"$f":"+IF(Q204=0,R204,R204+Q204)","v":201740.62},{"$f":"+M204-S204","v":0}]
[]
[]
[]
[null,null,null,null,"RETIRED/TRANSFERRED 2012"]
[88663,2188,"FL",2036,"2011 PETERBUILT FEL W/MCNEILUS BODY (N)",2011,12,0.2,"S/L",7,{"$f":"F209+J209","v":2018},{"$f":"+K209+(G209/12)","v":2019},245480.55,{"$f":"M209-M209*H209","v":196384.44},{"$f":"N209/J209/12","v":2337.9100000000003},{"$f":"+O209*12","v":28054.920000000006},{"$f":"+IF(L209<=$N$5,0,IF(K209>$N$4,P209,(O209*G209)))","v":0},{"$f":"+IF(Q209=0,M209,IF($N$3-F209<1,0,(($N$3-F209)*P209)))","v":245480.55},{"$f":"+IF(Q209=0,R209,R209+Q209)","v":245480.55},{"$f":"+M209-S209","v":0}]
[]
[]
[null,null,null,null,"RETIRED/TRANSFERRED 2013"]
[null,null,"RO",4032,"'02 INT'L 9200I W/DROP",2003,7,0.2,"S/L",7,{"$f":"F213+J213","v":2010},{"$f":"+K213+(G213/12)","v":2010.5833333333333},106113.75,{"$f":"M213-M213*H213","v":84891},{"$f":"N213/J213/12","v":1010.6071428571428},{"$f":"+O213*12","v":12127.285714285714},{"$f":"+IF(L213<=$N$5,0,IF(K213>$N$4,P213,(O213*G213)))","v":0},{"$f":"+IF(Q213=0,M213,IF($N$3-F213<1,0,(($N$3-F213)*P213)))","v":106113.75},{"$f":"+IF(Q213=0,R213,R213+Q213)","v":106113.75},{"$f":"+M213-S213","v":0}]
[]
[]
[]
[]
[null,null,null,null,"RETIRED/TRANSFERRED 2014"]
[null,null,"FL",2502,"1996 MACK",1996,4,0.2,"S/L",7,{"$f":"F219+J219","v":2003},{"$f":"+K219+(G219/12)","v":2003.3333333333333},89610,{"$f":"M219-M219*H219","v":71688},{"$f":"N219/J219/12","v":853.42857142857144},{"$f":"+O219*12","v":10241.142857142857},{"$f":"+IF(L219<=$N$5,0,IF(K219>$N$4,P219,(O219*G219)))","v":0},{"$f":"+IF(Q219=0,M219,IF($N$3-F219<1,0,(($N$3-F219)*P219)))","v":89610},{"$f":"+IF(Q219=0,R219,R219+Q219)","v":89610},{"$f":"+M219-S219","v":0}]
[null,null,"FL",2502,"40YD F/L PACKER",1996,6,0.2,"S/L",7,2003,2003.5,42120,33696,401.14285714285711,4813.7142857142853,0,42120,42120,0]
[null,null,"FL",2502,"INSTALLATION FOR #2502",1996,6,0.2,"S/L",7,2003,2003.5,15490,12392,147.52380952380952,1770.2857142857142,0,15490,15490,0]
[null,null,"FL",2502,"FLEXARM",1999,8,0.2,"S/L",7,2006,2006.6666666666667,22752.080000000002,18201.664000000001,216.68647619047621,2600.2377142857144,0,22752.080000000002,22752.080000000002,0]
[null,null,"RL SP",1638,"1994 Type H Rear REL",2007,2,0.33,"S/L",5,2012,2012.1666666666667,0,0,0,0,0,0,0,0]
[null,null,null,1638,"NEW TRANSMISSION.  REL 1994 FREIGHTLINER.",2007,2,0,"S/L",3,2010,2010.1666666666667,7114.37,7114.37,197.62138888888887,2371.4566666666665,0,7114.37,7114.37,0]
[]
[]
[null,null,null,null,"RETIRED/TRANSFERRED 2016"]
[null,null,null,4022,"2000 INTERNATIONAL 9200I SBA 6X4",1999,12,0.2,"S/L",7,{"$f":"F228+J228","v":2006},{"$f":"+K228+(G228/12)","v":2007},79524.98,{"$f":"M228-M228*H228","v":63619.983999999997},{"$f":"N228/J228/12","v":757.38076190476193},{"$f":"+O228*12","v":9088.5691428571427},{"$f":"+IF(L228<=$N$5,0,IF(K228>$N$4,P228,(O228*G228)))","v":0},{"$f":"+IF(Q228=0,M228,IF($N$3-F228<1,0,(($N$3-F228)*P228)))","v":79524.98},{"$f":"+IF(Q228=0,R228,R228+Q228)","v":79524.98},{"$f":"+M228-S228","v":0}]
[null,null,"RO",4022,"HY-TOWER TARPER",1999,3,0.33,"S/L",5,2004,2004.25,2470.69,1655.3623,27.589371666666665,331.07245999999998,0,2470.69,2470.69,0]
[null,null,"RO",4022,"LIFT AXLE",2000,7,0.2,"S/L",7,2007,2007.5833333333333,5662.21,4529.768,53.925809523809527,647.10971428571429,0,5662.21,5662.21,0]
[null,null,"TF Tractor SP",4022,"ROLL-OFF UNIT",2000,9,0.2,"S/L",7,2007,2007.75,6768.27,5414.616,64.459714285714284,773.51657142857141,0,6768.27,6768.27,0]
[null,null,null,4022,"FLUP 4022",2009,5,0,"S/L",3,2012,2012.4166666666667,2957.15,2957.15,82.143055555555563,985.7166666666667,0,2957.15,2957.15,0]
[null,null,"ASL",3518,"'00 PETE 320 W/24YD LEACH CURBTENDER",2000,9,0.2,"S/L",7,2007,2007.75,141947.68,113558.144,1351.8826666666666,16222.592000000001,0,141947.68,141947.68,0]
[118257,null,"ASL",3518,"Trans Replacement #3518",2014,10,0,"S/L",3,2017,2017.8333333333333,6739.1,6739.1,187.19722222222222,2246.3666666666668,0,6739.1,6739.1,0]
[118256,null,"ASL",3518,"Improvement - ASL Auto Hopper Cover Kit",2014,12,0,"S/L",3,2017,2018,2532.61,2532.61,70.350277777777777,844.20333333333338,0,2532.61,2532.61,0]
[null,null,"SL",3514,"2000 PETERBILT",1999,8,0.2,"S/L",7,2006,2006.6666666666667,77645.95,62116.759999999995,739.48523809523806,8873.8228571428572,0,77645.95,77645.95,0]
[null,null,"SL",3514,"24 CU YD LEACH CURBTENDER",1999,10,0.2,"S/L",7,2006,2006.8333333333333,61640.63,49312.504000000001,587.05361904761901,7044.6434285714276,0,61640.63,61640.63,0]
[null,null,"SL",3514,"TRAVEL COSTS-3514",1999,11,0.2,"S/L",7,2006,2006.9166666666667,1156.43,925.14400000000001,11.013619047619047,132.16342857142857,0,1156.43,1156.43,0]
[null,null,"SL",3514,"FLUP - TRUCK 3514",2009,6,0,"S/L",3,2012,2012.5,3470.7,3470.7,96.408333333333317,1156.8999999999999,0,3470.7,3470.7,0]
[118255,null,"SL",3514,"Improvement - ASL Auto Hopper Cover Kit",2014,12,0,"S/L",3,2017,2018,2532.61,2532.61,70.350277777777777,844.20333333333338,0,2532.61,2532.61,0]
[null,null,"RL",1558,"1992 VOLVO REAR LOADER",2009,6,0.33,"S/L",5,2014,2014.5,0,0,0,0,0,0,0,0]
[null,null,null,1558,"FLUP 1558",2009,6,0.33,"S/L",5,2014,2014.5,20268.11,13579.6337,226.32722833333332,2715.9267399999999,0,20268.11,20268.11,0]
[]
[null,null,null,null,"RETIRED/TRANSFERRED 2018"]
[]
[null,null,"ASL",9610,"1990 ISUZU MPR S/L TRUCK",1999,6,0.33,"S/L",5,{"$f":"F246+J246","v":2004},{"$f":"+K246+(G246/12)","v":2004.5},5000,{"$f":"M246-M246*H246","v":3350},{"$f":"N246/J246/12","v":55.833333333333336},{"$f":"+O246*12","v":670},{"$f":"+IF(L246<=$N$5,0,IF(K246>$N$4,P246,(O246*G246)))","v":0},{"$f":"+IF(Q246=0,M246,IF($N$3-F246<1,0,(($N$3-F246)*P246)))","v":5000},{"$f":"+IF(Q246=0,R246,R246+Q246)","v":5000},{"$f":"+M246-S246","v":0}]
[]
[]
[null,null,null,null,"RETIRED/TRANSFERRED 2019"]
[null,null,"DEL",5038,"1998 UD RECYCLE CURBSIDE",1999,7,0,"S/L",7,{"$f":"F250+J250","v":2006},{"$f":"+K250+(G250/12)","v":2006.5833333333333},{"$f":"+'Trucks 2188 - Original'!Q187","v":40000},{"$f":"M250-M250*H250","v":40000},{"$f":"N250/J250/12","v":476.1904761904762},{"$f":"+O250*12","v":5714.2857142857147},{"$f":"+IF(L250<=$N$5,0,IF(K250>$N$4,P250,(O250*G250)))","v":0},{"$f":"+IF(Q250=0,M250,IF($N$3-F250<1,0,(($N$3-F250)*P250)))","v":40000},{"$f":"+IF(Q250=0,R250,R250+Q250)","v":40000},{"$f":"+M250-S250","v":0}]
[null,null,null,5038,"Truck #5038 Amort of Salvage",2019,6,0,"S/L",{"$f":"+IF(K250-$N$3>=3,K250-$N$3,3)","v":1994},{"$f":"F251+J251","v":4013},{"$f":"+K251+(G251/12)","v":4013.5},{"$f":"+'Trucks 2188 - Original'!O187-'Trucks 2188'!M250","v":10000},{"$f":"M251-M251*H251","v":10000},{"$f":"N251/J251/12","v":0.4179204279505182},{"$f":"+O251*12","v":5.0150451354062184},{"$f":"+IF(L251<=$N$5,0,IF(K251>$N$4,P251,(O251*G251)))","v":5.0150451354062184},{"$f":"+IF(Q251=0,M251,IF($N$3-F251<1,0,(($N$3-F251)*P251)))","v":0},{"$f":"+IF(Q251=0,R251,R251+Q251)","v":5.0150451354062184},{"$f":"+M251-S251","v":9994.9849548645943},"Container Delivery"]
[null,null,"DEL",5038,"USE TAX",1999,7,0,"S/L",5,{"$f":"F252+J252","v":2004},{"$f":"+K252+(G252/12)","v":2004.5833333333333},{"$f":"+'Trucks 2188 - Original'!Q188","v":2646.5},{"$f":"M252-M252*H252","v":2646.5},{"$f":"N252/J252/12","v":44.108333333333327},{"$f":"+O252*12","v":529.29999999999995},{"$f":"+IF(L252<=$N$5,0,IF(K252>$N$4,P252,(O252*G252)))","v":0},{"$f":"+IF(Q252=0,M252,IF($N$3-F252<1,0,(($N$3-F252)*P252)))","v":2646.5},{"$f":"+IF(Q252=0,R252,R252+Q252)","v":2646.5},{"$f":"+M252-S252","v":0}]
[null,null,null,5038,"Truck #5038 Amort of Salvage",2019,6,0,"S/L",{"$f":"+IF(K252-$N$3>=3,K252-$N$3,3)","v":1992},{"$f":"F253+J253","v":4011},{"$f":"+K253+(G253/12)","v":4011.5},{"$f":"+'Trucks 2188 - Original'!O188-'Trucks 2188'!M252","v":1303.5},{"$f":"M253-M253*H253","v":1303.5},{"$f":"N253/J253/12","v":5.4530622489959844E-2},{"$f":"+O253*12","v":0.6543674698795181},{"$f":"+IF(L253<=$N$5,0,IF(K253>$N$4,P253,(O253*G253)))","v":0.6543674698795181},{"$f":"+IF(Q253=0,M253,IF($N$3-F253<1,0,(($N$3-F253)*P253)))","v":0},{"$f":"+IF(Q253=0,R253,R253+Q253)","v":0.6543674698795181},{"$f":"+M253-S253","v":1302.8456325301204},"Container Delivery"]
[99663,null,"RL",1019,"2013 PETERBILT 320 W/ NEW WAY BODY (N)",2012,12,0,"S/L",10,{"$f":"F254+J254","v":2022},{"$f":"+K254+(G254/12)","v":2023},259690.64,{"$f":"M254-M254*H254","v":259690.64},{"$f":"N254/J254/12","v":2164.088666666667},{"$f":"+O254*12","v":25969.064000000006},{"$f":"+IF(L254<=$N$5,0,IF(K254>$N$4,P254,(O254*G254)))","v":0},{"$f":"+IF(Q254=0,M254,IF($N$3-F254<1,0,(($N$3-F254)*P254)))","v":259690.64},{"$f":"+IF(Q254=0,R254,R254+Q254)","v":259690.64},{"$f":"+M254-S254","v":0}]
[]
[]
[null,null,null,null,"RETIRED/TRANSFERRED 2020"]
[90793,null,"FL",2031,"2007 Type H Front FEL",2007,1,0,"S/L",7,{"$f":"F258+J258","v":2014},{"$f":"+K258+(G258/12)","v":2014.0833333333333},{"$f":"+'Trucks 2188 - Original'!Q24","v":146800},{"$f":"M258-M258*H258","v":146800},{"$f":"N258/J258/12","v":1747.6190476190477},{"$f":"+O258*12","v":20971.428571428572},{"$f":"+IF(L258<=$N$5,0,IF(K258>$N$4,P258,(O258*G258)))","v":0},{"$f":"+IF(Q258=0,M258,IF($N$3-F258<1,0,(($N$3-F258)*P258)))","v":146800},{"$f":"+IF(Q258=0,R258,R258+Q258)","v":146800},{"$f":"+M258-S258","v":0}]
[null,null,null,2031,"Truck #2031 Amort of Salvage",2019,6,0,"S/L",{"$f":"+IF(K258-$N$3>=3,K258-$N$3,3)","v":2002},4021,4021.5,{"$f":"+'Trucks 2188 - Original'!O24-'Trucks 2188'!M258","v":36700},36700,1.5276390276390277,18.331668331668332,18.331668331668332,0,18.331668331668332,36681.668331668334,"Garbage"]
[null,null,"FL",2031,"07 AUTOCAR W/ MCNEILUS F/L BODY",2007,8,0,"S/L",7,2014,2014.6666666666667,{"$f":"+'Trucks 2188 - Original'!Q34","v":172457.95199999999},172457.95199999999,2053.0708571428572,24636.850285714288,0,172457.95199999999,172457.95199999999,0]
[null,null,null,2031,"Truck #2031 Amort of Salvage",2019,6,0,"S/L",{"$f":"+IF(K260-$N$3>=3,K260-$N$3,3)","v":2002},4021,4021.5,{"$f":"+'Trucks 2188 - Original'!O34-'Trucks 2188'!M260","v":43114.488000000012},43114.488000000012,1.794642357642358,21.535708291708296,21.535708291708296,0,21.535708291708296,43092.952291708301,"Garbage"]
[null,null,"SL",3563,"'01 PETE W/27 YD CURBTENDER SL",2001,5,0,"S/L",7,2008,2008.4166666666667,{"$f":"+'Trucks 2188 - Original'!Q130","v":124885.656},124885.656,1486.7340000000002,17840.808000000001,0,124885.656,124885.656,0]
[null,null,null,3563,"Truck #3563 Amort of Salvage",2019,6,0,"S/L",{"$f":"+IF(K262-$N$3>=3,K262-$N$3,3)","v":1996},4015,4015.5,{"$f":"+'Trucks 2188 - Original'!O130-'Trucks 2188'!M262","v":31221.414000000004},31221.414000000004,1.3034992484969943,15.641990981963932,15.641990981963932,0,15.641990981963932,31205.772009018041,"Resi Recycle"]
[null,null,"SL",3563,"FLUP - TRUCK 3563",2009,6,0,"S/L",3,2012,2012.5,4295.2700000000004,4295.2700000000004,119.31305555555558,1431.7566666666669,0,4295.2700000000004,4295.2700000000004,0]
[97259,null,null,3563,"Plastic Hopper Door for #3563",2012,10,0,"S/L",3,2015,2015.8333333333333,2558.5300000000002,2558.5300000000002,71.070277777777775,852.84333333333325,0,2558.5300000000002,2558.5300000000002,0]
[903430,null,"ASL",3628,"NEW 2009 ASL (CHEHALIS CONTRACT)",2009,10,0,"S/L",10,2019,2019.8333333333333,{"$f":"247594.64*0.5","v":123797.32},123797.32,1031.6443333333334,12379.732,0,123797.32,123797.32,0,"The cost of this truck was split between Resi Recycle and Garbage"]
[903430,null,"ASL",3628,"NEW 2009 ASL (CHEHALIS CONTRACT)",2009,10,0,"S/L",10,2019,2019.8333333333333,{"$f":"247594.64*0.5","v":123797.32},123797.32,1031.6443333333334,12379.732,0,123797.32,123797.32,0,"The cost of this truck was split between Resi Recycle and Garbage"]
[null,null,"TF Tractor SP",5576,"'01 INT'L 9200I SBA 6X4",2001,5,0.2,"S/L",7,{"$f":"F268+J268","v":2008},{"$f":"+K268+(G268/12)","v":2008.4166666666667},82490.14,{"$f":"M268-M268*H268","v":65992.111999999994},{"$f":"N268/J268/12","v":785.62038095238086},{"$f":"+O268*12","v":9427.4445714285703},{"$f":"+IF(L268<=$N$5,0,IF(K268>$N$4,P268,(O268*G268)))","v":0},{"$f":"+IF(Q268=0,(M268-(M268-N268)),IF($N$3-F268<1,0,(($N$3-F268)*P268)))","v":65992.111999999994},65992.111999999994,16498.028000000006,"Used in 2189"]
[null,null,"RL",1051,"'07 INT'L W/METROPAK BODY",2006,12,0,"S/L",7,2013,2014,{"$f":"+'Trucks 2188 - Original'!Q23","v":98137.600000000006},98137.600000000006,1168.304761904762,14019.657142857144,0,98137.600000000006,98137.600000000006,0,"Does not belong to district"]
[null,null,null,1051,"Truck #1051 Amort of Salvage",2019,6,0,"S/L",{"$f":"+IF(K269-$N$3>=3,K269-$N$3,3)","v":2001},4020,4020.5,{"$f":"+'Trucks 2188 - Original'!O23-'Trucks 2188'!M269","v":24534.399999999994},24534.399999999994,1.0217557887722803,12.261069465267365,12.261069465267365,0,12.261069465267365,24522.138930534726,"Does not belong to district"]
[null,null,"RL",1051,"GREASER FOR 1051",2007,1,0,"S/L",7,2014,2014.0833333333333,{"$f":"+'Trucks 2188 - Original'!Q25","v":3159.5520000000001},3159.5520000000001,37.613714285714288,451.36457142857148,0,3159.5520000000001,3159.5520000000001,0,"Garbage"]
[null,null,null,1051,"Truck #1051 Amort of Salvage",2019,6,0,"S/L",{"$f":"+IF(K271-$N$3>=3,K271-$N$3,3)","v":2002},4021,4021.5,{"$f":"+'Trucks 2188 - Original'!O25-'Trucks 2188'!M271","v":789.88799999999992},789.88799999999992,3.2879120879120878E-2,0.39454945054945056,0.39454945054945056,0,0.39454945054945056,789.49345054945047,"Garbage"]
[87755,null,"FL",2037,"2012 PETERBUILT FEL W/WITTKE BODY (N)",2011,11,0,"S/L",10,2021,2021.9166666666667,281004.90000000002,281004.90000000002,2341.7075,28100.489999999998,0,281004.90000000002,281004.90000000002,0,"Garbage"]
[null,null,"RL - SP",1002,"TYRONE UNITS    (60%)",1995,9,0,"S/L",7,2002,2002.75,{"$f":"+'Trucks 2188 - Original'!Q13","v":185.28},185.28,2.205714285714286,26.46857142857143,0,185.28,185.28,0,"Garbage"]
[null,null,null,1002,"Truck #1002 Amort of Salvage",2019,6,0,"S/L",{"$f":"+IF(K274-$N$3>=3,K274-$N$3,3)","v":1990},4009,4009.5,{"$f":"+'Trucks 2188 - Original'!O13-M274","v":46.319999999999993},46.319999999999993,1.9396984924623113E-3,2.3276381909547735E-2,2.3276381909547735E-2,0,2.3276381909547735E-2,46.296723618090446,"Garbage"]
[null,null,"RL - SP",1002,"20YD ALPHA BODY    (60%)",1995,10,0,"S/L",7,2002,2002.8333333333333,{"$f":"+'Trucks 2188 - Original'!Q14","v":13041.6},13041.6,155.25714285714287,1863.0857142857144,0,13041.6,13041.6,0,"Garbage"]
[null,null,null,1002,"Truck #1002 Amort of Salvage",2019,6,0,"S/L",{"$f":"+IF(K276-$N$3>=3,K276-$N$3,3)","v":1990},4009,4009.5,{"$f":"+'Trucks 2188 - Original'!O14-'Trucks 2188'!M276","v":3260.3999999999996},3260.3999999999996,0.1365326633165829,1.6383919597989949,1.6383919597989949,0,1.6383919597989949,3258.7616080402008,"Garbage"]
[null,null,"RL - SP",1002,"1996 VOLVO FE42    (60%)",1995,10,0,"S/L",7,2002,2002.8333333333333,{"$f":"+'Trucks 2188 - Original'!Q15","v":23856},23856,284,3408,0,23856,23856,0,"Garbage"]
[null,null,null,1002,"Truck #1002 Amort of Salvage",2019,6,0,"S/L",{"$f":"+IF(K278-$N$3>=3,K278-$N$3,3)","v":1990},4009,4009.5,{"$f":"+'Trucks 2188 - Original'!O15-'Trucks 2188'!M278","v":5964},5964,0.24974874371859299,2.9969849246231157,2.9969849246231157,0,2.9969849246231157,5961.0030150753773,"Garbage"]
[null,null,"ASL",3608,"'07 Pete w/27 cy Curbtender S/L Body",2007,7,0,"S/L",7,2014,2014.5833333333333,{"$f":"+'Trucks 2188 - Original'!Q31","v":155764.03200000001},155764.03200000001,1854.3337142857144,22252.004571428573,0,155764.03200000001,155764.03200000001,0,"Does not belong to district"]
[null,null,null,3608,"Truck #3608 Amort of Salvage",2019,6,0,"S/L",{"$f":"+IF(K280-$N$3>=3,K280-$N$3,3)","v":2002},4021,4021.5,{"$f":"+'Trucks 2188 - Original'!O31-'Trucks 2188'!M280","v":38941.008000000002},38941.008000000002,1.6209210789210788,19.451052947052947,19.451052947052947,0,19.451052947052947,38921.556947052952,"Does not belong to district"]
[209229,null,"FL",2022,"2005 Type H Front FEL",2004,11,0,"S/L",6,2010,{"$f":"+K282+(G282/12)","v":2010.9166666666667},145043.38,{"$f":"M282-M282*H282","v":145043.38},{"$f":"N282/J282/12","v":2014.4913888888889},{"$f":"+O282*12","v":24173.896666666667},{"$f":"+IF(L282<=$N$5,0,IF(K282>$N$4,P282,(O282*G282)))","v":0},145043.38,145043.38,0,"Note:  This was transferred from 2183 which is a regulated district.  It had salvage value at that district  Updated the amount and dates to match 2183"]
[null,null,null,2022,"Truck #2022 Amort of Salvage",2019,6,0,"S/L",{"$f":"+IF(K282-$N$3>=3,K282-$N$3,3)","v":1998},4017,{"$f":"+K283+(G283/12)","v":4017.5},{"$f":"181304.22-M282","v":36260.839999999997},{"$f":"M283-M283*H283","v":36260.839999999997},{"$f":"N283/J283/12","v":1.5123807140473806},{"$f":"+O283*12","v":18.148568568568567},{"$f":"+IF(L283<=$N$5,0,IF(K283>$N$4,P283,(O283*G283)))","v":18.148568568568567},0,18.148568568568567,36242.691431431427,"Garbage"]
["209230/ 209229",null,"FL",2022,"FLUP - Truck 2022",2009,6,0,"S/L",3,2012,2012.5,9254.61,9254.61,257.07250000000005,3084.8700000000008,0,9254.61,9254.61,0]
[null,null,null,5575,"'01 INT'L 9200 6X4",2001,5,0,"S/L",7,2008,2008.4166666666667,{"$f":"+'Trucks 2188 - Original'!Q94","v":66465.471999999994},66465.471999999994,791.25561904761901,9495.0674285714285,0,66465.471999999994,66465.471999999994,0,2189]
[null,null,null,5575,"Truck #5575 Amort of Salvage",2019,6,0,"S/L",{"$f":"+IF(K285-$N$3>=3,K285-$N$3,3)","v":1996},4015,4015.5,{"$f":"+'Trucks 2188 - Original'!O94-M285","v":16616.368000000002},16616.368000000002,0.69373613894455588,8.324833667334671,8.324833667334671,0,8.324833667334671,16608.043166332667,2189]
[null,null,"RW",5575,"LIFT AXLES ON 5575",2001,7,0,"S/L",7,2008,2008.5833333333333,{"$f":"+'Trucks 2188 - Original'!Q95","v":3375.0800000000004},3375.0800000000004,40.179523809523815,482.15428571428578,0,3375.0800000000004,3375.0800000000004,0,2189]
[null,null,null,5575,"Truck #5575 Amort of Salvage",2019,6,0,"S/L",{"$f":"+IF(K287-$N$3>=3,K287-$N$3,3)","v":1996},4015,4015.5,{"$f":"+'Trucks 2188 - Original'!O95-M287","v":843.77},843.77,3.5227538410153643E-2,0.42273046092184374,0.42273046092184374,0,0.42273046092184374,843.34726953907818,2189]
[195382,null,null,4065,"2009 Type H Drop R/O",2008,11,0,"S/L",10,2018,{"$f":"+K289+(G289/12)","v":2018.9166666666667},165486.5,{"$f":"M289-M289*H289","v":165486.5},{"$f":"N289/J289/12","v":1379.0541666666668},{"$f":"+O289*12","v":16548.650000000001},{"$f":"+IF(L289<=$N$5,0,IF(K289>$N$4,P289,(O289*G289)))","v":0},165486.5,165486.5,0,null,"District identified these as duplicates of other assets.  The others have the correct description per district"]
[195384,null,null,4024,"2000 Type H Drop R/O",2008,11,0,"S/L",3,2011,{"$f":"+K290+(G290/12)","v":2011.9166666666667},41500,{"$f":"M290-M290*H290","v":41500},{"$f":"N290/J290/12","v":1152.7777777777778},{"$f":"+O290*12","v":13833.333333333334},{"$f":"+IF(L290<=$N$5,0,IF(K290>$N$4,P290,(O290*G290)))","v":0},41500,41500,0,null,"District identified these as duplicates of other assets.  The others have the correct description per district"]
[null,null,null,null,"Amortization of Salvage Value of 2019 & 2020 Retired Trucks",2019,6,0,"S/L",3,{"$f":"F291+J291","v":2022},{"$f":"+K291+(G291/12)","v":2022.5},{"$f":"+M279+M277+M275+M272+M261+M259","v":89875.09600000002},{"$f":"M291-M291*H291","v":89875.09600000002},{"$f":"N291/J291/12","v":2496.530444444445},{"$f":"+O291*12","v":29958.365333333342},{"$f":"+IF(L291<=$N$6,0,P291)","v":0},{"$f":"+IF($L291<=$N$7,$M291,IF(($F291+($G291/12))>=$N$7,0,((($M291-((($L291-$N$7)*12)*$O291))))))","v":89875.09600000002},{"$f":"+IF(L291<=$N$6,M291,IF(Q291=0,R291,R291+Q291))","v":89875.09600000002},{"$f":"+M291-S291","v":0}]
[]
[]
[null,null,null,null,"RETIRED/TRANSFERRED 2021"]
[227082,null,null,2026,"2006 Type H Frontl FEL",2008,11,0,"S/L",10,{"$f":"F295+J295","v":2018},{"$f":"+K295+(G295/12)","v":2018.9166666666667},163500,{"$f":"M295-M295*H295","v":163500},{"$f":"N295/J295/12","v":1362.5},{"$f":"+O295*12","v":16350},{"$f":"+IF(L295<=$N$5,0,IF(K295>$N$4,P295,(O295*G295)))","v":0},{"$f":"+IF(Q295=0,(M295-(M295-N295)),IF($N$3-F295<1,0,(($N$3-F295)*P295)))","v":163500},{"$f":"+IF(Q295=0,R295,R295+Q295)","v":163500},{"$f":"+M295-S295","v":0}]
["231838/231839",null,null,2038,"Used 2011 Autocar ACX64 FEL",2012,3,0,"S/L",9,2021,2021.25,268017,268017,2481.6388888888891,29779.666666666672,0,268017,268017,0]
[null,null,"RL",1056,"'07 INT'L W/METROPAK R/L BODY",2007,5,0,"S/L",7,2014,2014.4166666666667,{"$f":"+'Trucks 2188 - Original'!Q27","v":101874.976},101874.976,1212.7973333333332,14553.567999999999,0,101874.976,101874.976,0]
[null,null,null,1056,"Truck #1056 Amort of Salvage",2019,6,0,"S/L",{"$f":"+IF(K297-$N$3>=3,K297-$N$3,3)","v":2002},4021,4021.5,{"$f":"+'Trucks 2188 - Original'!O27-'Trucks 2188'!M297","v":25468.744000000006},25468.744000000006,1.0601375291375295,12.721650349650353,12.721650349650353,0,12.721650349650353,25456.022349650357]
[null,null,"SL",3562,"01 PB W/ LEACH 27YD CURBTENDER",2001,4,0,"S/L",7,2008,2008.3333333333333,{"$f":"+'Trucks 2188 - Original'!Q129","v":124885.656},124885.656,1486.7340000000002,17840.808000000001,0,124885.656,124885.656,0]
[null,null,null,3562,"Truck #3562 Amort of Salvage",2019,6,0,"S/L",{"$f":"+IF(K299-$N$3>=3,K299-$N$3,3)","v":1996},4015,4015.5,{"$f":"+'Trucks 2188 - Original'!O129-'Trucks 2188'!M299","v":31221.414000000004},31221.414000000004,1.3034992484969943,15.641990981963932,15.641990981963932,0,15.641990981963932,31205.772009018041]
[]
[]
[]
[null,null,null,null,"RETIRED/TRANSFERRED 2022"]
[null,null,"SL",3562,"FLUP - TRUCK 3562",2009,6,0,"S/L",3,{"$f":"F305+J305","v":2012},{"$f":"+K305+(G305/12)","v":2012.5},4621.29,{"$f":"M305-M305*H305","v":4621.29},{"$f":"N305/J305/12","v":128.36916666666667},{"$f":"+O305*12","v":1540.43},{"$f":"+IF(L305<=$N$5,0,IF(K305>$N$4,P305,(O305*G305)))","v":0},{"$f":"+IF(Q305=0,(M305-(M305-N305)),IF($N$3-F305<1,0,(($N$3-F305)*P305)))","v":4621.29},{"$f":"+IF(Q305=0,R305,R305+Q305)","v":4621.29},{"$f":"+M305-S305","v":0}]
[null,null,"SL",3562,"TO REPAIR TRUCK # 3562",2009,7,0,"S/L",7,{"$f":"F306+J306","v":2016},{"$f":"+K306+(G306/12)","v":2016.5833333333333},{"$f":"+'Trucks 2188 - Original'!Q136","v":11735.952000000001},{"$f":"M306-M306*H306","v":11735.952000000001},{"$f":"N306/J306/12","v":139.7137142857143},{"$f":"+O306*12","v":1676.5645714285715},{"$f":"+IF(L306<=$N$5,0,IF(K306>$N$4,P306,(O306*G306)))","v":0},{"$f":"+IF(Q306=0,(M306-(M306-N306)),IF($N$3-F306<1,0,(($N$3-F306)*P306)))","v":11735.952000000001},{"$f":"+IF(Q306=0,R306,R306+Q306)","v":11735.952000000001},{"$f":"+M306-S306","v":0}]
[null,null,null,3562,"Truck #3562 Amort of Salvage",2019,6,0,"S/L",{"$f":"+IF(K306-$N$3>=3,K306-$N$3,3)","v":2004},{"$f":"F307+J307","v":4023},{"$f":"+K307+(G307/12)","v":4023.5},{"$f":"+'Trucks 2188 - Original'!O136-'Trucks 2188'!M306","v":2933.9879999999994},{"$f":"M307-M307*H307","v":2933.9879999999994},{"$f":"N307/J307/12","v":0.12200548902195607},{"$f":"+O307*12","v":1.4640658682634728},{"$f":"+IF(L307<=$N$5,0,IF(K307>$N$4,P307,(O307*G307)))","v":1.4640658682634728},{"$f":"+IF(Q307=0,(M307-(M307-N307)),IF($N$3-F307<1,0,(($N$3-F307)*P307)))","v":0},{"$f":"+IF(Q307=0,R307,R307+Q307)","v":1.4640658682634728},{"$f":"+M307-S307","v":2932.523934131736}]
[113491,null,null,3562,"Transmission Repair #3562",2014,4,0,"S/L",3,{"$f":"F308+J308","v":2017},{"$f":"+K308+(G308/12)","v":2017.3333333333333},5361.62,{"$f":"M308-M308*H308","v":5361.62},{"$f":"N308/J308/12","v":148.9338888888889},{"$f":"+O308*12","v":1787.2066666666669},{"$f":"+IF(L308<=$N$5,0,IF(K308>$N$4,P308,(O308*G308)))","v":0},{"$f":"+IF(Q308=0,(M308-(M308-N308)),IF($N$3-F308<1,0,(($N$3-F308)*P308)))","v":5361.62},{"$f":"+IF(Q308=0,R308,R308+Q308)","v":5361.62},{"$f":"+M308-S308","v":0}]
[118251,null,"SL",3562,"Improvement - ASL Auto Hopper Cover Kit",2014,12,0,"S/L",3,{"$f":"F309+J309","v":2017},{"$f":"+K309+(G309/12)","v":2018},2532.61,{"$f":"M309-M309*H309","v":2532.61},{"$f":"N309/J309/12","v":70.350277777777777},{"$f":"+O309*12","v":844.20333333333338},{"$f":"+IF(L309<=$N$5,0,IF(K309>$N$4,P309,(O309*G309)))","v":0},{"$f":"+IF(Q309=0,(M309-(M309-N309)),IF($N$3-F309<1,0,(($N$3-F309)*P309)))","v":2532.61},{"$f":"+IF(Q309=0,R309,R309+Q309)","v":2532.61},{"$f":"+M309-S309","v":0}]
[]
[]
[]
[]
[null,null,null,null,"RETIRED/TRANSFERRED 2023"]
[null,null,"SL",3567,"02 PETE 320 CURBTENDER",2002,5,0,"S/L",7,{"$f":"F315+J315","v":2009},{"$f":"+K315+(G315/12)","v":2009.4166666666667},{"$f":"+'Trucks 2188 - Original'!Q17","v":127759.18400000001},{"$f":"M315-M315*H315","v":127759.18400000001},{"$f":"N315/J315/12","v":1520.9426666666668},{"$f":"+O315*12","v":18251.312000000002},{"$f":"+IF(L315<=$N$6,0,P315)","v":0},{"$f":"+IF($L315<=$N$7,$M315,IF(($F315+($G315/12))>=$N$7,0,((($M315-((($L315-$N$7)*12)*$O315))))))","v":127759.18400000001},{"$f":"+IF(L315<=$N$6,M315,IF(Q315=0,R315,R315+Q315))","v":127759.18400000001},{"$f":"+M315-S315","v":0}]
[null,null,null,3567,"Truck #3567 Amort of Salvage",2019,6,0,"S/L",3,2022,{"$f":"+K316+(G316/12)","v":2022.5},{"$f":"+'Trucks 2188 - Original'!O17-'Trucks 2188'!M315","v":31939.796000000002},{"$f":"M316-M316*H316","v":31939.796000000002},887.2165555555556,10646.598666666667,0,31939.796000000002,31939.796000000002,0]
[null,null,"SL",3612,"07 PB 320 W/27 CY CURBTENDER",2007,8,0,"S/L",7,2014,{"$f":"+K317+(G317/12)","v":2014.6666666666667},{"$f":"+'Trucks 2188 - Original'!Q33","v":155764.03200000001},{"$f":"M317-M317*H317","v":155764.03200000001},1854.3337142857144,22252.004571428573,0,155764.03200000001,155764.03200000001,0]
[null,null,null,3612,"Truck #3612 Amort of Salvage",2019,6,0,"S/L",3,2022,{"$f":"+K318+(G318/12)","v":2022.5},{"$f":"+'Trucks 2188 - Original'!O33-'Trucks 2188'!M317","v":38941.008000000002},{"$f":"M318-M318*H318","v":38941.008000000002},1081.6946666666668,12980.336000000001,0,38941.008000000002,38941.008000000002,0]
[null,null,"RL",1050,"'07 INT'L W/20 YD METROPAK R/L",2006,11,0,"S/L",7,2013,{"$f":"+K319+(G319/12)","v":2013.9166666666667},{"$f":"+'Trucks 2188 - Original'!Q355","v":0},{"$f":"M319-M319*H319","v":0},0,0,0,0,0,0]
[null,null,null,1050,"Truck #1050 Amort of Salvage",2019,6,0,"S/L",3,2022,{"$f":"+K320+(G320/12)","v":2022.5},{"$f":"+'Trucks 2188 - Original'!O355-'Trucks 2188'!M319","v":0},{"$f":"M320-M320*H320","v":0},0,0,0,0,0,0]
[null,null,"SL",3555,"VIDEO CAMERA",1999,10,0,"S/L",7,2006,2006.8333333333333,{"$f":"+'Trucks 2188 - Original'!Q124","v":1225.624},1225.624,{"$f":"N321/J321/12","v":14.590761904761905},{"$f":"+O321*12","v":175.08914285714286},{"$f":"+IF(L321<=$N$6,0,P321)","v":0},{"$f":"+IF($L321<=$N$7,$M321,IF(($F321+($G321/12))>=$N$7,0,((($M321-((($L321-$N$7)*12)*$O321))))))","v":1225.624},{"$f":"+IF(L321<=$N$6,M321,IF(Q321=0,R321,R321+Q321))","v":1225.624},{"$f":"+M321-S321","v":0}]
[null,null,null,3555,"Truck #3555 Amort of Salvage",2019,6,0,"S/L",3,2022,2022.5,{"$f":"+'Trucks 2188 - Original'!O124-'Trucks 2188'!M321","v":306.40599999999995},306.40599999999995,8.5112777777777762,102.13533333333331,0,306.40599999999995,306.40599999999995,0]
[null,null,"SL",3555,"2000 PETERBILT 320",1999,11,0,"S/L",7,2006,2006.9166666666667,{"$f":"+'Trucks 2188 - Original'!Q125","v":68378.040000000008},68378.040000000008,814.02428571428584,9768.2914285714305,0,68378.040000000008,68378.040000000008,0]
[null,null,null,3555,"Truck #3555 Amort of Salvage",2019,6,0,"S/L",3,2022,2022.5,{"$f":"+'Trucks 2188 - Original'!O125-'Trucks 2188'!M323","v":17094.509999999995},17094.509999999995,474.84749999999985,5698.1699999999983,0,17094.509999999995,17094.509999999995,0]
[null,null,"SL",3555,"27 CY LEACH CURBTENDER",1999,12,0,"S/L",7,2006,2007,{"$f":"+'Trucks 2188 - Original'!Q126","v":49773.688000000002},49773.688000000002,592.54390476190486,7110.5268571428587,0,49773.688000000002,49773.688000000002,0]
[null,null,null,3555,"Truck #3555 Amort of Salvage",2019,6,0,"S/L",3,2022,2022.5,{"$f":"+'Trucks 2188 - Original'!O126-'Trucks 2188'!M325","v":12443.421999999999},12443.421999999999,345.65061111111112,4147.8073333333332,0,12443.421999999999,12443.421999999999,0]
[null,null,"SL",3555,"TRAVEL ON 3555",2000,1,0,"S/L",7,2007,2007.0833333333333,{"$f":"+'Trucks 2188 - Original'!Q127","v":1496},1496,17.80952380952381,213.71428571428572,0,1496,1496,0]
[null,null,null,3555,"Truck #3555 Amort of Salvage",2019,6,0,"S/L",3,2022,2022.5,{"$f":"+'Trucks 2188 - Original'!O127-'Trucks 2188'!M327","v":374},374,10.388888888888889,124.66666666666667,0,374,374,0]
[null,null,"SL",3555,"INSTALL/PAINTING ON 3555",2000,2,0,"S/L",7,{"$f":"F329+J329","v":2007},2007.1666666666667,{"$f":"+'Trucks 2188 - Original'!Q128","v":3031.3599999999997},3031.3599999999997,36.087619047619043,433.05142857142852,0,3031.3599999999997,3031.3599999999997,0]
[null,null,null,3555,"Truck #3555 Amort of Salvage",2019,6,0,"S/L",3,2022,2022.5,{"$f":"+'Trucks 2188 - Original'!O128-'Trucks 2188'!M329","v":757.84000000000015},757.84000000000015,21.051111111111116,252.6133333333334,0,757.84000000000015,757.84000000000015,0]
[null,null,"SL",3567,"FLUP - 3567 - V02235852",2009,5,0,"S/L",3,2012,2012.4166666666667,931.18,931.18,25.86611111111111,310.39333333333332,0,931.18,931.18,0]
[null,null,"SL",3567,"FLUP - 3567 - R-984978",2009,5,0,"S/L",3,2012,2012.4166666666667,971.25,971.25,26.979166666666668,323.75,0,971.25,971.25,0]
[null,null,"SL",3567,"FLUP - TRUCK 3567",2009,5,0,"S/L",3,2012,2012.4166666666667,5281.93,5281.93,146.7202777777778,1760.6433333333334,0,5281.93,5281.93,0,null,null,null,null,null,null,null,null,null,null,null,null,null,null,null,3,"Computes with one month convention"]
[97260,null,null,3567,"Plastic Hopper Door for #3567",2012,10,0,"S/L",3,2015,2015.8333333333333,2558.5300000000002,2558.5300000000002,71.070277777777775,852.84333333333325,0,2558.5300000000002,2558.5300000000002,0]
[null,null,"SL",3612,"FLUP - 3612 - V02227132",2009,5,0,"S/L",3,2012,2012.4166666666667,309.54000000000002,309.54000000000002,8.5983333333333345,103.18,0,309.54000000000002,309.54000000000002,0]
[null,null,"SL",3612,"FLUP - 3612 - V02243349",2009,5,0,"S/L",3,2012,2012.4166666666667,580.21,580.21,16.116944444444446,193.40333333333336,0,580.21,580.21,0]
[null,null,"SL",3612,"FLUP - 3612 - R-984765",2009,5,0,"S/L",3,2012,2012.4166666666667,700,700,19.444444444444446,233.33333333333337,0,700,700,0]
[null,null,"SL",3612,"FLUP - TRUCK 3612",2009,5,0,"S/L",3,2012,2012.4166666666667,3610.79,3610.79,100.29972222222221,1203.5966666666666,0,3610.79,3610.79,0]
[118252,null,"SL",3612,"Improvement - ASL Auto Hopper Cover Kit",2014,12,0,"S/L",3,2017,2018,2532.61,2532.61,70.350277777777777,844.20333333333338,0,2532.61,2532.61,0]
[null,null,"RL",1050,"'07 INT'L W/20 YD METROPAK R/L",2006,11,0,"S/L",7,2013,2013.9166666666667,{"$f":"+'Trucks 2188 - Original'!Q22","v":101297.152},101297.152,1205.9184761904762,14471.021714285715,0,101297.152,101297.152,0]
[null,null,null,1050,"Truck #1050 Amort of Salvage",2019,6,0,"S/L",3,2022,2022.5,{"$f":"+'Trucks 2188 - Original'!O22-'Trucks 2188'!M340","v":25324.288},25324.288,703.4524444444445,8441.4293333333335,0,25324.288,25324.288,0]
[null,null,"SL",3555,"FLUP - TRUCK 3555",2009,6,0,"S/L",3,2012,2012.5,3305.27,3305.27,91.81305555555555,1101.7566666666667,0,3305.27,3305.27,0]
[null,null,"SL",3623,"2009 TYPE H TSIDE ASL",2009,1,0,"S/L",7,2016,2016.0833333333333,{"$f":"+'Trucks 2188 - Original'!Q37","v":177767.96000000002},177767.96000000002,2116.2852380952386,25395.422857142861,0,177767.96000000002,177767.96000000002,0]
[null,null,null,3623,"Truck #3623 Amort of Salvage",2019,6,0,"S/L",3,{"$f":"F344+J344","v":2022},2022.5,{"$f":"+'Trucks 2188 - Original'!O37-'Trucks 2188'!M343","v":44441.989999999991},44441.989999999991,1234.4997222222221,14813.996666666666,0,44441.989999999991,44441.989999999991,0]
[null,null,"SL",3623,"AUTOGREASER FOR TRUCK 3623",2009,1,0,"S/L",7,{"$f":"F345+J345","v":2016},2016.0833333333333,{"$f":"+'Trucks 2188 - Original'!Q38","v":3159.5520000000001},3159.5520000000001,37.613714285714288,451.36457142857148,0,3159.5520000000001,3159.5520000000001,0]
[null,null,null,3623,"Truck #3623 Amort of Salvage",2019,6,0,"S/L",3,{"$f":"F346+J346","v":2022},2022.5,{"$f":"+'Trucks 2188 - Original'!O38-'Trucks 2188'!M345","v":789.88799999999992},789.88799999999992,21.941333333333333,263.29599999999999,0,789.88799999999992,789.88799999999992,0]
["207435/61412",null,null,3623,"Capital Repair: Truck 3623 Engine Replacement",2018,12,0,"S/L",3,{"$f":"F347+J347","v":2021},2022,43878.52,43878.52,1218.8477777777778,14626.173333333332,0,43878.52,43878.52,0]

{"sheet":"Containers 2188","index":5,"n_rows":444,"n_cols":20,"rows_kept":444,"cut":false,"hidden":false,"merged":[[2,0,2,2],[0,0,0,2],[9,3,9,4]]}
["2188 Lewis County/Joe's Refuse "]
["Depreciation Schedule",null,null,null,null,null,null,null,null,null,null,null,null,1,"Test Period Beg. Month"]
[{"$f":"'Summary 2188'!A3","v":"2023-12-31"},null,null,null,null,null,null,null,null,null,null,null,null,12,"Test Period End Month"]
[null,null,null,null,null,null,null,null,null,null,null,null,null,2023,"First Year"]
[null,null,null,null,null,null,null,null,null,null,null,null,null,2023,"Second year"]
[null,null,null,null,null,null,null,null,null,null,null,null,null,{"$f":"+N5+(N3/12)","v":2024},"Test Period End Mo/Yr"]
[null,null,null,null,null,null,null,null,null,null,null,null,null,{"$f":"+N4+(N2/12)","v":2023.0833333333333},"Test Period Beg. Mo/Yr"]
[null,null,null,null,null,null,null,null,null,null,{"$f":"SUM(K133:K133,K207,K230)","v":102486.88},null,null,null,null,"Beginning","Ending"]
[null," ",null,null,null,"Salvage"," ",null,"Year",null," "," ",null,null,"Total","Accum.","Accum.","Average"]
[null,"Quantity",null,"Date in Service",null,"Value","Method","Life ","Fully ","Year/Mo","Asset","Depr","Monthly ","Annual","Test yr.","Depr.","Depr.","Investment"]
["Codes","No","Asset Classification","Year","Mo","%","M","Years","Depr","Fully Depr","Cost","Cost","Depr","Depr","Depn.",{"$f":"+'Summary 2188'!F7","v":"2023-01-01"},{"$f":"+'Summary 2188'!G7","v":"2023-12-31"},{"$f":"+'Summary 2188'!H7","v":"2023-12-31"}]
[null,null,"CONTAINERS"]
[null,16,"2 YD R/L CONTAINERS",2007,8,0,"S/L","10",{"$f":"D13+H13","v":2017},{"$f":"+I13+(E13/12)","v":2017.6666666666667},5334.58,{"$f":"K13-K13*F13","v":5334.58},{"$f":"L13/H13/12","v":44.454833333333333},{"$f":"+M13*12","v":533.45799999999997},{"$f":"+IF(J13<=$N$6,0,N13)","v":0},{"$f":"+IF($J13<=$N$7,$L13,IF(($D13+($E13/12))>=$N$7,0,((($L13-((($J13-$N$7)*12)*$M13))))))","v":5334.58},{"$f":"+IF(O13=0,K13,P13+O13)","v":5334.58},{"$f":"+L13-Q13","v":0}]
[null,22,"6 YD F/L CONTAINERS",2007,8,0,"S/L","10",2017,2017.6666666666667,9945.14,9945.14,82.876166666666663,994.5139999999999,0,9945.14,9945.14,{"$f":"+L14-Q14","v":0}]
[null,17,"6 YD F/L CONTAINERS",2007,9,0,"S/L","10",2017,2017.75,7753.68,7753.68,64.614000000000004,775.36800000000005,0,7753.68,7753.68,0]
[null,28,"3 YD F/L CONTAINERS",2007,10,0,"S/L","10",2017,2017.8333333333333,10361.84,10361.84,86.348666666666659,1036.184,0,10361.84,10361.84,0]
[null,18,"1 YD CONTAINER",2007,11,0,"S/L","10",2017,2017.9166666666667,5194.53,5194.53,43.287749999999996,519.45299999999997,0,5194.53,5194.53,0]
[null,21,"3 YD F/L CONTAINERS",2007,11,0,"S/L","10",2017,2017.9166666666667,7919.21,7919.21,65.993416666666675,791.92100000000005,0,7919.21,7919.21,0]
[null,22,"6 YD F/L CONTAINERS",2007,11,0,"S/L","10",2017,2017.9166666666667,10018.799999999999,10018.799999999999,83.49,1001.8799999999999,0,10018.799999999999,10018.799999999999,0]
[null,9,"3 YD F/L CONTAINERS",2007,12,0,"S/L","10",2017,2018,3332.34,3332.34,27.769500000000004,333.23400000000004,0,3332.34,3332.34,0]
[null,10,"4 YD F/L CONTAINERS",2007,12,0,"S/L","10",2017,2018,3920.4,3920.4,32.67,392.04,0,3920.4,3920.4,0]
[null,10,"4 YD F/L CONTAINERS",2007,12,0,"S/L","10",2017,2018,3920.4,3920.4,32.67,392.04,0,3920.4,3920.4,0]
[null,17,"1.5 YD F/L CONTAINERS",2007,12,0,"S/L","10",2017,2018,5357.88,5357.88,44.649000000000001,535.78800000000001,0,5357.88,5357.88,0]
[null,11,"8 YD CONTAINERS",2007,12,0,"S/L","10",2017,2018,5417.78,5417.78,45.148166666666668,541.77800000000002,0,5417.78,5417.78,0]
[null,35,"1 YD F/L CONTAINERS",2008,1,0,"S/L","10",2018,2018.0833333333333,10025.33,10025.33,83.544416666666663,1002.5329999999999,0,10025.33,10025.33,0]
[null,35,"1 YD F/L CONTAINERS",2008,1,0,"S/L","10",2018,2018.0833333333333,10062.36,10062.36,83.853000000000009,1006.2360000000001,0,10062.36,10062.36,0]
[null,22,"2 YD F/L CONTAINERS",2008,1,0,"S/L","10",2018,2018.0833333333333,7347.48,7347.48,61.228999999999992,734.74799999999993,0,7347.48,7347.48,0]
[null,20,"2 YD F/L CONTAINERS",2008,1,0,"S/L","10",2018,2018.0833333333333,6869.41,6869.41,57.245083333333334,686.94100000000003,0,6869.41,6869.41,0]
[null,9,"3 YD F/L CONTAINERS",2008,1,0,"S/L","10",2018,2018.0833333333333,3277.89,3277.89,27.315749999999998,327.78899999999999,0,3277.89,3277.89,0]
[null,38,"1 YD R/L CONTAINER",2008,3,0,"S/L","10",{"$f":"D30+H30","v":2018},{"$f":"+I30+(E30/12)","v":2018.25},10922.67,{"$f":"K30-K30*F30","v":10922.67},{"$f":"L30/H30/12","v":91.02225},{"$f":"+M30*12","v":1092.2670000000001},{"$f":"+IF(J30<=$N$6,0,N30)","v":0},{"$f":"+IF($J30<=$N$7,$L30,IF(($D30+($E30/12))>=$N$7,0,((($L30-((($J30-$N$7)*12)*$M30))))))","v":10922.67},10922.67,0]
[null,6,"6 YD F/L CONTAINERS",2008,3,0,"S/L","10",2018,2018.25,2774.4,2774.4,23.12,277.44,0,2774.4,2774.4,0]
[null,18,"1.5 YD CONTAINER",2008,3,0,"S/L","10",2018,2018.25,5564.79,5564.79,46.373250000000006,556.47900000000004,0,5564.79,5564.79,0]
[null,57,"2 YD R/L CONTAINERS",2008,3,0,"S/L","10",2018,2018.25,19476.77,19476.77,162.30641666666668,1947.6770000000001,0,19476.77,19476.77,0]
[null,23,"3 YD F/L CONTAINERS",2008,3,0,"S/L","10",2018,2018.25,8477.8700000000008,8477.8700000000008,70.648916666666665,847.78700000000003,0,8477.8700000000008,8477.8700000000008,0]
[null,34,"2 YD R/L CONTAINERS",2008,4,0,"S/L","10",2018,2018.3333333333333,11440.64,11440.64,95.338666666666654,1144.0639999999999,0,11440.64,11440.64,0]
[null,40,"1 YD F/L CONTAINERS",2008,5,0,"S/L","10",2018,2018.4166666666667,11314.2,11314.2,94.285000000000011,1131.42,0,11314.2,11314.2,0]
[null,37,"2 YD F/L CONTAINERS",2008,5,0,"S/L","10",2018,2018.4166666666667,12731.2,12731.2,106.09333333333335,1273.1200000000001,0,12731.2,12731.2,0]
[null,56,"2 YD F/L CONTAINERS",2008,5,0,"S/L","10",2018,2018.4166666666667,18911.5,18911.5,157.59583333333333,1891.15,0,18911.5,18911.5,0]
[null,38,"3 YD F/L CONTAINERS",2008,5,0,"S/L","10",2018,2018.4166666666667,14300.8,14300.8,119.17333333333333,1430.08,0,14300.8,14300.8,0]
[null,24,"6 YD F/L CONTAINERS",2008,5,0,"S/L","10",2018,2018.4166666666667,11052.6,11052.6,92.105000000000004,1105.26,0,11052.6,11052.6,0]
[null,12,"8 YD CONTAINERS",2008,5,0,"S/L","10",2018,2018.4166666666667,6104,6104,50.866666666666667,610.4,0,6104,6104,0]
[null,117,"1 YD R/L CONTAINER",2008,6,0,"S/L","10",2018,2018.5,33332.199999999997,33332.199999999997,277.76833333333332,3333.22,0,33332.199999999997,33332.199999999997,0]
[null,39,"1 YD R/L CONTAINER",2008,6,0,"S/L","10",2018,2018.5,11063.5,11063.5,92.195833333333326,1106.3499999999999,0,11063.5,11063.5,0]
[null,38,"2 YD F/L CONTAINERS",2008,6,0,"S/L","10",2018,2018.5,12894.7,12894.7,107.45583333333333,1289.47,0,12894.7,12894.7,0]
[null,41,"4 YD F/L CONTAINERS",2008,6,0,"S/L","10",2018,2018.5,16764.2,16764.2,139.70166666666668,1676.42,0,16764.2,16764.2,0]
[null,75,"1.5 YD F/L CONTAINERS",2008,6,0,"S/L","10",2018,2018.5,23587.599999999999,23587.599999999999,196.5633333333333,2358.7599999999998,0,23587.599999999999,23587.599999999999,0]
[null,20,"6 YD F/L CONTAINERS",2007,6,0,"S/L","10",{"$f":"D47+H47","v":2017},{"$f":"+I47+(E47/12)","v":2017.5},9011.48,{"$f":"K47-K47*F47","v":9011.48},{"$f":"L47/H47/12","v":75.095666666666659},{"$f":"+M47*12","v":901.14799999999991},{"$f":"+IF(J47<=$N$6,0,N47)","v":0},{"$f":"+IF($J47<=$N$7,$L47,IF(($D47+($E47/12))>=$N$7,0,((($L47-((($J47-$N$7)*12)*$M47))))))","v":9011.48},9011.48,0]
[182399,34,"1.5 Yard Commercial Containers",2008,11,0,"S/L",12,2020,2020.9166666666667,4038.58,4038.58,28.045694444444447,336.54833333333335,0,4038.58,4038.58,0]
[182394,16,"2 Yard Commercial Conatiners",2008,11,0,"S/L",12,2020,2020.9166666666667,5041.74,5041.74,35.012083333333329,420.14499999999998,0,5041.74,5041.74,0]
[198077,30,"2 Yard Commercial Containers",2008,11,0,"S/L",12,2020,2020.9166666666667,1867.5,1867.5,12.96875,155.625,0,1867.5,1867.5,0]
[200837,381,"2 Yd Containers",2008,11,0,"S/L",7,2015,2015.9166666666667,26144.22,26144.22,311.24071428571432,3734.8885714285716,0,26144.22,26144.22,0]
[200836,30,"1 Yd Containers",2008,11,0,"S/L",7,2015,2015.9166666666667,2058.6,2058.6,24.507142857142856,294.08571428571429,0,2058.6,2058.6,0]
[200596,40,"2 Yd Containers",2008,11,0,"S/L",7,2015,2015.9166666666667,{"$f":"1920-S53","v":1920},1920,22.857142857142858,274.28571428571428,0,1920,1920,0]
[200602,53,"3 Yd Containers",2008,11,0,"S/L",7,2015,2015.9166666666667,{"$f":"2544-S54","v":2544},2544,30.285714285714288,363.42857142857144,0,2544,2544,0]
[237940,14,"1.5 Yard Commercial Containers",2008,11,0,"S/L",12,{"$f":"D55+H55","v":2020},{"$f":"+I55+(E55/12)","v":2020.9166666666667},1662.94,{"$f":"K55-K55*F55","v":1662.94},11.548194444444446,138.57833333333335,0,1662.94,1662.94,0]
[240300,82,"1.5 Yard Commercial Containers",2008,11,0,"S/L",12,{"$f":"D56+H56","v":2020},{"$f":"+I56+(E56/12)","v":2020.9166666666667},6872.43,{"$f":"K56-K56*F56","v":6872.43},47.725208333333335,572.70249999999999,0,6872.43,6872.43,0]
[71897,17,"3 YD F/L CONTAINERS",2010,1,0,"S/L","10",2020,2020.0833333333333,{"$f":"7616+612","v":8228},8228,68.566666666666663,822.8,0,8228,8228,0]
[71897,55,"4 YD F/L CONTAINERS",2010,1,0,"S/L","10",2020,2020.0833333333333,{"$f":"29095+1980+5871.83","v":36946.83},36946.83,307.89024999999998,3694.683,0,36946.83,36946.83,0]
[71897,36,"6YD F/L CONTAINERS",2010,1,0,"S/L","10",2020,2020.0833333333333,{"$f":"25524+9500","v":35024},35024,291.86666666666667,3502.4,0,35024,35024,0]
[75728,8,"3 YD F/L CONTAINERS - PLASTIC",2010,6,0,"S/L",7,2017,2017.5,5610.74,5610.74,66.79452380952381,801.53428571428572,0,5610.74,5610.74,0]
[75725,7,"2 YD F/L CONTAINERS - PLASTIC",2010,6,0,"S/L",7,2017,2017.5,3838.31,3838.31,45.694166666666668,548.33000000000004,0,3838.31,3838.31,0]
[200580,80,"1 Yd Containers  (Chehalis)",2010,1,0,"S/L",12,2022,2022.0833333333333,35644,35644,247.5277777777778,2970.3333333333335,0,35644,35644,0]
[87859,8,"1 YD F/L CONTAINERS",2011,11,0,"S/L",12,{"$f":"D63+H63","v":2023},{"$f":"+I63+(E63/12)","v":2023.9166666666667},{"$f":"3219.74+(28.31*8)+75.99","v":3522.2099999999996},{"$f":"K63-K63*F63","v":3522.2099999999996},24.459791666666664,293.51749999999998,0,3277.6120833332884,{"$f":"+IF(O63=0,K63,P63+O63)","v":3522.2099999999996},0]
[87859,7,"1.5 YD F/L CONTAINERS",2011,11,0,"S/L",12,2023,2023.9166666666667,{"$f":"3149.6+(28.31*7)","v":3347.77},3347.77,23.24840277777778,278.98083333333335,0,3115.2859722221797,3347.77,0]
[87859,10,"2 YD F/L CONTAINERS",2011,11,0,"S/L",12,2023,2023.9166666666667,{"$f":"4779.97+(28.31*10)","v":5063.0700000000006},5063.0700000000006,35.160208333333337,421.92250000000001,0,4711.4679166666028,5063.0700000000006,0]
[87859,6,"4 YD F/L CONTAINERS",2011,11,0,"S/L",12,2023,2023.9166666666667,{"$f":"3606.02+(28.31*6)","v":3775.88},3775.88,26.221388888888892,314.65666666666669,0,3513.6661111110634,3775.88,0]
[87859,3,"6 YD F/L CONTAINERS",2011,11,0,"S/L",12,2023,2023.9166666666667,{"$f":"2314.46+(28.31*3)","v":2399.39},2399.39,16.662430555555556,199.94916666666666,0,2232.7656944444138,2399.39,0]
[200578,8,"1 Yd Containers",2011,11,0,"S/L",12,2023,2023.9166666666667,4260.8,4260.8,29.588888888888889,355.06666666666666,0,3964.9111111110574,4260.8,0]
[200591,7,"1.5 Yd Containers",2011,11,0,"S/L",12,2023,2023.9166666666667,3728.2,3728.2,25.890277777777779,310.68333333333334,0,3469.2972222221752,3728.2,0]
[200597,10,"2 Yd Containers",2011,11,0,"S/L",12,2023,2023.9166666666667,5326,5326,36.986111111111107,443.83333333333326,0,4956.1388888888214,5326,0]
[200603,6,"4 Yd Containers",2011,11,0,"S/L",12,2023,2023.9166666666667,3195.6,3195.6,22.191666666666666,266.3,0,2973.6833333332929,3195.6,0]
[90239,4,"1 YD F/L CONTAINERS",2012,1,0,"S/L",12,2024,2024.0833333333333,1690,1690,11.736111111111112,140.83333333333334,140.83333333333334,1549.1666666666667,1690,0]
[90239,3,"1.5 YD F/L CONTAINERS",2012,1,0,"S/L",12,2024,2024.0833333333333,1449,1449,10.0625,120.75,120.75,1328.25,1449,0]
[90239,5,"2 YD F/L CONTAINERS",2012,1,0,"S/L",12,2024,2024.0833333333333,2413,2413,16.756944444444446,201.08333333333337,201.08333333333337,2211.9166666666665,2413,0]
[90239,2,"4 YD F/L CONTAINERS",2012,1,0,"S/L",12,2024,2024.0833333333333,1312,1312,9.1111111111111107,109.33333333333333,109.33333333333333,1202.6666666666667,1312,0]
[90239,1,"6 YD F/L CONTAINERS",2012,1,0,"S/L",12,2024,2024.0833333333333,913,913,6.3402777777777777,76.083333333333329,76.083333333333329,836.91666666666663,913,0]
[200579,4,"1 Yd Containers",2012,1,0,"S/L",12,2024,2024.0833333333333,2392.48,2392.48,16.614444444444445,199.37333333333333,199.37333333333333,2193.1066666666666,{"$f":"+IF(O77=0,K77,P77+O77)","v":2392.48},0]
[200592,3,"1.5 Yd Containers",2012,1,0,"S/L",12,2024,2024.0833333333333,1794.33,1794.33,12.460625,149.5275,149.5275,1644.8025,1794.33,{"$f":"+L78-Q78","v":0}]
[200598,5,"2 Yd FEL Containers",2012,1,0,"S/L",12,2024,2024.0833333333333,2990.55,2990.55,20.767708333333335,249.21250000000003,249.21250000000003,2741.3375000000001,2990.55,0]
["108497, 108495",{"$f":"14+6","v":20},"1 YD R/L CONTAINERS",2013,9,0,"S/L",10,2023,2023.75,{"$f":"6199.2+2656.8","v":8856},8856,73.8,885.59999999999991,0,8265.5999999999331,8856,0]
["108496, 108494",20,"1.5 YD R/L CONTAINERS",2013,9,0,"S/L",10,2023,2023.75,{"$f":"3758.4+5637.6","v":9396},9396,78.3,939.59999999999991,0,8769.5999999999294,9396,0]
[108493,10,"4 YD F/L CONTAINERS",2013,9,0,"S/L",12,2025,2025.75,6210,6210,43.125,517.5,517.5,4829.9999999999609,5347.4999999999609,862.50000000003911]
["109346, 109345",{"$f":"11+17","v":28},"6 YD F/L CONTAINERS",2013,9,0,"S/L",10,2023,2023.75,{"$f":"8613+7047","v":15660},15660,130.5,1566,0,14615.999999999882,15660,0]
[117913,30,"2 YD REL CONTAINERS",2014,11,0,"S/L",12,2026,2026.9166666666667,16038,16038,111.375,1336.5,1336.5,10914.749999999796,12251.249999999796,3786.7500000002037]
[117912,30,"1 YD REL CONTAINERS",2014,11,0,"S/L",12,2026,2026.9166666666667,13510.8,13510.8,93.824999999999989,1125.8999999999999,1125.8999999999999,9194.8499999998294,10320.749999999829,3190.0500000001703]
[115107,6,"1.5 YD FEL CONTAINERS",2014,7,0,"S/L",12,2026,2026.5833333333333,2941.92,2941.92,20.43,245.16,245.16,2083.86,2329.02,612.90000000000009]
[115110,5,"6 YD FEL CONTAINERS",2014,7,0,"S/L",12,2026,2026.5833333333333,3877.2,3877.2,26.924999999999997,323.09999999999997,323.09999999999997,2746.35,3069.45,807.75]
[115115,4,"1.5 YD FEL CONTAINERS",2014,7,0,"S/L",12,2026,2026.5833333333333,1961.28,1961.28,13.62,163.44,163.44,1389.24,1552.68,408.59999999999991]
[115105,10,"1.5 YD FEL CONTAINERS",2014,7,0,"S/L",12,2026,2026.5833333333333,4816.8,4816.8,33.450000000000003,401.40000000000003,401.40000000000003,3411.9,3813.3,1003.5]
[115109,10,"3 YD FEL CONTAINERS",2014,7,0,"S/L",12,2026,2026.5833333333333,5756.4,5756.4,39.975000000000001,479.70000000000005,479.70000000000005,4077.45,4557.1499999999996,1199.25]
[115108,10,"2 YD FEL CONTAINERS",2014,7,0,"S/L",12,2026,2026.5833333333333,5238,5238,36.375,436.5,436.5,3710.25,4146.75,1091.25]
[115111,12,"2 YD REL CONTAINERS",2014,7,0,"S/L",12,2026,2026.5833333333333,6415.2,6415.2,44.550000000000004,534.6,534.6,4544.0999999999995,5078.7,1336.5]
[115112,13,"2 YD REL CONTAINERS",2014,7,0,"S/L",12,2026,2026.5833333333333,6949.8,6949.8,48.262499999999996,579.15,579.15,4922.7750000000005,5501.9250000000002,1447.875]
[115113,13,"1 YD REL CONTAINERS",2014,7,0,"S/L",12,2026,2026.5833333333333,5854.68,5854.68,40.657500000000006,487.8900000000001,487.8900000000001,4147.0650000000005,4634.9550000000008,1219.7249999999995]
[115114,12,"1 YD REL CONTAINERS",2014,7,0,"S/L",12,{"$f":"D95+H95","v":2026},{"$f":"+I95+(E95/12)","v":2026.5833333333333},5404.32,{"$f":"K95-K95*F95","v":5404.32},{"$f":"L95/H95/12","v":37.529999999999994},{"$f":"+M95*12","v":450.3599999999999},{"$f":"+IF(J95<=$N$6,0,N95)","v":450.3599999999999},{"$f":"+IF($J95<=$N$7,$L95,IF(($D95+($E95/12))>=$N$7,0,((($L95-((($J95-$N$7)*12)*$M95))))))","v":3828.06},4278.42,1125.8999999999996]
[115200,5,"1.5 YD REL CONTAINERS",2014,7,0,"S/L",12,2026,2026.5833333333333,2408.4,2408.4,16.725000000000001,200.70000000000002,200.70000000000002,1705.95,1906.65,501.75]
[115106,3,"2 YD REL CONTAINERS",2014,7,0,"S/L",12,2026,2026.5833333333333,{"$f":"8958.6/15*3","v":1791.72},1791.72,12.442500000000001,149.31,149.31,1269.135,1418.4449999999999,373.27500000000009]
[115106,12,"2 YD REL Containers",2014,7,0,"S/L",10,{"$f":"D98+H98","v":2024},{"$f":"+I98+(E98/12)","v":2024.5833333333333},{"$f":"8952.6/15*12","v":7162.08},{"$f":"K98-K98*F98","v":7162.08},59.683999999999997,716.20799999999997,716.20799999999997,6087.768,6803.9759999999997,358.10400000000027]
[118904,10,"1 YD REL CONTAINERS",2015,1,0,"S/L",11.1,2026.1,2026.1833333333332,4503.6000000000004,4503.6000000000004,33.810810810810814,405.7297297297298,405.7297297297298,3245.8378378378748,3651.5675675676048,852.03243243239558]
[120926,20,"6 YD FEL CONTAINERS",2015,1,0,"S/L",11.11,2026.11,2026.1933333333332,16092,16092,120.70207020702071,1448.4248424842485,1448.4248424842485,11587.398739874132,13035.82358235838,3056.17641764162]
[126868,50,"1 YD REL CONTAINERS",2015,11,0,"S/L",12,2027,2027.9166666666667,23227.18,23227.18,161.29986111111111,1935.5983333333334,1935.5983333333334,13871.788055555262,15807.386388888595,7419.793611111405]
[126869,20,"1.5 YD REL CONTAINERS",2015,11,0,"S/L",12,2027,2027.9166666666667,10047.02,10047.02,69.770972222222227,837.25166666666678,837.25166666666678,6000.303611110985,6837.555277777652,3209.4647222223484]
[126870,24,"3 YD FEL CONTAINERS",2015,11,0,"S/L",12,2027,2027.9166666666667,14155.75,14155.75,98.303819444444443,1179.6458333333333,1179.6458333333333,8454.1284722220444,9633.7743055553783,4521.9756944446217]
[126871,24,"6 YD FEL CONTAINERS",2015,11,0,"S/L",12,2027,2027.9166666666667,18925.25,18925.25,131.42534722222223,1577.1041666666667,1577.1041666666667,11302.579861110873,12879.684027777539,6045.5659722224609]
[168986,15,"2 YD PLASTIC CONTAINERS",2016,10,0,"S/L",7,2023,2023.8333333333333,8796.66,8796.66,104.72214285714286,1256.6657142857143,0,7854.1607142857138,8796.66,0]
[243140,27,"2 Yd Commercial Container",2016,6,0,"S/L",7,2023,2023.5,4050,4050,48.214285714285715,578.57142857142856,0,3808.9285714285274,4050,0]
[185772,24,"1 YD RL Containers",2017,8,0,"S/L",12,2029,2029.6666666666667,11815.44,11815.44,82.051666666666662,984.61999999999989,984.61999999999989,5333.3583333331853,6317.9783333331852,5497.4616666668153]
[185771,24,"2 YD RL Containers",2017,8,0,"S/L",12,2029,2029.6666666666667,13113.84,13113.84,91.068333333333328,1092.82,1092.82,5919.441666666502,7012.2616666665017,6101.5783333334984]
[172849,50,"2 Yd REL Container",2017,1,0,"S/L",12,2029,2029.0833333333333,26954.09,26954.09,187.18118055555556,2246.1741666666667,2246.1741666666667,13477.045,15723.219166666666,11230.870833333334]
[172848,30,"1 Yd REL Container",2017,1,0,"S/L",12,2029,2029.0833333333333,13708.81,13708.81,95.200069444444452,1142.4008333333334,1142.4008333333334,6854.4049999999988,7996.805833333332,5712.0041666666675]
[172847,20,"6 Yd FEL Container",2017,1,0,"S/L",12,2029,2029.0833333333333,15953.91,15953.91,110.79104166666667,1329.4925000000001,1329.4925000000001,7976.9549999999999,9306.4475000000002,6647.4624999999996]
[172846,10,"4 Yd FEL Container",2017,1,0,"S/L",12,2029,2029.0833333333333,6085.09,6085.09,42.257569444444449,507.09083333333342,507.09083333333342,3042.5449999999996,3549.6358333333328,2535.4541666666673]
[188898,14,"4 Yd Containers",2017,11,0,"S/L",12,2029,2029.9166666666667,11053.99,11053.99,76.763819444444451,921.16583333333347,921.16583333333347,4759.3568055554151,5680.5226388887486,5373.4673611112512]
[188899,20,"6 Yd Containers",2017,11,0,"S/L",12,2029,2029.9166666666667,18010.150000000001,18010.150000000001,125.07048611111112,1500.8458333333335,1500.8458333333335,7754.370138888662,9255.2159722219949,8754.9340277780066]
[189792,20,"1 Yd Containers",2017,11,0,"S/L",12,2029,2029.9166666666667,9303.25,9303.25,64.605902777777786,775.27083333333348,775.27083333333348,4005.5659722221044,4780.8368055554383,4522.4131944445617]
[189793,20,"1.5 Yd Containers",2017,11,0,"S/L",12,2029,2029.9166666666667,9609.24,9609.24,66.730833333333337,800.77,800.77,4137.3116666665446,4938.0816666665451,4671.1583333334547]
[189794,20,"2 Yd Containers",2017,11,0,"S/L",12,2029,2029.9166666666667,9843.3799999999992,9843.3799999999992,68.356805555555553,820.28166666666664,820.28166666666664,4238.1219444443195,5058.4036111109863,4784.9763888890129]
[189795,15,"3 Yd Containers",2017,11,0,"S/L",12,2029,2029.9166666666667,8703.01,8703.01,60.437569444444449,725.25083333333339,725.25083333333339,3747.1293055554452,4472.3801388887787,4230.6298611112215]
[189796,1,"4 Yd Containers",2017,11,0,"S/L",12,2029,2029.9166666666667,619.94000000000005,619.94000000000005,4.3051388888888891,51.661666666666669,51.661666666666669,266.9186111111033,318.58027777776999,301.35972222223006]
[197275,20,"6yd FL Containers",2018,4,0,"S/L",12,2030,2030.3333333333333,17684.02,17684.02,122.80569444444444,1473.6683333333333,1473.6683333333333,6999.9245833333334,8473.5929166666665,9210.4270833333339]
[198695,30,"2Yd Metal Containers",2018,4,0,"S/L",12,2030,2030.3333333333333,17172.21,17172.21,119.25145833333333,1431.0174999999999,1431.0174999999999,6797.3331249999992,8228.3506249999991,8943.859375]
[198694,40,"1Yd Metal Containers",2018,5,0,"S/L",12,2030,2030.4166666666667,21642.89,21642.89,150.2978472222222,1803.5741666666663,1803.5741666666663,8416.679444444173,10220.253611110838,11422.636388889161]
[206417,10,"2YD Metal OCC Container",2018,11,0,"S/L",12,2030,2030.9166666666667,8441.24,8441.24,58.619722222222215,703.43666666666661,703.43666666666661,2930.9861111110049,3634.4227777776714,4806.8172222223284]
[206418,10,"2YD Metal Container",2018,11,0,"S/L",12,2030,2030.9166666666667,7057.39,7057.39,49.009652777777781,588.1158333333334,588.1158333333334,2450.4826388887996,3038.5984722221328,4018.7915277778675]
[206420,16,"2yd Metal Containers",2018,11,0,"S/L",12,2030,2030.9166666666667,10069.18,10069.18,69.924861111111113,839.09833333333336,839.09833333333336,3496.2430555554283,4335.3413888887617,5733.8386111112386]
[243139,28,"2 Yd FEL Containers",2018,1,0,"S/L",5,2023,2023.0833333333333,4760,4760,79.333333333333329,952,0,4760,4760,0]
[218570,25,"3 Yd Metal Containers",2019,7,0,"S/L",12,2031,2031.5833333333333,{"$f":"15225.29","v":15225.29},15225.29,105.73118055555557,1268.7741666666668,1268.7741666666668,4440.7095833333333,5709.4837500000003,9515.8062500000015]
[218571,20,"4 Yd Metal Containers",2019,7,0,"S/L",12,2031,2031.5833333333333,{"$f":"12829.43","v":12829.43},12829.43,89.093263888888885,1069.1191666666666,1069.1191666666666,3741.9170833333337,4811.0362500000001,8018.3937500000002]
[218572,10,"6 Yd Metal Containers",2019,7,0,"S/L",12,2031,2031.5833333333333,{"$f":"8816.75","v":8816.75},8816.75,61.22743055555555,734.72916666666663,734.72916666666663,2571.5520833333339,3306.2812500000005,5510.46875]
[218573,30,"1 Yd Metail Containers",2019,7,0,"S/L",12,{"$f":"D130+H130","v":2031},{"$f":"+I130+(E130/12)","v":2031.5833333333333},{"$f":"15738.46","v":15738.46},{"$f":"K130-K130*F130","v":15738.46},109.2948611111111,1311.5383333333332,1311.5383333333332,4590.3841666666667,5901.9224999999997,9836.5374999999985]
[218574,20,"1.5 Yd Metal Containers",2019,7,0,"S/L",12,{"$f":"D131+H131","v":2031},{"$f":"+I131+(E131/12)","v":2031.5833333333333},{"$f":"11292.99","v":11292.99},{"$f":"K131-K131*F131","v":11292.99},78.423541666666665,941.08249999999998,941.08249999999998,3293.7887499999997,4234.8712500000001,7058.1187499999996]
[218575,25,"2 Yd Metal Containers",2019,7,0,"S/L",12,{"$f":"D132+H132","v":2031},{"$f":"+I132+(E132/12)","v":2031.5833333333333},{"$f":"16496.64","v":16496.64},{"$f":"K132-K132*F132","v":16496.64},114.56,1374.72,1374.72,4811.5199999999986,6186.2399999999989,10310.400000000001]
[225391,40,"2 Yd REL Metal Containers",2019,12,0,"S/L",12,{"$f":"D133+H133","v":2031},{"$f":"+I133+(E133/12)","v":2032},26713.17,{"$f":"K133-K133*F133","v":26713.17},185.50812499999998,2226.0974999999999,2226.0974999999999,6863.8006249998325,9089.8981249998324,17623.271875000166]
[234953,25,"2yd REL Metal Containers",2020,6,0,"S/L",12,{"$f":"D134+H134","v":2032},{"$f":"+I134+(E134/12)","v":2032.5},13930.75,{"$f":"K134-K134*F134","v":13930.75},96.741319444444443,1160.8958333333333,1160.8958333333333,2998.9809027776901,4159.8767361110231,9770.8732638889778]
[235562,7,"1yd REL Metal Containers",2020,7,0,"S/L",12,{"$f":"D135+H135","v":2032},{"$f":"+I135+(E135/12)","v":2032.5833333333333},3711.26,{"$f":"K135-K135*F135","v":3711.26},25.772638888888892,309.2716666666667,309.2716666666667,773.17916666666633,1082.4508333333331,2628.8091666666669]
[235563,23,"1yd REL Metal Containers",2020,7,0,"S/L",12,2032,2032.5833333333333,12194.14,12194.14,84.681527777777774,1016.1783333333333,1016.1783333333333,2540.4458333333332,3556.6241666666665,8637.5158333333329]
[237328,10,"3Yd REL Metal Containers",2020,7,0,"S/L",12,2032,2032.5833333333333,6181.1,6181.1,42.924305555555556,515.0916666666667,515.0916666666667,1287.729166666667,1802.8208333333337,4378.2791666666672]
[241360,30,"2yd Metal REL Containers",2020,11,0,"S/L",12,2032,2032.9166666666667,19540.919999999998,19540.919999999998,135.70083333333332,1628.4099999999999,1628.4099999999999,3528.221666666419,5156.6316666664188,14384.288333333579]
[237694,20,"1.5 Yard Commercial Containers",2008,11,0,"S/L",12,2020,2020.9166666666667,2391.71,2391.71,16.609097222222221,199.30916666666667,0,2391.71,2391.71,0]
[237695,5,"2 Yard Commercial Containers (plastic)",2010,6,0,"S/L",7,2017,2017.5,2741.65,2741.65,32.638690476190476,391.66428571428571,0,2741.65,2741.65,0]
[237696,3,"3 Yard Commercial Containers (plastic)",2010,6,0,"S/L",7,2017,2017.5,2104.0500000000002,2104.0500000000002,25.048214285714291,300.57857142857148,0,2104.0500000000002,{"$f":"+IF(O141=0,K141,P141+O141)","v":2104.0500000000002},0]
[]
[null,null,"Total Containers",null,null,null,null,null,null,null,{"$f":"SUM(K13:K142)","v":1224354.7799999996},{"$f":"SUM(L13:L142)","v":1224354.7799999996},9519.4764941130725,114233.71792935686,50070.033405547307,901832.69296064449,957751.1887471443,266603.59125285526]
[]
[]
[null,null,"GARBAGE CARTS"]
[null,400,"95 GALLON  GREEN CARTS",2002,2,0,"S/L",7,{"$f":"D147+H147","v":2009},{"$f":"+I147+(E147/12)","v":2009.1666666666667},19217.52,{"$f":"K147-K147*F147","v":19217.52},{"$f":"L147/H147/12","v":228.78},{"$f":"+M147*12","v":2745.36},{"$f":"+IF(J147<=$N$6,0,N147)","v":0},{"$f":"+IF($J147<=$N$7,$L147,IF(($D147+($E147/12))>=$N$7,0,((($L147-((($J147-$N$7)*12)*$M147))))))","v":19217.52},{"$f":"+IF(O147=0,K147,P147+O147)","v":19217.52},{"$f":"+K147-Q147","v":0}]
[null,75,"96 GALLON AUTOMATED CONTAINERS",2003,10,0,"S/L",7,2010,2010.8333333333333,3553.24,3553.24,42.300476190476189,507.60571428571427,0,3553.24,3553.24,0]
[null,518,"95 GALLON  GREEN CARTS",2006,5,0,"S/L",7,2013,2013.4166666666667,24885.64,24885.64,296.25761904761902,3555.091428571428,0,24885.64,24885.64,0]
[null,270,"65 GALLON GREEN CARTS",2003,7,0,"S/L",7,2010,2010.5833333333333,12676.29,12676.29,150.90821428571431,1810.8985714285718,0,12676.29,12676.29,0]
[null,400,"20 GALLON INSERTS",2003,10,0,"S/L",7,2010,2010.8333333333333,6672.79,6672.79,79.437976190476192,953.25571428571425,0,6672.79,6672.79,0]
[null,1100,"32 GALLON AUTOMATED CONTAINERS",2003,10,0,"S/L",7,2010,2010.8333333333333,34240.68,34240.68,407.62714285714287,4891.5257142857145,0,34240.68,34240.68,0]
[null,25,"64 GALLON AUTOMATED CONTAINERS",2003,10,0,"S/L",7,2010,2010.8333333333333,1103.6400000000001,1103.6400000000001,13.13857142857143,157.66285714285715,0,1103.6400000000001,1103.6400000000001,0]
[null,1066,"68 GALLON GRAY CARTS",2003,12,0,"S/L",7,2010,2011,50121.71,50121.71,596.68702380952379,7160.2442857142851,0,50121.71,50121.71,0]
[null,170,"65 GALLON GREEN CARTS",2004,3,0,"S/L",7,2011,2011.25,7995.71,7995.71,95.187023809523808,1142.2442857142858,0,7995.71,7995.71,0]
[null,84,"65 GALLON GREEN CARTS",2004,4,0,"S/L",7,2011,2011.3333333333333,3971.2,3971.2,47.276190476190472,567.31428571428569,0,3971.2,3971.2,0]
[null,527,"65 GALLON GREEN CARTS",2004,5,0,"S/L",7,2011,2011.4166666666667,24754.18,24754.18,294.69261904761908,3536.3114285714291,0,24754.18,24754.18,0]
[null,148,"65 GALLON GREEN CARTS",2004,7,0,"S/L",7,2011,2011.5833333333333,6962.12,6962.12,82.882380952380956,994.58857142857141,0,6962.12,6962.12,0]
[null,519,"68 GALLON BLUE CARTS",2004,8,0,"S/L",7,2011,2011.6666666666667,24403.759999999998,24403.759999999998,290.52095238095234,3486.2514285714278,0,24403.759999999998,24403.759999999998,0]
[null,570,"65 GALLON GREEN CARTS",2005,1,0,"S/L",7,2012,2012.0833333333333,26768.65,26768.65,318.67440476190478,3824.0928571428576,0,26768.65,26768.65,0]
[null,570,"65 GALLON GREEN CARTS",2005,1,0,"S/L",7,2012,2012.0833333333333,26768.65,26768.65,318.67440476190478,3824.0928571428576,0,26768.65,26768.65,0]
[null,267,"65 GALLON GREEN CARTS",2005,6,0,"S/L",7,2012,2012.5,12560.44,12560.44,149.52904761904762,1794.3485714285714,0,12560.44,12560.44,0]
[null,600,"65 GALLON GREEN CARTS",2005,7,0,"S/L",7,2012,2012.5833333333333,28195.52,28195.52,335.66095238095238,4027.9314285714286,0,28195.52,28195.52,0]
[null,600,"65 GALLON GREEN CARTS",2005,7,0,"S/L",7,2012,2012.5833333333333,28195.52,28195.52,335.66095238095238,4027.9314285714286,0,28195.52,28195.52,0]
[null,598,"65 GALLON GREEN CARTS",2005,8,0,"S/L",7,2012,2012.6666666666667,28114.58,28114.58,334.69738095238097,4016.3685714285716,0,28114.58,28114.58,0]
[null,50,"64 GALLON UNIV XHD AUTOMATED CARTS-GRAY",2005,10,0,"S/L",7,2012,2012.8333333333333,2859.35,2859.35,34.039880952380948,408.4785714285714,0,2859.35,2859.35,0]
[null,659,"65 GALLON GREEN CARTS",2006,6,0,"S/L",7,2013,2013.5,30983.32,30983.32,368.84904761904767,4426.1885714285718,0,30983.32,30983.32,0]
[null,378,"65 GALLON BLUE CARTS",2007,1,0,"S/L",7,2014,2014.0833333333333,17745.34,17745.34,211.25404761904761,2535.0485714285714,0,17745.34,17745.34,0]
[null,687,"65 GALLON GREEN CARTS",2007,5,0,"S/L",7,2014,2014.4166666666667,32274.32,32274.32,384.2180952380952,4610.6171428571424,0,32274.32,32274.32,0]
[null,50,"64 GALLON CARTS",2007,6,0,"S/L",7,2014,2014.5,2722.34,2722.34,32.408809523809524,388.90571428571428,0,2722.34,2722.34,0]
[124165,50,"24 GALLON GARBAGE CARTS",2015,6,0,"S/L",7,2022,2022.5,1811.7,1811.7,21.567857142857147,258.81428571428575,0,1811.7,1811.7,0]
[null,340,"65 GALLON BLUE CARTS",2007,7,0,"S/L",7,{"$f":"D172+H172","v":2014},{"$f":"+I172+(E172/12)","v":2014.5833333333333},15959.48,{"$f":"K172-K172*F172","v":15959.48},{"$f":"L172/H172/12","v":189.99380952380952},{"$f":"+M172*12","v":2279.9257142857141},{"$f":"+IF(J172<=$N$6,0,N172)","v":0},{"$f":"+IF($J172<=$N$7,$L172,IF(($D172+($E172/12))>=$N$7,0,((($L172-((($J172-$N$7)*12)*$M172))))))","v":15959.48},15959.48,{"$f":"+K172-Q172","v":0}]
[null,687,"65 GALLON GREEN CARTS",2007,7,0,"S/L",7,2014,2014.5833333333333,32298.1,32298.1,384.50119047619046,4614.0142857142855,0,32298.1,32298.1,0]
[null,141,"95 GALLON BLUE CARTS",2007,7,0,"S/L",7,2014,2014.5833333333333,6765.98,6765.98,80.547380952380948,966.56857142857143,0,6765.98,6765.98,0]
[null,729,"65 GALLON BLUE CARTS",2008,1,0,"S/L",7,2015,2015.0833333333333,34274.33,34274.33,408.02773809523813,4896.3328571428574,0,34274.33,34274.33,0]
[null,730,"65 GALLON GREEN CARTS",2008,3,0,"S/L",7,2015,2015.25,34294.379999999997,34294.379999999997,408.26642857142855,4899.1971428571424,0,34294.379999999997,34294.379999999997,0]
[null,740,"65 GALLON GREEN CARTS",2008,4,0,"S/L",7,2015,2015.3333333333333,34784.949999999997,34784.949999999997,414.1065476190476,4969.278571428571,0,34784.949999999997,34784.949999999997,0]
[null,741,"65 GALLON GREEN CARTS",2008,6,0,"S/L",7,2015,2015.5,34808.730000000003,34808.730000000003,414.38964285714292,4972.675714285715,0,34808.730000000003,34808.730000000003,0]
[null,452,"65 GALLON CARTS - DARK AQUA BLUE",2009,8,0,"S/L",7,2016,2016.6666666666667,18171.27,18171.27,216.32464285714286,2595.8957142857143,0,18171.27,18171.27,0]
[null,"300, 300","80 LITER CART, 65 LITER CART LID",2009,11,0,"S/L",7,2016,2016.9166666666667,10368.11,10368.11,123.42988095238097,1481.1585714285716,0,10368.11,10368.11,0]
[73264,243,"95 GAL CARTS - NAVY BLUE - GARBAGE",2010,3,0,"S/L",7,2017,2017.25,12139.72,12139.72,144.52047619047619,1734.2457142857143,0,12139.72,12139.72,0]
[73263,324,"65 GAL CARTS - NAVY BLUE - GARBAGE",2010,3,0,"S/L",7,2017,2017.25,14319.46,14319.46,170.4697619047619,2045.6371428571429,0,14319.46,14319.46,0]
[null,432,"65 GAL NAVY CART/BLUE LID - REFUSE",2010,9,0,"S/L",7,2017,2017.75,17837.060000000001,17837.060000000001,212.34595238095241,2548.1514285714288,0,17837.060000000001,17837.060000000001,0]
[null,243,"95 GALLON BLUE CARTS",2011,9,0,"S/L",7,2018,2018.75,13162.28,13162.28,156.69380952380953,1880.3257142857144,0,13162.28,13162.28,0]
[null,180,"65 GALLON BLUE CARTS",2011,9,0,"S/L",7,2018,2018.75,8633.08,8633.08,102.77476190476192,1233.2971428571429,0,8633.08,8633.08,0]
[93241,612,"65 GALLON BLUE CARTS",2012,4,0,"S/L",7,{"$f":"D186+H186","v":2019},{"$f":"+I186+(E186/12)","v":2019.3333333333333},26726.71,26726.71,318.17511904761903,{"$f":"+M186*12","v":3818.1014285714282},{"$f":"+IF(J186<=$N$6,0,N186)","v":0},{"$f":"+IF($J186<=$N$7,$L186,IF(($D186+($E186/12))>=$N$7,0,((($L186-((($J186-$N$7)*12)*$M186))))))","v":26726.71},26726.71,0]
[93408,49,"20 GALLON BLUE CARTS",2012,4,0,"S/L",7,2019,2019.3333333333333,1816.14,{"$f":"K187-K187*F187","v":1816.14},{"$f":"L187/H187/12","v":21.620714285714286},259.44857142857143,0,1816.14,1816.14,{"$f":"+K187-Q187","v":0}]
[98832,386,"65 GALLON BLUE CARTS",2012,11,0,"S/L",7,2019,2019.9166666666667,17179.43,17179.43,204.51702380952381,2454.2042857142856,0,17179.43,17179.43,0]
[106428,648,"95 GALLON GARBAGE CARTS",2013,7,0,"S/L",7,2020,2020.5833333333333,15565.82,15565.82,185.30738095238095,2223.6885714285713,0,15565.82,15565.82,0]
[109687,243,"95 GALLON GARBAGE CARTS",2013,11,0,"S/L",7,2020,2020.9166666666667,12390.3,12390.3,147.50357142857141,1770.042857142857,0,12390.3,12390.3,0]
[109684,648,"65 GALLON GARBAGE CARTS",2013,11,0,"S/L",7,2020,2020.9166666666667,28522.98,28522.98,339.55928571428569,4074.7114285714283,0,28522.98,28522.98,0]
[116098,504,"95 GALLON GARBAGE CARTS",2014,8,0,"S/L",7,2021,2021.6666666666667,27565.759999999998,27565.759999999998,328.1638095238095,3937.9657142857141,0,27565.759999999998,27565.759999999998,0]
[124164,684,"65 GALLON GARBAGE CARTS",2015,6,0,"S/L",7,2022,2022.5,30287.52,30287.52,360.56571428571425,4326.7885714285712,0,30287.52,30287.52,0]
[124070,50,"35 GALLON GARBAGE CARTS",2015,6,0,"S/L",7,2022,2022.5,1836,1836,21.857142857142858,262.28571428571428,0,1836,1836,0]
[128358,684,"65 GALLON GARBAGE CARTS",2015,12,0,"S/L",7,2022,2023,31007.79,31007.79,369.14035714285711,4429.6842857142856,0,31007.79,31007.79,0]
[166330,648,"65 GALLON GARBAGE CARTS",2016,8,0,"S/L",7,2023,2023.6666666666667,28378.7,28378.7,337.84166666666664,4054.0999999999995,0,26013.808333332719,28378.7,0]
[186098,50,"35 Gallon Refuse Carts",2017,9,0,"S/L",7,2024,2024.75,1761.5,1761.5,20.970238095238095,251.64285714285714,251.64285714285714,1342.095238095219,1593.7380952380761,167.76190476192392]
[178892,648,"65gal Garbage Carts",2017,3,0,"S/L",7,2024,2024.25,29663.68,29663.68,353.13904761904763,4237.6685714285713,4237.6685714285713,24719.733333333013,28957.401904761584,706.27809523841643]
[187750,648,"65 Gallon  Refuse Carts",2017,9,0,"S/L",7,2024,2024.75,27848.17,27848.17,331.52583333333331,3978.3099999999995,3978.3099999999995,21217.65333333303,25195.963333333028,2652.2066666669707]
[191606,648,"65 Gallon Refuse Carts",2018,1,0,"S/L",6.11,2024.11,2024.1933333333332,32819.910000000003,32819.910000000003,447.62561374795422,5371.5073649754504,5371.5073649754504,26857.536824877789,32229.044189853237,590.86581014676631]
[202946,351,"95 Gallon Refuse Container",2018,8,0,"S/L",7,2025,2025.6666666666667,21048.63,21048.63,250.57892857142858,3006.9471428571428,3006.9471428571428,13280.683214285258,16287.630357142401,4760.9996428575996]
[202196,648,"65 Gallon Refuse Container",2018,8,0,"S/L",7,2025,2025.6666666666667,32253.07,32253.07,383.96511904761905,4607.5814285714287,4607.5814285714287,20350.151309523113,24957.732738094543,7295.3372619054571]
[210349,112,"35 Gallon Refuse Containers",2019,2,0,"S/L",7,2026,{"$f":"+I203+(E203/12)","v":2026.1666666666667},4122.68,{"$f":"K203-K203*F203","v":4122.68},49.079523809523813,588.95428571428579,588.95428571428579,2306.7376190475297,2895.6919047618157,1226.9880952381845]
[210350,580,"65 Gallon Refuse Containers",2019,2,0,"S/L",7,2026,2026.1666666666667,26326.15,26326.15,313.40654761904767,3760.8785714285723,3760.8785714285723,14730.107738094668,18490.986309523239,7835.163690476762]
[211015,492,"95 Gallon Refuse Containers",2019,2,0,"S/L",7,2026,2026.1666666666667,25206.49,25206.49,300.07726190476194,3600.9271428571433,3600.9271428571433,14103.631309523264,17704.558452380406,7501.9315476195952]
[214017,648,"65 Gallon MSW Container",2019,5,0,"S/L",7,2026,2026.4166666666667,28942.89,28942.89,344.55821428571426,4134.6985714285711,4134.6985714285711,15160.561428570802,19295.259999999373,9647.6300000006268]
[219605,936,"95 Gallon Refuse Containers",2019,8,0,"S/L",7,2026,2026.6666666666667,41806.410000000003,41806.410000000003,497.69535714285718,5972.3442857142863,5972.3442857142863,20405.509642856239,26377.853928570526,15428.556071429477]
["2188-20-0017",null,"65 Gallon Totes",2020,6,0,"S/L",7,2027,2027.5,33573,33573,399.67857142857139,4796.1428571428569,4796.1428571428569,12390.035714285354,17186.178571428209,16386.821428571791]
[235564,936,"65 Gallon MSW Tote",2020,7,0,"S/L",7,2027,2027.5833333333333,33572.730000000003,33572.730000000003,399.67535714285719,4796.1042857142866,4796.1042857142866,11990.260714285716,16786.365000000002,16786.365000000002]
[237477,234,"95gal MSW Totes",2020,8,0,"S/L",7,{"$f":"D210+H210","v":2027},{"$f":"+I210+(E210/12)","v":2027.6666666666667},9534.33,{"$f":"K210-K210*F210","v":9534.33},113.50392857142857,1362.0471428571429,1362.0471428571429,3291.6139285712215,4653.6610714283643,4880.6689285716357]
[237479,468,"65gal MSW Totes",2020,8,0,"S/L",7,{"$f":"D211+H211","v":2027},{"$f":"+I211+(E211/12)","v":2027.6666666666667},17186.400000000001,{"$f":"K211-K211*F211","v":17186.400000000001},204.60000000000002,2455.2000000000003,2455.2000000000003,5933.3999999996286,{"$f":"+IF(O211=0,K211,P211+O211)","v":8388.5999999996293},8797.8000000003722]
[234069,442,"65 Gallon Refuse Containers",2020,4,0,"S/L",7,{"$f":"D212+H212","v":2027},{"$f":"+I212+(E212/12)","v":2027.3333333333333},16183.78,{"$f":"K212-K212*F212","v":16183.78},192.66404761904764,2311.9685714285715,2311.9685714285715,6357.9135714285712,8669.8821428571428,7513.8978571428579]
[234068,325,"95 Gallon Refuse Containers",2020,4,0,"S/L",7,{"$f":"D213+H213","v":2027},{"$f":"+I213+(E213/12)","v":2027.3333333333333},13763.58,{"$f":"K213-K213*F213","v":13763.58},163.85214285714287,1966.2257142857143,1966.2257142857143,5407.1207142857129,7373.3464285714272,6390.2335714285728]
[]
[null,null,"Total Garbage Carts",null,null,null,null,null,null,null,{"$f":"SUM(K147:K214)","v":1364265.6899999997},{"$f":"SUM(L147:L214)","v":1364265.6899999997},16298.170613747958,195578.04736497544,57199.148793546876,1186132.1439677288,1245696.1844279431,118569.50557205702,"Updated Useful Lives to FAR"]
[]
[]
[]
[null,null,"DROP BOX"]
[198076,null,"30 Yard R/O Containers",2008,11,0,"S/L",7,{"$f":"D220+H220","v":2015},{"$f":"+I220+(E220/12)","v":2015.9166666666667},37543.25,{"$f":"K220-K220*F220","v":37543.25},{"$f":"L220/H220/12","v":446.94345238095235},{"$f":"+M220*12","v":5363.3214285714284},{"$f":"+IF(J220<=$N$6,0,N220)","v":0},{"$f":"+IF($J220<=$N$7,$L220,IF(($D220+($E220/12))>=$N$7,0,((($L220-((($J220-$N$7)*12)*$M220))))))","v":37543.25},{"$f":"+IF(O220=0,K220,P220+O220)","v":37543.25},{"$f":"+K220-Q220","v":0}]
[200835,56,"30 Yd Containers",2008,11,0,"S/L",7,2015,2015.9166666666667,35040,35040,417.14285714285711,5005.7142857142853,0,35040,35040,0]
["118140/118760",41,"R/O Winch Upgrades",2014,12,0,"S/L",5,2019,2020,{"$f":"13762.19+30514.81","v":44277},44277,737.94999999999993,8855.4,0,44277,44277,0]
[169575,5,"20 YD DROP BOX W/ LID",2016,10,0,"S/L",12,2028,2028.8333333333333,27725,27725,192.5347222222222,2310.4166666666665,2310.4166666666665,14440.104166666668,16750.520833333336,10974.479166666664]
[170906,4,"20 YD DROP BOX",2016,10,0,"S/L",12,2028,2028.8333333333333,26044,26044,180.86111111111111,2170.3333333333335,2170.3333333333335,13564.583333333334,15734.916666666668,10309.083333333332]
[185007,6,"30 Yd Lidded RO Box",2017,7,0,"S/L",12,2029,2029.5833333333333,38205,38205,265.3125,3183.75,3183.75,17510.625,20694.375,17510.625]
[185006,6,"40 Yd Lidded RO Box",2017,7,0,"S/L",12,2029,2029.5833333333333,44025,44025,305.72916666666669,3668.75,3668.75,20178.125,23846.875,20178.125]
[206419,null,"30yd RO Container",2018,11,0,"S/L",12,2030,2030.9166666666667,28508.71,28508.71,197.97715277777777,2375.7258333333334,2375.7258333333334,9898.8576388885267,12274.583472221861,16234.126527778139]
[206421,null,"30yd RO Containers",2018,11,0,"S/L",12,2030,2030.9166666666667,8889.07,8889.07,61.729652777777773,740.75583333333327,740.75583333333327,3086.4826388887768,3827.23847222211,5061.8315277778893]
[218576,10,"40 Yd Metal Containers",2019,7,0,"S/L",12,2031,2031.5833333333333,76118.570000000007,76118.570000000007,528.60118055555563,6343.2141666666676,6343.2141666666676,22201.249583333331,28544.463749999999,47574.106250000012]
[225392,6,"20 Yd Metal Containers",2019,12,0,"S/L",12,2031,2032,33967.300000000003,33967.300000000003,235.88402777777779,2830.6083333333336,2830.6083333333336,8727.7090277775642,11558.317361110898,22408.982638889105]
[]
[null,null,"Total Drop Box",null,null,null,null,null,null,null,{"$f":"SUM(K220:K231)","v":400342.9},{"$f":"SUM(L220:L231)","v":400342.9},3570.6658234126985,42847.989880952373,23623.554166666669,226467.98638888821,250091.54055555488,150251.35944444514,"Updated Useful Lives to FAR"]
[]
[]
[null,null,"RECYCLE CARTS"]
[null,30,"2 YD R/L RECYCLE W/PLASTIC LIDS",1999,5,0,"S/L",7,{"$f":"D236+H236","v":2006},{"$f":"+I236+(E236/12)","v":2006.4166666666667},10181.25,{"$f":"K236-K236*F236","v":10181.25},{"$f":"L236/H236/12","v":121.20535714285715},{"$f":"+M236*12","v":1454.4642857142858},{"$f":"+IF(J236<=$N$6,0,N236)","v":0},{"$f":"+IF($J236<=$N$7,$L236,IF(($D236+($E236/12))>=$N$7,0,((($L236-((($J236-$N$7)*12)*$M236))))))","v":10181.25},{"$f":"+IF(O236=0,K236,P236+O236)","v":10181.25},{"$f":"+K236-Q236","v":0}]
[null,25,"96 GALLON UNIV XHD AS0201 CARTS - GRAYSTONE",2005,9,0,"S/L",7,2012,2012.75,2130.0100000000002,{"$f":"K237-K237*F237","v":2130.0100000000002},{"$f":"L237/H237/12","v":25.357261904761909},304.2871428571429,0,2130.0100000000002,2130.0100000000002,{"$f":"+K237-Q237","v":0}]
[null,2149,"65 GALLON GREEN W/BEIGE RECYCLE LID",2007,3,0,"S/L",7,2014,2014.25,101006.46,101006.46,1202.4578571428572,14429.494285714285,0,101006.46,101006.46,0]
[null,25,"96 GALLON CARTS",2007,6,0,"S/L",7,2014,2014.5,1511.26,1511.26,17.991190476190475,215.8942857142857,0,1511.26,1511.26,0]
[null,312,"65 GALLON GREEN RECYCLE CARTS",2007,7,0,"S/L",7,2014,2014.5833333333333,14647.27,14647.27,174.3722619047619,2092.4671428571428,0,14647.27,14647.27,0]
[null,140,"95 GALLON BLUE CARTS",2007,7,0,"S/L",7,2014,2014.5833333333333,6710.53,6710.53,79.8872619047619,958.64714285714285,0,6710.53,6710.53,0]
[null,568,"95 GALLON  GREY RECYCLE CARTS",2007,8,0,"S/L",7,2014,2014.6666666666667,27245.15,27245.15,324.34702380952382,3892.1642857142861,0,27245.15,27245.15,0]
[null,0,"48 GALLON BLUE CARTS",2007,9,0,"S/L",7,2014,2014.75,5772.65,5772.65,68.722023809523805,824.6642857142856,0,5772.65,5772.65,0]
[null,633,"95 GALLON  GREEN RECYCLE CART",2008,7,0,"S/L",7,2015,2015.5833333333333,30371.64,30371.64,361.56714285714287,4338.8057142857142,0,30371.64,30371.64,0]
[null,1080,"35 GALLON CARTS - DARK AQUA BLUE",2009,8,0,"S/L",7,2016,2016.6666666666667,38968.300000000003,38968.300000000003,463.90833333333336,5566.9000000000005,0,38968.300000000003,38968.300000000003,0]
[null,120,"35 GALLON CARTS - DARK AQUA BLUE",2009,8,0,"S/L",7,2016,2016.6666666666667,4329.82,4329.82,51.545476190476187,618.54571428571421,0,4329.82,4329.82,0]
[null,648,"95 GALLON CARTS - DARK AQUA BLUE",2009,8,0,"S/L",7,2016,2016.6666666666667,28156.46,28156.46,335.19595238095241,4022.3514285714291,0,28156.46,28156.46,0]
[null,300,"95 GALLON CARTS - DARK AQUA BLUE",2009,8,0,"S/L",7,2016,2016.6666666666667,14608.59,14608.59,173.91178571428574,2086.9414285714288,0,14608.59,14608.59,0]
[77163,162,"95 GALLON GREEN W/BEIGE RECYCLE LID",2010,9,0,"S/L",7,2017,2017.75,7855.42,7855.42,93.516904761904755,1122.2028571428571,0,7855.42,7855.42,0]
[97958,243,"95 GALLON GREEN CARTS",2012,8,0,"S/L",7,2019,2019.6666666666667,12534.13,12534.13,149.21583333333334,1790.5900000000001,0,12534.13,12534.13,0]
[106427,243,"95 GALLON RECYCLE CARTS",2013,7,0,"S/L",7,2020,2020.5833333333333,13166.58,13166.58,156.745,1880.94,0,13166.58,13166.58,{"$f":"+K251-Q251","v":0}]
[109685,486,"95 GALLON RECYCLE CARTS",2013,11,0,"S/L",7,2020,2020.9166666666667,25961.57,25961.57,309.06630952380954,3708.7957142857144,0,25961.57,25961.57,0]
[116097,504,"95 GALLON RECYCLE CARTS",2014,8,0,"S/L",7,2021,2021.6666666666667,27565.759999999998,27565.759999999998,328.1638095238095,3937.9657142857141,0,27565.759999999998,27565.759999999998,0]
[116096,720,"95 GALLON RECYCLE CARTS",2014,9,0,"S/L",7,2021,2021.75,33549.5,33549.5,399.39880952380958,4792.7857142857147,0,33549.5,33549.5,0]
[124072,312,"95 GALLON RECYCLE CARTS",2015,6,0,"S/L",7,2022,2022.5,16125.97,16125.97,191.97583333333333,2303.71,0,16125.97,16125.97,0]
[128449,624,"96 GALLON RECYCLE CARTS",2015,12,0,"S/L",7,2022,2023,31924.06,31924.06,380.04833333333335,4560.58,0,31924.06,31924.06,0]
[128623,312,"96 GALLON RECYCLE CARTS",2015,12,0,"S/L",7,2022,2023,14826.24,14826.24,176.50285714285712,2118.0342857142855,0,14826.24,14826.24,0]
[167287,1404,"95 GALLON RECYCLE CARTS",2016,8,0,"S/L",7,2023,2023.6666666666667,53731.040000000001,53731.040000000001,639.65523809523813,7675.862857142858,0,49253.453333332174,53731.040000000001,0]
[191384,216,"95 Gallon Recycle Carts",2018,1,0,"S/L",7,2025,2025.0833333333333,11706.63,11706.63,139.36464285714285,1672.3757142857144,1672.3757142857144,8361.8785714285696,10034.254285714283,1672.3757142857157]
[191450,486,"95 Gallon Recycle Carts",2018,1,0,"S/L",7,2025,2025.0833333333333,29585.919999999998,29585.919999999998,352.21333333333331,4226.5599999999995,4226.5599999999995,21132.799999999999,25359.360000000001,4226.5599999999977]
[203026,702,"95 Gallon Recycle Container",2018,8,0,"S/L",7,2025,2025.6666666666667,35065.480000000003,35065.480000000003,417.44619047619057,5009.3542857142866,5009.3542857142866,22124.648095237339,27134.002380951624,7931.477619048379]
[211016,210,"95 Gallon Recycle Containers",2019,2,0,"S/L",7,2026,2026.1666666666667,11167.87,11167.87,132.95083333333335,1595.4100000000003,1595.4100000000003,6248.6891666664251,7844.0991666664249,3323.7708333335759]
[218958,702,"95 Gallon Recycle Containers",2019,8,0,"S/L",7,2026,2026.6666666666667,34719.67,34719.67,413.32940476190475,4959.9528571428573,4959.9528571428573,16946.50559523734,21906.458452380197,12813.211547619801]
["2188-20-0017",null,"96 Gallon Recycle Totes",2020,6,0,"S/L",7,2027,2027.5,19220.22,19220.22,228.81214285714285,2745.7457142857143,2745.7457142857143,7093.1764285712215,9838.9221428569363,9381.2978571430649]
[234954,452,"95 Gallon Recycle Containers",2020,6,0,"S/L",7,2027,2027.5,19220.22,19220.22,228.81214285714285,2745.7457142857143,2745.7457142857143,7093.1764285712215,9838.9221428569363,9381.2978571430649]
[241361,702,"95 Gallon Recycle Totes",2020,11,0,"S/L",7,2027,2027.9166666666667,32919.5,32919.5,391.89880952380958,4702.7857142857147,4702.7857142857147,10189.369047618333,14892.154761904047,18027.345238095953]
[]
[null,null,"Total Recycle Carts",null,null,null,null,null,null,null,{"$f":"SUM(K236:K267)","v":716485.16999999993},{"$f":"SUM(L236:L267)","v":716485.16999999993},8529.5853571428561,102355.02428571429,27657.929999999997,617592.31666666281,649727.83333333046,66757.336666669551,"Updated Useful Lives to FAR"]
[]
[]
[]
[null,null,"YARD WASTE"]
[null,90,"95 GALLON CARTS - FORREST GREEN",2009,8,0,"S/L",7,{"$f":"D273+H273","v":2016},{"$f":"+I273+(E273/12)","v":2016.6666666666667},4479.7,{"$f":"K273-K273*F273","v":4479.7},{"$f":"L273/H273/12","v":53.329761904761902},{"$f":"+M273*12","v":639.9571428571428},{"$f":"+IF(J273<=$N$6,0,N273)","v":0},{"$f":"+IF($J273<=$N$7,$L273,IF(($D273+($E273/12))>=$N$7,0,((($L273-((($J273-$N$7)*12)*$M273))))))","v":4479.7},{"$f":"+IF(O273=0,K273,P273+O273)","v":4479.7},{"$f":"+K273-Q273","v":0}]
[97958,243,"95 GALLON GREEN CARTS",2012,8,0,"S/L",7,2019,2019.6666666666667,12796.58,12796.58,152.34023809523811,1828.0828571428574,0,12796.58,12796.58,0]
[109686,243,"95 GALLON YW CARTS",2013,11,0,"S/L",7,2020,2020.9166666666667,12390.3,12390.3,147.50357142857141,1770.042857142857,0,12390.3,12390.3,0]
[124071,312,"95 GALLON YW CARTS",2015,6,0,"S/L",7,2022,2022.5,16125.96,16125.96,191.97571428571428,2303.7085714285713,0,16125.96,16125.96,0]
[202945,351,"95 Gallon Yardwaste Container",2018,8,0,"S/L",7,2025,2025.6666666666667,17450.98,17450.98,207.74976190476193,2492.997142857143,2492.997142857143,11010.737380952003,13503.734523809146,3947.2454761908539]
["2188-20-0017",null,"95 Gallon Yardwaste Container",2020,6,0,"S/L",7,2027,2027.5,10143.74,10143.74,120.75880952380952,1449.1057142857142,1449.1057142857142,3743.5230952379852,5192.6288095236996,4951.1111904763002]
[234955,250,"95 Gallon Yardwaste Containers",2020,6,0,"S/L",7,2027,2027.5,10143.74,10143.74,120.75880952380952,1449.1057142857142,1449.1057142857142,3743.5230952379852,5192.6288095236996,4951.1111904763002]
[237478,117,"95gal YDW Totes",2020,8,0,"S/L",7,2027,2027.6666666666667,5005.53,5005.53,59.589642857142856,715.0757142857143,715.0757142857143,1728.0996428570343,2443.1753571427485,2562.3546428572513]
[]
[null,null,"Total Yard Waste",null,null,null,null,null,null,null,{"$f":"SUM(K273:K281)","v":88536.53},{"$f":"SUM(L273:L281)","v":88536.53},1054.0063095238097,12648.075714285713,6106.2842857142859,66018.423214285009,72124.707499999291,16411.822500000704,"Updated Useful Lives to FAR"]
[]
[null,null,"GRAND TOTAL",null,null,null,null,null,null,null,{"$f":"SUM(K268,K232,K282,K215,K143)","v":3793985.0699999994},{"$f":"SUM(L268,L232,L282,L215,L143)","v":3793985.0699999994},38971.904597940396,467662.85517528467,164656.95065147511,2998043.5631982093,3175391.4545639721,618593.61543602776]
[]
[]
[]
[]
["2020 Transfers/Retirements"]
[200589,41,"30 Yd Containers",2008,11,0,"S/L",7,{"$f":"D290+H290","v":2015},{"$f":"+I290+(E290/12)","v":2015.9166666666667},5746.56,{"$f":"K290-K290*F290","v":5746.56},{"$f":"L290/H290/12","v":68.411428571428573},{"$f":"+M290*12","v":820.93714285714282},{"$f":"+IF(J290<=$L$5,0,IF(I290>$L$4,N290,(M290*E290)))","v":820.93714285714282},{"$f":"+IF(O290=0,(K290-(K290-L290)),IF($L$3-D290<1,0,(($L$3-D290)*N290)))","v":0},{"$f":"+IF(O290=0,P290,P290+O290)","v":820.93714285714282},{"$f":"+K290-Q290","v":4925.6228571428574},"xfered to 2183"]
[]
[]
[]
[]
["2022 Transfers/Retirements"]
[200576,88,"20 Yd Containers",2008,11,0,"S/L",7,{"$f":"D296+H296","v":2015},{"$f":"+I296+(E296/12)","v":2015.9166666666667},12334.08,{"$f":"K296-K296*F296","v":12334.08},{"$f":"L296/H296/12","v":146.8342857142857},{"$f":"+M296*12","v":1762.0114285714285},{"$f":"+IF(J296<=$L$5,0,IF(I296>$L$4,N296,(M296*E296)))","v":1762.0114285714285},{"$f":"+IF(O296=0,(K296-(K296-L296)),IF($L$3-D296<1,0,(($L$3-D296)*N296)))","v":0},{"$f":"+IF(O296=0,P296,P296+O296)","v":1762.0114285714285},{"$f":"+K296-Q296","v":10572.068571428572}]
[200576,589,"1 Yd Containers",2008,11,0,"S/L",7,2015,2015.9166666666667,28272,28272,336.57142857142856,4038.8571428571427,4038.8571428571427,0,4038.8571428571427,24233.142857142859]
[200595,81,"40 Yd Containers",2008,11,0,"S/L",7,2015,2015.9166666666667,11352.96,11352.96,135.15428571428569,1621.8514285714282,1621.8514285714282,0,1621.8514285714282,9731.1085714285709]
[237689,15,"20 yard boxes",2006,12,0,"S/L",12,2018,2019,74908.800000000003,74908.800000000003,520.20000000000005,6242.4000000000005,6242.4000000000005,0,6242.4000000000005,68666.400000000009]
[237689,15,"20 yard boxes",2006,12,0,"S/L",12,2018,2019,74908.800000000003,74908.800000000003,520.20000000000005,6242.4000000000005,6242.4000000000005,0,6242.4000000000005,68666.400000000009]
[240303,41,"6 Yard Commercial Containers",2008,11,0,"S/L",7,2015,2015.9166666666667,564.19000000000005,564.19000000000005,6.7165476190476197,80.598571428571432,80.598571428571432,0,80.598571428571432,483.59142857142865]
[200590,4,"1.5 Yd Containers",2008,11,0,"S/L",7,2015,2015.9166666666667,{"$f":"192-S302","v":144},144,1.7142857142857144,20.571428571428573,20.571428571428573,0,20.571428571428573,123.42857142857143,{"$f":"192/4","v":48},"Removed 1"]
[237938,7,"3 Yard Commercial Containers",2008,11,0,"S/L",12,2020,2020.9166666666667,1295,1295,8.9930555555555554,107.91666666666666,107.91666666666666,0,107.91666666666666,1187.0833333333333]
[]
[]
["2023 Transfers/Retirements"]
[237937,42,"2 Yard REL Containers",2001,7,0,"S/L",6,{"$f":"D307+H307","v":2007},{"$f":"+I307+(E307/12)","v":2007.5833333333333},2668.58,{"$f":"K307-K307*F307","v":2668.58},{"$f":"L307/H307/12","v":37.063611111111108},{"$f":"+M307*12","v":444.76333333333332},{"$f":"+IF(J307<=$N$6,0,N307)","v":0},{"$f":"+IF($J307<=$N$7,$L307,IF(($D307+($E307/12))>=$N$7,0,((($L307-((($J307-$N$7)*12)*$M307))))))","v":2668.58},{"$f":"+IF(O307=0,P307,P307+O307)","v":2668.58},{"$f":"+K307-Q307","v":0}]
[221165,51,"1.5 Yd Metal Containers",2008,12,0,"S/L",12,{"$f":"D308+H308","v":2020},{"$f":"+I308+(E308/12)","v":2021},5992.43,{"$f":"K308-K308*F308","v":5992.43},41.61409722222222,499.36916666666662,0,5992.43,5992.43,0]
[null,"10, 10","1.5 YD & 2YD CONTAINERS",1997,8,0,"S/L","10",{"$f":"D309+H309","v":2007},{"$f":"+I309+(E309/12)","v":2007.6666666666667},6428.12,{"$f":"K309-K309*F309","v":6428.12},53.567666666666668,642.81200000000001,0,6428.12,6428.12,0]
[null,600,"FEL & REL CONTAINERS",1999,6,0,"S/L","10",2009,2009.5,36000,36000,300,3600,0,36000,36000,0]
[null,3,"1.5 YD SELF DUMP HOPPER",1999,10,0,"S/L","10",2009,2009.8333333333333,1066.6099999999999,1066.6099999999999,8.8884166666666662,106.661,0,1066.6099999999999,1066.6099999999999,0]
[null,34,"1.5 YD CONTAINER",2000,4,0,"S/L","10",2010,2010.3333333333333,10860,10860,90.5,1086,0,10860,10860,0]
[null,6,"1.5 YD F/L CONTAINERS",2000,5,0,"S/L","10",2010,2010.4166666666667,2041.68,2041.68,17.013999999999999,204.16800000000001,0,2041.68,2041.68,0]
[null,8,"5 YD F/L CONTAINERS",2001,2,0,"S/L","10",2011,2011.1666666666667,3312.3,3312.3,27.602500000000003,331.23,0,3312.3,3312.3,0]
[null,12,"1.5 YD F/L CONTAINERS",2001,3,0,"S/L","10",2011,2011.25,3692.4,3692.4,30.77,369.24,0,3692.4,3692.4,0]
[null,19,"1.5 YD F/L CONTAINERS",2001,7,0,"S/L","10",2011,2011.5833333333333,5956.8,5956.8,49.640000000000008,595.68000000000006,0,5956.8,5956.8,0]
[null,5,"2 YD R/L CONTAINERS W/ LIDS",2001,8,0,"S/L","10",2011,2011.6666666666667,1820.99,1820.99,15.174916666666666,182.09899999999999,0,1820.99,1820.99,0]
[null,9,"1 YD FL/RL COMBO COMMERCIAL CONTAINERS",2003,6,0,"S/L","10",2013,2013.5,3393.41,3393.41,28.278416666666669,339.34100000000001,0,3393.41,3393.41,0]
[null,4,"1.5 YD COMBO COMMERCIAL CONTAINERS",2003,6,0,"S/L","10",2013,2013.5,1601.24,1601.24,13.343666666666666,160.124,0,1601.24,1601.24,0]
[null,9,"2 YD FL/RL COMBO COMMERCIAL CONTAINERS",2003,6,0,"S/L","10",2013,2013.5,3874.69,3874.69,32.28908333333333,387.46899999999994,0,3874.69,3874.69,0]
[null,34,"1.5 YD CONTAINER",2003,11,0,"S/L","10",2013,2013.9166666666667,10820,10820,90.166666666666671,1082,0,10820,10820,0]
[null,0,"TAX - AUTOMATED CONTAINERS",2003,12,0,"S/L","10",2013,2014,39.130000000000003,39.130000000000003,0.32608333333333334,3.9130000000000003,0,39.130000000000003,39.130000000000003,0]
[null,5,"1 YD RL CONTAINERS",2004,3,0,"S/L","10",2014,2014.25,1701.66,1701.66,14.1805,170.166,0,1701.66,1701.66,0]
[null,4,"1.5 YD RL CONTAINERS",2004,3,0,"S/L","10",2014,2014.25,1443.18,1443.18,12.0265,144.31800000000001,0,1443.18,1443.18,0]
[null,5,"2 YD R/L CONTAINERS",2004,3,0,"S/L","10",2014,2014.25,1922.45,1922.45,16.020416666666666,192.245,0,1922.45,1922.45,0]
[null,7,"2 YD FRONT/REAR LOAD CONTAINER",2005,9,0,"S/L","10",2015,2015.75,3164,3164,26.366666666666664,316.39999999999998,0,3164,3164,0]
[null,6,"5 YD F/L CONTAINERS",2006,5,0,"S/L","10",2016,2016.4166666666667,2562.2399999999998,2562.2399999999998,21.352,256.22399999999999,0,2562.2399999999998,2562.2399999999998,0]
[null,20,"1.5 YD F/L CONTAINERS",2006,7,0,"S/L","10",2016,2016.5833333333333,6201.6,6201.6,51.680000000000007,620.16000000000008,0,6201.6,6201.6,0]
[null,35,"4 YD F/L CONTAINERS",2006,11,0,"S/L","10",2016,2016.9166666666667,14187.52,14187.52,118.22933333333333,1418.752,0,14187.52,14187.52,0]
[null,46,"1 YD R/L CONTAINER",2007,1,0,"S/L","10",2017,2017.0833333333333,13221.38,13221.38,110.17816666666666,1322.1379999999999,0,13221.38,13221.38,0]
[null,26,"2 YD R/L CONTAINERS",2007,2,0,"S/L","10",2017,2017.1666666666667,8671.92,8671.92,72.266000000000005,867.19200000000001,0,8671.92,8671.92,0]
[null,19,"3 YD F/L CONTAINERS",2007,3,0,"S/L","10",2017,2017.25,7159.04,7159.04,59.658666666666669,715.904,0,7159.04,7159.04,0]
[null,32,"2 YD F/L CONTAINERS",2007,4,0,"S/L","10",2017,2017.3333333333333,10998.9,10998.9,91.657499999999985,1099.8899999999999,0,10998.9,10998.9,0]
[null,19,"4 YD AND 6 YD F/L CONTAINERS",2007,4,0,"S/L","10",2017,2017.3333333333333,7670.4,7670.4,63.919999999999995,767.04,0,7670.4,7670.4,0]
[null,52,"6 YD F/L CONTAINERS",2007,4,0,"S/L","10",2017,2017.3333333333333,23500.799999999999,23500.799999999999,195.84,2350.08,0,23500.799999999999,23500.799999999999,0]
[null,25,"1.5 YD F/L CONTAINERS",2007,5,0,"S/L","10",2017,2017.4166666666667,7759.13,7759.13,64.659416666666672,775.91300000000001,0,7759.13,7759.13,0]
[null,26,"2 YD R/L CONTAINERS",2007,5,0,"S/L","10",2017,2017.4166666666667,8739.9,8739.9,72.832499999999996,873.99,0,8739.9,8739.9,0]
[null,43,"4 YD TIPPER CONTAINERS",2007,5,0,"S/L","10",2017,2017.4166666666667,17516.8,17516.8,145.97333333333333,1751.6799999999998,0,17516.8,17516.8,0]
[null,43,"1 YD F/L CONTAINERS",2007,6,0,"S/L","10",2017,2017.5,12115.12,12115.12,{"$f":"L339/H339/12","v":100.95933333333335},{"$f":"+M339*12","v":1211.5120000000002},{"$f":"+IF(J339<=$N$6,0,N339)","v":0},{"$f":"+IF($J339<=$N$7,$L339,IF(($D339+($E339/12))>=$N$7,0,((($L339-((($J339-$N$7)*12)*$M339))))))","v":12115.12},{"$f":"+IF(O339=0,P339,P339+O339)","v":12115.12},{"$f":"+K339-Q339","v":0}]
[null,26,"1 YD R/L CONTAINER",2007,6,0,"S/L","10",2017,2017.5,7361.64,7361.64,61.347000000000001,736.16399999999999,0,7361.64,7361.64,0]
[null,19,"2 YD F/L CONTAINERS",2007,6,0,"S/L","10",{"$f":"D341+H341","v":2017},{"$f":"+I341+(E341/12)","v":2017.5},6573.2,{"$f":"K341-K341*F341","v":6573.2},54.776666666666664,657.31999999999994,0,6573.2,6573.2,0]
[null,39,"2 YD R/L CONTAINERS",2007,6,0,"S/L","10",2017,2017.5,13372.92,13372.92,111.44099999999999,1337.2919999999999,0,13372.92,13372.92,0]
[null,33,"2 YD R/L CONTAINERS",2007,6,0,"S/L","10",2017,2017.5,11194.92,11194.92,93.290999999999997,1119.492,0,11194.92,11194.92,0]
[null,21,"2 YD R/L CONTAINERS",2007,6,0,"S/L","10",2017,2017.5,6989.2,6989.2,58.243333333333332,698.92,0,6989.2,6989.2,0]
[null,17,"3 YD F/L CONTAINERS",2007,6,0,"S/L","10",2017,2017.5,6501.33,6501.33,54.177750000000003,650.13300000000004,0,6501.33,6501.33,0]
[null,19,"4 YD F/L CONTAINERS",2007,6,0,"S/L","10",2017,2017.5,7628.45,7628.45,63.570416666666667,762.84500000000003,0,7628.45,7628.45,0]
[null,9,"6 YD F/L CONTAINERS",2007,6,0,"S/L","10",2017,2017.5,3876.84,3876.84,32.307000000000002,387.68400000000003,0,3876.84,3876.84,0]
[null,30,"1.5 YD F/L CONTAINERS",2007,6,0,"S/L","10",2017,2017.5,9589.74,9589.74,79.91449999999999,958.97399999999993,0,9589.74,9589.74,0]
[null,96,"1 YD R/L CONTAINER",2007,7,0,"S/L","10",2017,2017.5833333333333,27255.58,27255.58,227.12983333333332,2725.558,0,27255.58,27255.58,0]
[null,4,"1.5 YD F/L CONTAINERS",2007,7,0,"S/L","10",2017,2017.5833333333333,1115.1400000000001,1115.1400000000001,9.2928333333333342,111.51400000000001,0,1115.1400000000001,1115.1400000000001,0]
[null,2,"6 YD F/L CONTAINERS",2007,7,0,"S/L","10",2017,2017.5833333333333,1040,1040,8.6666666666666661,104,0,1040,1040,0]
[null,22,"1 YD R/L CONTAINER",2007,8,0,"S/L","10",2017,2017.6666666666667,6370.42,6370.42,53.086833333333338,637.04200000000003,0,6370.42,6370.42,0]
[null,8,"1 YD R/L CONTAINER",2007,8,0,"S/L","10",2017,2017.6666666666667,2388.91,2388.91,19.907583333333331,238.89099999999996,0,2388.91,2388.91,0]
[null,5,"3 YD F/L CONTAINERS",2007,10,0,"S/L","10",2017,2017.8333333333333,1883.97,1883.97,15.69975,188.39699999999999,0,1883.97,1883.97,0]
[null,534,"65 GALLON CART ASSY",1999,3,0,"S/L",7,{"$f":"D355+H355","v":2006},2006.25,23883.55,23883.55,284.32797619047619,3411.9357142857143,0,23883.55,23883.55,0]
[null,534,"65 GALLON CART ASSY",1999,3,0,"S/L",7,2006,2006.25,23883.55,23883.55,284.32797619047619,3411.9357142857143,0,23883.55,23883.55,0]
[null,534,"65 GALLON CART ASSY",1999,3,0,"S/L",7,2006,2006.25,24663.17,24663.17,293.60916666666668,3523.3100000000004,0,24663.17,24663.17,0]
[null,534,"65 GALLON CART ASSY",1999,3,0,"S/L",7,2006,2006.25,23883.55,23883.55,284.32797619047619,3411.9357142857143,0,23883.55,23883.55,0]
[null,534,"65 GALLON CART ASSY",1999,3,0,"S/L",7,2006,2006.25,23468.91,23468.91,279.39178571428573,3352.7014285714286,0,23468.91,23468.91,0]
[null,534,"65 GALLON CART ASSY",1999,3,0,"S/L",7,2006,2006.25,24663.17,24663.17,293.60916666666668,3523.3100000000004,0,24663.17,24663.17,0]
[null,534,"65 GALLON CART ASSY",1999,4,0,"S/L",7,2006,2006.3333333333333,24663.17,24663.17,293.60916666666668,3523.3100000000004,0,24663.17,24663.17,0]
[null,534,"65 GALLON CART ASSY",1999,5,0,"S/L",7,2006,2006.4166666666667,24663.17,24663.17,293.60916666666668,3523.3100000000004,0,24663.17,24663.17,0]
[null,478,"68 GALLON GREEN CARTS",2001,1,0,"S/L",7,2008,2008.0833333333333,22484.74,22484.74,267.67547619047622,3212.1057142857144,0,22484.74,22484.74,0]
[null,958,"68 GALLON GREEN CARTS",2001,2,0,"S/L",7,2008,2008.1666666666667,45046.09,45046.09,536.26297619047614,6435.1557142857137,0,45046.09,45046.09,0]
[null,479,"68 GALLON GREEN CARTS",2001,2,0,"S/L",7,2008,2008.1666666666667,22523.05,22523.05,268.13154761904758,3217.5785714285712,0,22523.05,22523.05,0]
[null,476,"68 GALLON GREEN CARTS",2001,3,0,"S/L",7,2008,2008.25,22369.83,22369.83,266.3075,3195.69,0,22369.83,22369.83,0]
[null,476,"68 GALLON GREEN CARTS",2001,3,0,"S/L",7,2008,2008.25,22369.83,22369.83,266.3075,3195.69,0,22369.83,22369.83,0]
[null,464,"68 GALLON GREEN CARTS",2001,3,0,"S/L",7,2008,2008.25,21810.58,21810.58,259.64976190476193,3115.7971428571432,0,21810.58,21810.58,0]
[null,464,"68 GALLON GREEN CARTS",2001,3,0,"S/L",7,2008,2008.25,21810.58,21810.58,259.64976190476193,3115.7971428571432,0,21810.58,21810.58,0]
[null,464,"68 GALLON GREEN CARTS",2001,3,0,"S/L",7,2008,2008.25,21810.58,21810.58,259.64976190476193,3115.7971428571432,0,21810.58,21810.58,0]
[null,486,"68 GALLON BLUE CARTS",2001,5,0,"S/L",7,2008,2008.4166666666667,22993.74,22993.74,{"$f":"L371/H371/12","v":273.73500000000001},{"$f":"+M371*12","v":3284.82},{"$f":"+IF(J371<=$N$6,0,N371)","v":0},{"$f":"+IF($J371<=$N$7,$L371,IF(($D371+($E371/12))>=$N$7,0,((($L371-((($J371-$N$7)*12)*$M371))))))","v":22993.74},{"$f":"+IF(O371=0,P371,P371+O371)","v":22993.74},{"$f":"+K371-Q371","v":0}]
[null,526,"68 GALLON GRAY CARTS [AB]",2001,12,0,"S/L",7,2008,2009,24709.57,24709.57,294.16154761904761,3529.9385714285713,0,24709.57,24709.57,0]
[null,1050,"65 GALLON GREEN CARTS",2002,2,0,"S/L",7,2009,2009.1666666666667,49371.839999999997,49371.839999999997,587.76,7053.12,0,49371.839999999997,49371.839999999997,0]
[null,523,"65 GALLON GREEN CARTS",2002,2,0,"S/L",7,2009,2009.1666666666667,24600.21,24600.21,292.85964285714283,3514.315714285714,0,24600.21,24600.21,0]
[null,292,"65 GALLON GREEN CARTS",2002,2,0,"S/L",7,2009,2009.1666666666667,13714.4,13714.4,163.26666666666668,1959.2000000000003,0,13714.4,13714.4,0]
[null,180,"64 GALLON TOTERS",2004,2,0,"S/L",7,{"$f":"D376+H376","v":2011},2011.1666666666667,7190.19,7190.19,85.597499999999982,1027.1699999999998,0,7190.19,7190.19,0]
[null,486,"68 GALLON BLUE CARTS",2002,3,0,"S/L",7,2009,2009.25,22837.32,22837.32,271.87285714285713,3262.4742857142855,0,22837.32,22837.32,0]
[null,528,"68 GALLON GRAY CARTS",2003,1,0,"S/L",7,2010,2010.0833333333333,24810.240000000002,24810.240000000002,295.36,3544.32,0,24810.240000000002,24810.240000000002,0]
[null,529,"68 GALLON GRAY CARTS",2003,4,0,"S/L",7,2010,2010.3333333333333,24879.23,24879.23,296.18130952380949,3554.1757142857141,0,24879.23,24879.23,0]
[null,529,"68 GALLON GRAY CARTS",2003,4,0,"S/L",7,2010,2010.3333333333333,24879.23,24879.23,296.18130952380949,3554.1757142857141,0,24879.23,24879.23,0]
[null,3,"30 YD STRUCT STYLE DROP BOX",1999,9,0,"S/L","10",{"$f":"D381+H381","v":2009},{"$f":"+I381+(E381/12)","v":2009.75},15312.6,{"$f":"K381-K381*F381","v":15312.6},127.605,1531.26,0,15312.6,15312.6,0]
[null,2,"40 YD DROP BOX",1999,10,0,"S/L","10",2009,2009.8333333333333,9220.14,9220.14,76.834499999999991,922.0139999999999,0,9220.14,9220.14,0]
[null,3,"20 YD DROP BOX",2000,8,0,"S/L","10",2010,2010.6666666666667,10669.95,10669.95,88.916250000000005,1066.9950000000001,0,10669.95,10669.95,0]
[null,2,"30 YD DROP BOX",2000,8,0,"S/L","10",2010,2010.6666666666667,7884.36,7884.36,65.702999999999989,788.43599999999992,0,7884.36,7884.36,0]
[null,1,"40 YD DROP BOX",2001,4,0,"S/L","10",2011,2011.3333333333333,4610.07,4610.07,38.417249999999996,461.00699999999995,0,4610.07,4610.07,0]
[null,2,"30 YD DROP BOX",2001,6,0,"S/L","10",2011,2011.5,7898.88,7898.88,65.823999999999998,789.88799999999992,0,7898.88,7898.88,0]
[null,3,"30 YD DROP BOX",2001,8,0,"S/L","10",2011,2011.6666666666667,15797.76,15797.76,131.648,1579.7759999999998,0,15797.76,15797.76,0]
[null,5,"30 YD DROP BOX",2004,10,0,"S/L","10",2014,2014.8333333333333,22369.279999999999,22369.279999999999,186.41066666666666,2236.9279999999999,0,22369.279999999999,22369.279999999999,0]
[null,2,"30 YD DROP BOX",2005,9,0,"S/L","10",2015,2015.75,9598.34,9598.34,79.986166666666676,959.83400000000006,0,9598.34,9598.34,0]
[null,4,"40 YD DROP BOX",2006,8,0,"S/L","10",2016,2016.6666666666667,19848.39,19848.39,165.40324999999999,1984.8389999999999,0,19848.39,19848.39,0]
[null,4,"20 YD DROP BOX",2007,2,0,"S/L","10",2017,2017.1666666666667,14990.55,14990.55,124.92124999999999,1499.0549999999998,0,14990.55,14990.55,0]
[null,7,"30 YD DROP BOX",2007,2,0,"S/L","10",2017,2017.1666666666667,35649.4,35649.4,297.07833333333332,3564.9399999999996,0,35649.4,35649.4,0]
[null,8,"20 YD DROP BOX",2007,3,0,"S/L","10",2017,2017.25,35300.160000000003,35300.160000000003,294.16800000000006,3530.0160000000005,0,35300.160000000003,35300.160000000003,0]
[null,5,"30 YD DROP BOX",2007,3,0,"S/L","10",2017,2017.25,23788.12,23788.12,198.23433333333332,2378.8119999999999,0,23788.12,23788.12,0]
[null,2,"40 YD DROP BOX",2007,3,0,"S/L","10",2017,2017.25,13232.25,13232.25,110.26875,1323.2249999999999,0,13232.25,13232.25,0]
[null,2,"40 YD DROP BOX",2007,3,0,"S/L","10",2017,2017.25,13232.25,13232.25,110.26875,1323.2249999999999,0,13232.25,13232.25,0]
[null,11,"20 YD DROP BOX",2007,4,0,"S/L","10",2017,2017.3333333333333,46355.45,46355.45,386.29541666666665,4635.5450000000001,0,46355.45,46355.45,0]
[null,3,"20 YD DROP BOX",2007,5,0,"S/L","10",2017,2017.4166666666667,14032.4,14032.4,116.93666666666667,1403.24,0,14032.4,14032.4,0]
[null,5,"40 YD DROP BOX",2007,5,0,"S/L","10",2017,2017.4166666666667,26869.98,26869.98,223.91650000000001,2686.998,0,26869.98,26869.98,0]
[null,10,"20 YD DROP BOX",2007,6,0,"S/L","10",2017,2017.5,41991.839999999997,41991.839999999997,349.93199999999996,4199.1839999999993,0,41991.839999999997,41991.839999999997,0]
[null,2,"20 YD DROP BOX",2007,6,0,"S/L","10",2017,2017.5,9122.19,9122.19,76.018250000000009,912.21900000000005,0,9122.19,9122.19,0]
[null,2,"20 YD DROP BOX",2007,6,0,"S/L","10",2017,2017.5,8336.2999999999993,8336.2999999999993,69.469166666666652,833.62999999999988,0,8336.2999999999993,8336.2999999999993,0]
[null,4,"20 YD DROP BOXES W/LIDS",2007,6,0,"S/L","10",2017,2017.5,15986.52,15986.52,{"$f":"L403/H403/12","v":133.221},{"$f":"+M403*12","v":1598.652},{"$f":"+IF(J403<=$N$6,0,N403)","v":0},{"$f":"+IF($J403<=$N$7,$L403,IF(($D403+($E403/12))>=$N$7,0,((($L403-((($J403-$N$7)*12)*$M403))))))","v":15986.52},{"$f":"+IF(O403=0,P403,P403+O403)","v":15986.52},{"$f":"+K403-Q403","v":0}]
[null,4,"30 YD DROP BOX",2007,7,0,"S/L","10",2017,2017.5833333333333,18788.52,18788.52,156.571,1878.8519999999999,0,18788.52,18788.52,0]
[null,3,"30 YD DROP BOX",2007,7,0,"S/L","10",2017,2017.5833333333333,12569.24,12569.24,104.74366666666667,1256.924,0,12569.24,12569.24,0]
[null,3,"40 YD DROP BOX",2007,7,0,"S/L","10",2017,2017.5833333333333,14157,14157,117.97500000000001,1415.7,0,14157,14157,0]
[null,3,"40 YD DROP BOX",2007,7,0,"S/L","10",2017,2017.5833333333333,13857.53,13857.53,115.47941666666668,1385.7530000000002,0,13857.53,13857.53,0]
[null,2,"40 YD DROP BOX",2007,7,0,"S/L","10",2017,2017.5833333333333,11499.84,11499.84,95.831999999999994,1149.9839999999999,0,11499.84,11499.84,0]
[null,1,"40 YD DROP BOX",2007,7,0,"S/L","10",2017,2017.5833333333333,7024.05,7024.05,58.533749999999998,702.40499999999997,0,7024.05,7024.05,0]
[null,1,"40 YD DROP BOX",2007,7,0,"S/L","10",2017,2017.5833333333333,7976.93,7976.93,66.47441666666667,797.69299999999998,0,7976.93,7976.93,0]
[null,10,"30 YD DROP BOX",2007,7,0,"S/L","10",2017,2017.5833333333333,49144.4,49144.4,409.53666666666669,4914.4400000000005,0,49144.4,49144.4,0]
[null,10,"40 YD DROP BOX",2007,7,0,"S/L","10",2017,2017.5833333333333,54885.599999999999,54885.599999999999,457.37999999999994,5488.5599999999995,0,54885.599999999999,54885.599999999999,0]
[null,3,"30 YD DROP BOX",2007,8,0,"S/L","10",{"$f":"D413+H413","v":2017},{"$f":"+I413+(E413/12)","v":2017.6666666666667},12444.01,{"$f":"K413-K413*F413","v":12444.01},103.70008333333334,1244.4010000000001,0,12444.01,12444.01,0]
[null,0,"50 YD DROP BOX",2007,8,0,"S/L","10",2017,2017.6666666666667,15137.1,15137.1,126.1425,1513.71,0,15137.1,15137.1,0]
[null,10,"40 YD DROP BOX",2007,10,0,"S/L","10",2017,2017.8333333333333,54885.599999999999,54885.599999999999,457.37999999999994,5488.5599999999995,0,54885.599999999999,54885.599999999999,0]
[null,10,"20 YD DROP BOX",2007,11,0,"S/L","10",2017,2017.9166666666667,41991.839999999997,41991.839999999997,349.93199999999996,4199.1839999999993,0,41991.839999999997,41991.839999999997,0]
[null,10,"30 YD DROP BOX",2007,12,0,"S/L","10",2017,2018,49144.4,49144.4,409.53666666666669,4914.4400000000005,0,49144.4,49144.4,0]
[null,3,"30 YD DROP BOX",2008,1,0,"S/L","10",2018,2018.0833333333333,12444.01,12444.01,103.70008333333334,1244.4010000000001,0,12444.01,12444.01,0]
[null,3,"30 YD DROP BOX",2008,1,0,"S/L","10",2018,2018.0833333333333,15589.04,15589.04,129.90866666666668,1558.904,0,15589.04,15589.04,0]
[null,5,"40 YD DROP BOX",2008,1,0,"S/L","10",2018,2018.0833333333333,27965.52,27965.52,233.04600000000002,2796.5520000000001,0,27965.52,27965.52,0]
[null,3,"40 YD DROP BOX",2008,1,0,"S/L","10",2018,2018.0833333333333,16966.62,16966.62,141.38849999999999,1696.6619999999998,0,16966.62,16966.62,0]
[null,3,"20 YD DROP BOX",2008,1,0,"S/L","10",2018,2018.0833333333333,10606.86,10606.86,88.390500000000017,1060.6860000000001,0,10606.86,10606.86,0]
[null,8,"20 YD DROP BOX",2008,2,0,"S/L","10",2018,2018.1666666666667,32038.38,32038.38,266.98650000000004,3203.8380000000006,0,32038.38,32038.38,0]
[null,6,"40 YD DROP BOX",2008,4,0,"S/L",10,2018,2018.3333333333333,30461.14,30461.14,253.84283333333335,3046.114,0,30461.14,30461.14,0]
[null,3,"20 YD DROP BOX",2008,4,0,"S/L",10,2018,2018.3333333333333,11635.75,11635.75,96.964583333333337,1163.575,0,11635.75,11635.75,0]
[null,8,"20 YD DROP BOX",2008,5,0,"S/L",10,2018,2018.4166666666667,34197.83,34197.83,284.98191666666668,3419.7830000000004,0,34197.83,34197.83,0]
[null,0,"EXTRA FREIGHT ON 20 YD BOXES",2008,8,0,"S/L",10,2018,2018.6666666666667,1348.75,1348.75,11.239583333333334,134.875,0,1348.75,1348.75,0]
[237688,1,"20 yard boxes",2006,10,0,"S/L",12,2018,2018.8333333333333,4927.2,4927.2,34.216666666666661,410.59999999999991,0,4927.2,4927.2,0]
[237690,2,"20 yard boxes",2006,11,0,"S/L",12,2018,2018.9166666666667,9987.84,9987.84,69.36,832.31999999999994,0,9987.84,9987.84,0]
[237691,2,"20 yard boxes",2006,11,0,"S/L",12,2018,2018.9166666666667,9987.84,9987.84,69.36,832.31999999999994,0,9987.84,9987.84,0]
[237692,2,"20 yard boxes",2006,11,0,"S/L",12,2018,2018.9166666666667,9987.84,9987.84,69.36,832.31999999999994,0,9987.84,9987.84,0]
[237693,2,"20 yard boxes",2006,11,0,"S/L",12,2018,2018.9166666666667,9987.84,9987.84,69.36,832.31999999999994,0,9987.84,9987.84,0]
[237697,1,"24 Yard R/O Container",2008,11,0,"S/L",7,2015,2015.9166666666667,12700,12700,151.19047619047618,1814.2857142857142,0,12700,12700,0]
[237939,1,"20 Yard R/O Containers",2008,11,0,"S/L",7,2015,2015.9166666666667,1300,1300,15.476190476190476,185.71428571428572,0,1300,1300,0]
[null,529,"68 GALLON GRAY CARTS",2003,1,0,"S/L",7,2010,2010.0833333333333,24879.23,24879.23,{"$f":"L435/H435/12","v":296.18130952380949},{"$f":"+M435*12","v":3554.1757142857141},{"$f":"+IF(J435<=$N$6,0,N435)","v":0},{"$f":"+IF($J435<=$N$7,$L435,IF(($D435+($E435/12))>=$N$7,0,((($L435-((($J435-$N$7)*12)*$M435))))))","v":24879.23},{"$f":"+IF(O435=0,P435,P435+O435)","v":24879.23},{"$f":"+K435-Q435","v":0}]
[null,533,"68 GALLON GRAY CARTS",2003,12,0,"S/L",7,2010,2011,25060.85,25060.85,298.34345238095233,3580.1214285714277,0,25060.85,25060.85,0]
[null,250,"95 GALLON GREY CARTS",2005,7,0,"S/L",7,2012,2012.5833333333333,12001.71,12001.71,142.8775,1714.53,0,12001.71,12001.71,0]
[null,305,"95 GALLON  BLUE CARTS",2008,1,0,"S/L",7,2015,2015.0833333333333,14633.03,14633.03,174.20273809523812,2090.4328571428573,0,14633.03,14633.03,0]
[null,486,"95 GALLON CARTS - FORREST GREEN",2009,8,0,"S/L",7,2016,2016.6666666666667,24190.29,24190.29,287.97964285714289,3455.7557142857149,0,24190.29,24190.29,0]
[null,486,"95 GALLON CARTS - FORREST GREEN",2009,8,0,"S/L",7,2016,2016.6666666666667,24190.29,24190.29,287.97964285714289,3455.7557142857149,0,24190.29,24190.29,0]
[null,486,"95 GALLON CARTS - FORREST GREEN",2009,8,0,"S/L",7,2016,2016.6666666666667,24190.29,24190.29,287.97964285714289,3455.7557142857149,0,24190.29,24190.29,0]
[null,486,"95 GALLON CARTS - FORREST GREEN",2009,8,0,"S/L",7,2016,2016.6666666666667,24190.29,24190.29,287.97964285714289,3455.7557142857149,0,24190.29,24190.29,0]
[null,280,"95 GALLON CARTS - FORREST GREEN",2009,8,0,"S/L",7,2016,2016.6666666666667,13936.79,13936.79,165.91416666666666,1990.9699999999998,0,13936.79,13936.79,0]
[null,186,"95 GALLON CARTS - FORREST GREEN",2009,8,0,"S/L",7,2016,2016.6666666666667,9258,9258,110.21428571428572,1322.5714285714287,0,9258,9258,0]

{"sheet":"OTHER EQUIP 2188","index":6,"n_rows":198,"n_cols":20,"rows_kept":198,"cut":false,"hidden":false,"merged":[[2,0,2,3],[0,0,0,3]]}
["2188 Lewis County/Joe's Refuse "]
["Depreciation Schedule",null,null,null,null,null,null,null,null,null,null,null,null,1,"Test Period Beg. Month"]
[{"$f":"'Summary 2188'!A3","v":"2023-12-31"},null,null,null,null,null,null,null,null,null,null,null,null,12,"Test Period End Month"]
[null,null,null,null,null,null,null,null,null,null,null,null,null,2023,"First Year"]
[null,null,null,null,null,null,null,null,null,null,null,null,null,2023,"Second year"]
[null,null,null,null,null,null,null,null,null,null,null,null,null,{"$f":"+N5+(N3/12)","v":2024},"Test Period End Mo/Yr"]
[null,null,null,null,null,null,null,null,null,null,null,{"$f":"SUM(L80)","v":11256.05},null,{"$f":"+N4+(N2/12)","v":2023.0833333333333},"Test Period Beg. Mo/Yr"]
[null,null,null,null,null,null,null,null,null,null,null,null,null,null,null,null,"Beginning ","Ending"]
[null," ",null,null,"Date in",null,"Salvage"," ",null,"Year",null," "," ",null,null,null,"Accum.","Accum.","Average"]
[null,null,null,null,"Service ",null,"Value","Method","Life ","Fully ","Year/Mo","Asset","Depr","Monthly ","Annual","Test yr.","Depr.","Depr.","Investment"]
["FAR #","Codes/Parent","Truck No.","Asset Classification","Year","Mo","%","M","Years","Depr","Fully Depr","Cost","Cost","Depr","Depr","Depn.",{"$f":"+'Summary 2188'!F7","v":"2023-01-01"},{"$f":"+A3","v":"2023-12-31"},{"$f":"R11","v":"2023-12-31"}]
[null,null,null,"BUILDING STRUCTURES"]
[]
[null,null,null,"BUILDINGS",1965,6,0,"S/L","40",{"$f":"E14+I14","v":2005},{"$f":"+J14+(F14/12)","v":2005.5},13330,{"$f":"L14-L14*G14","v":13330},{"$f":"M14/I14/12","v":27.770833333333332},{"$f":"+N14*12","v":333.25},{"$f":"+IF(K14<=$N$6,0,O14)","v":0},{"$f":"+IF(K14<=$N$7,M14,IF((E14+(F14/12))>=$N$7,0,((M14-((K14-$N$7)*12)*N14))))","v":13330},{"$f":"+IF(K14<=$N$6,L14,IF(P14=0,Q14,Q14+P14))","v":13330},{"$f":"+L14-R14","v":0}]
[null,null,null,"INSTALL WINDOW RECYCLE CENTER",1998,12,0,"S/L","39",2037,2038,2744.9,{"$f":"L15-L15*G15","v":2744.9},{"$f":"M15/I15/12","v":5.8651709401709402},{"$f":"+N15*12","v":70.382051282051279},{"$f":"+IF(K15<=$N$6,0,O15)","v":70.382051282051279},{"$f":"+IF(K15<=$N$7,M15,IF((E15+(F15/12))>=$N$7,0,((M15-((K15-$N$7)*12)*N15))))","v":1695.0344017093964},{"$f":"+IF(K15<=$N$6,L15,IF(P15=0,Q15,Q15+P15))","v":1765.4164529914476},{"$f":"+L15-R15","v":979.48354700855248}]
[null,null,null,"INSTALL CONCRETE @ RECYCLE CENTER",1998,11,0,"S/L","39",2037,2037.9166666666667,4877.1099999999997,4877.1099999999997,10.421175213675212,125.05410256410255,125.05410256410255,3022.1408119657926,3147.194914529895,1729.9150854701047]
[null,null,null,"RECYCLE CENTER IMPROVEMENTS",1998,10,0,"S/L","39",2037,2037.8333333333333,843.28,843.28,1.8018803418803417,21.622564102564102,21.622564102564102,524.34717948717946,545.96974358974353,297.31025641025644]
[null,null,null,"RECYCLE CENTER'S ELECTRICAL IMPROVEMENT",1998,9,0,"S/L","39",2037,2037.75,10462.370000000001,10462.370000000001,22.355491452991455,268.26589743589744,268.26589743589744,6527.8035042734846,6796.069401709382,3666.3005982906188]
[null,null,null,"CENTRALIA RECYCLE UTILTIY",1998,4,0,"S/L","39",2037,2037.3333333333333,61451.43,61451.43,131.30647435897436,1575.6776923076923,1575.6776923076923,38998.022884615384,40573.700576923075,20877.729423076926]
[null,null,null,"CENTRALIA RECYCLE CENTER OVERHEAD DOOR",1999,3,0,"S/L","39",2038,2038.25,4941,4941,10.557692307692308,126.69230769230771,126.69230769230771,3019.49999999999,3146.1923076922976,1794.8076923077024]
[null,null,null,"BUILDING MODIFICATIONS",2000,4,0,"S/L","39",2039,2039.3333333333333,64424.54,64424.54,137.6592735042735,1651.9112820512819,1651.9112820512819,37580.981666666667,39232.892948717948,25191.647051282052]
[null,null,null,"CENTRALIA RECYCLE CENTER",2000,3,0,"S/L","39",2039,2039.25,33957.760000000002,33957.760000000002,72.559316239316246,870.71179487179495,870.71179487179495,19881.252649572583,20751.964444444377,13205.795555555625]
[null,null,null,"CONCRETE AT RECYCLE CENTER [CENTRALIA]",2001,5,0,"S/L","15",2016,2016.4166666666667,9290.74,9290.74,51.615222222222222,619.38266666666664,0,9290.74,9290.74,0]
[null,null,null,"1713 N. PEARL - BUILDINGS",2002,4,0,"S/L","39",2041,2041.3333333333333,431022.56,431022.56,920.98837606837606,11051.860512820513,11051.860512820513,229326.10564102564,240377.96615384615,190644.59384615385]
["88676",null,null,"REMODEL CENTRALIA OFFICE",2011,12,0,"S/L",10,2021,2022,{"$f":"12117.6+1371.6+6058.8+2019.6","v":21567.599999999999},21567.599999999999,179.73,2156.7599999999998,0,{"$f":"+IF(K25<=$N$7,M25,IF((E25+(F25/12))>=$N$7,0,((M25-((K25-$N$7)*12)*N25))))","v":21567.599999999999},{"$f":"+IF(K25<=$N$6,L25,IF(P25=0,Q25,Q25+P25))","v":21567.599999999999},0]
[null,null,null,""]
[null,null,null,"TOTAL BUILDING STRUCTURES",null,null,null,null,null,null,null,{"$f":"SUM(L14:L26)","v":658913.28999999992},{"$f":"SUM(M14:M26)","v":658913.28999999992},1572.6309059829059,18871.570871794869,15762.178205128204,384763.5287393161,400525.70694444427,258387.5830555557,"Updated Useful Lives to FAR"]
[null,null,null,""]
[null,null,null,""]
[null,null,null,"LEASEHOLD IMPROVEMENTS"]
[null,null,null,""]
[null,null,null,"CENTRALIA RECY. CTR CON. PAD",1991,10,0,"S/L","07",{"$f":"E32+I32","v":1998},{"$f":"+J32+(F32/12)","v":1998.8333333333333},9054,{"$f":"L32-L32*G32","v":9054},{"$f":"M32/I32/12","v":107.78571428571428},{"$f":"+N32*12","v":1293.4285714285713},{"$f":"+IF(K32<=$N$6,0,O32)","v":0},{"$f":"+IF(K32<=$N$7,M32,IF((E32+(F32/12))>=$N$7,0,((M32-((K32-$N$7)*12)*N32))))","v":9054},{"$f":"+IF(K32<=$N$6,L32,IF(P32=0,Q32,Q32+P32))","v":9054},{"$f":"+L32-R32","v":0}]
[null,null,null,"CENTRALIA DUMP STATION",1992,2,0,"S/L","32",2024,{"$f":"+J33+(F33/12)","v":2024.1666666666667},3752,{"$f":"L33-L33*G33","v":3752},{"$f":"M33/I33/12","v":9.7708333333333339},117.25,117.25,3624.9791666666488,3742.2291666666488,{"$f":"+L33-R33","v":9.7708333333512201}]
[null,null,null,"SLAB/PIT COVER FOR CENTRALIA BALER",1995,12,0,"S/L","20",2015,2016,8885,8885,37.020833333333336,444.25,0,8885,8885,0]
[null,null,null,"CHAIN LINK FENCE",1998,4,0,"S/L","15",2013,2013.3333333333333,4398.3599999999997,4398.3599999999997,24.435333333333332,293.22399999999999,0,4398.3599999999997,4398.3599999999997,0]
[null,null,null,"GRADE & ROCK RELOAD - CENTRALIA",1998,4,0,"S/L","20",2018,2018.3333333333333,19377.419999999998,19377.419999999998,80.739249999999984,968.87099999999987,0,19377.419999999998,19377.419999999998,0]
[null,null,null,"122 HALLIDY RD [LAND]",2000,6,0,"S/L","39",2039,2039.5,32450,32450,69.337606837606842,832.0512820512821,832.0512820512821,18790.491452991388,19622.542735042669,12827.457264957331]
[null,null,null,"122 HALLIDAY ROAD [BUILDING]",2000,6,0,"S/L","39",2039,2039.5,92550,92550,197.75641025641025,2373.0769230769229,2373.0769230769229,53591.987179486998,55965.06410256392,36584.93589743608]
[null,null,null,"FENCE - CENTRALIA OFFICE",2002,4,0,"S/L","15",2017,2017.3333333333333,9594.2000000000007,9594.2000000000007,53.301111111111112,639.61333333333334,0,9594.2000000000007,9594.2000000000007,0]
[null,null,null,"PAVING AT CENTRALIA RECYCLE CENTER",2004,7,0,"S/L","15",2019,2019.5833333333333,4833,4833,26.849999999999998,322.2,0,4833,4833,0]
[null,null,null,"PAVING AT CENTRALIA SHOP",2004,6,0,"S/L","15",2019,2019.5,1312.2,1312.2,7.29,87.48,0,1312.2,1312.2,0]
[null,null,null,"PAVING AT CENTRALIA RECYCLE CENTER",2005,9,0,"S/L","15",2020,2020.75,3223.22,3223.22,17.906777777777776,214.88133333333332,0,3223.22,3223.22,0]
[null,null,null,"ACCOUNTING OFFICE",2006,4,0,"S/L","39",2045,2045.3333333333333,166855.57999999999,166855.57999999999,356.52901709401704,4278.3482051282044,4278.3482051282044,71662.332435897435,75940.680641025639,90914.899358974348]
[null,null,null,"WATER UTILITIES -- 122 HALLIDAY ROAD",2006,4,0,"S/L","15",2021,2021.3333333333333,21613.67,21613.67,120.07594444444443,1440.9113333333332,0,21613.67,21613.67,0]
[null,null,null,"DRAINAGE IMPROVEMENTS -- CENT. OFFICE",2007,8,0,"S/L","15",2022,2022.6666666666667,3943.76,3943.76,21.90977777777778,262.91733333333337,0,3943.76,3943.76,0]
[71149,null,null,"Paving Centralia Parking Lot - Stormwater Improvements",2009,12,0,"S/L","15",2024,2025,{"$f":"10920.23+2158+591301.18+41.14+35019.1+2087.87+59.9+1904.99","v":643492.41},643492.41,3574.9578333333334,42899.493999999999,42899.493999999999,561268.37983333017,604167.87383333012,39324.536166669917]
["73292",null,null,"ADDITIONAL STORMWATER IMPROVEMENTS",2010,1,0,"S/L",10,2020,2020.0833333333333,10681.88,10681.88,89.015666666666661,1068.1879999999999,0,10681.88,10681.88,0]
["98288",null,null,"CONSTRUCT SIDEWALKS",2012,10,0,"S/L",10,2022,2022.8333333333333,32439.96,32439.96,270.33300000000003,3243.9960000000001,0,32439.96,32439.96,0]
[230534,null,null,"HV/AC System",2020,3,0,"S/L",10,2030,2030.25,34245.300000000003,34245.300000000003,285.3775,3424.5299999999997,3424.5299999999997,9702.8349999997445,13127.364999999743,21117.93500000026]
[null,null,null,""]
[null,null,null,"TOTAL LEASEHOLD IMPROVEMENTS",null,null,null,null,null,null,null,{"$f":"SUM(L32:L50)","v":1102701.9600000002},{"$f":"SUM(M32:M50)","v":1102701.9600000002},5350.3926095848583,64204.711315018314,53924.750410256405,847997.67506837228,901922.42547862872,200779.53452137127,"Updated Useful Lives to FAR"]
[null,null,null,""]
[null,null,null,""]
[null,null,null,"SHOP & GARAGE"]
[null,null,null,""]
[null,null,null,"CENTRALIA SCALE",1999,8,0,"S/L",5,{"$f":"E56+I56","v":2004},2004.6666666666667,8367.73,{"$f":"L56-L56*G56","v":8367.73},{"$f":"M56/I56/12","v":139.46216666666666},{"$f":"+N56*12","v":1673.5459999999998},{"$f":"+IF(K56<=$N$6,0,O56)","v":0},{"$f":"+IF(K56<=$N$7,M56,IF((E56+(F56/12))>=$N$7,0,((M56-((K56-$N$7)*12)*N56))))","v":8367.73},{"$f":"+IF(K56<=$N$6,L56,IF(P56=0,Q56,Q56+P56))","v":8367.73},{"$f":"+L56-R56","v":0}]
[null,null,null,"TRUCK WASH SYSTEM -- CENTRALIA",2002,6,0,"S/L","10",2012,2012.5,24394.05,{"$f":"L57-L57*G57","v":24394.05},{"$f":"M57/I57/12","v":203.28374999999997},2439.4049999999997,0,24394.05,24394.05,{"$f":"+L57-R57","v":0}]
[null,null,null,"DIAGNOSTIC COMPUTER-CENTRALIA",2004,5,0,"S/L",5,2009,2009.4166666666667,2174.9,2174.9,36.248333333333335,434.98,0,2174.9,2174.9,0]
[null,null,null,"MILLER BIG BLUE 400 AMP WELDER",2005,7,0,"S/L",5,2010,2010.5833333333333,3237,3237,53.949999999999996,647.4,0,3237,3237,0]
[null,null,null,"WASTE OIL HEATER",2007,5,0,"S/L",5,2012,2012.4166666666667,7439.71,7439.71,123.99516666666666,1487.942,0,7439.71,7439.71,0]
[null,null,9223,"'01 FORD UTILITY TRUCK",2008,5,0,"S/L",5,2013,2013.4166666666667,{"$f":"+'OTHER EQUIP 2188 - Original'!O61","v":3621.35},3621.35,60.355833333333329,724.27,0,3621.35,3621.35,0]
[null,61418,7029,"2002 Type M Forklift",2008,11,0,"S/L",3,2011,2011.9166666666667,4500,{"$f":"L62-L62*G62","v":4500},125,1500,0,4500,4500,0,"Added from 2189 per district"]
[null,67697,null,"1997 Type S Forklift",2008,11,0,"S/L",3,2011,2011.9166666666667,2500,{"$f":"L63-L63*G63","v":2500},69.444444444444443,833.33333333333326,0,2500,2500,0,"Added from 2189 per district"]
[null,null,9223,"Truck #9223 Amort of Salvage",2019,6,0,"S/L",6,{"$f":"E64+I64","v":2025},{"$f":"+J64+(F64/12)","v":2025.5},{"$f":"+'OTHER EQUIP 2188 - Original'!M61-'OTHER EQUIP 2188'!L61","v":1783.65},{"$f":"L64-L64*G64","v":1783.65},24.772916666666671,297.27500000000003,297.27500000000003,1065.2354166666441,1362.5104166666442,421.13958333335586]
[null,null,7011,"1972 Type S Forklift - Shop",2008,11,0.33,"S/L",5,{"$f":"E65+I65","v":2013},2013.9166666666667,0,0,0,0,0,0,0,0]
[null,null,null,"TOOLS FOR CENTRALIA SHOP",2009,9,0,"S/L",5,2014,2014.75,5898.89,5898.89,98.31483333333334,1179.778,0,5898.89,5898.89,0]
[null,null,null,"PR WHEEL JACKS WITH MP-5/10",2009,12,0,"S/L",5,2014,2015,7569.08,7569.08,126.15133333333334,1513.816,0,7569.08,7569.08,0]
[null,null,null,"SHOP JACKS",2009,1,0,"S/L",4.916666666666667,2013.9166666666667,2014,2847,2847,48.254237288135592,579.05084745762713,0,2847,2847,0]
["97914",null,null,"Shop Laptop",2011,1,0,"S/L",2.11,2013.11,2013.1933333333332,1636.98,1636.98,64.651658767772517,775.8199052132702,0,1636.98,1636.98,0]
["97913",null,null,"Shop Laptop w/ Maintenance Programs",2011,1,0,"S/L",2.11,2013.11,2013.1933333333332,3587,3587,141.66666666666666,1700,0,3587,3587,0]
["88801",null,null,"CONTAINER CLEANING SYSTEM",2011,11,0,"S/L",5,2016,2016.9166666666667,3050.46,3050.46,50.841000000000001,610.09199999999998,0,3050.46,3050.46,0]
["88673",null,null,"PRESSURE WASHER",2011,12,0,"S/L",5,2016,2017,9437.07,9437.07,157.28450000000001,1887.4140000000002,0,9437.07,9437.07,0]
["95094",null,null,"RTA EQUIPMENT",2012,4,0,"S/L",3,2015,2015.3333333333333,1045.9000000000001,1045.9000000000001,29.052777777777781,348.63333333333338,0,1045.9000000000001,1045.9000000000001,0]
["110151",null,null,"MILLER MATIC WELDER",2013,12,0,"S/L",5,2018,2019,2428.92,2428.92,40.481999999999999,485.78399999999999,0,2428.92,2428.92,0]
["111682",null,7038,"2008 Genie TH5519 Reach Forklift (U)",2014,2,0,"S/L",4,2018,2018.1666666666667,37350,37350,778.125,9337.5,0,37350,37350,0]
[218453,null,null,"Shop Diagnostic Laptop",2019,5,0,"S/L",3,2022,2022.4166666666667,338.68,338.68,9.4077777777777776,112.89333333333333,0,338.68,338.68,0]
[216402,null,null,"Shop Diagnostic Laptop - Detroit DDL Software",2019,5,0,"S/L",3,2022,{"$f":"+J77+(F77/12)","v":2022.4166666666667},2563.37,{"$f":"L77-L77*G77","v":2563.37},71.204722222222216,854.45666666666659,0,2563.37,2563.37,0]
[214376,null,null,"Panasonic Toughbook 54 Lite Shop Diagnostic Laptop",2019,5,0,"S/L",3,2022,{"$f":"+J78+(F78/12)","v":2022.4166666666667},1547.86,{"$f":"L78-L78*G78","v":1547.86},42.996111111111105,515.95333333333326,0,1547.86,1547.86,0]
[210514,null,null,"HP Probook 650 G4",2019,1,0,"S/L",3,2022,{"$f":"+J79+(F79/12)","v":2022.0833333333333},1670.96,{"$f":"L79-L79*G79","v":1670.96},46.415555555555557,556.98666666666668,0,1670.96,1670.96,0]
[222255,null,null,"Clean Burn Shop Heater",2019,10,0,"S/L",5,2024,{"$f":"+J80+(F80/12)","v":2024.8333333333333},11256.05,{"$f":"L80-L80*G80","v":11256.05},187.60083333333333,2251.21,2251.21,7316.432499999999,9567.6424999999981,1688.4075000000012]
[null,null,null,""]
[null,null,null,"TOTAL SHOP & GARAGE",null,null,null,null,null,null,null,{"$f":"SUM(L56:L81)","v":150246.60999999996},{"$f":"SUM(M56:M81)","v":150246.60999999996},2728.9616182781306,32747.539419337565,2548.4850000000001,145588.5779166666,148137.06291666656,2109.547083333357]
[]
[]
[null,null,null,"SERVICE EQUIPMENT"]
[]
["126850",null,6054,"2002 Ford F150 Pickup Truck",2007,1,0,"S/L",5,{"$f":"E87+I87","v":2012},{"$f":"+J87+(F87/12)","v":2012.0833333333333},{"$f":"+'OTHER EQUIP 2188 - Original'!O82","v":11725},{"$f":"L87-L87*G87","v":11725},{"$f":"M87/I87/12","v":195.41666666666666},{"$f":"+N87*12","v":2345},{"$f":"+IF(K87<=$N$6,0,O87)","v":0},{"$f":"+IF(K87<=$N$7,M87,IF((E87+(F87/12))>=$N$7,0,((M87-((K87-$N$7)*12)*N87))))","v":11725},{"$f":"+IF(K87<=$N$6,L87,IF(P87=0,Q87,Q87+P87))","v":11725},{"$f":"+L87-R87","v":0}]
[null,null,6054,"Truck #6054 Amort of Salvage",2019,6,0,"S/L",6,{"$f":"E88+I88","v":2025},2025.5,{"$f":"+'OTHER EQUIP 2188 - Original'!M82-'OTHER EQUIP 2188'!L87","v":5775},5775,{"$f":"M88/I88/12","v":80.208333333333329},962.5,962.5,3448.9583333332607,4411.4583333332612,{"$f":"+L88-R88","v":1363.5416666667388}]
["126851",null,6054,"Sales tax and licensing (asset 126851)",2007,4,0,"S/L",5,{"$f":"E89+I89","v":2012},2012.3333333333333,{"$f":"+'OTHER EQUIP 2188 - Original'!O83","v":1066.9749999999999},1066.9749999999999,17.782916666666665,213.39499999999998,0,1066.9749999999999,1066.9749999999999,0]
[null,null,6054,"Truck #6054 Amort of Salvage",2019,6,0,"S/L",6,{"$f":"E90+I90","v":2025},2025.5,{"$f":"+'OTHER EQUIP 2188 - Original'!M83-'OTHER EQUIP 2188'!L89","v":525.52500000000009},525.52500000000009,7.298958333333335,87.58750000000002,87.58750000000002,313.85520833332674,401.44270833332678,124.08229166667331]
[213243,null,6037,"2006 Type S Pick Up Cart",2008,11,0,"S/L",3,{"$f":"E91+I91","v":2011},2011.9166666666667,12500,12500,347.22222222222223,4166.666666666667,0,12500,12500,0]
["128431",null,7968,"JLG 1932RS Scissor Lift Forklift",2015,12,0,"S/L",9,2024,2025,{"$f":"+'OTHER EQUIP 2188 - Original'!O84","v":9417.6},9417.6,87.2,1046.4000000000001,1046.4000000000001,7411.9999999999209,8458.3999999999214,959.20000000007894]
["128431",null,7968,"JLG 1932RS Scissor Lift Forklift Amort of Salvage",2022,9,0,"S/L",6,{"$f":"E93+I93","v":2028},2028.75,{"$f":"+'OTHER EQUIP 2188 - Original'!M84-L92","v":2354.3999999999996},2354.3999999999996,{"$f":"M93/I93/12","v":32.699999999999996},{"$f":"+N93*12","v":392.4},{"$f":"+IF(K93<=$N$6,0,O93)","v":392.4},{"$f":"+IF(K93<=$N$7,M93,IF((E93+(F93/12))>=$N$7,0,((M93-((K93-$N$7)*12)*N93))))","v":130.79999999997017},{"$f":"+IF(K93<=$N$6,L93,IF(P93=0,Q93,Q93+P93))","v":523.19999999997015},{"$f":"+L93-R93","v":1831.2000000000294}]
[212515,null,6061,"New Ford F150 Supervisor Truck",2019,4,0,"S/L",5,2024,2024.3333333333333,23642.44,23642.44,394.0406666666666,4728.4879999999994,4728.4879999999994,17731.830000000002,22460.317999999999,1182.1219999999994]
["215660/216678",212515,6061,"New Ford F150 Sup Truck - Radio & License",2019,6,0,"S/L",3,2022,2022.5,{"$f":"681.66+2188.51","v":2870.17},2870.17,79.726944444444442,956.72333333333336,0,2870.17,2870.17,0]
[239569,null,null,"(64) DriveCam SF300 Event Recorders",2020,9,0,"S/L",5,2025,2025.75,52119.42,52119.42,868.65700000000004,10423.884,10423.884,24322.395999999208,34746.279999999206,17373.140000000792]
[]
[null,null,null,"TOTAL SERVICE EQUIPMENT",null,null,null,null,null,null,null,{"$f":"SUM(L87:L97)","v":121996.53},{"$f":"SUM(M87:M97)","v":121996.53},2110.2537083333332,25323.0445,17641.2595,81521.98454166569,99163.24404166569,22833.285958334312]
[]
[null,null,null,""]
[null,null,null,"OFFICE FURNITURE & FIXTURES"]
[null,null,null,""]
[null,null,null,"DELL DIMENSION [CENTRALIA]",2001,4,0,"S/L",5,{"$f":"E103+I103","v":2006},{"$f":"+J103+(F103/12)","v":2006.3333333333333},2322.0300000000002,{"$f":"L103-L103*G103","v":2322.0300000000002},{"$f":"M103/I103/12","v":38.700500000000005},{"$f":"+N103*12","v":464.40600000000006},{"$f":"+IF(K103<=$N$6,0,O103)","v":0},{"$f":"+IF(K103<=$N$7,M103,IF((E103+(F103/12))>=$N$7,0,((M103-((K103-$N$7)*12)*N103))))","v":2322.0300000000002},{"$f":"+IF(K103<=$N$6,L103,IF(P103=0,Q103,Q103+P103))","v":2322.0300000000002},{"$f":"+L103-R103","v":0}]
[null,null,null,"COMPUTER FOR CENTRALIA",2002,9,0,"S/L",5,2007,2007.75,2230.4,{"$f":"L104-L104*G104","v":2230.4},{"$f":"M104/I104/12","v":37.173333333333339},446.08000000000004,0,2230.4,2230.4,{"$f":"+L104-R104","v":0}]
[null,null,null,"HP VECTRA VL400 - CENT. COMPUTER",2002,4,0,"S/L",5,2007,2007.3333333333333,1502.68,1502.68,25.044666666666668,300.536,0,1502.68,1502.68,0]
[null,null,null,"FURNITURE - NEW CENTRALIA OFFICE",2002,4,0,"S/L",5,2007,2007.3333333333333,2442.29,2442.29,40.704833333333333,488.45799999999997,0,2442.29,2442.29,0]
[null,null,null,"AIR CONDITIONER - CENT. OFFICE",2003,7,0,"S/L",5,2008,2008.5833333333333,5713.4,5713.4,95.223333333333315,1142.6799999999998,0,5713.4,5713.4,0]
[null,null,null,"SIGNAGE FOR CENTRALIA OFFICE",2003,1,0,"S/L",5,2008,2008.0833333333333,5996.78,5996.78,99.946333333333328,1199.356,0,5996.78,5996.78,0]
[null,null,null,"HP LASERJET 9050",2005,8,0,"S/L",5,2010,2010.6666666666667,3923.91,3923.91,65.398499999999999,784.78199999999993,0,3923.91,3923.91,0]
[null,null,null,"CENTRALIA PHONE SYSTEM",2006,6,0,"S/L",5,2011,2011.5,14165.28,14165.28,236.08799999999999,2833.056,0,14165.28,14165.28,0]
[null,null,null,"ALARM SYSTEM -- CENTRALIA",2007,8,0,"S/L",5,2012,2012.6666666666667,2960.24,2960.24,49.337333333333333,592.048,0,2960.24,2960.24,0]
[null,null,null,"FIREPROOF SAFE - HR",2008,6,0,"S/L",5,2013,2013.5,1391.55,1391.55,23.192499999999999,278.31,0,1391.55,1391.55,0]
[null,null,null,"ROUTEWARE SERVER",2008,4,0,"S/L",5,2013,2013.3333333333333,19788.07,19788.07,329.80116666666669,3957.6140000000005,0,19788.07,19788.07,0]
["79491",null,null,"PHONE SYSTEM - CENTRALIA",2010,12,0,"S/L",5,2015,2016,{"$f":"4531.45+3236.76+5178.81+409.13+357.98+2472.3","v":16186.43},16186.43,269.77383333333336,3237.2860000000001,0,16186.43,16186.43,0]
["90479",null,null,"Sony Internet TV",2012,1,0,"S/L",5,2017,2017.0833333333333,557.73,557.73,9.2955000000000005,111.54600000000001,0,557.73,557.73,0]
["109578, 111060",null,null,"Office Furniture",2013,12,0,"S/L",10,2023,2024,{"$f":"4639.68+13986","v":18625.68},18625.68,155.214,1862.568,0,16918.325999999859,18625.68,0]
["121105",null,null,"6 Winterms",2015,3,0,"S/L",3,2018,2018.25,1967.27,1967.27,54.646388888888886,655.75666666666666,0,1967.27,1967.27,0]
["133014",null,null,"Phone Recorder Unit",2016,5,0,"S/L",5,2021,2021.4166666666667,1077.29,1077.29,17.954833333333333,215.458,0,1077.29,1077.29,0]
["167964",null,null,"Hansen Cash Call Recording System",2016,5,0,"S/L",5,2021,2021.4166666666667,7346.78,7346.78,122.44633333333333,1469.356,0,7346.78,7346.78,0]
["169284",null,null,"HP ProBook 640 Laptop",2016,10,0,"S/L",3,2019,2019.8333333333333,1092.99,1092.99,30.360833333333332,364.33,0,1092.99,1092.99,0]
["182213",null,null,"HP ProBook 650 G2 -15.6\"",2017,4,0,"S/L",3,2020,2020.3333333333333,1293.3800000000001,1293.3800000000001,35.927222222222227,431.12666666666672,0,1293.3800000000001,1293.3800000000001,0]
["174546",null,null,"HP ProBook 650 G2",2017,1,0,"S/L",3,2020,2020.0833333333333,1275.8599999999999,1275.8599999999999,35.440555555555555,425.28666666666663,0,1275.8599999999999,1275.8599999999999,0]
[240727,null,null,"HP SB Probook 600 Serial #MXL03932DY",2020,10,0,"S/L",3,2023,2023.8333333333333,952.89,952.89,26.469166666666666,317.63,0,714.66750000000002,952.89,0]
[null,null,null,""]
[null,null,null,"TOTAL OFFICE FURNITURE & FIXTURES",null,null,null,null,null,null,null,{"$f":"SUM(L103:L124)","v":112812.93000000001},{"$f":"SUM(M103:M124)","v":112812.93000000001},1798.1391666666668,21577.670000000006,0,110867.35349999985,112812.93000000001,0,"Updated Useful Lives to FAR"]
[null,null,null,""]
[null,null,null,""]
[null,null,null,"SOFTWARE AND COMPUTER UPGRADES FOR OFFICE"]
[null,null,null,""]
[null,null,null,"MVBASE LICENSES",2008,8,0,"S/L",5,{"$f":"E130+I130","v":2013},2013.6666666666667,7289.06,{"$f":"L130-L130*G130","v":7289.06},{"$f":"M130/I130/12","v":121.48433333333334},{"$f":"+N130*12","v":1457.8120000000001},{"$f":"+IF(K130<=$N$6,0,O130)","v":0},{"$f":"+IF(K130<=$N$7,M130,IF((E130+(F130/12))>=$N$7,0,((M130-((K130-$N$7)*12)*N130))))","v":7289.06},{"$f":"+IF(K130<=$N$6,L130,IF(P130=0,Q130,Q130+P130))","v":7289.06},{"$f":"+L130-R130","v":0}]
[null,null,null,"NETWORK LICENSES",2008,8,0,"S/L",5,2013,2013.6666666666667,2795.18,{"$f":"L131-L131*G131","v":2795.18},{"$f":"M131/I131/12","v":46.586333333333329},559.03599999999994,0,2795.18,2795.18,{"$f":"+L131-R131","v":0}]
[null,null,null,"DIAGNOSTIC SOFTWARE",2008,5,0,"S/L",5,2013,2013.4166666666667,1689.5,1689.5,28.158333333333331,337.9,0,1689.5,1689.5,0]
["75189",null,null,"RM LICENSES & 10 USERS CENTRALIA",2010,6,0,"S/L",3,2013,2013.5,11150,11150,309.72222222222223,3716.666666666667,0,11150,11150,0]
["85510",null,null,"HP PROBOOK 6450B & DOCKING STN",2011,7,0,"S/L",3,2014,2014.5833333333333,978.9,978.9,27.191666666666666,326.3,0,978.9,978.9,0]
["113273",null,null,"Wyse Winterms D10D",2014,4,0,"S/L",5,2019,2019.3333333333333,651.76,651.76,10.862666666666668,130.352,0,651.76,651.76,0]
["118603",null,null,"Volvo Diagnostic Software",2014,12,0,"S/L",3,2017,2018,798,798,22.166666666666668,266,0,798,798,0]
["117629",null,null,"Diagnostic Software for International Trucks",2014,11,0,"S/L",3,2017,2017.9166666666667,861.84,861.84,23.94,287.28000000000003,0,861.84,861.84,0]
["117342",null,null,"Panasonic Toughbook",2014,11,0,"S/L",2,2016,2016.9166666666667,2051.8200000000002,2051.8200000000002,85.492500000000007,1025.9100000000001,0,2051.8200000000002,2051.8200000000002,0]
["116613",null,null,"Panasonic Toughbook",2014,9,0,"S/L",2,2016,2016.75,1711,1711,71.291666666666671,855.5,0,1711,1711,0]
["116111",null,null,"HP Prodesk 600 G1",2014,9,0,"S/L",3,2017,2017.75,739.01,739.01,20.528055555555557,246.3366666666667,0,739.01,739.01,0]
["116110",null,null,"HP Prodesk 600 G1",2014,9,0,"S/L",3,2017,2017.75,731.58,731.58,20.321666666666669,243.86,0,731.58,731.58,0]
["124988",null,null,"HP Prodesk 600 G1",2015,8,0,"S/L",3,2018,2018.6666666666667,710.05,710.05,19.723611111111108,236.68333333333328,0,710.05,710.05,0]
["127549",null,null,"HP Probook 640 G1 ",2015,11,0,"S/L",3,2018,2018.9166666666667,1120.06,1120.06,31.112777777777776,373.3533333333333,0,1120.06,1120.06,0]
[]
[null,null,null,"TOTAL SOFTWARE AND COMPUTER UPGRADES FOR OFFICE",null,null,null,null,null,null,null,{"$f":"SUM(L130:L144)","v":33277.759999999995},{"$f":"SUM(M130:M144)","v":33277.759999999995},838.5825000000001,10062.99,0,33277.759999999995,33277.759999999995,0,"Updated Useful Lives to FAR"]
[]
[null,null,null,"RECYCLING BALER"]
[]
["95401",null,null,"Portable Loading Ramp",2012,7,0,"d",5,{"$f":"E149+I149","v":2017},{"$f":"+J149+(F149/12)","v":2017.5833333333333},8532.31,{"$f":"L149-L149*G149","v":8532.31},{"$f":"M149/I149/12","v":142.20516666666666},{"$f":"+N149*12","v":1706.462},{"$f":"+IF(K149<=$N$6,0,O149)","v":0},{"$f":"+IF(K149<=$N$7,M149,IF((E149+(F149/12))>=$N$7,0,((M149-((K149-$N$7)*12)*N149))))","v":8532.31},{"$f":"+IF(K149<=$N$6,L149,IF(P149=0,Q149,Q149+P149))","v":8532.31},{"$f":"+L149-R149","v":0}]
[]
[null,null,null,"TOTAL RECYCLING BALER",null,null,null,null,null,null,null,{"$f":"SUM(L149:L150)","v":8532.31},{"$f":"SUM(M149:M150)","v":8532.31},142.20516666666666,1706.462,0,8532.31,8532.31,0,"Updated Useful Lives to FAR"]
[]
[null,null,null,"GRAND TOTAL",null,null,null,null,null,null,null,{"$f":"SUM(L145,L125,L82,L51,L27,L98,L151)","v":2188481.39},2188481.39,14541.16567551256,174493.98810615073,89876.673115384605,1612549.1897660207,1704371.4393814052,484109.95061859465]
[]
[]
[]
[]
[]
[]
[]
[]
[]
[]
[]
[null,null,null,"Transferred/Retired 2015"]
["81716",6001,null,"1986 GMC PICK-UP - PARTS TRUCK (U)",2009,1,0.33,"S/L",5,{"$f":"E166+I166","v":2014},null,2500,{"$f":"L166-L166*G166","v":1675},{"$f":"M166/I166/12","v":27.916666666666668}]
[]
[null,null,null,"Transferred/Retired 2016"]
[125247,6037,null,"2006 Chevy Colorado Supervisor Pick-UP (U)",2008,11,0.33,"S/L",5,{"$f":"E169+I169","v":2013},null,12500,{"$f":"L169-L169*G169","v":8375},{"$f":"M169/I169/12","v":139.58333333333334}]
[]
[null,null,null,"Transferred/Retired 2019"]
["96248",null,null,"Rebuild Horizontal Baler",2012,5,0,"S/L",3,{"$f":"E172+I172","v":2015},{"$f":"+J172+(F172/12)","v":2015.4166666666667},10765.73,{"$f":"L172-L172*G172","v":10765.73},{"$f":"M172/I172/12","v":299.04805555555555},{"$f":"+N172*12","v":3588.5766666666668},{"$f":"+IF(K172<=$M$5,0,IF(J172>$M$4,O172,(N172*F172)))","v":3588.5766666666668},{"$f":"+IF(P172=0,L172,IF($M$3-E172<1,0,(($M$3-E172)*O172)))","v":0},{"$f":"+IF(P172=0,Q172,Q172+P172)","v":3588.5766666666668},{"$f":"+L172-R172","v":7177.1533333333327}]
[]
[null,null,null,"Transferred/Retired 2020"]
[null,6203,null,"1983 Type S Pick Up Car",2008,11,0,"S/L",5,{"$f":"E175+I175","v":2013},{"$f":"+J175+(F175/12)","v":2013.9166666666667},{"$f":"+'OTHER EQUIP 2188 - Original'!O80","v":0},{"$f":"L175-L175*G175","v":0},{"$f":"M175/I175/12","v":0},{"$f":"+N175*12","v":0},{"$f":"+IF(K175<=$M$5,0,IF(J175>$M$4,O175,(N175*F175)))","v":0},{"$f":"+IF(P175=0,(L175-(L175-M175)),IF($M$3-E175<1,0,(($M$3-E175)*O175)))","v":0},{"$f":"+IF(P175=0,Q175,Q175+P175)","v":0},{"$f":"+L175-R175","v":0}]
[null,6203,null,"Truck #9203 Amort of Salvage",2019,6,0,"S/L",{"$f":"+IF(J175-$M$3>=3,J175-$M$3,3)","v":2013},{"$f":"E176+I176","v":4032},{"$f":"+J176+(F176/12)","v":4032.5},{"$f":"+'OTHER EQUIP 2188 - Original'!M80-'OTHER EQUIP 2188'!L175","v":0},{"$f":"L176-L176*G176","v":0},{"$f":"M176/I176/12","v":0},{"$f":"+N176*12","v":0},{"$f":"+IF(K176<=$N$5,0,IF(J176>$N$4,O176,(N176*F176)))","v":0},{"$f":"+IF(P176=0,(L176-(L176-M176)),IF($M$3-E176<1,0,(($M$3-E176)*O176)))","v":0},{"$f":"+IF(P176=0,L176,IF($N$3-E176<1,0,(($N$3-E176)*O176)))","v":0},{"$f":"+IF(P176=0,R176,R176+P176)","v":0},{"$f":"+L176-S176","v":0}]
[]
[]
[]
[]
[null,null,null,"ASSETS BELOW WERE DELETED IN 2011 PER CLEAN UP DONE BY DISTRICT."]
[null,null,null,"SLC CARD & MODEMS",1997,3,0,"S/L",5,{"$f":"E182+I182","v":2002},null,1181,{"$f":"L182-L182*G182","v":1181},{"$f":"M182/I182/12","v":19.683333333333334},{"$f":"IF(#REF!>0,0,IF(OR(#REF!>#REF!,#REF!<#REF!),0,IF(AND(#REF!>=#REF!,#REF!<=#REF!),N182*((#REF!-#REF!)*12),IF(AND(#REF!<=#REF!,#REF!>=#REF!),((#REF!-#REF!)*12)*N182,IF(#REF!>#REF!,12*N182,0)))))","v":{"$error":"#REF!"}},{"$f":"IF(#REF!>0,#REF!,O182)","v":{"$error":"#REF!"}},{"$f":"#REF!*#REF!","v":{"$error":"#REF!"}},{"$f":"IF(#REF!>0,0,Q182+#REF!*#REF!)*#REF!","v":{"$error":"#REF!"}},{"$f":"IF(#REF!>0,(L182-Q182)/2,IF(#REF!>=#REF!,(((L182*#REF!)*#REF!)-R182)/2,((((L182*#REF!)*#REF!)-Q182)+(((L182*#REF!)*#REF!)-R182))/2))","v":{"$error":"#REF!"}}]
[null,null,null,"CENTRALIA PHONE SYSTEM",2000,5,0,"S/L",5,{"$f":"E183+I183","v":2005},null,7881.34,{"$f":"L183-L183*G183","v":7881.34},{"$f":"M183/I183/12","v":131.35566666666668},{"$f":"IF(#REF!>0,0,IF(OR(#REF!>#REF!,#REF!<#REF!),0,IF(AND(#REF!>=#REF!,#REF!<=#REF!),N183*((#REF!-#REF!)*12),IF(AND(#REF!<=#REF!,#REF!>=#REF!),((#REF!-#REF!)*12)*N183,IF(#REF!>#REF!,12*N183,0)))))","v":{"$error":"#REF!"}},{"$f":"IF(#REF!>0,#REF!,O183)","v":{"$error":"#REF!"}},{"$f":"#REF!*#REF!","v":{"$error":"#REF!"}},{"$f":"IF(#REF!>0,0,Q183+#REF!*#REF!)*#REF!","v":{"$error":"#REF!"}},{"$f":"IF(#REF!>0,(L183-Q183)/2,IF(#REF!>=#REF!,(((L183*#REF!)*#REF!)-R183)/2,((((L183*#REF!)*#REF!)-Q183)+(((L183*#REF!)*#REF!)-R183))/2))","v":{"$error":"#REF!"}}]
[null,null,null,"CENTRALIA LASER PRINTER",2001,5,0,"S/L",5,{"$f":"E184+I184","v":2006},null,2783.48,{"$f":"L184-L184*G184","v":2783.48},{"$f":"M184/I184/12","v":46.391333333333336},{"$f":"IF(#REF!>0,0,IF(OR(#REF!>#REF!,#REF!<#REF!),0,IF(AND(#REF!>=#REF!,#REF!<=#REF!),N184*((#REF!-#REF!)*12),IF(AND(#REF!<=#REF!,#REF!>=#REF!),((#REF!-#REF!)*12)*N184,IF(#REF!>#REF!,12*N184,0)))))","v":{"$error":"#REF!"}},{"$f":"IF(#REF!>0,#REF!,O184)","v":{"$error":"#REF!"}},{"$f":"#REF!*#REF!","v":{"$error":"#REF!"}},{"$f":"IF(#REF!>0,0,Q184+#REF!*#REF!)*#REF!","v":{"$error":"#REF!"}},{"$f":"IF(#REF!>0,(L184-Q184)/2,IF(#REF!>=#REF!,(((L184*#REF!)*#REF!)-R184)/2,((((L184*#REF!)*#REF!)-Q184)+(((L184*#REF!)*#REF!)-R184))/2))","v":{"$error":"#REF!"}}]
[null,null,null,"MINOLTA COPIER",2004,4,0,"S/L",5,{"$f":"E185+I185","v":2009},null,2905.21,{"$f":"L185-L185*G185","v":2905.21},{"$f":"M185/I185/12","v":48.420166666666667},{"$f":"IF(#REF!>0,0,IF(OR(#REF!>#REF!,#REF!<#REF!),0,IF(AND(#REF!>=#REF!,#REF!<=#REF!),N185*((#REF!-#REF!)*12),IF(AND(#REF!<=#REF!,#REF!>=#REF!),((#REF!-#REF!)*12)*N185,IF(#REF!>#REF!,12*N185,0)))))","v":{"$error":"#REF!"}},{"$f":"IF(#REF!>0,#REF!,O185)","v":{"$error":"#REF!"}},{"$f":"#REF!*#REF!","v":{"$error":"#REF!"}},{"$f":"IF(#REF!>0,0,Q185+#REF!*#REF!)*#REF!","v":{"$error":"#REF!"}},{"$f":"IF(#REF!>0,(L185-Q185)/2,IF(#REF!>=#REF!,(((L185*#REF!)*#REF!)-R185)/2,((((L185*#REF!)*#REF!)-Q185)+(((L185*#REF!)*#REF!)-R185))/2))","v":{"$error":"#REF!"}}]
[null,null,null,"HP LASERJET 4350DTN",2005,7,0,"S/L",5,{"$f":"E186+I186","v":2010},null,2506.75,{"$f":"L186-L186*G186","v":2506.75},{"$f":"M186/I186/12","v":41.779166666666669},{"$f":"IF(#REF!>0,0,IF(OR(#REF!>#REF!,#REF!<#REF!),0,IF(AND(#REF!>=#REF!,#REF!<=#REF!),N186*((#REF!-#REF!)*12),IF(AND(#REF!<=#REF!,#REF!>=#REF!),((#REF!-#REF!)*12)*N186,IF(#REF!>#REF!,12*N186,0)))))","v":{"$error":"#REF!"}},{"$f":"IF(#REF!>0,#REF!,O186)","v":{"$error":"#REF!"}},{"$f":"#REF!*#REF!","v":{"$error":"#REF!"}},{"$f":"IF(#REF!>0,0,Q186+#REF!*#REF!)*#REF!","v":{"$error":"#REF!"}},{"$f":"IF(#REF!>0,(L186-Q186)/2,IF(#REF!>=#REF!,(((L186*#REF!)*#REF!)-R186)/2,((((L186*#REF!)*#REF!)-Q186)+(((L186*#REF!)*#REF!)-R186))/2))","v":{"$error":"#REF!"}}]
[]
[]
[]
[]
[null,null,null,"Transferred/Retired 2021"]
[102598,null,6618,"2003 Suzuki Grand Vitara - Sales (U)",2008,11,0,"S/L",5,{"$f":"E192+I192","v":2013},{"$f":"+J192+(F192/12)","v":2013.9166666666667},{"$f":"+'OTHER EQUIP 2188 - Original'!O79","v":4355},{"$f":"L192-L192*G192","v":4355},{"$f":"M192/I192/12","v":72.583333333333329},{"$f":"+N192*12","v":871},{"$f":"+IF(K192<=$M$5,0,IF(J192>$M$4,O192,(N192*F192)))","v":871},{"$f":"+IF(P192=0,(L192-(L192-M192)),IF($M$3-E192<1,0,(($M$3-E192)*O192)))","v":0},{"$f":"+IF(P192=0,Q192,Q192+P192)","v":871},{"$f":"+L192-R192","v":3484}]
[null,null,6618,"Truck #6618 Amort of Salvage",2019,6,0,"S/L",{"$f":"+IF(J192-$M$3>=3,J192-$M$3,3)","v":2013},{"$f":"E193+I193","v":4032},{"$f":"+J193+(F193/12)","v":4032.5},{"$f":"+'OTHER EQUIP 2188 - Original'!M79-'OTHER EQUIP 2188'!L192","v":2145},{"$f":"L193-L193*G193","v":2145},{"$f":"M193/I193/12","v":8.8797814207650275E-2},{"$f":"+N193*12","v":1.0655737704918034},{"$f":"+IF(K193<=$M$5,0,IF(J193>$M$4,O193,(N193*F193)))","v":1.0655737704918034},{"$f":"+IF(P193=0,(L193-(L193-M193)),IF($M$3-E193<1,0,(($M$3-E193)*O193)))","v":0},{"$f":"+IF(P193=0,Q193,Q193+P193)","v":1.0655737704918034},{"$f":"+L193-R193","v":2143.9344262295081}]
[]
[]
[]
[null,null,null,"Transferred/Retired 2022"]
["75348",null,6044,"USED 2007 F-150 SUPERVISOR TRUCK",2010,6,0.33,"S/L",3,{"$f":"E198+I198","v":2013},{"$f":"+J198+(F198/12)","v":2013.5},19609.8,{"$f":"L198-L198*G198","v":13138.565999999999},{"$f":"M198/I198/12","v":364.96016666666668},{"$f":"+N198*12","v":4379.5219999999999},{"$f":"+IF(K198<=$M$5,0,IF(J198>$M$4,O198,(N198*F198)))","v":4379.5219999999999},{"$f":"+IF(P198=0,(L198-(L198-M198)),IF($M$3-E198<1,0,(($M$3-E198)*O198)))","v":0},{"$f":"+IF(P198=0,Q198,Q198+P198)","v":4379.5219999999999},{"$f":"+L198-R198","v":15230.277999999998}]

{"sheet":"Trucks 2188 - Original","index":7,"n_rows":246,"n_cols":80,"rows_kept":246,"cut":false,"hidden":false,"merged":[[0,0,0,2],[1,0,1,2],[2,0,2,2],[4,35,5,43]]}
["2188 Lewis County/Joe's Refuse ",null,null,null,null,null,null,null,null,null,null,null,null,null,null,null,null,null,null,null,null,null,null,null,null,null,null,null,null,null,{"$f":"'Summary 2188'!F7","v":44927}]
["Depreciation Schedule",null,null,null,null,null,null,null,null,null,null,null,null,null,null,null,3,"Months in first year",null,null,null,null,null,null,null,null,null,null,null,null,null,null,null,null,null,null,null,null,null,null,null,null,null,null,null,null,null,null,null,null,null,null,null,null,null,null,null,null,null,null,null,null,null,null,null,null,null,null,null,null,null,null,null,null,null,"CONVENTIONS"]
[{"$f":"'Summary 2188'!A3","v":45291},null,null,null,null,null,null,null,null,null,null,null,null,null,null,null,9,"Months in second year",null,null,null,null,null,null,null,null,null,null,null,null,"A.","Purchase date"]
[null,null,null,null,null,null,null,null,null,null,null,null,null,null,null,null,2016,"First year",null,null,null,null,null,null,null,null,null,null,null,null,"B.","End of Test Period",null,null,null,null,null,null,null,null,null,null,null,null,null,null,null,null,null,null,null,null,null,null,null,null,null,null,null,null,null,null,null,null,null,null,null,null,null,null,null,null,null,null,1,"Calendar year test period: ",null,null,12,"mos in first year"]
[null,null,null,null,null,null,null,null,null,null,null,null,null,null,null,null,2017,"Second year",null,null,null,null,null,null,null,null,null,null,null,null,"C","Date fully Depr",null,null,null,"Salvage Value Calculations",null,null,null,null,null,null,null,null,null,null,null,null,null,null,null,null,null,null,null,null,null,null,null,null,null,null,null,null,null,null,null,null,null,null,null,null,null,null,null,1993,null,null,0,"mos in 2nd year"]
[null,null,null,null,null,null,null,null,null,null,null,null,null,null,null,null,null,null,null,null,null,null,null,null,null,null,null,null,null,null,"D.","Beg of Test Period",null,null,null,null,null,null,null,null,null,null,null,null,null,null,null,null,null,null,null,null,null,null,null,null,null,null,null,null,null,null,null,null,null,null,null,null,null,null,null,null,null,null,null,null,null,null,93,"First year"]
[null,null,null,null,null,null,null,null,null,null,null,null,null,null,null,null,null,null,null,null,null,null,null,null,null,null,null,null,null,null,"E.","Disposition Date",null,null,null,null,null,null,null,null,null,null,null,null,null,null,null,null,null,null,null,null,null,null,null,null,null,null,null,null,null,null,null,null,null,null,null,null,null,null,null,null,null,null,null,null,null,null,94,"Second Year"]
[null,null,null,null,null,null,null,null,null,null,null,null,null,null,null,null,null,null,null,"Disposal",null,null,"Total","Beginning","Allocated",null,"Beginning ","Ending",null,null,null,null,null,null,null,null,null,null,null,"Adjustment to",null,"Adjustment to"]
[null," ","GARBAGE",null,null,"Date in",null,"Salvage",null," ",null,"Year"," ",null," ","Asset"," ",null,"Test","Year","Total","%","Allocated","Accumulated","Accumulated","Branch","Accum.","Accum.","Average",null,null,null,null,null,null,"Amort of",null,"Total Depreciation",null,"Avg. Investment",null,"Avg. Investment",null,"Adjusted Avg."]
[null,"Truck",null,null,null,"Service ",null,"Value",null,"Method","Life ","Fully ","Asset"," Mo.","Asset","Disposal","Depr","Monthly ","Year","Depn","Test yr.","Allo.","Test year","Depreciation","Depreciation","Allo.","Depr.","Depr.","Investment","A.","B","C.","D.","E.",null,"Salvage Value",null,"For Test Period",null,"Fully Depr Assets",null,"Assets w/ Depr Life",null,"Investment",null,null,null,null,null,null,null,null,null,null,null,null,null,null,null,null,null,null,null,null,null,null,null,null,null,null,null,null,null,null,2,"Dispositions must be in test period"]
["Codes","No","Asset Description","FAR #","FAR","Year","Mo","%","-","M","Years","Depr","Cost","-","Cost","-","Cost","Depr","Depr","-","Depn.","-","Depr.",{"$f":"AE1","v":44927},{"$f":"+A3","v":45291},"%",{"$f":"+X11","v":44927},{"$f":"+A3","v":45291},{"$f":"AB11","v":45291}]
["P/U",6205,"1986 DODGE TRUCK",null,null,1994,3,0.2,null,"S/L",7,{"$f":"F12+K12","v":2001},null,null,26697,null,{"$f":"O12-O12*H12","v":21357.599999999999},{"$f":"Q12/K12/12","v":254.25714285714284},{"$f":"IF(P12>0,0,IF(OR(AD12>AE12,AF12<AG12),0,IF(AND(AF12>=AG12,AF12<=AE12),R12*((AF12-AG12)*12),IF(AND(AG12<=AD12,AE12>=AD12),((AE12-AD12)*12)*R12,IF(AF12>AE12,12*R12,0)))))","v":0},{"$f":"IF(P12=0,0,IF(AND(AH12>=AG12,AH12<=AF12),((AH12-AG12)*12)*R12,0))","v":0},{"$f":"IF(T12>0,T12,S12)","v":0},1,{"$f":"V12*SUM(S12:T12)","v":0},{"$f":"IF(AD12>AE12,0,IF(AF12<AG12,Q12,IF(AND(AF12>=AG12,AF12<=AE12),(Q12-U12),IF(AND(AG12<=AD12,AE12>=AD12),0,IF(AF12>AE12,((AG12-AD12)*12)*R12,0)))))","v":21357.599999999999},{"$f":"X12*V12","v":21357.599999999999},1,{"$f":"Y12*Z12","v":21357.599999999999},{"$f":"IF(P12>0,0,AA12+W12*Z12)*Z12","v":21357.599999999999},{"$f":"IF(P12>0,(O12-AA12)/2,IF(AD12>=AG12,(((O12*V12)*Z12)-AB12)/2,((((O12*V12)*Z12)-AA12)+(((O12*V12)*Z12)-AB12))/2))","v":5339.4000000000015},{"$f":"$F12+(($G12-1)/12)","v":1994.1666666666667},{"$f":"($Q$5+1)-($Q$2/12)","v":2017.75},{"$f":"$L12+(($G12-1)/12)","v":2001.1666666666667},{"$f":"$Q$4+($Q$3/12)","v":2016.75},{"$f":"$M12+(($N12-1)/12)","v":-8.3333333333333329E-2},null,{"$f":"+IF((AF12-AG12)>3,((O12-Q12)/(AF12-AG12)),(O12-Q12)/3)","v":1779.8000000000004},null,{"$f":"+AJ12+W12","v":1779.8000000000004},null,{"$f":"+IF(AF12<AG12,-AC12,0)","v":-5339.4000000000015},null,{"$f":"+IF(AF12>AE12,IF(AJ12>0,IF(P12>0,(O12-AA12)/2,IF(AD12>=AG12,(((O12*V12)*Z12)-(AB12+AJ12))/2,((((O12*V12)*Z12)-AA12)+(((O12*V12)*Z12)-(AB12+AJ12)))/2)),0),0)","v":0},null,{"$f":"+AC12+AN12+(IF(AP12>0,(AP12-AC12),0))","v":0}]
["RL - SP",1002,"TYRONE UNITS    (60%)",null,null,1995,9,0.2,null,"S/L",7,2002,null,null,{"$f":"0.6*386","v":231.6},null,185.28,2.205714285714286,0,0,0,1,0,185.28,185.28,1,185.28,185.28,46.319999999999993,1995.6666666666667,2017.75,2002.6666666666667,2016.75,-8.3333333333333329E-2,null,{"$f":"+IF((AF13-AG13)>3,((O13-Q13)/(AF13-AG13)),(O13-Q13)/3)","v":15.439999999999998},null,15.439999999999998,null,{"$f":"+IF(AF13<AG13,-AC13,0)","v":-46.319999999999993},null,{"$f":"+IF(AF13>AE13,IF(AJ13>0,IF(P13>0,(O13-AA13)/2,IF(AD13>=AG13,(((O13*V13)*Z13)-(AB13+AJ13))/2,((((O13*V13)*Z13)-AA13)+(((O13*V13)*Z13)-(AB13+AJ13)))/2)),0),0)","v":0},null,{"$f":"+AC13+AN13+(IF(AP13>0,(AP13-AC13),0))","v":0}]
["RL - SP",1002,"20YD ALPHA BODY    (60%)",null,null,1995,10,0.2,null,"S/L",7,2002,null,null,{"$f":"0.6*27170","v":16302},null,13041.6,155.25714285714287,0,0,0,1,0,13041.6,13041.6,1,13041.6,13041.6,3260.3999999999996,1995.75,2017.75,2002.75,2016.75,-8.3333333333333329E-2,null,{"$f":"+IF((AF14-AG14)>3,((O14-Q14)/(AF14-AG14)),(O14-Q14)/3)","v":1086.8},null,1086.8,null,{"$f":"+IF(AF14<AG14,-AC14,0)","v":-3260.3999999999996},null,0,null,{"$f":"+AC14+AN14+(IF(AP14>0,(AP14-AC14),0))","v":0}]
["RL - SP",1002,"1996 VOLVO FE42    (60%)",null,null,1995,10,0.2,null,"S/L",7,2002,null,null,{"$f":"0.6*49700","v":29820},null,23856,284,0,0,0,1,0,23856,23856,1,23856,23856,5964,1995.75,2017.75,2002.75,2016.75,-8.3333333333333329E-2,null,1988,null,1988,null,-5964,null,0,null,0]
["P/U",6014,"'97 FORD RANGER",null,null,1999,1,0.33,null,"S/L",5,2004,null,null,8672,null,5810.24,96.837333333333333,0,0,0,1,0,5810.24,5810.24,1,5810.24,5810.24,2861.76,1999,2017.75,2004,2016.75,-8.3333333333333329E-2,null,953.92000000000007,null,953.92000000000007,null,-2861.76,null,0,null,0]
["SL",3567,"02 PETE 320 CURBTENDER",null,null,2002,5,0.2,null,"S/L",7,2009,null,null,159698.98000000001,null,127759.18400000001,1520.9426666666668,0,0,0,1,0,127759.18400000001,127759.18400000001,1,127759.18400000001,127759.18400000001,31939.796000000002,2002.3333333333333,2017.75,2009.3333333333333,2016.75,-8.3333333333333329E-2,null,10646.598666666667,null,10646.598666666667,null,-31939.796000000002,null,0,null,0]
["FL",2019,"03 PB 320 W/WITTKE FLC-2102 PA",null,null,2003,5,0.2,null,"S/L",7,2010,null,null,171303.39,null,137042.712,1631.4608571428571,0,0,0,1,0,137042.712,137042.712,1,137042.712,137042.712,34260.678000000014,2003.3333333333333,2017.75,2010.3333333333333,2016.75,-8.3333333333333329E-2,null,11420.226000000004,null,11420.226000000004,null,-34260.678000000014,null,0,null,0]
["SL",3592,"'06 PETE W/27 CY CURBTENDER",null,null,2006,4,0.2,null,"S/L",7,2013,null,null,179729.98,null,143783.984,1711.7140952380951,0,0,0,1,0,143783.984,143783.984,1,143783.984,143783.984,35945.996000000014,2006.25,2017.75,2013.25,2016.75,-8.3333333333333329E-2,null,11981.998666666672,null,11981.998666666672,null,-35945.996000000014,null,0,null,0]
["SL",3592,"GREASER UNIT FOR 3592",null,null,2006,4,0.2,null,"S/L",7,2013,null,null,3823.24,null,3058.5919999999996,36.411809523809517,0,0,0,1,0,3058.5919999999996,3058.5919999999996,1,3058.5919999999996,3058.5919999999996,764.64800000000014,2006.25,2017.75,2013.25,2016.75,-8.3333333333333329E-2,null,254.88266666666672,null,254.88266666666672,null,-764.64800000000014,null,0,null,0]
[null,1072,"2006 Int'l 7400 Chassis (N)","126242, 126243,126244,126245,126246",null,2006,4,0.2,null,"S/L",7,2013,null,null,142218.70000000001,null,113774.96,1354.4638095238095,{"$f":"IF(P21>0,0,IF(OR(AD21>AE21,AF21<AG21),0,IF(AND(AF21>=AG21,AF21<=AE21),R21*((AF21-AG21)*12),IF(AND(AG21<=AD21,AE21>=AD21),((AE21-AD21)*12)*R21,IF(AF21>AE21,12*R21,0)))))","v":0},{"$f":"IF(P21=0,0,IF(AND(AH21>=AG21,AH21<=AF21),((AH21-AG21)*12)*R21,0))","v":0},{"$f":"IF(T21>0,T21,S21)","v":0},1,{"$f":"V21*SUM(S21:T21)","v":0},{"$f":"IF(AD21>AE21,0,IF(AF21<AG21,Q21,IF(AND(AF21>=AG21,AF21<=AE21),(Q21-U21),IF(AND(AG21<=AD21,AE21>=AD21),0,IF(AF21>AE21,((AG21-AD21)*12)*R21,0)))))","v":113774.96},{"$f":"X21*V21","v":113774.96},1,{"$f":"Y21*Z21","v":113774.96},{"$f":"IF(P21>0,0,AA21+W21*Z21)*Z21","v":113774.96},{"$f":"IF(P21>0,(O21-AA21)/2,IF(AD21>=AG21,(((O21*V21)*Z21)-AB21)/2,((((O21*V21)*Z21)-AA21)+(((O21*V21)*Z21)-AB21))/2))","v":28443.740000000005},2006.25,2017.75,2013.25,2016.75,-8.3333333333333329E-2,null,9481.2466666666678,null,9481.2466666666678,null,-28443.740000000005,null,0,null,0]
["RL",1050,"'07 INT'L W/20 YD METROPAK R/L",null,null,2006,11,0.2,null,"S/L",7,2013,null,null,126621.44,null,101297.152,1205.9184761904762,0,0,0,1,0,101297.152,101297.152,1,101297.152,101297.152,25324.288,2006.8333333333333,2017.75,2013.8333333333333,2016.75,-8.3333333333333329E-2,null,8441.4293333333335,null,8441.4293333333335,null,-25324.288,null,0,null,0]
["RL",1051,"'07 INT'L W/METROPAK BODY",null,null,2006,12,0.2,null,"S/L",7,2013,null,null,122672,null,98137.600000000006,1168.304761904762,0,0,0,1,0,98137.600000000006,98137.600000000006,1,98137.600000000006,98137.600000000006,24534.399999999994,2006.9166666666667,2017.75,2013.9166666666667,2016.75,-8.3333333333333329E-2,null,8178.1333333333314,null,8178.1333333333314,null,-24534.399999999994,null,0,null,0]
["FL",2031,"2007 Type H Front FEL",90793,null,2007,1,0.2,null,"S/L",7,2014,null,null,183500,null,146800,1747.6190476190477,0,0,0,1,0,146800,146800,1,146800,146800,36700,2007,2017.75,2014,2016.75,-8.3333333333333329E-2,null,12233.333333333334,null,12233.333333333334,null,-36700,null,0,null,0]
["RL",1051,"GREASER FOR 1051",null,null,2007,1,0.2,null,"S/L",7,2014,null,null,3949.44,null,3159.5520000000001,37.613714285714288,0,0,0,1,0,3159.5520000000001,3159.5520000000001,1,3159.5520000000001,3159.5520000000001,789.88799999999992,2007,2017.75,2014,2016.75,-8.3333333333333329E-2,null,263.29599999999999,null,263.29599999999999,null,-789.88799999999992,null,0,null,0]
["RW",11092,"ROUTWARE INSTALLATIONS (NON-REG)",null,null,2007,4,0.2,null,"S/L",7,2014,null,null,63481.09,null,50784.871999999996,604.58180952380951,0,0,0,1,0,50784.871999999996,50784.871999999996,1,50784.871999999996,50784.871999999996,12696.218000000001,2007.25,2017.75,2014.25,2016.75,-8.3333333333333329E-2,null,4232.0726666666669,null,4232.0726666666669,null,-12696.218000000001,null,0,null,0]
["RL",1056,"'07 INT'L W/METROPAK R/L BODY",null,null,2007,5,0.2,null,"S/L",7,2014,null,null,127343.72,null,101874.976,1212.7973333333332,0,0,0,1,0,101874.976,101874.976,1,101874.976,101874.976,25468.744000000006,2007.3333333333333,2017.75,2014.3333333333333,2016.75,-8.3333333333333329E-2,null,8489.5813333333354,null,8489.5813333333354,null,-25468.744000000006,null,0,null,0]
["RL",1061,"07 INT'L W/METROPAK R/L BODY",null,null,2007,5,0.2,null,"S/L",7,2014,null,null,127343.72,null,101874.976,1212.7973333333332,0,0,0,1,0,101874.976,101874.976,1,101874.976,101874.976,25468.744000000006,2007.3333333333333,2017.75,2014.3333333333333,2016.75,-8.3333333333333329E-2,null,8489.5813333333354,null,8489.5813333333354,null,-25468.744000000006,null,0,null,0]
["RW",11093,"ROUTWARE INSTALLATIONS",null,null,2007,7,0.33,null,"S/L",5,2012,null,null,177427.8,null,118876.62599999999,1981.2771,0,0,0,1,0,118876.62599999999,118876.62599999999,1,118876.62599999999,118876.62599999999,58551.173999999999,2007.5,2017.75,2012.5,2016.75,-8.3333333333333329E-2,null,19517.058000000001,null,19517.058000000001,null,-58551.173999999999,null,0,null,0]
["RL",1060,"'07 INT'L W/METROPAK R/L BODY",null,null,2007,7,0.2,null,"S/L",7,2014,null,null,127343.72,null,101874.976,1212.7973333333332,0,0,0,1,0,101874.976,101874.976,1,101874.976,101874.976,25468.744000000006,2007.5,2017.75,2014.5,2016.75,-8.3333333333333329E-2,null,8489.5813333333354,null,8489.5813333333354,null,-25468.744000000006,null,0,null,0]
["ASL",3608,"'07 Pete w/27 cy Curbtender S/L Body",null,null,2007,7,0.2,null,"S/L",7,2014,null,null,194705.04,null,155764.03200000001,1854.3337142857144,0,0,0,1,0,155764.03200000001,155764.03200000001,1,155764.03200000001,155764.03200000001,38941.008000000002,2007.5,2017.75,2014.5,2016.75,-8.3333333333333329E-2,null,12980.336000000001,null,12980.336000000001,null,-38941.008000000002,null,0,null,0]
["SL",3614,"07 PB 320 W/27 CY CURBTENDER",null,null,2007,8,0.2,null,"S/L",7,2014,null,null,194705.04,null,155764.03200000001,1854.3337142857144,0,0,0,1,0,155764.03200000001,155764.03200000001,1,155764.03200000001,155764.03200000001,38941.008000000002,2007.5833333333333,2017.75,2014.5833333333333,2016.75,-8.3333333333333329E-2,null,12980.336000000001,null,12980.336000000001,null,-38941.008000000002,null,0,null,0]
["SL",3612,"07 PB 320 W/27 CY CURBTENDER",null,null,2007,8,0.2,null,"S/L",7,2014,null,null,194705.04,null,155764.03200000001,1854.3337142857144,0,0,0,1,0,155764.03200000001,155764.03200000001,1,155764.03200000001,155764.03200000001,38941.008000000002,2007.5833333333333,2017.75,2014.5833333333333,2016.75,-8.3333333333333329E-2,null,12980.336000000001,null,12980.336000000001,null,-38941.008000000002,null,0,null,0]
["FL",2031,"07 AUTOCAR W/ MCNEILUS F/L BODY",null,null,2007,8,0.2,null,"S/L",7,2014,null,null,215572.44,null,172457.95199999999,2053.0708571428572,0,0,0,1,0,172457.95199999999,172457.95199999999,1,172457.95199999999,172457.95199999999,43114.488000000012,2007.5833333333333,2017.75,2014.5833333333333,2016.75,-8.3333333333333329E-2,null,14371.496000000005,null,14371.496000000005,null,-43114.488000000012,null,0,null,0]
["SL",3627,"2009 PB CHASSIS FOR ASL",null,null,2008,10,0.2,null,"S/L",7,2015,null,null,127101.54,null,101681.23199999999,1210.4908571428571,0,0,0,1,0,101681.23199999999,101681.23199999999,1,101681.23199999999,101681.23199999999,25420.308000000005,2008.75,2017.75,2015.75,2016.75,-8.3333333333333329E-2,null,8473.4360000000015,null,8473.4360000000015,null,-25420.308000000005,null,0,null,0]
["SL",3627,"2009 PETERBILT 320 BODY",null,null,2008,12,0.2,null,"S/L",7,2015,null,null,100569.69,null,80455.752000000008,957.8065714285716,0,0,0,1,0,80455.752000000008,80455.752000000008,1,80455.752000000008,80455.752000000008,20113.937999999995,2008.9166666666667,2017.75,2015.9166666666667,2016.75,-8.3333333333333329E-2,null,6704.6459999999979,null,6704.6459999999979,null,-20113.937999999995,null,0,null,0]
["SL",3623,"2009 TYPE H TSIDE ASL",null,null,2009,1,0.2,null,"S/L",7,2016,null,null,222209.95,null,177767.96000000002,2116.2852380952386,0,0,0,1,0,177767.96000000002,177767.96000000002,1,177767.96000000002,177767.96000000002,44441.989999999991,2009,2017.75,2016,2016.75,-8.3333333333333329E-2,null,14813.996666666664,null,14813.996666666664,null,-44441.989999999991,null,0,null,0]
["SL",3623,"AUTOGREASER FOR TRUCK 3623",null,null,2009,1,0.2,null,"S/L",7,2016,null,null,3949.44,null,3159.5520000000001,37.613714285714288,0,0,0,1,0,3159.5520000000001,3159.5520000000001,1,3159.5520000000001,3159.5520000000001,789.88799999999992,2009,2017.75,2016,2016.75,-8.3333333333333329E-2,null,263.29599999999999,null,263.29599999999999,null,-789.88799999999992,null,0,null,0]
["SL",3567,"FLUP - 3567 - V02235852",null,null,2009,5,0,null,"S/L",3,2012,null,null,931.18,null,931.18,25.86611111111111,0,0,0,1,0,931.18,931.18,1,931.18,931.18,0,2009.3333333333333,2017.75,2012.3333333333333,2016.75,-8.3333333333333329E-2,null,0,null,0,null,0,null,0,null,0]
["SL",3567,"FLUP - 3567 - R-984978",null,null,2009,5,0,null,"S/L",3,2012,null,null,971.25,null,971.25,26.979166666666668,0,0,0,1,0,971.25,971.25,1,971.25,971.25,0,2009.3333333333333,2017.75,2012.3333333333333,2016.75,-8.3333333333333329E-2,null,0,null,0,null,0,null,0,null,0]
["SL",3567,"FLUP - TRUCK 3567",null,null,2009,5,0,null,"S/L",3,2012,null,null,5281.93,null,5281.93,146.7202777777778,0,0,0,1,0,5281.93,5281.93,1,5281.93,5281.93,0,2009.3333333333333,2017.75,2012.3333333333333,2016.75,-8.3333333333333329E-2,null,0,null,0,null,0,null,0,null,0,null,null,null,null,null,null,null,null,null,null,null,null,null,null,null,null,null,null,null,null,null,null,null,null,null,null,null,null,null,null,3,"Computes with one month convention"]
["SL",3592,"FLUP - TRUCK 3592",null,null,2009,5,0,null,"S/L",3,2012,null,null,2584.0700000000002,null,2584.0700000000002,71.779722222222219,0,0,0,1,0,2584.0700000000002,2584.0700000000002,1,2584.0700000000002,2584.0700000000002,0,2009.3333333333333,2017.75,2012.3333333333333,2016.75,-8.3333333333333329E-2,null,0,null,0,null,0,null,0,null,0,null,null,null,null,null,null,null,null,null,null,null,null,null,null,null,null,null,null,null,null,null,null,null,null,null,null,null,null,null,null,4,"Asset put in service in first month of test"]
["SL",3612,"FLUP - 3612 - V02227132",null,null,2009,5,0,null,"S/L",3,2012,null,null,309.54000000000002,null,309.54000000000002,8.5983333333333345,0,0,0,1,0,309.54000000000002,309.54000000000002,1,309.54000000000002,309.54000000000002,0,2009.3333333333333,2017.75,2012.3333333333333,2016.75,-8.3333333333333329E-2,null,0,null,0,null,0,null,0,null,0]
["SL",3612,"FLUP - 3612 - V02243349",null,null,2009,5,0,null,"S/L",3,2012,null,null,580.21,null,580.21,16.116944444444446,0,0,0,1,0,580.21,580.21,1,580.21,580.21,0,2009.3333333333333,2017.75,2012.3333333333333,2016.75,-8.3333333333333329E-2,null,0,null,0,null,0,null,0,null,0]
["SL",3612,"FLUP - 3612 - R-984765",null,null,2009,5,0,null,"S/L",3,2012,null,null,700,null,700,19.444444444444446,0,0,0,1,0,700,700,1,700,700,0,2009.3333333333333,2017.75,2012.3333333333333,2016.75,-8.3333333333333329E-2,null,0,null,0,null,0,null,0,null,0]
["SL",3612,"FLUP - TRUCK 3612",null,null,2009,5,0,null,"S/L",3,2012,null,null,3610.79,null,3610.79,100.29972222222221,0,0,0,1,0,3610.79,3610.79,1,3610.79,3610.79,0,2009.3333333333333,2017.75,2012.3333333333333,2016.75,-8.3333333333333329E-2,null,0,null,0,null,0,null,0,null,0]
["FL",2019,"FLUP - TRUCK 2019",null,null,2009,5,0,null,"S/L",3,2012,null,null,7366.07,null,7366.07,204.61305555555555,0,0,0,1,0,7366.07,7366.07,1,7366.07,7366.07,0,2009.3333333333333,2017.75,2012.3333333333333,2016.75,-8.3333333333333329E-2,null,0,null,0,null,0,null,0,null,0]
["DC",67254,"DRIVE CAM INSTALLATIONS (46)",null,null,2009,6,0.33,null,"S/L",5,2014,null,null,13383.67,null,8967.0589,149.45098166666665,0,0,0,1,0,8967.0589,8967.0589,1,8967.0589,8967.0589,4416.6111000000001,2009.4166666666667,2017.75,2014.4166666666667,2016.75,-8.3333333333333329E-2,null,1472.2037,null,1472.2037,null,-4416.6111000000001,null,0,null,0]
["DC",67256,"DRIVE CAM INSTALLATIONS (46)",null,null,2009,6,0.33,null,"S/L",5,2014,null,null,397.42,null,266.27139999999997,4.4378566666666659,0,0,0,1,0,266.27139999999997,266.27139999999997,1,266.27139999999997,266.27139999999997,131.14860000000004,2009.4166666666667,2017.75,2014.4166666666667,2016.75,-8.3333333333333329E-2,null,43.716200000000015,null,43.716200000000015,null,-131.14860000000004,null,0,null,0]
["ASL",3628,"NEW 2009 ASL (CHEHALIS CONTRACT)",null,null,2009,10,0,null,"S/L",10,2019,null,null,{"$f":"247594.64*0.5","v":123797.32},null,123797.32,1031.6443333333334,12379.732,0,12379.732,1,12379.732,86658.124000000011,86658.124000000011,1,86658.124000000011,99037.856000000014,30949.329999999994,2009.75,2017.75,2019.75,2016.75,-8.3333333333333329E-2,null,0,null,12379.732,null,0,null,0,null,30949.329999999994]
["FL",2037,"2012 PETERBUILT FEL W/WITTKE BODY (N)",null,null,2011,11,0.2,null,"S/L",7,2018,null,null,281004.90000000002,null,224803.92,2676.2371428571428,32114.845714285715,0,32114.845714285715,1,32114.845714285715,157897.99142857385,157897.99142857385,1,157897.99142857385,190012.83714285956,107049.48571428332,2011.8333333333333,2017.75,2018.8333333333333,2016.75,-8.3333333333333329E-2,null,18733.660000000003,null,50848.505714285719,null,0,null,97682.655714283319,null,97682.655714283319]
[null,3543,"DRIVE CAM","89106, 89107",2189,2011,11,0,null,"S/L",7,2018,null,null,{"$f":"1251.9/2","v":625.95000000000005},null,625.95000000000005,7.4517857142857151,89.421428571428578,0,89.421428571428578,1,89.421428571428578,439.65535714286398,439.65535714286398,1,439.65535714286398,529.07678571429255,141.58392857142178,2011.8333333333333,2017.75,2018.8333333333333,2016.75,-8.3333333333333329E-2,null,0,null,89.421428571428578,null,0,null,0,null,141.58392857142178]
[null,88724,"(16) TRUCK RADIOS",null,null,2011,12,0,null,"S/L",5,2016,null,null,{"$f":"468.93*16","v":7502.88},null,7502.88,125.048,250.09600000011375,0,250.09600000011375,1,250.09600000011375,7252.783999999886,7252.783999999886,1,7252.783999999886,7502.88,125.04800000005707,2011.9166666666667,2017.75,2016.9166666666667,2016.75,-8.3333333333333329E-2,null,0,null,250.09600000011375,null,0,null,0,null,125.04800000005707]
[null,3543,"2012 INTERNATIONAL RETRIEVER (N)","88662, 88898",2189,2011,12,0.2,null,"S/L",7,2018,null,null,{"$f":"108532.26+3443.64+129.14","v":112105.04},null,89684.031999999992,1067.6670476190475,12812.00457142857,0,12812.00457142857,1,12812.00457142857,61924.688761903781,61924.688761903781,1,61924.688761903781,74736.693333332354,43774.34895238193,2011.9166666666667,2017.75,2018.9166666666667,2016.75,-8.3333333333333329E-2,null,7473.6693333333342,null,20285.673904761905,null,0,null,40037.514285715253,null,40037.514285715253]
[null,null,"(6) TRUCK RADIOS",88724,null,2011,12,0,null,"S/L",5,2016,null,null,{"$f":"468.93*6","v":2813.58},null,2813.58,46.893000000000001,93.786000000042648,0,93.786000000042648,1,93.786000000042648,2719.7939999999571,2719.7939999999571,1,2719.7939999999571,2813.58,46.893000000021402,2011.9166666666667,2017.75,2016.9166666666667,2016.75,-8.3333333333333329E-2,null,0,null,93.786000000042648,null,0,null,0,null,46.893000000021402]
[null,3567,"Plastic Hopper Door for #3567",97260,null,2012,10,0,null,"S/L",7,2019,null,null,2558.5300000000002,null,2558.5300000000002,30.45869047619048,365.50428571428574,0,365.50428571428574,1,365.50428571428574,1462.017142857143,1462.017142857143,1,1462.017142857143,1827.5214285714287,913.76071428571436,2012.75,2017.75,2019.75,2016.75,-8.3333333333333329E-2,null,0,null,365.50428571428574,null,0,null,0,null,913.76071428571436]
["RL",1019,"2013 PETERBILT 320 W/ NEW WAY BODY (N)",99663,null,2012,12,0.2,null,"S/L",7,2019,null,null,259690.64,null,207752.51200000002,2473.2441904761904,29678.930285714283,0,29678.930285714283,1,29678.930285714283,113769.2327619025,113769.2327619025,1,113769.2327619025,143448.16304761678,131081.94209524037,2012.9166666666667,2017.75,2019.9166666666667,2016.75,-8.3333333333333329E-2,null,16401.514105262766,null,46080.444390977049,null,0,null,122881.18504260899,null,122881.18504260899]
[null,1070,"2013 PETERBILT 320 W/ NEW WAY BODY (N)",99664,null,2012,12,0.2,null,"S/L",7,2019,null,null,259759.91,null,207807.92800000001,2473.9039047619049,29686.84685714286,0,29686.84685714286,1,29686.84685714286,113799.57961904537,113799.57961904537,1,113799.57961904537,143486.42647618824,131116.9069523832,2012.9166666666667,2017.75,2019.9166666666667,2016.75,-8.3333333333333329E-2,null,16405.889052631184,null,46092.735909774041,null,0,null,122913.96242606761,null,122913.96242606761]
["ASL",3636,"2014 Peterbilt/Wayne ASL (N)",109521,null,2013,12,0.2,null,"S/L",7,2020,null,null,322008.34000000003,null,257606.67200000002,3066.7460952380952,36800.953142857143,0,36800.953142857143,1,36800.953142857143,104269.36723809245,104269.36723809245,1,104269.36723809245,141070.32038094959,199338.496190479,2013.9166666666667,2017.75,2020.9166666666667,2016.75,-8.3333333333333329E-2,null,15456.400319999721,null,52257.35346285686,null,0,null,191610.29603047913,null,191610.29603047913]
[null,3636,"DriveCam #3636",110129,null,2013,12,0.2,null,"S/L",7,2020,null,null,632.57000000000005,null,506.05600000000004,6.0244761904761903,72.293714285714287,0,72.293714285714287,1,72.293714285714287,204.83219047618499,204.83219047618499,1,204.83219047618499,277.12590476189928,391.5909523809579,2013.9166666666667,2017.75,2020.9166666666667,2016.75,-8.3333333333333329E-2,null,30.363359999999449,null,102.65707428571373,null,0,null,376.40927238095821,null,376.40927238095821]
["DEL",9389,"2014 Ford F-550 Cont. Del (N)",109522,null,2013,12,0.2,null,"S/L",7,2020,null,null,67654.960000000006,null,54123.968000000008,644.33295238095241,7731.9954285714284,0,7731.9954285714284,1,7731.9954285714284,21907.320380951795,21907.320380951795,1,21907.320380951795,29639.315809523221,41881.641904762495,2013.9166666666667,2017.75,2020.9166666666667,2016.75,-8.3333333333333329E-2,null,3247.4380799999403,null,10979.433508571368,null,0,null,40257.922864762528,null,40257.922864762528]
["ASL",3642,"2015 ASL Truck (N)",118079,null,2014,12,0.2,null,"S/L",7,2021,null,null,{"$f":"327334.16+912.06","v":328246.21999999997},null,262596.97599999997,3126.1544761904756,37513.853714285709,0,37513.853714285709,1,37513.853714285709,68775.39847618762,68775.39847618762,1,68775.39847618762,106289.25219047333,240713.89466666951,2014.9166666666667,2017.75,2021.9166666666667,2016.75,-8.3333333333333329E-2,null,12706.305290322396,null,50220.159004608104,null,0,null,234360.74202150831,null,234360.74202150831]
["SL",3627,"Improvement - ASL Auto Hopper Cover Kit",118254,null,2014,12,0,null,"S/L",3,2017,null,null,2532.61,null,2532.61,70.350277777777777,844.20333333333338,0,844.20333333333338,1,844.20333333333338,1547.706111111047,1547.706111111047,1,1547.706111111047,2391.9094444443804,562.80222222228645,2014.9166666666667,2017.75,2017.9166666666667,2016.75,-8.3333333333333329E-2,null,0,null,844.20333333333338,null,0,null,0,null,562.80222222228645]
["SL",3614,"Improvement - ASL Auto Hopper Cover Kit",118253,null,2014,12,0,null,"S/L",3,2017,null,null,2532.61,null,2532.61,70.350277777777777,844.20333333333338,0,844.20333333333338,1,844.20333333333338,1547.706111111047,1547.706111111047,1,1547.706111111047,2391.9094444443804,562.80222222228645,2014.9166666666667,2017.75,2017.9166666666667,2016.75,-8.3333333333333329E-2,null,0,null,844.20333333333338,null,0,null,0,null,562.80222222228645]
["SL",3612,"Improvement - ASL Auto Hopper Cover Kit",118252,null,2014,12,0,null,"S/L",3,2017,null,null,2532.61,null,2532.61,70.350277777777777,844.20333333333338,0,844.20333333333338,1,844.20333333333338,1547.706111111047,1547.706111111047,1,1547.706111111047,2391.9094444443804,562.80222222228645,2014.9166666666667,2017.75,2017.9166666666667,2016.75,-8.3333333333333329E-2,null,0,null,844.20333333333338,null,0,null,0,null,562.80222222228645]
["SL",3592,"Improvement - ASL Auto Hopper Cover Kit",118250,null,2014,12,0,null,"S/L",3,2017,null,null,2532.61,null,2532.61,70.350277777777777,844.20333333333338,0,844.20333333333338,1,844.20333333333338,1547.706111111047,1547.706111111047,1,1547.706111111047,2391.9094444443804,562.80222222228645,2014.9166666666667,2017.75,2017.9166666666667,2016.75,-8.3333333333333329E-2,null,0,null,844.20333333333338,null,0,null,0,null,562.80222222228645]
["SL",3627,"Engine Repair",123521,null,2015,5,0,null,"S/L",3,2018,null,null,21954.799999999999,null,21954.799999999999,609.8555555555555,7318.2666666666664,0,7318.2666666666664,1,7318.2666666666664,10367.544444444999,10367.544444444999,1,10367.544444444999,17685.811111111667,7928.1222222216666,2015.3333333333333,2017.75,2018.3333333333333,2016.75,-8.3333333333333329E-2,null,0,null,7318.2666666666664,null,0,null,0,null,7928.1222222216666]
["ASL",2522,"2016 ASL Truck- Resi Garbage",128675,null,2016,12,0.2,null,"S/L",7,2023,null,null,336161.88,null,268929.50400000002,3201.5417142857145,32015.417142854232,0,32015.417142854232,1,32015.417142854232,0,0,1,0,32015.417142854232,152073.23142857288,2016.9166666666667,2017.75,2023.9166666666667,2016.75,-8.3333333333333329E-2,null,9381.2617674417597,null,41396.678910295988,null,0,null,147382.600544852,null,147382.600544852]
["ASL",2522,"Drive Cam/ Decals ",128837,null,2016,12,0.2,null,"S/L",7,2023,null,null,1674.62,null,1339.6959999999999,15.948761904761904,159.48761904760454,0,159.48761904760454,1,159.48761904760454,0,0,1,0,159.48761904760454,757.56619047619768,2016.9166666666667,2017.75,2023.9166666666667,2016.75,-8.3333333333333329E-2,null,46.733581395348338,null,206.22120044295286,null,0,null,734.19939977852346,null,734.19939977852346]
[null,null,"(34) Samsung Tablets, Hardware, & Setup","132281/133543/139787",null,2016,4,0,null,"S/L",1,2017,null,null,{"$f":"((7403.89+8314.08+342)/38)*34","v":14369.446842105262},null,{"$f":"O70-O70*H70","v":14369.446842105262},{"$f":"Q70/K70/12","v":1197.4539035087719},7184.7234210526312,0,7184.7234210526312,1,7184.7234210526312,7184.7234210526312,7184.7234210526312,1,7184.7234210526312,14369.446842105262,3592.3617105263156,2016.25,2017.75,2017.25,2016.75,-8.3333333333333329E-2,null,0,null,7184.7234210526312,null,0,null,0,null,3592.3617105263156]
["ASL",3655,"2016 ASL Truck (N), Decals, and Licensing","132761/139725/132761",null,2016,5,0,null,"S/L",10,2026,null,null,{"$f":"323407.89+1609.81+472","v":325489.7},null,{"$f":"O71-O71*H71","v":325489.7},{"$f":"Q71/K71/12","v":2712.4141666666669},32548.97,0,32548.97,1,32548.97,13562.070833335802,13562.070833335802,1,13562.070833335802,46111.040833335806,295653.14416666422,2016.3333333333333,2017.75,2026.3333333333333,2016.75,-8.3333333333333329E-2,null,0,null,32548.97,null,0,null,0,null,295653.14416666422]
["ASL",3656,"2016 ASL Truck (N), Decals, and Licensing","133442/139726/165761",null,2016,6,0,null,"S/L",10,2026,null,null,{"$f":"323407.89+1609.81+472","v":325489.7},null,{"$f":"O72-O72*H72","v":325489.7},{"$f":"Q72/K72/12","v":2712.4141666666669},32548.97,0,32548.97,1,32548.97,10849.656666664201,10849.656666664201,1,10849.656666664201,43398.626666664204,298365.55833333579,2016.4166666666667,2017.75,2026.4166666666667,2016.75,-8.3333333333333329E-2,null,0,null,32548.97,null,0,null,0,null,298365.55833333579]
["RL",1074,"2016 REL Truck (N), Decals, and Licensing","133443/139727/165760",null,2016,6,0,null,"S/L",10,2026,null,null,{"$f":"284597.5+1554.65+472","v":286624.15000000002},null,{"$f":"O73-O73*H73","v":286624.15000000002},{"$f":"Q73/K73/12","v":2388.5345833333336},28662.415000000001,0,28662.415000000001,1,28662.415000000001,9554.1383333311624,9554.1383333311624,1,9554.1383333311624,38216.553333331161,262738.80416666885,2016.4166666666667,2017.75,2026.4166666666667,2016.75,-8.3333333333333329E-2,null,0,null,28662.415000000001,null,0,null,0,null,262738.80416666885]
[null,null,"(5) Mounting Hardware & AC Adapters",167733,null,2016,6,0,null,"S/L",1,2017,null,null,472.52,null,{"$f":"O74-O74*H74","v":472.52},{"$f":"Q74/K74/12","v":39.376666666666665},{"$f":"IF(P74>0,0,IF(OR(AD74>AE74,AF74<AG74),0,IF(AND(AF74>=AG74,AF74<=AE74),R74*((AF74-AG74)*12),IF(AND(AG74<=AD74,AE74>=AD74),((AE74-AD74)*12)*R74,IF(AF74>AE74,12*R74,0)))))","v":315.01333333336913},{"$f":"IF(P74=0,0,IF(AND(AH74>=AG74,AH74<=AF74),((AH74-AG74)*12)*R74,0))","v":0},{"$f":"IF(T74>0,T74,S74)","v":315.01333333336913},1,{"$f":"V74*SUM(S74:T74)","v":315.01333333336913},{"$f":"IF(AD74>AE74,0,IF(AF74<AG74,Q74,IF(AND(AF74>=AG74,AF74<=AE74),(Q74-U74),IF(AND(AG74<=AD74,AE74>=AD74),0,IF(AF74>AE74,((AG74-AD74)*12)*R74,0)))))","v":157.50666666663085},{"$f":"X74*V74","v":157.50666666663085},1,{"$f":"Y74*Z74","v":157.50666666663085},{"$f":"IF(P74>0,0,AA74+W74*Z74)*Z74","v":472.52},{"$f":"IF(P74>0,(O74-AA74)/2,IF(AD74>=AG74,(((O74*V74)*Z74)-AB74)/2,((((O74*V74)*Z74)-AA74)+(((O74*V74)*Z74)-AB74))/2))","v":157.50666666668457},2016.4166666666667,2017.75,2017.4166666666667,2016.75,-8.3333333333333329E-2,null,0,null,315.01333333336913,null,0,null,0,null,157.50666666668457]
[null,null,"2017 SL Truck",187610,null,2017,10,0,null,"S/L",10,2027,null,null,135413.12,null,{"$f":"O75-O75*H75","v":135413.12},{"$f":"Q75/K75/12","v":1128.4426666666666},{"$f":"IF(P75>0,0,IF(OR(AD75>AE75,AF75<AG75),0,IF(AND(AF75>=AG75,AF75<=AE75),R75*((AF75-AG75)*12),IF(AND(AG75<=AD75,AE75>=AD75),((AE75-AD75)*12)*R75,IF(AF75>AE75,12*R75,0)))))","v":0},{"$f":"IF(P75=0,0,IF(AND(AH75>=AG75,AH75<=AF75),((AH75-AG75)*12)*R75,0))","v":0},{"$f":"IF(T75>0,T75,S75)","v":0},2,{"$f":"V75*SUM(S75:T75)","v":0},{"$f":"IF(AD75>AE75,0,IF(AF75<AG75,Q75,IF(AND(AF75>=AG75,AF75<=AE75),(Q75-U75),IF(AND(AG75<=AD75,AE75>=AD75),0,IF(AF75>AE75,((AG75-AD75)*12)*R75,0)))))","v":0},{"$f":"X75*V75","v":0},2,{"$f":"Y75*Z75","v":0},{"$f":"IF(P75>0,0,AA75+W75*Z75)*Z75","v":0},{"$f":"IF(P75>0,(O75-AA75)/2,IF(AD75>=AG75,(((O75*V75)*Z75)-AB75)/2,((((O75*V75)*Z75)-AA75)+(((O75*V75)*Z75)-AB75))/2))","v":270826.23999999999},2017.75,2017.75,2027.75,2016.75,-8.3333333333333329E-2]
[null,null,"2018 FEL Truck",191690,null,2018,1,0,null,"S/L",10,{"$f":"F76+K76","v":2028},null,null,312655.15999999997,null,312655.15999999997,2605.4596666666662,0,0,0,3,0,0,0,3,0,0,1406948.22,{"$f":"$F76+(($G76-1)/12)","v":2018},{"$f":"($Q$5+1)-($Q$2/12)","v":2017.75},{"$f":"$L76+(($G76-1)/12)","v":2028},{"$f":"$Q$4+($Q$3/12)","v":2016.75},{"$f":"$M76+(($N76-1)/12)","v":-8.3333333333333329E-2}]
[null,null,"Decals for New Truck","193351/191690",null,2018,1,0,null,"S/L",10,2028,null,null,957.42,null,957.42,7.9784999999999995,0,0,0,4,0,0,0,4,0,0,7659.36,2018,2017.75,2028,2016.75,-8.3333333333333329E-2]
[null,2019,"Cap Repair: Engine Repair Truck 2019","200354/61382",null,2018,6,0,null,"S/L",3,2021,null,null,35182.239999999998,null,35182.239999999998,977.28444444444438,0,0,0,5,0,0,0,5,0,0,439777.99999999994,2018.4166666666667,2017.75,2021.4166666666667,2016.75,-8.3333333333333329E-2]
[null,3688,"Decals on Truck 3688","207703/203826",null,2018,9,0,null,"S/L",10,2028,null,null,1071.18,null,1071.18,8.9265000000000008,0,0,0,6,0,0,0,6,0,0,19281.239999999998,2018.6666666666667,2017.75,2028.6666666666667,2016.75,-8.3333333333333329E-2]
[null,null,"2019 ASL Truck",202837,null,2018,9,0,null,"S/L",10,2028,null,null,337246.78,null,337246.78,2810.3898333333332,0,0,0,7,0,0,0,7,0,0,8262546.1099999994,2018.6666666666667,2017.75,2028.6666666666667,2016.75,-8.3333333333333329E-2]
[null,null,"Decals","204912/202837",null,2018,9,0,null,"S/L",10,2028,null,null,1071.18,null,1071.18,8.9265000000000008,0,0,0,8,0,0,0,8,0,0,34277.760000000002,2018.6666666666667,2017.75,2028.6666666666667,2016.75,-8.3333333333333329E-2]
[null,null,"2019 ASL Truck",203826,null,2018,10,0,null,"S/L",10,2028,null,null,336943.72,null,336943.72,2807.864333333333,0,0,0,9,0,0,0,9,0,0,13646220.659999998,2018.75,2017.75,2028.75,2016.75,-8.3333333333333329E-2]
[null,3623,"Capital Repair: Truck 3623 Engine Replacement","207435/61412",null,2018,12,0,null,"S/L",3,2021,null,null,43878.52,null,43878.52,1218.8477777777778,0,0,0,10,0,0,0,10,0,0,2193926,2018.9166666666667,2017.75,2021.9166666666667,2016.75,-8.3333333333333329E-2]
[null,null,""]
[null,16,"TOTAL GARBAGE",null,null,null,null,null,null,null,null,null,null,null,{"$f":"SUM(O12:O84)","v":7383001.5468421057},null,{"$f":"SUM(Q12:Q84)","v":6350133.3971421039},{"$f":"SUM(R12:R84)","v":71652.699425175437},{"$f":"SUM(S12:S84)","v":343720.3396591451},null,null,null,{"$f":"SUM(W12:W84)","v":343720.3396591451},null,null,null,{"$f":"SUM(AA12:AA84)","v":3247681.0464670737},{"$f":"SUM(AB12:AB84)","v":3591401.3861262179},{"$f":"SUM(AC12:AC84)","v":28871586.350545458},null,null,null,null,null,null,{"$f":"SUM(AJ12:AJ84)","v":312910.01279038651},null,{"$f":"SUM(AL12:AL84)","v":656630.35244953167},null,-639080.33370000008,null,998237.48760243657,null,1901100.8094002665]
[null,null,""]
[null,null,""]
[null,null,"ROLL OFF"]
[null,null,""]
[]
[]
[]
[null,4024,"'00 INT'L 9200I SBA 6X4 CAB & CHASSIS",null,null,2000,8,0.2,null,"S/L",7,{"$f":"F93+K93","v":2007},null,null,92187.97,null,{"$f":"O93-O93*H93","v":73750.376000000004},{"$f":"Q93/K93/12","v":877.98066666666671},{"$f":"IF(P93>0,0,IF(OR(AD93>AE93,AF93<AG93),0,IF(AND(AF93>=AG93,AF93<=AE93),R93*((AF93-AG93)*12),IF(AND(AG93<=AD93,AE93>=AD93),((AE93-AD93)*12)*R93,IF(AF93>AE93,12*R93,0)))))","v":0},{"$f":"IF(P93=0,0,IF(AND(AH93>=AG93,AH93<=AF93),((AH93-AG93)*12)*R93,0))","v":0},{"$f":"IF(T93>0,T93,S93)","v":0},1,{"$f":"V93*SUM(S93:T93)","v":0},{"$f":"IF(AD93>AE93,0,IF(AF93<AG93,Q93,IF(AND(AF93>=AG93,AF93<=AE93),(Q93-U93),IF(AND(AG93<=AD93,AE93>=AD93),0,IF(AF93>AE93,((AG93-AD93)*12)*R93,0)))))","v":73750.376000000004},{"$f":"X93*V93","v":73750.376000000004},1,{"$f":"Y93*Z93","v":73750.376000000004},{"$f":"IF(P93>0,0,AA93+W93*Z93)*Z93","v":73750.376000000004},{"$f":"IF(P93>0,(O93-AA93)/2,IF(AD93>=AG93,(((O93*V93)*Z93)-AB93)/2,((((O93*V93)*Z93)-AA93)+(((O93*V93)*Z93)-AB93))/2))","v":18437.593999999997},{"$f":"$F93+(($G93-1)/12)","v":2000.5833333333333},{"$f":"($Q$5+1)-($Q$2/12)","v":2017.75},{"$f":"$L93+(($G93-1)/12)","v":2007.5833333333333},{"$f":"$Q$4+($Q$3/12)","v":2016.75},{"$f":"$M93+(($N93-1)/12)","v":-8.3333333333333329E-2},null,{"$f":"+IF((AF93-AG93)>3,((O93-Q93)/(AF93-AG93)),(O93-Q93)/3)","v":6145.8646666666655},null,{"$f":"+AJ93+W93","v":6145.8646666666655},null,{"$f":"+IF(AF93<AG93,-AC93,0)","v":-18437.593999999997},null,{"$f":"+IF(AF93>AE93,IF(AJ93>0,IF(P93>0,(O93-AA93)/2,IF(AD93>=AG93,(((O93*V93)*Z93)-(AB93+AJ93))/2,((((O93*V93)*Z93)-AA93)+(((O93*V93)*Z93)-(AB93+AJ93)))/2)),0),0)","v":0},null,{"$f":"+AC93+AN93+(IF(AP93>0,(AP93-AC93),0))","v":0}]
[null,5575,"'01 INT'L 9200 6X4",null,null,2001,5,0.2,null,"S/L",7,2008,null,null,83081.84,null,66465.471999999994,791.25561904761901,0,0,0,1,0,66465.471999999994,66465.471999999994,1,66465.471999999994,66465.471999999994,16616.368000000002,2001.3333333333333,2017.75,2008.3333333333333,2016.75,-8.3333333333333329E-2,null,{"$f":"+IF((AF94-AG94)>3,((O94-Q94)/(AF94-AG94)),(O94-Q94)/3)","v":5538.7893333333341},null,{"$f":"+AJ94+W94","v":5538.7893333333341},null,{"$f":"+IF(AF94<AG94,-AC94,0)","v":-16616.368000000002},null,{"$f":"+IF(AF94>AE94,IF(AJ94>0,IF(P94>0,(O94-AA94)/2,IF(AD94>=AG94,(((O94*V94)*Z94)-(AB94+AJ94))/2,((((O94*V94)*Z94)-AA94)+(((O94*V94)*Z94)-(AB94+AJ94)))/2)),0),0)","v":0},null,{"$f":"+AC94+AN94+(IF(AP94>0,(AP94-AC94),0))","v":0}]
["RW",5575,"LIFT AXLES ON 5575",null,null,2001,7,0.2,null,"S/L",7,2008,null,null,4218.8500000000004,null,3375.0800000000004,40.179523809523815,0,0,0,1,0,3375.0800000000004,3375.0800000000004,1,3375.0800000000004,3375.0800000000004,843.77,2001.5,2017.75,2008.5,2016.75,-8.3333333333333329E-2,null,281.25666666666666,null,281.25666666666666,null,-843.77,null,0,null,0]
["RO",4045,"'06 VOLVO W/DROP MECHANISM",null,null,2005,9,0.2,null,"S/L",7,2012,null,null,146156.88,null,116925.504,1391.9702857142856,0,0,0,1,0,116925.504,116925.504,1,116925.504,116925.504,29231.376000000004,2005.6666666666667,2017.75,2012.6666666666667,2016.75,-8.3333333333333329E-2,null,9743.7920000000013,null,9743.7920000000013,null,-29231.376000000004,null,0,null,0]
["RO",4043,"'06 VOLVO ROLLOFF",null,null,2005,12,0.2,null,"S/L",7,2012,null,null,145423.85,null,116339.08,1384.9890476190476,0,0,0,1,0,116339.08,116339.08,1,116339.08,116339.08,29084.770000000004,2005.9166666666667,2017.75,2012.9166666666667,2016.75,-8.3333333333333329E-2,null,9694.9233333333341,null,9694.9233333333341,null,-29084.770000000004,null,0,null,0]
["RO",4057,"'07 VOLVO W/HELM DROP",null,null,2007,5,0.2,null,"S/L",7,2014,null,null,157082.84,null,125666.272,1496.0270476190474,0,0,0,1,0,125666.272,125666.272,1,125666.272,125666.272,31416.567999999999,2007.3333333333333,2017.75,2014.3333333333333,2016.75,-8.3333333333333329E-2,null,10472.189333333334,null,10472.189333333334,null,-31416.567999999999,null,0,null,0]
["RO",11095,"ROUTWARE INSTALLATIONS (NON-REG)",null,null,2008,1,0.2,null,"S/L",7,2015,null,null,60001.65,null,48001.32,571.44428571428568,0,0,0,1,0,48001.32,48001.32,1,48001.32,48001.32,12000.330000000002,2008,2017.75,2015,2016.75,-8.3333333333333329E-2,null,4000.1100000000006,null,4000.1100000000006,null,-12000.330000000002,null,0,null,0]
["RO",4066,"'09 VOLVO VNM84T W/HELM BOOM",null,null,2008,10,0.2,null,"S/L",7,2015,null,null,169380.79,null,135504.63200000001,1613.1503809523811,0,0,0,1,0,135504.63200000001,135504.63200000001,1,135504.63200000001,135504.63200000001,33876.157999999996,2008.75,2017.75,2015.75,2016.75,-8.3333333333333329E-2,null,11292.052666666665,null,11292.052666666665,null,-33876.157999999996,null,0,null,0]
["RO",4071,"2009 VOLVO TYPE: H  DROP",null,null,2008,10,0.2,null,"S/L",7,2015,null,null,165485.70000000001,null,132388.56,1576.0542857142857,0,0,0,1,0,132388.56,132388.56,1,132388.56,132388.56,33097.140000000014,2008.75,2017.75,2015.75,2016.75,-8.3333333333333329E-2,null,11032.380000000005,null,11032.380000000005,null,-33097.140000000014,null,0,null,0]
[null,4065,"2009 VOLVO VNM84T200 TYPE: H  DROP",null,null,2008,10,0,null,"S/L",7,2015,null,null,127101.54,null,127101.54,1513.1135714285713,0,0,0,1,0,127101.54,127101.54,1,127101.54,127101.54,0,2008.75,2017.75,2015.75,2016.75,-8.3333333333333329E-2,null,0,null,0,null,0,null,0,null,0]
["RO",4071,"AUTOGREASER",null,null,2009,1,0.2,null,"S/L",7,2016,null,null,3902.23,null,3121.7840000000001,37.164095238095236,0,0,0,1,0,3121.7840000000001,3121.7840000000001,1,3121.7840000000001,3121.7840000000001,780.44599999999991,2009,2017.75,2016,2016.75,-8.3333333333333329E-2,null,260.14866666666666,null,260.14866666666666,null,-780.44599999999991,null,0,null,0]
["DC",4024,"FLUP 4024",null,null,2009,6,0,null,"S/L",3,2012,null,null,2534.42,null,2534.42,70.400555555555556,0,0,0,1,0,2534.42,2534.42,1,2534.42,2534.42,0,2009.4166666666667,2017.75,2012.4166666666667,2016.75,-8.3333333333333329E-2,null,0,null,0,null,0,null,0,null,0]
[null,null,"DRIVE CAMS",68607,null,2009,7,0.33,null,"S/L",5,2014,null,null,4215.6400000000003,null,2824.4787999999999,47.074646666666666,0,0,0,1,0,2824.4787999999999,2824.4787999999999,1,2824.4787999999999,2824.4787999999999,1391.1612000000005,2009.5,2017.75,2014.5,2016.75,-8.3333333333333329E-2,null,463.72040000000015,null,463.72040000000015,null,-1391.1612000000005,null,0,null,0]
["RO",8715,"2012 R/O SKID TRAILER (N)",null,null,2011,7,0.2,null,"S/L",7,2018,null,null,51904.55,null,41523.64,494.32904761904757,5931.9485714285711,0,5931.9485714285711,1,5931.9485714285711,31142.729999999996,31142.729999999996,1,31142.729999999996,37074.678571428565,17795.845714285722,2011.5,2017.75,2018.5,2016.75,-8.3333333333333329E-2,null,3460.3033333333346,null,9392.2519047619062,null,0,null,16065.694047619054,null,16065.694047619054]
[null,88724,"(6) TRUCK RADIOS",null,null,2011,12,0,null,"S/L",5,2016,null,null,{"$f":"468.93*6","v":2813.58},null,2813.58,46.893000000000001,93.786000000042648,0,93.786000000042648,1,93.786000000042648,2719.7939999999571,2719.7939999999571,1,2719.7939999999571,2813.58,46.893000000021402,2011.9166666666667,2017.75,2016.9166666666667,2016.75,-8.3333333333333329E-2,null,0,null,93.786000000042648,null,0,null,0,null,46.893000000021402]
[null,null,"(4) TRUCK RADIOS",88724,null,2011,12,0,null,"S/L",5,2016,null,null,{"$f":"468.93*4","v":1875.72},null,1875.72,31.262,62.524000000028437,0,62.524000000028437,1,62.524000000028437,1813.1959999999715,1813.1959999999715,1,1813.1959999999715,1875.72,31.262000000014268,2011.9166666666667,2017.75,2016.9166666666667,2016.75,-8.3333333333333329E-2,null,0,null,62.524000000028437,null,0,null,0,null,31.262000000014268]
[null,4065,"Automatic Tarp Unit #4065",100082,null,2012,12,0,null,"S/L",3,2015,null,null,8838,null,8838,245.5,0,0,0,1,0,8838,8838,1,8838,8838,0,2012.9166666666667,2017.75,2015.9166666666667,2016.75,-8.3333333333333329E-2,null,0,null,0,null,0,null,0,null,0]
[null,4057,"AA Welding Automatic Tarp Unit",101833,null,2013,1,0,null,"S/L",3,2016,null,null,8837.86,null,8837.86,245.49611111111111,0,0,0,1,0,8837.86,8837.86,1,8837.86,8837.86,0,2013,2017.75,2016,2016.75,-8.3333333333333329E-2,null,0,null,0,null,0,null,0,null,0]
[null,4066,"AA Welding Automatic Tarp Unit",102419,null,2013,2,0,null,"S/L",3,2016,null,null,8837.86,null,8837.86,245.49611111111111,0,0,0,1,0,8837.86,8837.86,1,8837.86,8837.86,0,2013.0833333333333,2017.75,2016.0833333333333,2016.75,-8.3333333333333329E-2,null,0,null,0,null,0,null,0,null,0]
[null,4071,"AA Welding Automatic Tarp Unit",102420,null,2013,2,0,null,"S/L",3,2016,null,null,8837.86,null,8837.86,245.49611111111111,0,0,0,1,0,8837.86,8837.86,1,8837.86,8837.86,0,2013.0833333333333,2017.75,2016.0833333333333,2016.75,-8.3333333333333329E-2,null,0,null,0,null,0,null,0,null,0]
[null,4045,"AA Welding Automatic Tarp Unit",102418,null,2013,2,0,null,"S/L",3,2016,null,null,8837.86,null,8837.86,245.49611111111111,0,0,0,1,0,8837.86,8837.86,1,8837.86,8837.86,0,2013.0833333333333,2017.75,2016.0833333333333,2016.75,-8.3333333333333329E-2,null,0,null,0,null,0,null,0,null,0]
[null,null,"2009 Type H Drop R/O",195382,null,2008,11,0,null,"S/L",10,2018,null,null,165486.5,null,{"$f":"O114-O114*H114","v":165486.5},{"$f":"Q114/K114/12","v":1379.0541666666668},{"$f":"IF(P114>0,0,IF(OR(AD114>AE114,AF114<AG114),0,IF(AND(AF114>=AG114,AF114<=AE114),R114*((AF114-AG114)*12),IF(AND(AG114<=AD114,AE114>=AD114),((AE114-AD114)*12)*R114,IF(AF114>AE114,12*R114,0)))))","v":16548.650000000001},{"$f":"IF(P114=0,0,IF(AND(AH114>=AG114,AH114<=AF114),((AH114-AG114)*12)*R114,0))","v":0},{"$f":"IF(T114>0,T114,S114)","v":16548.650000000001},2,{"$f":"V114*SUM(S114:T114)","v":33097.300000000003},{"$f":"IF(AD114>AE114,0,IF(AF114<AG114,Q114,IF(AND(AF114>=AG114,AF114<=AE114),(Q114-U114),IF(AND(AG114<=AD114,AE114>=AD114),0,IF(AF114>AE114,((AG114-AD114)*12)*R114,0)))))","v":131010.14583333459},{"$f":"X114*V114","v":262020.29166666919},2,{"$f":"Y114*Z114","v":524040.58333333838},{"$f":"IF(P114>0,0,AA114+W114*Z114)*Z114","v":1180470.3666666767},{"$f":"IF(P114>0,(O114-AA114)/2,IF(AD114>=AG114,(((O114*V114)*Z114)-AB114)/2,((((O114*V114)*Z114)-AA114)+(((O114*V114)*Z114)-AB114))/2))","v":-190309.47500000754},2008.8333333333333,2017.75,2018.8333333333333,2016.75,-8.3333333333333329E-2]
[null,null,"2000 Type H Drop R/O",195384,null,2008,11,0,null,"S/L",3,2011,null,null,41500,null,{"$f":"O115-O115*H115","v":41500},{"$f":"Q115/K115/12","v":1152.7777777777778},{"$f":"IF(P115>0,0,IF(OR(AD115>AE115,AF115<AG115),0,IF(AND(AF115>=AG115,AF115<=AE115),R115*((AF115-AG115)*12),IF(AND(AG115<=AD115,AE115>=AD115),((AE115-AD115)*12)*R115,IF(AF115>AE115,12*R115,0)))))","v":0},{"$f":"IF(P115=0,0,IF(AND(AH115>=AG115,AH115<=AF115),((AH115-AG115)*12)*R115,0))","v":0},{"$f":"IF(T115>0,T115,S115)","v":0},3,{"$f":"V115*SUM(S115:T115)","v":0},{"$f":"IF(AD115>AE115,0,IF(AF115<AG115,Q115,IF(AND(AF115>=AG115,AF115<=AE115),(Q115-U115),IF(AND(AG115<=AD115,AE115>=AD115),0,IF(AF115>AE115,((AG115-AD115)*12)*R115,0)))))","v":41500},{"$f":"X115*V115","v":124500},3,{"$f":"Y115*Z115","v":373500},{"$f":"IF(P115>0,0,AA115+W115*Z115)*Z115","v":1120500},{"$f":"IF(P115>0,(O115-AA115)/2,IF(AD115>=AG115,(((O115*V115)*Z115)-AB115)/2,((((O115*V115)*Z115)-AA115)+(((O115*V115)*Z115)-AB115))/2))","v":-373500},2008.8333333333333,2017.75,2011.8333333333333,2016.75,-8.3333333333333329E-2]
[]
[]
[]
[null,6,"TOTAL ROLL OFF",null,null,null,null,null,null,null,null,null,null,null,{"$f":"SUM(O90:O118)","v":1468543.9900000005},null,{"$f":"SUM(Q90:Q118)","v":1251387.3987999998},{"$f":"SUM(R90:R118)","v":15742.604448253969},{"$f":"SUM(S90:S118)","v":22636.908571428645},null,null,null,{"$f":"SUM(W90:W118)","v":39185.558571428643},null,null,null,{"$f":"SUM(AA90:AA118)","v":1931404.2621333383},{"$f":"SUM(AB90:AB118)","v":3340922.3040381051},{"$f":"SUM(AC90:AC118)","v":-339159.79308572179},null,null,null,null,null,null,{"$f":"SUM(AJ90:AJ118)","v":72385.530400000003},null,78473.788971428658,null,-206775.68120000002,null,16065.694047619054,null,16143.849047619089]
[null,null,""]
[null,null,""]
[null,null,"RESI RECYCLE"]
[null,null,""]
["SL",3555,"VIDEO CAMERA",null,null,1999,10,0.2,null,"S/L",7,{"$f":"F124+K124","v":2006},null,null,1532.03,null,{"$f":"O124-O124*H124","v":1225.624},{"$f":"Q124/K124/12","v":14.590761904761905},{"$f":"IF(P124>0,0,IF(OR(AD124>AE124,AF124<AG124),0,IF(AND(AF124>=AG124,AF124<=AE124),R124*((AF124-AG124)*12),IF(AND(AG124<=AD124,AE124>=AD124),((AE124-AD124)*12)*R124,IF(AF124>AE124,12*R124,0)))))","v":0},{"$f":"IF(P124=0,0,IF(AND(AH124>=AG124,AH124<=AF124),((AH124-AG124)*12)*R124,0))","v":0},{"$f":"IF(T124>0,T124,S124)","v":0},1,{"$f":"V124*SUM(S124:T124)","v":0},{"$f":"IF(AD124>AE124,0,IF(AF124<AG124,Q124,IF(AND(AF124>=AG124,AF124<=AE124),(Q124-U124),IF(AND(AG124<=AD124,AE124>=AD124),0,IF(AF124>AE124,((AG124-AD124)*12)*R124,0)))))","v":1225.624},{"$f":"X124*V124","v":1225.624},1,{"$f":"Y124*Z124","v":1225.624},{"$f":"IF(P124>0,0,AA124+W124*Z124)*Z124","v":1225.624},{"$f":"IF(P124>0,(O124-AA124)/2,IF(AD124>=AG124,(((O124*V124)*Z124)-AB124)/2,((((O124*V124)*Z124)-AA124)+(((O124*V124)*Z124)-AB124))/2))","v":306.40599999999995},{"$f":"$F124+(($G124-1)/12)","v":1999.75},{"$f":"($Q$5+1)-($Q$2/12)","v":2017.75},{"$f":"$L124+(($G124-1)/12)","v":2006.75},{"$f":"$Q$4+($Q$3/12)","v":2016.75},{"$f":"$M124+(($N124-1)/12)","v":-8.3333333333333329E-2},null,{"$f":"+IF((AF124-AG124)>3,((O124-Q124)/(AF124-AG124)),(O124-Q124)/3)","v":102.13533333333332},null,{"$f":"+AJ124+W124","v":102.13533333333332},null,{"$f":"+IF(AF124<AG124,-AC124,0)","v":-306.40599999999995},null,{"$f":"+IF(AF124>AE124,IF(AJ124>0,IF(P124>0,(O124-AA124)/2,IF(AD124>=AG124,(((O124*V124)*Z124)-(AB124+AJ124))/2,((((O124*V124)*Z124)-AA124)+(((O124*V124)*Z124)-(AB124+AJ124)))/2)),0),0)","v":0},null,{"$f":"+AC124+AN124+(IF(AP124>0,(AP124-AC124),0))","v":0}]
["SL",3555,"2000 PETERBILT 320",null,null,1999,11,0.2,null,"S/L",7,2006,null,null,85472.55,null,68378.040000000008,814.02428571428584,0,0,0,1,0,68378.040000000008,68378.040000000008,1,68378.040000000008,68378.040000000008,17094.509999999995,1999.8333333333333,2017.75,2006.8333333333333,2016.75,-8.3333333333333329E-2,null,{"$f":"+IF((AF125-AG125)>3,((O125-Q125)/(AF125-AG125)),(O125-Q125)/3)","v":5698.1699999999983},null,{"$f":"+AJ125+W125","v":5698.1699999999983},null,{"$f":"+IF(AF125<AG125,-AC125,0)","v":-17094.509999999995},null,{"$f":"+IF(AF125>AE125,IF(AJ125>0,IF(P125>0,(O125-AA125)/2,IF(AD125>=AG125,(((O125*V125)*Z125)-(AB125+AJ125))/2,((((O125*V125)*Z125)-AA125)+(((O125*V125)*Z125)-(AB125+AJ125)))/2)),0),0)","v":0},null,{"$f":"+AC125+AN125+(IF(AP125>0,(AP125-AC125),0))","v":0}]
["SL",3555,"27 CY LEACH CURBTENDER",null,null,1999,12,0.2,null,"S/L",7,2006,null,null,62217.11,null,49773.688000000002,592.54390476190486,0,0,0,1,0,49773.688000000002,49773.688000000002,1,49773.688000000002,49773.688000000002,12443.421999999999,1999.9166666666667,2017.75,2006.9166666666667,2016.75,-8.3333333333333329E-2,null,4147.8073333333332,null,4147.8073333333332,null,-12443.421999999999,null,0,null,0]
["SL",3555,"TRAVEL ON 3555",null,null,2000,1,0.2,null,"S/L",7,2007,null,null,1870,null,1496,17.80952380952381,0,0,0,1,0,1496,1496,1,1496,1496,374,2000,2017.75,2007,2016.75,-8.3333333333333329E-2,null,124.66666666666667,null,124.66666666666667,null,-374,null,0,null,0]
["SL",3555,"INSTALL/PAINTING ON 3555",null,null,2000,2,0.2,null,"S/L",7,2007,null,null,3789.2,null,3031.3599999999997,36.087619047619043,0,0,0,1,0,3031.3599999999997,3031.3599999999997,1,3031.3599999999997,3031.3599999999997,757.84000000000015,2000.0833333333333,2017.75,2007.0833333333333,2016.75,-8.3333333333333329E-2,null,252.61333333333337,null,252.61333333333337,null,-757.84000000000015,null,0,null,0]
["SL",3562,"01 PB W/ LEACH 27YD CURBTENDER",null,null,2001,4,0.2,null,"S/L",7,2008,null,null,156107.07,null,124885.656,1486.7340000000002,0,0,0,1,0,124885.656,124885.656,1,124885.656,124885.656,31221.414000000004,2001.25,2017.75,2008.25,2016.75,-8.3333333333333329E-2,null,10407.138000000001,null,10407.138000000001,null,-31221.414000000004,null,0,null,0]
["SL",3563,"'01 PETE W/27 YD CURBTENDER SL",null,null,2001,5,0.2,null,"S/L",7,2008,null,null,156107.07,null,124885.656,1486.7340000000002,0,0,0,1,0,124885.656,124885.656,1,124885.656,124885.656,31221.414000000004,2001.3333333333333,2017.75,2008.3333333333333,2016.75,-8.3333333333333329E-2,null,10407.138000000001,null,10407.138000000001,null,-31221.414000000004,null,0,null,0]
["SL",3613,"07 PB 320 W/27 CY CURBTENDER",null,null,2007,8,0.2,null,"S/L",7,2014,null,null,194705.04,null,155764.03200000001,1854.3337142857144,0,0,0,1,0,155764.03200000001,155764.03200000001,1,155764.03200000001,155764.03200000001,38941.008000000002,2007.5833333333333,2017.75,2014.5833333333333,2016.75,-8.3333333333333329E-2,null,12980.336000000001,null,12980.336000000001,null,-38941.008000000002,null,0,null,0]
["RW",11094,"ROUTWARE INSTALLATIONS",null,null,2007,9,0.2,null,"S/L",7,2014,null,null,33369.120000000003,null,26695.296000000002,317.80114285714291,0,0,0,1,0,26695.296000000002,26695.296000000002,1,26695.296000000002,26695.296000000002,6673.8240000000005,2007.6666666666667,2017.75,2014.6666666666667,2016.75,-8.3333333333333329E-2,null,2224.6080000000002,null,2224.6080000000002,null,-6673.8240000000005,null,0,null,0]
["SL",3555,"FLUP - TRUCK 3555",null,null,2009,6,0,null,"S/L",3,2012,null,null,3305.27,null,3305.27,91.81305555555555,0,0,0,1,0,3305.27,3305.27,1,3305.27,3305.27,0,2009.4166666666667,2017.75,2012.4166666666667,2016.75,-8.3333333333333329E-2,null,0,null,0,null,0,null,0,null,0]
["SL",3562,"FLUP - TRUCK 3562",null,null,2009,6,0,null,"S/L",3,2012,null,null,4621.29,null,4621.29,128.36916666666667,0,0,0,1,0,4621.29,4621.29,1,4621.29,4621.29,0,2009.4166666666667,2017.75,2012.4166666666667,2016.75,-8.3333333333333329E-2,null,0,null,0,null,0,null,0,null,0]
["SL",3563,"FLUP - TRUCK 3563",null,null,2009,6,0,null,"S/L",3,2012,null,null,4295.2700000000004,null,4295.2700000000004,119.31305555555558,0,0,0,1,0,4295.2700000000004,4295.2700000000004,1,4295.2700000000004,4295.2700000000004,0,2009.4166666666667,2017.75,2012.4166666666667,2016.75,-8.3333333333333329E-2,null,0,null,0,null,0,null,0,null,0]
["SL",3562,"TO REPAIR TRUCK # 3562",null,null,2009,7,0.2,null,"S/L",7,2016,null,null,14669.94,null,11735.952000000001,139.7137142857143,0,0,0,1,0,11735.952000000001,11735.952000000001,1,11735.952000000001,11735.952000000001,2933.9879999999994,2009.5,2017.75,2016.5,2016.75,-8.3333333333333329E-2,null,977.99599999999975,null,977.99599999999975,null,-2933.9879999999994,null,0,null,0]
["DC",68606,"DRIVE CAMS (ONSITE TECHNICIANS)",null,null,2009,7,0.33,null,"S/L",5,2014,null,null,4416.37,null,2958.9678999999996,49.316131666666656,0,0,0,1,0,2958.9678999999996,2958.9678999999996,1,2958.9678999999996,2958.9678999999996,1457.4021000000002,2009.5,2017.75,2014.5,2016.75,-8.3333333333333329E-2,null,485.80070000000006,null,485.80070000000006,null,-1457.4021000000002,null,0,null,0]
[null,88724,"(5) TRUCK RADIOS",null,null,2011,12,0,null,"S/L",5,2016,null,null,{"$f":"468.93*5","v":2344.65},null,2344.65,39.077500000000001,78.155000000035542,0,78.155000000035542,1,78.155000000035542,2266.4949999999644,2266.4949999999644,1,2266.4949999999644,2344.65,39.077500000017835,2011.9166666666667,2017.75,2016.9166666666667,2016.75,-8.3333333333333329E-2,null,0,null,78.155000000035542,null,0,null,0,null,39.077500000017835]
[null,3563,"Plastic Hopper Door for #3563",97259,null,2012,10,0,null,"S/L",7,2019,null,null,2558.5300000000002,null,2558.5300000000002,30.45869047619048,365.50428571428574,0,365.50428571428574,1,365.50428571428574,1462.017142857143,1462.017142857143,1,1462.017142857143,1827.5214285714287,913.76071428571436,2012.75,2017.75,2019.75,2016.75,-8.3333333333333329E-2,null,0,null,365.50428571428574,null,0,null,0,null,913.76071428571436]
[null,3613,"Plastic Hopper Door for #3613",97261,null,2012,10,0,null,"S/L",7,2019,null,null,2558.5300000000002,null,2558.5300000000002,30.45869047619048,365.50428571428574,0,365.50428571428574,1,365.50428571428574,1462.017142857143,1462.017142857143,1,1462.017142857143,1827.5214285714287,913.76071428571436,2012.75,2017.75,2019.75,2016.75,-8.3333333333333329E-2,null,0,null,365.50428571428574,null,0,null,0,null,913.76071428571436]
[]
["ASL",3628,"NEW 2009 ASL (CHEHALIS CONTRACT)",null,null,2009,10,0,null,"S/L",10,2019,null,null,{"$f":"247594.64*0.5","v":123797.32},null,123797.32,1031.6443333333334,12379.732,0,12379.732,1,12379.732,86658.124000000011,86658.124000000011,1,86658.124000000011,99037.856000000014,30949.329999999994,2009.75,{"$f":"($Q$5+1)-($Q$2/12)","v":2017.75},2019.75,{"$f":"$Q$4+($Q$3/12)","v":2016.75},-8.3333333333333329E-2,null,0,null,12379.732,null,0,null,0,null,30949.329999999994]
[null,null,"(2) TRUCK RADIOS",88724,null,2011,12,0,null,"S/L",5,2016,null,null,{"$f":"468.93*2","v":937.86},null,937.86,15.631,31.262000000014218,0,31.262000000014218,1,31.262000000014218,906.59799999998575,906.59799999998575,1,906.59799999998575,937.86,15.631000000007134,2011.9166666666667,{"$f":"($Q$5+1)-($Q$2/12)","v":2017.75},2016.9166666666667,{"$f":"$Q$4+($Q$3/12)","v":2016.75},-8.3333333333333329E-2,null,0,null,31.262000000014218,null,0,null,0,null,15.631000000007134]
[null,3562,"Transmission Repair #3562",113491,null,2014,4,0,null,"S/L",3,2017,null,null,5361.62,null,5361.62,{"$f":"Q144/K144/12","v":148.9338888888889},{"$f":"IF(P144>0,0,IF(OR(AD144>AE144,AF144<AG144),0,IF(AND(AF144>=AG144,AF144<=AE144),R144*((AF144-AG144)*12),IF(AND(AG144<=AD144,AE144>=AD144),((AE144-AD144)*12)*R144,IF(AF144>AE144,12*R144,0)))))","v":893.60333333333347},{"$f":"IF(P144=0,0,IF(AND(AH144>=AG144,AH144<=AF144),((AH144-AG144)*12)*R144,0))","v":0},{"$f":"IF(T144>0,T144,S144)","v":893.60333333333347},1,{"$f":"V144*SUM(S144:T144)","v":893.60333333333347},{"$f":"IF(AD144>AE144,0,IF(AF144<AG144,Q144,IF(AND(AF144>=AG144,AF144<=AE144),(Q144-U144),IF(AND(AG144<=AD144,AE144>=AD144),0,IF(AF144>AE144,((AG144-AD144)*12)*R144,0)))))","v":4468.0166666666664},{"$f":"X144*V144","v":4468.0166666666664},1,{"$f":"Y144*Z144","v":4468.0166666666664},{"$f":"IF(P144>0,0,AA144+W144*Z144)*Z144","v":5361.62},{"$f":"IF(P144>0,(O144-AA144)/2,IF(AD144>=AG144,(((O144*V144)*Z144)-AB144)/2,((((O144*V144)*Z144)-AA144)+(((O144*V144)*Z144)-AB144))/2))","v":446.80166666666673},2014.25,{"$f":"($Q$5+1)-($Q$2/12)","v":2017.75},2017.25,{"$f":"$Q$4+($Q$3/12)","v":2016.75},-8.3333333333333329E-2,null,0,null,893.60333333333347,null,0,null,0,null,446.80166666666673]
["SL",3562,"Improvement - ASL Auto Hopper Cover Kit",118251,null,2014,12,0,null,"S/L",3,2017,null,null,2532.61,null,2532.61,{"$f":"Q145/K145/12","v":70.350277777777777},{"$f":"IF(P145>0,0,IF(OR(AD145>AE145,AF145<AG145),0,IF(AND(AF145>=AG145,AF145<=AE145),R145*((AF145-AG145)*12),IF(AND(AG145<=AD145,AE145>=AD145),((AE145-AD145)*12)*R145,IF(AF145>AE145,12*R145,0)))))","v":844.20333333333338},{"$f":"IF(P145=0,0,IF(AND(AH145>=AG145,AH145<=AF145),((AH145-AG145)*12)*R145,0))","v":0},{"$f":"IF(T145>0,T145,S145)","v":844.20333333333338},1,{"$f":"V145*SUM(S145:T145)","v":844.20333333333338},{"$f":"IF(AD145>AE145,0,IF(AF145<AG145,Q145,IF(AND(AF145>=AG145,AF145<=AE145),(Q145-U145),IF(AND(AG145<=AD145,AE145>=AD145),0,IF(AF145>AE145,((AG145-AD145)*12)*R145,0)))))","v":1547.706111111047},{"$f":"X145*V145","v":1547.706111111047},1,{"$f":"Y145*Z145","v":1547.706111111047},{"$f":"IF(P145>0,0,AA145+W145*Z145)*Z145","v":2391.9094444443804},{"$f":"IF(P145>0,(O145-AA145)/2,IF(AD145>=AG145,(((O145*V145)*Z145)-AB145)/2,((((O145*V145)*Z145)-AA145)+(((O145*V145)*Z145)-AB145))/2))","v":562.80222222228645},2014.9166666666667,{"$f":"($Q$5+1)-($Q$2/12)","v":2017.75},2017.9166666666667,{"$f":"$Q$4+($Q$3/12)","v":2016.75},-8.3333333333333329E-2,null,0,null,844.20333333333338,null,0,null,0,null,562.80222222228645]
[null,null,"(4) Samsung Tablets, Hardware, & Setup","132281/133543/139787",null,2016,4,0,null,"S/L",1,{"$f":"F146+K146","v":2017},null,null,{"$f":"((7403.89+8314.08+342)/38)*4","v":1690.5231578947369},null,1690.5231578947369,{"$f":"Q146/K146/12","v":140.87692982456142},{"$f":"IF(P146>0,0,IF(OR(AD146>AE146,AF146<AG146),0,IF(AND(AF146>=AG146,AF146<=AE146),R146*((AF146-AG146)*12),IF(AND(AG146<=AD146,AE146>=AD146),((AE146-AD146)*12)*R146,IF(AF146>AE146,12*R146,0)))))","v":845.26157894736843},{"$f":"IF(P146=0,0,IF(AND(AH146>=AG146,AH146<=AF146),((AH146-AG146)*12)*R146,0))","v":0},{"$f":"IF(T146>0,T146,S146)","v":845.26157894736843},1,{"$f":"V146*SUM(S146:T146)","v":845.26157894736843},{"$f":"IF(AD146>AE146,0,IF(AF146<AG146,Q146,IF(AND(AF146>=AG146,AF146<=AE146),(Q146-U146),IF(AND(AG146<=AD146,AE146>=AD146),0,IF(AF146>AE146,((AG146-AD146)*12)*R146,0)))))","v":845.26157894736843},{"$f":"X146*V146","v":845.26157894736843},1,{"$f":"Y146*Z146","v":845.26157894736843},{"$f":"IF(P146>0,0,AA146+W146*Z146)*Z146","v":1690.5231578947369},{"$f":"IF(P146>0,(O146-AA146)/2,IF(AD146>=AG146,(((O146*V146)*Z146)-AB146)/2,((((O146*V146)*Z146)-AA146)+(((O146*V146)*Z146)-AB146))/2))","v":422.63078947368422},2016.25,{"$f":"($Q$5+1)-($Q$2/12)","v":2017.75},2017.25,{"$f":"$Q$4+($Q$3/12)","v":2016.75},-8.3333333333333329E-2,null,0,null,845.26157894736843,null,0,null,0,null,422.63078947368422]
[null,null,""]
[null,5,"TOTAL RESI RECYCLE",null,null,null,null,null,null,null,null,null,null,null,{"$f":"SUM(O124:O147)","v":868258.9731578948},null,{"$f":"SUM(Q124:Q147)","v":724833.74505789508},{"$f":"SUM(R124:R147)","v":8656.6153868880519},{"$f":"SUM(S124:S147)","v":15803.225817042658},null,null,null,{"$f":"SUM(W124:W147)","v":15803.225817042658},null,null,null,{"$f":"SUM(AA124:AA147)","v":682668.33754243993},{"$f":"SUM(AB124:AB147)","v":698471.56335948221},{"$f":"SUM(AC124:AC147)","v":177689.02270693408},null,null,null,null,null,null,{"$f":"SUM(AJ123:AJ147)","v":47808.409366666667},null,{"$f":"SUM(AL123:AL147)","v":63611.635183709324},null,{"$f":"SUM(AN123:AN147)","v":-143425.22810000001},null,{"$f":"SUM(AP123:AP147)","v":0},null,{"$f":"SUM(AR123:AR147)","v":34263.794606934083}]
[null,null,""]
[null,null,""]
[null,null,"MF"]
[null,null,""]
["RL - SP",1002,"TYRONE UNITS    (20%)",null,null,1995,9,0.2,null,"S/L",7,{"$f":"F153+K153","v":2002},null,null,{"$f":"0.2*386","v":77.2},null,{"$f":"O153-O153*H153","v":61.760000000000005},{"$f":"Q153/K153/12","v":0.73523809523809536},{"$f":"IF(P153>0,0,IF(OR(AD153>AE153,AF153<AG153),0,IF(AND(AF153>=AG153,AF153<=AE153),R153*((AF153-AG153)*12),IF(AND(AG153<=AD153,AE153>=AD153),((AE153-AD153)*12)*R153,IF(AF153>AE153,12*R153,0)))))","v":0},{"$f":"IF(P153=0,0,IF(AND(AH153>=AG153,AH153<=AF153),((AH153-AG153)*12)*R153,0))","v":0},{"$f":"IF(T153>0,T153,S153)","v":0},1,{"$f":"V153*SUM(S153:T153)","v":0},{"$f":"IF(AD153>AE153,0,IF(AF153<AG153,Q153,IF(AND(AF153>=AG153,AF153<=AE153),(Q153-U153),IF(AND(AG153<=AD153,AE153>=AD153),0,IF(AF153>AE153,((AG153-AD153)*12)*R153,0)))))","v":61.760000000000005},{"$f":"X153*V153","v":61.760000000000005},1,{"$f":"Y153*Z153","v":61.760000000000005},{"$f":"IF(P153>0,0,AA153+W153*Z153)*Z153","v":61.760000000000005},{"$f":"IF(P153>0,(O153-AA153)/2,IF(AD153>=AG153,(((O153*V153)*Z153)-AB153)/2,((((O153*V153)*Z153)-AA153)+(((O153*V153)*Z153)-AB153))/2))","v":15.439999999999998},{"$f":"$F153+(($G153-1)/12)","v":1995.6666666666667},{"$f":"($Q$5+1)-($Q$2/12)","v":2017.75},{"$f":"$L153+(($G153-1)/12)","v":2002.6666666666667},{"$f":"$Q$4+($Q$3/12)","v":2016.75},{"$f":"$M153+(($N153-1)/12)","v":-8.3333333333333329E-2},null,{"$f":"+IF((AF153-AG153)>3,((O153-Q153)/(AF153-AG153)),(O153-Q153)/3)","v":5.1466666666666656},null,{"$f":"+AJ153+W153","v":5.1466666666666656},null,{"$f":"+IF(AF153<AG153,-AC153,0)","v":-15.439999999999998},null,{"$f":"+IF(AF153>AE153,IF(AJ153>0,IF(P153>0,(O153-AA153)/2,IF(AD153>=AG153,(((O153*V153)*Z153)-(AB153+AJ153))/2,((((O153*V153)*Z153)-AA153)+(((O153*V153)*Z153)-(AB153+AJ153)))/2)),0),0)","v":0},null,{"$f":"+AC153+AN153+(IF(AP153>0,(AP153-AC153),0))","v":0},null,null,null,null,null,null,null,null,null,null,null,null,null,null,null,null,null,null,null,null,null,null,null,null,null,null,null,null,null,null,3,"Computes with one month convention"]
["RL - SP",1002,"20YD ALPHA BODY    (20%)",null,null,1995,10,0.2,null,"S/L",7,{"$f":"F154+K154","v":2002},null,null,{"$f":"0.2*27170","v":5434},null,{"$f":"O154-O154*H154","v":4347.2},{"$f":"Q154/K154/12","v":51.752380952380946},{"$f":"IF(P154>0,0,IF(OR(AD154>AE154,AF154<AG154),0,IF(AND(AF154>=AG154,AF154<=AE154),R154*((AF154-AG154)*12),IF(AND(AG154<=AD154,AE154>=AD154),((AE154-AD154)*12)*R154,IF(AF154>AE154,12*R154,0)))))","v":0},{"$f":"IF(P154=0,0,IF(AND(AH154>=AG154,AH154<=AF154),((AH154-AG154)*12)*R154,0))","v":0},{"$f":"IF(T154>0,T154,S154)","v":0},1,{"$f":"V154*SUM(S154:T154)","v":0},{"$f":"IF(AD154>AE154,0,IF(AF154<AG154,Q154,IF(AND(AF154>=AG154,AF154<=AE154),(Q154-U154),IF(AND(AG154<=AD154,AE154>=AD154),0,IF(AF154>AE154,((AG154-AD154)*12)*R154,0)))))","v":4347.2},{"$f":"X154*V154","v":4347.2},1,{"$f":"Y154*Z154","v":4347.2},{"$f":"IF(P154>0,0,AA154+W154*Z154)*Z154","v":4347.2},{"$f":"IF(P154>0,(O154-AA154)/2,IF(AD154>=AG154,(((O154*V154)*Z154)-AB154)/2,((((O154*V154)*Z154)-AA154)+(((O154*V154)*Z154)-AB154))/2))","v":1086.8000000000002},{"$f":"$F154+(($G154-1)/12)","v":1995.75},{"$f":"($Q$5+1)-($Q$2/12)","v":2017.75},{"$f":"$L154+(($G154-1)/12)","v":2002.75},{"$f":"$Q$4+($Q$3/12)","v":2016.75},{"$f":"$M154+(($N154-1)/12)","v":-8.3333333333333329E-2},null,{"$f":"+IF((AF154-AG154)>3,((O154-Q154)/(AF154-AG154)),(O154-Q154)/3)","v":362.26666666666671},null,{"$f":"+AJ154+W154","v":362.26666666666671},null,{"$f":"+IF(AF154<AG154,-AC154,0)","v":-1086.8000000000002},null,{"$f":"+IF(AF154>AE154,IF(AJ154>0,IF(P154>0,(O154-AA154)/2,IF(AD154>=AG154,(((O154*V154)*Z154)-(AB154+AJ154))/2,((((O154*V154)*Z154)-AA154)+(((O154*V154)*Z154)-(AB154+AJ154)))/2)),0),0)","v":0},null,{"$f":"+AC154+AN154+(IF(AP154>0,(AP154-AC154),0))","v":0},null,null,null,null,null,null,null,null,null,null,null,null,null,null,null,null,null,null,null,null,null,null,null,null,null,null,null,null,null,null,null,"i.e. whole month depreciation no"]
["RL - SP",1002,"1996 VOLVO FE42    (20%)",null,null,1995,10,0.2,null,"S/L",7,{"$f":"F155+K155","v":2002},null,null,{"$f":"0.2*49700","v":9940},null,{"$f":"O155-O155*H155","v":7952},{"$f":"Q155/K155/12","v":94.666666666666671},{"$f":"IF(P155>0,0,IF(OR(AD155>AE155,AF155<AG155),0,IF(AND(AF155>=AG155,AF155<=AE155),R155*((AF155-AG155)*12),IF(AND(AG155<=AD155,AE155>=AD155),((AE155-AD155)*12)*R155,IF(AF155>AE155,12*R155,0)))))","v":0},{"$f":"IF(P155=0,0,IF(AND(AH155>=AG155,AH155<=AF155),((AH155-AG155)*12)*R155,0))","v":0},{"$f":"IF(T155>0,T155,S155)","v":0},1,{"$f":"V155*SUM(S155:T155)","v":0},{"$f":"IF(AD155>AE155,0,IF(AF155<AG155,Q155,IF(AND(AF155>=AG155,AF155<=AE155),(Q155-U155),IF(AND(AG155<=AD155,AE155>=AD155),0,IF(AF155>AE155,((AG155-AD155)*12)*R155,0)))))","v":7952},{"$f":"X155*V155","v":7952},1,{"$f":"Y155*Z155","v":7952},{"$f":"IF(P155>0,0,AA155+W155*Z155)*Z155","v":7952},{"$f":"IF(P155>0,(O155-AA155)/2,IF(AD155>=AG155,(((O155*V155)*Z155)-AB155)/2,((((O155*V155)*Z155)-AA155)+(((O155*V155)*Z155)-AB155))/2))","v":1988},{"$f":"$F155+(($G155-1)/12)","v":1995.75},{"$f":"($Q$5+1)-($Q$2/12)","v":2017.75},{"$f":"$L155+(($G155-1)/12)","v":2002.75},{"$f":"$Q$4+($Q$3/12)","v":2016.75},{"$f":"$M155+(($N155-1)/12)","v":-8.3333333333333329E-2},null,{"$f":"+IF((AF155-AG155)>3,((O155-Q155)/(AF155-AG155)),(O155-Q155)/3)","v":662.66666666666663},null,{"$f":"+AJ155+W155","v":662.66666666666663},null,{"$f":"+IF(AF155<AG155,-AC155,0)","v":-1988},null,{"$f":"+IF(AF155>AE155,IF(AJ155>0,IF(P155>0,(O155-AA155)/2,IF(AD155>=AG155,(((O155*V155)*Z155)-(AB155+AJ155))/2,((((O155*V155)*Z155)-AA155)+(((O155*V155)*Z155)-(AB155+AJ155)))/2)),0),0)","v":0},null,{"$f":"+AC155+AN155+(IF(AP155>0,(AP155-AC155),0))","v":0},null,null,null,null,null,null,null,null,null,null,null,null,null,null,null,null,null,null,null,null,null,null,null,null,null,null,null,null,null,null,null,"matter what day of month put on"]
[null,null,""]
[null,null,"TOTAL MF",null,null,null,null,null,null,null,null,null,null,null,{"$f":"SUM(O153:O156)","v":15451.2},null,{"$f":"SUM(Q153:Q156)","v":12360.96},{"$f":"SUM(R153:R156)","v":147.15428571428572},{"$f":"SUM(S153:S156)","v":0},null,null,null,{"$f":"SUM(W153:W156)","v":0},null,null,null,{"$f":"SUM(AA153:AA156)","v":12360.96},{"$f":"SUM(AB153:AB156)","v":12360.96},{"$f":"SUM(AC153:AC156)","v":3090.2400000000002},null,null,null,null,null,null,{"$f":"SUM(AJ153:AJ156)","v":1030.08},null,1030.08,null,-3090.2400000000002,null,0,null,0]
[null,null,""]
[null,null,""]
[null,null,"YARD WASTE"]
[null,null,""]
["RL - SP",1002,"TYRONE UNITS    (20%)",null,null,1995,9,0.2,null,"S/L",7,{"$f":"F162+K162","v":2002},null,null,{"$f":"0.2*386","v":77.2},null,{"$f":"O162-O162*H162","v":61.760000000000005},{"$f":"Q162/K162/12","v":0.73523809523809536},{"$f":"IF(P162>0,0,IF(OR(AD162>AE162,AF162<AG162),0,IF(AND(AF162>=AG162,AF162<=AE162),R162*((AF162-AG162)*12),IF(AND(AG162<=AD162,AE162>=AD162),((AE162-AD162)*12)*R162,IF(AF162>AE162,12*R162,0)))))","v":0},{"$f":"IF(P162=0,0,IF(AND(AH162>=AG162,AH162<=AF162),((AH162-AG162)*12)*R162,0))","v":0},{"$f":"IF(T162>0,T162,S162)","v":0},1,{"$f":"V162*SUM(S162:T162)","v":0},{"$f":"IF(AD162>AE162,0,IF(AF162<AG162,Q162,IF(AND(AF162>=AG162,AF162<=AE162),(Q162-U162),IF(AND(AG162<=AD162,AE162>=AD162),0,IF(AF162>AE162,((AG162-AD162)*12)*R162,0)))))","v":61.760000000000005},{"$f":"X162*V162","v":61.760000000000005},1,{"$f":"Y162*Z162","v":61.760000000000005},{"$f":"IF(P162>0,0,AA162+W162*Z162)*Z162","v":61.760000000000005},{"$f":"IF(P162>0,(O162-AA162)/2,IF(AD162>=AG162,(((O162*V162)*Z162)-AB162)/2,((((O162*V162)*Z162)-AA162)+(((O162*V162)*Z162)-AB162))/2))","v":15.439999999999998},{"$f":"$F162+(($G162-1)/12)","v":1995.6666666666667},{"$f":"($Q$5+1)-($Q$2/12)","v":2017.75},{"$f":"$L162+(($G162-1)/12)","v":2002.6666666666667},{"$f":"$Q$4+($Q$3/12)","v":2016.75},{"$f":"$M162+(($N162-1)/12)","v":-8.3333333333333329E-2},null,{"$f":"+IF((AF162-AG162)>3,((O162-Q162)/(AF162-AG162)),(O162-Q162)/3)","v":5.1466666666666656},null,{"$f":"+AJ162+W162","v":5.1466666666666656},null,{"$f":"+IF(AF162<AG162,-AC162,0)","v":-15.439999999999998},null,{"$f":"+IF(AF162>AE162,IF(AJ162>0,IF(P162>0,(O162-AA162)/2,IF(AD162>=AG162,(((O162*V162)*Z162)-(AB162+AJ162))/2,((((O162*V162)*Z162)-AA162)+(((O162*V162)*Z162)-(AB162+AJ162)))/2)),0),0)","v":0},null,{"$f":"+AC162+AN162+(IF(AP162>0,(AP162-AC162),0))","v":0},null,null,null,null,null,null,null,null,null,null,null,null,null,null,null,null,null,null,null,null,null,null,null,null,null,null,null,null,null,null,3,"Computes with one month convention"]
["RL - SP",1002,"20YD ALPHA BODY    (20%)",null,null,1995,10,0.2,null,"S/L",7,{"$f":"F163+K163","v":2002},null,null,{"$f":"0.2*27170","v":5434},null,{"$f":"O163-O163*H163","v":4347.2},{"$f":"Q163/K163/12","v":51.752380952380946},{"$f":"IF(P163>0,0,IF(OR(AD163>AE163,AF163<AG163),0,IF(AND(AF163>=AG163,AF163<=AE163),R163*((AF163-AG163)*12),IF(AND(AG163<=AD163,AE163>=AD163),((AE163-AD163)*12)*R163,IF(AF163>AE163,12*R163,0)))))","v":0},{"$f":"IF(P163=0,0,IF(AND(AH163>=AG163,AH163<=AF163),((AH163-AG163)*12)*R163,0))","v":0},{"$f":"IF(T163>0,T163,S163)","v":0},1,{"$f":"V163*SUM(S163:T163)","v":0},{"$f":"IF(AD163>AE163,0,IF(AF163<AG163,Q163,IF(AND(AF163>=AG163,AF163<=AE163),(Q163-U163),IF(AND(AG163<=AD163,AE163>=AD163),0,IF(AF163>AE163,((AG163-AD163)*12)*R163,0)))))","v":4347.2},{"$f":"X163*V163","v":4347.2},1,{"$f":"Y163*Z163","v":4347.2},{"$f":"IF(P163>0,0,AA163+W163*Z163)*Z163","v":4347.2},{"$f":"IF(P163>0,(O163-AA163)/2,IF(AD163>=AG163,(((O163*V163)*Z163)-AB163)/2,((((O163*V163)*Z163)-AA163)+(((O163*V163)*Z163)-AB163))/2))","v":1086.8000000000002},{"$f":"$F163+(($G163-1)/12)","v":1995.75},{"$f":"($Q$5+1)-($Q$2/12)","v":2017.75},{"$f":"$L163+(($G163-1)/12)","v":2002.75},{"$f":"$Q$4+($Q$3/12)","v":2016.75},{"$f":"$M163+(($N163-1)/12)","v":-8.3333333333333329E-2},null,{"$f":"+IF((AF163-AG163)>3,((O163-Q163)/(AF163-AG163)),(O163-Q163)/3)","v":362.26666666666671},null,{"$f":"+AJ163+W163","v":362.26666666666671},null,{"$f":"+IF(AF163<AG163,-AC163,0)","v":-1086.8000000000002},null,{"$f":"+IF(AF163>AE163,IF(AJ163>0,IF(P163>0,(O163-AA163)/2,IF(AD163>=AG163,(((O163*V163)*Z163)-(AB163+AJ163))/2,((((O163*V163)*Z163)-AA163)+(((O163*V163)*Z163)-(AB163+AJ163)))/2)),0),0)","v":0},null,{"$f":"+AC163+AN163+(IF(AP163>0,(AP163-AC163),0))","v":0},null,null,null,null,null,null,null,null,null,null,null,null,null,null,null,null,null,null,null,null,null,null,null,null,null,null,null,null,null,null,null,"i.e. whole month depreciation no"]
["RL - SP",1002,"1996 VOLVO FE42    (20%)",null,null,1995,10,0.2,null,"S/L",7,{"$f":"F164+K164","v":2002},null,null,{"$f":"0.2*49700","v":9940},null,{"$f":"O164-O164*H164","v":7952},{"$f":"Q164/K164/12","v":94.666666666666671},{"$f":"IF(P164>0,0,IF(OR(AD164>AE164,AF164<AG164),0,IF(AND(AF164>=AG164,AF164<=AE164),R164*((AF164-AG164)*12),IF(AND(AG164<=AD164,AE164>=AD164),((AE164-AD164)*12)*R164,IF(AF164>AE164,12*R164,0)))))","v":0},{"$f":"IF(P164=0,0,IF(AND(AH164>=AG164,AH164<=AF164),((AH164-AG164)*12)*R164,0))","v":0},{"$f":"IF(T164>0,T164,S164)","v":0},1,{"$f":"V164*SUM(S164:T164)","v":0},{"$f":"IF(AD164>AE164,0,IF(AF164<AG164,Q164,IF(AND(AF164>=AG164,AF164<=AE164),(Q164-U164),IF(AND(AG164<=AD164,AE164>=AD164),0,IF(AF164>AE164,((AG164-AD164)*12)*R164,0)))))","v":7952},{"$f":"X164*V164","v":7952},1,{"$f":"Y164*Z164","v":7952},{"$f":"IF(P164>0,0,AA164+W164*Z164)*Z164","v":7952},{"$f":"IF(P164>0,(O164-AA164)/2,IF(AD164>=AG164,(((O164*V164)*Z164)-AB164)/2,((((O164*V164)*Z164)-AA164)+(((O164*V164)*Z164)-AB164))/2))","v":1988},{"$f":"$F164+(($G164-1)/12)","v":1995.75},{"$f":"($Q$5+1)-($Q$2/12)","v":2017.75},{"$f":"$L164+(($G164-1)/12)","v":2002.75},{"$f":"$Q$4+($Q$3/12)","v":2016.75},{"$f":"$M164+(($N164-1)/12)","v":-8.3333333333333329E-2},null,{"$f":"+IF((AF164-AG164)>3,((O164-Q164)/(AF164-AG164)),(O164-Q164)/3)","v":662.66666666666663},null,{"$f":"+AJ164+W164","v":662.66666666666663},null,{"$f":"+IF(AF164<AG164,-AC164,0)","v":-1988},null,{"$f":"+IF(AF164>AE164,IF(AJ164>0,IF(P164>0,(O164-AA164)/2,IF(AD164>=AG164,(((O164*V164)*Z164)-(AB164+AJ164))/2,((((O164*V164)*Z164)-AA164)+(((O164*V164)*Z164)-(AB164+AJ164)))/2)),0),0)","v":0},null,{"$f":"+AC164+AN164+(IF(AP164>0,(AP164-AC164),0))","v":0},null,null,null,null,null,null,null,null,null,null,null,null,null,null,null,null,null,null,null,null,null,null,null,null,null,null,null,null,null,null,null,"matter what day of month put on"]
[]
[null,null,"TOTAL YARD WASTE",null,null,null,null,null,null,null,null,null,null,null,{"$f":"SUM(O162:O165)","v":15451.2},null,{"$f":"SUM(Q162:Q165)","v":12360.96},{"$f":"SUM(R162:R165)","v":147.15428571428572},{"$f":"SUM(S162:S165)","v":0},null,null,null,{"$f":"SUM(W162:W165)","v":0},null,null,null,{"$f":"SUM(AA162:AA165)","v":12360.96},{"$f":"SUM(AB162:AB165)","v":12360.96},{"$f":"SUM(AC162:AC165)","v":3090.2400000000002},null,null,null,null,null,null,{"$f":"SUM(AJ162:AJ165)","v":1030.08},null,1030.08,null,-3090.2400000000002,null,0,null,0]
[]
[null,null,""]
[null,null,"Commercial Recycling"]
[]
["TRL",8707,"S828 PEERLESS TRAILER",null,null,1997,5,0.2,null,"S/L",7,{"$f":"F171+K171","v":2004},null,null,3000,null,{"$f":"O171-O171*H171","v":2400},{"$f":"Q171/K171/12","v":28.571428571428569},{"$f":"IF(P171>0,0,IF(OR(AD171>AE171,AF171<AG171),0,IF(AND(AF171>=AG171,AF171<=AE171),R171*((AF171-AG171)*12),IF(AND(AG171<=AD171,AE171>=AD171),((AE171-AD171)*12)*R171,IF(AF171>AE171,12*R171,0)))))","v":0},{"$f":"IF(P171=0,0,IF(AND(AH171>=AG171,AH171<=AF171),((AH171-AG171)*12)*R171,0))","v":0},{"$f":"IF(T171>0,T171,S171)","v":0},1,{"$f":"V171*SUM(S171:T171)","v":0},{"$f":"IF(AD171>AE171,0,IF(AF171<AG171,Q171,IF(AND(AF171>=AG171,AF171<=AE171),(Q171-U171),IF(AND(AG171<=AD171,AE171>=AD171),0,IF(AF171>AE171,((AG171-AD171)*12)*R171,0)))))","v":2400},{"$f":"X171*V171","v":2400},1,{"$f":"Y171*Z171","v":2400},{"$f":"IF(P171>0,0,AA171+W171*Z171)*Z171","v":2400},{"$f":"IF(P171>0,(O171-AA171)/2,IF(AD171>=AG171,(((O171*V171)*Z171)-AB171)/2,((((O171*V171)*Z171)-AA171)+(((O171*V171)*Z171)-AB171))/2))","v":600},{"$f":"$F171+(($G171-1)/12)","v":1997.3333333333333},{"$f":"($Q$5+1)-($Q$2/12)","v":2017.75},{"$f":"$L171+(($G171-1)/12)","v":2004.3333333333333},{"$f":"$Q$4+($Q$3/12)","v":2016.75},{"$f":"$M171+(($N171-1)/12)","v":-8.3333333333333329E-2},null,{"$f":"+IF((AF171-AG171)>3,((O171-Q171)/(AF171-AG171)),(O171-Q171)/3)","v":200},null,{"$f":"+AJ171+W171","v":200},null,{"$f":"+IF(AF171<AG171,-AC171,0)","v":-600},null,{"$f":"+IF(AF171>AE171,IF(AJ171>0,IF(P171>0,(O171-AA171)/2,IF(AD171>=AG171,(((O171*V171)*Z171)-(AB171+AJ171))/2,((((O171*V171)*Z171)-AA171)+(((O171*V171)*Z171)-(AB171+AJ171)))/2)),0),0)","v":0},null,{"$f":"+AC171+AN171+(IF(AP171>0,(AP171-AC171),0))","v":0}]
[null,8707,"TAX ON #8707",null,null,1997,6,0.2,null,"S/L",7,2004,null,null,280,null,224,2.6666666666666665,0,0,0,1,0,224,224,1,224,224,56,1997.4166666666667,2017.75,2004.4166666666667,2016.75,-8.3333333333333329E-2,null,18.666666666666668,null,18.666666666666668,null,-56,null,0,null,0]
[null,8587,"S837 PEERLESS DOLLY",null,null,1997,5,0.2,null,"S/L",7,2004,null,null,3000,null,2400,28.571428571428569,0,0,0,1,0,{"$f":"IF(AD173>AE173,0,IF(AF173<AG173,Q173,IF(AND(AF173>=AG173,AF173<=AE173),(Q173-U173),IF(AND(AG173<=AD173,AE173>=AD173),0,IF(AF173>AE173,((AG173-AD173)*12)*R173,0)))))","v":2400},{"$f":"X173*V173","v":2400},1,{"$f":"Y173*Z173","v":2400},{"$f":"IF(P173>0,0,AA173+W173*Z173)*Z173","v":2400},{"$f":"IF(P173>0,(O173-AA173)/2,IF(AD173>=AG173,(((O173*V173)*Z173)-AB173)/2,((((O173*V173)*Z173)-AA173)+(((O173*V173)*Z173)-AB173))/2))","v":600},1997.3333333333333,2017.75,2004.3333333333333,2016.75,-8.3333333333333329E-2,null,200,null,200,null,-600,null,0,null,0]
[null,8587,"TAX ON #8587",null,null,1997,6,0.2,null,"S/L",7,2004,null,null,280,null,224,2.6666666666666665,0,0,0,1,0,{"$f":"IF(AD174>AE174,0,IF(AF174<AG174,Q174,IF(AND(AF174>=AG174,AF174<=AE174),(Q174-U174),IF(AND(AG174<=AD174,AE174>=AD174),0,IF(AF174>AE174,((AG174-AD174)*12)*R174,0)))))","v":224},{"$f":"X174*V174","v":224},1,{"$f":"Y174*Z174","v":224},{"$f":"IF(P174>0,0,AA174+W174*Z174)*Z174","v":224},{"$f":"IF(P174>0,(O174-AA174)/2,IF(AD174>=AG174,(((O174*V174)*Z174)-AB174)/2,((((O174*V174)*Z174)-AA174)+(((O174*V174)*Z174)-AB174))/2))","v":56},1997.4166666666667,2017.75,2004.4166666666667,2016.75,-8.3333333333333329E-2,null,18.666666666666668,null,18.666666666666668,null,-56,null,0,null,0]
["TF Tractor SP",5576,"'01 INT'L 9200I SBA 6X4",null,null,2001,5,0.2,null,"S/L",7,2008,null,null,82490.14,null,65992.111999999994,785.62038095238086,0,0,0,1,0,65992.111999999994,65992.111999999994,1,65992.111999999994,65992.111999999994,16498.028000000006,2001.3333333333333,2017.75,2008.3333333333333,2016.75,-8.3333333333333329E-2,null,5499.3426666666683,null,5499.3426666666683,null,-16498.028000000006,null,0,null,0]
[null,5576,"LIFT AXLE FOR 5576",null,null,2001,7,0.2,null,"S/L",7,2008,null,null,4218.8599999999997,null,3375.0879999999997,40.179619047619049,0,0,0,1,0,3375.0879999999997,3375.0879999999997,1,3375.0879999999997,3375.0879999999997,843.77199999999993,2001.5,2017.75,2008.5,2016.75,-8.3333333333333329E-2,null,281.25733333333329,null,281.25733333333329,null,-843.77199999999993,null,0,null,0]
[null,null,"(6) TRUCK RADIOS",88724,null,2011,12,0,null,"S/L",5,2016,null,null,{"$f":"468.93*6","v":2813.58},null,2813.58,46.893000000000001,93.786000000042648,0,93.786000000042648,1,93.786000000042648,2719.7939999999571,2719.7939999999571,1,2719.7939999999571,2813.58,46.893000000021402,2011.9166666666667,2017.75,2016.9166666666667,2016.75,-8.3333333333333329E-2]
[null,1072,"2006 Int'l 7400 Chassis (N)",null,null,2006,4,0.2,null,"S/L",7,2013,2013.3333333333333,null,142218.70000000001,null,113774.96]
[null,3614,"07 PB 320 W/27 CY CURBTENDER",null,null,2007,8,0.2,null,"S/L",7,{"$f":"F179+K179","v":2014},null,null,194705.04,null,155764]
[]
[null,null,"TOTAL COMMERCIAL RECYCLING",null,null,null,null,null,null,null,null,null,null,null,{"$f":"SUM(O171:O180)","v":433006.32000000007},null,{"$f":"SUM(Q171:Q180)","v":346967.74},{"$f":"SUM(R171:R180)","v":935.16919047619047},{"$f":"SUM(S171:S180)","v":93.786000000042648},null,null,null,{"$f":"SUM(W171:W180)","v":93.786000000042648},null,null,null,{"$f":"SUM(AA171:AA180)","v":77334.993999999948},{"$f":"SUM(AB171:AB180)","v":77428.78},{"$f":"SUM(AC171:AC180)","v":18700.693000000028},null,null,null,null,null,null,{"$f":"SUM(AJ171:AJ180)","v":6217.9333333333343},null,6217.9333333333343,null,-18653.800000000007,null,0,null,0]
[]
[null,null,"Container Delivery"]
[]
["DEL",9388,"2012 Container Delivery Truck (U)",118080,null,2014,12,0.33,null,"S/L",5,{"$f":"F185+K185","v":2019},null,null,144943.14000000001,null,{"$f":"O185-O185*H185","v":97111.9038},{"$f":"Q185/K185/12","v":1618.5317299999999},{"$f":"IF(P185>0,0,IF(OR(AD185>AE185,AF185<AG185),0,IF(AND(AF185>=AG185,AF185<=AE185),R185*((AF185-AG185)*12),IF(AND(AG185<=AD185,AE185>=AD185),((AE185-AD185)*12)*R185,IF(AF185>AE185,12*R185,0)))))","v":19422.38076},{"$f":"IF(P185=0,0,IF(AND(AH185>=AG185,AH185<=AF185),((AH185-AG185)*12)*R185,0))","v":0},{"$f":"IF(T185>0,T185,S185)","v":19422.38076},1,{"$f":"V185*SUM(S185:T185)","v":19422.38076},{"$f":"IF(AD185>AE185,0,IF(AF185<AG185,Q185,IF(AND(AF185>=AG185,AF185<=AE185),(Q185-U185),IF(AND(AG185<=AD185,AE185>=AD185),0,IF(AF185>AE185,((AG185-AD185)*12)*R185,0)))))","v":35607.698059998525},{"$f":"X185*V185","v":35607.698059998525},1,{"$f":"Y185*Z185","v":35607.698059998525},{"$f":"IF(P185>0,0,AA185+W185*Z185)*Z185","v":55030.078819998525},{"$f":"IF(P185>0,(O185-AA185)/2,IF(AD185>=AG185,(((O185*V185)*Z185)-AB185)/2,((((O185*V185)*Z185)-AA185)+(((O185*V185)*Z185)-AB185))/2))","v":99624.251560001489},{"$f":"$F185+(($G185-1)/12)","v":2014.9166666666667},{"$f":"($Q$5+1)-($Q$2/12)","v":2017.75},{"$f":"$L185+(($G185-1)/12)","v":2019.9166666666667},{"$f":"$Q$4+($Q$3/12)","v":2016.75},{"$f":"$M185+(($N185-1)/12)","v":-8.3333333333333329E-2},null,{"$f":"+IF((AF185-AG185)>3,((O185-Q185)/(AF185-AG185)),(O185-Q185)/3)","v":15104.600905262801},null,{"$f":"+AJ185+W185","v":34526.9816652628},null,{"$f":"+IF(AF185<AG185,-AC185,0)","v":0},null,{"$f":"+IF(AF185>AE185,IF(AJ185>0,IF(P185>0,(O185-AA185)/2,IF(AD185>=AG185,(((O185*V185)*Z185)-(AB185+AJ185))/2,((((O185*V185)*Z185)-AA185)+(((O185*V185)*Z185)-(AB185+AJ185)))/2)),0),0)","v":92071.951107370085},null,{"$f":"+AC185+AN185+(IF(AP185>0,(AP185-AC185),0))","v":92071.951107370085}]
["DEL",9571,"2005 ISUZU DELIVERY TRUCK (U)",79653,null,2007,2,0.33,null,"S/L",5,{"$f":"F186+K186","v":2012},null,null,30083.75,null,{"$f":"O186-O186*H186","v":20156.112499999999},{"$f":"Q186/K186/12","v":335.93520833333332},{"$f":"IF(P186>0,0,IF(OR(AD186>AE186,AF186<AG186),0,IF(AND(AF186>=AG186,AF186<=AE186),R186*((AF186-AG186)*12),IF(AND(AG186<=AD186,AE186>=AD186),((AE186-AD186)*12)*R186,IF(AF186>AE186,12*R186,0)))))","v":0},{"$f":"IF(P186=0,0,IF(AND(AH186>=AG186,AH186<=AF186),((AH186-AG186)*12)*R186,0))","v":0},{"$f":"IF(T186>0,T186,S186)","v":0},1,{"$f":"V186*SUM(S186:T186)","v":0},{"$f":"IF(AD186>AE186,0,IF(AF186<AG186,Q186,IF(AND(AF186>=AG186,AF186<=AE186),(Q186-U186),IF(AND(AG186<=AD186,AE186>=AD186),0,IF(AF186>AE186,((AG186-AD186)*12)*R186,0)))))","v":20156.112499999999},{"$f":"X186*V186","v":20156.112499999999},1,{"$f":"Y186*Z186","v":20156.112499999999},{"$f":"IF(P186>0,0,AA186+W186*Z186)*Z186","v":20156.112499999999},{"$f":"IF(P186>0,(O186-AA186)/2,IF(AD186>=AG186,(((O186*V186)*Z186)-AB186)/2,((((O186*V186)*Z186)-AA186)+(((O186*V186)*Z186)-AB186))/2))","v":9927.6375000000007},{"$f":"$F186+(($G186-1)/12)","v":2007.0833333333333},{"$f":"($Q$5+1)-($Q$2/12)","v":2017.75},{"$f":"$L186+(($G186-1)/12)","v":2012.0833333333333},{"$f":"$Q$4+($Q$3/12)","v":2016.75},{"$f":"$M186+(($N186-1)/12)","v":-8.3333333333333329E-2},null,{"$f":"+IF((AF186-AG186)>3,((O186-Q186)/(AF186-AG186)),(O186-Q186)/3)","v":3309.2125000000001},null,{"$f":"+AJ186+W186","v":3309.2125000000001},null,{"$f":"+IF(AF186<AG186,-AC186,0)","v":-9927.6375000000007},null,{"$f":"+IF(AF186>AE186,IF(AJ186>0,IF(P186>0,(O186-AA186)/2,IF(AD186>=AG186,(((O186*V186)*Z186)-(AB186+AJ186))/2,((((O186*V186)*Z186)-AA186)+(((O186*V186)*Z186)-(AB186+AJ186)))/2)),0),0)","v":0},null,{"$f":"+AC186+AN186+(IF(AP186>0,(AP186-AC186),0))","v":0}]
["DEL",5038,"1998 UD RECYCLE CURBSIDE",null,null,1999,7,0.2,null,"S/L",7,{"$f":"F187+K187","v":2006},null,null,50000,null,{"$f":"O187-O187*H187","v":40000},{"$f":"Q187/K187/12","v":476.1904761904762},{"$f":"IF(P187>0,0,IF(OR(AD187>AE187,AF187<AG187),0,IF(AND(AF187>=AG187,AF187<=AE187),R187*((AF187-AG187)*12),IF(AND(AG187<=AD187,AE187>=AD187),((AE187-AD187)*12)*R187,IF(AF187>AE187,12*R187,0)))))","v":0},{"$f":"IF(P187=0,0,IF(AND(AH187>=AG187,AH187<=AF187),((AH187-AG187)*12)*R187,0))","v":0},{"$f":"IF(T187>0,T187,S187)","v":0},1,{"$f":"V187*SUM(S187:T187)","v":0},{"$f":"IF(AD187>AE187,0,IF(AF187<AG187,Q187,IF(AND(AF187>=AG187,AF187<=AE187),(Q187-U187),IF(AND(AG187<=AD187,AE187>=AD187),0,IF(AF187>AE187,((AG187-AD187)*12)*R187,0)))))","v":40000},{"$f":"X187*V187","v":40000},1,{"$f":"Y187*Z187","v":40000},{"$f":"IF(P187>0,0,AA187+W187*Z187)*Z187","v":40000},{"$f":"IF(P187>0,(O187-AA187)/2,IF(AD187>=AG187,(((O187*V187)*Z187)-AB187)/2,((((O187*V187)*Z187)-AA187)+(((O187*V187)*Z187)-AB187))/2))","v":10000},{"$f":"$F187+(($G187-1)/12)","v":1999.5},{"$f":"($Q$5+1)-($Q$2/12)","v":2017.75},{"$f":"$L187+(($G187-1)/12)","v":2006.5},{"$f":"$Q$4+($Q$3/12)","v":2016.75},{"$f":"$M187+(($N187-1)/12)","v":-8.3333333333333329E-2},null,{"$f":"+IF((AF187-AG187)>3,((O187-Q187)/(AF187-AG187)),(O187-Q187)/3)","v":3333.3333333333335},null,{"$f":"+AJ187+W187","v":3333.3333333333335},null,{"$f":"+IF(AF187<AG187,-AC187,0)","v":-10000},null,{"$f":"+IF(AF187>AE187,IF(AJ187>0,IF(P187>0,(O187-AA187)/2,IF(AD187>=AG187,(((O187*V187)*Z187)-(AB187+AJ187))/2,((((O187*V187)*Z187)-AA187)+(((O187*V187)*Z187)-(AB187+AJ187)))/2)),0),0)","v":0},null,{"$f":"+AC187+AN187+(IF(AP187>0,(AP187-AC187),0))","v":0}]
["DEL",5038,"USE TAX",null,null,1999,7,0.33,null,"S/L",5,{"$f":"F188+K188","v":2004},null,null,3950,null,{"$f":"O188-O188*H188","v":2646.5},{"$f":"Q188/K188/12","v":44.108333333333327},{"$f":"IF(P188>0,0,IF(OR(AD188>AE188,AF188<AG188),0,IF(AND(AF188>=AG188,AF188<=AE188),R188*((AF188-AG188)*12),IF(AND(AG188<=AD188,AE188>=AD188),((AE188-AD188)*12)*R188,IF(AF188>AE188,12*R188,0)))))","v":0},{"$f":"IF(P188=0,0,IF(AND(AH188>=AG188,AH188<=AF188),((AH188-AG188)*12)*R188,0))","v":0},{"$f":"IF(T188>0,T188,S188)","v":0},1,{"$f":"V188*SUM(S188:T188)","v":0},{"$f":"IF(AD188>AE188,0,IF(AF188<AG188,Q188,IF(AND(AF188>=AG188,AF188<=AE188),(Q188-U188),IF(AND(AG188<=AD188,AE188>=AD188),0,IF(AF188>AE188,((AG188-AD188)*12)*R188,0)))))","v":2646.5},{"$f":"X188*V188","v":2646.5},1,{"$f":"Y188*Z188","v":2646.5},{"$f":"IF(P188>0,0,AA188+W188*Z188)*Z188","v":2646.5},{"$f":"IF(P188>0,(O188-AA188)/2,IF(AD188>=AG188,(((O188*V188)*Z188)-AB188)/2,((((O188*V188)*Z188)-AA188)+(((O188*V188)*Z188)-AB188))/2))","v":1303.5},{"$f":"$F188+(($G188-1)/12)","v":1999.5},{"$f":"($Q$5+1)-($Q$2/12)","v":2017.75},{"$f":"$L188+(($G188-1)/12)","v":2004.5},{"$f":"$Q$4+($Q$3/12)","v":2016.75},{"$f":"$M188+(($N188-1)/12)","v":-8.3333333333333329E-2},null,{"$f":"+IF((AF188-AG188)>3,((O188-Q188)/(AF188-AG188)),(O188-Q188)/3)","v":434.5},null,{"$f":"+AJ188+W188","v":434.5},null,{"$f":"+IF(AF188<AG188,-AC188,0)","v":-1303.5},null,{"$f":"+IF(AF188>AE188,IF(AJ188>0,IF(P188>0,(O188-AA188)/2,IF(AD188>=AG188,(((O188*V188)*Z188)-(AB188+AJ188))/2,((((O188*V188)*Z188)-AA188)+(((O188*V188)*Z188)-(AB188+AJ188)))/2)),0),0)","v":0},null,{"$f":"+AC188+AN188+(IF(AP188>0,(AP188-AC188),0))","v":0}]
[]
[null,null,"TOTAL CONTAINER DELIVERY",null,null,null,null,null,null,null,null,null,null,null,{"$f":"SUM(O185:O189)","v":228976.89},null,{"$f":"SUM(Q185:Q189)","v":159914.51630000002},{"$f":"SUM(R185:R189)","v":2474.7657478571427},{"$f":"SUM(S185:S189)","v":19422.38076},null,null,null,{"$f":"SUM(W185:W189)","v":19422.38076},null,null,null,{"$f":"SUM(AA185:AA189)","v":98410.310559998528},{"$f":"SUM(AB185:AB189)","v":117832.69131999853},{"$f":"SUM(AC185:AC189)","v":120855.38906000149},null,null,null,null,null,null,{"$f":"SUM(AJ185:AJ189)","v":22181.646738596133},null,41604.027498596137,null,-21231.137500000001,null,92071.951107370085,null,92071.951107370085]
[]
[null,null,"GRAND TOTAL",null,null,null,null,null,null,null,null,null,null,null,{"$f":"SUM(O166,O157,O148,O119,O85,O181,O190)","v":10412690.120000001},null,{"$f":"SUM(Q166,Q157,Q148,Q119,Q85,Q181,Q190)","v":8857958.7172999997},{"$f":"SUM(R166,R157,R148,R119,R85,R181,R190)","v":99756.162770079376},{"$f":"SUM(S166,S157,S148,S119,S85,S181,S190)","v":401676.64080761641},null,null,null,{"$f":"SUM(W166,W157,W148,W119,W85,W181,W190)","v":418225.29080761643},null,null,null,{"$f":"SUM(AA166,AA157,AA148,AA119,AA85,AA181,AA190)","v":6062220.8707028497},{"$f":"SUM(AB166,AB157,AB148,AB119,AB85,AB181,AB190)","v":7850778.6448438037},{"$f":"SUM(AC166,AC157,AC148,AC119,AC85,AC181,AC190)","v":28855852.142226674},null,null,null,null,null,null,{"$f":"SUM(AJ166,AJ157,AJ148,AJ119,AJ85,AJ181,AJ190)","v":463563.69262898265},null,848597.89743659913,null,-1035346.6605000001,null,1106375.1327574258,null,2043580.4041621899]
[]
[]
[]
[]
[]
[]
[]
[]
[]
[]
[null,null,"RETIRED/TRANSFERRED 2011"]
["FL",2027,"'05 AUTOCAR W/MCNEILUS F/L BODY",null,null,2006,9,0.2,null,"S/L",7,{"$f":"F204+K204","v":2013},2011,9,201740.62,0,{"$f":"O204-O204*H204","v":161392.49599999998},{"$f":"Q204/K204/12","v":1921.339238095238},{"$f":"IF(P204>0,0,IF(OR(AD204>AE204,AF204<AG204),0,IF(AND(AF204>=AG204,AF204<=AE204),R204*((AF204-AG204)*12),IF(AND(AG204<=AD204,AE204>=AD204),((AE204-AD204)*12)*R204,IF(AF204>AE204,12*R204,0)))))","v":0},{"$f":"IF(P204=0,0,IF(AND(AH204>=AG204,AH204<=AF204),((AH204-AG204)*12)*R204,0))","v":0},{"$f":"IF(T204>0,T204,S204)","v":0},1,{"$f":"V204*SUM(S204:T204)","v":0},{"$f":"IF(AD204>AE204,0,IF(AF204<AG204,Q204,IF(AND(AF204>=AG204,AF204<=AE204),(Q204-U204),IF(AND(AG204<=AD204,AE204>=AD204),0,IF(AF204>AE204,((AG204-AD204)*12)*R204,0)))))","v":161392.49599999998},{"$f":"X204*V204","v":161392.49599999998},1,{"$f":"Y204*Z204","v":161392.49599999998},{"$f":"IF(P204>0,0,AA204+W204*Z204)*Z204","v":161392.49599999998},{"$f":"IF(P204>0,(O204-AA204)/2,IF(AD204>=AG204,(((O204*V204)*Z204)-AB204)/2,((((O204*V204)*Z204)-AA204)+(((O204*V204)*Z204)-AB204))/2))","v":40348.124000000011},{"$f":"$F204+(($G204-1)/12)","v":2006.6666666666667},{"$f":"($Q$5+1)-($Q$2/12)","v":2017.75},{"$f":"$L204+(($G204-1)/12)","v":2013.6666666666667},{"$f":"$Q$4+($Q$3/12)","v":2016.75},{"$f":"$M204+(($N204-1)/12)","v":2011.6666666666667}]
[]
[]
[]
[null,null,"RETIRED/TRANSFERRED 2012"]
["FL",2036,"2011 PETERBUILT FEL W/MCNEILUS BODY (N)",88663,2188,2011,12,0.2,null,"S/L",7,{"$f":"F209+K209","v":2018},null,null,245480.55,0,{"$f":"O209-O209*H209","v":196384.44},{"$f":"Q209/K209/12","v":2337.9100000000003},{"$f":"IF(P209>0,0,IF(OR(AD209>AE209,AF209<AG209),0,IF(AND(AF209>=AG209,AF209<=AE209),R209*((AF209-AG209)*12),IF(AND(AG209<=AD209,AE209>=AD209),((AE209-AD209)*12)*R209,IF(AF209>AE209,12*R209,0)))))","v":28054.920000000006},{"$f":"IF(P209=0,0,IF(AND(AH209>=AG209,AH209<=AF209),((AH209-AG209)*12)*R209,0))","v":0},{"$f":"IF(T209>0,T209,S209)","v":28054.920000000006},1,{"$f":"V209*SUM(S209:T209)","v":28054.920000000006},{"$f":"IF(AD209>AE209,0,IF(AF209<AG209,Q209,IF(AND(AF209>=AG209,AF209<=AE209),(Q209-U209),IF(AND(AG209<=AD209,AE209>=AD209),0,IF(AF209>AE209,((AG209-AD209)*12)*R209,0)))))","v":135598.7799999979},{"$f":"X209*V209","v":135598.7799999979},1,{"$f":"Y209*Z209","v":135598.7799999979},{"$f":"IF(P209>0,0,AA209+W209*Z209)*Z209","v":163653.69999999792},{"$f":"IF(P209>0,(O209-AA209)/2,IF(AD209>=AG209,(((O209*V209)*Z209)-AB209)/2,((((O209*V209)*Z209)-AA209)+(((O209*V209)*Z209)-AB209))/2))","v":95854.310000002079},{"$f":"$F209+(($G209-1)/12)","v":2011.9166666666667},{"$f":"($Q$5+1)-($Q$2/12)","v":2017.75},{"$f":"$L209+(($G209-1)/12)","v":2018.9166666666667},{"$f":"$Q$4+($Q$3/12)","v":2016.75},{"$f":"$M209+(($N209-1)/12)","v":-8.3333333333333329E-2}]
[]
[]
[null,null,"RETIRED/TRANSFERRED 2013"]
["RO",4032,"'02 INT'L 9200I W/DROP",null,null,2003,7,0.2,null,"S/L",7,{"$f":"F213+K213","v":2010},null,null,106113.75,null,{"$f":"O213-O213*H213","v":84891},{"$f":"Q213/K213/12","v":1010.6071428571428},{"$f":"IF(P213>0,0,IF(OR(AD213>AE213,AF213<AG213),0,IF(AND(AF213>=AG213,AF213<=AE213),R213*((AF213-AG213)*12),IF(AND(AG213<=AD213,AE213>=AD213),((AE213-AD213)*12)*R213,IF(AF213>AE213,12*R213,0)))))","v":0},{"$f":"IF(P213=0,0,IF(AND(AH213>=AG213,AH213<=AF213),((AH213-AG213)*12)*R213,0))","v":0},{"$f":"IF(T213>0,T213,S213)","v":0},1,{"$f":"V213*SUM(S213:T213)","v":0},{"$f":"IF(AD213>AE213,0,IF(AF213<AG213,Q213,IF(AND(AF213>=AG213,AF213<=AE213),(Q213-U213),IF(AND(AG213<=AD213,AE213>=AD213),0,IF(AF213>AE213,((AG213-AD213)*12)*R213,0)))))","v":84891},{"$f":"X213*V213","v":84891},1,{"$f":"Y213*Z213","v":84891},{"$f":"IF(P213>0,0,AA213+W213*Z213)*Z213","v":84891},{"$f":"IF(P213>0,(O213-AA213)/2,IF(AD213>=AG213,(((O213*V213)*Z213)-AB213)/2,((((O213*V213)*Z213)-AA213)+(((O213*V213)*Z213)-AB213))/2))","v":21222.75},{"$f":"$F213+(($G213-1)/12)","v":2003.5},{"$f":"($Q$5+1)-($Q$2/12)","v":2017.75},{"$f":"$L213+(($G213-1)/12)","v":2010.5},{"$f":"$Q$4+($Q$3/12)","v":2016.75},{"$f":"$M213+(($N213-1)/12)","v":-8.3333333333333329E-2}]
[]
[]
[]
[]
[null,null,"RETIRED/TRANSFERRED 2014"]
["FL",2502,"1996 MACK",null,null,1996,4,0.2,null,"S/L",7,{"$f":"F219+K219","v":2003},null,null,89610,null,{"$f":"O219-O219*H219","v":71688},{"$f":"Q219/K219/12","v":853.42857142857144},{"$f":"IF(P219>0,0,IF(OR(AD219>AE219,AF219<AG219),0,IF(AND(AF219>=AG219,AF219<=AE219),R219*((AF219-AG219)*12),IF(AND(AG219<=AD219,AE219>=AD219),((AE219-AD219)*12)*R219,IF(AF219>AE219,12*R219,0)))))","v":0},{"$f":"IF(P219=0,0,IF(AND(AH219>=AG219,AH219<=AF219),((AH219-AG219)*12)*R219,0))","v":0},{"$f":"IF(T219>0,T219,S219)","v":0},1,{"$f":"V219*SUM(S219:T219)","v":0},{"$f":"IF(AD219>AE219,0,IF(AF219<AG219,Q219,IF(AND(AF219>=AG219,AF219<=AE219),(Q219-U219),IF(AND(AG219<=AD219,AE219>=AD219),0,IF(AF219>AE219,((AG219-AD219)*12)*R219,0)))))","v":71688},{"$f":"X219*V219","v":71688},1,{"$f":"Y219*Z219","v":71688},{"$f":"IF(P219>0,0,AA219+W219*Z219)*Z219","v":71688},{"$f":"IF(P219>0,(O219-AA219)/2,IF(AD219>=AG219,(((O219*V219)*Z219)-AB219)/2,((((O219*V219)*Z219)-AA219)+(((O219*V219)*Z219)-AB219))/2))","v":17922},{"$f":"$F219+(($G219-1)/12)","v":1996.25},{"$f":"($Q$5+1)-($Q$2/12)","v":2017.75},{"$f":"$L219+(($G219-1)/12)","v":2003.25},{"$f":"$Q$4+($Q$3/12)","v":2016.75},{"$f":"$M219+(($N219-1)/12)","v":-8.3333333333333329E-2}]
["FL",2502,"40YD F/L PACKER",null,null,1996,6,0.2,null,"S/L",7,2003,null,null,42120,null,33696,401.14285714285711,0,0,0,1,0,33696,33696,1,33696,33696,8424,1996.4166666666667,2017.75,2003.4166666666667,2016.75,-8.3333333333333329E-2]
["FL",2502,"INSTALLATION FOR #2502",null,null,1996,6,0.2,null,"S/L",7,2003,null,null,15490,null,12392,147.52380952380952,0,0,0,1,0,12392,12392,1,12392,12392,3098,1996.4166666666667,2017.75,2003.4166666666667,2016.75,-8.3333333333333329E-2]
["FL",2502,"FLEXARM",null,null,1999,8,0.2,null,"S/L",7,2006,null,null,22752.080000000002,null,18201.664000000001,216.68647619047621,0,0,0,1,0,18201.664000000001,18201.664000000001,1,18201.664000000001,18201.664000000001,4550.4160000000011,1999.5833333333333,2017.75,2006.5833333333333,2016.75,-8.3333333333333329E-2]
["RL SP",1638,"1994 Type H Rear REL",null,null,2007,2,0.33,null,"S/L",5,2012,null,null,0,null,0,0,0,0,0,1,0,0,0,1,0,0,0,2007.0833333333333,2017.75,2012.0833333333333,2016.75,-8.3333333333333329E-2]
[null,1638,"NEW TRANSMISSION.  REL 1994 FREIGHTLINER.",null,null,2007,2,0,null,"S/L",3,2010,null,null,7114.37,null,7114.37,197.62138888888887,0,0,0,1,0,7114.37,7114.37,1,7114.37,7114.37,0,2007.0833333333333,2017.75,2010.0833333333333,2016.75,-8.3333333333333329E-2]
[]
[]
[null,null,"RETIRED/TRANSFERRED 2016"]
[null,4022,"2000 INTERNATIONAL 9200I SBA 6X4",null,null,1999,12,0.2,null,"S/L",7,{"$f":"F228+K228","v":2006},null,null,79524.98,null,{"$f":"O228-O228*H228","v":63619.983999999997},{"$f":"Q228/K228/12","v":757.38076190476193},{"$f":"IF(P228>0,0,IF(OR(AD228>AE228,AF228<AG228),0,IF(AND(AF228>=AG228,AF228<=AE228),R228*((AF228-AG228)*12),IF(AND(AG228<=AD228,AE228>=AD228),((AE228-AD228)*12)*R228,IF(AF228>AE228,12*R228,0)))))","v":0},{"$f":"IF(P228=0,0,IF(AND(AH228>=AG228,AH228<=AF228),((AH228-AG228)*12)*R228,0))","v":0},{"$f":"IF(T228>0,T228,S228)","v":0},1,{"$f":"V228*SUM(S228:T228)","v":0},{"$f":"IF(AD228>AE228,0,IF(AF228<AG228,Q228,IF(AND(AF228>=AG228,AF228<=AE228),(Q228-U228),IF(AND(AG228<=AD228,AE228>=AD228),0,IF(AF228>AE228,((AG228-AD228)*12)*R228,0)))))","v":63619.983999999997},{"$f":"X228*V228","v":63619.983999999997},1,{"$f":"Y228*Z228","v":63619.983999999997},{"$f":"IF(P228>0,0,AA228+W228*Z228)*Z228","v":63619.983999999997},{"$f":"IF(P228>0,(O228-AA228)/2,IF(AD228>=AG228,(((O228*V228)*Z228)-AB228)/2,((((O228*V228)*Z228)-AA228)+(((O228*V228)*Z228)-AB228))/2))","v":15904.995999999999},{"$f":"$F228+(($G228-1)/12)","v":1999.9166666666667},{"$f":"($Q$5+1)-($Q$2/12)","v":2017.75},{"$f":"$L228+(($G228-1)/12)","v":2006.9166666666667},{"$f":"$Q$4+($Q$3/12)","v":2016.75},{"$f":"$M228+(($N228-1)/12)","v":-8.3333333333333329E-2}]
["RO",4022,"HY-TOWER TARPER",null,null,1999,3,0.33,null,"S/L",5,2004,null,null,2470.69,null,1655.3623,27.589371666666665,0,0,0,1,0,1655.3623,1655.3623,1,1655.3623,1655.3623,815.32770000000005,1999.1666666666667,2017.75,2004.1666666666667,2016.75,-8.3333333333333329E-2]
["RO",4022,"LIFT AXLE",null,null,2000,7,0.2,null,"S/L",7,2007,null,null,5662.21,null,4529.768,53.925809523809527,0,0,0,1,0,4529.768,4529.768,1,4529.768,4529.768,1132.442,2000.5,2017.75,2007.5,2016.75,-8.3333333333333329E-2]
["TF Tractor SP",4022,"ROLL-OFF UNIT",null,null,2000,9,0.2,null,"S/L",7,2007,null,null,6768.27,null,5414.616,64.459714285714284,0,0,0,1,0,5414.616,5414.616,1,5414.616,5414.616,1353.6540000000005,2000.6666666666667,2017.75,2007.6666666666667,2016.75,-8.3333333333333329E-2]
[null,4022,"FLUP 4022",null,null,2009,5,0,null,"S/L",3,2012,null,null,2957.15,null,2957.15,82.143055555555563,0,0,0,1,0,2957.15,2957.15,1,2957.15,2957.15,0,2009.3333333333333,2017.75,2012.3333333333333,2016.75,-8.3333333333333329E-2]
["ASL",3518,"'00 PETE 320 W/24YD LEACH CURBTENDER",null,null,2000,9,0.2,null,"S/L",7,2007,null,null,141947.68,null,113558.144,1351.8826666666666,0,0,0,1,0,113558.144,113558.144,1,113558.144,113558.144,28389.535999999993,2000.6666666666667,2017.75,2007.6666666666667,2016.75,-8.3333333333333329E-2]
["ASL",3518,"Trans Replacement #3518",118257,null,2014,10,0,null,"S/L",3,2017,null,null,6739.1,null,6739.1,187.19722222222222,2246.3666666666668,0,2246.3666666666668,1,2246.3666666666668,4492.7333333333336,4492.7333333333336,1,4492.7333333333336,6739.1,1123.1833333333334,2014.75,2017.75,2017.75,2016.75,-8.3333333333333329E-2]
["ASL",3518,"Improvement - ASL Auto Hopper Cover Kit",118256,null,2014,12,0,null,"S/L",3,2017,null,null,2532.61,null,2532.61,70.350277777777777,844.20333333333338,0,844.20333333333338,1,844.20333333333338,1547.706111111047,1547.706111111047,1,1547.706111111047,2391.9094444443804,562.80222222228645,2014.9166666666667,2017.75,2017.9166666666667,2016.75,-8.3333333333333329E-2]
["SL",3514,"2000 PETERBILT",null,null,1999,8,0.2,null,"S/L",7,2006,null,null,77645.95,null,62116.759999999995,739.48523809523806,0,0,0,1,0,62116.759999999995,62116.759999999995,1,62116.759999999995,62116.759999999995,15529.190000000002,1999.5833333333333,2017.75,2006.5833333333333,2016.75,-8.3333333333333329E-2]
["SL",3514,"24 CU YD LEACH CURBTENDER",null,null,1999,10,0.2,null,"S/L",7,2006,null,null,61640.63,null,49312.504000000001,587.05361904761901,0,0,0,1,0,49312.504000000001,49312.504000000001,1,49312.504000000001,49312.504000000001,12328.125999999997,1999.75,2017.75,2006.75,2016.75,-8.3333333333333329E-2]
["SL",3514,"TRAVEL COSTS-3514",null,null,1999,11,0.2,null,"S/L",7,2006,null,null,1156.43,null,925.14400000000001,11.013619047619047,0,0,0,1,0,925.14400000000001,925.14400000000001,1,925.14400000000001,925.14400000000001,231.28600000000006,1999.8333333333333,2017.75,2006.8333333333333,2016.75,-8.3333333333333329E-2]
["SL",3514,"FLUP - TRUCK 3514",null,null,2009,6,0,null,"S/L",3,2012,null,null,3470.7,null,3470.7,96.408333333333317,0,0,0,1,0,3470.7,3470.7,1,3470.7,3470.7,0,2009.4166666666667,2017.75,2012.4166666666667,2016.75,-8.3333333333333329E-2]
["SL",3514,"Improvement - ASL Auto Hopper Cover Kit",118255,null,2014,12,0,null,"S/L",3,2017,null,null,2532.61,null,2532.61,70.350277777777777,844.20333333333338,0,844.20333333333338,1,844.20333333333338,1547.706111111047,1547.706111111047,1,1547.706111111047,2391.9094444443804,562.80222222228645,2014.9166666666667,2017.75,2017.9166666666667,2016.75,-8.3333333333333329E-2]
["RL",1558,"1992 VOLVO REAR LOADER",null,null,2009,6,0.33,null,"S/L",5,2014,null,null,0,null,0,0,0,0,0,1,0,0,0,1,0,0,0,2009.4166666666667,2017.75,2014.4166666666667,2016.75,-8.3333333333333329E-2]
[null,1558,"FLUP 1558",null,null,2009,6,0.33,null,"S/L",5,2014,null,null,20268.11,null,13579.6337,226.32722833333332,0,0,0,1,0,13579.6337,13579.6337,1,13579.6337,13579.6337,6688.4763000000003,2009.4166666666667,2017.75,2014.4166666666667,2016.75,-8.3333333333333329E-2]
[]
[null,null,"RETIRED/TRANSFERRED 2018"]
[]
["ASL",9610,"1990 ISUZU MPR S/L TRUCK",null,null,1999,6,0.33,null,"S/L",5,{"$f":"F246+K246","v":2004},null,null,5000,null,{"$f":"O246-O246*H246","v":3350},{"$f":"Q246/K246/12","v":55.833333333333336},{"$f":"IF(P246>0,0,IF(OR(AD246>AE246,AF246<AG246),0,IF(AND(AF246>=AG246,AF246<=AE246),R246*((AF246-AG246)*12),IF(AND(AG246<=AD246,AE246>=AD246),((AE246-AD246)*12)*R246,IF(AF246>AE246,12*R246,0)))))","v":0},{"$f":"IF(P246=0,0,IF(AND(AH246>=AG246,AH246<=AF246),((AH246-AG246)*12)*R246,0))","v":0},{"$f":"IF(T246>0,T246,S246)","v":0},1,{"$f":"V246*SUM(S246:T246)","v":0},{"$f":"IF(AD246>AE246,0,IF(AF246<AG246,Q246,IF(AND(AF246>=AG246,AF246<=AE246),(Q246-U246),IF(AND(AG246<=AD246,AE246>=AD246),0,IF(AF246>AE246,((AG246-AD246)*12)*R246,0)))))","v":3350},{"$f":"X246*V246","v":3350},1,{"$f":"Y246*Z246","v":3350},{"$f":"IF(P246>0,0,AA246+W246*Z246)*Z246","v":3350},{"$f":"IF(P246>0,(O246-AA246)/2,IF(AD246>=AG246,(((O246*V246)*Z246)-AB246)/2,((((O246*V246)*Z246)-AA246)+(((O246*V246)*Z246)-AB246))/2))","v":1650},{"$f":"$F246+(($G246-1)/12)","v":1999.4166666666667},{"$f":"($Q$5+1)-($Q$2/12)","v":2017.75},{"$f":"$L246+(($G246-1)/12)","v":2004.4166666666667},{"$f":"$Q$4+($Q$3/12)","v":2016.75},{"$f":"$M246+(($N246-1)/12)","v":-8.3333333333333329E-2},null,{"$f":"+IF((AF246-AG246)>3,((O246-Q246)/(AF246-AG246)),(O246-Q246)/3)","v":550},null,{"$f":"+AJ246+W246","v":550},null,{"$f":"+IF(AF246<AG246,-AC246,0)","v":-1650},null,{"$f":"+IF(AF246>AE246,IF(AJ246>0,IF(P246>0,(O246-AA246)/2,IF(AD246>=AG246,(((O246*V246)*Z246)-(AB246+AJ246))/2,((((O246*V246)*Z246)-AA246)+(((O246*V246)*Z246)-(AB246+AJ246)))/2)),0),0)","v":0},null,{"$f":"+AC246+AN246+(IF(AP246>0,(AP246-AC246),0))","v":0}]

{"sheet":"Containers 2188 - Original","index":8,"n_rows":372,"n_cols":32,"rows_kept":372,"cut":false,"hidden":false,"merged":[[0,0,0,2],[2,0,2,2]]}
["2188 Lewis County/Joe's Refuse ",null,null,null,null,null,null,null,null,null,null,null,null,null,null,null,null,null,null,null,null,null,null,null,null,null,null,null,{"$f":"'Summary 2188'!F7","v":44927}]
["Depreciation Schedule",null,null,null,null,null,null,null,null,null,null,null,null,null,{"$f":"'Trucks 2188 - Original'!Q2","v":3},"Months in first year"]
[{"$f":"'Summary 2188'!A3","v":45291},null,null,null,null,null,null,null,null,null,null,null,null,null,{"$f":"'Trucks 2188 - Original'!Q3","v":9},"Months in second year",null,null,null,null,null,null,null,null,null,null,null,null,"A.","Purchase date"]
[null,null,null,null,null,null,null,null,null,null,null,null,null,null,{"$f":"'Trucks 2188 - Original'!Q4","v":2016},"First year",null,null,null,null,null,null,null,null,null,null,null,null,"B.","End of Test Period"]
[null,null,null,null,null,null,null,null,null,null,null,null,null,null,{"$f":"'Trucks 2188 - Original'!Q5","v":2017},"Second year",null,null,null,null,null,null,null,null,null,null,null,null,"C","Date fully Depr"]
[null,null,null,null,null,null,null,null,null,null,null,null,null,null,null,null,null,null,null,null,null,null,null,null,null,null,null,null,"D.","Beg of Test Period"]
[null,null,null,null,null,null,null,null,null,null,null,null,null,null,null,null,null,null,null,null,null,null,null,null,null,null,null,null,"E.","Disposition Date"]
[null,null,null,null,null,null,null,null,null,null,null,null,null,null,null,null,null,"Disposal",null,null,"Total","Beginning","Ending",null,"Beginning","Ending"]
[null," ",null,"Date in",null,"Salvage",null," ",null,"Year"," ",null," ","Asset"," ",null,"Test","Year","Total","%","Allocated","Accum","Accum","Branch","Accum.","Accum.","Average"]
[null,"Quantity",null,"Service ",null,"Value",null,"Method","Life ","Fully ","Asset"," Mo.","Asset","Disposal","Depr","Monthly ","Year","Depn","Test yr.","Allo.","Test year","Depr","Depr","Allo.","Depr.","Depr.","Investment","A.","B","C.","D.","E."]
["Codes","No","Asset Classification","Year","Mo","%","-","M","Years","Depr","Cost","-","Cost","-","Cost","Depr","Depr","-","Depn.","-","Depr.",{"$f":"AC1","v":44927},{"$f":"+A3","v":45291},"%",{"$f":"+V11","v":44927},{"$f":"+A3","v":45291},{"$f":"Z11","v":45291}]
[]
[null,null,"GARBAGE CONTAINERS"]
[]
[null,"10, 10","1.5 YD & 2YD CONTAINERS",1997,8,0,null,"S/L","10",{"$f":"D15+I15","v":2007},null,null,6428.12,null,{"$f":"M15-M15*F15","v":6428.12},{"$f":"O15/I15/12","v":53.567666666666668},{"$f":"IF(N15>0,0,IF(OR(AB15>AC15,AD15<AE15),0,IF(AND(AD15>=AE15,AD15<=AC15),P15*((AD15-AE15)*12),IF(AND(AE15<=AB15,AC15>=AB15),((AC15-AB15)*12)*P15,IF(AD15>AC15,12*P15,0)))))","v":0},{"$f":"IF(N15=0,0,IF(AND(AF15>=AE15,AF15<=AD15),((AF15-AE15)*12)*P15,0))","v":0},{"$f":"IF(R15>0,R15,Q15)","v":0},1,{"$f":"T15*SUM(Q15:R15)","v":0},{"$f":"IF(AB15>AC15,0,IF(AD15<AE15,O15,IF(AND(AD15>=AE15,AD15<=AC15),(O15-S15),IF(AND(AE15<=AB15,AC15>=AB15),0,IF(AD15>AC15,((AE15-AB15)*12)*P15,0)))))","v":6428.12},{"$f":"V15*T15","v":6428.12},1,{"$f":"W15*X15","v":6428.12},{"$f":"IF(N15>0,0,Y15+U15*X15)*X15","v":6428.12},{"$f":"IF(N15>0,(M15-Y15)/2,IF(AB15>=AE15,(((M15*T15)*X15)-Z15)/2,((((M15*T15)*X15)-Y15)+(((M15*T15)*X15)-Z15))/2))","v":0},{"$f":"$D15+(($E15-1)/12)","v":1997.5833333333333},{"$f":"($O$5+1)-($O$2/12)","v":2017.75},{"$f":"$J15+(($E15-1)/12)","v":2007.5833333333333},{"$f":"$O$4+($O$3/12)","v":2016.75},{"$f":"$K15+(($L15-1)/12)","v":-8.3333333333333329E-2}]
[null,600,"FEL & REL CONTAINERS",1999,6,0,null,"S/L","10",2009,null,null,36000,null,36000,300,0,0,0,1,0,36000,36000,1,36000,36000,0,1999.4166666666667,2017.75,2009.4166666666667,2016.75,-8.3333333333333329E-2]
[null,3,"1.5 YD SELF DUMP HOPPER",1999,10,0,null,"S/L","10",2009,null,null,1066.6099999999999,null,1066.6099999999999,8.8884166666666662,0,0,0,1,0,1066.6099999999999,1066.6099999999999,1,1066.6099999999999,1066.6099999999999,0,1999.75,2017.75,2009.75,2016.75,-8.3333333333333329E-2]
[null,34,"1.5 YD CONTAINER",2000,4,0,null,"S/L","10",2010,null,null,10860,null,10860,90.5,0,0,0,1,0,10860,10860,1,10860,10860,0,2000.25,2017.75,2010.25,2016.75,-8.3333333333333329E-2]
[null,6,"1.5 YD F/L CONTAINERS",2000,5,0,null,"S/L","10",2010,null,null,2041.68,null,2041.68,17.013999999999999,0,0,0,1,0,2041.68,2041.68,1,2041.68,2041.68,0,2000.3333333333333,2017.75,2010.3333333333333,2016.75,-8.3333333333333329E-2]
[null,8,"5 YD F/L CONTAINERS",2001,2,0,null,"S/L","10",2011,null,null,3312.3,null,3312.3,27.602500000000003,0,0,0,1,0,3312.3,3312.3,1,3312.3,3312.3,0,2001.0833333333333,2017.75,2011.0833333333333,2016.75,-8.3333333333333329E-2]
[null,12,"1.5 YD F/L CONTAINERS",2001,3,0,null,"S/L","10",2011,null,null,3692.4,null,3692.4,30.77,0,0,0,1,0,3692.4,3692.4,1,3692.4,3692.4,0,2001.1666666666667,2017.75,2011.1666666666667,2016.75,-8.3333333333333329E-2]
[null,19,"1.5 YD F/L CONTAINERS",2001,7,0,null,"S/L","10",2011,null,null,5956.8,null,5956.8,49.640000000000008,0,0,0,1,0,5956.8,5956.8,1,5956.8,5956.8,0,2001.5,2017.75,2011.5,2016.75,-8.3333333333333329E-2]
[null,5,"2 YD R/L CONTAINERS W/ LIDS",2001,8,0,null,"S/L","10",2011,null,null,1820.99,null,1820.99,15.174916666666666,0,0,0,1,0,1820.99,1820.99,1,1820.99,1820.99,0,2001.5833333333333,2017.75,2011.5833333333333,2016.75,-8.3333333333333329E-2]
[null,9,"1 YD FL/RL COMBO COMMERCIAL CONTAINERS",2003,6,0,null,"S/L","10",2013,null,null,3393.41,null,3393.41,28.278416666666669,0,0,0,1,0,3393.41,3393.41,1,3393.41,3393.41,0,2003.4166666666667,2017.75,2013.4166666666667,2016.75,-8.3333333333333329E-2]
[null,4,"1.5 YD COMBO COMMERCIAL CONTAINERS",2003,6,0,null,"S/L","10",2013,null,null,1601.24,null,1601.24,13.343666666666666,0,0,0,1,0,1601.24,1601.24,1,1601.24,1601.24,0,2003.4166666666667,2017.75,2013.4166666666667,2016.75,-8.3333333333333329E-2]
[null,9,"2 YD FL/RL COMBO COMMERCIAL CONTAINERS",2003,6,0,null,"S/L","10",2013,null,null,3874.69,null,3874.69,32.28908333333333,0,0,0,1,0,3874.69,3874.69,1,3874.69,3874.69,0,2003.4166666666667,2017.75,2013.4166666666667,2016.75,-8.3333333333333329E-2]
[null,34,"1.5 YD CONTAINER",2003,11,0,null,"S/L","10",2013,null,null,10820,null,10820,90.166666666666671,0,0,0,1,0,10820,10820,1,10820,10820,0,2003.8333333333333,2017.75,2013.8333333333333,2016.75,-8.3333333333333329E-2]
[null,0,"TAX - AUTOMATED CONTAINERS",2003,12,0,null,"S/L","10",2013,null,null,39.130000000000003,null,39.130000000000003,0.32608333333333334,0,0,0,1,0,39.130000000000003,39.130000000000003,1,39.130000000000003,39.130000000000003,0,2003.9166666666667,2017.75,2013.9166666666667,2016.75,-8.3333333333333329E-2]
[null,5,"1 YD RL CONTAINERS",2004,3,0,null,"S/L","10",2014,null,null,1701.66,null,1701.66,14.1805,0,0,0,1,0,1701.66,1701.66,1,1701.66,1701.66,0,2004.1666666666667,2017.75,2014.1666666666667,2016.75,-8.3333333333333329E-2]
[null,4,"1.5 YD RL CONTAINERS",2004,3,0,null,"S/L","10",2014,null,null,1443.18,null,1443.18,12.0265,0,0,0,1,0,1443.18,1443.18,1,1443.18,1443.18,0,2004.1666666666667,2017.75,2014.1666666666667,2016.75,-8.3333333333333329E-2]
[null,5,"2 YD R/L CONTAINERS",2004,3,0,null,"S/L","10",2014,null,null,1922.45,null,1922.45,16.020416666666666,0,0,0,1,0,1922.45,1922.45,1,1922.45,1922.45,0,2004.1666666666667,2017.75,2014.1666666666667,2016.75,-8.3333333333333329E-2]
[null,7,"2 YD FRONT/REAR LOAD CONTAINER",2005,9,0,null,"S/L","10",2015,null,null,3164,null,3164,26.366666666666664,0,0,0,1,0,3164,3164,1,3164,3164,0,2005.6666666666667,2017.75,2015.6666666666667,2016.75,-8.3333333333333329E-2]
[null,6,"5 YD F/L CONTAINERS",2006,5,0,null,"S/L","10",2016,null,null,2562.2399999999998,null,2562.2399999999998,21.352,0,0,0,1,0,2562.2399999999998,2562.2399999999998,1,2562.2399999999998,2562.2399999999998,0,2006.3333333333333,2017.75,2016.3333333333333,2016.75,-8.3333333333333329E-2]
[null,20,"1.5 YD F/L CONTAINERS",2006,7,0,null,"S/L","10",2016,null,null,6201.6,null,6201.6,51.680000000000007,0,0,0,1,0,6201.6,6201.6,1,6201.6,6201.6,0,2006.5,2017.75,2016.5,2016.75,-8.3333333333333329E-2]
[null,35,"4 YD F/L CONTAINERS",2006,11,0,null,"S/L","10",2016,null,null,14187.52,null,14187.52,118.22933333333333,118.2293333332258,0,118.2293333332258,1,118.2293333332258,14069.290666666775,14069.290666666775,1,14069.290666666775,14187.52,59.11466666661272,2006.8333333333333,2017.75,2016.8333333333333,2016.75,-8.3333333333333329E-2]
[null,46,"1 YD R/L CONTAINER",2007,1,0,null,"S/L","10",2017,null,null,13221.38,null,13221.38,110.17816666666666,330.53449999999998,0,330.53449999999998,1,330.53449999999998,12890.845499999999,12890.845499999999,1,12890.845499999999,13221.38,165.26724999999988,2007,2017.75,2017,2016.75,-8.3333333333333329E-2]
[null,26,"2 YD R/L CONTAINERS",2007,2,0,null,"S/L","10",2017,null,null,8671.92,null,8671.92,72.266000000000005,289.06399999993431,0,289.06399999993431,1,289.06399999993431,8382.8560000000653,8382.8560000000653,1,8382.8560000000653,8671.92,144.53199999996741,2007.0833333333333,2017.75,2017.0833333333333,2016.75,-8.3333333333333329E-2]
[null,19,"3 YD F/L CONTAINERS",2007,3,0,null,"S/L","10",2017,null,null,7159.04,null,7159.04,59.658666666666669,298.29333333338758,0,298.29333333338758,1,298.29333333338758,6860.7466666666123,6860.7466666666123,1,6860.7466666666123,7159.04,149.14666666669382,2007.1666666666667,2017.75,2017.1666666666667,2016.75,-8.3333333333333329E-2]
[null,32,"2 YD F/L CONTAINERS",2007,4,0,null,"S/L","10",2017,null,null,10998.9,null,10998.9,91.657499999999985,549.94499999999994,0,549.94499999999994,1,549.94499999999994,10448.955,10448.955,1,10448.955,10998.9,274.97249999999985,2007.25,2017.75,2017.25,2016.75,-8.3333333333333329E-2]
[null,19,"4 YD AND 6 YD F/L CONTAINERS",2007,4,0,null,"S/L","10",2017,null,null,7670.4,null,7670.4,63.919999999999995,383.52,0,383.52,1,383.52,7286.8799999999992,7286.8799999999992,1,7286.8799999999992,7670.4,191.76000000000022,2007.25,2017.75,2017.25,2016.75,-8.3333333333333329E-2]
[null,52,"6 YD F/L CONTAINERS",2007,4,0,null,"S/L","10",2017,null,null,23500.799999999999,null,23500.799999999999,195.84,1175.04,0,1175.04,1,1175.04,22325.759999999998,22325.759999999998,1,22325.759999999998,23500.799999999999,587.52000000000044,2007.25,2017.75,2017.25,2016.75,-8.3333333333333329E-2]
[null,25,"1.5 YD F/L CONTAINERS",2007,5,0,null,"S/L","10",2017,null,null,7759.13,null,7759.13,64.659416666666672,452.61591666660792,0,452.61591666660792,1,452.61591666660792,7306.5140833333926,7306.5140833333926,1,7306.5140833333926,7759.13,226.30795833330376,2007.3333333333333,2017.75,2017.3333333333333,2016.75,-8.3333333333333329E-2]
[null,26,"2 YD R/L CONTAINERS",2007,5,0,null,"S/L","10",2017,null,null,8739.9,null,8739.9,72.832499999999996,509.82749999993371,0,509.82749999993371,1,509.82749999993371,8230.0725000000657,8230.0725000000657,1,8230.0725000000657,8739.9,254.91374999996697,2007.3333333333333,2017.75,2017.3333333333333,2016.75,-8.3333333333333329E-2]
[null,43,"4 YD TIPPER CONTAINERS",2007,5,0,null,"S/L","10",2017,null,null,17516.8,null,17516.8,145.97333333333333,1021.8133333332005,0,1021.8133333332005,1,1021.8133333332005,16494.986666666799,16494.986666666799,1,16494.986666666799,17516.8,510.90666666660036,2007.3333333333333,2017.75,2017.3333333333333,2016.75,-8.3333333333333329E-2]
[null,43,"1 YD F/L CONTAINERS",2007,6,0,null,"S/L","10",2017,null,null,12115.12,null,12115.12,100.95933333333335,807.67466666675864,0,807.67466666675864,1,807.67466666675864,11307.445333333242,11307.445333333242,1,11307.445333333242,12115.12,403.83733333337932,2007.4166666666667,2017.75,2017.4166666666667,2016.75,-8.3333333333333329E-2]
[null,26,"1 YD R/L CONTAINER",2007,6,0,null,"S/L","10",2017,null,null,7361.64,null,7361.64,61.347000000000001,490.77600000005583,0,490.77600000005583,1,490.77600000005583,6870.8639999999441,6870.8639999999441,1,6870.8639999999441,7361.64,245.38800000002811,2007.4166666666667,2017.75,2017.4166666666667,2016.75,-8.3333333333333329E-2]
[null,19,"2 YD F/L CONTAINERS",2007,6,0,null,"S/L","10",2017,null,null,6573.2,null,6573.2,54.776666666666664,438.2133333333831,0,438.2133333333831,1,438.2133333333831,6134.9866666666167,6134.9866666666167,1,6134.9866666666167,6573.2,219.10666666669158,2007.4166666666667,2017.75,2017.4166666666667,2016.75,-8.3333333333333329E-2]
[null,39,"2 YD R/L CONTAINERS",2007,6,0,null,"S/L","10",2017,null,null,13372.92,null,13372.92,111.44099999999999,891.52800000010131,0,891.52800000010131,1,891.52800000010131,12481.391999999898,12481.391999999898,1,12481.391999999898,13372.92,445.76400000005106,2007.4166666666667,2017.75,2017.4166666666667,2016.75,-8.3333333333333329E-2]
[null,33,"2 YD R/L CONTAINERS",2007,6,0,null,"S/L","10",2017,null,null,11194.92,null,11194.92,93.290999999999997,746.32800000008478,0,746.32800000008478,1,746.32800000008478,10448.591999999915,10448.591999999915,1,10448.591999999915,11194.92,373.16400000004251,2007.4166666666667,2017.75,2017.4166666666667,2016.75,-8.3333333333333329E-2]
[null,21,"2 YD R/L CONTAINERS",2007,6,0,null,"S/L","10",2017,null,null,6989.2,null,6989.2,58.243333333333332,465.94666666671964,0,465.94666666671964,1,465.94666666671964,6523.2533333332804,6523.2533333332804,1,6523.2533333332804,6989.2,232.97333333335973,2007.4166666666667,2017.75,2017.4166666666667,2016.75,-8.3333333333333329E-2]
[null,17,"3 YD F/L CONTAINERS",2007,6,0,null,"S/L","10",2017,null,null,6501.33,null,6501.33,54.177750000000003,433.42200000004931,0,433.42200000004931,1,433.42200000004931,6067.9079999999503,6067.9079999999503,1,6067.9079999999503,6501.33,216.7110000000248,2007.4166666666667,2017.75,2017.4166666666667,2016.75,-8.3333333333333329E-2]
[null,19,"4 YD F/L CONTAINERS",2007,6,0,null,"S/L","10",2017,null,null,7628.45,null,7628.45,63.570416666666667,508.56333333339114,0,508.56333333339114,1,508.56333333339114,7119.886666666609,7119.886666666609,1,7119.886666666609,7628.45,254.2816666666954,2007.4166666666667,2017.75,2017.4166666666667,2016.75,-8.3333333333333329E-2]
[null,20,"6 YD F/L CONTAINERS",2007,6,0,null,"S/L","10",2017,null,null,9011.48,null,9011.48,75.095666666666659,600.7653333334016,0,600.7653333334016,1,600.7653333334016,8410.7146666665976,8410.7146666665976,1,8410.7146666665976,9011.48,300.38266666670097,2007.4166666666667,2017.75,2017.4166666666667,2016.75,-8.3333333333333329E-2]
[null,9,"6 YD F/L CONTAINERS",2007,6,0,null,"S/L","10",2017,null,null,3876.84,null,3876.84,32.307000000000002,258.45600000002941,0,258.45600000002941,1,258.45600000002941,3618.3839999999709,3618.3839999999709,1,3618.3839999999709,3876.84,129.22800000001462,2007.4166666666667,2017.75,2017.4166666666667,2016.75,-8.3333333333333329E-2]
[null,30,"1.5 YD F/L CONTAINERS",2007,6,0,null,"S/L","10",2017,null,null,9589.74,null,9589.74,79.91449999999999,639.31600000007256,0,639.31600000007256,1,639.31600000007256,8950.4239999999263,8950.4239999999263,1,8950.4239999999263,9589.739999999998,319.65800000003765,2007.4166666666667,2017.75,2017.4166666666667,2016.75,-8.3333333333333329E-2]
[null,96,"1 YD R/L CONTAINER",2007,7,0,null,"S/L","10",2017,null,null,27255.58,null,27255.58,227.12983333333332,2044.1685,0,2044.1685,1,2044.1685,25211.411500000002,25211.411500000002,1,25211.411500000002,27255.58,1022.0842499999999,2007.5,2017.75,2017.5,2016.75,-8.3333333333333329E-2]
[null,4,"1.5 YD F/L CONTAINERS",2007,7,0,null,"S/L","10",2017,null,null,1115.1400000000001,null,1115.1400000000001,9.2928333333333342,83.635500000000008,0,83.635500000000008,1,83.635500000000008,1031.5045,1031.5045,1,1031.5045,1115.1400000000001,41.817750000000046,2007.5,2017.75,2017.5,2016.75,-8.3333333333333329E-2]
[null,2,"6 YD F/L CONTAINERS",2007,7,0,null,"S/L","10",2017,null,null,1040,null,1040,8.6666666666666661,78,0,78,1,78,962,962,1,962,1040,39,2007.5,2017.75,2017.5,2016.75,-8.3333333333333329E-2]
[null,22,"1 YD R/L CONTAINER",2007,8,0,null,"S/L","10",2017,null,null,6370.42,null,6370.42,53.086833333333338,530.86833333328514,0,530.86833333328514,1,530.86833333328514,5839.5516666667154,5839.5516666667154,1,5839.5516666667154,6370.42,265.43416666664234,2007.5833333333333,2017.75,2017.5833333333333,2016.75,-8.3333333333333329E-2]
[null,8,"1 YD R/L CONTAINER",2007,8,0,null,"S/L","10",2017,null,null,2388.91,null,2388.91,19.907583333333331,199.07583333331522,0,199.07583333331522,1,199.07583333331522,2189.8341666666847,2189.8341666666847,1,2189.8341666666847,2388.91,99.537916666657566,2007.5833333333333,2017.75,2017.5833333333333,2016.75,-8.3333333333333329E-2]
[null,16,"2 YD R/L CONTAINERS",2007,8,0,null,"S/L","10",2017,null,null,5334.58,null,5334.58,44.454833333333333,444.54833333329287,0,444.54833333329287,1,444.54833333329287,4890.0316666667068,4890.0316666667068,1,4890.0316666667068,5334.58,222.27416666664658,2007.5833333333333,2017.75,2017.5833333333333,2016.75,-8.3333333333333329E-2]
[null,22,"6 YD F/L CONTAINERS",2007,8,0,null,"S/L","10",2017,null,null,9945.14,null,9945.14,82.876166666666663,828.76166666659128,0,828.76166666659128,1,828.76166666659128,9116.3783333334086,9116.3783333334086,1,9116.3783333334086,9945.14,414.38083333329541,2007.5833333333333,2017.75,2017.5833333333333,2016.75,-8.3333333333333329E-2]
[null,17,"6 YD F/L CONTAINERS",2007,9,0,null,"S/L","10",2017,null,null,7753.68,null,7753.68,64.614000000000004,710.7540000000588,0,710.7540000000588,1,710.7540000000588,7042.9259999999413,7042.9259999999413,1,7042.9259999999413,7753.68,355.37700000002951,2007.6666666666667,2017.75,2017.6666666666667,2016.75,-8.3333333333333329E-2]
[null,5,"3 YD F/L CONTAINERS",2007,10,0,null,"S/L","10",2017,null,null,1883.97,null,1883.97,15.69975,188.39699999999999,0,188.39699999999999,1,188.39699999999999,1695.5730000000001,1695.5730000000001,1,1695.5730000000001,1883.97,94.198499999999967,2007.75,2017.75,2017.75,2016.75,-8.3333333333333329E-2]
[null,28,"3 YD F/L CONTAINERS",2007,10,0,null,"S/L","10",2017,null,null,10361.84,null,10361.84,86.348666666666659,1036.184,0,1036.184,1,1036.184,9325.6560000000009,9325.6560000000009,1,9325.6560000000009,10361.84,518.09199999999964,2007.75,2017.75,2017.75,2016.75,-8.3333333333333329E-2]
[null,18,"1 YD CONTAINER",2007,11,0,null,"S/L","10",2017,null,null,5194.53,null,5194.53,43.287749999999996,519.45299999999997,0,519.45299999999997,1,519.45299999999997,4631.7892500000389,4631.7892500000389,1,4631.7892500000389,5151.2422500000393,303.01424999996061,2007.8333333333333,2017.75,2017.8333333333333,2016.75,-8.3333333333333329E-2]
[null,21,"3 YD F/L CONTAINERS",2007,11,0,null,"S/L","10",2017,null,null,7919.21,null,7919.21,65.993416666666675,791.92100000000005,0,791.92100000000005,1,791.92100000000005,7061.2955833333945,7061.2955833333945,1,7061.2955833333945,7853.2165833333947,461.95391666660544,2007.8333333333333,2017.75,2017.8333333333333,2016.75,-8.3333333333333329E-2]
[null,22,"6 YD F/L CONTAINERS",2007,11,0,null,"S/L","10",2017,null,null,10018.799999999999,null,10018.799999999999,83.49,1001.8799999999999,0,1001.8799999999999,1,1001.8799999999999,8933.4300000000749,8933.4300000000749,1,8933.4300000000749,9935.3100000000741,584.4299999999248,2007.8333333333333,2017.75,2017.8333333333333,2016.75,-8.3333333333333329E-2]
[null,9,"3 YD F/L CONTAINERS",2007,12,0,null,"S/L","10",2017,null,null,3332.34,null,3332.34,27.769500000000004,333.23400000000004,0,333.23400000000004,1,333.23400000000004,2943.566999999975,2943.566999999975,1,2943.566999999975,3276.8009999999749,222.15600000002519,2007.9166666666667,2017.75,2017.9166666666667,2016.75,-8.3333333333333329E-2]
[null,10,"4 YD F/L CONTAINERS",2007,12,0,null,"S/L","10",2017,null,null,3920.4,null,3920.4,32.67,392.04,0,392.04,1,392.04,3463.0199999999704,3463.0199999999704,1,3463.0199999999704,3855.0599999999704,261.36000000002969,2007.9166666666667,2017.75,2017.9166666666667,2016.75,-8.3333333333333329E-2]
[null,10,"4 YD F/L CONTAINERS",2007,12,0,null,"S/L","10",2017,null,null,3920.4,null,3920.4,32.67,392.04,0,392.04,1,392.04,3463.0199999999704,3463.0199999999704,1,3463.0199999999704,3855.0599999999704,261.36000000002969,2007.9166666666667,2017.75,2017.9166666666667,2016.75,-8.3333333333333329E-2]
[null,17,"1.5 YD F/L CONTAINERS",2007,12,0,null,"S/L","10",2017,null,null,5357.88,null,5357.88,44.649000000000001,535.78800000000001,0,535.78800000000001,1,535.78800000000001,4732.7939999999599,4732.7939999999599,1,4732.7939999999599,5268.5819999999603,357.19200000004003,2007.9166666666667,2017.75,2017.9166666666667,2016.75,-8.3333333333333329E-2]
[null,11,"8 YD CONTAINERS",2007,12,0,null,"S/L","10",2017,null,null,5417.78,null,5417.78,45.148166666666668,541.77800000000002,0,541.77800000000002,1,541.77800000000002,4785.7056666666258,4785.7056666666258,1,4785.7056666666258,5327.483666666626,361.18533333337382,2007.9166666666667,2017.75,2017.9166666666667,2016.75,-8.3333333333333329E-2]
[null,35,"1 YD F/L CONTAINERS",2008,1,0,null,"S/L","10",2018,null,null,10025.33,null,10025.33,83.544416666666663,1002.5329999999999,0,1002.5329999999999,1,1002.5329999999999,8772.1637499999997,8772.1637499999997,1,8772.1637499999997,9774.6967499999992,751.89975000000049,2008,2017.75,2018,2016.75,-8.3333333333333329E-2]
[null,35,"1 YD F/L CONTAINERS",2008,1,0,null,"S/L","10",2018,null,null,10062.36,null,10062.36,83.853000000000009,1006.2360000000001,0,1006.2360000000001,1,1006.2360000000001,8804.5650000000005,8804.5650000000005,1,8804.5650000000005,9810.8010000000013,754.67699999999968,2008,2017.75,2018,2016.75,-8.3333333333333329E-2]
[null,22,"2 YD F/L CONTAINERS",2008,1,0,null,"S/L","10",2018,null,null,7347.48,null,7347.48,61.228999999999992,734.74799999999993,0,734.74799999999993,1,734.74799999999993,6429.0449999999992,6429.0449999999992,1,6429.0449999999992,7163.7929999999988,551.0610000000006,2008,2017.75,2018,2016.75,-8.3333333333333329E-2]
[null,20,"2 YD F/L CONTAINERS",2008,1,0,null,"S/L","10",2018,null,null,6869.41,null,6869.41,57.245083333333334,686.94100000000003,0,686.94100000000003,1,686.94100000000003,6010.7337500000003,6010.7337500000003,1,6010.7337500000003,6697.6747500000001,515.20574999999963,2008,2017.75,2018,2016.75,-8.3333333333333329E-2]
[null,9,"3 YD F/L CONTAINERS",2008,1,0,null,"S/L","10",2018,null,null,3277.89,null,3277.89,27.315749999999998,327.78899999999999,0,327.78899999999999,1,327.78899999999999,2868.1537499999999,2868.1537499999999,1,2868.1537499999999,3195.9427500000002,245.84174999999982,2008,2017.75,2018,2016.75,-8.3333333333333329E-2]
[null,38,"1 YD R/L CONTAINER",2008,3,0,null,"S/L","10",{"$f":"D79+I79","v":2018},null,null,10922.67,null,{"$f":"M79-M79*F79","v":10922.67},{"$f":"O79/I79/12","v":91.02225},{"$f":"IF(N79>0,0,IF(OR(AB79>AC79,AD79<AE79),0,IF(AND(AD79>=AE79,AD79<=AC79),P79*((AD79-AE79)*12),IF(AND(AE79<=AB79,AC79>=AB79),((AC79-AB79)*12)*P79,IF(AD79>AC79,12*P79,0)))))","v":1092.2670000000001},{"$f":"IF(N79=0,0,IF(AND(AF79>=AE79,AF79<=AD79),((AF79-AE79)*12)*P79,0))","v":0},{"$f":"IF(R79>0,R79,Q79)","v":1092.2670000000001},1,{"$f":"T79*SUM(Q79:R79)","v":1092.2670000000001},{"$f":"IF(AB79>AC79,0,IF(AD79<AE79,O79,IF(AND(AD79>=AE79,AD79<=AC79),(O79-S79),IF(AND(AE79<=AB79,AC79>=AB79),0,IF(AD79>AC79,((AE79-AB79)*12)*P79,0)))))","v":9375.2917499999166},{"$f":"V79*T79","v":9375.2917499999166},1,{"$f":"W79*X79","v":9375.2917499999166},{"$f":"IF(N79>0,0,Y79+U79*X79)*X79","v":10467.558749999916},{"$f":"IF(N79>0,(M79-Y79)/2,IF(AB79>=AE79,(((M79*T79)*X79)-Z79)/2,((((M79*T79)*X79)-Y79)+(((M79*T79)*X79)-Z79))/2))","v":1001.2447500000835},{"$f":"$D79+(($E79-1)/12)","v":2008.1666666666667},{"$f":"($O$5+1)-($O$2/12)","v":2017.75},{"$f":"$J79+(($E79-1)/12)","v":2018.1666666666667},{"$f":"$O$4+($O$3/12)","v":2016.75},{"$f":"$K79+(($L79-1)/12)","v":-8.3333333333333329E-2}]
[null,6,"6 YD F/L CONTAINERS",2008,3,0,null,"S/L","10",2018,null,null,2774.4,null,2774.4,23.12,277.44,0,277.44,1,277.44,2381.3599999999792,2381.3599999999792,1,2381.3599999999792,2658.7999999999793,254.32000000002085,2008.1666666666667,2017.75,2018.1666666666667,2016.75,-8.3333333333333329E-2]
[null,18,"1.5 YD CONTAINER",2008,3,0,null,"S/L","10",2018,null,null,5564.79,null,5564.79,46.373250000000006,556.47900000000004,0,556.47900000000004,1,556.47900000000004,4776.4447499999587,4776.4447499999587,1,4776.4447499999587,5332.923749999959,510.1057500000411,2008.1666666666667,2017.75,2018.1666666666667,2016.75,-8.3333333333333329E-2]
[null,57,"2 YD R/L CONTAINERS",2008,3,0,null,"S/L","10",2018,null,null,19476.77,null,19476.77,162.30641666666668,1947.6770000000001,0,1947.6770000000001,1,1947.6770000000001,16717.56091666652,16717.56091666652,1,16717.56091666652,18665.23791666652,1785.3705833334807,2008.1666666666667,2017.75,2018.1666666666667,2016.75,-8.3333333333333329E-2]
[null,23,"3 YD F/L CONTAINERS",2008,3,0,null,"S/L","10",2018,null,null,8477.8700000000008,null,8477.8700000000008,70.648916666666665,847.78700000000003,0,847.78700000000003,1,847.78700000000003,7276.8384166666019,7276.8384166666019,1,7276.8384166666019,8124.6254166666022,777.13808333339875,2008.1666666666667,2017.75,2018.1666666666667,2016.75,-8.3333333333333329E-2]
[null,34,"2 YD R/L CONTAINERS",2008,4,0,null,"S/L","10",2018,null,null,11440.64,null,11440.64,95.338666666666654,1144.0639999999999,0,1144.0639999999999,1,1144.0639999999999,9724.5439999999981,9724.5439999999981,1,9724.5439999999981,10868.607999999998,1144.0640000000012,2008.25,2017.75,2018.25,2016.75,-8.3333333333333329E-2]
[null,40,"1 YD F/L CONTAINERS",2008,5,0,null,"S/L","10",2018,null,null,11314.2,null,11314.2,94.285000000000011,1131.42,0,1131.42,1,1131.42,9522.7850000000872,9522.7850000000872,1,9522.7850000000872,10654.205000000087,1225.7049999999135,2008.3333333333333,2017.75,2018.3333333333333,2016.75,-8.3333333333333329E-2]
[null,37,"2 YD F/L CONTAINERS",2008,5,0,null,"S/L","10",2018,null,null,12731.2,null,12731.2,106.09333333333335,1273.1200000000001,0,1273.1200000000001,1,1273.1200000000001,10715.426666666765,10715.426666666765,1,10715.426666666765,11988.546666666765,1379.2133333332358,2008.3333333333333,2017.75,2018.3333333333333,2016.75,-8.3333333333333329E-2]
[null,56,"2 YD F/L CONTAINERS",2008,5,0,null,"S/L","10",2018,null,null,18911.5,null,18911.5,157.59583333333333,1891.15,0,1891.15,1,1891.15,15917.17916666681,15917.17916666681,1,15917.17916666681,17808.329166666812,2048.7458333331888,2008.3333333333333,2017.75,2018.3333333333333,2016.75,-8.3333333333333329E-2]
[null,38,"3 YD F/L CONTAINERS",2008,5,0,null,"S/L","10",2018,null,null,14300.8,null,14300.8,119.17333333333333,1430.08,0,1430.08,1,1430.08,12036.506666666775,12036.506666666775,1,12036.506666666775,13466.586666666775,1549.253333333224,2008.3333333333333,2017.75,2018.3333333333333,2016.75,-8.3333333333333329E-2]
[null,24,"6 YD F/L CONTAINERS",2008,5,0,null,"S/L","10",2018,null,null,11052.6,null,11052.6,92.105000000000004,1105.26,0,1105.26,1,1105.26,9302.6050000000851,9302.6050000000851,1,9302.6050000000851,10407.865000000085,1197.3649999999152,2008.3333333333333,2017.75,2018.3333333333333,2016.75,-8.3333333333333329E-2]
[null,12,"8 YD CONTAINERS",2008,5,0,null,"S/L","10",2018,null,null,6104,null,6104,50.866666666666667,610.4,0,610.4,1,610.4,5137.5333333333792,5137.5333333333792,1,5137.5333333333792,5747.9333333333789,661.26666666662095,2008.3333333333333,2017.75,2018.3333333333333,2016.75,-8.3333333333333329E-2]
[null,117,"1 YD R/L CONTAINER",2008,6,0,null,"S/L","10",2018,null,null,33332.199999999997,null,33332.199999999997,277.76833333333332,3333.22,0,3333.22,1,3333.22,27776.833333333077,27776.833333333077,1,27776.833333333077,31110.053333333079,3888.756666666919,2008.4166666666667,2017.75,2018.4166666666667,2016.75,-8.3333333333333329E-2]
[null,39,"1 YD R/L CONTAINER",2008,6,0,null,"S/L","10",2018,null,null,11063.5,null,11063.5,92.195833333333326,1106.3499999999999,0,1106.3499999999999,1,1106.3499999999999,9219.5833333332484,9219.5833333332484,1,9219.5833333332484,10325.933333333249,1290.7416666667514,2008.4166666666667,2017.75,2018.4166666666667,2016.75,-8.3333333333333329E-2]
[null,38,"2 YD F/L CONTAINERS",2008,6,0,null,"S/L","10",2018,null,null,12894.7,null,12894.7,107.45583333333333,1289.47,0,1289.47,1,1289.47,10745.583333333236,10745.583333333236,1,10745.583333333236,12035.053333333235,1504.3816666667653,2008.4166666666667,2017.75,2018.4166666666667,2016.75,-8.3333333333333329E-2]
[null,41,"4 YD F/L CONTAINERS",2008,6,0,null,"S/L","10",2018,null,null,16764.2,null,16764.2,139.70166666666668,1676.42,0,1676.42,1,1676.42,13970.166666666541,13970.166666666541,1,13970.166666666541,15646.586666666541,1955.8233333334601,2008.4166666666667,2017.75,2018.4166666666667,2016.75,-8.3333333333333329E-2]
[null,75,"1.5 YD F/L CONTAINERS",2008,6,0,null,"S/L","10",2018,null,null,23587.599999999999,null,23587.599999999999,196.5633333333333,2358.7599999999998,0,2358.7599999999998,1,2358.7599999999998,19656.33333333315,19656.33333333315,1,19656.33333333315,22015.093333333149,2751.8866666668491,2008.4166666666667,2017.75,2018.4166666666667,2016.75,-8.3333333333333329E-2]
[182399,34,"1.5 Yard Commercial Containers",2008,11,0,null,"S/L",12,2020,null,null,4038.58,null,4038.58,{"$f":"O96/I96/12","v":28.045694444444447},{"$f":"IF(N96>0,0,IF(OR(AB96>AC96,AD96<AE96),0,IF(AND(AD96>=AE96,AD96<=AC96),P96*((AD96-AE96)*12),IF(AND(AE96<=AB96,AC96>=AB96),((AC96-AB96)*12)*P96,IF(AD96>AC96,12*P96,0)))))","v":336.54833333333335},{"$f":"IF(N96=0,0,IF(AND(AF96>=AE96,AF96<=AD96),((AF96-AE96)*12)*P96,0))","v":0},{"$f":"IF(R96>0,R96,Q96)","v":336.54833333333335},1,{"$f":"T96*SUM(Q96:R96)","v":336.54833333333335},{"$f":"IF(AB96>AC96,0,IF(AD96<AE96,O96,IF(AND(AD96>=AE96,AD96<=AC96),(O96-S96),IF(AND(AE96<=AB96,AC96>=AB96),0,IF(AD96>AC96,((AE96-AB96)*12)*P96,0)))))","v":2664.3409722222477},{"$f":"V96*T96","v":2664.3409722222477},1,{"$f":"W96*X96","v":2664.3409722222477},{"$f":"IF(N96>0,0,Y96+U96*X96)*X96","v":3000.8893055555809},{"$f":"IF(N96>0,(M96-Y96)/2,IF(AB96>=AE96,(((M96*T96)*X96)-Z96)/2,((((M96*T96)*X96)-Y96)+(((M96*T96)*X96)-Z96))/2))","v":1205.9648611110856},2008.8333333333333,2017.75,2020.8333333333333,2016.75,-8.3333333333333329E-2]
[182394,16,"2 Yard Commercial Conatiners",2008,11,0,null,"S/L",12,2020,null,null,5041.74,null,{"$f":"M97-M97*F97","v":5041.74},{"$f":"O97/I97/12","v":35.012083333333329},{"$f":"IF(N97>0,0,IF(OR(AB97>AC97,AD97<AE97),0,IF(AND(AD97>=AE97,AD97<=AC97),P97*((AD97-AE97)*12),IF(AND(AE97<=AB97,AC97>=AB97),((AC97-AB97)*12)*P97,IF(AD97>AC97,12*P97,0)))))","v":420.14499999999998},{"$f":"IF(N97=0,0,IF(AND(AF97>=AE97,AF97<=AD97),((AF97-AE97)*12)*P97,0))","v":0},{"$f":"IF(R97>0,R97,Q97)","v":420.14499999999998},1,{"$f":"T97*SUM(Q97:R97)","v":420.14499999999998},{"$f":"IF(AB97>AC97,0,IF(AD97<AE97,O97,IF(AND(AD97>=AE97,AD97<=AC97),(O97-S97),IF(AND(AE97<=AB97,AC97>=AB97),0,IF(AD97>AC97,((AE97-AB97)*12)*P97,0)))))","v":3326.1479166666982},{"$f":"V97*T97","v":3326.1479166666982},1,{"$f":"W97*X97","v":3326.1479166666982},{"$f":"IF(N97>0,0,Y97+U97*X97)*X97","v":3746.2929166666981},{"$f":"IF(N97>0,(M97-Y97)/2,IF(AB97>=AE97,(((M97*T97)*X97)-Z97)/2,((((M97*T97)*X97)-Y97)+(((M97*T97)*X97)-Z97))/2))","v":1505.5195833333016},2008.8333333333333,2017.75,2020.8333333333333,2016.75,-8.3333333333333329E-2]
[71897,17,"3 YD F/L CONTAINERS",2010,1,0,null,"S/L","10",2020,null,null,{"$f":"7616+612","v":8228},null,8228,68.566666666666663,822.8,0,822.8,1,822.8,5553.9,5553.9,1,5553.9,6376.7,2262.7000000000003,2010,2017.75,2020,2016.75,-8.3333333333333329E-2]
[71897,55,"4 YD F/L CONTAINERS",2010,1,0,null,"S/L","10",2020,null,null,{"$f":"29095+1980+5871.83","v":36946.83},null,36946.83,307.89024999999998,3694.683,0,3694.683,1,3694.683,24939.110249999998,24939.110249999998,1,24939.110249999998,28633.793249999999,10160.378250000003,2010,2017.75,2020,2016.75,-8.3333333333333329E-2]
[71897,36,"6YD F/L CONTAINERS",2010,1,0,null,"S/L","10",2020,null,null,{"$f":"25524+9500","v":35024},null,35024,291.86666666666667,3502.4,0,3502.4,1,3502.4,23641.200000000001,23641.200000000001,1,23641.200000000001,27143.600000000002,9631.5999999999985,2010,2017.75,2020,2016.75,-8.3333333333333329E-2]
[75728,8,"3 YD F/L CONTAINERS - PLASTIC",2010,6,0,null,"S/L",10,2020,null,null,5610.74,null,5610.74,46.756166666666665,561.07399999999996,0,561.07399999999996,1,561.07399999999996,3553.4686666666239,3553.4686666666239,1,3553.4686666666239,4114.5426666666235,1776.7343333333761,2010.4166666666667,2017.75,2020.4166666666667,2016.75,-8.3333333333333329E-2]
[75725,7,"2 YD F/L CONTAINERS - PLASTIC",2010,6,0,null,"S/L",10,2020,null,null,3838.31,null,3838.31,31.985916666666668,383.83100000000002,0,383.83100000000002,1,383.83100000000002,2430.9296666666378,2430.9296666666378,1,2430.9296666666378,2814.7606666666379,1215.4648333333621,2010.4166666666667,2017.75,2020.4166666666667,2016.75,-8.3333333333333329E-2]
[87859,8,"1 YD F/L CONTAINERS",2011,11,0,null,"S/L",10,2021,null,null,{"$f":"3219.74+(28.31*8)+75.99","v":3522.2099999999996},null,3522.2099999999996,29.351749999999996,352.22099999999995,0,352.22099999999995,1,352.22099999999995,1731.7532500000264,1731.7532500000264,1,1731.7532500000264,2083.9742500000261,1614.3462499999732,2011.8333333333333,2017.75,2021.8333333333333,2016.75,-8.3333333333333329E-2]
[87859,7,"1.5 YD F/L CONTAINERS",2011,11,0,null,"S/L",10,2021,null,null,{"$f":"3149.6+(28.31*7)","v":3347.77},null,3347.77,27.898083333333332,334.77699999999999,0,334.77699999999999,1,334.77699999999999,1645.986916666692,1645.986916666692,1,1645.986916666692,1980.763916666692,1534.394583333308,2011.8333333333333,2017.75,2021.8333333333333,2016.75,-8.3333333333333329E-2]
[87859,10,"2 YD F/L CONTAINERS",2011,11,0,null,"S/L",10,2021,null,null,{"$f":"4779.97+(28.31*10)","v":5063.0700000000006},null,5063.0700000000006,42.192250000000008,506.30700000000013,0,506.30700000000013,1,506.30700000000013,2489.3427500000389,2489.3427500000389,1,2489.3427500000389,2995.6497500000391,2320.5737499999614,2011.8333333333333,2017.75,2021.8333333333333,2016.75,-8.3333333333333329E-2]
[87859,6,"4 YD F/L CONTAINERS",2011,11,0,null,"S/L",10,2021,null,null,{"$f":"3606.02+(28.31*6)","v":3775.88},null,3775.88,31.465666666666667,377.58800000000002,0,377.58800000000002,1,377.58800000000002,1856.474333333362,1856.474333333362,1,1856.474333333362,2234.0623333333619,1730.611666666638,2011.8333333333333,2017.75,2021.8333333333333,2016.75,-8.3333333333333329E-2]
[87859,3,"6 YD F/L CONTAINERS",2011,11,0,null,"S/L",10,2021,null,null,{"$f":"2314.46+(28.31*3)","v":2399.39},null,2399.39,19.994916666666665,239.93899999999996,0,239.93899999999996,1,239.93899999999996,1179.7000833333514,1179.7000833333514,1,1179.7000833333514,1419.6390833333512,1099.7204166666486,2011.8333333333333,2017.75,2021.8333333333333,2016.75,-8.3333333333333329E-2]
[90239,4,"1 YD F/L CONTAINERS",2012,1,0,null,"S/L",10,2022,null,null,1690,null,1690,14.083333333333334,169,0,169,1,169,802.75,802.75,1,802.75,971.75,802.75,2012,2017.75,2022,2016.75,-8.3333333333333329E-2]
[90239,3,"1.5 YD F/L CONTAINERS",2012,1,0,null,"S/L",10,2022,null,null,1449,null,1449,12.075000000000001,144.9,0,144.9,1,144.9,688.27500000000009,688.27500000000009,1,688.27500000000009,833.17500000000007,688.27499999999986,2012,2017.75,2022,2016.75,-8.3333333333333329E-2]
[90239,5,"2 YD F/L CONTAINERS",2012,1,0,null,"S/L",10,2022,null,null,2413,null,2413,20.108333333333334,241.3,0,241.3,1,241.3,1146.175,1146.175,1,1146.175,1387.4749999999999,1146.1750000000002,2012,2017.75,2022,2016.75,-8.3333333333333329E-2]
[90239,2,"4 YD F/L CONTAINERS",2012,1,0,null,"S/L",10,2022,null,null,1312,null,1312,10.933333333333332,131.19999999999999,0,131.19999999999999,1,131.19999999999999,623.19999999999993,623.19999999999993,1,623.19999999999993,754.39999999999986,623.20000000000005,2012,2017.75,2022,2016.75,-8.3333333333333329E-2]
[90239,1,"6 YD F/L CONTAINERS",2012,1,0,null,"S/L",10,2022,null,null,913,null,913,7.6083333333333334,91.3,0,91.3,1,91.3,433.67500000000001,433.67500000000001,1,433.67500000000001,524.97500000000002,433.67499999999995,2012,2017.75,2022,2016.75,-8.3333333333333329E-2]
["108497, 108495",{"$f":"14+6","v":20},"1 YD R/L CONTAINERS",2013,9,0,null,"S/L",10,2023,null,null,{"$f":"6199.2+2656.8","v":8856},null,8856,73.8,885.59999999999991,0,885.59999999999991,1,885.59999999999991,2730.5999999999326,2730.5999999999326,1,2730.5999999999326,3616.1999999999325,5682.6000000000677,2013.6666666666667,2017.75,2023.6666666666667,2016.75,-8.3333333333333329E-2]
["108496, 108494",20,"1.5 YD R/L CONTAINERS",2013,9,0,null,"S/L",10,2023,null,null,{"$f":"3758.4+5637.6","v":9396},null,9396,78.3,939.59999999999991,0,939.59999999999991,1,939.59999999999991,2897.0999999999285,2897.0999999999285,1,2897.0999999999285,3836.6999999999284,6029.1000000000713,2013.6666666666667,2017.75,2023.6666666666667,2016.75,-8.3333333333333329E-2]
[108493,10,"4 YD F/L CONTAINERS",2013,9,0,null,"S/L",10,2023,null,null,6210,null,6210,51.75,621,0,621,1,621,1914.7499999999529,1914.7499999999529,1,1914.7499999999529,2535.7499999999527,3984.7500000000473,2013.6666666666667,2017.75,2023.6666666666667,2016.75,-8.3333333333333329E-2]
["109346, 109345",{"$f":"11+17","v":28},"6 YD F/L CONTAINERS",2013,9,0,null,"S/L",10,2023,null,null,{"$f":"8613+7047","v":15660},null,15660,130.5,1566,0,1566,1,1566,4828.4999999998818,4828.4999999998818,1,4828.4999999998818,6394.4999999998818,10048.500000000118,2013.6666666666667,2017.75,2023.6666666666667,2016.75,-8.3333333333333329E-2]
[117913,30,"2 YD REL CONTAINERS",2014,11,0,null,"S/L",10,2024,null,null,16038,null,16038,133.65,1603.8000000000002,0,1603.8000000000002,1,1603.8000000000002,3073.9500000001217,3073.9500000001217,1,3073.9500000001217,4677.7500000001219,12162.149999999878,2014.8333333333333,2017.75,2024.8333333333333,2016.75,-8.3333333333333329E-2]
[117912,30,"1 YD REL CONTAINERS",2014,11,0,null,"S/L",10,2024,null,null,13510.8,null,13510.8,112.58999999999999,1351.08,0,1351.08,1,1351.08,2589.570000000102,2589.570000000102,1,2589.570000000102,3940.650000000102,10245.689999999897,2014.8333333333333,2017.75,2024.8333333333333,2016.75,-8.3333333333333329E-2]
[115107,6,"1.5 YD FEL CONTAINERS",2014,7,0,null,"S/L",10,2024,null,null,2941.92,null,2941.92,24.516000000000002,294.19200000000001,0,294.19200000000001,1,294.19200000000001,661.93200000000002,661.93200000000002,1,661.93200000000002,956.12400000000002,2132.8920000000003,2014.5,2017.75,2024.5,2016.75,-8.3333333333333329E-2]
[115110,5,"6 YD FEL CONTAINERS",2014,7,0,null,"S/L",10,2024,null,null,3877.2,null,3877.2,32.309999999999995,387.71999999999991,0,387.71999999999991,1,387.71999999999991,872.36999999999989,872.36999999999989,1,872.36999999999989,1260.0899999999997,2810.9700000000003,2014.5,2017.75,2024.5,2016.75,-8.3333333333333329E-2]
[115115,4,"1.5 YD FEL CONTAINERS",2014,7,0,null,"S/L",10,2024,null,null,1961.28,null,1961.28,16.343999999999998,196.12799999999999,0,196.12799999999999,1,196.12799999999999,441.28799999999995,441.28799999999995,1,441.28799999999995,637.41599999999994,1421.9279999999999,2014.5,2017.75,2024.5,2016.75,-8.3333333333333329E-2]
[115105,10,"1.5 YD FEL CONTAINERS",2014,7,0,null,"S/L",10,2024,null,null,4816.8,null,4816.8,40.14,481.68,0,481.68,1,481.68,1083.78,1083.78,1,1083.78,1565.46,3492.1800000000003,2014.5,2017.75,2024.5,2016.75,-8.3333333333333329E-2]
[115109,10,"3 YD FEL CONTAINERS",2014,7,0,null,"S/L",10,2024,null,null,5756.4,null,5756.4,47.97,575.64,0,575.64,1,575.64,1295.19,1295.19,1,1295.19,1870.83,4173.3899999999994,2014.5,2017.75,2024.5,2016.75,-8.3333333333333329E-2]
[115108,10,"2 YD FEL CONTAINERS",2014,7,0,null,"S/L",10,2024,null,null,5238,null,5238,43.65,523.79999999999995,0,523.79999999999995,1,523.79999999999995,1178.55,1178.55,1,1178.55,1702.35,3797.55,2014.5,2017.75,2024.5,2016.75,-8.3333333333333329E-2]
[115111,12,"2 YD REL CONTAINERS",2014,7,0,null,"S/L",10,2024,null,null,6415.2,null,6415.2,53.46,641.52,0,641.52,1,641.52,1443.42,1443.42,1,1443.42,2084.94,4651.0200000000004,2014.5,2017.75,2024.5,2016.75,-8.3333333333333329E-2]
[115112,13,"2 YD REL CONTAINERS",2014,7,0,null,"S/L",10,2024,null,null,6949.8,null,6949.8,57.914999999999999,694.98,0,694.98,1,694.98,1563.7049999999999,1563.7049999999999,1,1563.7049999999999,2258.6849999999999,5038.6049999999996,2014.5,2017.75,2024.5,2016.75,-8.3333333333333329E-2]
[115113,13,"1 YD REL CONTAINERS",2014,7,0,null,"S/L",10,2024,null,null,5854.68,null,5854.68,48.789000000000009,585.46800000000007,0,585.46800000000007,1,585.46800000000007,1317.3030000000003,1317.3030000000003,1,1317.3030000000003,1902.7710000000004,4244.643,2014.5,2017.75,2024.5,2016.75,-8.3333333333333329E-2]
[115114,12,"1 YD REL CONTAINERS",2014,7,0,null,"S/L",10,2024,null,null,5404.32,null,5404.32,45.036000000000001,540.43200000000002,0,540.43200000000002,1,540.43200000000002,1215.972,1215.972,1,1215.972,1756.404,3918.1319999999996,2014.5,2017.75,2024.5,2016.75,-8.3333333333333329E-2]
[115200,5,"1.5 YD REL CONTAINERS",2014,7,0,null,"S/L",10,2024,null,null,2408.4,null,2408.4,20.07,240.84,0,240.84,1,240.84,541.89,541.89,1,541.89,782.73,1746.0900000000001,2014.5,2017.75,2024.5,2016.75,-8.3333333333333329E-2]
[115106,3,"2 YD REL CONTAINERS",2014,7,0,null,"S/L",10,2024,null,null,{"$f":"8958.6/15*3","v":1791.72},null,1791.72,14.930999999999999,179.172,0,179.172,1,179.172,403.137,403.137,1,403.137,582.30899999999997,1298.9970000000001,2014.5,2017.75,2024.5,2016.75,-8.3333333333333329E-2]
[118904,10,"1 YD REL CONTAINERS",2015,1,0,null,"S/L",10,2025,null,null,4503.6000000000004,null,4503.6000000000004,37.53,450.36,0,450.36,1,450.36,788.13,788.13,1,788.13,1238.49,3490.2900000000004,2015,2017.75,2025,2016.75,-8.3333333333333329E-2]
[120926,20,"6 YD FEL CONTAINERS",2015,1,0,null,"S/L",10,2025,null,null,16092,null,16092,134.1,1609.1999999999998,0,1609.1999999999998,1,1609.1999999999998,2816.1,2816.1,1,2816.1,4425.2999999999993,12471.3,2015,2017.75,2025,2016.75,-8.3333333333333329E-2]
[126868,50,"1 YD REL CONTAINERS",2015,11,0,null,"S/L",10,2025,null,null,23227.18,null,23227.18,193.55983333333333,2322.7179999999998,0,2322.7179999999998,1,2322.7179999999998,2129.1581666668426,2129.1581666668426,1,2129.1581666668426,4451.8761666668424,19936.662833333157,2015.8333333333333,2017.75,2025.8333333333333,2016.75,-8.3333333333333329E-2]
[126869,20,"1.5 YD REL CONTAINERS",2015,11,0,null,"S/L",10,2025,null,null,10047.02,null,10047.02,83.725166666666667,1004.702,0,1004.702,1,1004.702,920.97683333340945,920.97683333340945,1,920.97683333340945,1925.6788333334093,8623.6921666665912,2015.8333333333333,2017.75,2025.8333333333333,2016.75,-8.3333333333333329E-2]
[126870,24,"3 YD FEL CONTAINERS",2015,11,0,null,"S/L",10,2025,null,null,14155.75,null,14155.75,117.96458333333334,1415.575,0,1415.575,1,1415.575,1297.610416666774,1297.610416666774,1,1297.610416666774,2713.185416666774,12150.352083333226,2015.8333333333333,2017.75,2025.8333333333333,2016.75,-8.3333333333333329E-2]
[126871,24,"6 YD FEL CONTAINERS",2015,11,0,null,"S/L",10,2025,null,null,18925.25,null,18925.25,157.71041666666667,1892.5250000000001,0,1892.5250000000001,1,1892.5250000000001,1734.8145833334768,1734.8145833334768,1,1734.8145833334768,3627.3395833334771,16244.172916666523,2015.8333333333333,2017.75,2025.8333333333333,2016.75,-8.3333333333333329E-2]
[168986,15,"2 YD PLASTIC CONTAINERS",2016,10,0,null,"S/L",7,2023,null,null,8796.66,null,8796.66,104.72214285714286,1256.6657142857143,0,1256.6657142857143,1,1256.6657142857143,0,0,1,0,1256.6657142857143,3769.9971428571425,2016.75,2017.75,2023.75,2016.75,-8.3333333333333329E-2]
[185772,24,"1 YD RL Containers",2017,8,0,null,"S/L",12,2029,null,null,11815.44,null,11815.44,82.051666666666662,164.10333333340796,0,164.10333333340796,1,164.10333333340796,0,0,1,0,164.10333333340796,5825.6683333332967,2017.5833333333333,2017.75,2029.5833333333333,2016.75,-8.3333333333333329E-2]
[185771,24,"2 YD RL Containers",2017,8,0,null,"S/L",12,2029,null,null,13113.84,null,13113.84,91.068333333333328,182.13666666674948,0,182.13666666674948,1,182.13666666674948,0,0,1,0,182.13666666674948,6465.8516666666255,2017.5833333333333,2017.75,2029.5833333333333,2016.75,-8.3333333333333329E-2]
[172849,50,"2 Yd REL Container",2017,1,0,null,"S/L",12,2029,null,null,26954.09,null,26954.09,187.18118055555556,1684.630625,0,1684.630625,1,1684.630625,0,0,1,0,1684.630625,12634.729687499999,2017,2017.75,2029,2016.75,-8.3333333333333329E-2]
[172848,30,"1 Yd REL Container",2017,1,0,null,"S/L",12,2029,null,null,13708.81,null,13708.81,95.200069444444452,856.80062500000008,0,856.80062500000008,1,856.80062500000008,0,0,1,0,856.80062500000008,6426.0046874999998,2017,2017.75,2029,2016.75,-8.3333333333333329E-2]
[172847,20,"6 Yd FEL Container",2017,1,0,null,"S/L",12,2029,null,null,15953.91,null,15953.91,110.79104166666667,997.11937499999999,0,997.11937499999999,1,997.11937499999999,0,0,1,0,997.11937499999999,7478.3953124999998,2017,2017.75,2029,2016.75,-8.3333333333333329E-2]
[172846,10,"4 Yd FEL Container",2017,1,0,null,"S/L",12,{"$f":"D143+I143","v":2029},null,null,6085.09,null,{"$f":"M143-M143*F143","v":6085.09},{"$f":"O143/I143/12","v":42.257569444444449},{"$f":"IF(N143>0,0,IF(OR(AB143>AC143,AD143<AE143),0,IF(AND(AD143>=AE143,AD143<=AC143),P143*((AD143-AE143)*12),IF(AND(AE143<=AB143,AC143>=AB143),((AC143-AB143)*12)*P143,IF(AD143>AC143,12*P143,0)))))","v":380.31812500000007},{"$f":"IF(N143=0,0,IF(AND(AF143>=AE143,AF143<=AD143),((AF143-AE143)*12)*P143,0))","v":0},{"$f":"IF(R143>0,R143,Q143)","v":380.31812500000007},1,{"$f":"T143*SUM(Q143:R143)","v":380.31812500000007},{"$f":"IF(AB143>AC143,0,IF(AD143<AE143,O143,IF(AND(AD143>=AE143,AD143<=AC143),(O143-S143),IF(AND(AE143<=AB143,AC143>=AB143),0,IF(AD143>AC143,((AE143-AB143)*12)*P143,0)))))","v":0},{"$f":"V143*T143","v":0},1,{"$f":"W143*X143","v":0},{"$f":"IF(N143>0,0,Y143+U143*X143)*X143","v":380.31812500000007},{"$f":"IF(N143>0,(M143-Y143)/2,IF(AB143>=AE143,(((M143*T143)*X143)-Z143)/2,((((M143*T143)*X143)-Y143)+(((M143*T143)*X143)-Z143))/2))","v":2852.3859375000002},2017,2017.75,2029,2016.75,-8.3333333333333329E-2]
[188898,14,"4 Yd Containers",2017,11,0,null,"S/L",12,2029,null,null,11053.99,null,11053.99,76.763819444444451,0,0,0,2,0,0,0,2,0,0,22107.98,2017.8333333333333,2017.75,2029.8333333333333,2016.75,-8.3333333333333329E-2]
[188899,20,"6 Yd Containers",2017,11,0,null,"S/L",12,2029,null,null,18010.150000000001,null,18010.150000000001,125.07048611111112,0,0,0,3,0,0,0,3,0,0,81045.675000000003,2017.8333333333333,{"$f":"($O$5+1)-($O$2/12)","v":2017.75},2029.8333333333333,{"$f":"$O$4+($O$3/12)","v":2016.75},{"$f":"$K145+(($L145-1)/12)","v":-8.3333333333333329E-2}]
[189792,20,"1 Yd Containers",2017,11,0,null,"S/L",12,2029,null,null,9303.25,null,9303.25,64.605902777777786,0,0,0,4,0,0,0,4,0,0,74426,2017.8333333333333,2017.75,2029.8333333333333,2016.75,-8.3333333333333329E-2]
[189793,20,"1.5 Yd Containers",2017,11,0,null,"S/L",12,2029,null,null,9609.24,null,9609.24,66.730833333333337,0,0,0,5,0,0,0,5,0,0,120115.5,2017.8333333333333,2017.75,2029.8333333333333,2016.75,-8.3333333333333329E-2]
[189794,20,"2 Yd Containers",2017,11,0,null,"S/L",12,2029,null,null,9843.3799999999992,null,9843.3799999999992,68.356805555555553,0,0,0,6,0,0,0,6,0,0,177180.84,2017.8333333333333,2017.75,2029.8333333333333,2016.75,-8.3333333333333329E-2]
[189795,15,"3 Yd Containers",2017,11,0,null,"S/L",12,2029,null,null,8703.01,null,8703.01,60.437569444444449,0,0,0,7,0,0,0,7,0,0,213223.745,2017.8333333333333,2017.75,2029.8333333333333,2016.75,-8.3333333333333329E-2]
[189796,1,"4 Yd Containers",2017,11,0,null,"S/L",12,2029,null,null,619.94000000000005,null,619.94000000000005,4.3051388888888891,0,0,0,8,0,0,0,8,0,0,19838.080000000002,2017.8333333333333,2017.75,2029.8333333333333,2016.75,-8.3333333333333329E-2]
[197275,20,"6yd FL Containers",2018,4,0,null,"S/L",12,2030,null,null,17684.02,null,17684.02,122.80569444444444,0,0,0,9,0,0,0,9,0,0,716202.80999999994,2018.25,2017.75,2030.25,2016.75,-8.3333333333333329E-2]
[198695,30,"2Yd Metal Containers",2018,4,0,null,"S/L",12,2030,null,null,17172.21,null,17172.21,119.25145833333333,0,0,0,10,0,0,0,10,0,0,858610.49999999988,2018.25,2017.75,2030.25,2016.75,-8.3333333333333329E-2]
[198694,40,"1Yd Metal Containers",2018,5,0,null,"S/L",12,2030,null,null,21642.89,null,21642.89,150.2978472222222,0,0,0,11,0,0,0,11,0,0,1309394.845,2018.3333333333333,2017.75,2030.3333333333333,2016.75,-8.3333333333333329E-2]
[206417,10,"2YD Metal OCC Container",2018,11,0,null,"S/L",12,2030,null,null,8441.24,null,8441.24,58.619722222222215,0,0,0,12,0,0,0,12,0,0,607769.28,2018.8333333333333,2017.75,2030.8333333333333,2016.75,-8.3333333333333329E-2]
[206418,10,"2YD Metal Container",2018,11,0,null,"S/L",12,2030,null,null,7057.39,null,7057.39,49.009652777777781,0,0,0,13,0,0,0,13,0,0,596349.45500000007,2018.8333333333333,2017.75,2030.8333333333333,2016.75,-8.3333333333333329E-2]
[206420,16,"2yd Metal Containers",2018,11,0,null,"S/L",12,2030,null,null,10069.18,null,10069.18,69.924861111111113,0,0,0,14,0,0,0,14,0,0,986779.64000000013,2018.8333333333333,2017.75,2030.8333333333333,2016.75,-8.3333333333333329E-2]
[198077,30,"2 Yard Commercial Containers",2008,11,0,null,"S/L",12,2020,null,null,1867.5,null,{"$f":"M157-M157*F157","v":1867.5},{"$f":"O157/I157/12","v":12.96875},{"$f":"IF(N157>0,0,IF(OR(AB157>AC157,AD157<AE157),0,IF(AND(AD157>=AE157,AD157<=AC157),P157*((AD157-AE157)*12),IF(AND(AE157<=AB157,AC157>=AB157),((AC157-AB157)*12)*P157,IF(AD157>AC157,12*P157,0)))))","v":155.625},{"$f":"IF(N157=0,0,IF(AND(AF157>=AE157,AF157<=AD157),((AF157-AE157)*12)*P157,0))","v":0},{"$f":"IF(R157>0,R157,Q157)","v":155.625},15,{"$f":"T157*SUM(Q157:R157)","v":2334.375},{"$f":"IF(AB157>AC157,0,IF(AD157<AE157,O157,IF(AND(AD157>=AE157,AD157<=AC157),(O157-S157),IF(AND(AE157<=AB157,AC157>=AB157),0,IF(AD157>AC157,((AE157-AB157)*12)*P157,0)))))","v":1232.0312500000118},{"$f":"V157*T157","v":18480.468750000178},15,{"$f":"W157*X157","v":277207.03125000268},{"$f":"IF(N157>0,0,Y157+U157*X157)*X157","v":4683339.84375004},{"$f":"IF(N157>0,(M157-Y157)/2,IF(AB157>=AE157,(((M157*T157)*X157)-Z157)/2,((((M157*T157)*X157)-Y157)+(((M157*T157)*X157)-Z157))/2))","v":-2060085.9375000214},2008.8333333333333,2017.75,2020.8333333333333,2016.75,-8.3333333333333329E-2]
[]
[null,null,"Total Garbage Containers",null,null,null,null,null,null,null,null,null,{"$f":"SUM(M15:M158)","v":1290525.9099999997},null,{"$f":"SUM(O15:O158)","v":1290525.9099999997},{"$f":"SUM(P15:P158)","v":10441.647990079364},{"$f":"SUM(Q15:Q158)","v":87883.155214286075},null,{"$f":"SUM(S15:S158)","v":87883.155214286075},{"$f":"SUM(T15:T158)","v":248},{"$f":"SUM(U15:U158)","v":90061.905214286075},{"$f":"SUM(V15:V158)","v":764268.24105555518},{"$f":"SUM(W15:W158)","v":781516.67855555541},null,{"$f":"SUM(Y15:Y158)","v":1040243.2410555579},{"$f":"SUM(Z15:Z158)","v":5534103.5837698812},{"$f":"SUM(AA15:AA158)","v":4007293.0375872804}]
[]
[]
[null,null,"GARBAGE CARTS"]
[null,534,"65 GALLON CART ASSY",1999,3,0,null,"S/L",7,{"$f":"D163+I163","v":2006},null,null,23883.55,null,{"$f":"M163-M163*F163","v":23883.55},{"$f":"O163/I163/12","v":284.32797619047619},{"$f":"IF(N163>0,0,IF(OR(AB163>AC163,AD163<AE163),0,IF(AND(AD163>=AE163,AD163<=AC163),P163*((AD163-AE163)*12),IF(AND(AE163<=AB163,AC163>=AB163),((AC163-AB163)*12)*P163,IF(AD163>AC163,12*P163,0)))))","v":0},{"$f":"IF(N163=0,0,IF(AND(AF163>=AE163,AF163<=AD163),((AF163-AE163)*12)*P163,0))","v":0},{"$f":"IF(R163>0,R163,Q163)","v":0},1,{"$f":"T163*SUM(Q163:R163)","v":0},{"$f":"IF(AB163>AC163,0,IF(AD163<AE163,O163,IF(AND(AD163>=AE163,AD163<=AC163),(O163-S163),IF(AND(AE163<=AB163,AC163>=AB163),0,IF(AD163>AC163,((AE163-AB163)*12)*P163,0)))))","v":23883.55},{"$f":"V163*T163","v":23883.55},1,{"$f":"W163*X163","v":23883.55},{"$f":"IF(N163>0,0,Y163+U163*X163)*X163","v":23883.55},{"$f":"IF(N163>0,(M163-Y163)/2,IF(AB163>=AE163,(((M163*T163)*X163)-Z163)/2,((((M163*T163)*X163)-Y163)+(((M163*T163)*X163)-Z163))/2))","v":0},{"$f":"$D163+(($E163-1)/12)","v":1999.1666666666667},{"$f":"($O$5+1)-($O$2/12)","v":2017.75},{"$f":"$J163+(($E163-1)/12)","v":2006.1666666666667},{"$f":"$O$4+($O$3/12)","v":2016.75},{"$f":"$K163+(($L163-1)/12)","v":-8.3333333333333329E-2}]
[null,534,"65 GALLON CART ASSY",1999,3,0,null,"S/L",7,2006,null,null,23883.55,null,23883.55,284.32797619047619,0,0,0,1,0,23883.55,23883.55,1,23883.55,23883.55,0,1999.1666666666667,2017.75,2006.1666666666667,2016.75,-8.3333333333333329E-2]
[null,534,"65 GALLON CART ASSY",1999,3,0,null,"S/L",7,2006,null,null,24663.17,null,24663.17,293.60916666666668,0,0,0,1,0,24663.17,24663.17,1,24663.17,24663.17,0,1999.1666666666667,2017.75,2006.1666666666667,2016.75,-8.3333333333333329E-2]
[null,534,"65 GALLON CART ASSY",1999,3,0,null,"S/L",7,2006,null,null,23883.55,null,23883.55,284.32797619047619,0,0,0,1,0,23883.55,23883.55,1,23883.55,23883.55,0,1999.1666666666667,2017.75,2006.1666666666667,2016.75,-8.3333333333333329E-2]
[null,534,"65 GALLON CART ASSY",1999,3,0,null,"S/L",7,2006,null,null,23468.91,null,23468.91,279.39178571428573,0,0,0,1,0,23468.91,23468.91,1,23468.91,23468.91,0,1999.1666666666667,2017.75,2006.1666666666667,2016.75,-8.3333333333333329E-2]
[null,534,"65 GALLON CART ASSY",1999,3,0,null,"S/L",7,2006,null,null,24663.17,null,24663.17,293.60916666666668,0,0,0,1,0,24663.17,24663.17,1,24663.17,24663.17,0,1999.1666666666667,2017.75,2006.1666666666667,2016.75,-8.3333333333333329E-2]
[null,534,"65 GALLON CART ASSY",1999,4,0,null,"S/L",7,2006,null,null,24663.17,null,24663.17,293.60916666666668,0,0,0,1,0,24663.17,24663.17,1,24663.17,24663.17,0,1999.25,2017.75,2006.25,2016.75,-8.3333333333333329E-2]
[null,534,"65 GALLON CART ASSY",1999,5,0,null,"S/L",7,2006,null,null,24663.17,null,24663.17,293.60916666666668,0,0,0,1,0,24663.17,24663.17,1,24663.17,24663.17,0,1999.3333333333333,2017.75,2006.3333333333333,2016.75,-8.3333333333333329E-2]
[null,478,"68 GALLON GREEN CARTS",2001,1,0,null,"S/L",7,2008,null,null,22484.74,null,22484.74,267.67547619047622,0,0,0,1,0,22484.74,22484.74,1,22484.74,22484.74,0,2001,2017.75,2008,2016.75,-8.3333333333333329E-2]
[null,958,"68 GALLON GREEN CARTS",2001,2,0,null,"S/L",7,2008,null,null,45046.09,null,45046.09,536.26297619047614,0,0,0,1,0,45046.09,45046.09,1,45046.09,45046.09,0,2001.0833333333333,2017.75,2008.0833333333333,2016.75,-8.3333333333333329E-2]
[null,479,"68 GALLON GREEN CARTS",2001,2,0,null,"S/L",7,2008,null,null,22523.05,null,22523.05,268.13154761904758,0,0,0,1,0,22523.05,22523.05,1,22523.05,22523.05,0,2001.0833333333333,2017.75,2008.0833333333333,2016.75,-8.3333333333333329E-2]
[null,476,"68 GALLON GREEN CARTS",2001,3,0,null,"S/L",7,2008,null,null,22369.83,null,22369.83,266.3075,0,0,0,1,0,22369.83,22369.83,1,22369.83,22369.83,0,2001.1666666666667,2017.75,2008.1666666666667,2016.75,-8.3333333333333329E-2]
[null,476,"68 GALLON GREEN CARTS",2001,3,0,null,"S/L",7,2008,null,null,22369.83,null,22369.83,266.3075,0,0,0,1,0,22369.83,22369.83,1,22369.83,22369.83,0,2001.1666666666667,2017.75,2008.1666666666667,2016.75,-8.3333333333333329E-2]
[null,464,"68 GALLON GREEN CARTS",2001,3,0,null,"S/L",7,2008,null,null,21810.58,null,21810.58,259.64976190476193,0,0,0,1,0,21810.58,21810.58,1,21810.58,21810.58,0,2001.1666666666667,2017.75,2008.1666666666667,2016.75,-8.3333333333333329E-2]
[null,464,"68 GALLON GREEN CARTS",2001,3,0,null,"S/L",7,2008,null,null,21810.58,null,21810.58,259.64976190476193,0,0,0,1,0,21810.58,21810.58,1,21810.58,21810.58,0,2001.1666666666667,2017.75,2008.1666666666667,2016.75,-8.3333333333333329E-2]
[null,464,"68 GALLON GREEN CARTS",2001,3,0,null,"S/L",7,2008,null,null,21810.58,null,21810.58,259.64976190476193,0,0,0,1,0,21810.58,21810.58,1,21810.58,21810.58,0,2001.1666666666667,2017.75,2008.1666666666667,2016.75,-8.3333333333333329E-2]
[null,486,"68 GALLON BLUE CARTS",2001,5,0,null,"S/L",7,2008,null,null,22993.74,null,22993.74,273.73500000000001,0,0,0,1,0,22993.74,22993.74,1,22993.74,22993.74,0,2001.3333333333333,2017.75,2008.3333333333333,2016.75,-8.3333333333333329E-2]
[null,526,"68 GALLON GRAY CARTS [AB]",2001,12,0,null,"S/L",7,2008,null,null,24709.57,null,24709.57,294.16154761904761,0,0,0,1,0,24709.57,24709.57,1,24709.57,24709.57,0,2001.9166666666667,2017.75,2008.9166666666667,2016.75,-8.3333333333333329E-2]
[null,1050,"65 GALLON GREEN CARTS",2002,2,0,null,"S/L",7,2009,null,null,49371.839999999997,null,49371.839999999997,587.76,0,0,0,1,0,49371.839999999997,49371.839999999997,1,49371.839999999997,49371.839999999997,0,2002.0833333333333,2017.75,2009.0833333333333,2016.75,-8.3333333333333329E-2]
[null,523,"65 GALLON GREEN CARTS",2002,2,0,null,"S/L",7,2009,null,null,24600.21,null,24600.21,292.85964285714283,0,0,0,1,0,24600.21,24600.21,1,24600.21,24600.21,0,2002.0833333333333,2017.75,2009.0833333333333,2016.75,-8.3333333333333329E-2]
[null,292,"65 GALLON GREEN CARTS",2002,2,0,null,"S/L",7,2009,null,null,13714.4,null,13714.4,163.26666666666668,0,0,0,1,0,13714.4,13714.4,1,13714.4,13714.4,0,2002.0833333333333,2017.75,2009.0833333333333,2016.75,-8.3333333333333329E-2]
[null,400,"95 GALLON  GREEN CARTS",2002,2,0,null,"S/L",7,2009,null,null,19217.52,null,19217.52,228.78,0,0,0,1,0,19217.52,19217.52,1,19217.52,19217.52,0,2002.0833333333333,2017.75,2009.0833333333333,2016.75,-8.3333333333333329E-2]
[null,486,"68 GALLON BLUE CARTS",2002,3,0,null,"S/L",7,2009,null,null,22837.32,null,22837.32,271.87285714285713,0,0,0,1,0,22837.32,22837.32,1,22837.32,22837.32,0,2002.1666666666667,2017.75,2009.1666666666667,2016.75,-8.3333333333333329E-2]
[null,528,"68 GALLON GRAY CARTS",2003,1,0,null,"S/L",7,2010,null,null,24810.240000000002,null,24810.240000000002,295.36,0,0,0,1,0,24810.240000000002,24810.240000000002,1,24810.240000000002,24810.240000000002,0,2003,2017.75,2010,2016.75,-8.3333333333333329E-2]
[null,529,"68 GALLON GRAY CARTS",2003,4,0,null,"S/L",7,2010,null,null,24879.23,null,24879.23,296.18130952380949,0,0,0,1,0,24879.23,24879.23,1,24879.23,24879.23,0,2003.25,2017.75,2010.25,2016.75,-8.3333333333333329E-2]
[null,529,"68 GALLON GRAY CARTS",2003,4,0,null,"S/L",7,2010,null,null,24879.23,null,24879.23,296.18130952380949,0,0,0,1,0,24879.23,24879.23,1,24879.23,24879.23,0,2003.25,2017.75,2010.25,2016.75,-8.3333333333333329E-2]
[null,270,"65 GALLON GREEN CARTS",2003,7,0,null,"S/L",7,2010,null,null,12676.29,null,12676.29,150.90821428571431,0,0,0,1,0,12676.29,12676.29,1,12676.29,12676.29,0,2003.5,2017.75,2010.5,2016.75,-8.3333333333333329E-2]
[null,400,"20 GALLON INSERTS",2003,10,0,null,"S/L",7,2010,null,null,6672.79,null,6672.79,79.437976190476192,0,0,0,1,0,6672.79,6672.79,1,6672.79,6672.79,0,2003.75,2017.75,2010.75,2016.75,-8.3333333333333329E-2]
[null,1100,"32 GALLON AUTOMATED CONTAINERS",2003,10,0,null,"S/L",7,2010,null,null,34240.68,null,34240.68,407.62714285714287,0,0,0,1,0,34240.68,34240.68,1,34240.68,34240.68,0,2003.75,2017.75,2010.75,2016.75,-8.3333333333333329E-2]
[null,75,"96 GALLON AUTOMATED CONTAINERS",2003,10,0,null,"S/L",7,2010,null,null,3553.24,null,3553.24,42.300476190476189,0,0,0,1,0,3553.24,3553.24,1,3553.24,3553.24,0,2003.75,2017.75,2010.75,2016.75,-8.3333333333333329E-2]
[null,25,"64 GALLON AUTOMATED CONTAINERS",2003,10,0,null,"S/L",7,2010,null,null,1103.6400000000001,null,1103.6400000000001,13.13857142857143,0,0,0,1,0,1103.6400000000001,1103.6400000000001,1,1103.6400000000001,1103.6400000000001,0,2003.75,2017.75,2010.75,2016.75,-8.3333333333333329E-2]
[null,1066,"68 GALLON GRAY CARTS",2003,12,0,null,"S/L",7,2010,null,null,50121.71,null,50121.71,596.68702380952379,0,0,0,1,0,50121.71,50121.71,1,50121.71,50121.71,0,2003.9166666666667,2017.75,2010.9166666666667,2016.75,-8.3333333333333329E-2]
[null,180,"64 GALLON TOTERS",2004,2,0,null,"S/L",7,2011,null,null,7190.19,null,7190.19,85.597499999999982,0,0,0,1,0,7190.19,7190.19,1,7190.19,7190.19,0,2004.0833333333333,2017.75,2011.0833333333333,2016.75,-8.3333333333333329E-2]
[null,170,"65 GALLON GREEN CARTS",2004,3,0,null,"S/L",7,2011,null,null,7995.71,null,7995.71,95.187023809523808,0,0,0,1,0,7995.71,7995.71,1,7995.71,7995.71,0,2004.1666666666667,2017.75,2011.1666666666667,2016.75,-8.3333333333333329E-2]
[null,84,"65 GALLON GREEN CARTS",2004,4,0,null,"S/L",7,2011,null,null,3971.2,null,3971.2,47.276190476190472,0,0,0,1,0,3971.2,3971.2,1,3971.2,3971.2,0,2004.25,2017.75,2011.25,2016.75,-8.3333333333333329E-2]
[null,527,"65 GALLON GREEN CARTS",2004,5,0,null,"S/L",7,2011,null,null,24754.18,null,24754.18,294.69261904761908,0,0,0,1,0,24754.18,24754.18,1,24754.18,24754.18,0,2004.3333333333333,2017.75,2011.3333333333333,2016.75,-8.3333333333333329E-2]
[null,148,"65 GALLON GREEN CARTS",2004,7,0,null,"S/L",7,2011,null,null,6962.12,null,6962.12,82.882380952380956,0,0,0,1,0,6962.12,6962.12,1,6962.12,6962.12,0,2004.5,2017.75,2011.5,2016.75,-8.3333333333333329E-2]
[null,519,"68 GALLON BLUE CARTS",2004,8,0,null,"S/L",7,2011,null,null,24403.759999999998,null,24403.759999999998,290.52095238095234,0,0,0,1,0,24403.759999999998,24403.759999999998,1,24403.759999999998,24403.759999999998,0,2004.5833333333333,2017.75,2011.5833333333333,2016.75,-8.3333333333333329E-2]
[null,570,"65 GALLON GREEN CARTS",2005,1,0,null,"S/L",7,2012,null,null,26768.65,null,26768.65,318.67440476190478,0,0,0,1,0,26768.65,26768.65,1,26768.65,26768.65,0,2005,2017.75,2012,2016.75,-8.3333333333333329E-2]
[null,570,"65 GALLON GREEN CARTS",2005,1,0,null,"S/L",7,2012,null,null,26768.65,null,26768.65,318.67440476190478,0,0,0,1,0,26768.65,26768.65,1,26768.65,26768.65,0,2005,2017.75,2012,2016.75,-8.3333333333333329E-2]
[null,267,"65 GALLON GREEN CARTS",2005,6,0,null,"S/L",7,2012,null,null,12560.44,null,12560.44,149.52904761904762,0,0,0,1,0,12560.44,12560.44,1,12560.44,12560.44,0,2005.4166666666667,2017.75,2012.4166666666667,2016.75,-8.3333333333333329E-2]
[null,600,"65 GALLON GREEN CARTS",2005,7,0,null,"S/L",7,2012,null,null,28195.52,null,28195.52,335.66095238095238,0,0,0,1,0,28195.52,28195.52,1,28195.52,28195.52,0,2005.5,2017.75,2012.5,2016.75,-8.3333333333333329E-2]
[null,600,"65 GALLON GREEN CARTS",2005,7,0,null,"S/L",7,2012,null,null,28195.52,null,28195.52,335.66095238095238,0,0,0,1,0,28195.52,28195.52,1,28195.52,28195.52,0,2005.5,2017.75,2012.5,2016.75,-8.3333333333333329E-2]
[null,598,"65 GALLON GREEN CARTS",2005,8,0,null,"S/L",7,2012,null,null,28114.58,null,28114.58,334.69738095238097,0,0,0,1,0,28114.58,28114.58,1,28114.58,28114.58,0,2005.5833333333333,2017.75,2012.5833333333333,2016.75,-8.3333333333333329E-2]
[null,50,"64 GALLON UNIV XHD AUTOMATED CARTS-GRAY",2005,10,0,null,"S/L",7,2012,null,null,2859.35,null,2859.35,34.039880952380948,0,0,0,1,0,2859.35,2859.35,1,2859.35,2859.35,0,2005.75,2017.75,2012.75,2016.75,-8.3333333333333329E-2]
[null,518,"95 GALLON  GREEN CARTS",2006,5,0,null,"S/L",7,2013,null,null,24885.64,null,24885.64,296.25761904761902,0,0,0,1,0,24885.64,24885.64,1,24885.64,24885.64,0,2006.3333333333333,2017.75,2013.3333333333333,2016.75,-8.3333333333333329E-2]
[null,659,"65 GALLON GREEN CARTS",2006,6,0,null,"S/L",7,2013,null,null,30983.32,null,30983.32,368.84904761904767,0,0,0,1,0,30983.32,30983.32,1,30983.32,30983.32,0,2006.4166666666667,2017.75,2013.4166666666667,2016.75,-8.3333333333333329E-2]
[null,378,"65 GALLON BLUE CARTS",2007,1,0,null,"S/L",7,2014,null,null,17745.34,null,17745.34,211.25404761904761,0,0,0,1,0,17745.34,17745.34,1,17745.34,17745.34,0,2007,2017.75,2014,2016.75,-8.3333333333333329E-2]
[null,687,"65 GALLON GREEN CARTS",2007,5,0,null,"S/L",7,2014,null,null,32274.32,null,32274.32,384.2180952380952,0,0,0,1,0,32274.32,32274.32,1,32274.32,32274.32,0,2007.3333333333333,2017.75,2014.3333333333333,2016.75,-8.3333333333333329E-2]
[null,50,"64 GALLON CARTS",2007,6,0,null,"S/L",7,2014,null,null,2722.34,null,2722.34,32.408809523809524,0,0,0,1,0,2722.34,2722.34,1,2722.34,2722.34,0,2007.4166666666667,2017.75,2014.4166666666667,2016.75,-8.3333333333333329E-2]
[null,340,"65 GALLON BLUE CARTS",2007,7,0,null,"S/L",7,2014,null,null,15959.48,null,15959.48,189.99380952380952,0,0,0,1,0,15959.48,15959.48,1,15959.48,15959.48,0,2007.5,2017.75,2014.5,2016.75,-8.3333333333333329E-2]
[null,687,"65 GALLON GREEN CARTS",2007,7,0,null,"S/L",7,2014,null,null,32298.1,null,32298.1,384.50119047619046,0,0,0,1,0,32298.1,32298.1,1,32298.1,32298.1,0,2007.5,2017.75,2014.5,2016.75,-8.3333333333333329E-2]
[null,141,"95 GALLON BLUE CARTS",2007,7,0,null,"S/L",7,2014,null,null,6765.98,null,6765.98,80.547380952380948,0,0,0,1,0,6765.98,6765.98,1,6765.98,6765.98,0,2007.5,2017.75,2014.5,2016.75,-8.3333333333333329E-2]
[null,729,"65 GALLON BLUE CARTS",2008,1,0,null,"S/L",7,2015,null,null,34274.33,null,34274.33,408.02773809523813,0,0,0,1,0,34274.33,34274.33,1,34274.33,34274.33,0,2008,2017.75,2015,2016.75,-8.3333333333333329E-2]
[null,730,"65 GALLON GREEN CARTS",2008,3,0,null,"S/L",7,2015,null,null,34294.379999999997,null,34294.379999999997,408.26642857142855,0,0,0,1,0,34294.379999999997,34294.379999999997,1,34294.379999999997,34294.379999999997,0,2008.1666666666667,2017.75,2015.1666666666667,2016.75,-8.3333333333333329E-2]
[null,740,"65 GALLON GREEN CARTS",2008,4,0,null,"S/L",7,2015,null,null,34784.949999999997,null,34784.949999999997,414.1065476190476,0,0,0,1,0,34784.949999999997,34784.949999999997,1,34784.949999999997,34784.949999999997,0,2008.25,2017.75,2015.25,2016.75,-8.3333333333333329E-2]
[null,741,"65 GALLON GREEN CARTS",2008,6,0,null,"S/L",7,2015,null,null,34808.730000000003,null,34808.730000000003,414.38964285714292,0,0,0,1,0,34808.730000000003,34808.730000000003,1,34808.730000000003,34808.730000000003,0,2008.4166666666667,2017.75,2015.4166666666667,2016.75,-8.3333333333333329E-2]
[null,452,"65 GALLON CARTS - DARK AQUA BLUE",2009,8,0,null,"S/L",7,2016,null,null,18171.27,null,18171.27,216.32464285714286,0,0,0,1,0,18171.27,18171.27,1,18171.27,18171.27,0,2009.5833333333333,2017.75,2016.5833333333333,2016.75,-8.3333333333333329E-2]
[null,"300, 300","80 LITER CART, 65 LITER CART LID",2009,11,0,null,"S/L",7,2016,null,null,10368.11,null,10368.11,123.42988095238097,123.4298809522687,0,123.4298809522687,1,123.4298809522687,10244.680119047733,10244.680119047733,1,10244.680119047733,10368.11,61.714940476133961,2009.8333333333333,2017.75,2016.8333333333333,2016.75,-8.3333333333333329E-2]
[73264,243,"95 GAL CARTS - NAVY BLUE - GARBAGE",2010,3,0,null,"S/L",7,2017,null,null,12139.72,null,12139.72,144.52047619047619,722.60238095251236,0,722.60238095251236,1,722.60238095251236,11417.117619047487,11417.117619047487,1,11417.117619047487,12139.72,361.30119047625612,2010.1666666666667,2017.75,2017.1666666666667,2016.75,-8.3333333333333329E-2]
[73263,324,"65 GAL CARTS - NAVY BLUE - GARBAGE",2010,3,0,null,"S/L",7,2017,null,null,14319.46,null,14319.46,170.4697619047619,852.34880952396452,0,852.34880952396452,1,852.34880952396452,13467.111190476035,13467.111190476035,1,13467.111190476035,14319.46,426.17440476198226,2010.1666666666667,2017.75,2017.1666666666667,2016.75,-8.3333333333333329E-2]
[null,432,"65 GAL NAVY CART/BLUE LID - REFUSE",2010,9,0,null,"S/L",7,2017,null,null,17837.060000000001,null,17837.060000000001,212.34595238095241,2335.8054761906697,0,2335.8054761906697,1,2335.8054761906697,15501.254523809332,15501.254523809332,1,15501.254523809332,17837.060000000001,1167.9027380953348,2010.6666666666667,2017.75,2017.6666666666667,2016.75,-8.3333333333333329E-2]
[null,243,"95 GALLON BLUE CARTS",2011,9,0,null,"S/L",7,2018,null,null,13162.28,null,13162.28,156.69380952380953,1880.3257142857144,0,1880.3257142857144,1,1880.3257142857144,9558.3223809522387,9558.3223809522387,1,9558.3223809522387,11438.648095237953,2663.7947619049046,2011.6666666666667,2017.75,2018.6666666666667,2016.75,-8.3333333333333329E-2]
[null,180,"65 GALLON BLUE CARTS",2011,9,0,null,"S/L",7,2018,null,null,8633.08,null,8633.08,102.77476190476192,1233.2971428571429,0,1233.2971428571429,1,1233.2971428571429,6269.2604761903831,6269.2604761903831,1,6269.2604761903831,7502.5576190475258,1747.1709523810455,2011.6666666666667,2017.75,2018.6666666666667,2016.75,-8.3333333333333329E-2]
[93241,612,"65 GALLON BLUE CARTS",2012,4,0,null,"S/L",7,{"$f":"D227+I227","v":2019},null,null,26726.71,null,{"$f":"M227-M227*F227","v":26726.71},{"$f":"O227/I227/12","v":318.17511904761903},{"$f":"IF(N227>0,0,IF(OR(AB227>AC227,AD227<AE227),0,IF(AND(AD227>=AE227,AD227<=AC227),P227*((AD227-AE227)*12),IF(AND(AE227<=AB227,AC227>=AB227),((AC227-AB227)*12)*P227,IF(AD227>AC227,12*P227,0)))))","v":3818.1014285714282},{"$f":"IF(N227=0,0,IF(AND(AF227>=AE227,AF227<=AD227),((AF227-AE227)*12)*P227,0))","v":0},{"$f":"IF(R227>0,R227,Q227)","v":3818.1014285714282},1,{"$f":"T227*SUM(Q227:R227)","v":3818.1014285714282},{"$f":"IF(AB227>AC227,0,IF(AD227<AE227,O227,IF(AND(AD227>=AE227,AD227<=AC227),(O227-S227),IF(AND(AE227<=AB227,AC227>=AB227),0,IF(AD227>AC227,((AE227-AB227)*12)*P227,0)))))","v":17181.45642857143},{"$f":"V227*T227","v":17181.45642857143},1,{"$f":"W227*X227","v":17181.45642857143},{"$f":"IF(N227>0,0,Y227+U227*X227)*X227","v":20999.557857142856},{"$f":"IF(N227>0,(M227-Y227)/2,IF(AB227>=AE227,(((M227*T227)*X227)-Z227)/2,((((M227*T227)*X227)-Y227)+(((M227*T227)*X227)-Z227))/2))","v":7636.2028571428564},{"$f":"$D227+(($E227-1)/12)","v":2012.25},{"$f":"($O$5+1)-($O$2/12)","v":2017.75},{"$f":"$J227+(($E227-1)/12)","v":2019.25},{"$f":"$O$4+($O$3/12)","v":2016.75},{"$f":"$K227+(($L227-1)/12)","v":-8.3333333333333329E-2}]
[93408,49,"20 GALLON BLUE CARTS",2012,4,0,null,"S/L",7,2019,null,null,1816.14,null,1816.14,21.620714285714286,259.44857142857143,0,259.44857142857143,1,259.44857142857143,1167.5185714285715,1167.5185714285715,1,1167.5185714285715,1426.9671428571428,518.89714285714297,2012.25,2017.75,2019.25,2016.75,-8.3333333333333329E-2]
[98832,386,"65 GALLON BLUE CARTS",2012,11,0,null,"S/L",7,2019,null,null,17179.43,null,17179.43,204.51702380952381,2454.2042857142856,0,2454.2042857142856,1,2454.2042857142856,9612.3001190478044,9612.3001190478044,1,9612.3001190478044,12066.50440476209,6340.0277380950529,2012.8333333333333,2017.75,2019.8333333333333,2016.75,-8.3333333333333329E-2]
[106428,648,"95 GALLON GARBAGE CARTS",2013,7,0,null,"S/L",7,2020,null,null,15565.82,null,15565.82,185.30738095238095,2223.6885714285713,0,2223.6885714285713,1,2223.6885714285713,7226.9878571428571,7226.9878571428571,1,7226.9878571428571,9450.6764285714289,7226.9878571428571,2013.5,2017.75,2020.5,2016.75,-8.3333333333333329E-2]
[109687,243,"95 GALLON GARBAGE CARTS",2013,11,0,null,"S/L",7,2020,null,null,12390.3,null,12390.3,147.50357142857141,1770.042857142857,0,1770.042857142857,1,1770.042857142857,5162.6250000001337,5162.6250000001337,1,5162.6250000001337,6932.6678571429911,6342.6535714284364,2013.8333333333333,2017.75,2020.8333333333333,2016.75,-8.3333333333333329E-2]
[109684,648,"65 GALLON GARBAGE CARTS",2013,11,0,null,"S/L",7,2020,null,null,28522.98,null,28522.98,339.55928571428569,4074.7114285714283,0,4074.7114285714283,1,4074.7114285714283,11884.575000000308,11884.575000000308,1,11884.575000000308,15959.286428571737,14601.049285713978,2013.8333333333333,2017.75,2020.8333333333333,2016.75,-8.3333333333333329E-2]
[116098,504,"95 GALLON GARBAGE CARTS",2014,8,0,null,"S/L",7,2021,null,null,27565.759999999998,null,27565.759999999998,328.1638095238095,3937.9657142857141,0,3937.9657142857141,1,3937.9657142857141,8532.2590476193454,8532.2590476193454,1,8532.2590476193454,12470.224761905059,17064.518095237796,2014.5833333333333,2017.75,2021.5833333333333,2016.75,-8.3333333333333329E-2]
[124165,50,"24 GALLON GARBAGE CARTS",2015,6,0,null,"S/L",7,2022,null,null,1811.7,null,1811.7,21.567857142857147,258.81428571428575,0,258.81428571428575,1,258.81428571428575,345.08571428569473,345.08571428569473,1,345.08571428569473,603.89999999998054,1337.2071428571626,2015.4166666666667,2017.75,2022.4166666666667,2016.75,-8.3333333333333329E-2]
[124164,684,"65 GALLON GARBAGE CARTS",2015,6,0,null,"S/L",7,2022,null,null,30287.52,null,30287.52,360.56571428571425,4326.7885714285712,0,4326.7885714285712,1,4326.7885714285712,5769.0514285710997,5769.0514285710997,1,5769.0514285710997,10095.839999999671,22355.074285714614,2015.4166666666667,2017.75,2022.4166666666667,2016.75,-8.3333333333333329E-2]
[124070,50,"35 GALLON GARBAGE CARTS",2015,6,0,null,"S/L",7,2022,null,null,1836,null,1836,21.857142857142858,262.28571428571428,0,262.28571428571428,1,262.28571428571428,349.71428571426583,349.71428571426583,1,349.71428571426583,611.9999999999801,1355.1428571428771,2015.4166666666667,2017.75,2022.4166666666667,2016.75,-8.3333333333333329E-2]
[128358,684,"65 GALLON GARBAGE CARTS",2015,12,0,null,"S/L",7,2022,null,null,31007.79,null,31007.79,369.14035714285711,4429.6842857142856,0,4429.6842857142856,1,4429.6842857142856,3691.4035714282354,3691.4035714282354,1,3691.4035714282354,8121.087857142521,25101.544285714623,2015.9166666666667,2017.75,2022.9166666666667,2016.75,-8.3333333333333329E-2]
[166330,648,"65 GALLON GARBAGE CARTS",2016,8,0,null,"S/L",7,2023,null,null,28378.7,null,28378.7,337.84166666666664,4054.0999999999995,0,4054.0999999999995,1,4054.0999999999995,675.68333333364058,675.68333333364058,1,675.68333333364058,4729.7833333336403,25675.966666666362,2016.5833333333333,2017.75,2023.5833333333333,2016.75,-8.3333333333333329E-2]
[186098,50,"35 Gallon Refuse Carts",2017,9,0,null,"S/L",7,2024,null,null,1761.5,null,1761.5,20.970238095238095,20.970238095219024,0,20.970238095219024,1,20.970238095219024,0,0,1,0,20.970238095219024,870.26488095239051,2017.6666666666667,2017.75,2024.6666666666667,2016.75,-8.3333333333333329E-2]
[178892,648,"65gal Garbage Carts",2017,3,0,null,"S/L",7,2024,null,null,29663.68,null,29663.68,353.13904761904763,2471.9733333330123,0,2471.9733333330123,1,2471.9733333330123,0,0,1,0,2471.9733333330123,13595.853333333494,2017.1666666666667,2017.75,2024.1666666666667,2016.75,-8.3333333333333329E-2]
[187750,648,"65 Gallon  Refuse Carts",2017,9,0,null,"S/L",7,{"$f":"D241+I241","v":2024},null,null,27848.17,null,27848.17,331.52583333333331,331.52583333303181,0,331.52583333303181,2,663.05166666606362,0,0,2,0,2652.2066666642545,54370.236666667872,2017.6666666666667,2017.75,2024.6666666666667,2016.75,-8.3333333333333329E-2]
[191606,648,"65 Gallon Refuse Carts",2018,1,0,null,"S/L",6.11,{"$f":"D242+I242","v":2024.11},null,null,32819.910000000003,null,32819.910000000003,447.62561374795422,0,0,0,3,0,0,0,3,0,0,147689.59500000003,2018,2017.75,2024.11,2016.75,-8.3333333333333329E-2]
[202946,351,"95 Gallon Refuse Container",2018,8,0,null,"S/L",7,{"$f":"D243+I243","v":2025},null,null,21048.63,null,21048.63,250.57892857142858,0,0,0,4,0,0,0,4,0,0,168389.04,2018.5833333333333,2017.75,2025.5833333333333,2016.75,-8.3333333333333329E-2]
[202196,648,"65 Gallon Refuse Container",2018,8,0,null,"S/L",7,{"$f":"D244+I244","v":2025},null,null,32253.07,null,32253.07,383.96511904761905,0,0,0,5,0,0,0,5,0,0,403163.375,2018.5833333333333,2017.75,2025.5833333333333,2016.75,-8.3333333333333329E-2]
[]
[null,null,"Total Garbage Carts",null,null,null,null,null,null,null,null,null,{"$f":"SUM(M163:M245)","v":1748030.7399999998},null,{"$f":"SUM(O163:O245)","v":1748030.7399999998},{"$f":"SUM(P163:P245)","v":20866.802161366995},{"$f":"SUM(Q163:Q245)","v":41842.114523809258},null,{"$f":"SUM(S163:S245)","v":41842.114523809258},null,{"$f":"SUM(U163:U245)","v":42173.640357142285},{"$f":"SUM(V163:V245)","v":1441143.6266666665},{"$f":"SUM(W163:W245)","v":1441143.6266666665},null,{"$f":"SUM(Y163:Y245)","v":1441143.6266666665},{"$f":"SUM(Z163:Z245)","v":1485306.422023807},{"$f":"SUM(AA163:AA245)","v":930061.69565476326}]
[]
[]
[]
[null,null,"DROP BOX"]
[null,3,"30 YD STRUCT STYLE DROP BOX",1999,9,0,null,"S/L","10",{"$f":"D251+I251","v":2009},null,null,15312.6,null,{"$f":"M251-M251*F251","v":15312.6},{"$f":"O251/I251/12","v":127.605},{"$f":"IF(N251>0,0,IF(OR(AB251>AC251,AD251<AE251),0,IF(AND(AD251>=AE251,AD251<=AC251),P251*((AD251-AE251)*12),IF(AND(AE251<=AB251,AC251>=AB251),((AC251-AB251)*12)*P251,IF(AD251>AC251,12*P251,0)))))","v":0},{"$f":"IF(N251=0,0,IF(AND(AF251>=AE251,AF251<=AD251),((AF251-AE251)*12)*P251,0))","v":0},{"$f":"IF(R251>0,R251,Q251)","v":0},1,{"$f":"T251*SUM(Q251:R251)","v":0},{"$f":"IF(AB251>AC251,0,IF(AD251<AE251,O251,IF(AND(AD251>=AE251,AD251<=AC251),(O251-S251),IF(AND(AE251<=AB251,AC251>=AB251),0,IF(AD251>AC251,((AE251-AB251)*12)*P251,0)))))","v":15312.6},{"$f":"V251*T251","v":15312.6},1,{"$f":"W251*X251","v":15312.6},{"$f":"IF(N251>0,0,Y251+U251*X251)*X251","v":15312.6},{"$f":"IF(N251>0,(M251-Y251)/2,IF(AB251>=AE251,(((M251*T251)*X251)-Z251)/2,((((M251*T251)*X251)-Y251)+(((M251*T251)*X251)-Z251))/2))","v":0},{"$f":"$D251+(($E251-1)/12)","v":1999.6666666666667},{"$f":"($O$5+1)-($O$2/12)","v":2017.75},{"$f":"$J251+(($E251-1)/12)","v":2009.6666666666667},{"$f":"$O$4+($O$3/12)","v":2016.75},{"$f":"$K251+(($L251-1)/12)","v":-8.3333333333333329E-2}]
[null,2,"40 YD DROP BOX",1999,10,0,null,"S/L","10",2009,null,null,9220.14,null,9220.14,76.834499999999991,0,0,0,1,0,9220.14,9220.14,1,9220.14,9220.14,0,1999.75,2017.75,2009.75,2016.75,-8.3333333333333329E-2]
[null,3,"20 YD DROP BOX",2000,8,0,null,"S/L","10",2010,null,null,10669.95,null,10669.95,88.916250000000005,0,0,0,1,0,10669.95,10669.95,1,10669.95,10669.95,0,2000.5833333333333,2017.75,2010.5833333333333,2016.75,-8.3333333333333329E-2]
[null,2,"30 YD DROP BOX",2000,8,0,null,"S/L","10",2010,null,null,7884.36,null,7884.36,65.702999999999989,0,0,0,1,0,7884.36,7884.36,1,7884.36,7884.36,0,2000.5833333333333,2017.75,2010.5833333333333,2016.75,-8.3333333333333329E-2]
[null,1,"40 YD DROP BOX",2001,4,0,null,"S/L","10",2011,null,null,4610.07,null,4610.07,38.417249999999996,0,0,0,1,0,4610.07,4610.07,1,4610.07,4610.07,0,2001.25,2017.75,2011.25,2016.75,-8.3333333333333329E-2]
[null,2,"30 YD DROP BOX",2001,6,0,null,"S/L","10",2011,null,null,7898.88,null,7898.88,65.823999999999998,0,0,0,1,0,7898.88,7898.88,1,7898.88,7898.88,0,2001.4166666666667,2017.75,2011.4166666666667,2016.75,-8.3333333333333329E-2]
[null,3,"30 YD DROP BOX",2001,8,0,null,"S/L","10",2011,null,null,15797.76,null,15797.76,131.648,0,0,0,1,0,15797.76,15797.76,1,15797.76,15797.76,0,2001.5833333333333,2017.75,2011.5833333333333,2016.75,-8.3333333333333329E-2]
[null,5,"30 YD DROP BOX",2004,10,0,null,"S/L","10",2014,null,null,22369.279999999999,null,22369.279999999999,186.41066666666666,0,0,0,1,0,22369.279999999999,22369.279999999999,1,22369.279999999999,22369.279999999999,0,2004.75,2017.75,2014.75,2016.75,-8.3333333333333329E-2]
[null,2,"30 YD DROP BOX",2005,9,0,null,"S/L","10",2015,null,null,9598.34,null,9598.34,79.986166666666676,0,0,0,1,0,9598.34,9598.34,1,9598.34,9598.34,0,2005.6666666666667,2017.75,2015.6666666666667,2016.75,-8.3333333333333329E-2]
[null,4,"40 YD DROP BOX",2006,8,0,null,"S/L","10",2016,null,null,19848.39,null,19848.39,165.40324999999999,0,0,0,1,0,19848.39,19848.39,1,19848.39,19848.39,0,2006.5833333333333,2017.75,2016.5833333333333,2016.75,-8.3333333333333329E-2]
[null,4,"20 YD DROP BOX",2007,2,0,null,"S/L","10",2017,null,null,14990.55,null,14990.55,124.92124999999999,499.68499999988632,0,499.68499999988632,1,499.68499999988632,14490.865000000113,14490.865000000113,1,14490.865000000113,14990.55,249.84249999994336,2007.0833333333333,2017.75,2017.0833333333333,2016.75,-8.3333333333333329E-2]
[null,7,"30 YD DROP BOX",2007,2,0,null,"S/L","10",2017,null,null,35649.4,null,35649.4,297.07833333333332,1188.3133333330632,0,1188.3133333330632,1,1188.3133333330632,34461.086666666939,34461.086666666939,1,34461.086666666939,35649.4,594.15666666653124,2007.0833333333333,2017.75,2017.0833333333333,2016.75,-8.3333333333333329E-2]
[null,8,"20 YD DROP BOX",2007,3,0,null,"S/L","10",2017,null,null,35300.160000000003,null,35300.160000000003,294.16800000000006,1470.8400000002678,0,1470.8400000002678,1,1470.8400000002678,33829.319999999738,33829.319999999738,1,33829.319999999738,35300.160000000003,735.42000000013286,2007.1666666666667,2017.75,2017.1666666666667,2016.75,-8.3333333333333329E-2]
[null,5,"30 YD DROP BOX",2007,3,0,null,"S/L","10",2017,null,null,23788.12,null,23788.12,198.23433333333332,991.17166666684693,0,991.17166666684693,1,991.17166666684693,22796.948333333152,22796.948333333152,1,22796.948333333152,23788.12,495.58583333342358,2007.1666666666667,2017.75,2017.1666666666667,2016.75,-8.3333333333333329E-2]
[null,2,"40 YD DROP BOX",2007,3,0,null,"S/L","10",2017,null,null,13232.25,null,13232.25,110.26875,551.34375000010027,0,551.34375000010027,1,551.34375000010027,12680.9062499999,12680.9062499999,1,12680.9062499999,13232.25,275.67187500005002,2007.1666666666667,2017.75,2017.1666666666667,2016.75,-8.3333333333333329E-2]
[null,2,"40 YD DROP BOX",2007,3,0,null,"S/L","10",2017,null,null,13232.25,null,13232.25,110.26875,551.34375000010027,0,551.34375000010027,1,551.34375000010027,12680.9062499999,12680.9062499999,1,12680.9062499999,13232.25,275.67187500005002,2007.1666666666667,2017.75,2017.1666666666667,2016.75,-8.3333333333333329E-2]
[null,11,"20 YD DROP BOX",2007,4,0,null,"S/L","10",2017,null,null,46355.45,null,46355.45,386.29541666666665,2317.7725,0,2317.7725,1,2317.7725,44037.677499999998,44037.677499999998,1,44037.677499999998,46355.45,1158.8862499999996,2007.25,2017.75,2017.25,2016.75,-8.3333333333333329E-2]
[null,3,"20 YD DROP BOX",2007,5,0,null,"S/L","10",2017,null,null,14032.4,null,14032.4,116.93666666666667,818.55666666656032,0,818.55666666656032,1,818.55666666656032,13213.84333333344,13213.84333333344,1,13213.84333333344,14032.4,409.27833333327999,2007.3333333333333,2017.75,2017.3333333333333,2016.75,-8.3333333333333329E-2]
[null,5,"40 YD DROP BOX",2007,5,0,null,"S/L","10",2017,null,null,26869.98,null,26869.98,223.91650000000001,1567.4154999997963,0,1567.4154999997963,1,1567.4154999997963,25302.564500000204,25302.564500000204,1,25302.564500000204,26869.98,783.70774999989771,2007.3333333333333,2017.75,2017.3333333333333,2016.75,-8.3333333333333329E-2]
[null,10,"20 YD DROP BOX",2007,6,0,null,"S/L","10",2017,null,null,41991.839999999997,null,41991.839999999997,349.93199999999996,2799.456000000318,0,2799.456000000318,1,2799.456000000318,39192.383999999678,39192.383999999678,1,39192.383999999678,41991.839999999997,1399.7280000001592,2007.4166666666667,2017.75,2017.4166666666667,2016.75,-8.3333333333333329E-2]
[null,2,"20 YD DROP BOX",2007,6,0,null,"S/L","10",2017,null,null,9122.19,null,9122.19,76.018250000000009,608.14600000006919,0,608.14600000006919,1,608.14600000006919,8514.0439999999307,8514.0439999999307,1,8514.0439999999307,9122.19,304.07300000003488,2007.4166666666667,2017.75,2017.4166666666667,2016.75,-8.3333333333333329E-2]
[null,2,"20 YD DROP BOX",2007,6,0,null,"S/L","10",2017,null,null,8336.2999999999993,null,8336.2999999999993,69.469166666666652,555.75333333339643,0,555.75333333339643,1,555.75333333339643,7780.5466666666025,7780.5466666666025,1,7780.5466666666025,8336.2999999999993,277.87666666669838,2007.4166666666667,2017.75,2017.4166666666667,2016.75,-8.3333333333333329E-2]
[null,4,"20 YD DROP BOXES W/LIDS",2007,6,0,null,"S/L","10",2017,null,null,15986.52,null,15986.52,133.221,1065.7680000001212,0,1065.7680000001212,1,1065.7680000001212,14920.751999999879,14920.751999999879,1,14920.751999999879,15986.52,532.88400000006095,2007.4166666666667,2017.75,2017.4166666666667,2016.75,-8.3333333333333329E-2]
[null,4,"30 YD DROP BOX",2007,7,0,null,"S/L","10",2017,null,null,18788.52,null,18788.52,156.571,1409.1389999999999,0,1409.1389999999999,1,1409.1389999999999,17379.381000000001,17379.381000000001,1,17379.381000000001,18788.52,704.56949999999961,2007.5,2017.75,2017.5,2016.75,-8.3333333333333329E-2]
[null,3,"30 YD DROP BOX",2007,7,0,null,"S/L","10",2017,null,null,12569.24,null,12569.24,104.74366666666667,942.69299999999998,0,942.69299999999998,1,942.69299999999998,11626.547,11626.547,1,11626.547,12569.24,471.34649999999965,2007.5,2017.75,2017.5,2016.75,-8.3333333333333329E-2]
[null,3,"40 YD DROP BOX",2007,7,0,null,"S/L","10",2017,null,null,14157,null,14157,117.97500000000001,1061.7750000000001,0,1061.7750000000001,1,1061.7750000000001,13095.225,13095.225,1,13095.225,14157,530.88749999999982,2007.5,2017.75,2017.5,2016.75,-8.3333333333333329E-2]
[null,3,"40 YD DROP BOX",2007,7,0,null,"S/L","10",2017,null,null,13857.53,null,13857.53,115.47941666666668,1039.31475,0,1039.31475,1,1039.31475,12818.215250000001,12818.215250000001,1,12818.215250000001,13857.53,519.65737499999977,2007.5,2017.75,2017.5,2016.75,-8.3333333333333329E-2]
[null,2,"40 YD DROP BOX",2007,7,0,null,"S/L","10",2017,null,null,11499.84,null,11499.84,95.831999999999994,862.48799999999994,0,862.48799999999994,1,862.48799999999994,10637.352000000001,10637.352000000001,1,10637.352000000001,11499.84,431.24399999999969,2007.5,2017.75,2017.5,2016.75,-8.3333333333333329E-2]
[null,1,"40 YD DROP BOX",2007,7,0,null,"S/L","10",2017,null,null,7024.05,null,7024.05,58.533749999999998,526.80375000000004,0,526.80375000000004,1,526.80375000000004,6497.2462500000001,6497.2462500000001,1,6497.2462500000001,7024.05,263.40187500000002,2007.5,2017.75,2017.5,2016.75,-8.3333333333333329E-2]
[null,1,"40 YD DROP BOX",2007,7,0,null,"S/L","10",2017,null,null,7976.93,null,7976.93,66.47441666666667,598.26975000000004,0,598.26975000000004,1,598.26975000000004,7378.6602499999999,7378.6602499999999,1,7378.6602499999999,7976.93,299.13487500000019,2007.5,2017.75,2017.5,2016.75,-8.3333333333333329E-2]
[null,10,"30 YD DROP BOX",2007,7,0,null,"S/L","10",2017,null,null,49144.4,null,49144.4,409.53666666666669,3685.8300000000004,0,3685.8300000000004,1,3685.8300000000004,45458.57,45458.57,1,45458.57,49144.4,1842.9150000000009,2007.5,2017.75,2017.5,2016.75,-8.3333333333333329E-2]
[null,10,"40 YD DROP BOX",2007,7,0,null,"S/L","10",2017,null,null,54885.599999999999,null,54885.599999999999,457.37999999999994,4116.4199999999992,0,4116.4199999999992,1,4116.4199999999992,50769.18,50769.18,1,50769.18,54885.599999999999,2058.2099999999991,2007.5,2017.75,2017.5,2016.75,-8.3333333333333329E-2]
[null,3,"30 YD DROP BOX",2007,8,0,null,"S/L","10",2017,null,null,12444.01,null,12444.01,103.70008333333334,1037.0008333332391,0,1037.0008333332391,1,1037.0008333332391,11407.009166666761,11407.009166666761,1,11407.009166666761,12444.01,518.50041666661946,2007.5833333333333,2017.75,2017.5833333333333,2016.75,-8.3333333333333329E-2]
[null,0,"50 YD DROP BOX",2007,8,0,null,"S/L","10",2017,null,null,15137.1,null,15137.1,126.1425,1261.4249999998854,0,1261.4249999998854,1,1261.4249999998854,13875.675000000116,13875.675000000116,1,13875.675000000116,15137.1,630.71249999994234,2007.5833333333333,2017.75,2017.5833333333333,2016.75,-8.3333333333333329E-2]
[null,10,"40 YD DROP BOX",2007,10,0,null,"S/L","10",2017,null,null,54885.599999999999,null,54885.599999999999,457.37999999999994,5488.5599999999995,0,5488.5599999999995,1,5488.5599999999995,49397.04,49397.04,1,49397.04,54885.599999999999,2744.2799999999988,2007.75,2017.75,2017.75,2016.75,-8.3333333333333329E-2]
[null,10,"20 YD DROP BOX",2007,11,0,null,"S/L","10",2017,null,null,41991.839999999997,null,41991.839999999997,349.93199999999996,4199.1839999999993,0,4199.1839999999993,1,4199.1839999999993,37442.724000000315,37442.724000000315,1,37442.724000000315,41641.908000000316,2449.5239999996811,2007.8333333333333,2017.75,2017.8333333333333,2016.75,-8.3333333333333329E-2]
[null,10,"30 YD DROP BOX",2007,12,0,null,"S/L","10",2017,null,null,49144.4,null,49144.4,409.53666666666669,4914.4400000000005,0,4914.4400000000005,1,4914.4400000000005,43410.886666666294,43410.886666666294,1,43410.886666666294,48325.326666666297,3276.293333333706,2007.9166666666667,2017.75,2017.9166666666667,2016.75,-8.3333333333333329E-2]
[null,3,"30 YD DROP BOX",2008,1,0,null,"S/L","10",2018,null,null,12444.01,null,12444.01,103.70008333333334,1244.4010000000001,0,1244.4010000000001,1,1244.4010000000001,10888.508750000001,10888.508750000001,1,10888.508750000001,12132.909750000001,933.30074999999943,2008,2017.75,2018,2016.75,-8.3333333333333329E-2]
[null,3,"30 YD DROP BOX",2008,1,0,null,"S/L","10",2018,null,null,15589.04,null,15589.04,129.90866666666668,1558.904,0,1558.904,1,1558.904,13640.410000000002,13640.410000000002,1,13640.410000000002,15199.314000000002,1169.177999999999,2008,2017.75,2018,2016.75,-8.3333333333333329E-2]
[null,5,"40 YD DROP BOX",2008,1,0,null,"S/L","10",2018,null,null,27965.52,null,27965.52,233.04600000000002,2796.5520000000001,0,2796.5520000000001,1,2796.5520000000001,24469.83,24469.83,1,24469.83,27266.382000000001,2097.4139999999989,2008,2017.75,2018,2016.75,-8.3333333333333329E-2]
[null,3,"40 YD DROP BOX",2008,1,0,null,"S/L","10",2018,null,null,16966.62,null,16966.62,141.38849999999999,1696.6619999999998,0,1696.6619999999998,1,1696.6619999999998,14845.7925,14845.7925,1,14845.7925,16542.4545,1272.4964999999993,2008,2017.75,2018,2016.75,-8.3333333333333329E-2]
[null,3,"20 YD DROP BOX",2008,1,0,null,"S/L","10",2018,null,null,10606.86,null,10606.86,88.390500000000017,1060.6860000000001,0,1060.6860000000001,1,1060.6860000000001,9281.0025000000023,9281.0025000000023,1,9281.0025000000023,10341.688500000002,795.51449999999841,2008,2017.75,2018,2016.75,-8.3333333333333329E-2]
[null,8,"20 YD DROP BOX",2008,2,0,null,"S/L","10",2018,null,null,32038.38,null,32038.38,266.98650000000004,3203.8380000000006,0,3203.8380000000006,1,3203.8380000000006,27766.596000000245,27766.596000000245,1,27766.596000000245,30970.434000000245,2669.864999999756,2008.0833333333333,2017.75,2018.0833333333333,2016.75,-8.3333333333333329E-2]
[null,6,"40 YD DROP BOX",2008,4,0,null,"S/L",10,2018,null,null,30461.14,null,30461.14,253.84283333333335,3046.114,0,3046.114,1,3046.114,25891.969000000001,25891.969000000001,1,25891.969000000001,28938.083000000002,3046.1139999999978,2008.25,2017.75,2018.25,2016.75,-8.3333333333333329E-2]
[null,3,"20 YD DROP BOX",2008,4,0,null,"S/L",10,2018,null,null,11635.75,null,11635.75,96.964583333333337,1163.575,0,1163.575,1,1163.575,9890.3875000000007,9890.3875000000007,1,9890.3875000000007,11053.962500000001,1163.5749999999989,2008.25,2017.75,2018.25,2016.75,-8.3333333333333329E-2]
[null,8,"20 YD DROP BOX",2008,5,0,null,"S/L",10,2018,null,null,34197.83,null,34197.83,284.98191666666668,3419.7830000000004,0,3419.7830000000004,1,3419.7830000000004,28783.173583333595,28783.173583333595,1,28783.173583333595,32202.956583333595,3704.7649166664069,2008.3333333333333,2017.75,2018.3333333333333,2016.75,-8.3333333333333329E-2]
[null,0,"EXTRA FREIGHT ON 20 YD BOXES",2008,8,0,null,"S/L",10,2018,null,null,1348.75,null,1348.75,11.239583333333334,134.875,0,134.875,1,134.875,1101.479166666677,1101.479166666677,1,1101.479166666677,1236.354166666677,179.83333333332303,2008.5833333333333,2017.75,2018.5833333333333,2016.75,-8.3333333333333329E-2]
["118140/118760",41,"R/O Winch Upgrades",2014,12,0,null,"S/L",5,2019,null,null,{"$f":"13762.19+30514.81","v":44277},null,44277,737.94999999999993,8855.4,0,8855.4,1,8855.4,16234.899999999327,16234.899999999327,1,16234.899999999327,25090.299999999326,23614.400000000674,2014.9166666666667,2017.75,2019.9166666666667,2016.75,-8.3333333333333329E-2]
[169575,5,"20 YD DROP BOX W/ LID",2016,10,0,null,"S/L",12,2028,null,null,27725,null,27725,192.5347222222222,2310.4166666666665,0,2310.4166666666665,1,2310.4166666666665,0,0,1,0,2310.4166666666665,12707.291666666666,2016.75,2017.75,2028.75,2016.75,-8.3333333333333329E-2]
[170906,4,"20 YD DROP BOX",2016,10,0,null,"S/L",12,2028,null,null,26044,null,26044,180.86111111111111,2170.3333333333335,0,2170.3333333333335,1,2170.3333333333335,0,0,1,0,2170.3333333333335,11936.833333333334,2016.75,2017.75,2028.75,2016.75,-8.3333333333333329E-2]
[185007,6,"30 Yd Lidded RO Box",2017,7,0,null,"S/L",12,2029,null,null,38205,null,38205,265.3125,795.9375,0,795.9375,1,795.9375,0,0,1,0,795.9375,18704.53125,2017.5,2017.75,2029.5,2016.75,-8.3333333333333329E-2]
[185006,6,"40 Yd Lidded RO Box",2017,7,0,null,"S/L",12,2029,null,null,44025,null,44025,305.72916666666669,917.1875,0,917.1875,1,917.1875,0,0,1,0,917.1875,21553.90625,2017.5,2017.75,2029.5,2016.75,-8.3333333333333329E-2]
[206419,null,"30yd RO Container",2018,11,0,null,"S/L",12,2030,null,null,28508.71,null,28508.71,197.97715277777777,0,0,0,2,0,0,0,2,0,0,57017.42,2018.8333333333333,2017.75,2030.8333333333333,2016.75,-8.3333333333333329E-2]
[206421,null,"30yd RO Containers",2018,11,0,null,"S/L",12,2030,null,null,8889.07,null,8889.07,61.729652777777773,0,0,0,3,0,0,0,3,0,0,40000.815000000002,2018.8333333333333,2017.75,2030.8333333333333,2016.75,-8.3333333333333329E-2]
[198076,null,"30 Yard R/O Containers",2008,11,0,null,"S/L",7,2015,null,null,37543.25,null,{"$f":"M305-M305*F305","v":37543.25},{"$f":"O305/I305/12","v":446.94345238095235},{"$f":"IF(N305>0,0,IF(OR(AB305>AC305,AD305<AE305),0,IF(AND(AD305>=AE305,AD305<=AC305),P305*((AD305-AE305)*12),IF(AND(AE305<=AB305,AC305>=AB305),((AC305-AB305)*12)*P305,IF(AD305>AC305,12*P305,0)))))","v":0},{"$f":"IF(N305=0,0,IF(AND(AF305>=AE305,AF305<=AD305),((AF305-AE305)*12)*P305,0))","v":0},{"$f":"IF(R305>0,R305,Q305)","v":0},4,{"$f":"T305*SUM(Q305:R305)","v":0},{"$f":"IF(AB305>AC305,0,IF(AD305<AE305,O305,IF(AND(AD305>=AE305,AD305<=AC305),(O305-S305),IF(AND(AE305<=AB305,AC305>=AB305),0,IF(AD305>AC305,((AE305-AB305)*12)*P305,0)))))","v":37543.25},{"$f":"V305*T305","v":150173},4,{"$f":"W305*X305","v":600692},{"$f":"IF(N305>0,0,Y305+U305*X305)*X305","v":2402768},{"$f":"IF(N305>0,(M305-Y305)/2,IF(AB305>=AE305,(((M305*T305)*X305)-Z305)/2,((((M305*T305)*X305)-Y305)+(((M305*T305)*X305)-Z305))/2))","v":-901038},2008.8333333333333,2017.75,2015.8333333333333,2016.75,-8.3333333333333329E-2]
[]
[null,null,"Total Drop Box",null,null,null,null,null,null,null,null,null,{"$f":"SUM(M251:M306)","v":1234074.17},null,{"$f":"SUM(O251:O306)","v":1234074.17},10546.180591269842,80503.573583333666,null,80503.573583333666,null,80503.573583333666,958642.62508333276,1071272.3750833329,null,1521791.3750833329,3404370.9486666662,-674237.28687499964]
[]
[]
[null,null,"RECYCLE CARTS"]
[null,30,"2 YD R/L RECYCLE W/PLASTIC LIDS",1999,5,0,null,"S/L",7,{"$f":"D311+I311","v":2006},null,null,10181.25,null,{"$f":"M311-M311*F311","v":10181.25},{"$f":"O311/I311/12","v":121.20535714285715},{"$f":"IF(N311>0,0,IF(OR(AB311>AC311,AD311<AE311),0,IF(AND(AD311>=AE311,AD311<=AC311),P311*((AD311-AE311)*12),IF(AND(AE311<=AB311,AC311>=AB311),((AC311-AB311)*12)*P311,IF(AD311>AC311,12*P311,0)))))","v":0},{"$f":"IF(N311=0,0,IF(AND(AF311>=AE311,AF311<=AD311),((AF311-AE311)*12)*P311,0))","v":0},{"$f":"IF(R311>0,R311,Q311)","v":0},1,{"$f":"T311*SUM(Q311:R311)","v":0},{"$f":"IF(AB311>AC311,0,IF(AD311<AE311,O311,IF(AND(AD311>=AE311,AD311<=AC311),(O311-S311),IF(AND(AE311<=AB311,AC311>=AB311),0,IF(AD311>AC311,((AE311-AB311)*12)*P311,0)))))","v":10181.25},{"$f":"V311*T311","v":10181.25},1,{"$f":"W311*X311","v":10181.25},{"$f":"IF(N311>0,0,Y311+U311*X311)*X311","v":10181.25},{"$f":"IF(N311>0,(M311-Y311)/2,IF(AB311>=AE311,(((M311*T311)*X311)-Z311)/2,((((M311*T311)*X311)-Y311)+(((M311*T311)*X311)-Z311))/2))","v":0},{"$f":"$D311+(($E311-1)/12)","v":1999.3333333333333},{"$f":"($O$5+1)-($O$2/12)","v":2017.75},{"$f":"$J311+(($E311-1)/12)","v":2006.3333333333333},{"$f":"$O$4+($O$3/12)","v":2016.75},{"$f":"$K311+(($L311-1)/12)","v":-8.3333333333333329E-2}]
[null,25,"96 GALLON UNIV XHD AS0201 CARTS - GRAYSTONE",2005,9,0,null,"S/L",7,2012,null,null,2130.0100000000002,null,2130.0100000000002,25.357261904761909,0,0,0,1,0,2130.0100000000002,2130.0100000000002,1,2130.0100000000002,2130.0100000000002,0,2005.6666666666667,2017.75,2012.6666666666667,2016.75,-8.3333333333333329E-2]
[null,2149,"65 GALLON GREEN W/BEIGE RECYCLE LID",2007,3,0,null,"S/L",7,2014,null,null,101006.46,null,101006.46,1202.4578571428572,0,0,0,1,0,101006.46,101006.46,1,101006.46,101006.46,0,2007.1666666666667,2017.75,2014.1666666666667,2016.75,-8.3333333333333329E-2]
[null,25,"96 GALLON CARTS",2007,6,0,null,"S/L",7,2014,null,null,1511.26,null,1511.26,17.991190476190475,0,0,0,1,0,1511.26,1511.26,1,1511.26,1511.26,0,2007.4166666666667,2017.75,2014.4166666666667,2016.75,-8.3333333333333329E-2]
[null,312,"65 GALLON GREEN RECYCLE CARTS",2007,7,0,null,"S/L",7,2014,null,null,14647.27,null,14647.27,174.3722619047619,0,0,0,1,0,14647.27,14647.27,1,14647.27,14647.27,0,2007.5,2017.75,2014.5,2016.75,-8.3333333333333329E-2]
[null,140,"95 GALLON BLUE CARTS",2007,7,0,null,"S/L",7,2014,null,null,6710.53,null,6710.53,79.8872619047619,0,0,0,1,0,6710.53,6710.53,1,6710.53,6710.53,0,2007.5,2017.75,2014.5,2016.75,-8.3333333333333329E-2]
[null,568,"95 GALLON  GREY RECYCLE CARTS",2007,8,0,null,"S/L",7,2014,null,null,27245.15,null,27245.15,324.34702380952382,0,0,0,1,0,27245.15,27245.15,1,27245.15,27245.15,0,2007.5833333333333,2017.75,2014.5833333333333,2016.75,-8.3333333333333329E-2]
[null,0,"48 GALLON BLUE CARTS",2007,9,0,null,"S/L",7,2014,null,null,5772.65,null,5772.65,68.722023809523805,0,0,0,1,0,5772.65,5772.65,1,5772.65,5772.65,0,2007.6666666666667,2017.75,2014.6666666666667,2016.75,-8.3333333333333329E-2]
[null,633,"95 GALLON  GREEN RECYCLE CART",2008,7,0,null,"S/L",7,2015,null,null,30371.64,null,30371.64,361.56714285714287,0,0,0,1,0,30371.64,30371.64,1,30371.64,30371.64,0,2008.5,2017.75,2015.5,2016.75,-8.3333333333333329E-2]
[null,1080,"35 GALLON CARTS - DARK AQUA BLUE",2009,8,0,null,"S/L",7,2016,null,null,38968.300000000003,null,38968.300000000003,463.90833333333336,0,0,0,1,0,38968.300000000003,38968.300000000003,1,38968.300000000003,38968.300000000003,0,2009.5833333333333,2017.75,2016.5833333333333,2016.75,-8.3333333333333329E-2]
[null,120,"35 GALLON CARTS - DARK AQUA BLUE",2009,8,0,null,"S/L",7,2016,null,null,4329.82,null,4329.82,51.545476190476187,0,0,0,1,0,4329.82,4329.82,1,4329.82,4329.82,0,2009.5833333333333,2017.75,2016.5833333333333,2016.75,-8.3333333333333329E-2]
[null,648,"95 GALLON CARTS - DARK AQUA BLUE",2009,8,0,null,"S/L",7,2016,null,null,28156.46,null,28156.46,335.19595238095241,0,0,0,1,0,28156.46,28156.46,1,28156.46,28156.46,0,2009.5833333333333,2017.75,2016.5833333333333,2016.75,-8.3333333333333329E-2]
[null,300,"95 GALLON CARTS - DARK AQUA BLUE",2009,8,0,null,"S/L",7,2016,null,null,14608.59,null,14608.59,173.91178571428574,0,0,0,1,0,14608.59,14608.59,1,14608.59,14608.59,0,2009.5833333333333,2017.75,2016.5833333333333,2016.75,-8.3333333333333329E-2]
[77163,162,"95 GALLON GREEN W/BEIGE RECYCLE LID",2010,9,0,null,"S/L",7,2017,null,null,7855.42,null,7855.42,93.516904761904755,1028.6859523810374,0,1028.6859523810374,1,1028.6859523810374,6826.7340476189629,6826.7340476189629,1,6826.7340476189629,7855.42,514.34297619051858,2010.6666666666667,2017.75,2017.6666666666667,2016.75,-8.3333333333333329E-2]
[97958,243,"95 GALLON GREEN CARTS",2012,8,0,null,"S/L",10,2022,null,null,12534.13,null,12534.13,104.45108333333333,1253.413,0,1253.413,1,1253.413,5222.5541666667614,5222.5541666667614,1,5222.5541666667614,6475.9671666667618,6684.8693333332376,2012.5833333333333,2017.75,2022.5833333333333,2016.75,-8.3333333333333329E-2]
[106427,243,"95 GALLON RECYCLE CARTS",2013,7,0,null,"S/L",10,2023,null,null,13166.58,null,13166.58,109.72149999999999,1316.6579999999999,0,1316.6579999999999,1,1316.6579999999999,4279.1385,4279.1385,1,4279.1385,5595.7965000000004,8229.1124999999993,2013.5,2017.75,2023.5,2016.75,-8.3333333333333329E-2]
[109685,486,"95 GALLON RECYCLE CARTS",2013,11,0,null,"S/L",10,2023,null,null,25961.57,null,25961.57,216.34641666666667,2596.1570000000002,0,2596.1570000000002,1,2596.1570000000002,7572.1245833335306,7572.1245833335306,1,7572.1245833335306,10168.28158333353,17091.366916666469,2013.8333333333333,2017.75,2023.8333333333333,2016.75,-8.3333333333333329E-2]
[116097,504,"95 GALLON RECYCLE CARTS",2014,8,0,null,"S/L",10,2024,null,null,27565.759999999998,null,27565.759999999998,229.71466666666666,2756.576,0,2756.576,1,2756.576,5972.5813333335418,5972.5813333335418,1,5972.5813333335418,8729.1573333335418,20214.890666666455,2014.5833333333333,2017.75,2024.5833333333333,2016.75,-8.3333333333333329E-2]
[116096,720,"95 GALLON RECYCLE CARTS",2014,9,0,null,"S/L",10,2024,null,null,33549.5,null,33549.5,279.57916666666665,3354.95,0,3354.95,1,3354.95,6989.4791666664123,6989.4791666664123,1,6989.4791666664123,10344.429166666412,24882.545833333585,2014.6666666666667,2017.75,2024.6666666666667,2016.75,-8.3333333333333329E-2]
[124072,312,"95 GALLON RECYCLE CARTS",2015,6,0,null,"S/L",10,2025,null,null,16125.97,null,16125.97,134.38308333333333,1612.597,0,1612.597,1,1612.597,2150.129333333211,2150.129333333211,1,2150.129333333211,3762.7263333332112,13169.54216666679,2015.4166666666667,2017.75,2025.4166666666667,2016.75,-8.3333333333333329E-2]
[128449,624,"96 GALLON RECYCLE CARTS",2015,12,0,null,"S/L",10,2025,null,null,31924.06,null,31924.06,266.03383333333335,3192.4059999999999,0,3192.4059999999999,1,3192.4059999999999,2660.3383333330917,2660.3383333330917,1,2660.3383333330917,5852.7443333330921,27667.518666666911,2015.9166666666667,2017.75,2025.9166666666667,2016.75,-8.3333333333333329E-2]
[128623,312,"96 GALLON RECYCLE CARTS",2015,12,0,null,"S/L",10,2025,null,null,14826.24,null,14826.24,123.55200000000001,1482.624,0,1482.624,1,1482.624,1235.5199999998877,1235.5199999998877,1,1235.5199999998877,2718.1439999998875,12849.408000000112,2015.9166666666667,2017.75,2025.9166666666667,2016.75,-8.3333333333333329E-2]
[167287,1404,"95 GALLON RECYCLE CARTS",2016,8,0,null,"S/L",7,{"$f":"D333+I333","v":2023},null,null,53731.040000000001,null,{"$f":"M333-M333*F333","v":53731.040000000001},639.65523809523813,{"$f":"IF(N333>0,0,IF(OR(AB333>AC333,AD333<AE333),0,IF(AND(AD333>=AE333,AD333<=AC333),P333*((AD333-AE333)*12),IF(AND(AE333<=AB333,AC333>=AB333),((AC333-AB333)*12)*P333,IF(AD333>AC333,12*P333,0)))))","v":7675.862857142858},{"$f":"IF(N333=0,0,IF(AND(AF333>=AE333,AF333<=AD333),((AF333-AE333)*12)*P333,0))","v":0},{"$f":"IF(R333>0,R333,Q333)","v":7675.862857142858},1,{"$f":"T333*SUM(Q333:R333)","v":7675.862857142858},{"$f":"IF(AB333>AC333,0,IF(AD333<AE333,O333,IF(AND(AD333>=AE333,AD333<=AC333),(O333-S333),IF(AND(AE333<=AB333,AC333>=AB333),0,IF(AD333>AC333,((AE333-AB333)*12)*P333,0)))))","v":1279.3104761910581},{"$f":"V333*T333","v":1279.3104761910581},1,{"$f":"W333*X333","v":1279.3104761910581},{"$f":"IF(N333>0,0,Y333+U333*X333)*X333","v":8955.1733333339162},{"$f":"IF(N333>0,(M333-Y333)/2,IF(AB333>=AE333,(((M333*T333)*X333)-Z333)/2,((((M333*T333)*X333)-Y333)+(((M333*T333)*X333)-Z333))/2))","v":48613.798095237515},2016.5833333333333,2017.75,2023.5833333333333,2016.75,-8.3333333333333329E-2]
[191384,216,"95 Gallon Recycle Carts",2018,1,0,null,"S/L",7,{"$f":"D334+I334","v":2025},null,null,11706.63,null,{"$f":"M334-M334*F334","v":11706.63},139.36464285714285,{"$f":"IF(N334>0,0,IF(OR(AB334>AC334,AD334<AE334),0,IF(AND(AD334>=AE334,AD334<=AC334),P334*((AD334-AE334)*12),IF(AND(AE334<=AB334,AC334>=AB334),((AC334-AB334)*12)*P334,IF(AD334>AC334,12*P334,0)))))","v":0},{"$f":"IF(N334=0,0,IF(AND(AF334>=AE334,AF334<=AD334),((AF334-AE334)*12)*P334,0))","v":0},{"$f":"IF(R334>0,R334,Q334)","v":0},2,{"$f":"T334*SUM(Q334:R334)","v":0},{"$f":"IF(AB334>AC334,0,IF(AD334<AE334,O334,IF(AND(AD334>=AE334,AD334<=AC334),(O334-S334),IF(AND(AE334<=AB334,AC334>=AB334),0,IF(AD334>AC334,((AE334-AB334)*12)*P334,0)))))","v":0},{"$f":"V334*T334","v":0},2,{"$f":"W334*X334","v":0},{"$f":"IF(N334>0,0,Y334+U334*X334)*X334","v":0},{"$f":"IF(N334>0,(M334-Y334)/2,IF(AB334>=AE334,(((M334*T334)*X334)-Z334)/2,((((M334*T334)*X334)-Y334)+(((M334*T334)*X334)-Z334))/2))","v":23413.26},2018,2017.75,2025,2016.75,-8.3333333333333329E-2]
[191450,486,"95 Gallon Recycle Carts",2018,1,0,null,"S/L",7,{"$f":"D335+I335","v":2025},null,null,29585.919999999998,null,{"$f":"M335-M335*F335","v":29585.919999999998},352.21333333333331,{"$f":"IF(N335>0,0,IF(OR(AB335>AC335,AD335<AE335),0,IF(AND(AD335>=AE335,AD335<=AC335),P335*((AD335-AE335)*12),IF(AND(AE335<=AB335,AC335>=AB335),((AC335-AB335)*12)*P335,IF(AD335>AC335,12*P335,0)))))","v":0},{"$f":"IF(N335=0,0,IF(AND(AF335>=AE335,AF335<=AD335),((AF335-AE335)*12)*P335,0))","v":0},{"$f":"IF(R335>0,R335,Q335)","v":0},3,{"$f":"T335*SUM(Q335:R335)","v":0},{"$f":"IF(AB335>AC335,0,IF(AD335<AE335,O335,IF(AND(AD335>=AE335,AD335<=AC335),(O335-S335),IF(AND(AE335<=AB335,AC335>=AB335),0,IF(AD335>AC335,((AE335-AB335)*12)*P335,0)))))","v":0},{"$f":"V335*T335","v":0},3,{"$f":"W335*X335","v":0},{"$f":"IF(N335>0,0,Y335+U335*X335)*X335","v":0},{"$f":"IF(N335>0,(M335-Y335)/2,IF(AB335>=AE335,(((M335*T335)*X335)-Z335)/2,((((M335*T335)*X335)-Y335)+(((M335*T335)*X335)-Z335))/2))","v":133136.63999999998},2018,2017.75,2025,2016.75,-8.3333333333333329E-2]
[203026,702,"95 Gallon Recycle Container",2018,8,0,null,"S/L",7,{"$f":"D336+I336","v":2025},null,null,35065.480000000003,null,{"$f":"M336-M336*F336","v":35065.480000000003},417.44619047619057,{"$f":"IF(N336>0,0,IF(OR(AB336>AC336,AD336<AE336),0,IF(AND(AD336>=AE336,AD336<=AC336),P336*((AD336-AE336)*12),IF(AND(AE336<=AB336,AC336>=AB336),((AC336-AB336)*12)*P336,IF(AD336>AC336,12*P336,0)))))","v":0},{"$f":"IF(N336=0,0,IF(AND(AF336>=AE336,AF336<=AD336),((AF336-AE336)*12)*P336,0))","v":0},{"$f":"IF(R336>0,R336,Q336)","v":0},4,{"$f":"T336*SUM(Q336:R336)","v":0},{"$f":"IF(AB336>AC336,0,IF(AD336<AE336,O336,IF(AND(AD336>=AE336,AD336<=AC336),(O336-S336),IF(AND(AE336<=AB336,AC336>=AB336),0,IF(AD336>AC336,((AE336-AB336)*12)*P336,0)))))","v":0},{"$f":"V336*T336","v":0},4,{"$f":"W336*X336","v":0},{"$f":"IF(N336>0,0,Y336+U336*X336)*X336","v":0},{"$f":"IF(N336>0,(M336-Y336)/2,IF(AB336>=AE336,(((M336*T336)*X336)-Z336)/2,((((M336*T336)*X336)-Y336)+(((M336*T336)*X336)-Z336))/2))","v":280523.84000000003},2018.5833333333333,2017.75,2025.5833333333333,2016.75,-8.3333333333333329E-2]
[]
[null,null,"Total Recycle Carts",null,null,null,null,null,null,null,null,null,{"$f":"SUM(M311:M337)","v":599237.68999999994},null,{"$f":"SUM(O311:O337)","v":599237.68999999994},6506.4469880952365,26269.929809523899,null,26269.929809523899,null,26269.929809523899,329827.29994047654,329827.29994047654,null,{"$f":"SUM(Y311:Y337)","v":329827.29994047654},{"$f":"SUM(Z311:Z337)","v":356097.22975000041},{"$f":"SUM(AA311:AA337)","v":616991.13515476161}]
[]
[null,null,"Commercial Recycling Containers"]
[115106,12,"2 YD REL Containers",2014,7,0,null,"S/L",10,{"$f":"D341+I341","v":2024},null,null,{"$f":"8952.6/15*12","v":7162.08},null,{"$f":"M341-M341*F341","v":7162.08},{"$f":"O341/I341/12","v":59.683999999999997},{"$f":"IF(N341>0,0,IF(OR(AB341>AC341,AD341<AE341),0,IF(AND(AD341>=AE341,AD341<=AC341),P341*((AD341-AE341)*12),IF(AND(AE341<=AB341,AC341>=AB341),((AC341-AB341)*12)*P341,IF(AD341>AC341,12*P341,0)))))","v":716.20799999999997},{"$f":"IF(N341=0,0,IF(AND(AF341>=AE341,AF341<=AD341),((AF341-AE341)*12)*P341,0))","v":0},{"$f":"IF(R341>0,R341,Q341)","v":716.20799999999997},1,{"$f":"T341*SUM(Q341:R341)","v":716.20799999999997},{"$f":"IF(AB341>AC341,0,IF(AD341<AE341,O341,IF(AND(AD341>=AE341,AD341<=AC341),(O341-S341),IF(AND(AE341<=AB341,AC341>=AB341),0,IF(AD341>AC341,((AE341-AB341)*12)*P341,0)))))","v":1611.4679999999998},{"$f":"V341*T341","v":1611.4679999999998},1,{"$f":"W341*X341","v":1611.4679999999998},{"$f":"IF(N341>0,0,Y341+U341*X341)*X341","v":2327.6759999999999},{"$f":"IF(N341>0,(M341-Y341)/2,IF(AB341>=AE341,(((M341*T341)*X341)-Z341)/2,((((M341*T341)*X341)-Y341)+(((M341*T341)*X341)-Z341))/2))","v":5192.5079999999998},{"$f":"$D341+(($E341-1)/12)","v":2014.5},{"$f":"($O$5+1)-($O$2/12)","v":2017.75},{"$f":"$J341+(($E341-1)/12)","v":2024.5},{"$f":"$O$4+($O$3/12)","v":2016.75},{"$f":"$K341+(($L341-1)/12)","v":-8.3333333333333329E-2}]
[]
[null,null,"Total Commercial Recycling Containers",null,null,null,null,null,null,null,null,null,{"$f":"SUM(M341:M342)","v":7162.08},null,{"$f":"SUM(O341:O342)","v":7162.08},{"$f":"SUM(P341:P342)","v":59.683999999999997},{"$f":"SUM(Q341:Q342)","v":716.20799999999997},null,{"$f":"SUM(S341:S342)","v":716.20799999999997},null,{"$f":"SUM(U341:U342)","v":716.20799999999997},{"$f":"SUM(V341:V342)","v":1611.4679999999998},{"$f":"SUM(W341:W342)","v":1611.4679999999998},null,{"$f":"SUM(Y341:Y342)","v":1611.4679999999998},{"$f":"SUM(Z341:Z342)","v":2327.6759999999999},{"$f":"SUM(AA341:AA342)","v":5192.5079999999998}]
[]
[]
[null,null,"YARD WASTE"]
[null,529,"68 GALLON GRAY CARTS",2003,1,0,null,"S/L",7,{"$f":"D347+I347","v":2010},null,null,24879.23,null,{"$f":"M347-M347*F347","v":24879.23},{"$f":"O347/I347/12","v":296.18130952380949},{"$f":"IF(N347>0,0,IF(OR(AB347>AC347,AD347<AE347),0,IF(AND(AD347>=AE347,AD347<=AC347),P347*((AD347-AE347)*12),IF(AND(AE347<=AB347,AC347>=AB347),((AC347-AB347)*12)*P347,IF(AD347>AC347,12*P347,0)))))","v":0},{"$f":"IF(N347=0,0,IF(AND(AF347>=AE347,AF347<=AD347),((AF347-AE347)*12)*P347,0))","v":0},{"$f":"IF(R347>0,R347,Q347)","v":0},1,{"$f":"T347*SUM(Q347:R347)","v":0},{"$f":"IF(AB347>AC347,0,IF(AD347<AE347,O347,IF(AND(AD347>=AE347,AD347<=AC347),(O347-S347),IF(AND(AE347<=AB347,AC347>=AB347),0,IF(AD347>AC347,((AE347-AB347)*12)*P347,0)))))","v":24879.23},{"$f":"V347*T347","v":24879.23},1,{"$f":"W347*X347","v":24879.23},{"$f":"IF(N347>0,0,Y347+U347*X347)*X347","v":24879.23},{"$f":"IF(N347>0,(M347-Y347)/2,IF(AB347>=AE347,(((M347*T347)*X347)-Z347)/2,((((M347*T347)*X347)-Y347)+(((M347*T347)*X347)-Z347))/2))","v":0},{"$f":"$D347+(($E347-1)/12)","v":2003},{"$f":"($O$5+1)-($O$2/12)","v":2017.75},{"$f":"$J347+(($E347-1)/12)","v":2010},{"$f":"$O$4+($O$3/12)","v":2016.75},{"$f":"$K347+(($L347-1)/12)","v":-8.3333333333333329E-2}]
[null,533,"68 GALLON GRAY CARTS",2003,12,0,null,"S/L",7,2010,null,null,25060.85,null,25060.85,298.34345238095233,0,0,0,1,0,25060.85,25060.85,1,25060.85,25060.85,0,2003.9166666666667,2017.75,2010.9166666666667,2016.75,-8.3333333333333329E-2]
[null,250,"95 GALLON GREY CARTS",2005,7,0,null,"S/L",7,2012,null,null,12001.71,null,12001.71,142.8775,0,0,0,1,0,12001.71,12001.71,1,12001.71,12001.71,0,2005.5,2017.75,2012.5,2016.75,-8.3333333333333329E-2]
[null,305,"95 GALLON  BLUE CARTS",2008,1,0,null,"S/L",7,2015,null,null,14633.03,null,14633.03,174.20273809523812,0,0,0,1,0,14633.03,14633.03,1,14633.03,14633.03,0,2008,2017.75,2015,2016.75,-8.3333333333333329E-2]
[null,486,"95 GALLON CARTS - FORREST GREEN",2009,8,0,null,"S/L",7,2016,null,null,24190.29,null,24190.29,287.97964285714289,0,0,0,1,0,24190.29,24190.29,1,24190.29,24190.29,0,2009.5833333333333,2017.75,2016.5833333333333,2016.75,-8.3333333333333329E-2]
[null,486,"95 GALLON CARTS - FORREST GREEN",2009,8,0,null,"S/L",7,2016,null,null,24190.29,null,24190.29,287.97964285714289,0,0,0,1,0,24190.29,24190.29,1,24190.29,24190.29,0,2009.5833333333333,2017.75,2016.5833333333333,2016.75,-8.3333333333333329E-2]
[null,486,"95 GALLON CARTS - FORREST GREEN",2009,8,0,null,"S/L",7,2016,null,null,24190.29,null,24190.29,287.97964285714289,0,0,0,1,0,24190.29,24190.29,1,24190.29,24190.29,0,2009.5833333333333,2017.75,2016.5833333333333,2016.75,-8.3333333333333329E-2]
[null,486,"95 GALLON CARTS - FORREST GREEN",2009,8,0,null,"S/L",7,2016,null,null,24190.29,null,24190.29,287.97964285714289,0,0,0,1,0,24190.29,24190.29,1,24190.29,24190.29,0,2009.5833333333333,2017.75,2016.5833333333333,2016.75,-8.3333333333333329E-2]
[null,280,"95 GALLON CARTS - FORREST GREEN",2009,8,0,null,"S/L",7,2016,null,null,13936.79,null,13936.79,165.91416666666666,0,0,0,1,0,13936.79,13936.79,1,13936.79,13936.79,0,2009.5833333333333,2017.75,2016.5833333333333,2016.75,-8.3333333333333329E-2]
[null,186,"95 GALLON CARTS - FORREST GREEN",2009,8,0,null,"S/L",7,2016,null,null,9258,null,9258,110.21428571428572,0,0,0,1,0,9258,9258,1,9258,9258,0,2009.5833333333333,2017.75,2016.5833333333333,2016.75,-8.3333333333333329E-2]
[null,90,"95 GALLON CARTS - FORREST GREEN",2009,8,0,null,"S/L",7,2016,null,null,4479.7,null,4479.7,53.329761904761902,0,0,0,1,0,4479.7,4479.7,1,4479.7,4479.7,0,2009.5833333333333,2017.75,2016.5833333333333,2016.75,-8.3333333333333329E-2]
[97958,243,"95 GALLON GREEN CARTS",2012,8,0,null,"S/L",7,2019,null,null,12796.58,null,12796.58,152.34023809523811,1828.0828571428574,0,1828.0828571428574,1,1828.0828571428574,7617.0119047620437,7617.0119047620437,1,7617.0119047620437,9445.0947619049002,4265.5266666665284,2012.5833333333333,2017.75,2019.5833333333333,2016.75,-8.3333333333333329E-2]
[109686,243,"95 GALLON YW CARTS",2013,11,0,null,"S/L",7,2020,null,null,12390.3,null,12390.3,147.50357142857141,{"$f":"IF(N359>0,0,IF(OR(AB359>AC359,AD359<AE359),0,IF(AND(AD359>=AE359,AD359<=AC359),P359*((AD359-AE359)*12),IF(AND(AE359<=AB359,AC359>=AB359),((AC359-AB359)*12)*P359,IF(AD359>AC359,12*P359,0)))))","v":1770.042857142857},{"$f":"IF(N359=0,0,IF(AND(AF359>=AE359,AF359<=AD359),((AF359-AE359)*12)*P359,0))","v":0},{"$f":"IF(R359>0,R359,Q359)","v":1770.042857142857},1,{"$f":"T359*SUM(Q359:R359)","v":1770.042857142857},{"$f":"IF(AB359>AC359,0,IF(AD359<AE359,O359,IF(AND(AD359>=AE359,AD359<=AC359),(O359-S359),IF(AND(AE359<=AB359,AC359>=AB359),0,IF(AD359>AC359,((AE359-AB359)*12)*P359,0)))))","v":5162.6250000001337},{"$f":"V359*T359","v":5162.6250000001337},1,{"$f":"W359*X359","v":5162.6250000001337},{"$f":"IF(N359>0,0,Y359+U359*X359)*X359","v":6932.6678571429911},{"$f":"IF(N359>0,(M359-Y359)/2,IF(AB359>=AE359,(((M359*T359)*X359)-Z359)/2,((((M359*T359)*X359)-Y359)+(((M359*T359)*X359)-Z359))/2))","v":6342.6535714284364},2013.8333333333333,2017.75,2020.8333333333333,2016.75,-8.3333333333333329E-2]
[124071,312,"95 GALLON YW CARTS",2015,6,0,null,"S/L",7,2022,null,null,16125.96,null,16125.96,191.97571428571428,{"$f":"IF(N360>0,0,IF(OR(AB360>AC360,AD360<AE360),0,IF(AND(AD360>=AE360,AD360<=AC360),P360*((AD360-AE360)*12),IF(AND(AE360<=AB360,AC360>=AB360),((AC360-AB360)*12)*P360,IF(AD360>AC360,12*P360,0)))))","v":2303.7085714285713},{"$f":"IF(N360=0,0,IF(AND(AF360>=AE360,AF360<=AD360),((AF360-AE360)*12)*P360,0))","v":0},{"$f":"IF(R360>0,R360,Q360)","v":2303.7085714285713},1,{"$f":"T360*SUM(Q360:R360)","v":2303.7085714285713},{"$f":"IF(AB360>AC360,0,IF(AD360<AE360,O360,IF(AND(AD360>=AE360,AD360<=AC360),(O360-S360),IF(AND(AE360<=AB360,AC360>=AB360),0,IF(AD360>AC360,((AE360-AB360)*12)*P360,0)))))","v":3071.6114285712538},{"$f":"V360*T360","v":3071.6114285712538},1,{"$f":"W360*X360","v":3071.6114285712538},{"$f":"IF(N360>0,0,Y360+U360*X360)*X360","v":5375.3199999998251},{"$f":"IF(N360>0,(M360-Y360)/2,IF(AB360>=AE360,(((M360*T360)*X360)-Z360)/2,((((M360*T360)*X360)-Y360)+(((M360*T360)*X360)-Z360))/2))","v":11902.49428571446},2015.4166666666667,2017.75,2022.4166666666667,2016.75,-8.3333333333333329E-2]
[202945,351,"95 Gallon Yardwaste Container",2018,8,0,null,"S/L",7,2025,null,null,17450.98,null,{"$f":"M361-M361*F361","v":17450.98},{"$f":"O361/I361/12","v":207.74976190476193},{"$f":"IF(N361>0,0,IF(OR(AB361>AC361,AD361<AE361),0,IF(AND(AD361>=AE361,AD361<=AC361),P361*((AD361-AE361)*12),IF(AND(AE361<=AB361,AC361>=AB361),((AC361-AB361)*12)*P361,IF(AD361>AC361,12*P361,0)))))","v":0},{"$f":"IF(N361=0,0,IF(AND(AF361>=AE361,AF361<=AD361),((AF361-AE361)*12)*P361,0))","v":0},{"$f":"IF(R361>0,R361,Q361)","v":0},2,{"$f":"T361*SUM(Q361:R361)","v":0},{"$f":"IF(AB361>AC361,0,IF(AD361<AE361,O361,IF(AND(AD361>=AE361,AD361<=AC361),(O361-S361),IF(AND(AE361<=AB361,AC361>=AB361),0,IF(AD361>AC361,((AE361-AB361)*12)*P361,0)))))","v":0},{"$f":"V361*T361","v":0},2,{"$f":"W361*X361","v":0},{"$f":"IF(N361>0,0,Y361+U361*X361)*X361","v":0},{"$f":"IF(N361>0,(M361-Y361)/2,IF(AB361>=AE361,(((M361*T361)*X361)-Z361)/2,((((M361*T361)*X361)-Y361)+(((M361*T361)*X361)-Z361))/2))","v":34901.96},2018.5833333333333,2017.75,2025.5833333333333,2016.75,-8.3333333333333329E-2]
[]
[null,null,"Total Yard Waste",null,null,null,null,null,null,null,null,null,{"$f":"SUM(M347:M362)","v":259774.29000000004},null,{"$f":"SUM(O347:O362)","v":259774.29000000004},3092.551071428571,5901.8342857142852,null,5901.8342857142852,null,5901.8342857142852,216861.7183333335,216861.7183333335,null,216861.7183333335,222763.55261904778,57412.634523809422]
[]
[null,null,"GRAND TOTAL",null,null,null,null,null,null,null,null,null,{"$f":"SUM(M338,M307,M363,M246,M159,M343)","v":5138804.879999999},null,{"$f":"SUM(O338,O307,O363,O246,O159,O343)","v":5138804.879999999},{"$f":"SUM(P338,P307,P363,P246,P159,P343)","v":51513.312802240012},{"$f":"SUM(Q338,Q307,Q363,Q246,Q159,Q343)","v":243116.81541666717},null,{"$f":"SUM(S338,S307,S363,S246,S159,S343)","v":243116.81541666717},null,{"$f":"SUM(U338,U307,U363,U246,U159,U343)","v":245627.0912500002},{"$f":"SUM(V338,V307,V363,V246,V159,V343)","v":3712354.9790793643},{"$f":"SUM(W338,W307,W363,W246,W159,W343)","v":3842233.1665793653},null,{"$f":"SUM(Y338,Y307,Y363,Y246,Y159,Y343)","v":4551478.7290793676},{"$f":"SUM(Z338,Z307,Z363,Z246,Z159,Z343)","v":11004969.412829405},{"$f":"SUM(AA338,AA307,AA363,AA246,AA159,AA343)","v":4942713.7240456156}]
[]
[]
[]
[]
[null,null,null,null,"Fully Depreciated in 2016",{"$f":"+SUMIF($J$12:$J$362,2016,$U$12:$U$362)","v":241.6592142854945}]
[null,null,null,null,"Fully Depreciated in 2017",{"$f":"+SUMIF($J$12:$J$362,2017,$U$12:$U$362)","v":73012.521285715498}]
[null,null,null,null,"Potential Disallowed Depreciation",{"$f":"+F370+F371","v":73254.180500000992}]

{"sheet":"OTHER EQUIP 2188 - Original","index":9,"n_rows":175,"n_cols":42,"rows_kept":175,"cut":false,"hidden":false,"merged":[[0,0,0,2],[2,0,2,2],[4,33,5,41]]}
["2188 Lewis County/Joe's Refuse ",null,null,null,null,null,null,null,null,null,null,null,null,null,null,null,null,null,null,null,null,null,null,null,null,null,null,null,{"$f":"'Summary 2188'!F7","v":44927}]
["Depreciation Schedule",null,null,null,null,null,null,null,null,null,null,null,null,null,{"$f":"'Trucks 2188 - Original'!Q2","v":3},"Months in first year"]
[{"$f":"'Summary 2188'!A3","v":45291},null,null,null,null,null,null,null,null,null,null,null,null,null,{"$f":"'Trucks 2188 - Original'!Q3","v":9},"Months in second year",null,null,null,null,null,null,null,null,null,null,null,null,"A.","Purchase date"]
[null,null,null,null,null,null,null,null,null,null,null,null,null,null,{"$f":"'Trucks 2188 - Original'!Q4","v":2016},"First year",null,null,null,null,null,null,null,null,null,null,null,null,"B.","End of Test Period"]
[null,null,null,null,null,null,null,null,null,null,null,null,null,null,{"$f":"'Trucks 2188 - Original'!Q5","v":2017},"Second year",null,null,null,null,null,null,null,null,null,null,null,null,"C","Date fully Depr",null,null,null,"Salvage Value Calculations"]
[null,null,null,null,null,null,null,null,null,null,null,null,null,null,null,null,null,null,null,null,null,null,null,null,null,null,null,null,"D.","Beg of Test Period"]
[null,null,null,null,null,null,null,null,null,null,null,null,null,null,null,null,null,null,null,null,null,null,null,null,null,null,null,null,"E.","Disposition Date"]
[null,null,null,null,null,null,null,null,null,null,null,null,null,null,null,null,null,"Disposal",null,null,"Total","Allocated","Allocated",null,"Beginning ","Ending",null,null,null,null,null,null,null,null,null,null,null,"Adjustment to",null,"Adjustment to"]
[null," ",null,"Date in",null,"Salvage",null," ",null,"Year"," ",null," ","Asset"," ",null,"Test","Year","Total","%","Allocated","Accum","Accum","Branch","Accum.","Accum.","Average",null,null,null,null,null,null,"Amort of",null,"Total Depreciation",null,"Avg. Investment",null,"Avg. Investment",null,"Adjusted Avg."]
[null,null,null,"Service ",null,"Value",null,"Method","Life ","Fully ","Asset"," Mo.","Asset","Disposal","Depr","Monthly ","Year","Depn","Test yr.","Allo.","Test year","Depr","Depr","Allo.","Depr.","Depr.","Investment","A.","B","C.","D.","E.",null,"Salvage Value",null,"For Test Period",null,"Fully Depr Assets",null,"Assets w/ Depr Life",null,"Investment"]
["Codes","No","Asset Classification","Year","Mo","%","-","M","Years","Depr","Cost","-","Cost","-","Cost","Depr","Depr","-","Depn.","-","Depr.",{"$f":"AC1","v":44927},{"$f":"+A3","v":45291},"%",{"$f":"+V11","v":44927},{"$f":"+A3","v":45291},{"$f":"Z11","v":45291}]
[]
[null,null,"BUILDING STRUCTURES"]
[]
[null,null,"BUILDINGS",1965,6,0,null,"S/L","40",{"$f":"D15+I15","v":2005},null,null,13330,null,{"$f":"M15-M15*F15","v":13330},{"$f":"O15/I15/12","v":27.770833333333332},{"$f":"IF(N15>0,0,IF(OR(AB15>AC15,AD15<AE15),0,IF(AND(AD15>=AE15,AD15<=AC15),P15*((AD15-AE15)*12),IF(AND(AE15<=AB15,AC15>=AB15),((AC15-AB15)*12)*P15,IF(AD15>AC15,12*P15,0)))))","v":0},{"$f":"IF(N15=0,0,IF(AND(AF15>=AE15,AF15<=AD15),((AF15-AE15)*12)*P15,0))","v":0},{"$f":"IF(R15>0,R15,Q15)","v":0},1,{"$f":"T15*SUM(Q15:R15)","v":0},{"$f":"IF(AB15>AC15,0,IF(AD15<AE15,O15,IF(AND(AD15>=AE15,AD15<=AC15),(O15-S15),IF(AND(AE15<=AB15,AC15>=AB15),0,IF(AD15>AC15,((AE15-AB15)*12)*P15,0)))))","v":13330},{"$f":"V15*T15","v":13330},1,{"$f":"W15*X15","v":13330},{"$f":"IF(N15>0,0,Y15+U15*X15)*X15","v":13330},{"$f":"IF(N15>0,(M15-Y15)/2,IF(AB15>=AE15,(((M15*T15)*X15)-Z15)/2,((((M15*T15)*X15)-Y15)+(((M15*T15)*X15)-Z15))/2))","v":0},{"$f":"$D15+(($E15-1)/12)","v":1965.4166666666667},{"$f":"($O$5+1)-($O$2/12)","v":2017.75},{"$f":"$J15+(($E15-1)/12)","v":2005.4166666666667},{"$f":"$O$4+($O$3/12)","v":2016.75},{"$f":"$K15+(($L15-1)/12)","v":-8.3333333333333329E-2},null,{"$f":"+IF((AD15-AE15)>3,((M15-O15)/(AD15-AE15)),(M15-O15)/3)","v":0},null,{"$f":"+AH15+U15","v":0},null,{"$f":"+IF(AD15<AE15,-AA15,0)","v":0},null,{"$f":"+IF(AD15>AC15,IF(AH15>0,IF(N15>0,(M15-Y15)/2,IF(AB15>=AE15,(((M15*T15)*X15)-(Z15+AH15))/2,((((M15*T15)*X15)-Y15)+(((M15*T15)*X15)-(Z15+AH15)))/2)),0),0)","v":0},null,{"$f":"+AA15+AL15+(IF(AN15>0,(AN15-AA15),0))","v":0}]
[null,null,"INSTALL WINDOW RECYCLE CENTER",1998,12,0,null,"S/L","39",2037,null,null,2744.9,null,2744.9,5.8651709401709402,70.382051282051279,0,70.382051282051279,1,70.382051282051279,1255.1465811965759,1255.1465811965759,1,1255.1465811965759,1325.5286324786271,1454.5623931623986,1998.9166666666667,2017.75,2037.9166666666667,2016.75,-8.3333333333333329E-2,null,{"$f":"+IF((AD16-AE16)>3,((M16-O16)/(AD16-AE16)),(M16-O16)/3)","v":0},null,{"$f":"+AH16+U16","v":70.382051282051279},null,{"$f":"+IF(AD16<AE16,-AA16,0)","v":0},null,{"$f":"+IF(AD16>AC16,IF(AH16>0,IF(N16>0,(M16-Y16)/2,IF(AB16>=AE16,(((M16*T16)*X16)-(Z16+AH16))/2,((((M16*T16)*X16)-Y16)+(((M16*T16)*X16)-(Z16+AH16)))/2)),0),0)","v":0},null,{"$f":"+AA16+AL16+(IF(AN16>0,(AN16-AA16),0))","v":1454.5623931623986}]
[null,null,"INSTALL CONCRETE @ RECYCLE CENTER",1998,11,0,null,"S/L","39",2037,null,null,4877.1099999999997,null,4877.1099999999997,10.421175213675212,125.05410256410255,0,125.05410256410255,1,125.05410256410255,2240.5526709401802,2240.5526709401802,1,2240.5526709401802,2365.6067735042825,2574.0302777777683,1998.8333333333333,2017.75,2037.8333333333333,2016.75,-8.3333333333333329E-2,null,0,null,125.05410256410255,null,0,null,0,null,2574.0302777777683]
[null,null,"RECYCLE CENTER IMPROVEMENTS",1998,10,0,null,"S/L","39",2037,null,null,843.28,null,843.28,1.8018803418803417,21.622564102564102,0,21.622564102564102,1,21.622564102564102,389.20615384615382,389.20615384615382,1,389.20615384615382,410.82871794871795,443.26256410256406,1998.75,2017.75,2037.75,2016.75,-8.3333333333333329E-2,null,0,null,21.622564102564102,null,0,null,0,null,443.26256410256406]
[null,null,"RECYCLE CENTER'S ELECTRICAL IMPROVEMENT",1998,9,0,null,"S/L","39",2037,null,null,10462.370000000001,null,10462.370000000001,22.355491452991455,268.26589743589744,0,268.26589743589744,1,268.26589743589744,4851.1416452991252,4851.1416452991252,1,4851.1416452991252,5119.4075427350226,5477.0954059829273,1998.6666666666667,2017.75,2037.6666666666667,2016.75,-8.3333333333333329E-2,null,0,null,268.26589743589744,null,0,null,0,null,5477.0954059829273]
[null,null,"CENTRALIA RECYCLE UTILTIY",1998,4,0,null,"S/L","39",2037,null,null,61451.43,null,61451.43,131.30647435897436,1575.6776923076923,0,1575.6776923076923,1,1575.6776923076923,29150.037307692306,29150.037307692306,1,29150.037307692306,30725.714999999997,31513.553846153849,1998.25,2017.75,2037.25,2016.75,-8.3333333333333329E-2,null,0,null,1575.6776923076923,null,0,null,0,null,31513.553846153849]
[null,null,"CENTRALIA RECYCLE CENTER OVERHEAD DOOR",1999,3,0,null,"S/L","39",2038,null,null,4941,null,4941,10.557692307692308,126.69230769230771,0,126.69230769230771,1,126.69230769230771,2227.6730769230676,2227.6730769230676,1,2227.6730769230676,2354.3653846153752,2649.9807692307786,1999.1666666666667,2017.75,2038.1666666666667,2016.75,-8.3333333333333329E-2,null,0,null,126.69230769230771,null,0,null,0,null,2649.9807692307786]
[null,null,"BUILDING MODIFICATIONS",2000,4,0,null,"S/L","39",2039,null,null,64424.54,null,64424.54,137.6592735042735,1651.9112820512819,0,1651.9112820512819,1,1651.9112820512819,27256.536153846155,27256.536153846155,1,27256.536153846155,28908.447435897437,36342.048205128209,2000.25,2017.75,2039.25,2016.75,-8.3333333333333329E-2,null,0,null,1651.9112820512819,null,0,null,0,null,36342.048205128209]
[null,null,"CENTRALIA RECYCLE CENTER",2000,3,0,null,"S/L","39",2039,null,null,33957.760000000002,null,33957.760000000002,72.559316239316246,870.71179487179495,0,870.71179487179495,1,870.71179487179495,14439.303931623866,14439.303931623866,1,14439.303931623866,15310.015726495662,19083.100170940241,2000.1666666666667,2017.75,2039.1666666666667,2016.75,-8.3333333333333329E-2,null,0,null,870.71179487179495,null,0,null,0,null,19083.100170940241]
[null,null,"CONCRETE AT RECYCLE CENTER [CENTRALIA]",2001,5,0,null,"S/L","15",2016,null,null,9290.74,null,9290.74,51.615222222222222,0,0,0,1,0,9290.74,9290.74,1,9290.74,9290.74,0,2001.3333333333333,2017.75,2016.3333333333333,2016.75,-8.3333333333333329E-2,null,0,null,0,null,0,null,0,null,0]
[null,null,"1713 N. PEARL - BUILDINGS",2002,4,0,null,"S/L","39",2041,null,null,431022.56,null,431022.56,920.98837606837606,11051.860512820513,0,11051.860512820513,1,11051.860512820513,160251.97743589742,160251.97743589742,1,160251.97743589742,171303.83794871793,265244.65230769233,2002.25,2017.75,2041.25,2016.75,-8.3333333333333329E-2,null,0,null,11051.860512820513,null,0,null,0,null,265244.65230769233]
["88676",null,"REMODEL CENTRALIA OFFICE",2011,12,0,null,"S/L",39,2050,null,null,{"$f":"12117.6+1371.6+6058.8+2019.6","v":21567.599999999999},null,{"$f":"M26-M26*F26","v":21567.599999999999},{"$f":"O26/I26/12","v":46.084615384615383},{"$f":"IF(N26>0,0,IF(OR(AB26>AC26,AD26<AE26),0,IF(AND(AD26>=AE26,AD26<=AC26),P26*((AD26-AE26)*12),IF(AND(AE26<=AB26,AC26>=AB26),((AC26-AB26)*12)*P26,IF(AD26>AC26,12*P26,0)))))","v":553.01538461538462},{"$f":"IF(N26=0,0,IF(AND(AF26>=AE26,AF26<=AD26),((AF26-AE26)*12)*P26,0))","v":0},{"$f":"IF(R26>0,R26,Q26)","v":553.01538461538462},1,{"$f":"T26*SUM(Q26:R26)","v":553.01538461538462},{"$f":"IF(AB26>AC26,0,IF(AD26<AE26,O26,IF(AND(AD26>=AE26,AD26<=AC26),(O26-S26),IF(AND(AE26<=AB26,AC26>=AB26),0,IF(AD26>AC26,((AE26-AB26)*12)*P26,0)))))","v":2672.9076923076504},{"$f":"V26*T26","v":2672.9076923076504},1,{"$f":"W26*X26","v":2672.9076923076504},{"$f":"IF(N26>0,0,Y26+U26*X26)*X26","v":3225.9230769230353},{"$f":"IF(N26>0,(M26-Y26)/2,IF(AB26>=AE26,(((M26*T26)*X26)-Z26)/2,((((M26*T26)*X26)-Y26)+(((M26*T26)*X26)-Z26))/2))","v":18618.184615384656},2011.9166666666667,2017.75,2050.9166666666665,2016.75,-8.3333333333333329E-2,null,0,null,553.01538461538462,null,0,null,0,null,18618.184615384656]
[null,null,""]
[null,null,"TOTAL BUILDING STRUCTURES",null,null,null,null,null,null,null,null,null,{"$f":"SUM(M15:M27)","v":658913.28999999992},null,{"$f":"SUM(O15:O27)","v":658913.28999999992},1438.9855213675212,16315.193589743589,null,16315.193589743589,null,16315.193589743589,267355.22264957253,267355.22264957253,null,267355.22264957253,283670.41623931611,383400.47055555577,null,null,null,null,null,null,{"$f":"SUM(AH15:AH27)","v":0},0,16315.193589743589,0,0,0,0,0,383400.47055555577]
[null,null,""]
[null,null,""]
[null,null,"LEASEHOLD IMPROVEMENTS"]
[null,null,""]
[null,null,"CENTRALIA RECY. CTR CON. PAD",1991,10,0,null,"S/L","07",{"$f":"D33+I33","v":1998},null,null,9054,null,{"$f":"M33-M33*F33","v":9054},{"$f":"O33/I33/12","v":107.78571428571428},{"$f":"IF(N33>0,0,IF(OR(AB33>AC33,AD33<AE33),0,IF(AND(AD33>=AE33,AD33<=AC33),P33*((AD33-AE33)*12),IF(AND(AE33<=AB33,AC33>=AB33),((AC33-AB33)*12)*P33,IF(AD33>AC33,12*P33,0)))))","v":0},{"$f":"IF(N33=0,0,IF(AND(AF33>=AE33,AF33<=AD33),((AF33-AE33)*12)*P33,0))","v":0},{"$f":"IF(R33>0,R33,Q33)","v":0},1,{"$f":"T33*SUM(Q33:R33)","v":0},{"$f":"IF(AB33>AC33,0,IF(AD33<AE33,O33,IF(AND(AD33>=AE33,AD33<=AC33),(O33-S33),IF(AND(AE33<=AB33,AC33>=AB33),0,IF(AD33>AC33,((AE33-AB33)*12)*P33,0)))))","v":9054},{"$f":"V33*T33","v":9054},1,{"$f":"W33*X33","v":9054},{"$f":"IF(N33>0,0,Y33+U33*X33)*X33","v":9054},{"$f":"IF(N33>0,(M33-Y33)/2,IF(AB33>=AE33,(((M33*T33)*X33)-Z33)/2,((((M33*T33)*X33)-Y33)+(((M33*T33)*X33)-Z33))/2))","v":0},{"$f":"$D33+(($E33-1)/12)","v":1991.75},{"$f":"($O$5+1)-($O$2/12)","v":2017.75},{"$f":"$J33+(($E33-1)/12)","v":1998.75},{"$f":"$O$4+($O$3/12)","v":2016.75},{"$f":"$K33+(($L33-1)/12)","v":-8.3333333333333329E-2},null,{"$f":"+IF((AD33-AE33)>3,((M33-O33)/(AD33-AE33)),(M33-O33)/3)","v":0},null,{"$f":"+AH33+U33","v":0},null,{"$f":"+IF(AD33<AE33,-AA33,0)","v":0},null,{"$f":"+IF(AD33>AC33,IF(AH33>0,IF(N33>0,(M33-Y33)/2,IF(AB33>=AE33,(((M33*T33)*X33)-(Z33+AH33))/2,((((M33*T33)*X33)-Y33)+(((M33*T33)*X33)-(Z33+AH33)))/2)),0),0)","v":0},null,{"$f":"+AA33+AL33+(IF(AN33>0,(AN33-AA33),0))","v":0}]
[null,null,"CENTRALIA DUMP STATION",1992,2,0,null,"S/L","32",2024,null,null,3752,null,3752,9.7708333333333339,117.25,0,117.25,1,117.25,2892.1666666666756,2892.1666666666756,1,2892.1666666666756,3009.4166666666756,801.20833333332439,1992.0833333333333,2017.75,2024.0833333333333,2016.75,-8.3333333333333329E-2,null,{"$f":"+IF((AD34-AE34)>3,((M34-O34)/(AD34-AE34)),(M34-O34)/3)","v":0},null,{"$f":"+AH34+U34","v":117.25},null,{"$f":"+IF(AD34<AE34,-AA34,0)","v":0},null,{"$f":"+IF(AD34>AC34,IF(AH34>0,IF(N34>0,(M34-Y34)/2,IF(AB34>=AE34,(((M34*T34)*X34)-(Z34+AH34))/2,((((M34*T34)*X34)-Y34)+(((M34*T34)*X34)-(Z34+AH34)))/2)),0),0)","v":0},null,{"$f":"+AA34+AL34+(IF(AN34>0,(AN34-AA34),0))","v":801.20833333332439}]
[null,null,"SLAB/PIT COVER FOR CENTRALIA BALER",1995,12,0,null,"S/L","20",2015,null,null,8885,null,8885,37.020833333333336,0,0,0,1,0,8885,8885,1,8885,8885,0,1995.9166666666667,2017.75,2015.9166666666667,2016.75,-8.3333333333333329E-2,null,0,null,0,null,0,null,0,null,0]
[null,null,"CHAIN LINK FENCE",1998,4,0,null,"S/L","15",2013,null,null,4398.3599999999997,null,4398.3599999999997,24.435333333333332,0,0,0,1,0,4398.3599999999997,4398.3599999999997,1,4398.3599999999997,4398.3599999999997,0,1998.25,2017.75,2013.25,2016.75,-8.3333333333333329E-2,null,0,null,0,null,0,null,0,null,0]
[null,null,"GRADE & ROCK RELOAD - CENTRALIA",1998,4,0,null,"S/L","20",2018,null,null,19377.419999999998,null,19377.419999999998,80.739249999999984,968.87099999999987,0,968.87099999999987,1,968.87099999999987,17924.113499999996,17924.113499999996,1,17924.113499999996,18892.984499999995,968.87100000000282,1998.25,2017.75,2018.25,2016.75,-8.3333333333333329E-2,null,0,null,968.87099999999987,null,0,null,0,null,968.87100000000282]
[null,null,"122 HALLIDY RD [LAND]",2000,6,0,null,"S/L","39",2039,null,null,32450,null,32450,69.337606837606842,832.0512820512821,0,832.0512820512821,1,832.0512820512821,13590.170940170878,13590.170940170878,1,13590.170940170878,14422.222222222159,18443.80341880348,2000.4166666666667,2017.75,2039.4166666666667,2016.75,-8.3333333333333329E-2,null,0,null,832.0512820512821,null,0,null,0,null,18443.80341880348]
[null,null,"122 HALLIDAY ROAD [BUILDING]",2000,6,0,null,"S/L","39",2039,null,null,92550,null,92550,197.75641025641025,2373.0769230769229,0,2373.0769230769229,1,2373.0769230769229,38760.256410256232,38760.256410256232,1,38760.256410256232,41133.333333333154,52603.205128205307,2000.4166666666667,2017.75,2039.4166666666667,2016.75,-8.3333333333333329E-2,null,0,null,2373.0769230769229,null,0,null,0,null,52603.205128205307]
[null,null,"FENCE - CENTRALIA OFFICE",2002,4,0,null,"S/L","15",2017,null,null,9594.2000000000007,null,9594.2000000000007,53.301111111111112,319.80666666666667,0,319.80666666666667,1,319.80666666666667,9274.3933333333334,9274.3933333333334,1,9274.3933333333334,9594.2000000000007,159.90333333333365,2002.25,2017.75,2017.25,2016.75,-8.3333333333333329E-2,null,0,null,319.80666666666667,null,0,null,0,null,159.90333333333365]
[null,null,"PAVING AT CENTRALIA RECYCLE CENTER",2004,7,0,null,"S/L","15",2019,null,null,4833,null,4833,26.849999999999998,322.2,0,322.2,1,322.2,3946.95,3946.95,1,3946.95,4269.1499999999996,724.95000000000027,2004.5,2017.75,2019.5,2016.75,-8.3333333333333329E-2,null,0,null,322.2,null,0,null,0,null,724.95000000000027]
[null,null,"PAVING AT CENTRALIA SHOP",2004,6,0,null,"S/L","15",2019,null,null,1312.2,null,1312.2,7.29,87.48,0,87.48,1,87.48,1078.9199999999935,1078.9199999999935,1,1078.9199999999935,1166.3999999999935,189.54000000000656,2004.4166666666667,2017.75,2019.4166666666667,2016.75,-8.3333333333333329E-2,null,0,null,87.48,null,0,null,0,null,189.54000000000656]
[null,null,"PAVING AT CENTRALIA RECYCLE CENTER",2005,9,0,null,"S/L","15",2020,null,null,3223.22,null,3223.22,17.906777777777776,214.88133333333332,0,214.88133333333332,1,214.88133333333332,2381.6014444444281,2381.6014444444281,1,2381.6014444444281,2596.4827777777614,734.17788888890504,2005.6666666666667,2017.75,2020.6666666666667,2016.75,-8.3333333333333329E-2,null,0,null,214.88133333333332,null,0,null,0,null,734.17788888890504]
[null,null,"ACCOUNTING OFFICE",2006,4,0,null,"S/L","39",2045,null,null,166855.57999999999,null,166855.57999999999,356.52901709401704,4278.3482051282044,0,4278.3482051282044,1,4278.3482051282044,44922.656153846146,44922.656153846146,1,44922.656153846146,49201.004358974351,119793.74974358974,2006.25,2017.75,2045.25,2016.75,-8.3333333333333329E-2,null,0,null,4278.3482051282044,null,0,null,0,null,119793.74974358974]
[null,null,"WATER UTILITIES -- 122 HALLIDAY ROAD",2006,4,0,null,"S/L","15",2021,null,null,21613.67,null,21613.67,120.07594444444443,1440.9113333333332,0,1440.9113333333332,1,1440.9113333333332,15129.568999999998,15129.568999999998,1,15129.568999999998,16570.480333333329,5763.6453333333347,2006.25,2017.75,2021.25,2016.75,-8.3333333333333329E-2,null,0,null,1440.9113333333332,null,0,null,0,null,5763.6453333333347]
[null,null,"DRAINAGE IMPROVEMENTS -- CENT. OFFICE",2007,8,0,null,"S/L","15",2022,null,null,3943.76,null,3943.76,21.90977777777778,262.91733333333337,0,262.91733333333337,1,262.91733333333337,2410.0755555555756,2410.0755555555756,1,2410.0755555555756,2672.992888888909,1402.2257777777579,2007.5833333333333,2017.75,2022.5833333333333,2016.75,-8.3333333333333329E-2,null,0,null,262.91733333333337,null,0,null,0,null,1402.2257777777579]
[71149,null,"Paving Centralia Parking Lot - Stormwater Improvements",2009,12,0,null,"S/L","15",{"$f":"D47+I47","v":2024},null,null,{"$f":"10920.23+2158+591301.18+41.14+35019.1+2087.87+59.9+1904.99","v":643492.41},null,{"$f":"M47-M47*F47","v":643492.41},{"$f":"O47/I47/12","v":3574.9578333333334},42899.493999999999,0,{"$f":"IF(R47>0,R47,Q47)","v":42899.493999999999},1,{"$f":"T47*SUM(Q47:R47)","v":42899.493999999999},293146.54233333009,293146.54233333009,1,{"$f":"W47*X47","v":293146.54233333009},336046.03633333009,328896.12066666991,2009.9166666666667,2017.75,2024.9166666666667,2016.75,-8.3333333333333329E-2,null,0,null,42899.493999999999,null,0,null,0,null,328896.12066666991]
["73292",null,"ADDITIONAL STORMWATER IMPROVEMENTS",2010,1,0,null,"S/L",15,{"$f":"D48+I48","v":2025},null,null,10681.88,null,{"$f":"M48-M48*F48","v":10681.88},{"$f":"O48/I48/12","v":59.343777777777774},712.12533333333329,0,{"$f":"IF(R48>0,R48,Q48)","v":712.12533333333329},1,{"$f":"T48*SUM(Q48:R48)","v":712.12533333333329},4806.8459999999995,4806.8459999999995,1,{"$f":"W48*X48","v":4806.8459999999995},5518.971333333333,5518.971333333333,2010,2017.75,2025,2016.75,-8.3333333333333329E-2,null,0,null,712.12533333333329,null,0,null,0,null,5518.971333333333]
["98288",null,"CONSTRUCT SIDEWALKS",2012,10,0,null,"S/L",20,{"$f":"D49+I49","v":2032},null,null,32439.96,null,{"$f":"M49-M49*F49","v":32439.96},{"$f":"O49/I49/12","v":135.16650000000001},{"$f":"IF(N49>0,0,IF(OR(AB49>AC49,AD49<AE49),0,IF(AND(AD49>=AE49,AD49<=AC49),P49*((AD49-AE49)*12),IF(AND(AE49<=AB49,AC49>=AB49),((AC49-AB49)*12)*P49,IF(AD49>AC49,12*P49,0)))))","v":1621.998},{"$f":"IF(N49=0,0,IF(AND(AF49>=AE49,AF49<=AD49),((AF49-AE49)*12)*P49,0))","v":0},{"$f":"IF(R49>0,R49,Q49)","v":1621.998},1,{"$f":"T49*SUM(Q49:R49)","v":1621.998},{"$f":"IF(AB49>AC49,0,IF(AD49<AE49,O49,IF(AND(AD49>=AE49,AD49<=AC49),(O49-S49),IF(AND(AE49<=AB49,AC49>=AB49),0,IF(AD49>AC49,((AE49-AB49)*12)*P49,0)))))","v":6487.9920000000002},{"$f":"V49*T49","v":6487.9920000000002},1,{"$f":"W49*X49","v":6487.9920000000002},{"$f":"IF(N49>0,0,Y49+U49*X49)*X49","v":8109.99},{"$f":"IF(N49>0,(M49-Y49)/2,IF(AB49>=AE49,(((M49*T49)*X49)-Z49)/2,((((M49*T49)*X49)-Y49)+(((M49*T49)*X49)-Z49))/2))","v":25140.969000000001},2012.75,2017.75,2032.75,2016.75,-8.3333333333333329E-2,null,0,null,1621.998,null,0,null,0,null,25140.969000000001]
[null,null,""]
[null,null,"TOTAL LEASEHOLD IMPROVEMENTS",null,null,null,null,null,null,null,null,null,{"$f":"SUM(M33:M50)","v":1068456.6600000001},null,{"$f":"SUM(O33:O50)","v":1068456.6600000001},{"$f":"SUM(P33:P50)","v":4900.1767206959712},{"$f":"SUM(Q33:Q50)","v":56451.411410256405},null,{"$f":"SUM(S50:S50)","v":0},null,{"$f":"SUM(U33:U46)","v":11217.794076923075},{"$f":"SUM(V33:V46)","v":174648.23300427326},{"$f":"SUM(W33:W46)","v":174648.23300427326},null,{"$f":"SUM(Y33:Y50)","v":479089.6133376034},{"$f":"SUM(Z33:Z50)","v":535541.02474785969},{"$f":"SUM(AA33:AA50)","v":561141.34095726849},null,null,null,null,null,null,{"$f":"SUM(AH33:AH50)","v":0},0,56451.411410256405,0,0,0,0,0,561141.34095726849]
[null,null,""]
[null,null,""]
[null,null,"SHOP & GARAGE"]
[null,null,""]
[null,null,"CENTRALIA SCALE",1999,8,0,null,"S/L",5,{"$f":"D56+I56","v":2004},null,null,8367.73,null,{"$f":"M56-M56*F56","v":8367.73},{"$f":"O56/I56/12","v":139.46216666666666},{"$f":"IF(N56>0,0,IF(OR(AB56>AC56,AD56<AE56),0,IF(AND(AD56>=AE56,AD56<=AC56),P56*((AD56-AE56)*12),IF(AND(AE56<=AB56,AC56>=AB56),((AC56-AB56)*12)*P56,IF(AD56>AC56,12*P56,0)))))","v":0},{"$f":"IF(N56=0,0,IF(AND(AF56>=AE56,AF56<=AD56),((AF56-AE56)*12)*P56,0))","v":0},{"$f":"IF(R56>0,R56,Q56)","v":0},1,{"$f":"T56*SUM(Q56:R56)","v":0},{"$f":"IF(AB56>AC56,0,IF(AD56<AE56,O56,IF(AND(AD56>=AE56,AD56<=AC56),(O56-S56),IF(AND(AE56<=AB56,AC56>=AB56),0,IF(AD56>AC56,((AE56-AB56)*12)*P56,0)))))","v":8367.73},{"$f":"V56*T56","v":8367.73},1,{"$f":"W56*X56","v":8367.73},{"$f":"IF(N56>0,0,Y56+U56*X56)*X56","v":8367.73},{"$f":"IF(N56>0,(M56-Y56)/2,IF(AB56>=AE56,(((M56*T56)*X56)-Z56)/2,((((M56*T56)*X56)-Y56)+(((M56*T56)*X56)-Z56))/2))","v":0},{"$f":"$D56+(($E56-1)/12)","v":1999.5833333333333},{"$f":"($O$5+1)-($O$2/12)","v":2017.75},{"$f":"$J56+(($E56-1)/12)","v":2004.5833333333333},{"$f":"$O$4+($O$3/12)","v":2016.75},{"$f":"$K56+(($L56-1)/12)","v":-8.3333333333333329E-2},null,{"$f":"+IF((AD56-AE56)>3,((M56-O56)/(AD56-AE56)),(M56-O56)/3)","v":0},null,{"$f":"+AH56+U56","v":0},null,{"$f":"+IF(AD56<AE56,-AA56,0)","v":0},null,{"$f":"+IF(AD56>AC56,IF(AH56>0,IF(N56>0,(M56-Y56)/2,IF(AB56>=AE56,(((M56*T56)*X56)-(Z56+AH56))/2,((((M56*T56)*X56)-Y56)+(((M56*T56)*X56)-(Z56+AH56)))/2)),0),0)","v":0},null,{"$f":"+AA56+AL56+(IF(AN56>0,(AN56-AA56),0))","v":0}]
[null,null,"TRUCK WASH SYSTEM -- CENTRALIA",2002,6,0,null,"S/L","10",2012,null,null,24394.05,null,24394.05,203.28374999999997,0,0,0,1,0,24394.05,24394.05,1,24394.05,24394.05,0,2002.4166666666667,{"$f":"($O$5+1)-($O$2/12)","v":2017.75},2012.4166666666667,{"$f":"$O$4+($O$3/12)","v":2016.75},-8.3333333333333329E-2,null,{"$f":"+IF((AD57-AE57)>3,((M57-O57)/(AD57-AE57)),(M57-O57)/3)","v":0},null,{"$f":"+AH57+U57","v":0},null,{"$f":"+IF(AD57<AE57,-AA57,0)","v":0},null,{"$f":"+IF(AD57>AC57,IF(AH57>0,IF(N57>0,(M57-Y57)/2,IF(AB57>=AE57,(((M57*T57)*X57)-(Z57+AH57))/2,((((M57*T57)*X57)-Y57)+(((M57*T57)*X57)-(Z57+AH57)))/2)),0),0)","v":0},null,{"$f":"+AA57+AL57+(IF(AN57>0,(AN57-AA57),0))","v":0}]
[null,null,"DIAGNOSTIC COMPUTER-CENTRALIA",2004,5,0,null,"S/L",5,2009,null,null,2174.9,null,2174.9,36.248333333333335,0,0,0,1,0,2174.9,2174.9,1,2174.9,2174.9,0,2004.3333333333333,{"$f":"($O$5+1)-($O$2/12)","v":2017.75},2009.3333333333333,{"$f":"$O$4+($O$3/12)","v":2016.75},-8.3333333333333329E-2,null,0,null,0,null,0,null,0,null,0]
[null,null,"MILLER BIG BLUE 400 AMP WELDER",2005,7,0,null,"S/L",5,2010,null,null,3237,null,3237,53.949999999999996,0,0,0,1,0,3237,3237,1,3237,3237,0,2005.5,{"$f":"($O$5+1)-($O$2/12)","v":2017.75},2010.5,{"$f":"$O$4+($O$3/12)","v":2016.75},-8.3333333333333329E-2,null,0,null,0,null,0,null,0,null,0]
[null,null,"WASTE OIL HEATER",2007,5,0,null,"S/L",5,2012,null,null,7439.71,null,7439.71,123.99516666666666,0,0,0,1,0,7439.71,7439.71,1,7439.71,7439.71,0,2007.3333333333333,{"$f":"($O$5+1)-($O$2/12)","v":2017.75},2012.3333333333333,{"$f":"$O$4+($O$3/12)","v":2016.75},-8.3333333333333329E-2,null,0,null,0,null,0,null,0,null,0]
[null,9223,"'01 FORD UTILITY TRUCK",2008,5,0.33,null,"S/L",5,{"$f":"D61+I61","v":2013},null,null,5405,null,{"$f":"M61-M61*F61","v":3621.35},{"$f":"O61/I61/12","v":60.355833333333329},{"$f":"IF(N61>0,0,IF(OR(AB61>AC61,AD61<AE61),0,IF(AND(AD61>=AE61,AD61<=AC61),P61*((AD61-AE61)*12),IF(AND(AE61<=AB61,AC61>=AB61),((AC61-AB61)*12)*P61,IF(AD61>AC61,12*P61,0)))))","v":603.55833333327837},{"$f":"IF(N61=0,0,IF(AND(AF61>=AE61,AF61<=AD61),((AF61-AE61)*12)*P61,0))","v":0},{"$f":"IF(R61>0,R61,Q61)","v":603.55833333327837},1,{"$f":"T61*SUM(Q61:R61)","v":603.55833333327837},{"$f":"IF(AB61>AC61,0,IF(AD61<AE61,O61,IF(AND(AD61>=AE61,AD61<=AC61),(O61-S61),IF(AND(AE61<=AB61,AC61>=AB61),0,IF(AD61>AC61,((AE61-AB61)*12)*P61,0)))))","v":3017.7916666667215},{"$f":"V61*T61","v":3017.7916666667215},1,{"$f":"W61*X61","v":3017.7916666667215},{"$f":"IF(N61>0,0,Y61+U61*X61)*X61","v":3621.35},{"$f":"IF(N61>0,(M61-Y61)/2,IF(AB61>=AE61,(((M61*T61)*X61)-Z61)/2,((((M61*T61)*X61)-Y61)+(((M61*T61)*X61)-Z61))/2))","v":2085.4291666666395},{"$f":"$D61+(($E61-1)/12)","v":2008.3333333333333},{"$f":"('[4]2189 Other Equipment'!$O$5+1)-('[4]2189 Other Equipment'!$O$2/12)","v":2013.5},{"$f":"$J61+(($E61-1)/12)","v":2013.3333333333333},{"$f":"'[4]2189 Other Equipment'!$O$4+('[4]2189 Other Equipment'!$O$3/12)","v":2012.5},{"$f":"$K61+(($L61-1)/12)","v":-8.3333333333333329E-2},null,594.55000000000007,null,1198.1083333332786,null,0,null,0,null,2085.4291666666395]
[null,7011,"1972 Type S Forklift - Shop",2008,11,0.33,null,"S/L",5,{"$f":"D62+I62","v":2013},null,null,0,null,{"$f":"M62-M62*F62","v":0},{"$f":"O62/I62/12","v":0},{"$f":"IF(N62>0,0,IF(OR(AB62>AC62,AD62<AE62),0,IF(AND(AD62>=AE62,AD62<=AC62),P62*((AD62-AE62)*12),IF(AND(AE62<=AB62,AC62>=AB62),((AC62-AB62)*12)*P62,IF(AD62>AC62,12*P62,0)))))","v":0},{"$f":"IF(N62=0,0,IF(AND(AF62>=AE62,AF62<=AD62),((AF62-AE62)*12)*P62,0))","v":0},{"$f":"IF(R62>0,R62,Q62)","v":0},1,{"$f":"T62*SUM(Q62:R62)","v":0},{"$f":"IF(AB62>AC62,0,IF(AD62<AE62,O62,IF(AND(AD62>=AE62,AD62<=AC62),(O62-S62),IF(AND(AE62<=AB62,AC62>=AB62),0,IF(AD62>AC62,((AE62-AB62)*12)*P62,0)))))","v":0},{"$f":"V62*T62","v":0},1,{"$f":"W62*X62","v":0},{"$f":"IF(N62>0,0,Y62+U62*X62)*X62","v":0},{"$f":"IF(N62>0,(M62-Y62)/2,IF(AB62>=AE62,(((M62*T62)*X62)-Z62)/2,((((M62*T62)*X62)-Y62)+(((M62*T62)*X62)-Z62))/2))","v":0},{"$f":"$D62+(($E62-1)/12)","v":2008.8333333333333},{"$f":"('[4]2189 Other Equipment'!$O$5+1)-('[4]2189 Other Equipment'!$O$2/12)","v":2013.5},{"$f":"$J62+(($E62-1)/12)","v":2013.8333333333333},{"$f":"'[4]2189 Other Equipment'!$O$4+('[4]2189 Other Equipment'!$O$3/12)","v":2012.5},{"$f":"$K62+(($L62-1)/12)","v":-8.3333333333333329E-2},null,0,null,0,null,0,null,0,null,0]
[null,null,"TOOLS FOR CENTRALIA SHOP",2009,9,0,null,"S/L",5,2014,null,null,5898.89,null,5898.89,98.31483333333334,0,0,0,1,0,5898.89,5898.89,1,5898.89,5898.89,0,2009.6666666666667,{"$f":"($O$5+1)-($O$2/12)","v":2017.75},2014.6666666666667,{"$f":"$O$4+($O$3/12)","v":2016.75},-8.3333333333333329E-2,null,0,null,0,null,0,null,0,null,0]
[null,null,"PR WHEEL JACKS WITH MP-5/10",2009,12,0,null,"S/L",5,2014,null,null,7569.08,null,7569.08,126.15133333333334,0,0,0,1,0,7569.08,7569.08,1,7569.08,7569.08,0,2009.9166666666667,2017.75,2014.9166666666667,2016.75,-8.3333333333333329E-2,null,0,null,0,null,0,null,0,null,0]
[null,null,"SHOP JACKS",2009,1,0,null,"S/L",4.916666666666667,2013.9166666666667,null,null,2847,null,2847,48.254237288135592,0,0,0,1,0,2847,2847,1,2847,2847,0,2009,2017.75,2013.9166666666667,2016.75,-8.3333333333333329E-2,null,0,null,0,null,0,null,0,null,0]
["97914",null,"Shop Laptop",2011,1,0,null,"S/L",3,{"$f":"D66+I66","v":2014},null,null,1636.98,null,{"$f":"M66-M66*F66","v":1636.98},{"$f":"O66/I66/12","v":45.471666666666664},0,0,0,1,0,1636.98,1636.98,1,1636.98,1636.98,0,{"$f":"$D66+(($E66-1)/12)","v":2011},2017.75,{"$f":"$J66+(($E66-1)/12)","v":2014},2016.75,{"$f":"$K66+(($L66-1)/12)","v":-8.3333333333333329E-2},null,0,null,0,null,0,null,0,null,0]
["97913",null,"Shop Laptop w/ Maintenance Programs",2011,1,0,null,"S/L",3,{"$f":"D67+I67","v":2014},null,null,3587,null,{"$f":"M67-M67*F67","v":3587},{"$f":"O67/I67/12","v":99.6388888888889},0,0,0,1,0,3587,3587,1,3587,3587,0,{"$f":"$D67+(($E67-1)/12)","v":2011},2017.75,{"$f":"$J67+(($E67-1)/12)","v":2014},2016.75,{"$f":"$K67+(($L67-1)/12)","v":-8.3333333333333329E-2},null,0,null,0,null,0,null,0,null,0]
["88801",null,"CONTAINER CLEANING SYSTEM",2011,11,0,null,"S/L",5,2016,null,null,3050.46,null,3050.46,50.841000000000001,50.840999999953759,0,50.840999999953759,1,50.840999999953759,2999.6190000000461,2999.6190000000461,1,2999.6190000000461,3050.46,25.420499999976983,2011.8333333333333,2017.75,2016.8333333333333,2016.75,-8.3333333333333329E-2,null,0,null,50.840999999953759,null,0,null,0,null,25.420499999976983]
["88673",null,"PRESSURE WASHER",2011,12,0,null,"S/L",5,2016,null,null,9437.07,null,9437.07,157.28450000000001,314.56900000014309,0,314.56900000014309,1,314.56900000014309,9122.5009999998565,9122.5009999998565,1,9122.5009999998565,9437.07,157.2845000000716,2011.9166666666667,2017.75,2016.9166666666667,2016.75,-8.3333333333333329E-2,null,0,null,314.56900000014309,null,0,null,0,null,157.2845000000716]
["95094",null,"RTA EQUIPMENT",2012,4,0,null,"S/L",5,2017,null,null,1045.9000000000001,null,1045.9000000000001,17.431666666666668,104.59,0,104.59,1,104.59,941.31000000000006,941.31000000000006,1,941.31000000000006,1045.9000000000001,52.295000000000016,2012.25,2017.75,2017.25,2016.75,-8.3333333333333329E-2,null,0,null,104.59,null,0,null,0,null,52.295000000000016]
["110151",null,"MILLER MATIC WELDER",2013,12,0,null,"S/L",5,2018,null,null,2428.92,null,2428.92,40.481999999999999,485.78399999999999,0,485.78399999999999,1,485.78399999999999,1376.3879999999631,1376.3879999999631,1,1376.3879999999631,1862.1719999999632,809.64000000003693,2013.9166666666667,2017.75,2018.9166666666667,2016.75,-8.3333333333333329E-2,null,0,null,485.78399999999999,null,0,null,0,null,809.64000000003693]
["111682",null,"2008 Genie TH5519 Reach Forklift (U)",2014,2,0.33,null,"S/L",5,2019,null,null,37350,null,25024.5,417.07499999999999,5004.8999999999996,0,5004.8999999999996,1,5004.8999999999996,13346.40000000038,13346.40000000038,1,13346.40000000038,18351.300000000381,21501.149999999619,2014.0833333333333,2017.75,2019.0833333333333,2016.75,-8.3333333333333329E-2,null,4108.5,null,9113.4,null,0,null,19446.899999999619,null,19446.899999999619]
[null,null,""]
[null,null,"TOTAL SHOP & GARAGE",null,null,null,null,null,null,null,null,null,{"$f":"SUM(M56:M73)","v":125869.68999999999},null,{"$f":"SUM(O56:O73)","v":111760.54},{"$f":"SUM(P56:P73)","v":1718.2403761770242},{"$f":"SUM(Q56:Q73)","v":6564.2423333333754},null,{"$f":"SUM(S56:S73)","v":6564.2423333333754},null,{"$f":"SUM(U56:U73)","v":6564.2423333333754},{"$f":"SUM(V56:V73)","v":97956.349666666967},{"$f":"SUM(W56:W73)","v":97956.349666666967},null,{"$f":"SUM(Y56:Y73)","v":97956.349666666967},{"$f":"SUM(Z56:Z73)","v":104520.59200000034},{"$f":"SUM(AA56:AA73)","v":24631.219166666346},null,null,null,null,null,null,{"$f":"SUM(AH56:AH73)","v":4703.05},null,11267.292333333375,null,0,null,19446.899999999619,null,22576.969166666346]
[]
[]
[null,null,"SERVICE EQUIPMENT"]
[]
[102598,6618,"2003 Suzuki Grand Vitara - Sales (U)",2008,11,0.33,null,"S/L",5,{"$f":"D79+I79","v":2013},null,null,6500,null,{"$f":"M79-M79*F79","v":4355},{"$f":"O79/I79/12","v":72.583333333333329},{"$f":"IF(N79>0,0,IF(OR(AB79>AC79,AD79<AE79),0,IF(AND(AD79>=AE79,AD79<=AC79),P79*((AD79-AE79)*12),IF(AND(AE79<=AB79,AC79>=AB79),((AC79-AB79)*12)*P79,IF(AD79>AC79,12*P79,0)))))","v":0},{"$f":"IF(N79=0,0,IF(AND(AF79>=AE79,AF79<=AD79),((AF79-AE79)*12)*P79,0))","v":0},{"$f":"IF(R79>0,R79,Q79)","v":0},1,{"$f":"T79*SUM(Q79:R79)","v":0},{"$f":"IF(AB79>AC79,0,IF(AD79<AE79,O79,IF(AND(AD79>=AE79,AD79<=AC79),(O79-S79),IF(AND(AE79<=AB79,AC79>=AB79),0,IF(AD79>AC79,((AE79-AB79)*12)*P79,0)))))","v":4355},{"$f":"V79*T79","v":4355},1,{"$f":"W79*X79","v":4355},{"$f":"IF(N79>0,0,Y79+U79*X79)*X79","v":4355},{"$f":"IF(N79>0,(M79-Y79)/2,IF(AB79>=AE79,(((M79*T79)*X79)-Z79)/2,((((M79*T79)*X79)-Y79)+(((M79*T79)*X79)-Z79))/2))","v":2145},{"$f":"$D79+(($E79-1)/12)","v":2008.8333333333333},{"$f":"($O$5+1)-($O$2/12)","v":2017.75},{"$f":"$J79+(($E79-1)/12)","v":2013.8333333333333},{"$f":"$O$4+($O$3/12)","v":2016.75},{"$f":"$K79+(($L79-1)/12)","v":-8.3333333333333329E-2},null,{"$f":"+IF((AD79-AE79)>3,((M79-O79)/(AD79-AE79)),(M79-O79)/3)","v":715},null,{"$f":"+AH79+U79","v":715},null,{"$f":"+IF(AD79<AE79,-AA79,0)","v":-2145},null,{"$f":"+IF(AD79>AC79,IF(AH79>0,IF(N79>0,(M79-Y79)/2,IF(AB79>=AE79,(((M79*T79)*X79)-(Z79+AH79))/2,((((M79*T79)*X79)-Y79)+(((M79*T79)*X79)-(Z79+AH79)))/2)),0),0)","v":0},null,{"$f":"+AA79+AL79+(IF(AN79>0,(AN79-AA79),0))","v":0}]
[null,6203,"1983 Type S Pick Up Car",2008,11,0.33,null,"S/L",5,2013,null,null,0,null,0,0,0,0,0,1,0,0,0,1,0,0,0,2008.8333333333333,2017.75,2013.8333333333333,2016.75,-8.3333333333333329E-2,null,0,null,0,null,0,null,0,null,0]
["75348",6044,"USED 2007 F-150 SUPERVISOR TRUCK",2010,6,0.33,null,"S/L",5,2015,null,null,19609.8,null,13138.565999999999,218.97609999999997,0,0,0,1,0,13138.565999999999,13138.565999999999,1,13138.565999999999,13138.565999999999,6471.2340000000004,2010.4166666666667,2017.75,2015.4166666666667,2016.75,-8.3333333333333329E-2,null,2157.078,null,2157.078,null,-6471.2340000000004,null,0,null,0]
["126850","6054","2002 Ford F150 Pickup Truck",2007,1,0.33,null,"S/L",5,2012,null,null,17500,null,11725,195.41666666666666,0,0,0,1,0,11725,11725,1,11725,11725,5775,2007,2017.75,2012,2016.75,-8.3333333333333329E-2,null,1925,null,1925,null,-5775,null,0,null,0]
["126851","6054","Sales tax and licensing (asset 126851)",2007,4,0.33,null,"S/L",5,2012,null,null,1592.5,null,1066.9749999999999,17.782916666666665,0,0,0,1,0,1066.9749999999999,1066.9749999999999,1,1066.9749999999999,1066.9749999999999,525.52500000000009,2007.25,2017.75,2012.25,2016.75,-8.3333333333333329E-2,null,175.17500000000004,null,175.17500000000004,null,-525.52500000000009,null,0,null,0]
["128431",null,"JLG 1932RS Scissor Lift Forklift",2015,12,0.2,null,"S/L",7,2022,null,null,11772,null,9417.6,112.11428571428571,1345.3714285714286,0,1345.3714285714286,1,1345.3714285714286,1121.1428571427552,1121.1428571427552,1,1121.1428571427552,2466.5142857141836,9978.1714285715316,2015.9166666666667,2017.75,2022.9166666666667,2016.75,-8.3333333333333329E-2,null,381.79459459458985,null,1727.1660231660185,null,0,null,9787.2741312742364,null,9787.2741312742364]
[]
[null,null,"TOTAL SERVICE EQUIPMENT",null,null,null,null,null,null,null,null,null,{"$f":"SUM(M79:M85)","v":56974.3},null,{"$f":"SUM(O79:O85)","v":39703.140999999996},{"$f":"SUM(P79:P85)","v":616.8733023809524},{"$f":"SUM(Q79:Q85)","v":1345.3714285714286},null,{"$f":"SUM(S79:S85)","v":1345.3714285714286},null,{"$f":"SUM(U79:U85)","v":1345.3714285714286},{"$f":"SUM(V79:V85)","v":31406.683857142754},{"$f":"SUM(W79:W85)","v":31406.683857142754},null,{"$f":"SUM(Y79:Y85)","v":31406.683857142754},{"$f":"SUM(Z79:Z85)","v":32752.055285714181},{"$f":"SUM(AA79:AA85)","v":24894.930428571533},null,null,null,null,null,null,{"$f":"SUM(AH79:AH85)","v":5354.0475945945891},null,6699.4190231660177,null,-14916.759,null,9787.2741312742364,null,9787.2741312742364]
[]
[null,null,""]
[null,null,"OFFICE FURNITURE & FIXTURES"]
[null,null,""]
[null,null,"DELL DIMENSION [CENTRALIA]",2001,4,0,null,"S/L",5,{"$f":"D91+I91","v":2006},null,null,2322.0300000000002,null,{"$f":"M91-M91*F91","v":2322.0300000000002},{"$f":"O91/I91/12","v":38.700500000000005},{"$f":"IF(N91>0,0,IF(OR(AB91>AC91,AD91<AE91),0,IF(AND(AD91>=AE91,AD91<=AC91),P91*((AD91-AE91)*12),IF(AND(AE91<=AB91,AC91>=AB91),((AC91-AB91)*12)*P91,IF(AD91>AC91,12*P91,0)))))","v":0},{"$f":"IF(N91=0,0,IF(AND(AF91>=AE91,AF91<=AD91),((AF91-AE91)*12)*P91,0))","v":0},{"$f":"IF(R91>0,R91,Q91)","v":0},1,{"$f":"T91*SUM(Q91:R91)","v":0},{"$f":"IF(AB91>AC91,0,IF(AD91<AE91,O91,IF(AND(AD91>=AE91,AD91<=AC91),(O91-S91),IF(AND(AE91<=AB91,AC91>=AB91),0,IF(AD91>AC91,((AE91-AB91)*12)*P91,0)))))","v":2322.0300000000002},{"$f":"V91*T91","v":2322.0300000000002},1,{"$f":"W91*X91","v":2322.0300000000002},{"$f":"IF(N91>0,0,Y91+U91*X91)*X91","v":2322.0300000000002},{"$f":"IF(N91>0,(M91-Y91)/2,IF(AB91>=AE91,(((M91*T91)*X91)-Z91)/2,((((M91*T91)*X91)-Y91)+(((M91*T91)*X91)-Z91))/2))","v":0},{"$f":"$D91+(($E91-1)/12)","v":2001.25},{"$f":"($O$5+1)-($O$2/12)","v":2017.75},{"$f":"$J91+(($E91-1)/12)","v":2006.25},{"$f":"$O$4+($O$3/12)","v":2016.75},{"$f":"$K91+(($L91-1)/12)","v":-8.3333333333333329E-2},null,{"$f":"+IF((AD91-AE91)>3,((M91-O91)/(AD91-AE91)),(M91-O91)/3)","v":0},null,{"$f":"+AH91+U91","v":0},null,{"$f":"+IF(AD91<AE91,-AA91,0)","v":0},null,{"$f":"+IF(AD91>AC91,IF(AH91>0,IF(N91>0,(M91-Y91)/2,IF(AB91>=AE91,(((M91*T91)*X91)-(Z91+AH91))/2,((((M91*T91)*X91)-Y91)+(((M91*T91)*X91)-(Z91+AH91)))/2)),0),0)","v":0},null,{"$f":"+AA91+AL91+(IF(AN91>0,(AN91-AA91),0))","v":0}]
[null,null,"COMPUTER FOR CENTRALIA",2002,9,0,null,"S/L",5,2007,null,null,2230.4,null,2230.4,37.173333333333339,0,0,0,1,0,2230.4,2230.4,1,2230.4,2230.4,0,2002.6666666666667,2017.75,2007.6666666666667,2016.75,-8.3333333333333329E-2,null,{"$f":"+IF((AD92-AE92)>3,((M92-O92)/(AD92-AE92)),(M92-O92)/3)","v":0},null,{"$f":"+AH92+U92","v":0},null,{"$f":"+IF(AD92<AE92,-AA92,0)","v":0},null,{"$f":"+IF(AD92>AC92,IF(AH92>0,IF(N92>0,(M92-Y92)/2,IF(AB92>=AE92,(((M92*T92)*X92)-(Z92+AH92))/2,((((M92*T92)*X92)-Y92)+(((M92*T92)*X92)-(Z92+AH92)))/2)),0),0)","v":0},null,{"$f":"+AA92+AL92+(IF(AN92>0,(AN92-AA92),0))","v":0}]
[null,null,"HP VECTRA VL400 - CENT. COMPUTER",2002,4,0,null,"S/L",5,2007,null,null,1502.68,null,1502.68,25.044666666666668,0,0,0,1,0,1502.68,1502.68,1,1502.68,1502.68,0,2002.25,2017.75,2007.25,2016.75,-8.3333333333333329E-2,null,0,null,0,null,0,null,0,null,0]
[null,null,"FURNITURE - NEW CENTRALIA OFFICE",2002,4,0,null,"S/L",5,2007,null,null,2442.29,null,2442.29,40.704833333333333,0,0,0,1,0,2442.29,2442.29,1,2442.29,2442.29,0,2002.25,2017.75,2007.25,2016.75,-8.3333333333333329E-2,null,0,null,0,null,0,null,0,null,0]
[null,null,"AIR CONDITIONER - CENT. OFFICE",2003,7,0,null,"S/L",5,2008,null,null,5713.4,null,5713.4,95.223333333333315,0,0,0,1,0,5713.4,5713.4,1,5713.4,5713.4,0,2003.5,2017.75,2008.5,2016.75,-8.3333333333333329E-2,null,0,null,0,null,0,null,0,null,0]
[null,null,"SIGNAGE FOR CENTRALIA OFFICE",2003,1,0,null,"S/L",5,2008,null,null,5996.78,null,5996.78,99.946333333333328,0,0,0,1,0,5996.78,5996.78,1,5996.78,5996.78,0,2003,2017.75,2008,2016.75,-8.3333333333333329E-2,null,0,null,0,null,0,null,0,null,0]
[null,null,"HP LASERJET 9050",2005,8,0,null,"S/L",5,2010,null,null,3923.91,null,3923.91,65.398499999999999,0,0,0,1,0,3923.91,3923.91,1,3923.91,3923.91,0,2005.5833333333333,2017.75,2010.5833333333333,2016.75,-8.3333333333333329E-2,null,0,null,0,null,0,null,0,null,0]
[null,null,"CENTRALIA PHONE SYSTEM",2006,6,0,null,"S/L",5,2011,null,null,14165.28,null,14165.28,236.08799999999999,0,0,0,1,0,14165.28,14165.28,1,14165.28,14165.28,0,2006.4166666666667,2017.75,2011.4166666666667,2016.75,-8.3333333333333329E-2,null,0,null,0,null,0,null,0,null,0]
[null,null,"ALARM SYSTEM -- CENTRALIA",2007,8,0,null,"S/L",5,2012,null,null,2960.24,null,2960.24,49.337333333333333,0,0,0,1,0,2960.24,2960.24,1,2960.24,2960.24,0,2007.5833333333333,2017.75,2012.5833333333333,2016.75,-8.3333333333333329E-2,null,0,null,0,null,0,null,0,null,0]
[null,null,"FIREPROOF SAFE - HR",2008,6,0,null,"S/L",5,2013,null,null,1391.55,null,1391.55,23.192499999999999,0,0,0,1,0,1391.55,1391.55,1,1391.55,1391.55,0,2008.4166666666667,2017.75,2013.4166666666667,2016.75,-8.3333333333333329E-2,null,0,null,0,null,0,null,0,null,0]
[null,null,"ROUTEWARE SERVER",2008,4,0,null,"S/L",5,2013,null,null,19788.07,null,19788.07,329.80116666666669,0,0,0,1,0,19788.07,19788.07,1,19788.07,19788.07,0,2008.25,2017.75,2013.25,2016.75,-8.3333333333333329E-2,null,0,null,0,null,0,null,0,null,0]
["79491",null,"PHONE SYSTEM - CENTRALIA",2010,12,0,null,"S/L",5,2015,null,null,{"$f":"4531.45+3236.76+5178.81+409.13+357.98+2472.3","v":16186.43},null,16186.43,269.77383333333336,0,0,0,1,0,16186.43,16186.43,1,16186.43,16186.43,0,2010.9166666666667,2017.75,2015.9166666666667,2016.75,-8.3333333333333329E-2,null,0,null,0,null,0,null,0,null,0]
["90479",null,"Sony Internet TV",2012,1,0,null,"S/L",5,2017,null,null,557.73,null,557.73,9.2955000000000005,27.886500000000002,0,27.886500000000002,1,27.886500000000002,529.84350000000006,529.84350000000006,1,529.84350000000006,557.73,13.943249999999978,2012,2017.75,2017,2016.75,-8.3333333333333329E-2,null,0,null,27.886500000000002,null,0,null,0,null,13.943249999999978]
["109578, 111060",null,"Office Furniture",2013,12,0,null,"S/L",10,2023,null,null,{"$f":"4639.68+13986","v":18625.68},null,18625.68,155.214,1862.568,0,1862.568,1,1862.568,5277.2759999998589,5277.2759999998589,1,5277.2759999998589,7139.8439999998591,12417.120000000141,2013.9166666666667,2017.75,2023.9166666666667,2016.75,-8.3333333333333329E-2,null,0,null,1862.568,null,0,null,0,null,12417.120000000141]
["121105",null,"6 Winterms",2015,3,0,null,"S/L",5,2020,null,null,1967.27,null,1967.27,32.787833333333332,393.45399999999995,0,393.45399999999995,1,393.45399999999995,622.96883333330345,622.96883333330345,1,622.96883333330345,1016.4228333333034,1147.5741666666966,2015.1666666666667,2017.75,2020.1666666666667,2016.75,-8.3333333333333329E-2,null,0,null,393.45399999999995,null,0,null,0,null,1147.5741666666966]
["133014",null,"Phone Recorder Unit",2016,5,0,null,"S/L",5,2021,null,null,1077.29,null,1077.29,17.954833333333333,215.458,0,215.458,1,215.458,89.774166666683001,89.774166666683001,1,89.774166666683001,305.23216666668299,879.78683333331696,2016.3333333333333,2017.75,2021.3333333333333,2016.75,-8.3333333333333329E-2,null,0,null,215.458,null,0,null,0,null,879.78683333331696]
["167964",null,"Hansen Cash Call Recording System",2016,5,0,null,"S/L",5,2021,null,null,7346.78,null,7346.78,122.44633333333333,1469.356,0,1469.356,1,1469.356,612.23166666677798,612.23166666677798,1,612.23166666677798,2081.5876666667782,5999.8703333332214,2016.3333333333333,2017.75,2021.3333333333333,2016.75,-8.3333333333333329E-2,null,0,null,1469.356,null,0,null,0,null,5999.8703333332214]
["169284",null,"HP ProBook 640 Laptop",2016,10,0,null,"S/L",3,2019,null,null,1092.99,null,1092.99,30.360833333333332,364.33,0,364.33,1,364.33,0,0,1,0,364.33,364.33000000000004,2016.75,2017.75,2019.75,2016.75,-8.3333333333333329E-2,null,0,null,364.33,null,0,null,0,null,364.33000000000004]
["182213",null,"HP ProBook 650 G2 -15.6\"",2017,4,0,null,"S/L",3,2020,null,null,1293.3800000000001,null,{"$f":"M109-M109*F109","v":1293.3800000000001},{"$f":"O109/I109/12","v":35.927222222222227},{"$f":"IF(N109>0,0,IF(OR(AB109>AC109,AD109<AE109),0,IF(AND(AD109>=AE109,AD109<=AC109),P109*((AD109-AE109)*12),IF(AND(AE109<=AB109,AC109>=AB109),((AC109-AB109)*12)*P109,IF(AD109>AC109,12*P109,0)))))","v":215.56333333333336},{"$f":"IF(N109=0,0,IF(AND(AF109>=AE109,AF109<=AD109),((AF109-AE109)*12)*P109,0))","v":0},{"$f":"IF(R109>0,R109,Q109)","v":215.56333333333336},1,{"$f":"T109*SUM(Q109:R109)","v":215.56333333333336},{"$f":"IF(AB109>AC109,0,IF(AD109<AE109,O109,IF(AND(AD109>=AE109,AD109<=AC109),(O109-S109),IF(AND(AE109<=AB109,AC109>=AB109),0,IF(AD109>AC109,((AE109-AB109)*12)*P109,0)))))","v":0},{"$f":"V109*T109","v":0},1,{"$f":"W109*X109","v":0},{"$f":"IF(N109>0,0,Y109+U109*X109)*X109","v":215.56333333333336},{"$f":"IF(N109>0,(M109-Y109)/2,IF(AB109>=AE109,(((M109*T109)*X109)-Z109)/2,((((M109*T109)*X109)-Y109)+(((M109*T109)*X109)-Z109))/2))","v":538.90833333333342},2017.25,2017.75,2020.25,2016.75,-8.3333333333333329E-2,null,0,null,215.56333333333336,null,0,null,0,null,538.90833333333342]
["174546",null,"HP ProBook 650 G2",2017,1,0,null,"S/L",3,2020,null,null,1275.8599999999999,null,{"$f":"M110-M110*F110","v":1275.8599999999999},{"$f":"O110/I110/12","v":35.440555555555555},{"$f":"IF(N110>0,0,IF(OR(AB110>AC110,AD110<AE110),0,IF(AND(AD110>=AE110,AD110<=AC110),P110*((AD110-AE110)*12),IF(AND(AE110<=AB110,AC110>=AB110),((AC110-AB110)*12)*P110,IF(AD110>AC110,12*P110,0)))))","v":318.96499999999997},{"$f":"IF(N110=0,0,IF(AND(AF110>=AE110,AF110<=AD110),((AF110-AE110)*12)*P110,0))","v":0},{"$f":"IF(R110>0,R110,Q110)","v":318.96499999999997},1,{"$f":"T110*SUM(Q110:R110)","v":318.96499999999997},{"$f":"IF(AB110>AC110,0,IF(AD110<AE110,O110,IF(AND(AD110>=AE110,AD110<=AC110),(O110-S110),IF(AND(AE110<=AB110,AC110>=AB110),0,IF(AD110>AC110,((AE110-AB110)*12)*P110,0)))))","v":0},{"$f":"V110*T110","v":0},1,{"$f":"W110*X110","v":0},{"$f":"IF(N110>0,0,Y110+U110*X110)*X110","v":318.96499999999997},{"$f":"IF(N110>0,(M110-Y110)/2,IF(AB110>=AE110,(((M110*T110)*X110)-Z110)/2,((((M110*T110)*X110)-Y110)+(((M110*T110)*X110)-Z110))/2))","v":478.44749999999999},2017,2017.75,2020,2016.75,-8.3333333333333329E-2,null,0,null,318.96499999999997,null,0,null,0,null,478.44749999999999]
[null,null,""]
[null,null,"TOTAL OFFICE FURNITURE & FIXTURES",null,null,null,null,null,null,null,null,null,{"$f":"SUM(M91:M111)","v":111860.04000000001},null,{"$f":"SUM(O91:O111)","v":111860.04000000001},{"$f":"SUM(P91:P111)","v":1749.8114444444445},{"$f":"SUM(Q91:Q111)","v":4867.5808333333334},null,{"$f":"SUM(S91:S111)","v":4867.5808333333334},null,{"$f":"SUM(U91:U111)","v":4867.5808333333334},{"$f":"SUM(V91:V111)","v":85755.154166666616},{"$f":"SUM(W91:W111)","v":85755.154166666616},null,{"$f":"SUM(Y91:Y111)","v":85755.154166666616},{"$f":"SUM(Z91:Z111)","v":90622.734999999942},{"$f":"SUM(AA91:AA111)","v":21839.980416666709},null,null,null,null,null,null,{"$f":"SUM(AH91:AH111)","v":0},null,4867.5808333333334,null,0,null,0,null,21839.980416666709]
[null,null,""]
[null,null,""]
[null,null,"SOFTWARE AND COMPUTER UPGRADES FOR OFFICE"]
[null,null,""]
[null,null,"MVBASE LICENSES",2008,8,0,null,"S/L",5,{"$f":"D117+I117","v":2013},null,null,7289.06,null,{"$f":"M117-M117*F117","v":7289.06},{"$f":"O117/I117/12","v":121.48433333333334},{"$f":"IF(N117>0,0,IF(OR(AB117>AC117,AD117<AE117),0,IF(AND(AD117>=AE117,AD117<=AC117),P117*((AD117-AE117)*12),IF(AND(AE117<=AB117,AC117>=AB117),((AC117-AB117)*12)*P117,IF(AD117>AC117,12*P117,0)))))","v":0},{"$f":"IF(N117=0,0,IF(AND(AF117>=AE117,AF117<=AD117),((AF117-AE117)*12)*P117,0))","v":0},{"$f":"IF(R117>0,R117,Q117)","v":0},1,{"$f":"T117*SUM(Q117:R117)","v":0},{"$f":"IF(AB117>AC117,0,IF(AD117<AE117,O117,IF(AND(AD117>=AE117,AD117<=AC117),(O117-S117),IF(AND(AE117<=AB117,AC117>=AB117),0,IF(AD117>AC117,((AE117-AB117)*12)*P117,0)))))","v":7289.06},{"$f":"V117*T117","v":7289.06},1,{"$f":"W117*X117","v":7289.06},{"$f":"IF(N117>0,0,Y117+U117*X117)*X117","v":7289.06},{"$f":"IF(N117>0,(M117-Y117)/2,IF(AB117>=AE117,(((M117*T117)*X117)-Z117)/2,((((M117*T117)*X117)-Y117)+(((M117*T117)*X117)-Z117))/2))","v":0},{"$f":"$D117+(($E117-1)/12)","v":2008.5833333333333},{"$f":"($O$5+1)-($O$2/12)","v":2017.75},{"$f":"$J117+(($E117-1)/12)","v":2013.5833333333333},{"$f":"$O$4+($O$3/12)","v":2016.75},{"$f":"$K117+(($L117-1)/12)","v":-8.3333333333333329E-2},null,{"$f":"+IF((AD117-AE117)>3,((M117-O117)/(AD117-AE117)),(M117-O117)/3)","v":0},null,{"$f":"+AH117+U117","v":0},null,{"$f":"+IF(AD117<AE117,-AA117,0)","v":0},null,{"$f":"+IF(AD117>AC117,IF(AH117>0,IF(N117>0,(M117-Y117)/2,IF(AB117>=AE117,(((M117*T117)*X117)-(Z117+AH117))/2,((((M117*T117)*X117)-Y117)+(((M117*T117)*X117)-(Z117+AH117)))/2)),0),0)","v":0},null,{"$f":"+AA117+AL117+(IF(AN117>0,(AN117-AA117),0))","v":0}]
[null,null,"NETWORK LICENSES",2008,8,0,null,"S/L",5,2013,null,null,2795.18,null,2795.18,46.586333333333329,0,0,0,1,0,2795.18,2795.18,1,2795.18,2795.18,0,2008.5833333333333,2017.75,2013.5833333333333,2016.75,-8.3333333333333329E-2,null,{"$f":"+IF((AD118-AE118)>3,((M118-O118)/(AD118-AE118)),(M118-O118)/3)","v":0},null,{"$f":"+AH118+U118","v":0},null,{"$f":"+IF(AD118<AE118,-AA118,0)","v":0},null,{"$f":"+IF(AD118>AC118,IF(AH118>0,IF(N118>0,(M118-Y118)/2,IF(AB118>=AE118,(((M118*T118)*X118)-(Z118+AH118))/2,((((M118*T118)*X118)-Y118)+(((M118*T118)*X118)-(Z118+AH118)))/2)),0),0)","v":0},null,{"$f":"+AA118+AL118+(IF(AN118>0,(AN118-AA118),0))","v":0}]
[null,null,"DIAGNOSTIC SOFTWARE",2008,5,0,null,"S/L",5,2013,null,null,1689.5,null,1689.5,28.158333333333331,0,0,0,1,0,1689.5,1689.5,1,1689.5,1689.5,0,2008.3333333333333,2017.75,2013.3333333333333,2016.75,-8.3333333333333329E-2,null,0,null,0,null,0,null,0,null,0]
["75189",null,"RM LICENSES & 10 USERS CENTRALIA",2010,6,0,null,"S/L",3,2013,null,null,11150,null,11150,309.72222222222223,0,0,0,1,0,11150,11150,1,11150,11150,0,2010.4166666666667,2017.75,2013.4166666666667,2016.75,-8.3333333333333329E-2,null,0,null,0,null,0,null,0,null,0]
["85510",null,"HP PROBOOK 6450B & DOCKING STN",2011,7,0,null,"S/L",3,2014,null,null,978.9,null,978.9,27.191666666666666,0,0,0,1,0,978.9,978.9,1,978.9,978.9,0,2011.5,2017.75,2014.5,2016.75,-8.3333333333333329E-2,null,0,null,0,null,0,null,0,null,0]
["113273",null,"Wyse Winterms D10D",2014,4,0,null,"S/L",5,2019,null,null,651.76,null,651.76,10.862666666666668,130.352,0,130.352,1,130.352,325.88000000000005,325.88000000000005,1,325.88000000000005,456.23200000000008,260.70399999999995,2014.25,2017.75,2019.25,2016.75,-8.3333333333333329E-2,null,0,null,130.352,null,0,null,0,null,260.70399999999995]
["118603",null,"Volvo Diagnostic Software",2014,12,0,null,"S/L",3,2017,null,null,798,null,798,22.166666666666668,266,0,266,1,266,487.66666666664651,487.66666666664651,1,487.66666666664651,753.66666666664651,177.33333333335349,2014.9166666666667,2017.75,2017.9166666666667,2016.75,-8.3333333333333329E-2,null,0,null,266,null,0,null,0,null,177.33333333335349]
["117629",null,"Diagnostic Software for International Trucks",2014,11,0,null,"S/L",3,2017,null,null,861.84,null,861.84,23.94,287.28000000000003,0,287.28000000000003,1,287.28000000000003,550.62000000002183,550.62000000002183,1,550.62000000002183,837.90000000002192,167.57999999997816,2014.8333333333333,2017.75,2017.8333333333333,2016.75,-8.3333333333333329E-2,null,0,null,287.28000000000003,null,0,null,0,null,167.57999999997816]
["117342",null,"Panasonic Toughbook",2014,11,0,null,"S/L",3,2017,null,null,2051.8200000000002,null,2051.8200000000002,56.995000000000005,683.94,0,683.94,1,683.94,1310.8850000000518,1310.8850000000518,1,1310.8850000000518,1994.8250000000519,398.9649999999483,2014.8333333333333,2017.75,2017.8333333333333,2016.75,-8.3333333333333329E-2,null,0,null,683.94,null,0,null,0,null,398.9649999999483]
["116613",null,"Panasonic Toughbook",2014,9,0,null,"S/L",3,2017,null,null,1711,null,1711,47.527777777777779,522.80555555559874,0,522.80555555559874,1,522.80555555559874,1188.1944444444011,1188.1944444444011,1,1188.1944444444011,1711,261.40277777779943,2014.6666666666667,2017.75,2017.6666666666667,2016.75,-8.3333333333333329E-2,null,0,null,522.80555555559874,null,0,null,0,null,261.40277777779943]
["116111",null,"HP Prodesk 600 G1",2014,9,0,null,"S/L",3,2017,null,null,739.01,null,739.01,20.528055555555557,225.80861111112981,0,225.80861111112981,1,225.80861111112981,513.20138888887016,513.20138888887016,1,513.20138888887016,739.01,112.90430555556492,2014.6666666666667,2017.75,2017.6666666666667,2016.75,-8.3333333333333329E-2,null,0,null,225.80861111112981,null,0,null,0,null,112.90430555556492]
["116110",null,"HP Prodesk 600 G1",2014,9,0,null,"S/L",3,2017,null,null,731.58,null,731.58,20.321666666666669,223.53833333335183,0,223.53833333335183,1,223.53833333335183,508.04166666664821,508.04166666664821,1,508.04166666664821,731.58,111.76916666667591,2014.6666666666667,2017.75,2017.6666666666667,2016.75,-8.3333333333333329E-2,null,0,null,223.53833333335183,null,0,null,0,null,111.76916666667591]
["124988",null,"HP Prodesk 600 G1",2015,8,0,null,"S/L",3,2018,null,null,710.05,null,710.05,19.723611111111108,{"$f":"IF(N129>0,0,IF(OR(AB129>AC129,AD129<AE129),0,IF(AND(AD129>=AE129,AD129<=AC129),P129*((AD129-AE129)*12),IF(AND(AE129<=AB129,AC129>=AB129),((AC129-AB129)*12)*P129,IF(AD129>AC129,12*P129,0)))))","v":236.68333333333328},{"$f":"IF(N129=0,0,IF(AND(AF129>=AE129,AF129<=AD129),((AF129-AE129)*12)*P129,0))","v":0},{"$f":"IF(R129>0,R129,Q129)","v":236.68333333333328},1,{"$f":"T129*SUM(Q129:R129)","v":236.68333333333328},{"$f":"IF(AB129>AC129,0,IF(AD129<AE129,O129,IF(AND(AD129>=AE129,AD129<=AC129),(O129-S129),IF(AND(AE129<=AB129,AC129>=AB129),0,IF(AD129>AC129,((AE129-AB129)*12)*P129,0)))))","v":276.13055555557344},{"$f":"V129*T129","v":276.13055555557344},1,{"$f":"W129*X129","v":276.13055555557344},{"$f":"IF(N129>0,0,Y129+U129*X129)*X129","v":512.81388888890672},{"$f":"IF(N129>0,(M129-Y129)/2,IF(AB129>=AE129,(((M129*T129)*X129)-Z129)/2,((((M129*T129)*X129)-Y129)+(((M129*T129)*X129)-Z129))/2))","v":315.57777777775988},2015.5833333333333,2017.75,2018.5833333333333,2016.75,-8.3333333333333329E-2,null,0,null,236.68333333333328,null,0,null,0,null,315.57777777775988]
["127549",null,"HP Probook 640 G1 ",2015,11,0,null,"S/L",3,2018,null,null,1120.06,null,1120.06,{"$f":"O130/I130/12","v":31.112777777777776},{"$f":"IF(N130>0,0,IF(OR(AB130>AC130,AD130<AE130),0,IF(AND(AD130>=AE130,AD130<=AC130),P130*((AD130-AE130)*12),IF(AND(AE130<=AB130,AC130>=AB130),((AC130-AB130)*12)*P130,IF(AD130>AC130,12*P130,0)))))","v":373.3533333333333},{"$f":"IF(N130=0,0,IF(AND(AF130>=AE130,AF130<=AD130),((AF130-AE130)*12)*P130,0))","v":0},{"$f":"IF(R130>0,R130,Q130)","v":373.3533333333333},1,{"$f":"T130*SUM(Q130:R130)","v":373.3533333333333},{"$f":"IF(AB130>AC130,0,IF(AD130<AE130,O130,IF(AND(AD130>=AE130,AD130<=AC130),(O130-S130),IF(AND(AE130<=AB130,AC130>=AB130),0,IF(AD130>AC130,((AE130-AB130)*12)*P130,0)))))","v":342.24055555558385},{"$f":"V130*T130","v":342.24055555558385},1,{"$f":"W130*X130","v":342.24055555558385},{"$f":"IF(N130>0,0,Y130+U130*X130)*X130","v":715.59388888891715},{"$f":"IF(N130>0,(M130-Y130)/2,IF(AB130>=AE130,(((M130*T130)*X130)-Z130)/2,((((M130*T130)*X130)-Y130)+(((M130*T130)*X130)-Z130))/2))","v":591.14277777774942},2015.8333333333333,2017.75,2018.8333333333333,2016.75,-8.3333333333333329E-2,null,0,null,373.3533333333333,null,0,null,0,null,591.14277777774942]
[]
[null,null,"TOTAL SOFTWARE AND COMPUTER UPGRADES FOR OFFICE",null,null,null,null,null,null,null,null,null,{"$f":"SUM(M117:M131)","v":33277.759999999995},null,{"$f":"SUM(O117:O131)","v":33277.759999999995},{"$f":"SUM(P117:P131)","v":786.32111111111124},{"$f":"SUM(Q117:Q131)","v":2949.7611666667472},null,{"$f":"SUM(S117:S131)","v":2949.7611666667472},null,{"$f":"SUM(U117:U131)","v":2949.7611666667472},{"$f":"SUM(V117:V131)","v":29405.500277777799},{"$f":"SUM(W117:W131)","v":29405.500277777799},null,{"$f":"SUM(Y117:Y131)","v":29405.500277777799},{"$f":"SUM(Z117:Z131)","v":32355.261444444546},{"$f":"SUM(AA117:AA131)","v":2397.3791388888294},null,null,null,null,null,null,{"$f":"SUM(AH117:AH131)","v":0},0,2949.7611666667472,0,0,0,0,0,2397.3791388888294]
[]
[null,null,"RECYCLING BALER"]
[]
["93663",null,"Horizontal Bailer/ In- Ground Conveyor",2008,11,0,null,"S/L",null,null,null,null,null,null,null,null,null,null,null,null,null,null,null,null,null,null,null,null,null,null,null,null,null,{"$f":"+IF((AD136-AE136)>3,((M136-O136)/(AD136-AE136)),(M136-O136)/3)","v":0},null,{"$f":"+AH136+U136","v":0},null,{"$f":"+IF(AD136<AE136,-AA136,0)","v":0},null,{"$f":"+IF(AD136>AC136,IF(AH136>0,IF(N136>0,(M136-Y136)/2,IF(AB136>=AE136,(((M136*T136)*X136)-(Z136+AH136))/2,((((M136*T136)*X136)-Y136)+(((M136*T136)*X136)-(Z136+AH136)))/2)),0),0)","v":0},null,{"$f":"+AA136+AL136+(IF(AN136>0,(AN136-AA136),0))","v":0}]
["96248",null,"Rebuild Horizontal Baler",2012,5,0,null,"S/L",3,{"$f":"D137+I137","v":2015},null,null,10765.73,null,{"$f":"M137-M137*F137","v":10765.73},{"$f":"O137/I137/12","v":299.04805555555555},{"$f":"IF(N137>0,0,IF(OR(AB137>AC137,AD137<AE137),0,IF(AND(AD137>=AE137,AD137<=AC137),P137*((AD137-AE137)*12),IF(AND(AE137<=AB137,AC137>=AB137),((AC137-AB137)*12)*P137,IF(AD137>AC137,12*P137,0)))))","v":0},{"$f":"IF(N137=0,0,IF(AND(AF137>=AE137,AF137<=AD137),((AF137-AE137)*12)*P137,0))","v":0},{"$f":"IF(R137>0,R137,Q137)","v":0},1,{"$f":"T137*SUM(Q137:R137)","v":0},{"$f":"IF(AB137>AC137,0,IF(AD137<AE137,O137,IF(AND(AD137>=AE137,AD137<=AC137),(O137-S137),IF(AND(AE137<=AB137,AC137>=AB137),0,IF(AD137>AC137,((AE137-AB137)*12)*P137,0)))))","v":10765.73},{"$f":"V137*T137","v":10765.73},1,{"$f":"W137*X137","v":10765.73},{"$f":"IF(N137>0,0,Y137+U137*X137)*X137","v":10765.73},{"$f":"IF(N137>0,(M137-Y137)/2,IF(AB137>=AE137,(((M137*T137)*X137)-Z137)/2,((((M137*T137)*X137)-Y137)+(((M137*T137)*X137)-Z137))/2))","v":0},{"$f":"$D137+(($E137-1)/12)","v":2012.3333333333333},{"$f":"($O$5+1)-($O$2/12)","v":2017.75},{"$f":"$J137+(($E137-1)/12)","v":2015.3333333333333},{"$f":"$O$4+($O$3/12)","v":2016.75},{"$f":"$K137+(($L137-1)/12)","v":-8.3333333333333329E-2},null,{"$f":"+IF((AD137-AE137)>3,((M137-O137)/(AD137-AE137)),(M137-O137)/3)","v":0},null,{"$f":"+AH137+U137","v":0},null,{"$f":"+IF(AD137<AE137,-AA137,0)","v":0},null,{"$f":"+IF(AD137>AC137,IF(AH137>0,IF(N137>0,(M137-Y137)/2,IF(AB137>=AE137,(((M137*T137)*X137)-(Z137+AH137))/2,((((M137*T137)*X137)-Y137)+(((M137*T137)*X137)-(Z137+AH137)))/2)),0),0)","v":0},null,{"$f":"+AA137+AL137+(IF(AN137>0,(AN137-AA137),0))","v":0}]
["95401",null,"Portable Loading Ramp",2012,7,0,null,"d",3,{"$f":"D138+I138","v":2015},null,null,8532.31,null,{"$f":"M138-M138*F138","v":8532.31},{"$f":"O138/I138/12","v":237.00861111111109},{"$f":"IF(N138>0,0,IF(OR(AB138>AC138,AD138<AE138),0,IF(AND(AD138>=AE138,AD138<=AC138),P138*((AD138-AE138)*12),IF(AND(AE138<=AB138,AC138>=AB138),((AC138-AB138)*12)*P138,IF(AD138>AC138,12*P138,0)))))","v":0},{"$f":"IF(N138=0,0,IF(AND(AF138>=AE138,AF138<=AD138),((AF138-AE138)*12)*P138,0))","v":0},{"$f":"IF(R138>0,R138,Q138)","v":0},1,{"$f":"T138*SUM(Q138:R138)","v":0},{"$f":"IF(AB138>AC138,0,IF(AD138<AE138,O138,IF(AND(AD138>=AE138,AD138<=AC138),(O138-S138),IF(AND(AE138<=AB138,AC138>=AB138),0,IF(AD138>AC138,((AE138-AB138)*12)*P138,0)))))","v":8532.31},{"$f":"V138*T138","v":8532.31},1,{"$f":"W138*X138","v":8532.31},{"$f":"IF(N138>0,0,Y138+U138*X138)*X138","v":8532.31},{"$f":"IF(N138>0,(M138-Y138)/2,IF(AB138>=AE138,(((M138*T138)*X138)-Z138)/2,((((M138*T138)*X138)-Y138)+(((M138*T138)*X138)-Z138))/2))","v":0},{"$f":"$D138+(($E138-1)/12)","v":2012.5},{"$f":"($O$5+1)-($O$2/12)","v":2017.75},{"$f":"$J138+(($E138-1)/12)","v":2015.5},{"$f":"$O$4+($O$3/12)","v":2016.75},{"$f":"$K138+(($L138-1)/12)","v":-8.3333333333333329E-2},null,{"$f":"+IF((AD138-AE138)>3,((M138-O138)/(AD138-AE138)),(M138-O138)/3)","v":0},null,{"$f":"+AH138+U138","v":0},null,{"$f":"+IF(AD138<AE138,-AA138,0)","v":0},null,{"$f":"+IF(AD138>AC138,IF(AH138>0,IF(N138>0,(M138-Y138)/2,IF(AB138>=AE138,(((M138*T138)*X138)-(Z138+AH138))/2,((((M138*T138)*X138)-Y138)+(((M138*T138)*X138)-(Z138+AH138)))/2)),0),0)","v":0},null,{"$f":"+AA138+AL138+(IF(AN138>0,(AN138-AA138),0))","v":0}]
[]
[null,null,"TOTAL RECYCLING BALER",null,null,null,null,null,null,null,null,null,{"$f":"SUM(M136:M139)","v":19298.04},null,{"$f":"SUM(O136:O139)","v":19298.04},{"$f":"SUM(P136:P139)","v":536.05666666666662},{"$f":"SUM(Q136:Q139)","v":0},null,{"$f":"SUM(S136:S139)","v":0},null,{"$f":"SUM(U136:U139)","v":0},{"$f":"SUM(V136:V139)","v":19298.04},{"$f":"SUM(W136:W139)","v":19298.04},null,{"$f":"SUM(Y136:Y139)","v":19298.04},{"$f":"SUM(Z136:Z139)","v":19298.04},{"$f":"SUM(AA136:AA139)","v":0},null,null,null,null,null,null,{"$f":"SUM(AH136:AH139)","v":0},0,0,0,0,0,0,0,0]
[]
[null,null,"GRAND TOTAL",null,null,null,null,null,null,null,null,null,{"$f":"SUM(M132,M112,M74,M51,M28,M86,M140)","v":2074649.78},null,{"$f":"SUM(O132,O112,O74,O51,O28,O86,O140)","v":2043269.4710000001},{"$f":"SUM(P132,P112,P74,P51,P28,P86,P140)","v":11746.465142843694},{"$f":"SUM(Q132,Q112,Q74,Q51,Q28,Q86,Q140)","v":88493.560761904868},null,{"$f":"SUM(S132,S112,S74,S51,S28,S86,S140)","v":32042.149351648477},null,{"$f":"SUM(U132,U112,U74,U51,U28,U86,U140)","v":43259.943428571554},{"$f":"SUM(V132,V112,V74,V51,V28,V86,V140)","v":705825.18362210004},{"$f":"SUM(W132,W112,W74,W51,W28,W86,W140)","v":705825.18362210004},null,{"$f":"SUM(Y132,Y112,Y74,Y51,Y28,Y86,Y140)","v":1010266.5639554302},{"$f":"SUM(Z132,Z112,Z74,Z51,Z28,Z86,Z140)","v":1098760.1247173348},{"$f":"SUM(AA132,AA112,AA74,AA51,AA28,AA86,AA140)","v":1018305.3206636177},null,null,null,null,null,null,{"$f":"SUM(AH132,AH112,AH74,AH51,AH28,AH86,AH140)","v":10057.09759459459},0,98550.658356499465,0,-14916.759,0,29234.174131273856,0,1001143.4143663204]
[]
[]
[]
[]
[]
[]
[]
[]
[]
[]
[]
[null,null,"Transferred/Retired 2015"]
["81716",6001,"1986 GMC PICK-UP - PARTS TRUCK (U)",2009,1,0.33,null,"S/L",5,{"$f":"D155+I155","v":2014},null,null,2500,null,{"$f":"M155-M155*F155","v":1675},{"$f":"O155/I155/12","v":27.916666666666668},{"$f":"IF(N155>0,0,IF(OR(AB155>AC155,AD155<AE155),0,IF(AND(AD155>=AE155,AD155<=AC155),P155*((AD155-AE155)*12),IF(AND(AE155<=AB155,AC155>=AB155),((AC155-AB155)*12)*P155,IF(AD155>AC155,12*P155,0)))))","v":0},{"$f":"IF(N155=0,0,IF(AND(AF155>=AE155,AF155<=AD155),((AF155-AE155)*12)*P155,0))","v":0},{"$f":"IF(R155>0,R155,Q155)","v":0},1,{"$f":"T155*SUM(Q155:R155)","v":0},{"$f":"IF(AB155>AC155,0,IF(AD155<AE155,O155,IF(AND(AD155>=AE155,AD155<=AC155),(O155-S155),IF(AND(AE155<=AB155,AC155>=AB155),0,IF(AD155>AC155,((AE155-AB155)*12)*P155,0)))))","v":1675},{"$f":"V155*T155","v":1675},1,{"$f":"W155*X155","v":1675},{"$f":"IF(N155>0,0,Y155+U155*X155)*X155","v":1675},{"$f":"IF(N155>0,(M155-Y155)/2,IF(AB155>=AE155,(((M155*T155)*X155)-Z155)/2,((((M155*T155)*X155)-Y155)+(((M155*T155)*X155)-Z155))/2))","v":825},{"$f":"$D155+(($E155-1)/12)","v":2009},{"$f":"($O$5+1)-($O$2/12)","v":2017.75},{"$f":"$J155+(($E155-1)/12)","v":2014},{"$f":"$O$4+($O$3/12)","v":2016.75},{"$f":"$K155+(($L155-1)/12)","v":-8.3333333333333329E-2}]
[]
[null,null,"Transferred/Retired 2016"]
[125247,6037,"2006 Chevy Colorado Supervisor Pick-UP (U)",2008,11,0.33,null,"S/L",5,{"$f":"D158+I158","v":2013},null,null,12500,null,{"$f":"M158-M158*F158","v":8375},{"$f":"O158/I158/12","v":139.58333333333334},{"$f":"IF(N158>0,0,IF(OR(AB158>AC158,AD158<AE158),0,IF(AND(AD158>=AE158,AD158<=AC158),P158*((AD158-AE158)*12),IF(AND(AE158<=AB158,AC158>=AB158),((AC158-AB158)*12)*P158,IF(AD158>AC158,12*P158,0)))))","v":0},{"$f":"IF(N158=0,0,IF(AND(AF158>=AE158,AF158<=AD158),((AF158-AE158)*12)*P158,0))","v":0},{"$f":"IF(R158>0,R158,Q158)","v":0},1,{"$f":"T158*SUM(Q158:R158)","v":0},{"$f":"IF(AB158>AC158,0,IF(AD158<AE158,O158,IF(AND(AD158>=AE158,AD158<=AC158),(O158-S158),IF(AND(AE158<=AB158,AC158>=AB158),0,IF(AD158>AC158,((AE158-AB158)*12)*P158,0)))))","v":8375},{"$f":"V158*T158","v":8375},1,{"$f":"W158*X158","v":8375},{"$f":"IF(N158>0,0,Y158+U158*X158)*X158","v":8375},{"$f":"IF(N158>0,(M158-Y158)/2,IF(AB158>=AE158,(((M158*T158)*X158)-Z158)/2,((((M158*T158)*X158)-Y158)+(((M158*T158)*X158)-Z158))/2))","v":4125},{"$f":"$D158+(($E158-1)/12)","v":2008.8333333333333},{"$f":"($O$5+1)-($O$2/12)","v":2017.75},{"$f":"$J158+(($E158-1)/12)","v":2013.8333333333333},{"$f":"$O$4+($O$3/12)","v":2016.75},{"$f":"$K158+(($L158-1)/12)","v":-8.3333333333333329E-2}]
[]
[]
[]
[]
[]
[]
[]
[]
[]
[]
[]
[null,null,"ASSETS BELOW WERE DELETED IN 2011 PER CLEAN UP DONE BY DISTRICT."]
[null,null,"SLC CARD & MODEMS",1997,3,0,null,"S/L",5,{"$f":"D171+I171","v":2002},null,null,1181,0,{"$f":"M171-M171*F171","v":1181},{"$f":"O171/I171/12","v":19.683333333333334},{"$f":"IF(N171>0,0,IF(OR(AB171>AC171,AD171<AE171),0,IF(AND(AD171>=AE171,AD171<=AC171),P171*((AD171-AE171)*12),IF(AND(AE171<=AB171,AC171>=AB171),((AC171-AB171)*12)*P171,IF(AD171>AC171,12*P171,0)))))","v":0},{"$f":"IF(N171=0,0,IF(AND(AF171>=AE171,AF171<=AD171),((AF171-AE171)*12)*P171,0))","v":0},{"$f":"IF(R171>0,R171,Q171)","v":0},1,{"$f":"T171*SUM(Q171:R171)","v":0},{"$f":"IF(AB171>AC171,0,IF(AD171<AE171,O171,IF(AND(AD171>=AE171,AD171<=AC171),(O171-S171),IF(AND(AE171<=AB171,AC171>=AB171),0,IF(AD171>AC171,((AE171-AB171)*12)*P171,0)))))","v":1181},{"$f":"V171*T171","v":1181},1,{"$f":"W171*X171","v":1181},{"$f":"IF(N171>0,0,Y171+U171*X171)*X171","v":1181},{"$f":"IF(N171>0,(M171-Y171)/2,IF(AB171>=AE171,(((M171*T171)*X171)-Z171)/2,((((M171*T171)*X171)-Y171)+(((M171*T171)*X171)-Z171))/2))","v":0},{"$f":"$D171+(($E171-1)/12)","v":1997.1666666666667},{"$f":"($O$5+1)-($O$2/12)","v":2017.75},{"$f":"$J171+(($E171-1)/12)","v":2002.1666666666667},{"$f":"$O$4+($O$3/12)","v":2016.75},{"$f":"$K171+(($L171-1)/12)","v":-8.3333333333333329E-2}]
[null,null,"CENTRALIA PHONE SYSTEM",2000,5,0,null,"S/L",5,{"$f":"D172+I172","v":2005},null,null,7881.34,0,{"$f":"M172-M172*F172","v":7881.34},{"$f":"O172/I172/12","v":131.35566666666668},{"$f":"IF(N172>0,0,IF(OR(AB172>AC172,AD172<AE172),0,IF(AND(AD172>=AE172,AD172<=AC172),P172*((AD172-AE172)*12),IF(AND(AE172<=AB172,AC172>=AB172),((AC172-AB172)*12)*P172,IF(AD172>AC172,12*P172,0)))))","v":0},{"$f":"IF(N172=0,0,IF(AND(AF172>=AE172,AF172<=AD172),((AF172-AE172)*12)*P172,0))","v":0},{"$f":"IF(R172>0,R172,Q172)","v":0},1,{"$f":"T172*SUM(Q172:R172)","v":0},{"$f":"IF(AB172>AC172,0,IF(AD172<AE172,O172,IF(AND(AD172>=AE172,AD172<=AC172),(O172-S172),IF(AND(AE172<=AB172,AC172>=AB172),0,IF(AD172>AC172,((AE172-AB172)*12)*P172,0)))))","v":7881.34},{"$f":"V172*T172","v":7881.34},1,{"$f":"W172*X172","v":7881.34},{"$f":"IF(N172>0,0,Y172+U172*X172)*X172","v":7881.34},{"$f":"IF(N172>0,(M172-Y172)/2,IF(AB172>=AE172,(((M172*T172)*X172)-Z172)/2,((((M172*T172)*X172)-Y172)+(((M172*T172)*X172)-Z172))/2))","v":0},{"$f":"$D172+(($E172-1)/12)","v":2000.3333333333333},{"$f":"($O$5+1)-($O$2/12)","v":2017.75},{"$f":"$J172+(($E172-1)/12)","v":2005.3333333333333},{"$f":"$O$4+($O$3/12)","v":2016.75},{"$f":"$K172+(($L172-1)/12)","v":-8.3333333333333329E-2}]
[null,null,"CENTRALIA LASER PRINTER",2001,5,0,null,"S/L",5,{"$f":"D173+I173","v":2006},null,null,2783.48,0,{"$f":"M173-M173*F173","v":2783.48},{"$f":"O173/I173/12","v":46.391333333333336},{"$f":"IF(N173>0,0,IF(OR(AB173>AC173,AD173<AE173),0,IF(AND(AD173>=AE173,AD173<=AC173),P173*((AD173-AE173)*12),IF(AND(AE173<=AB173,AC173>=AB173),((AC173-AB173)*12)*P173,IF(AD173>AC173,12*P173,0)))))","v":0},{"$f":"IF(N173=0,0,IF(AND(AF173>=AE173,AF173<=AD173),((AF173-AE173)*12)*P173,0))","v":0},{"$f":"IF(R173>0,R173,Q173)","v":0},1,{"$f":"T173*SUM(Q173:R173)","v":0},{"$f":"IF(AB173>AC173,0,IF(AD173<AE173,O173,IF(AND(AD173>=AE173,AD173<=AC173),(O173-S173),IF(AND(AE173<=AB173,AC173>=AB173),0,IF(AD173>AC173,((AE173-AB173)*12)*P173,0)))))","v":2783.48},{"$f":"V173*T173","v":2783.48},1,{"$f":"W173*X173","v":2783.48},{"$f":"IF(N173>0,0,Y173+U173*X173)*X173","v":2783.48},{"$f":"IF(N173>0,(M173-Y173)/2,IF(AB173>=AE173,(((M173*T173)*X173)-Z173)/2,((((M173*T173)*X173)-Y173)+(((M173*T173)*X173)-Z173))/2))","v":0},{"$f":"$D173+(($E173-1)/12)","v":2001.3333333333333},{"$f":"($O$5+1)-($O$2/12)","v":2017.75},{"$f":"$J173+(($E173-1)/12)","v":2006.3333333333333},{"$f":"$O$4+($O$3/12)","v":2016.75},{"$f":"$K173+(($L173-1)/12)","v":-8.3333333333333329E-2}]
[null,null,"MINOLTA COPIER",2004,4,0,null,"S/L",5,{"$f":"D174+I174","v":2009},null,null,2905.21,0,{"$f":"M174-M174*F174","v":2905.21},{"$f":"O174/I174/12","v":48.420166666666667},{"$f":"IF(N174>0,0,IF(OR(AB174>AC174,AD174<AE174),0,IF(AND(AD174>=AE174,AD174<=AC174),P174*((AD174-AE174)*12),IF(AND(AE174<=AB174,AC174>=AB174),((AC174-AB174)*12)*P174,IF(AD174>AC174,12*P174,0)))))","v":0},{"$f":"IF(N174=0,0,IF(AND(AF174>=AE174,AF174<=AD174),((AF174-AE174)*12)*P174,0))","v":0},{"$f":"IF(R174>0,R174,Q174)","v":0},1,{"$f":"T174*SUM(Q174:R174)","v":0},{"$f":"IF(AB174>AC174,0,IF(AD174<AE174,O174,IF(AND(AD174>=AE174,AD174<=AC174),(O174-S174),IF(AND(AE174<=AB174,AC174>=AB174),0,IF(AD174>AC174,((AE174-AB174)*12)*P174,0)))))","v":2905.21},{"$f":"V174*T174","v":2905.21},1,{"$f":"W174*X174","v":2905.21},{"$f":"IF(N174>0,0,Y174+U174*X174)*X174","v":2905.21},{"$f":"IF(N174>0,(M174-Y174)/2,IF(AB174>=AE174,(((M174*T174)*X174)-Z174)/2,((((M174*T174)*X174)-Y174)+(((M174*T174)*X174)-Z174))/2))","v":0},{"$f":"$D174+(($E174-1)/12)","v":2004.25},{"$f":"($O$5+1)-($O$2/12)","v":2017.75},{"$f":"$J174+(($E174-1)/12)","v":2009.25},{"$f":"$O$4+($O$3/12)","v":2016.75},{"$f":"$K174+(($L174-1)/12)","v":-8.3333333333333329E-2}]
[null,null,"HP LASERJET 4350DTN",2005,7,0,null,"S/L",5,{"$f":"D175+I175","v":2010},null,null,2506.75,0,{"$f":"M175-M175*F175","v":2506.75},{"$f":"O175/I175/12","v":41.779166666666669},{"$f":"IF(N175>0,0,IF(OR(AB175>AC175,AD175<AE175),0,IF(AND(AD175>=AE175,AD175<=AC175),P175*((AD175-AE175)*12),IF(AND(AE175<=AB175,AC175>=AB175),((AC175-AB175)*12)*P175,IF(AD175>AC175,12*P175,0)))))","v":0},{"$f":"IF(N175=0,0,IF(AND(AF175>=AE175,AF175<=AD175),((AF175-AE175)*12)*P175,0))","v":0},{"$f":"IF(R175>0,R175,Q175)","v":0},1,{"$f":"T175*SUM(Q175:R175)","v":0},{"$f":"IF(AB175>AC175,0,IF(AD175<AE175,O175,IF(AND(AD175>=AE175,AD175<=AC175),(O175-S175),IF(AND(AE175<=AB175,AC175>=AB175),0,IF(AD175>AC175,((AE175-AB175)*12)*P175,0)))))","v":2506.75},{"$f":"V175*T175","v":2506.75},1,{"$f":"W175*X175","v":2506.75},{"$f":"IF(N175>0,0,Y175+U175*X175)*X175","v":2506.75},{"$f":"IF(N175>0,(M175-Y175)/2,IF(AB175>=AE175,(((M175*T175)*X175)-Z175)/2,((((M175*T175)*X175)-Y175)+(((M175*T175)*X175)-Z175))/2))","v":0},{"$f":"$D175+(($E175-1)/12)","v":2005.5},{"$f":"($O$5+1)-($O$2/12)","v":2017.75},{"$f":"$J175+(($E175-1)/12)","v":2010.5},{"$f":"$O$4+($O$3/12)","v":2016.75},{"$f":"$K175+(($L175-1)/12)","v":-8.3333333333333329E-2}]