{"text_format":"1","workbook":"xlsx","n_sheets":7,"sheets":["Acerno_Cache_XXXXX","12.2018 Data","A&G functionalization","Org functional rollups","Org Pivot","2016 update ORG","Macro1"],"not_rendered":{"charts":0,"images":0,"macros":0,"external_links":0,"defined_names":11,"comments":1,"pivot_tables":1},"unopened":[],"bounds":{"document_bytes":16777216,"sheet_cells":100000,"rows_first":2000,"rows_last":500,"rows_between":2000,"halvings":0,"cell_chars":16384,"cell_head_chars":4096},"cells_cut":0,"cells_raw":0,"read":"whole","date_system":"1900"}

{"sheet":"Acerno_Cache_XXXXX","index":0,"n_rows":0,"n_cols":0,"rows_kept":0,"cut":false,"hidden":true,"merged":[]}

{"sheet":"12.2018 Data","index":1,"n_rows":1390,"n_cols":10,"rows_kept":1390,"cut":false,"hidden":false,"merged":[]}
["Ferc Acct","Expenditure Organization","Service","Jurisdiction","Report Category","Transaction Amt SUM","Electric Amt SUM","Gas North Amt SUM","Gas South Amt SUM","Not Assigned Amt SUM"]
["920000","000","CD","AN","OPER",1.78,1.38,0.4]
["920000","000","CD","AA","OPER",264093.08,185221.67,54268.47,24602.94]
["920000","000","ZZ","ZZ","OPER",0,null,null,null,0]
["920000","000","ED","AN","OPER",2.62,2.62]
["920000","A01","ED","AN","OPER",113582.74,113582.74]
["920000","A02","CD","AA","OPER",237867.37,166828.32999999999,48879.42,22159.62]
["920000","A04","CD","AA","OPER",1582.12,1109.6199999999999,325.11,147.38999999999999]
["920000","A07","CD","AA","OPER",1060.33,743.66,217.89,98.78]
["920000","A19","CD","WA","OPER",14352.36,11153.93,3198.43]
["920000","A19","CD","AA","OPER",198058.83,138908.54,40699.050000000003,18451.240000000002]
["920000","A19","CD","AN","OPER",40.630000000000003,31.58,9.0500000000000007]
["920000","A39","CD","AA","OPER",8125,5698.49,1669.62,756.89]
["920000","A50","CD","AA","OPER",1083.1400000000001,759.65,222.57,100.92]
["920000","A54","ED","WA","OPER",42768.18,42768.18]
["920000","A54","CD","AA","OPER",374025.04,262322.48,76858.42,34844.14]
["920000","A56","CD","AA","OPER",286.05,200.62,58.78,26.65]
["920000","A57","CD","AA","OPER",373396.5,261881.66,76729.22,34785.620000000003]
["920000","A57","ED","AN","OPER",46.85,46.85]
["920000","A81","CD","AA","OPER",1240.0899999999999,869.73,254.83,115.53]
["920000","A81","GD","AA","OPER",4451.32,null,3051.91,1399.41]
["920000","A82","CD","AA","OPER",324.02,227.26,66.58,30.18]
["920000","B02","CD","AA","OPER",260531.42,182723.62,53536.69,24271.11]
["920000","B04","CD","AA","OPER",2183.59,1531.46,448.7,203.43]
["920000","B07","CD","AA","OPER",3398.03,2383.23,698.27,316.52999999999997]
["920000","B08","CD","AA","OPER",326811.32,229209.08,67156.31,30445.93]
["920000","B09","ED","AN","OPER",11141.32,11141.32]
["920000","B09","CD","AA","OPER",808929.32,567342.71,166226.9,75359.710000000006]
["920000","B09","CD","AN","OPER",60428.77,46962.23,13466.54]
["920000","B16","CD","AA","OPER",58977.54,41363.839999999997,12119.28,5494.42]
["920000","B50","ED","AN","OPER",1500,1500]
["920000","B50","CD","AA","OPER",4137.99,2902.19,850.32,385.48]
["920000","B51","CD","AA","OPER",5651.02,3963.34,1161.23,526.45000000000005]
["920000","B51","GD","AA","OPER",4741.6000000000004,null,3250.93,1490.67]
["920000","B52","GD","AA","OPER",153.02000000000001,null,104.91,48.11]
["920000","B54","GD","AA","OPER",975.06,null,668.52,306.54000000000002]
["920000","B54","CD","AA","OPER",218.81,153.46,44.97,20.38]
["920000","C04","CD","AA","OPER",13770.94,9658.24,2829.8,1282.9000000000001]
["920000","C07","CD","AA","OPER",6141.59,4307.3999999999996,1262.04,572.15]
["920000","C08","CD","AA","OPER",97999.69,68732.06,20138,9129.6299999999992]
["920000","C09","ED","AN","OPER",86583.6,86583.6]
["920000","C09","CD","AA","OPER",192129.25,134749.71,39480.699999999997,17898.84]
["920000","C11","CD","WA","OPER",3692.94,2869.96,822.98]
["920000","C11","CD","AA","OPER",317035.92,222353.17,65147.7,29535.05]
["920000","C19","CD","AN","OPER",317.5,246.74,70.760000000000005]
["920000","C19","ED","AN","OPER",2675.58,2675.58]
["920000","C19","CD","AA","OPER",455591.96,319529.26,93619.58,42443.12]
["920000","C50","CD","AA","OPER",2986.18,2094.36,613.63,278.19]
["920000","C51","CD","AA","OPER",40433.22,28357.81,8308.6299999999992,3766.78]
["920000","C53","CD","AA","OPER",902.22,632.77,185.4,84.05]
["920000","C54","CD","AA","OPER",512940.11,359750.53,105404.05,47785.53]
["920000","C56","CD","AA","OPER",2098.65,1471.9,431.26,195.49]
["920000","C57","CD","AA","OPER",2355.92,1652.33,484.12,219.47]
["920000","C59","CD","AA","OPER",104515.35,73301.91,21476.87,9736.57]
["920000","D08","ED","AN","OPER",-5919.49,-5919.49]
["920000","D08","CD","AA","OPER",43095.19,30224.85,8855.67,4014.67]
["920000","D09","ED","AN","OPER",189444.9,189444.9]
["920000","D50","CD","AA","OPER",67936.759999999995,47647.44,13960.33,6328.99]
["920000","D50","CD","AN","OPER",297.25,231,66.25]
["920000","D53","CD","AA","OPER",218.2,153.04,44.84,20.32]
["920000","D53","CD","AN","OPER",1250,971.44,278.56]
["920000","D54","CD","AA","OPER",324306.40000000002,227452.28,66641.67,30212.45]
["920000","E01","CD","AA","OPER",2569452.58,1802085.53,527996.87,239370.18]
["920000","E02","CD","AA","OPER",128433.26,90076.67,26391.75,11964.84]
["920000","E07","ED","AN","OPER",2996.37,2996.37]
["920000","E07","CD","AA","OPER",10556.29,7403.62,2169.1799999999998,983.49]
["920000","E09","CD","AA","OPER",57551.34,40363.64,11826.2,5361.5]
["920000","E14","CD","AN","OPER",42306.34,32878.39,9427.9500000000007]
["920000","E14","CD","AA","OPER",264427.26,185456.12,54337.17,24633.97]
["920000","E14","ED","AN","OPER",33959.65,33959.65]
["920000","E19","CD","AN","OPER",180.25,140.09,40.159999999999997]
["920000","E19","CD","AA","OPER",458166.88,321335.42,94148.96,42682.5]
["920000","E50","CD","AA","OPER",10430.33,7315.31,2143.3200000000002,971.7]
["920000","E51","CD","AA","OPER",46349.91,32507.5,9524.44,4317.97]
["920000","E51","CD","AN","OPER",9123.0499999999993,7089.98,2033.07]
["920000","E55","CD","AA","OPER",13435.01,9422.65,2760.74,1251.6199999999999]
["920000","F02","CD","AA","OPER",227595.27,159623.99,46768.69,21202.59]
["920000","F08","CD","AA","OPER",461.7,323.81,94.87,43.02]
["920000","F19","CD","AA","OPER",237705.74,166714.91,48846.16,22144.67]
["920000","F39","CD","AA","OPER",25656.73,17994.29,5272.2,2390.2399999999998]
["920000","F50","CD","AA","OPER",8501.49,5962.51,1746.97,792.01]
["920000","F52","GD","AA","OPER",1129.6199999999999,null,774.49,355.13]
["920000","F53","CD","WA","OPER",9674.76,7518.65,2156.11]
["920000","F53","CD","ID","OPER",22903.4,17799.38,5104.0200000000004]
["920000","F54","CD","AA","OPER",397803.85,278999.77,81744.850000000006,37059.230000000003]
["920000","F55","CD","AA","OPER",613489.41,430270.77,126066,57152.639999999999]
["920000","F55","ED","AN","OPER",6484.33,6484.33]
["920000","F55","GD","AA","OPER",6484.33,null,4445.78,2038.55]
["920000","G02","CD","AA","OPER",249291.62,174840.63,51226.97,23224.02]
["920000","G02","CD","WA","OPER",528.9,411.03,117.87]
["920000","G08","CD","AA","OPER",3570.9,2504.46,733.78,332.66]
["920000","G39","CD","AA","OPER",15814.67,11091.65,3249.77,1473.25]
["920000","G50","CD","AA","OPER",10900.58,7645.14,2239.96,1015.48]
["920000","G51","CD","AA","OPER",8501.99,5962.88,1747.07,792.04]
["920000","G53","CD","ID","OPER",59189.42,45999.03,13190.39]
["920000","G54","CD","AA","OPER",35870.19,25157.55,7370.98,3341.66]
["920000","H02","CD","AA","OPER",170016.92,119241.31,34936.910000000003,15838.7]
["920000","H04","CD","AA","OPER",60.21,42.23,12.37,5.61]
["920000","H07","CD","AA","OPER",24621.69,17268.43,5059.51,2293.75]
["920000","H14","CD","WA","OPER",29962.560000000001,23285.45,6677.11]
["920000","H14","CD","AA","OPER",129773.65,91016.76,26667.16,12089.73]
["920000","H14","CD","ID","OPER",10213.049999999999,7937.17,2275.88]
["920000","H51","CD","AA","OPER",716080.48,502223.11,147147.42000000001,66709.95]
["920000","H54","CD","AA","OPER",238497.14,167270.06,49008.85,22218.23]
["920000","I02","CD","AA","OPER",556475.47,390283.99,114350.17,51841.31]
["920000","I02","CD","WA","OPER",12614.16,9803.09,2811.07]
["920000","I08","CD","AA","OPER",180734.49,126758.12,37139.120000000003,16837.25]
["920000","I08","GD","AA","OPER",880.86,null,603.94000000000005,276.92]
["920000","I50","CD","AA","OPER",1632.12,1144.68,335.37,152.07]
["920000","J02","CD","AA","OPER",750,526.01,154.12,69.87]
["920000","J07","CD","AA","OPER",4996.78,3504.5,1026.8,465.48]
["920000","J09","CD","AA","OPER",199616.61,140001.16,41019.269999999997,18596.18]
["920000","J50","CD","ID","OPER",565.29999999999995,439.32,125.98]
["920000","J50","CD","AA","OPER",235929.73,165469.37,48481.19,21979.17]
["920000","J50","CD","WA","OPER",146897.96,114161.78,32736.18]
["920000","J51","CD","AA","OPER",5075.49,3559.66,1042.95,472.88]
["920000","J51","ED","AN","OPER",1122.8599999999999,1122.8599999999999]
["920000","J53","CD","AA","OPER",51595.68,36186.639999999999,10602.42,4806.62]
["920000","J54","CD","AA","OPER",537236.52,376790.95,110396.81,50048.76]
["920000","K02","CD","AA","OPER",95418.63,66921.89,19607.580000000002,8889.16]
["920000","K19","CD","AA","OPER",176826.8,124017.45,36336.160000000003,16473.189999999999]
["920000","K50","CD","AA","OPER",115721.17,81161.039999999994,23779.51,10780.62]
["920000","K51","CD","AA","OPER",12161.55,8529.5,2499.08,1132.97]
["920000","K53","CD","AA","OPER",7235.12,5074.3500000000004,1486.75,674.02]
["920000","L39","CD","AA","OPER",41816.9,29328.28,8592.94,3895.68]
["920000","L50","CD","AA","OPER",1683.6,1180.8,345.97,156.83000000000001]
["920000","L51","CD","AA","OPER",29051.82,20375.52,5969.85,2706.45]
["920000","L51","CD","AN","OPER",229636.93,178462.31,51174.62]
["920000","L53","CD","AA","OPER",14098.76,9888.16,2897.15,1313.45]
["920000","L54","CD","AA","OPER",150,105.2,30.82,13.98]
["920000","M02","CD","AA","OPER",151486.97,106245.46,31129.03,14112.48]
["920000","M07","CD","AA","OPER",320.10000000000002,224.5,65.78,29.82]
["920000","M08","CD","AA","OPER",2756.97,1933.6,566.53,256.83999999999997]
["920000","M09","CD","AA","OPER",53565.89,37568.449999999997,11007.33,4990.1099999999997]
["920000","M11","CD","AA","OPER",150576.25,105606.63,30941.94,14027.68]
["920000","M19","ED","AN","OPER",3621.5,3621.5]
["920000","M19","CD","AN","OPER",537.44000000000005,417.66,119.78]
["920000","M19","CD","AA","OPER",309168.94,216835.59,63531.17,28802.18]
["920000","M54","CD","AA","OPER",1623.36,1138.55,333.58,151.22999999999999]
["920000","N02","CD","AA","OPER",329095.21999999997,230810.98,67625.78,30658.46]
["920000","N08","CD","AA","OPER",1846.54,1295.08,379.44,172.02]
["920000","N09","CD","AA","OPER",671537.5,470982.78,137994.10999999999,62560.61]
["920000","N50","CD","AA","OPER",45048.91,31595.119999999999,9257.06,4196.7299999999996]
["920000","P03","CD","AA","OPER",31021.68,21757.06,6374.67,2889.95]
["920000","P07","ED","AN","OPER",6342.84,6342.84]
["920000","P07","CD","AA","OPER",6719.12,4712.45,1380.71,625.96]
["920000","P08","ED","AN","OPER",51747.9,51747.9]
["920000","P08","CD","WA","OPER",3860.8,3000.42,860.38]
["920000","P08","CD","AA","OPER",25332.22,17766.740000000002,5205.51,2359.9699999999998]
["920000","P09","CD","AA","OPER",280317.18,196600.55,57602.46,26114.17]
["920000","P50","CD","AA","OPER",108.54,76.12,22.3,10.119999999999999]
["920000","P53","CD","ID","OPER",22207.15,17258.38,4948.7700000000004]
["920000","P53","CD","WA","OPER",32965.79,25619.42,7346.37]
["920000","P59","CD","AA","OPER",347334.45,243603.06,71373.84,32357.55]
["920000","P99","ED","AN","OPER",1764.02,1764.02]
["920000","P99","CD","AA","OPER",654200.73,458823.74,134431.79999999999,60945.19]
["920000","Q19","CD","AA","OPER",4146.75,2908.35,852.1,386.3]
["920000","R07","CD","AA","OPER",6760.4,4741.3999999999996,1389.2,629.79999999999995]
["920000","R08","CD","AA","OPER",4789.59,3359.17,984.22,446.2]
["920000","R09","CD","AA","OPER",62995.38,44181.82,12944.89,5868.67]
["920000","R11","CD","AA","OPER",20949.45,14692.9,4304.93,1951.62]
["920000","R11","CD","WA","OPER",16194.83,12585.82,3609.01]
["920000","R19","CD","AN","OPER",109.38,85,24.38]
["920000","R19","ED","AN","OPER",850,850]
["920000","R19","CD","AA","OPER",36484.449999999997,25588.38,7497.18,3398.89]
["920000","R51","CD","AA","OPER",3808.8,2671.33,782.64,354.83]
["920000","R54","CD","AA","OPER",568987.6,399059.42,116921.29,53006.89]
["920000","S03","CD","AA","OPER",1634.6,1146.43,335.89,152.28]
["920000","S19","CD","AA","OPER",45606.27,31985.94,9371.6299999999992,4248.7]
["920000","S39","CD","AA","OPER",959.42,672.9,197.15,89.37]
["920000","S50","CD","AA","OPER",69488.02,48735.46,14279.11,6473.45]
["920000","S51","ED","AN","OPER",1249.98,1249.98]
["920000","S51","CD","WA","OPER",37.020000000000003,28.77,8.25]
["920000","S51","CD","AA","OPER",16627.91,11661.99,3416.89,1549.03]
["920000","S51","CD","AN","OPER",3946.91,3067.37,879.54]
["920000","S52","CD","AA","OPER",31089.47,21804.63,6388.57,2896.27]
["920000","S54","CD","AA","OPER",558050,391388.48,114673.65,51987.87]
["920000","T08","CD","AA","OPER",10370.34,7273.26,2131,966.08]
["920000","T19","CD","AA","OPER",259682.7,182128.53,53362.21,24191.96]
["920000","T51","CD","AA","OPER",9794.77,6869.58,2012.73,912.46]
["920000","T52","CD","AA","OPER",33574.230000000003,23547.31,6899.16,3127.76]
["920000","T52","CD","WA","OPER",4874.75,3788.41,1086.3399999999999]
["920000","T54","CD","AA","OPER",332877.46000000002,233463.6,68402.960000000006,31010.9]
["920000","U01","CD","AA","OPER",521814.73,365974.83,107227.56,48612.34]
["920000","V08","ED","AN","OPER",26919.88,26919.88]
["920000","V08","CD","WA","OPER",194.12,150.86000000000001,43.26]
["920000","V08","CD","AA","OPER",139593.85999999999,97904.18,28685.19,13004.49]
["920000","V19","CD","AA","OPER",131044.8,91908.18,26928.42,12208.2]
["920000","V50","GD","OR","OPER",51184.73,null,null,51184.73]
["920000","W01","CD","AA","OPER",213944.69,150050.18,43963.46,19931.05]
["920000","W01","ED","AN","OPER",377902.49,377902.49]
["920000","W09","CD","WA","OPER",709.34,551.26,158.08000000000001]
["920000","W09","CD","AA","OPER",366384.36,256963.63,75288.34,34132.39]
["920000","W39","CD","WA","OPER",2561.36,1990.56,570.79999999999995]
["920000","W39","CD","AA","OPER",62445.61,43796.22,12831.9,5817.49]
["920000","X02","CD","AA","OPER",466235.64,326994.34999999998,95806.82,43434.47]
["920000","X09","CD","AA","OPER",64598.7,45306.31,13274.39,6018]
["920000","X19","CD","AN","OPER",100.39,78.02,22.37]
["920000","X19","CD","AA","OPER",214395.69,150366.42000000001,44056.2,19973.07]
["920000","X39","CD","AA","OPER",54001.48,37873.94,11096.73,5030.8100000000004]
["920000","Y01","CD","AA","OPER",190888.87,133879.98000000001,39225.78,17783.11]
["920000","Y39","CD","AA","OPER",18620.080000000002,13059.19,3826.2,1734.69]
["920000","Y54","CD","AA","OPER",23147.83,16234.72,4756.6499999999996,2156.46]
["920000","Y55","ED","AN","OPER",102913.99,102913.99]
["920000","Y55","CD","AA","OPER",174757.63,122566.27,35910.89,16280.47]
["920000","Y55","GD","AA","OPER",180366.25,null,123662.67,56703.58]
["920000","Z57","ED","AN","OPER",-13406.85,-13406.85]
["920000","Z87","GD","OR","OPER",37681.58,null,null,37681.58]
["920000","Z87","CD","AN","OPER",235515.74,183031.13,52484.61]
["920000","Z87","GD","AA","OPER",146502.38,null,100444.93,46057.45]
["920000","Z87","CD","WA","OPER",206036.73,160121.28,45915.45]
["920000","Z87","ED","AN","OPER",760284.91,760284.91]
["920000","Z87","ED","WA","OPER",21719.05,21719.05]
["920000","Z87","CD","AA","OPER",16668824.720000001,11690680.630000001,3425278.1,1552865.99]
["920000","Z87","CD","ID","OPER",85106.96,66140.94,18966.02]
["920000","Z88","CD","AA","OPER",47590,33377.26,9779.27,4433.47]
["920000","Z88","CD","AN","OPER",646.79999999999995,502.66,144.13999999999999]
["920000","Z88","ED","AN","OPER",788.2,788.2]
["920000","Z89","CD","AA","OPER",169658.27,118989.83,34863.08,15805.36]
["920000","Z89","CD","AN","OPER",3180.44,2471.67,708.77]
["920000","Z89","ED","WA","OPER",679.8,679.8]
["920000","Z89","CD","ID","OPER",1121.8499999999999,871.85,250]
["920000","Z89","CD","WA","OPER",3214.95,2498.48,716.47]
["920000","Z89","GD","AA","OPER",725.01,null,497.09,227.92]
["920000","Z89","ED","AN","OPER",5968.03,5968.03]
["920000","Z89","GD","OR","OPER",309.89999999999998,null,null,309.89999999999998]
["920000","Z90","ED","WA","OPER",4056.38,4056.38]
["920000","Z90","GD","OR","OPER",7001.31,null,null,7001.31]
["920000","Z90","CD","AN","OPER",37851.89,29416.59,8435.2999999999993]
["920000","Z90","CD","WA","OPER",38105.89,29613.88,8492.01]
["920000","Z90","CD","ID","OPER",15831.93,12303.81,3528.12]
["920000","Z90","ED","AN","OPER",138359.67000000001,138359.67000000001]
["920000","Z90","CD","AA","OPER",5182175.0999999996,3634518.54,1064885.45,482771.11]
["920000","Z90","GD","AA","OPER",26832.55,null,18396.919999999998,8435.6299999999992]
["921000","000","GD","OR","OPER",23.98,null,null,23.98]
["921000","000","CD","WA","OPER",53.57,41.63,11.94]
["921000","000","GD","AA","OPER",45,null,30.85,14.15]
["921000","000","ED","AN","OPER",102.87,102.87]
["921000","000","CD","AN","OPER",177.23,137.72999999999999,39.5]
["921000","000","CD","AA","OPER",19126.22,13414.17,3930.25,1781.8]
["921000","000","ED","WA","OPER",78.98,78.98]
["921000","A01","ED","AN","OPER",6457.16,6457.16]
["921000","A02","CD","AA","OPER",8934.2199999999993,6266.02,1835.89,832.31]
["921000","A04","CD","AA","OPER",783.86,549.78,161.04,73.040000000000006]
["921000","A04","CD","AN","OPER",0,0,0]
["921000","A07","CD","AA","OPER",2130.9,1494.56,437.8,198.54]
["921000","A08","CD","AA","OPER",2160.54,1515.33,443.9,201.31]
["921000","A19","CD","AA","OPER",748.77,525.16999999999996,153.84,69.760000000000005]
["921000","A19","CD","AN","OPER",19.579999999999998,15.22,4.3600000000000003]
["921000","A50","CD","AA","OPER",3331,2336.19,684.48,310.33]
["921000","A53","CD","AA","OPER",11854.83,8314.39,2436.0500000000002,1104.3900000000001]
["921000","A54","CD","AA","OPER",190405.05,133540.63,39126.29,17738.13]
["921000","A54","CD","WA","OPER",323,251.02,71.98]
["921000","A56","CD","AA","OPER",40.28,28.25,8.2799999999999994,3.75]
["921000","A57","CD","AA","OPER",3672.96,2576.06,754.77,342.13]
["921000","A81","CD","AA","OPER",619.66,434.61,127.32,57.73]
["921000","A81","GD","OR","OPER",17623.95,null,null,17623.95]
["921000","A82","GD","OR","OPER",2199.34,null,null,2199.34]
["921000","A82","CD","AA","OPER",40.28,28.25,8.2799999999999994,3.75]
["921000","A83","CD","AA","OPER",71.260000000000005,49.98,14.64,6.64]
["921000","B02","CD","AA","OPER",0,0,0,0]
["921000","B07","CD","AA","OPER",5935.65,4163.07,1219.51,553.07000000000005]
["921000","B08","CD","AA","OPER",2947.05,2066.98,605.63,274.44]
["921000","B09","ED","AN","OPER",250.35,250.35]
["921000","B09","CD","AA","OPER",11894.57,8342.23,2444.17,1108.17]
["921000","B09","CD","AN","OPER",463.14,359.93,103.21]
["921000","B16","CD","AA","OPER",47.63,33.409999999999997,9.7799999999999994,4.4400000000000004]
["921000","B50","CD","AA","OPER",2288.6,1605.12,470.26,213.22]
["921000","B50","CD","AN","OPER",838.49,651.63,186.86]
["921000","B51","GD","AA","OPER",992.57,null,680.52,312.05]
["921000","B51","CD","AA","OPER",1681.32,1179.2,345.48,156.63999999999999]
["921000","B52","CD","AA","OPER",2524.5500000000002,1770.6,518.75,235.2]
["921000","B53","CD","AA","OPER",285.04000000000002,199.92,58.56,26.56]
["921000","B54","CD","AA","OPER",430.16,301.7,88.39,40.07]
["921000","B54","GD","AA","OPER",1105.03,null,757.61,347.42]
["921000","C02","CD","AA","OPER",177,124.14,36.36,16.5]
["921000","C04","CD","AA","OPER",1282.68,899.64,263.52,119.52]
["921000","C04","CD","AN","OPER",7787.48,6052.06,1735.42]
["921000","C07","CD","AA","OPER",3489.37,2447.2800000000002,717.05,325.04000000000002]
["921000","C08","CD","AN","OPER",919.81,714.83,204.98]
["921000","C08","CD","AA","OPER",11297.17,7923.27,2321.46,1052.44]
["921000","C09","CD","AA","OPER",39871.21,27963.77,8192.9,3714.54]
["921000","C11","CD","AA","OPER",6968.77,4887.6400000000003,1431.84,649.29]
["921000","C11","CD","AN","OPER",3092.75,2403.5100000000002,689.24]
["921000","C19","CD","AA","OPER",6076.81,4262.03,1248.6099999999999,566.16999999999996]
["921000","C19","ED","AN","OPER",385.7,385.7]
["921000","C29","CD","AA","OPER",84989.42,59607.32,17464.46,7917.64]
["921000","C51","CD","AA","OPER",3891.73,2729.48,799.67,362.58]
["921000","C53","CD","AA","OPER",75,52.6,15.41,6.99]
["921000","C53","GD","AA","OPER",932.33,null,639.22,293.11]
["921000","C54","CD","AA","OPER",36056.32,25288.09,7409.2,3359.03]
["921000","C56","CD","AA","OPER",1709.64,1199.0999999999999,351.24,159.30000000000001]
["921000","C57","CD","AA","OPER",570.08000000000004,399.84,117.12,53.12]
["921000","C59","CD","AA","OPER",-1967.16,-1379.63,-404.23,-183.3]
["921000","C83","CD","AA","OPER",213.78,149.94,43.92,19.920000000000002]
["921000","D02","CD","AA","OPER",10428.08,7313.74,2142.87,971.47]
["921000","D08","CD","AA","OPER",57573.5,40379.199999999997,11830.79,5363.51]
["921000","D08","ED","AN","OPER",3527.14,3527.14]
["921000","D09","ED","AN","OPER",942.32,942.32]
["921000","D09","CD","AA","OPER",325.32,228.17,66.84,30.31]
["921000","D50","CD","AN","OPER",127.64,99.2,28.44]
["921000","D50","CD","AA","OPER",498.82,349.86,102.48,46.48]
["921000","D52","CD","AA","OPER",39.17,27.47,8.0500000000000007,3.65]
["921000","D53","CD","AA","OPER",663.42,465.3,136.32,61.8]
["921000","D54","CD","AA","OPER",9173.2900000000009,6433.71,1884.98,854.6]
["921000","D55","CD","AA","OPER",3420.48,2399.04,702.72,318.72000000000003]
["921000","D56","CD","AA","OPER",712.6,499.8,146.4,66.400000000000006]
["921000","E01","CD","AA","OPER",62966.86,44161.69,12939.03,5866.14]
["921000","E01","CD","AN","OPER",242.14,188.18,53.96]
["921000","E01","ED","AN","OPER",593.82000000000005,593.82000000000005]
["921000","E02","CD","AA","OPER",258.41000000000003,181.23,53.11,24.07]
["921000","E07","CD","AA","OPER",5287.33,3708.31,1086.42,492.6]
["921000","E09","CD","AA","OPER",1334.61,936.04,274.24,124.33]
["921000","E14","CD","AA","OPER",32416.86,22735.58,6661.4,3019.88]
["921000","E14","CD","AN","OPER",2719.22,2113.2399999999998,605.98]
["921000","E14","ED","AN","OPER",72814.47,72814.47]
["921000","E19","CD","AA","OPER",3522.47,2470.48,723.78,328.21]
["921000","E29","CD","AA","OPER",326654.93,229099.43,67124.179999999993,30431.32]
["921000","E51","CD","AA","OPER",2114.54,1483.05,434.53,196.96]
["921000","E53","CD","AA","OPER",157.9,110.74,32.450000000000003,14.71]
["921000","E55","CD","AA","OPER",16165.4,11337.77,3321.53,1506.1]
["921000","E56","CD","AA","OPER",788.68,553.14,162.06,73.48]
["921000","F02","CD","AA","OPER",5149.6899999999996,3611.73,1058.21,479.75]
["921000","F08","CD","AA","OPER",8406.7900000000009,5896.12,1727.49,783.18]
["921000","F19","CD","AA","OPER",498.82,349.86,102.48,46.48]
["921000","F39","CD","AA","OPER",71.260000000000005,49.98,14.64,6.64]
["921000","F50","CD","AA","OPER",71.260000000000005,49.98,14.64,6.64]
["921000","F52","CD","AA","OPER",6552.28,4595.49,1346.33,610.46]
["921000","F53","CD","AA","OPER",855.12,599.76,175.68,79.680000000000007]
["921000","F53","CD","AN","OPER",21.97,17.07,4.9000000000000004]
["921000","F54","CD","AA","OPER",204455.23,143394.73000000001,42013.41,19047.09]
["921000","F55","CD","AA","OPER",24473.439999999999,17164.47,5029.03,2279.94]
["921000","G02","CD","AA","OPER",293517.65000000002,205858.8,60314.62,27344.23]
["921000","G07","CD","AA","OPER",285.04000000000002,199.92,58.56,26.56]
["921000","G08","CD","AA","OPER",3969.54,2784.04,815.68,369.82]
["921000","G10","CD","AA","OPER",855.12,599.76,175.68,79.680000000000007]
["921000","G39","CD","AA","OPER",885.92,621.34,182.05,82.53]
["921000","G50","CD","AA","OPER",3238.04,2270.9899999999998,665.39,301.66000000000003]
["921000","G51","CD","AA","OPER",2137.6,1499.2,439.25,199.15]
["921000","G53","CD","AA","OPER",9.25,6.49,1.9,0.86]
["921000","G54","CD","AA","OPER",6154.34,4316.3100000000004,1264.6500000000001,573.38]
["921000","H02","CD","AA","OPER",268848.12,188556.64,55245.46,25046.02]
["921000","H04","CD","AA","OPER",27940.240000000002,19595.919999999998,5741.37,2602.9499999999998]
["921000","H04","CD","AN","OPER",117.45,91.28,26.17]
["921000","H07","CD","AA","OPER",6534.98,4583.32,1342.87,608.79]
["921000","H14","CD","AA","OPER",2229.4699999999998,1563.69,458.06,207.72]
["921000","H50","CD","AA","OPER",708.81,497.1,145.62,66.09]
["921000","H51","CD","AA","OPER",89214.89,62570.84,18332.78,8311.27]
["921000","H53","CD","AA","OPER",71.260000000000005,49.98,14.64,6.64]
["921000","H54","CD","AA","OPER",8526.35,5979.99,1752.03,794.33]
["921000","I02","CD","AA","OPER",17400.11,12203.61,3575.38,1621.12]
["921000","I02","GD","AA","OPER",11.32,null,7.76,3.56]
["921000","I08","CD","AA","OPER",2768.04,1941.37,568.77,257.89999999999998]
["921000","I50","CD","AA","OPER",641.34,449.82,131.76,59.76]
["921000","J02","CD","AA","OPER",238.5,167.27,49.01,22.22]
["921000","J07","ED","AN","OPER",1175.82,1175.82]
["921000","J07","CD","AA","OPER",4280.79,3002.4,879.55,398.84]
["921000","J08","CD","WA","OPER",725.66,563.95000000000005,161.71]
["921000","J08","CD","AA","OPER",321.54000000000002,225.51,66.06,29.97]
["921000","J09","CD","AN","OPER",14101.06,10958.62,3142.44]
["921000","J09","CD","AA","OPER",7372.04,5170.3900000000003,1514.83,686.82]
["921000","J29","CD","AN","OPER",32383.5,25166.83,7216.67]
["921000","J29","CD","AA","OPER",1683675.84,1180846.48,345978.34,156851.01999999999]
["921000","J29","ED","WA","OPER",26170.92,26170.92]
["921000","J50","CD","AA","OPER",1410.9,989.56,289.91000000000003,131.43]
["921000","J50","CD","WA","OPER",24,18.649999999999999,5.35]
["921000","J50","ED","AN","OPER",0,0]
["921000","J51","CD","AA","OPER",1196.75,839.34,245.93,111.48]
["921000","J53","CD","AA","OPER",12932.85,9070.4500000000007,2657.55,1204.8499999999999]
["921000","J54","CD","AA","OPER",8158.9,5722.27,1676.56,760.07]
["921000","K02","CD","AA","OPER",24623.86,17269.96,5059.9399999999996,2293.96]
["921000","K08","CD","AA","OPER",934.21,655.21,191.97,87.03]
["921000","K19","CD","AN","OPER",17.829999999999998,13.86,3.97]
["921000","K19","CD","AA","OPER",80.59,56.52,16.559999999999999,7.51]
["921000","K39","CD","AA","OPER",1361.34,954.78,279.74,126.82]
["921000","K50","CD","AA","OPER",2961.91,2077.38,608.54999999999995,275.98]
["921000","K50","CD","WA","OPER",110.71,86.04,24.67]
["921000","K51","CD","AA","OPER",89576.42,62824.36,18407.07,8344.99]
["921000","K51","GD","AA","OPER",687,null,471.02,215.98]
["921000","K53","CD","AA","OPER",600.9,421.47,123.45,55.98]
["921000","L07","CD","AA","OPER",1267.22,888.78,260.39999999999998,118.04]
["921000","L08","CD","AN","OPER",4111.87,3195.55,916.32]
["921000","L08","CD","AA","OPER",2392.54,1678.02,491.62,222.9]
["921000","L39","CD","AA","OPER",8615.14,6042.21,1770.31,802.62]
["921000","L50","CD","AA","OPER",213.78,149.94,43.92,19.920000000000002]
["921000","L51","CD","AA","OPER",7629.34,5350.86,1567.75,710.73]
["921000","L53","CD","AA","OPER",1382.85,969.91,284.16000000000003,128.78]
["921000","L54","CD","AA","OPER",0,0,0,0]
["921000","M02","CD","AA","OPER",3536.19,2480.15,726.58,329.46]
["921000","M07","CD","AA","OPER",5150.05,3612.01,1058.28,479.76]
["921000","M08","CD","AA","OPER",1487.23,1043.07,305.60000000000002,138.56]
["921000","M08","ED","AN","OPER",9.25,9.25]
["921000","M09","CD","AA","OPER",3674.62,2577.21,755.02,342.39]
["921000","M11","CD","AA","OPER",2334.09,1637.03,479.59,217.47]
["921000","M19","CD","AA","OPER",6131.72,4300.55,1259.8699999999999,571.29999999999995]
["921000","M29","CD","AA","OPER",61,42.77,12.53,5.7]
["921000","M50","CD","AA","OPER",71.260000000000005,49.98,14.64,6.64]
["921000","M54","CD","AA","OPER",1880.53,1318.93,386.4,175.2]
["921000","N02","CD","AA","OPER",3180.27,2230.5,653.5,296.27]
["921000","N08","CD","AA","OPER",1199.19,841.04,246.41,111.74]
["921000","N09","CD","AA","OPER",37402.639999999999,26232.18,7685.9,3484.56]
["921000","N50","CD","AA","OPER",97.27,68.22,19.989999999999998,9.06]
["921000","N52","CD","AA","OPER",77.13,54.09,15.85,7.19]
["921000","P01","CD","AA","OPER",8410.4599999999991,5898.68,1728.27,783.51]
["921000","P03","CD","AA","OPER",12180.05,8542.49,2502.8200000000002,1134.74]
["921000","P07","CD","AA","OPER",3110.81,2181.8200000000002,639.17999999999995,289.81]
["921000","P08","CD","AA","OPER",43077.04,30212.09,8851.91,4013.04]
["921000","P09","CD","AA","OPER",9197.02,6450.34,1889.86,856.82]
["921000","P51","CD","AA","OPER",641.34,449.82,131.76,59.76]
["921000","P53","CD","AA","OPER",750,526.01,154.12,69.87]
["921000","P53","CD","AN","OPER",217.49,169.03,48.46]
["921000","P53","ED","AN","OPER",145.32,145.32]
["921000","P59","CD","AA","OPER",31914.95,22383.55,6558.21,2973.19]
["921000","P99","CD","AA","OPER",12630.54,8858.4,2595.5300000000002,1176.6099999999999]
["921000","R07","CD","AA","OPER",2393.33,1678.56,491.8,222.97]
["921000","R08","CD","AA","OPER",71.260000000000005,49.98,14.64,6.64]
["921000","R09","CD","AA","OPER",14645.34,10271.52,3009.48,1364.34]
["921000","R11","CD","AA","OPER",5914.58,4148.34,1215.1199999999999,551.12]
["921000","R29","CD","AA","OPER",1082408.83,759147.29,222424.15,100837.39]
["921000","R53","CD","AA","OPER",1881.27,1319.44,386.57,175.26]
["921000","R54","CD","AA","OPER",70259.789999999994,49276.76,14437.66,6545.37]
["921000","R55","CD","AA","OPER",0,0,0,0]
["921000","R56","CD","AA","OPER",238.55,167.31,49.02,22.22]
["921000","S01","CD","AA","OPER",317.29000000000002,222.54,65.2,29.55]
["921000","S04","CD","AA","OPER",71.260000000000005,49.98,14.64,6.64]
["921000","S09","CD","AA","OPER",11946.54,8378.7199999999993,2454.86,1112.96]
["921000","S39","CD","AA","OPER",40.28,28.25,8.2799999999999994,3.75]
["921000","S50","CD","WA","OPER",165.88,128.91999999999999,36.96]
["921000","S50","CD","AA","OPER",9330.24,6543.83,1917.17,869.24]
["921000","S51","GD","AA","OPER",232.79,null,159.62,73.17]
["921000","S51","ED","AN","OPER",871.53,871.53]
["921000","S51","CD","WA","OPER",8.86,6.89,1.97]
["921000","S51","CD","AN","OPER",376.23,292.39,83.84]
["921000","S51","CD","AA","OPER",16066.23,11268.11,3301.56,1496.56]
["921000","S51","GD","OR","OPER",214.89,null,null,214.89]
["921000","S52","CD","AA","OPER",18940.11,13283.61,3892.04,1764.46]
["921000","S53","CD","AA","OPER",165,115.72,33.9,15.38]
["921000","S54","CD","AA","OPER",156479.21,109746.84,32154.77,14577.6]
["921000","S54","GD","AA","OPER",2530,null,1734.62,795.38]
["921000","T01","CD","AA","OPER",321.22000000000003,225.29,66.010000000000005,29.92]
["921000","T07","CD","AA","OPER",2799.56,1963.51,575.27,260.77999999999997]
["921000","T08","CD","AA","OPER",2374.4499999999998,1665.33,487.88,221.24]
["921000","T19","CD","WA","OPER",365.8,284.27999999999997,81.52]
["921000","T19","CD","AA","OPER",5428.94,3807.62,1115.53,505.79]
["921000","T51","CD","AA","OPER",1438.98,1009.24,295.68,134.06]
["921000","T52","CD","AA","OPER",6002.2,4209.7700000000004,1233.18,559.25]
["921000","T54","CD","AA","OPER",1168.3699999999999,819.46,240.04,108.87]
["921000","U01","CD","AA","OPER",2500.5300000000002,1753.78,513.77,232.98]
["921000","V01","CD","AA","OPER",3064,2148.94,629.62,285.44]
["921000","V08","CD","AA","OPER",27737.74,19453.95,5699.72,2584.0700000000002]
["921000","V08","ED","AN","OPER",23239.38,23239.38]
["921000","V19","CD","AA","OPER",1645.2,1153.8900000000001,338.04,153.27000000000001]
["921000","V50","GD","OR","OPER",771.09,null,null,771.09]
["921000","V51","ED","AN","OPER",9.7799999999999994,9.7799999999999994]
["921000","W01","CD","AA","OPER",3782.51,2652.95,777.14,352.42]
["921000","W09","CD","AA","OPER",9338.83,6549.81,1919.02,870]
["921000","W39","CD","AA","OPER",6609.77,4635.76,1358.21,615.79999999999995]
["921000","X01","CD","WA","OPER",6250,4857.1899999999996,1392.81]
["921000","X02","CD","AA","OPER",74610.52,52328.27,15331.61,6950.64]
["921000","X08","CD","AA","OPER",1621.62,1137.3599999999999,333.17,151.09]
["921000","X08","ED","AN","OPER",44.95,44.95]
["921000","X09","CD","AA","OPER",5271.31,3697.07,1083.1400000000001,491.1]
["921000","X19","CD","AA","OPER",468.56,328.63,96.28,43.65]
["921000","X39","CD","AA","OPER",285.04000000000002,199.92,58.56,26.56]
["921000","X54","CD","AA","OPER",23800,16692.13,4890.66,2217.21]
["921000","X57","CD","AA","OPER",1589.94,1115.1300000000001,326.70999999999998,148.1]
["921000","Y01","CD","AA","OPER",60526.71,42450.44,12437.67,5638.6]
["921000","Y54","CD","AA","OPER",129015.95,90485.33,26511.45,12019.17]
["921000","Y55","CD","AA","OPER",471.25,330.51,96.84,43.9]
["921000","Z08","CD","AA","OPER",508.12,356.38,104.4,47.34]
["921000","Z09","CD","AA","OPER",89898.47,63050.28,18473.259999999998,8374.93]
["921000","Z57","CD","AA","OPER",-928.14,-650.95000000000005,-190.73,-86.46]
["921000","Z87","CD","AA","OPER",304822.53999999998,213788.29,62638.559999999998,28395.69]
["921000","Z87","ED","AN","OPER",10683.78,10683.78]
["921000","Z87","GD","OR","OPER",9847.6,null,null,9847.6]
["921000","Z87","CD","AN","OPER",6279.85,4880.41,1399.44]
["921000","Z87","CD","WA","OPER",911.83,708.63,203.2]
["921000","Z88","ED","AN","OPER",220.3,220.3]
["921000","Z88","CD","AA","OPER",137350,96330.41,28224.01,12795.58]
["921000","Z88","CD","AN","OPER",732.2,569.03,163.16999999999999]
["921000","Z89","CD","AN","OPER",-39.25,-30.5,-8.75]
["921000","Z89","ED","AN","OPER",-305.60000000000002,-305.60000000000002]
["921000","Z89","CD","AA","OPER",10617,7446.24,2181.6799999999998,989.08]
["921000","Z89","CD","WA","OPER",-41.47,-32.229999999999997,-9.24]
["921000","Z89","GD","OR","OPER",97.18,null,null,97.18]
["921000","Z90","CD","AA","OPER",53437.36,37477.89,10980.55,4978.92]
["921000","Z90","CD","AN","OPER",1112.69,864.74,247.95]
["921000","Z90","CD","WA","OPER",144.30000000000001,112.15,32.15]
["921000","Z90","ED","AN","OPER",1872.84,1872.84]
["921000","Z90","GD","OR","OPER",1816.57,null,null,1816.57]
["922000","A04","CD","AN","OPER",106.01,82.39,23.62]
["922000","E14","CD","AN","OPER",171.7,133.44,38.26]
["922000","V08","ED","AN","OPER",-12,-12]
["922000","Z57","ED","AN","OPER",-121389.59,-121389.59]
["922000","Z57","GD","AN","OPER",-19758.04,null,-19758.04]
["922000","Z87","CD","AN","OPER",208.28,161.86000000000001,46.42]
["922000","Z89","CD","AN","OPER",0,0,0]
["922000","Z90","CD","AN","OPER",33.049999999999997,25.69,7.36]
["923000","000","CD","AA","OPER",25976.79,18218.82,5337.97,2420]
["923000","000","ED","AN","OPER",101.32,101.32]
["923000","000","ED","WA","OPER",0,0]
["923000","000","CD","AN","OPER",15.44,12,3.44]
["923000","000","GD","WA","OPER",19.63,null,19.63]
["923000","A01","ED","AN","OPER",12188.01,12188.01]
["923000","A09","CD","AA","OPER",3034670.08,2128365.84,623594.34,282709.90000000002]
["923000","A39","CD","AA","OPER",58564.35,41074.15,12034.38,5455.82]
["923000","A57","CD","AA","OPER",14668.88,10288.030000000001,3014.31,1366.54]
["923000","A81","CD","AA","OPER",278.36,195.23,57.2,25.93]
["923000","B08","CD","AN","OPER",253.75,197.2,56.55]
["923000","B09","CD","AA","OPER",27204.89,19080.2,5590.34,2534.35]
["923000","B09","CD","AN","OPER",56.42,43.85,12.57]
["923000","B52","CD","AA","OPER",442.2,310.14,90.87,41.19]
["923000","C09","CD","AA","OPER",36387.54,25520.400000000001,7477.26,3389.88]
["923000","C19","CD","AA","OPER",3939.92,2763.26,809.61,367.05]
["923000","C19","ED","AN","OPER",288.45999999999998,288.45999999999998]
["923000","C29","CD","AA","OPER",134978.65,94667.4,27736.76,12574.49]
["923000","C50","CD","AA","OPER",1000,701.35,205.49,93.16]
["923000","C53","CD","AA","OPER",771.42,541.04,158.52000000000001,71.86]
["923000","C54","CD","AA","OPER",139460.04999999999,97810.32,28657.65,12992.08]
["923000","C59","CD","AA","OPER",29151.97,20445.75,5990.43,2715.79]
["923000","D02","CD","AA","OPER",90630.399999999994,63563.63,18623.64,8443.1299999999992]
["923000","D53","CD","AA","OPER",1827.66,1281.8499999999999,375.57,170.24]
["923000","D54","CD","AA","OPER",11822.29,8291.56,2429.37,1101.3599999999999]
["923000","E01","CD","AA","OPER",21712.48,15228.05,4461.7,2022.73]
["923000","E09","CD","AA","OPER",32657.72,22904.54,6710.79,3042.39]
["923000","E14","CD","AA","OPER",495.83,347.75,101.89,46.19]
["923000","E14","ED","AN","OPER",100613.1,100613.1]
["923000","E29","CD","AA","OPER",27122,19022.02,5573.23,2526.75]
["923000","F02","CD","AA","OPER",3838.82,2692.35,788.83,357.64]
["923000","F39","CD","AA","OPER",4244.3999999999996,2976.82,872.18,395.4]
["923000","G02","CD","AA","OPER",26626.26,18674.34,5471.43,2480.4899999999998]
["923000","G39","CD","AA","OPER",44733.51,31373.88,9192.2800000000007,4167.3500000000004]
["923000","H07","CD","AA","OPER",1322.99,927.88,271.87,123.24]
["923000","H14","CD","AA","OPER",0,0,0,0]
["923000","H50","CD","AA","OPER",103.55,72.62,21.28,9.65]
["923000","H51","CD","AA","OPER",506580.06,355289.98,104097.23,47192.85]
["923000","I02","CD","AA","OPER",471264.84,330521.55,96840.2,43903.09]
["923000","I08","CD","AA","OPER",160.78,112.76,33.049999999999997,14.97]
["923000","J02","ED","AN","OPER",308.19,308.19]
["923000","J09","CD","AA","OPER",107071.95,75094.94,22002.16,9974.85]
["923000","J09","ED","AN","OPER",650.67999999999995,650.67999999999995]
["923000","J29","CD","AA","OPER",75872.639999999999,53213.24,15591.05,7068.35]
["923000","J51","CD","AA","OPER",304.08,213.27,62.49,28.32]
["923000","J54","CD","AA","OPER",1896537.5,1330136.6000000001,389719.5,176681.4]
["923000","K19","CD","AA","OPER",395,277.02999999999997,81.17,36.799999999999997]
["923000","K39","CD","AA","OPER",15834.2,11105.33,3253.78,1475.09]
["923000","L39","CD","AA","OPER",15904.79,11154.83,3268.26,1481.7]
["923000","L50","CD","AA","OPER",209.84,147.16999999999999,43.13,19.54]
["923000","L52","ED","AN","OPER",3870.01,3870.01]
["923000","L52","GD","AA","OPER",1612.5,null,1105.56,506.94]
["923000","L53","CD","AA","OPER",1855.2,1301.1500000000001,381.22,172.83]
["923000","M02","CD","AA","OPER",341.68,239.62,70.22,31.84]
["923000","M09","CD","AA","OPER",8244.64,5782.39,1694.21,768.04]
["923000","M19","CD","AA","OPER",11.71,8.2100000000000009,2.41,1.0900000000000001]
["923000","M29","CD","AA","OPER",182959.96,128318.94,37596.480000000003,17044.54]
["923000","M54","CD","AA","OPER",6000,4208.1000000000004,1232.94,558.96]
["923000","M54","ED","AN","OPER",12393.05,12393.05]
["923000","N02","CD","AA","OPER",305.64,214.36,62.81,28.47]
["923000","N09","CD","AA","OPER",32022.38,22458.880000000001,6580.3,2983.2]
["923000","P01","CD","WA","OPER",4323,3359.62,963.38]
["923000","P01","CD","AA","OPER",422791.37,296524.68,86879.33,39387.360000000001]
["923000","P01","GD","AA","OPER",26574.15,null,18219.77,8354.3799999999992]
["923000","P01","CD","AN","OPER",65766.36,51110.3,14656.06]
["923000","P01","CD","ID","OPER",1184,920.15,263.85000000000002]
["923000","P01","ED","ID","OPER",5668.73,5668.73]
["923000","P01","GD","OR","OPER",13214.67,null,null,13214.67]
["923000","P01","ED","AN","OPER",253696.38,253696.38]
["923000","P01","ED","WA","OPER",46511.18,46511.18]
["923000","P01","GD","WA","OPER",62326.3,null,62326.3]
["923000","P03","CD","AA","OPER",28.24,19.84,5.79,2.61]
["923000","P09","CD","AA","OPER",598669.68000000005,419877.03,123020.92,55771.73]
["923000","P09","ED","AN","OPER",1085.47,1085.47]
["923000","P99","CD","AA","OPER",3724.58,2612.23,765.37,346.98]
["923000","Q19","CD","AA","OPER",186176.01,130574.55,38257.22,17344.240000000002]
["923000","R09","ED","AN","OPER",6041.27,6041.27]
["923000","R09","CD","AA","OPER",97320.48,68255.649999999994,19998.419999999998,9066.41]
["923000","R19","CD","AA","OPER",353757.71,248107.94,72693.740000000005,32956.03]
["923000","R19","CD","AN","OPER",762.33,592.44000000000005,169.89]
["923000","R29","CD","AA","OPER",350778.33,246018.45,72081.509999999995,32678.37]
["923000","S09","CD","AA","OPER",881030.64,617910.85,181042.9,82076.89]
["923000","S19","CD","AA","OPER",291554.28000000003,204481.61,59911.51,27161.16]
["923000","S19","CD","AN","OPER",80,62.17,17.829999999999998]
["923000","S39","CD","AA","OPER",3104.31,2177.2199999999998,637.9,289.19]
["923000","S51","CD","AA","OPER",5799.58,4067.52,1191.74,540.32000000000005]
["923000","S51","CD","AN","OPER",4.2300000000000004,3.29,0.94]
["923000","S52","CD","AA","OPER",13898.04,9747.39,2855.91,1294.74]
["923000","S54","CD","AA","OPER",91.52,64.19,18.809999999999999,8.52]
["923000","T01","CD","AA","OPER",12500,8766.8799999999992,2568.63,1164.49]
["923000","T19","CD","AN","OPER",299.3,232.6,66.7]
["923000","T19","CD","AA","OPER",882914.42,619232.03,181430.1,82252.289999999994]
["923000","T39","CD","AA","OPER",3114.17,2184.13,639.92999999999995,290.11]
["923000","T54","CD","AA","OPER",218.21,153.04,44.84,20.329999999999998]
["923000","U01","CD","AA","OPER",1528.18,1071.8,314.04000000000002,142.34]
["923000","U01","ED","ID","OPER",19.23,19.23]
["923000","U01","ED","WA","OPER",81.260000000000005,81.260000000000005]
["923000","U01","GD","WA","OPER",123.8,null,123.8]
["923000","V08","ED","AN","OPER",6027.63,6027.63]
["923000","V19","CD","AN","OPER",446.95,347.35,99.6]
["923000","V19","CD","AA","OPER",448855.81,314805,92235.38,41815.43]
["923000","V39","CD","AA","OPER",29289.59,20542.28,6018.71,2728.6]
["923000","W01","ED","AN","OPER",30.4,30.4]
["923000","W39","CD","AA","OPER",6321.89,4433.8599999999997,1299.0899999999999,588.94000000000005]
["923000","X02","CD","AA","OPER",50543.27,35448.53,10386.120000000001,4708.62]
["923000","X08","CD","AA","OPER",2750.28,1928.91,565.15,256.22000000000003]
["923000","X09","CD","AA","OPER",20400,14307.54,4192,1900.46]
["923000","X19","CD","AA","OPER",176800,123998.7,36330.629999999997,16470.669999999998]
["923000","X39","CD","AA","OPER",60536.46,42457.29,12439.62,5639.55]
["923000","Y39","CD","AA","OPER",51932.26,36422.65,10671.57,4838.04]
["923000","Z87","ED","AN","OPER",409.87,409.87]
["923000","Z87","CD","AN","OPER",41.76,32.450000000000003,9.31]
["923000","Z87","CD","AA","OPER",23478.21,16466.41,4824.53,2187.27]
["923000","Z88","CD","AN","OPER",51617.35,40114.46,11502.89]
["923000","Z88","CD","AA","OPER",19526,13694.55,4012.39,1819.06]
["923000","Z88","ED","AN","OPER",1151,1151]
["923000","Z89","CD","AA","OPER",-87.76,-61.55,-18.03,-8.18]
["923000","Z89","ED","AN","OPER",0,0]
["923000","Z90","ED","AN","OPER",80.11,80.11]
["923000","Z90","CD","AN","OPER",1.33,1.03,0.3]
["923000","Z90","CD","AA","OPER",3797.7,2663.53,780.42,353.75]
["924000","000","CD","AA","OPER",209.57,146.97999999999999,43.06,19.53]
["924000","R56","ED","AN","OPER",255443.88,255443.88]
["924000","R56","CD","AA","OPER",1487495.04,1043254.63,305665.33,138575.07999999999]
["924000","R56","GD","AA","OPER",11384.83,null,7805.67,3579.16]
["924000","Z57","CD","AA","OPER",-24775.1,-17376.02,-5091.04,-2308.04]
["925100","000","CD","AA","OPER",3772.34,2645.73,775.18,351.43]
["925100","000","CD","AN","OPER",4.8499999999999996,3.77,1.08]
["925100","000","CD","ID","OPER",419.15,325.74,93.41]
["925100","000","ED","AN","OPER",1163.02,1163.02]
["925100","000","CD","WA","OPER",523.94000000000005,407.18,116.76]
["925100","L51","CD","AN","OPER",170.06,132.16,37.9]
["925100","L51","GD","OR","OPER",786.17,null,null,786.17]
["925100","L51","ED","AN","OPER",815.96,815.96]
["925100","L52","GD","AN","OPER",61471.86,null,61471.86]
["925100","L52","CD","AN","OPER",3041.48,2363.69,677.79]
["925100","L52","ED","AN","OPER",617389.18999999994,617389.18999999994]
["925100","L52","GD","OR","OPER",83510.990000000005,null,null,83510.990000000005]
["925100","L53","ED","AN","OPER",85,85]
["925100","R54","CD","AA","OPER",586.17999999999995,411.12,120.46,54.6]
["925100","R56","CD","AA","OPER",3776605.74,2648722.5,776054.7,351828.54]
["925100","R56","ED","AN","OPER",47499.98,47499.98]
["925100","R56","CD","WA","OPER",200,155.44,44.56]
["925100","R56","CD","ID","OPER",200,155.44,44.56]
["925100","S51","CD","AA","OPER",55.68,39.049999999999997,11.45,5.18]
["926100","000","GD","AA","OPER",116.13,null,79.62,36.51]
["926100","000","CD","AN","OPER",0.89,0.69,0.2]
["926100","000","ED","AN","OPER",10.7,10.7]
["926100","000","CD","AA","OPER",9198.51,6451.37,1890.2,856.94]
["926100","A02","CD","AA","OPER",14733.02,10333.049999999999,3027.48,1372.49]
["926100","A07","CD","AA","OPER",1570.99,1101.81,322.83,146.35]
["926100","A19","CD","AA","OPER",5856.43,4107.38,1203.44,545.61]
["926100","A39","CD","AA","OPER",4392.88,3080.95,902.68,409.25]
["926100","A50","CD","AA","OPER",1191.71,835.81,244.88,111.02]
["926100","A53","CD","AA","OPER",3200,2244.3200000000002,657.57,298.11]
["926100","A54","CD","AA","OPER",1822.65,1278.31,374.54,169.8]
["926100","A56","ED","AN","OPER",154.71,154.71]
["926100","A57","CD","AA","OPER",31734.9,22257.25,6521.13,2956.52]
["926100","A81","CD","AA","OPER",4024.36,2822.52,826.96,374.88]
["926100","A82","CD","AA","OPER",1159.43,813.18,238.24,108.01]
["926100","A83","CD","AA","OPER",1260.56,884.09,259.02999999999997,117.44]
["926100","B02","CD","AA","OPER",303194.26,212645.32,62303.34,28245.599999999999]
["926100","B07","CD","AA","OPER",369.66,259.26,75.959999999999994,34.44]
["926100","B07","ED","AN","OPER",17207.939999999999,17207.939999999999]
["926100","B08","CD","AA","OPER",531.76,372.96,109.27,49.53]
["926100","B09","CD","AA","OPER",300,210.41,61.65,27.94]
["926100","B09","ED","AN","OPER",412.56,412.56]
["926100","B09","CD","AN","OPER",17194.91,13363.03,3831.88]
["926100","B50","CD","AA","OPER",118.05,82.79,24.26,11]
["926100","B50","ED","AN","OPER",6137.16,6137.16]
["926100","B51","CD","AA","OPER",2413.2199999999998,1692.51,495.89,224.82]
["926100","B51","GD","AA","OPER",1468.89,null,1007.1,461.79]
["926100","B53","CD","AA","OPER",1992.97,1397.76,409.53,185.68]
["926100","B53","ED","AN","OPER",1189.73,1189.73]
["926100","B54","CD","AA","OPER",254.28,178.34,52.25,23.69]
["926100","C04","CD","AA","OPER",150,105.2,30.82,13.98]
["926100","C08","CD","AA","OPER",14236.32,9984.61,2925.4,1326.31]
["926100","C08","ED","AN","OPER",2436.36,2436.36]
["926100","C09","CD","AA","OPER",10542.35,7393.87,2166.36,982.12]
["926100","C09","CD","AN","OPER",2396.4899999999998,1862.42,534.07000000000005]
["926100","C11","CD","AA","OPER",10068.77,7061.71,2069.0300000000002,938.03]
["926100","C19","CD","AN","OPER",192.31,149.44999999999999,42.86]
["926100","C19","CD","AA","OPER",27235.200000000001,19101.400000000001,5596.57,2537.23]
["926100","C50","CD","AA","OPER",5046.2299999999996,3539.15,1036.95,470.13]
["926100","C51","ED","AN","OPER",12.84,12.84]
["926100","C53","ED","AN","OPER",4325.3999999999996,4325.3999999999996]
["926100","C54","CD","AA","OPER",3571.71,2505.02,733.95,332.74]
["926100","C57","ED","AN","OPER",1680.48,1680.48]
["926100","C59","CD","AA","OPER",11160.32,7827.25,2293.35,1039.72]
["926100","C83","CD","AA","OPER",797.76,559.51,163.93,74.319999999999993]
["926100","D02","CD","AA","OPER",2082.85,1460.81,428.01,194.03]
["926100","D08","CD","AA","OPER",79746.23,55930.01,16387.060000000001,7429.16]
["926100","D09","ED","AN","OPER",833.72,833.72]
["926100","D09","CD","AA","OPER",1742.88,1222.4000000000001,358.14,162.34]
["926100","D53","CD","AA","OPER",2356.13,1652.47,484.17,219.49]
["926100","D53","ED","AN","OPER",311.56,311.56]
["926100","D54","CD","AA","OPER",22196.14,15567.2,4561.05,2067.89]
["926100","E01","CD","AA","OPER",45116.98,31642.84,9271.0400000000009,4203.1000000000004]
["926100","E02","CD","AA","OPER",83907.57,58848.56,17242.07,7816.94]
["926100","E09","CD","AA","OPER",5565.66,3903.48,1143.7,518.48]
["926100","E14","CD","AA","OPER",21117.55,14810.77,4339.42,1967.36]
["926100","E19","CD","AA","OPER",5000,3506.75,1027.45,465.8]
["926100","E29","CD","AA","OPER",571.98,401.15,117.53,53.3]
["926100","E50","CD","AA","OPER",15827.19,11100.55,3252.34,1474.3]
["926100","E53","CD","AA","OPER",10199.94,7153.77,2095.98,950.19]
["926100","F02","CD","AA","OPER",7221.37,5064.74,1483.91,672.72]
["926100","F08","ED","AN","OPER",5104.9399999999996,5104.9399999999996]
["926100","F39","CD","AA","OPER",9872.48,6924.05,2028.7,919.73]
["926100","F50","CD","AA","OPER",4820.42,3380.87,990.65,448.9]
["926100","F54","CD","AA","OPER",10616.06,7445.57,2181.5100000000002,988.98]
["926100","F55","ED","AN","OPER",122.63,122.63]
["926100","F55","CD","AA","OPER",6196.45,4345.87,1273.31,577.27]
["926100","G02","ED","AN","OPER",528.9,528.9]
["926100","G02","CD","AA","OPER",0,0,0,0]
["926100","G08","CD","AA","OPER",24086.81,16893.310000000001,4949.59,2243.91]
["926100","G08","GD","AS","OPER",241.82,null,null,241.82]
["926100","G39","CD","AA","OPER",2766.74,1940.46,568.51,257.77]
["926100","G50","CD","AA","OPER",3915.81,2746.36,804.67,364.78]
["926100","G50","ED","AN","OPER",788.45,788.45]
["926100","G51","GD","AS","OPER",502.65,null,null,502.65]
["926100","G51","GD","OR","OPER",681.29,null,null,681.29]
["926100","G51","CD","AA","OPER",1191.71,835.81,244.88,111.02]
["926100","G51","ED","AN","OPER",332.3,332.3]
["926100","G53","CD","AA","OPER",500,350.68,102.75,46.57]
["926100","G54","GD","AA","OPER",16156.3,null,11077.01,5079.29]
["926100","G54","CD","AA","OPER",987.64,692.7,202.97,91.97]
["926100","H07","CD","AA","OPER",34904.36,24480.16,7172.55,3251.65]
["926100","H14","CD","AA","OPER",2871.66,2014.06,590.09,267.51]
["926100","H50","ED","AN","OPER",16.25,16.25]
["926100","H51","CD","AA","OPER",2760.25,1935.89,567.21,257.14999999999998]
["926100","H53","CD","AA","OPER",1000,701.36,205.5,93.14]
["926100","H54","CD","AA","OPER",5618.06,3940.21,1154.42,523.42999999999995]
["926100","I02","CD","AA","OPER",2.66,1.87,0.55000000000000004,0.24]
["926100","I02","ED","AN","OPER",57180.55,57180.55]
["926100","I02","GD","AA","OPER",69050.47,null,47342.34,21708.13]
["926100","I08","CD","AA","OPER",1318.17,924.51,270.87,122.79]
["926100","I50","CD","AA","OPER",8530.2800000000007,5982.78,1752.96,794.54]
["926100","J09","CD","AA","OPER",34923.769999999997,24493.77,7176.5,3253.5]
["926100","J50","CD","AA","OPER",1310.84,919.34,269.37,122.13]
["926100","J51","CD","AA","OPER",4212.7700000000004,2954.63,865.67,392.47]
["926100","J53","ED","AN","OPER",1536.19,1536.19]
["926100","J53","CD","AA","OPER",944.04,662.1,193.99,87.95]
["926100","J54","CD","AA","OPER",23755,16660.52,4881.3999999999996,2213.08]
["926100","K02","CD","AA","OPER",5852.45,4104.63,1202.6300000000001,545.19000000000005]
["926100","K07","ED","AN","OPER",2381.67,2381.67]
["926100","K08","CD","AA","OPER",5487.27,3848.47,1127.57,511.23]
["926100","K50","CD","AA","OPER",3359.63,2356.2800000000002,690.36,312.99]
["926100","K51","CD","AA","OPER",118158.75,82869.87,24280.27,11008.61]
["926100","K53","CD","AA","OPER",8632.1200000000008,6054.21,1773.89,804.02]
["926100","L07","ED","AN","OPER",973.11,973.11]
["926100","L08","CD","AA","OPER",665.39,466.68,136.72999999999999,61.98]
["926100","L11","CD","AA","OPER",500,350.68,102.75,46.57]
["926100","L39","CD","AA","OPER",22393.9,15705.96,4601.71,2086.23]
["926100","L50","ED","AN","OPER",5874.74,5874.74]
["926100","L50","GD","AA","OPER",3538.43,null,2426.0300000000002,1112.4000000000001]
["926100","L51","CD","AA","OPER",1607.16,1127.19,330.24,149.72999999999999]
["926100","L53","ED","AN","OPER",10916.76,10916.76]
["926100","L53","CD","AA","OPER",4217.2299999999996,2957.75,866.6,392.88]
["926100","L54","CD","AA","OPER",50573.83,35469.980000000003,10392.43,4711.42]
["926100","M02","CD","AA","OPER",17937.36,12580.36,3685.91,1671.09]
["926100","M08","CD","AA","OPER",5888.86,4130.13,1210.0899999999999,548.64]
["926100","M09","CD","AA","OPER",9695.26,6799.77,1992.29,903.2]
["926100","M11","CD","AA","OPER",38936.86,27308.37,8001.14,3627.35]
["926100","M19","CD","AA","OPER",250,175.34,51.37,23.29]
["926100","M50","ED","AN","OPER",4204.92,4204.92]
["926100","N02","CD","AA","OPER",45.48,31.9,9.35,4.2300000000000004]
["926100","N08","ED","AN","OPER",38.26,38.26]
["926100","N08","CD","AN","OPER",299.37,232.66,66.709999999999994]
["926100","N09","CD","AA","OPER",8031.49,5632.87,1650.34,748.28]
["926100","P03","CD","AA","OPER",20666.240000000002,14494.32,4246.6899999999996,1925.23]
["926100","P03","CD","WA","OPER",716.19,556.59,159.6]
["926100","P03","ED","AN","OPER",102.91,102.91]
["926100","P07","CD","AA","OPER",3742.37,2624.71,769.03,348.63]
["926100","P08","CD","AN","OPER",3340.09,2595.7399999999998,744.35]
["926100","P08","CD","AA","OPER",1022.6,717.2,210.12,95.28]
["926100","P08","ED","AN","OPER",831.93,831.93]
["926100","P09","CD","AA","OPER",92035.57,64549.11,18912.36,8574.1]
["926100","P51","CD","AA","OPER",10145.84,7115.79,2084.85,945.2]
["926100","P59","CD","AA","OPER",6299.94,4418.46,1294.55,586.92999999999995]
["926100","P99","CD","AA","OPER",21567.77,15126.53,4431.8599999999997,2009.38]
["926100","Q19","CD","AA","OPER",21311.759999999998,14946.98,4379.3,1985.48]
["926100","R07","CD","AA","OPER",508.74,356.8,104.54,47.4]
["926100","R09","CD","AA","OPER",1648.31,1156.03,338.72,153.56]
["926100","R11","ED","AN","OPER",1219.67,1219.67]
["926100","R11","CD","AA","OPER",11423.17,8011.63,2347.3200000000002,1064.22]
["926100","R19","CD","AA","OPER",0,0,0,0]
["926100","R29","CD","AA","OPER",1706.68,1196.99,350.7,158.99]
["926100","R51","ED","AN","OPER",8956.39,8956.39]
["926100","R51","CD","AA","OPER",1921.38,1347.56,394.82,179]
["926100","R53","CD","AA","OPER",1305.96,915.95,268.37,121.64]
["926100","R54","CD","AA","OPER",30257.02,21220.81,6217.48,2818.73]
["926100","S09","CD","AA","OPER",16800,11782.68,3452.23,1565.09]
["926100","S19","CD","AA","OPER",1518.66,1065.1099999999999,312.07,141.47999999999999]
["926100","S39","CD","AA","OPER",98,68.739999999999995,20.14,9.1199999999999992]
["926100","S50","CD","AA","OPER",19918.740000000002,13970.02,4093.12,1855.6]
["926100","S50","ED","AN","OPER",904.69,904.69]
["926100","S51","CD","AA","OPER",9066.98,6359.11,1863.19,844.68]
["926100","S51","ED","AN","OPER",4291.25,4291.25]
["926100","S51","GD","AA","OPER",3208.42,null,2199.8000000000002,1008.62]
["926100","S51","CD","AN","OPER",615.98,478.71,137.27000000000001]
["926100","S52","CD","AA","OPER",3000,2104.0500000000002,616.47,279.48]
["926100","S54","CD","AA","OPER",16638.18,11669.18,3418.99,1550.01]
["926100","T08","CD","AA","OPER",28060.14,19679.97,5766.08,2614.09]
["926100","T19","CD","AA","OPER",1423.3,998.23,292.48,132.59]
["926100","T39","CD","AA","OPER",13654.73,9576.76,2805.9,1272.07]
["926100","T51","CD","AN","OPER",499,387.8,111.2]
["926100","T51","CD","AA","OPER",10290.4,7217.18,2114.5500000000002,958.67]
["926100","T51","CD","WA","OPER",2595.6999999999998,2017.25,578.45000000000005]
["926100","T54","CD","AA","OPER",22154.86,15538.31,4552.58,2063.9699999999998]
["926100","V08","ED","AN","OPER",400.73,400.73]
["926100","V08","CD","AA","OPER",500,350.68,102.75,46.57]
["926100","V19","CD","AA","OPER",459.9,322.55,94.5,42.85]
["926100","V39","CD","AA","OPER",1869.45,1311.15,384.15,174.15]
["926100","W01","CD","AA","OPER",575,403.28,118.16,53.56]
["926100","W09","CD","AA","OPER",24487.51,17174.32,5031.97,2281.2199999999998]
["926100","W39","CD","AA","OPER",12714.3,8917.16,2612.66,1184.48]
["926100","X02","CD","AA","OPER",22732.9,15943.78,4671.29,2117.83]
["926100","X08","ED","AN","OPER",158.66999999999999,158.66999999999999]
["926100","X09","CD","AA","OPER",3636.09,2550.16,747.17,338.76]
["926100","X39","CD","AA","OPER",13403.03,9400.2099999999991,2754.17,1248.6500000000001]
["926100","Y01","CD","AA","OPER",29814.35,20910.3,6126.58,2777.47]
["926100","Y39","CD","AA","OPER",15680.52,10997.51,3222.2,1460.81]
["926100","Y54","CD","AA","OPER",1773.78,1244.04,364.5,165.24]
["926100","Y55","CD","AA","OPER",9277.4599999999991,6506.76,1906.41,864.29]
["926100","Y55","ED","AN","OPER",1954.31,1954.31]
["926100","Z08","CD","AA","OPER",9204.32,6455.44,1891.44,857.44]
["926100","Z57","ED","AN","OPER",-252.15,-252.15]
["926100","Z87","CD","AN","OPER",6336.45,4924.34,1412.11]
["926100","Z87","CD","WA","OPER",2315.4299999999998,1799.44,515.99]
["926100","Z87","ED","AN","OPER",43198.05,43198.05]
["926100","Z87","CD","AA","OPER",278195.84999999998,195112.75,57166.27,25916.83]
["926100","Z88","CD","AN","OPER",210,163.19999999999999,46.8]
["926100","Z88","ED","AN","OPER",1224.25,1224.25]
["926100","Z88","CD","AA","OPER",26687.200000000001,18717.060000000001,5483.96,2486.1799999999998]
["926100","Z89","ED","AN","OPER",-5887.24,-5887.24]
["926100","Z89","CD","AN","OPER",0,0,0]
["926100","Z89","CD","WA","OPER",0,0,0]
["926100","Z89","CD","AA","OPER",-3903.08,-2737.43,-802.06,-363.59]
["926100","Z90","CD","AA","OPER",37515.32,26311.41,7709.03,3494.88]
["926100","Z90","CD","AN","OPER",219.79,170.82,48.97]
["926100","Z90","CD","WA","OPER",499.73,388.37,111.36]
["926100","Z90","ED","AN","OPER",2689.78,2689.78]
["927000","J53","ED","ID","OPER",1200,1200]
["928000","000","CD","AN","OPER",0,0,0]
["928000","000","ED","WA","OPER",12.25,12.25]
["928000","000","ED","AN","OPER",0,0]
["928000","000","GD","WA","OPER",3.55,null,3.55]
["928000","000","CD","ID","OPER",2.66,2.0699999999999998,0.59]
["928000","000","GD","OR","OPER",11.6,null,null,11.6]
["928000","000","CD","AA","OPER",6.29,4.41,1.29,0.59]
["928000","000","CD","WA","OPER",21.97,17.07,4.9000000000000004]
["928000","A07","CD","ID","OPER",1294.04,1005.66,288.38]
["928000","A50","ED","WA","OPER",248.08,248.08]
["928000","A56","ED","WA","OPER",1107.8800000000001,1107.8800000000001]
["928000","A57","CD","WA","OPER",348.63,270.94,77.69]
["928000","A57","GD","OR","OPER",242.14,null,null,242.14]
["928000","B09","ED","WA","OPER",257.85000000000002,257.85000000000002]
["928000","B56","ED","AN","OPER",445257.46,445257.46]
["928000","C08","ED","WA","OPER",952.99,952.99]
["928000","C19","GD","OR","OPER",20,null,null,20]
["928000","C51","CD","AA","OPER",823.49,577.54999999999995,169.22,76.72]
["928000","C54","GD","OR","OPER",443.22,null,null,443.22]
["928000","D08","CD","WA","OPER",205.11,159.4,45.71]
["928000","D09","ED","WA","OPER",1097.18,1097.18]
["928000","D55","GD","ID","OPER",1136.05,null,1136.05]
["928000","D55","GD","OR","OPER",4725.6000000000004,null,null,4725.6000000000004]
["928000","D55","CD","WA","OPER",71.8,55.8,16]
["928000","D55","GD","WA","OPER",957.21,null,957.21]
["928000","D56","CD","AA","OPER",1386.43,972.37,284.89999999999998,129.16]
["928000","D56","ED","ID","OPER",1970.19,1970.19]
["928000","D56","ED","WA","OPER",2892.4,2892.4]
["928000","E01","ED","WA","OPER",1317.2,1317.2]
["928000","E01","CD","ID","OPER",4.2300000000000004,3.29,0.94]
["928000","E01","CD","WA","OPER",30892.02,24007.75,6884.27]
["928000","E01","GD","OR","OPER",398,null,null,398]
["928000","E14","GD","OR","OPER",550,null,null,550]
["928000","E14","CD","AN","OPER",2160.09,1678.71,481.38]
["928000","E51","ED","AN","OPER",305.89,305.89]
["928000","E52","GD","OR","OPER",121.41,null,null,121.41]
["928000","E55","CD","WA","OPER",1320.7,1026.3900000000001,294.31]
["928000","E55","GD","ID","OPER",21.38,null,21.38]
["928000","E55","CD","ID","OPER",367.8,285.83,81.97]
["928000","E55","ED","WA","OPER",12809.03,12809.03]
["928000","E55","ED","ID","OPER",521.72,521.72]
["928000","E56","ED","ID","OPER",646.54,646.54]
["928000","F52","ED","WA","OPER",834.6,834.6]
["928000","F52","CD","AA","OPER",800,561.08000000000004,164.39,74.53]
["928000","F52","CD","WA","OPER",12.34,9.59,2.75]
["928000","F54","GD","ID","OPER",42.76,null,42.76]
["928000","H04","ED","AN","OPER",2212803.7799999998,2212803.7799999998]
["928000","J29","ED","AN","OPER",19813.73,19813.73]
["928000","J51","ED","WA","OPER",378.39,378.39]
["928000","J54","ED","ID","OPER",250.95,250.95]
["928000","M08","ED","WA","OPER",676.22,676.22]
["928000","P99","CD","WA","OPER",555.49,431.7,123.79]
["928000","P99","GD","OR","OPER",20,null,null,20]
["928000","R11","ED","ID","OPER",644142.35,644142.35]
["928000","R11","CD","AN","OPER",811.89,630.96,180.93]
["928000","R11","GD","AN","OPER",1050.67,null,1050.67]
["928000","R11","GD","AA","OPER",6910.91,null,4738.25,2172.66]
["928000","R11","CD","AA","OPER",817117.63,573085.4,167909.58,76122.649999999994]
["928000","R11","GD","ID","OPER",159666.29,null,159666.29]
["928000","R11","GD","OR","OPER",684031.35,null,null,684031.35]
["928000","R11","GD","WA","OPER",376455.41,null,376455.41]
["928000","R11","CD","WA","OPER",125992.75,97915.28,28077.47]
["928000","R11","CD","ID","OPER",49479.38,38452.910000000003,11026.47]
["928000","R11","ED","AN","OPER",17333.53,17333.53]
["928000","R11","ED","WA","OPER",1231269.54,1231269.54]
["928000","S01","CD","ID","OPER",312.98,243.23,69.75]
["928000","S51","ED","WA","OPER",19.34,19.34]
["928000","S51","CD","WA","OPER",0.96,0.74,0.22]
["928000","S51","CD","AA","OPER",430.16,301.69,88.4,40.07]
["928000","S51","ED","AN","OPER",4.42,4.42]
["928000","T07","CD","ID","OPER",490.8,381.42,109.38]
["928000","T08","ED","WA","OPER",688.51,688.51]
["928000","T51","ED","WA","OPER",968.04,968.04]
["928000","T52","GD","ID","OPER",623.75,null,623.75]
["928000","T52","ED","ID","OPER",623.75,623.75]
["928000","X09","GD","OR","OPER",430.97,null,null,430.97]
["928000","Z87","GD","OR","OPER",47006.94,null,null,47006.94]
["928000","Z87","ED","ID","OPER",17661.490000000002,17661.490000000002]
["928000","Z87","CD","AN","OPER",2137.38,1661.05,476.33]
["928000","Z87","GD","WA","OPER",22915.43,null,22915.43]
["928000","Z87","CD","ID","OPER",34366.35,26707.87,7658.48]
["928000","Z87","CD","AA","OPER",555258.30000000005,389430.42,114100.01,51727.87]
["928000","Z87","CD","WA","OPER",95798.56,74449.87,21348.69]
["928000","Z87","ED","WA","OPER",105362.82,105362.82]
["928000","Z87","GD","ID","OPER",9003.2000000000007,null,9003.2000000000007]
["928000","Z87","GD","AN","OPER",805.86,null,805.86]
["928000","Z87","ED","AN","OPER",9937.83,9937.83]
["928000","Z87","GD","AA","OPER",3083.29,null,2113.98,969.31]
["928000","Z88","CD","ID","OPER",7810,6069.54,1740.46]
["928000","Z88","CD","WA","OPER",74998,58284.71,16713.29]
["928000","Z88","GD","OR","OPER",44198,null,null,44198]
["928000","Z88","ED","WA","OPER",25685,25685]
["928000","Z88","GD","WA","OPER",20350,null,20350]
["928000","Z89","GD","WA","OPER",351.33,null,351.33]
["928000","Z89","ED","WA","OPER",2177.81,2177.81]
["928000","Z89","CD","ID","OPER",-215.94,-167.81,-48.13]
["928000","Z89","ED","ID","OPER",1174.82,1174.82]
["928000","Z89","GD","AN","OPER",0,null,0]
["928000","Z89","GD","ID","OPER",99.86,null,99.86]
["928000","Z89","CD","WA","OPER",-3251.63,-2527,-724.63]
["928000","Z89","CD","AN","OPER",0,0,0]
["928000","Z89","GD","AA","OPER",0,null,0,0]
["928000","Z89","GD","OR","OPER",-226.81,null,null,-226.81]
["928000","Z89","CD","AA","OPER",3131.14,2196.0300000000002,643.41,291.7]
["928000","Z89","ED","AN","OPER",0,0]
["928000","Z90","ED","AN","OPER",1602.71,1602.71]
["928000","Z90","GD","WA","OPER",4121.49,null,4121.49]
["928000","Z90","CD","WA","OPER",13508.22,10497.93,3010.29]
["928000","Z90","ED","ID","OPER",3616.99,3616.99]
["928000","Z90","CD","AA","OPER",104530.69,73312.58,21480,9738.11]
["928000","Z90","CD","ID","OPER",6939.58,5393.08,1546.5]
["928000","Z90","GD","AN","OPER",125.03,null,125.03]
["928000","Z90","GD","OR","OPER",8752.9699999999993,null,null,8752.9699999999993]
["928000","Z90","CD","AN","OPER",341.01,265.02,75.989999999999995]
["928000","Z90","ED","WA","OPER",18582.310000000001,18582.310000000001]
["928000","Z90","GD","AA","OPER",706.65,null,484.5,222.15]
["928000","Z90","GD","ID","OPER",1737.57,null,1737.57]
["930200","000","CD","AA","OPER",4142.5,2905.34,851.24,385.92]
["930200","000","ED","AN","OPER",642.42999999999995,642.42999999999995]
["930200","000","ED","WA","OPER",0,0]
["930200","000","CD","AN","OPER",1797.54,1396.96,400.58]
["930200","000","CD","ID","OPER",505.16,392.59,112.57]
["930200","000","GD","OR","OPER",7.39,null,null,7.39]
["930200","000","GD","AA","OPER",20.83,null,14.28,6.55]
["930200","000","CD","WA","OPER",13.5,10.49,3.01]
["930200","A04","ED","AN","OPER",29870.69,29870.69]
["930200","A07","ED","AN","OPER",43120,43120]
["930200","A08","ED","AN","OPER",389,389]
["930200","A50","ED","AN","OPER",4571.67,4571.67]
["930200","A50","GD","AA","OPER",267.68,null,183.53,84.15]
["930200","A50","CD","AA","OPER",0,0,0,0]
["930200","A53","CD","AA","OPER",82.64,57.96,16.98,7.7]
["930200","A54","ED","WA","OPER",4834.49,4834.49]
["930200","A54","CD","AA","OPER",10000,7013.5,2054.9,931.6]
["930200","A57","CD","AA","OPER",2542.02,1782.81,522.35,236.86]
["930200","A81","CD","AA","OPER",1710,1199.3,351.39,159.31]
["930200","A81","GD","AA","OPER",14803.99,null,10149.950000000001,4654.04]
["930200","A81","GD","OR","OPER",4003.62,null,null,4003.62]
["930200","A82","GD","AA","OPER",2308.0700000000002,null,1582.47,725.6]
["930200","A83","GD","AA","OPER",3240.55,null,2221.79,1018.76]
["930200","A83","GD","OR","OPER",1874.18,null,null,1874.18]
["930200","B02","CD","AA","OPER",30509.87,21398.080000000002,6269.47,2842.32]
["930200","B04","ED","AN","OPER",3833.59,3833.59]
["930200","B07","ED","AN","OPER",16497.52,16497.52]
["930200","B08","CD","AA","OPER",112131.64,78643.59,23041.99,10446.06]
["930200","B09","ED","AN","OPER",125.18,125.18]
["930200","B16","CD","AN","OPER",8650,6722.35,1927.65]
["930200","B16","CD","ID","OPER",11441.32,8891.6200000000008,2549.6999999999998]
["930200","B16","CD","WA","OPER",8927.1200000000008,6937.71,1989.41]
["930200","B16","CD","AA","OPER",8108.79,5687.08,1666.26,755.45]
["930200","B50","ED","AN","OPER",6884.65,6884.65]
["930200","B50","CD","AN","OPER",11401.9,8861.0499999999993,2540.85]
["930200","B50","CD","AA","OPER",66.34,46.53,13.63,6.18]
["930200","B51","GD","AA","OPER",10095.6,null,6921.75,3173.85]
["930200","B51","CD","AA","OPER",70,49.09,14.38,6.53]
["930200","B52","GD","AA","OPER",2580.64,null,1769.33,811.31]
["930200","B53","CD","AN","OPER",3175.87,2468.12,707.75]
["930200","B53","ED","AN","OPER",11734.49,11734.49]
["930200","B53","GD","AA","OPER",2647.85,null,1815.42,832.43]
["930200","B54","GD","OR","OPER",1074.6099999999999,null,null,1074.6099999999999]
["930200","B54","CD","AA","OPER",2177.27,1527.03,447.4,202.84]
["930200","B54","GD","AA","OPER",24946.89,null,17104.080000000002,7842.81]
["930200","C08","CD","AA","OPER",2195.1,1539.52,451.09,204.49]
["930200","C08","GD","AA","OPER",86.8,null,59.51,27.29]
["930200","C09","CD","AA","OPER",27.92,19.579999999999998,5.74,2.6]
["930200","C11","CD","AA","OPER",2334.87,1637.57,479.79,217.51]
["930200","C11","ED","AN","OPER",9730.39,9730.39]
["930200","C50","CD","AA","OPER",2770.24,1942.91,569.26,258.07]
["930200","C51","ED","AN","OPER",5359.89,5359.89]
["930200","C51","CD","AN","OPER",4851.97,3770.72,1081.25]
["930200","C53","CD","AA","OPER",159.13999999999999,111.61,32.71,14.82]
["930200","C53","CD","AN","OPER",465.12,361.45,103.67]
["930200","C53","GD","AA","OPER",9291.2099999999991,null,6370.23,2920.98]
["930200","C54","CD","AA","OPER",2509.31,1759.9,515.62,233.79]
["930200","C57","ED","AN","OPER",1493.73,1493.73]
["930200","C57","CD","AN","OPER",2441.52,1897.41,544.11]
["930200","C83","GD","OR","OPER",880.77,null,null,880.77]
["930200","C83","GD","AA","OPER",2704.15,null,1854.03,850.12]
["930200","D02","CD","AA","OPER",93576,65629.539999999994,19228.919999999998,8717.5400000000009]
["930200","D08","CD","AA","OPER",6287.98,4410.1000000000004,1292.06,585.82000000000005]
["930200","D08","ED","AN","OPER",37625,37625]
["930200","D08","GD","AA","OPER",3579.12,null,2453.91,1125.21]
["930200","D09","CD","AN","OPER",112.77,87.64,25.13]
["930200","D50","CD","AA","OPER",403.77,283.18,82.98,37.61]
["930200","D51","ED","AN","OPER",332.79,332.79]
["930200","D51","CD","AN","OPER",35.229999999999997,27.38,7.85]
["930200","D51","CD","AA","OPER",8933,6265.16,1835.64,832.2]
["930200","D53","CD","AN","OPER",3433.6,2668.41,765.19]
["930200","D53","ED","AN","OPER",8259.98,8259.98]
["930200","D53","GD","AA","OPER",600.47,null,411.7,188.77]
["930200","D54","CD","AA","OPER",4476.05,3139.28,919.78,416.99]
["930200","D56","ED","AN","OPER",232,232]
["930200","E01","GD","AA","OPER",4634.1499999999996,null,3177.25,1456.9]
["930200","E01","ED","AN","OPER",337602.65,337602.65]
["930200","E01","CD","AA","OPER",517959.25,363270.66,106435.45,48253.14]
["930200","E01","GD","OR","OPER",21.62,null,null,21.62]
["930200","E01","CD","ID","OPER",346.8,269.52,77.28]
["930200","E01","CD","WA","OPER",2361.6,1835.32,526.28]
["930200","E02","CD","AA","OPER",52.24,36.630000000000003,10.73,4.88]
["930200","E07","ED","AN","OPER",2284.0300000000002,2284.0300000000002]
["930200","E51","ED","AN","OPER",51329.03,51329.03]
["930200","F08","CD","AA","OPER",43.19,30.29,8.8800000000000008,4.0199999999999996]
["930200","F50","CD","AA","OPER",2402.56,1685.04,493.71,223.81]
["930200","F50","GD","OR","OPER",0,null,null,0]
["930200","F52","ED","AN","OPER",17091.8,17091.8]
["930200","F52","GD","AA","OPER",19260.73,null,13205.56,6055.17]
["930200","F52","CD","AA","OPER",23877.52,16746.5,4906.6000000000004,2224.42]
["930200","F53","CD","WA","OPER",225.86,175.51,50.35]
["930200","F53","CD","AN","OPER",7775,6042.35,1732.65]
["930200","F53","CD","ID","OPER",3239.13,2517.29,721.84]
["930200","F54","ED","AN","OPER",333.05,333.05]
["930200","F54","CD","AA","OPER",472978.84,331723.71000000002,97192.42,44062.71]
["930200","F55","ED","AN","OPER",212.78,212.78]
["930200","G02","CD","AA","OPER",4873.18,3417.82,1001.34,454.02]
["930200","G07","CD","WA","OPER",99.04,76.97,22.07]
["930200","G08","CD","AN","OPER",131.25,102,29.25]
["930200","G39","CD","AA","OPER",3054.72,2142.42,627.70000000000005,284.60000000000002]
["930200","G50","GD","AA","OPER",1234.06,null,846.1,387.96]
["930200","G50","ED","AN","OPER",8909.57,8909.57]
["930200","G50","CD","AN","OPER",2361.92,1835.47,526.45000000000005]
["930200","G51","GD","AA","OPER",17444.79,null,11960.48,5484.31]
["930200","G53","CD","ID","OPER",27023.279999999999,21001.15,6022.13]
["930200","G54","CD","AA","OPER",21928,15379.2,4505.9799999999996,2042.82]
["930200","H02","CD","AA","OPER",2012.57,1411.52,413.56,187.49]
["930200","H04","ED","AN","OPER",265,265]
["930200","H14","CD","AA","OPER",3737.89,2621.58,768.08,348.23]
["930200","H14","CD","WA","OPER",575,446.86,128.13999999999999]
["930200","H14","ED","AN","OPER",1431.79,1431.79]
["930200","H14","CD","AN","OPER",9434.18,7331.76,2102.42]
["930200","H50","CD","AN","OPER",1053.75,818.95,234.8]
["930200","H50","ED","AN","OPER",2755.84,2755.84]
["930200","H51","CD","AA","OPER",746.55,523.61,153.41,69.53]
["930200","H53","GD","AA","OPER",2643.97,null,1812.77,831.2]
["930200","H53","CD","AN","OPER",1780.62,1383.82,396.8]
["930200","H53","ED","AN","OPER",5825.1,5825.1]
["930200","H54","CD","AA","OPER",10570.1,7413.32,2172,984.78]
["930200","I02","CD","AA","OPER",82125.98,57598.69,16875.97,7651.32]
["930200","I02","CD","AN","OPER",854.05,663.73,190.32]
["930200","I08","GD","AA","OPER",494.01,null,338.7,155.31]
["930200","I08","CD","AA","OPER",855.56,600.04999999999995,175.81,79.7]
["930200","J01","CD","AA","OPER",300.70999999999998,210.9,61.79,28.02]
["930200","J07","ED","AN","OPER",1296.3,1296.3]
["930200","J08","GD","AA","OPER",799,null,547.80999999999995,251.19]
["930200","J08","GD","OR","OPER",598.66999999999996,null,null,598.66999999999996]
["930200","J09","CD","AA","OPER",15058.67,10561.4,3094.41,1402.86]
["930200","J29","CD","AA","OPER",0,0,0,0]
["930200","J50","CD","WA","OPER",88967.76,69141.279999999999,19826.48]
["930200","J50","CD","AA","OPER",1031.48,723.4,211.98,96.1]
["930200","J50","CD","ID","OPER",3812.5,2962.88,849.62]
["930200","J50","CD","AN","OPER",19500,15154.43,4345.57]
["930200","J51","ED","AN","OPER",73.34,73.34]
["930200","J51","CD","AA","OPER",172.99,121.33,35.549999999999997,16.11]
["930200","J51","CD","AN","OPER",183.35,142.49,40.86]
["930200","J53","CD","AN","OPER",3422.45,2659.77,762.68]
["930200","J53","GD","AA","OPER",168.36,null,115.44,52.92]
["930200","J53","ED","AN","OPER",9664.9599999999991,9664.9599999999991]
["930200","K07","ED","AN","OPER",1000,1000]
["930200","K08","ED","AN","OPER",242.07,242.07]
["930200","K08","GD","AA","OPER",57.34,null,39.31,18.03]
["930200","K50","CD","AA","OPER",10704.77,7507.81,2199.73,997.23]
["930200","K53","CD","AA","OPER",1246.5999999999999,874.3,256.17,116.13]
["930200","L08","ED","AN","OPER",582,582]
["930200","L50","GD","AA","OPER",6630.97,null,4546.3500000000004,2084.62]
["930200","L50","CD","AA","OPER",363.84,255.18,74.760000000000005,33.9]
["930200","L50","CD","AN","OPER",941.1,731.37,209.73]
["930200","L50","ED","AN","OPER",101.06,101.06]
["930200","L51","CD","AA","OPER",1409.8,988.77,289.7,131.33000000000001]
["930200","L51","ED","AN","OPER",1580.51,1580.51]
["930200","L53","CD","AA","OPER",4032.21,2828.05,828.5,375.66]
["930200","L53","CD","AN","OPER",11265.51,8755.0300000000007,2510.48]
["930200","L53","ED","AN","OPER",3390.5,3390.5]
["930200","M02","CD","AA","OPER",180.93,126.89,37.18,16.86]
["930200","M08","ED","AN","OPER",27275.08,27275.08]
["930200","M11","CD","AA","OPER",4070.54,2854.87,836.47,379.2]
["930200","M11","GD","AA","OPER",31.34,null,21.49,9.85]
["930200","M11","CD","AN","OPER",174.47,135.59,38.880000000000003]
["930200","M50","ED","AN","OPER",757.98,757.98]
["930200","M50","CD","AN","OPER",747.05,580.58000000000004,166.47]
["930200","M54","CD","WA","OPER",64.209999999999994,49.9,14.31]
["930200","M54","CD","AA","OPER",35937.65,25204.82,7384.82,3348.01]
["930200","M54","ED","AN","OPER",152.97999999999999,152.97999999999999]
["930200","N02","CD","AA","OPER",1209,847.93,248.44,112.63]
["930200","N08","CD","AA","OPER",420.86,295.17,86.48,39.21]
["930200","N08","CD","WA","OPER",36.590000000000003,28.44,8.15]
["930200","N09","GD","AA","OPER",46.58,null,31.94,14.64]
["930200","P07","CD","AA","OPER",3086.2,2164.5,634.17999999999995,287.52]
["930200","P07","ED","AN","OPER",5479.64,5479.64]
["930200","P08","GD","AA","OPER",1503,null,1030.49,472.51]
["930200","P08","ED","AN","OPER",3804.72,3804.72]
["930200","P09","CD","AA","OPER",445.68,312.58,91.58,41.52]
["930200","P09","CD","WA","OPER",2943.39,2287.44,655.95]
["930200","P09","CD","ID","OPER",1162.4100000000001,903.36,259.05]
["930200","P50","CD","AN","OPER",54.5,42.35,12.15]
["930200","P50","ED","AN","OPER",5018.32,5018.32]
["930200","P51","ED","AN","OPER",503.5,503.5]
["930200","P53","CD","WA","OPER",6320.94,4912.28,1408.66]
["930200","P53","CD","ID","OPER",4988.63,3876.9,1111.73]
["930200","P53","CD","AN","OPER",1224.5,951.63,272.87]
["930200","R07","ED","AN","OPER",769.99,769.99]
["930200","R08","CD","AA","OPER",440.43,308.89999999999998,90.5,41.03]
["930200","R08","GD","AA","OPER",3829.53,null,2625.61,1203.92]
["930200","R51","CD","AA","OPER",276,193.57,56.72,25.71]
["930200","R53","CD","AN","OPER",544.9,423.47,121.43]
["930200","R53","ED","AN","OPER",18163.75,18163.75]
["930200","R54","ED","AN","OPER",1748.19,1748.19]
["930200","R54","CD","AA","OPER",32012.14,22451.7,6578.2,2982.24]
["930200","S01","CD","AA","OPER",3804.39,2668.22,781.77,354.4]
["930200","S50","CD","AA","OPER",4574.66,3208.44,940.06,426.16]
["930200","S50","ED","AN","OPER",957.66,957.66]
["930200","S51","CD","AA","OPER",466.31,327.06,95.85,43.4]
["930200","S51","ED","AN","OPER",6138.6,6138.6]
["930200","S51","CD","WA","OPER",13.41,10.43,2.98]
["930200","S51","CD","AN","OPER",2457.4299999999998,1909.8,547.63]
["930200","S51","GD","AA","OPER",1739.76,null,1192.81,546.95000000000005]
["930200","S51","GD","OR","OPER",215.43,null,null,215.43]
["930200","S52","CD","AA","OPER",1951.44,1368.61,401.01,181.82]
["930200","S53","ED","AN","OPER",2936.89,2936.89]
["930200","S53","CD","AN","OPER",37.67,29.27,8.4]
["930200","S54","CD","AA","OPER",218753.93,153422.98000000001,44951.65,20379.3]
["930200","S54","ED","AN","OPER",16836.560000000001,16836.560000000001]
["930200","T01","CD","AA","OPER",7281.4,5106.82,1496.24,678.34]
["930200","T08","ED","AN","OPER",3024.63,3024.63]
["930200","T08","CD","AA","OPER",1547.87,1085.6099999999999,318.06,144.19999999999999]
["930200","T51","CD","AA","OPER",8504.69,5964.79,1747.61,792.29]
["930200","T51","ED","AN","OPER",117.3,117.3]
["930200","U01","ED","AN","OPER",26045.53,26045.53]
["930200","U01","CD","AA","OPER",40074.94,28106.48,8234.9599999999991,3733.5]
["930200","V01","CD","AA","OPER",-6020.7,-4222.62,-1237.21,-560.87]
["930200","V01","ED","AN","OPER",0,0]
["930200","V08","CD","AA","OPER",34020.33,23860.1,6990.85,3169.38]
["930200","V08","CD","AN","OPER",205.38,159.61000000000001,45.77]
["930200","V19","CD","AA","OPER",1241.73,870.89,255.16,115.68]
["930200","V50","GD","OR","OPER",23880.49,null,null,23880.49]
["930200","W01","ED","AN","OPER",8991.5400000000009,8991.5400000000009]
["930200","W01","CD","AA","OPER",143.34,100.53,29.45,13.36]
["930200","W09","CD","AA","OPER",456.61,320.25,93.83,42.53]
["930200","W39","CD","WA","OPER",205.28,159.53,45.75]
["930200","X01","CD","AA","OPER",1650,1157.23,339.06,153.71]
["930200","X02","CD","AA","OPER",3146.17,2206.58,646.49,293.10000000000002]
["930200","X08","CD","AA","OPER",199.95,140.24,41.09,18.62]
["930200","Y01","CD","AA","OPER",1645687.39,1154202.75,338172.32,153312.32000000001]
["930200","Y54","CD","AA","OPER",296141.51,207698.84,60854.12,27588.55]
["930200","Y54","ED","AN","OPER",1400,1400]
["930200","Y54","GD","AA","OPER",895,null,613.63,281.37]
["930200","Y55","CD","AA","OPER",505,354.18,103.77,47.05]
["930200","Z08","CD","AA","OPER",1127.0899999999999,790.49,231.6,105]
["930200","Z87","CD","ID","OPER",8491.66,6599.34,1892.32]
["930200","Z87","CD","WA","OPER",6646.92,5165.67,1481.25]
["930200","Z87","GD","OR","OPER",554.69000000000005,null,null,554.69000000000005]
["930200","Z87","ED","AN","OPER",85803.27,85803.27]
["930200","Z87","CD","AN","OPER",24101.58,18730.54,5371.04]
["930200","Z87","GD","AA","OPER",40815.32,null,27983.95,12831.37]
["930200","Z87","CD","AA","OPER",134601.45000000001,94402.68,27659.25,12539.52]
["930200","Z88","GD","AA","OPER",96168.1,null,65934.89,30233.21]
["930200","Z88","CD","AN","OPER",4716.7,3665.6,1051.0999999999999]
["930200","Z88","ED","AN","OPER",189669.45,189669.45]
["930200","Z88","CD","AA","OPER",144586.20000000001,101405.54,29711,13469.66]
["930200","Z89","GD","OR","OPER",-31.78,null,null,-31.78]
["930200","Z89","CD","AA","OPER",8011.48,5618.85,1646.29,746.34]
["930200","Z89","CD","AN","OPER",486,377.7,108.3]
["930200","Z89","CD","WA","OPER",418.98,325.61,93.37]
["930200","Z89","ED","AN","OPER",-1548.18,-1548.18]
["930200","Z89","GD","AA","OPER",-1447.3,null,-992.31,-454.99]
["930200","Z89","CD","ID","OPER",0,0,0]
["930200","Z90","CD","ID","OPER",1433.93,1114.3599999999999,319.57]
["930200","Z90","GD","AA","OPER",3880.37,null,2660.35,1220.02]
["930200","Z90","GD","OR","OPER",91.84,null,null,91.84]
["930200","Z90","CD","AA","OPER",9680.34,6789.3,1989.24,901.8]
["930200","Z90","CD","AN","OPER",1770.4,1375.93,394.47]
["930200","Z90","CD","WA","OPER",1183.9000000000001,920.06,263.83999999999997]
["930200","Z90","ED","AN","OPER",6621.93,6621.93]
["931000","000","CD","AA","OPER",0,0,0,0]
["931000","000","ED","AN","OPER",-43432.89,-43432.89]
["931000","000","CD","AN","OPER",212.15,164.87,47.28]
["931000","A09","CD","AN","OPER",211040.38,164010.04999999999,47030.33]
["931000","F54","CD","AA","OPER",213855.55,149987.57,43945.17,19922.810000000001]
["931000","H07","CD","AA","OPER",67925,47639.24,13957.9,6327.86]
["931000","H07","CD","AN","OPER",14420,11206.51,3213.49]
["931000","H07","GD","WA","OPER",6820,null,6820]
["931000","H07","ED","ID","OPER",3500,3500]
["931000","J29","CD","AN","OPER",104300.37,81056.990000000005,23243.38]
["931000","V08","CD","AA","OPER",4907.54,3441.92,1008.45,457.17]
["935000","000","ED","ID","OPER",350.72,350.72]
["935000","000","GD","WA","OPER",1516.25,null,1516.25]
["935000","000","CD","ID","OPER",1945,1511.56,433.44]
["935000","000","CD","AN","OPER",995.95,774,221.95]
["935000","000","CD","WA","OPER",2026.86,1575.17,451.69]
["935000","000","ED","WA","OPER",104.65,104.65]
["935000","000","CD","AA","OPER",65685.679999999993,46068.65,13497.75,6119.28]
["935000","000","GD","AS","OPER",44.98,null,null,44.98]
["935000","000","GD","OR","OPER",367.26,null,null,367.26]
["935000","000","ED","AN","OPER",83.05,83.05]
["935000","099","CD","AA","OPER",-19,-13.33,-3.9,-1.77]
["935000","A09","CD","AA","OPER",8135215.21,5705633.2400000002,1671705.44,757876.53]
["935000","A09","CD","AN","OPER",81263,63153.54,18109.46]
["935000","A09","ED","WA","OPER",175879.3,175879.3]
["935000","A19","CD","AA","OPER",9.68,6.79,1.99,0.9]
["935000","A39","CD","AA","OPER",872.46,611.91,179.29,81.260000000000005]
["935000","A50","CD","ID","OPER",2226.5700000000002,1730.38,496.19]
["935000","A50","CD","AN","OPER",899.24,698.85,200.39]
["935000","A50","CD","AA","OPER",68.75,48.22,14.13,6.4]
["935000","A81","CD","AA","OPER",116.85,81.95,24.01,10.89]
["935000","A83","CD","AA","OPER",116.85,81.95,24.01,10.89]
["935000","A83","GD","OR","OPER",101.26,null,null,101.26]
["935000","B02","CD","AA","OPER",-8.51,-5.97,-1.75,-0.79]
["935000","B07","CD","AA","OPER",56.33,39.51,11.57,5.25]
["935000","B09","CD","AA","OPER",139924.6,98136.12,28753.05,13035.43]
["935000","B09","CD","AN","OPER",527725.84,410122.17,117603.67]
["935000","B50","CD","AN","OPER",2400.7800000000002,1865.77,535.01]
["935000","B50","CD","AA","OPER",2830,1984.8,581.57000000000005,263.63]
["935000","B53","CD","AA","OPER",1067.1300000000001,748.43,219.29,99.41]
["935000","B53","CD","AN","OPER",18577.310000000001,14437.38,4139.93]
["935000","B53","ED","ID","OPER",1600,1600]
["935000","B53","ED","WA","OPER",854.99,854.99]
["935000","B56","ED","AN","OPER",10937.41,10937.41]
["935000","C09","CD","AA","OPER",1547.37,1085.25,317.97000000000003,144.15]
["935000","C09","ED","AN","OPER",108.72,108.72]
["935000","C29","CD","AA","OPER",41386.980000000003,29026.75,8504.6,3855.63]
["935000","C53","CD","ID","OPER",5115.8900000000003,3975.77,1140.1199999999999]
["935000","C53","CD","AA","OPER",9182.31,6439.93,1886.91,855.47]
["935000","C57","CD","AA","OPER",2683.99,1882.42,551.54,250.03]
["935000","D09","CD","AN","OPER",811.91,630.98,180.93]
["935000","D09","CD","AA","OPER",0,0,0,0]
["935000","D09","ED","AN","OPER",784415.93,784415.93]
["935000","D50","ED","WA","OPER",607.9,607.9]
["935000","D53","CD","AA","OPER",1518.43,1064.96,312.02,141.44999999999999]
["935000","D53","CD","AN","OPER",76.19,59.21,16.98]
["935000","E09","CD","AA","OPER",3322.69,2330.35,682.8,309.54000000000002]
["935000","E14","ED","AN","OPER",8974.7000000000007,8974.7000000000007]
["935000","E19","CD","AA","OPER",72410.16,50784.88,14879.56,6745.72]
["935000","E19","CD","AN","OPER",10865.16,8443.86,2421.3000000000002]
["935000","E29","CD","AA","OPER",22657.94,15891.16,4655.99,2110.79]
["935000","E51","CD","AA","OPER",61240.36,42950.92,12584.29,5705.15]
["935000","F39","CD","AA","OPER",659.89,462.81,135.6,61.48]
["935000","G39","CD","AA","OPER",5771.72,4047.99,1186.03,537.70000000000005]
["935000","G50","CD","WA","OPER",4541.95,3529.76,1012.19]
["935000","H04","ED","AN","OPER",1537.75,1537.75]
["935000","H07","CD","AA","OPER",3119634.76,2187956.12,641053.64,290625]
["935000","H07","CD","WA","OPER",262371.67,203902.07,58469.599999999999]
["935000","H07","ED","AN","OPER",10147.799999999999,10147.799999999999]
["935000","H07","GD","OR","OPER",158168.9,null,null,158168.9]
["935000","H07","ED","ID","OPER",137620.45000000001,137620.45000000001]
["935000","H07","GD","WA","OPER",157630.21,null,157630.21]
["935000","H07","CD","AN","OPER",242918.26,188783.92,54134.34]
["935000","H07","CD","ID","OPER",292898.09999999998,227625.60000000001,65272.5]
["935000","H07","ED","WA","OPER",48992.3,48992.3]
["935000","H07","GD","AS","OPER",27803.09,null,null,27803.09]
["935000","H08","CD","ID","OPER",0,0,0]
["935000","H50","CD","WA","OPER",143.83000000000001,111.78,32.049999999999997]
["935000","H50","ED","WA","OPER",8583.48,8583.48]
["935000","H51","CD","AA","OPER",15134.44,10614.55,3109.98,1409.91]
["935000","H53","CD","ID","OPER",21023.61,16338.49,4685.12]
["935000","J09","CD","AA","OPER",67.91,47.63,13.95,6.33]
["935000","J29","ED","AN","OPER",138.18,138.18]
["935000","J29","CD","AN","OPER",1271.24,987.94,283.3]
["935000","J29","CD","AA","OPER",107441.3,75353.98,22078.09,10009.23]
["935000","J51","CD","ID","OPER",6648.84,5167.18,1481.66]
["935000","J51","CD","WA","OPER",3361.74,2612.59,749.15]
["935000","J51","CD","AA","OPER",1702.04,1193.73,349.75,158.56]
["935000","J53","CD","ID","OPER",13082.66,10167.24,2915.42]
["935000","K19","CD","AA","OPER",180.63,126.7,37.11,16.82]
["935000","K51","CD","AN","OPER",53.35,41.46,11.89]
["935000","K51","GD","WA","OPER",1823.36,null,1823.36]
["935000","K51","CD","ID","OPER",458.81,356.56,102.25]
["935000","K53","CD","AA","OPER",2850.5,1999.21,585.74,265.55]
["935000","K53","CD","ID","OPER",135.68,105.44,30.24]
["935000","L07","CD","AN","OPER",284.45999999999998,221.07,63.39]
["935000","L39","CD","AA","OPER",382.41,268.2,78.58,35.630000000000003]
["935000","L50","CD","WA","OPER",371.26,288.52,82.74]
["935000","L50","CD","AA","OPER",3273.51,2295.88,672.67,304.95999999999998]
["935000","L50","GD","WA","OPER",578.27,null,578.27]
["935000","L53","CD","AN","OPER",623,484.17,138.83000000000001]
["935000","L53","CD","ID","OPER",24734.07,19222.07,5512]
["935000","L53","CD","AA","OPER",16238.24,11388.7,3336.75,1512.79]
["935000","M07","CD","AA","OPER",2089.8000000000002,1465.67,429.44,194.69]
["935000","M09","CD","AA","OPER",2862.82,2007.83,588.29,266.7]
["935000","M19","CD","AA","OPER",149308.32999999999,104717.37,30681.35,13909.61]
["935000","M19","ED","AN","OPER",2078.5700000000002,2078.5700000000002]
["935000","M19","CD","AN","OPER",21.05,16.36,4.6900000000000004]
["935000","M29","CD","AA","OPER",29721.49,20845.14,6107.47,2768.88]
["935000","M50","CD","WA","OPER",12620.08,9807.76,2812.32]
["935000","P03","CD","AA","OPER",2676.99,1877.51,550.1,249.38]
["935000","P09","CD","AA","OPER",32919.660000000003,23088.21,6764.64,3066.81]
["935000","P50","CD","AA","OPER",313.86,220.13,64.5,29.23]
["935000","P50","CD","WA","OPER",3066.66,2383.25,683.41]
["935000","P50","ED","WA","OPER",613.9,613.9]
["935000","R09","CD","AA","OPER",1393.42,977.28,286.33999999999997,129.80000000000001]
["935000","R29","CD","AA","OPER",53859.09,37774.06,11067.46,5017.57]
["935000","R53","CD","AA","OPER",1241.9100000000001,871.01,255.2,115.7]
["935000","R53","ED","ID","OPER",100,100]
["935000","S09","CD","AA","OPER",162320.78,113843.67,33355.339999999997,15121.77]
["935000","S51","CD","ID","OPER",4284.24,3329.56,954.68]
["935000","S51","ED","AN","OPER",31789.84,31789.84]
["935000","S51","GD","OR","OPER",74.569999999999993,null,null,74.569999999999993]
["935000","S51","CD","AN","OPER",34933.15,27148.34,7784.81]
["935000","S51","ED","ID","OPER",1162.3900000000001,1162.3900000000001]
["935000","S51","CD","WA","OPER",1154.6199999999999,897.34,257.27999999999997]
["935000","S51","CD","AA","OPER",61226.3,42941.120000000003,12581.3,5703.88]
["935000","S51","GD","WA","OPER",1367.81,null,1367.81]
["935000","S51","ED","WA","OPER",454.2,454.2]
["935000","S53","CD","ID","OPER",2022.33,1571.66,450.67]
["935000","S53","ED","ID","OPER",8898.6200000000008,8898.6200000000008]
["935000","T08","CD","AA","OPER",6638.27,4655.76,1364.1,618.41]
["935000","T19","CD","AA","OPER",9769.9,6852.12,2007.62,910.16]
["935000","V08","CD","AN","OPER",77.86,60.51,17.350000000000001]
["935000","V08","ED","AN","OPER",391.5,391.5]
["935000","W09","CD","AA","OPER",5355.16,3755.84,1100.43,498.89]
["935000","W39","CD","AA","OPER",16997.7,11921.34,3492.87,1583.49]
["935000","X09","CD","AA","OPER",-98.18,-68.86,-20.170000000000002,-9.15]
["935000","X19","CD","AA","OPER",114.19,80.08,23.46,10.65]
["935000","X39","CD","AA","OPER",67905.759999999995,47625.75,13953.94,6326.07]
["935000","X54","CD","AA","OPER",-38339.199999999997,-26889.19,-7878.33,-3571.68]
["935000","Z09","CD","AA","OPER",16422.900000000001,11518.24,3374.74,1529.92]
["935000","Z57","CD","AA","OPER",-15.8,-11.08,-3.25,-1.47]
["935000","Z87","CD","AN","OPER",355198.8,276042.8,79156]
["935000","Z87","ED","WA","OPER",3372.12,3372.12]
["935000","Z87","CD","WA","OPER",8068.71,6270.57,1798.14]
["935000","Z87","GD","OR","OPER",169.02,null,null,169.02]
["935000","Z87","CD","ID","OPER",31056.99,24135.96,6921.03]
["935000","Z87","GD","WA","OPER",5583.5,null,5583.5]
["935000","Z87","ED","ID","OPER",5593.69,5593.69]
["935000","Z87","CD","AA","OPER",842008.89,590542.81000000006,173024.73,78441.350000000006]
["935000","Z87","ED","AN","OPER",253189.44,253189.44]
["935000","Z88","CD","ID","OPER",29601,23004.39,6596.61]
["935000","Z88","CD","AN","OPER",90516.6,70344.97,20171.63]
["935000","Z88","CD","WA","OPER",11398.25,8858.1200000000008,2540.13]
["935000","Z88","GD","WA","OPER",1722.8,null,1722.8]
["935000","Z88","CD","AA","OPER",24584.9,17242.62,5052.0600000000004,2290.2199999999998]
["935000","Z88","ED","AN","OPER",16.8,16.8]
["935000","Z88","ED","WA","OPER",12164.35,12164.35]
["935000","Z88","ED","ID","OPER",14405.05,14405.05]
["935000","Z89","CD","ID","OPER",-146.22999999999999,-113.65,-32.58]
["935000","Z89","CD","AN","OPER",2235.7199999999998,1737.49,498.23]
["935000","Z89","CD","WA","OPER",286.69,222.8,63.89]
["935000","Z89","GD","OR","OPER",0,null,null,0]
["935000","Z89","ED","WA","OPER",0,0]
["935000","Z89","CD","AA","OPER",13861.92,9722.09,2848.47,1291.3599999999999]
["935000","Z89","ED","AN","OPER",3637.66,3637.66]
["935000","Z89","GD","WA","OPER",-80.709999999999994,null,-80.709999999999994]
["935000","Z89","ED","ID","OPER",0,0]
["935000","Z90","ED","AN","OPER",22492.720000000001,22492.720000000001]
["935000","Z90","ED","WA","OPER",72.2,72.2]
["935000","Z90","CD","AN","OPER",9373.14,7284.29,2088.85]
["935000","Z90","CD","ID","OPER",720.07,559.58000000000004,160.49]
["935000","Z90","ED","ID","OPER",399.83,399.83]
["935000","Z90","GD","OR","OPER",43.5,null,null,43.5]
["935000","Z90","GD","WA","OPER",137.88999999999999,null,137.88999999999999]
["935000","Z90","CD","AA","OPER",87032.84,61040.17,17884.580000000002,8108.09]
["935000","Z90","CD","WA","OPER",203.53,158.21,45.32]

{"sheet":"A&G functionalization","index":2,"n_rows":1411,"n_cols":47,"rows_kept":1411,"cut":false,"hidden":false,"merged":[[29,27,30,27],[29,23,30,23]]}
["paste from Discoverer SQL"]
["SELECT O100173.EXPENDITURE_ORGANIZATION, O100173.FERC_ACCT, O100173.JURISDICTION, O100173.REPORT_CATEGORY, O100173.SERVICE, SUM(O100173.NOT_ASSIGNED_AMT), SUM(O100173.GAS_SOUTH_AMT), SUM(O100173.GAS_NORTH_AMT), SUM(O100173.ELECTRIC_AMT), SUM(O100173.TRANSACTION_AMT)"]
[]
["FROM AVAEXTRACT.SUBLEDGER_TRANSACTION_VIEW O100173"]
[]
["WHERE ( O100173.STATIND = 'DL' ) AND ( (  ( O100173.FERC_ACCT BETWEEN '920000' AND '935999' AND O100173.REPORT_CATEGORY = 'OPER' OR O100173.FERC_ACCT = '926400' AND O100173.REPORT_CATEGORY = 'NONE' )  ) ) AND ( O100173.COMPANY = '001' ) AND ( O100173.ACCOUNTING_PERIOD BETWEEN '200710' AND '200809' )"]
[]
["GROUP BY O100173.EXPENDITURE_ORGANIZATION, O100173.FERC_ACCT, O100173.JURISDICTION, O100173.REPORT_CATEGORY, O100173.SERVICE"]
[]
["ORDER BY O100173.FERC_ACCT ASC, O100173.EXPENDITURE_ORGANIZATION ASC, O100173.SERVICE ASC, O100173.JURISDICTION ASC"]
[]
[";"]
["from Discoverer query 'Scott A&G Detail by Rollup'"]
["(FERC between 920-935 and Report Cat = OPER) or (FERC In 926200,926240 and Report Cat = OTHER and Org is either X54 or NULL)"]
["Accounting Period between 201801 and 201812"]
["Company = 001"]
["Statind = DL",null,null,null,null,null,null,null,null,null,null,{"$f":"77111740+30590407","v":107702147},"from 12-mo End F&O"]
[null,null,null,null,null,null,null,null,null,null,null,{"$f":"SUM(L22:L1410)","v":107702146.65999997},{"$f":"SUM(M22:M1410)","v":77111744.930000007},{"$f":"SUM(N22:N1410)","v":20805108.990000024},{"$f":"SUM(O22:O1410)","v":9785292.7400000114},{"$f":"SUM(P22:P1410)","v":0}]
[null,null,null,null,null,null,null,null,null,null,null,{"$f":"L18-M19","v":0},{"$f":"SUM(M18:P18)","v":107702146.66000004},null,null,null,null,null,"Functional dollars",null,null,null,null,null,null,null,null,null,null,null,null,null,null,null,"Function % of Total"]
[null,null,null,null,null,null,null,null,null,null,null,null,null,null,null,null,null,null,"ALL SVCS",null,null,null,null,null,null,null,null,null,null,null,null,null,null,null,"ALL SVCS"]
["Ferc Acct","Expenditure Organization","Service","Jurisdiction","Report Category","Transaction Amt SUM","Electric Amt SUM","Gas North Amt SUM","Gas South Amt SUM","Not Assigned Amt SUM","FERC","Total","Electric","GasN","GasS","None","A&G Function",null,null,920,921,922,923,924,925,926,927,928,930,931,935,null,"Total",null,null,920,921,922,923,924,925,926,927,928,930,931,935]
[{"$f":"'12.2018 Data'!A2","v":"920000"},{"$f":"'12.2018 Data'!B2","v":"000"},{"$f":"'12.2018 Data'!C2","v":"CD"},{"$f":"'12.2018 Data'!D2","v":"AN"},{"$f":"'12.2018 Data'!E2","v":"OPER"},{"$f":"'12.2018 Data'!F2","v":1.78},{"$f":"'12.2018 Data'!G2","v":1.38},{"$f":"'12.2018 Data'!H2","v":0.4},{"$f":"'12.2018 Data'!I2","v":0},{"$f":"'12.2018 Data'!J2","v":0},{"$f":"LEFT(A22,3)","v":"920"},{"$f":"IF(ISNUMBER(F22),F22,0)","v":1.78},{"$f":"IF(ISNUMBER(G22),G22,0)","v":1.38},0.4,0,0,{"$f":"IF(ISNUMBER(MATCH($B22,'Org functional rollups'!$A:$A,0)),INDEX('Org functional rollups'!$D:$D,MATCH($B22,'Org functional rollups'!$A:$A,0)),0)","v":"Common"},null,"Production",{"$f":"SUMPRODUCT(--($Q$22:$Q$1410=$S22),--($K$22:$K$1410=T$21&\"\"),$L$22:$L$1410)","v":1001139.5700000001},{"$f":"SUMPRODUCT(--($Q$22:$Q$1410=$S22),--($K$22:$K$1410=U$21&\"\"),$L$22:$L$1410)","v":213525.76000000001},277.70999999999998,116047.22,0,0,62120.42,0,2239229.9999999995,125751.74,{"$f":"SUMPRODUCT(--($Q$22:$Q$1410=$S22),--($K$22:$K$1410=AD$21&\"\"),$L$22:$L$1410)","v":0},12943.04,null,{"$f":"SUM(T22:AF22)","v":3771035.46},{"$f":"AG22/AG$28","v":3.5014113516980139E-2},"Production",{"$f":"T22/T$28","v":2.0977894495520656E-2},{"$f":"U22/U$28","v":3.201759478317296E-2},-1.974607757262679E-3,9.080667065240685E-3,0,0,2.5523689922577825E-2,0,0.27589771619545828,2.1743713146947868E-2,0,7.4288093894892264E-4]
[{"$f":"'12.2018 Data'!A3","v":"920000"},{"$f":"'12.2018 Data'!B3","v":"000"},{"$f":"'12.2018 Data'!C3","v":"CD"},{"$f":"'12.2018 Data'!D3","v":"AA"},{"$f":"'12.2018 Data'!E3","v":"OPER"},{"$f":"'12.2018 Data'!F3","v":264093.08},{"$f":"'12.2018 Data'!G3","v":185221.67},{"$f":"'12.2018 Data'!H3","v":54268.47},{"$f":"'12.2018 Data'!I3","v":24602.94},{"$f":"'12.2018 Data'!J3","v":0},{"$f":"LEFT(A23,3)","v":"920"},{"$f":"IF(ISNUMBER(F23),F23,0)","v":264093.08},185221.67,54268.47,24602.94,0,{"$f":"IF(ISNUMBER(MATCH($B23,'Org functional rollups'!$A:$A,0)),INDEX('Org functional rollups'!$D:$D,MATCH($B23,'Org functional rollups'!$A:$A,0)),0)","v":"Common"},null,"Transmission",{"$f":"SUMPRODUCT(--($Q$22:$Q$1410=$S23),--($K$22:$K$1410=T$21&\"\"),$L$22:$L$1410)","v":192291.30000000002},19439.82,0,0,0,0,9001.64,0,454358.08,969.96,0,796165.25,null,{"$f":"SUM(T23:AF23)","v":1472226.05},{"$f":"AG23/AG$28","v":1.3669638109781997E-2},"Transmission",{"$f":"T23/T$28","v":4.0292749629369977E-3},2.9149470275521856E-3,0,0,0,0,3.6985433800137452E-3,0,5.5981902978681677E-2,1.6771562766458383E-4,0,4.5696836947000379E-2]
[{"$f":"'12.2018 Data'!A4","v":"920000"},{"$f":"'12.2018 Data'!B4","v":"000"},{"$f":"'12.2018 Data'!C4","v":"ZZ"},{"$f":"'12.2018 Data'!D4","v":"ZZ"},{"$f":"'12.2018 Data'!E4","v":"OPER"},{"$f":"'12.2018 Data'!F4","v":0},{"$f":"'12.2018 Data'!G4","v":0},{"$f":"'12.2018 Data'!H4","v":0},{"$f":"'12.2018 Data'!I4","v":0},{"$f":"'12.2018 Data'!J4","v":0},"920",0,0,0,0,0,{"$f":"IF(ISNUMBER(MATCH($B24,'Org functional rollups'!$A:$A,0)),INDEX('Org functional rollups'!$D:$D,MATCH($B24,'Org functional rollups'!$A:$A,0)),0)","v":"Common"},null,"Distribution",2282349.8299999996,763992.03999999969,0,575862.70000000007,0,85,598930.87999999989,1200,177661.25,1121907.4899999998,0,425614.10999999993,null,{"$f":"SUM(T24:AF24)","v":5947603.2999999998},{"$f":"AG24/AG$28","v":5.522357434956756E-2},"Distribution",{"$f":"T24/T$28","v":4.7824394690152441E-2},0.11455848490734634,0,4.5061117827644451E-2,0,1.8485085924953435E-5,0.24608536236839137,1,2.1889816200850461E-2,0.19398884373267739,0,2.4428620298377352E-2]
[{"$f":"'12.2018 Data'!A5","v":"920000"},{"$f":"'12.2018 Data'!B5","v":"000"},{"$f":"'12.2018 Data'!C5","v":"ED"},{"$f":"'12.2018 Data'!D5","v":"AN"},{"$f":"'12.2018 Data'!E5","v":"OPER"},{"$f":"'12.2018 Data'!F5","v":2.62},{"$f":"'12.2018 Data'!G5","v":2.62},{"$f":"'12.2018 Data'!H5","v":0},{"$f":"'12.2018 Data'!I5","v":0},{"$f":"'12.2018 Data'!J5","v":0},"920",2.62,2.62,0,0,0,{"$f":"IF(ISNUMBER(MATCH($B25,'Org functional rollups'!$A:$A,0)),INDEX('Org functional rollups'!$D:$D,MATCH($B25,'Org functional rollups'!$A:$A,0)),0)","v":"Common"},null,"Customer",1369025.8600000003,220373.25,0,1561.94,0,0,63900.310000000005,0,3015.85,231008.30000000002,0,3594.08,null,{"$f":"SUM(T25:AF25)","v":1892479.5900000005},{"$f":"AG25/AG$28","v":1.7571697719551027E-2},"Customer",{"$f":"T25/T$28","v":2.8686589675722678E-2},3.3044356894226114E-2,0,1.2222142948260231E-4,0,0,2.6255001147715989E-2,0,3.715858252113776E-4,3.9943608014999056E-2,0,2.0628643078114136E-4]
[{"$f":"'12.2018 Data'!A6","v":"920000"},{"$f":"'12.2018 Data'!B6","v":"A01"},{"$f":"'12.2018 Data'!C6","v":"ED"},{"$f":"'12.2018 Data'!D6","v":"AN"},{"$f":"'12.2018 Data'!E6","v":"OPER"},{"$f":"'12.2018 Data'!F6","v":113582.74},{"$f":"'12.2018 Data'!G6","v":113582.74},{"$f":"'12.2018 Data'!H6","v":0},{"$f":"'12.2018 Data'!I6","v":0},{"$f":"'12.2018 Data'!J6","v":0},"920",113582.74,113582.74,0,0,0,{"$f":"IF(ISNUMBER(MATCH($B26,'Org functional rollups'!$A:$A,0)),INDEX('Org functional rollups'!$D:$D,MATCH($B26,'Org functional rollups'!$A:$A,0)),0)","v":"Production"},null,"Common",42878742.160000004,5451682.2600000007,-140918.30000000002,12086120.120000001,1729758.22,4598216.59,1699880.5799999998,0,5241894.790000001,4303723.3900000006,583548.10000000009,16184448.490000004,null,{"$f":"SUM(T26:AF26)","v":94617096.400000021},{"$f":"AG26/AG$28","v":0.87852097630411941},"Common",{"$f":"T26/T$28","v":0.89848184617566718},0.81746461638770229,1.0019746077572627,0.94573599367763228,1,0.99998151491407505,0.69843740318130088,0,0.64585897879979814,0.74415611947771099,1,0.92892537538489228]
[{"$f":"'12.2018 Data'!A7","v":"920000"},{"$f":"'12.2018 Data'!B7","v":"A02"},{"$f":"'12.2018 Data'!C7","v":"CD"},{"$f":"'12.2018 Data'!D7","v":"AA"},{"$f":"'12.2018 Data'!E7","v":"OPER"},{"$f":"'12.2018 Data'!F7","v":237867.37},{"$f":"'12.2018 Data'!G7","v":166828.32999999999},{"$f":"'12.2018 Data'!H7","v":48879.42},{"$f":"'12.2018 Data'!I7","v":22159.62},{"$f":"'12.2018 Data'!J7","v":0},"920",237867.37,166828.32999999999,48879.42,22159.62,0,{"$f":"IF(ISNUMBER(MATCH($B27,'Org functional rollups'!$A:$A,0)),INDEX('Org functional rollups'!$D:$D,MATCH($B27,'Org functional rollups'!$A:$A,0)),0)","v":"Common"}]
[{"$f":"'12.2018 Data'!A8","v":"920000"},{"$f":"'12.2018 Data'!B8","v":"A04"},{"$f":"'12.2018 Data'!C8","v":"CD"},{"$f":"'12.2018 Data'!D8","v":"AA"},{"$f":"'12.2018 Data'!E8","v":"OPER"},{"$f":"'12.2018 Data'!F8","v":1582.12},{"$f":"'12.2018 Data'!G8","v":1109.6199999999999},{"$f":"'12.2018 Data'!H8","v":325.11},{"$f":"'12.2018 Data'!I8","v":147.38999999999999},{"$f":"'12.2018 Data'!J8","v":0},"920",1582.12,1109.6199999999999,325.11,147.38999999999999,0,{"$f":"IF(ISNUMBER(MATCH($B28,'Org functional rollups'!$A:$A,0)),INDEX('Org functional rollups'!$D:$D,MATCH($B28,'Org functional rollups'!$A:$A,0)),0)","v":"Production"},null,"Total",{"$f":"SUM(T22:T27)","v":47723548.720000006},{"$f":"SUM(U22:U27)","v":6669013.1300000008},-140640.59000000003,12779591.98,1729758.22,4598301.59,2433833.83,1200,8116159.9700000007,5783360.8800000008,583548.10000000009,17422764.970000003,null,107700440.80000001,null,"Total",{"$f":"SUM(AJ22:AJ27)","v":1},{"$f":"SUM(AK22:AK27)","v":0.99999999999999989},1,1,1,1,0.99999999999999978,1,0.99999999999999989,0.99999999999999989,1,1]
[{"$f":"'12.2018 Data'!A9","v":"920000"},{"$f":"'12.2018 Data'!B9","v":"A07"},{"$f":"'12.2018 Data'!C9","v":"CD"},{"$f":"'12.2018 Data'!D9","v":"AA"},{"$f":"'12.2018 Data'!E9","v":"OPER"},{"$f":"'12.2018 Data'!F9","v":1060.33},{"$f":"'12.2018 Data'!G9","v":743.66},{"$f":"'12.2018 Data'!H9","v":217.89},{"$f":"'12.2018 Data'!I9","v":98.78},{"$f":"'12.2018 Data'!J9","v":0},"920",1060.33,743.66,217.89,98.78,0,{"$f":"IF(ISNUMBER(MATCH($B29,'Org functional rollups'!$A:$A,0)),INDEX('Org functional rollups'!$D:$D,MATCH($B29,'Org functional rollups'!$A:$A,0)),0)","v":"Production"},null,null,null,null,null,null,null,null,null,null,null,null,null,null,"check",{"$f":"AG28-M19","v":-1705.8600000292063}]
[{"$f":"'12.2018 Data'!A10","v":"920000"},{"$f":"'12.2018 Data'!B10","v":"A19"},{"$f":"'12.2018 Data'!C10","v":"CD"},{"$f":"'12.2018 Data'!D10","v":"WA"},{"$f":"'12.2018 Data'!E10","v":"OPER"},{"$f":"'12.2018 Data'!F10","v":14352.36},{"$f":"'12.2018 Data'!G10","v":11153.93},{"$f":"'12.2018 Data'!H10","v":3198.43},{"$f":"'12.2018 Data'!I10","v":0},{"$f":"'12.2018 Data'!J10","v":0},"920",14352.36,11153.93,3198.43,0,0,{"$f":"IF(ISNUMBER(MATCH($B30,'Org functional rollups'!$A:$A,0)),INDEX('Org functional rollups'!$D:$D,MATCH($B30,'Org functional rollups'!$A:$A,0)),0)","v":"Common"},null,null,null,null,null,null,"Tangible Plant",null,null,null,"Separate Analysis"]
[{"$f":"'12.2018 Data'!A11","v":"920000"},{"$f":"'12.2018 Data'!B11","v":"A19"},{"$f":"'12.2018 Data'!C11","v":"CD"},{"$f":"'12.2018 Data'!D11","v":"AA"},{"$f":"'12.2018 Data'!E11","v":"OPER"},{"$f":"'12.2018 Data'!F11","v":198058.83},{"$f":"'12.2018 Data'!G11","v":138908.54},{"$f":"'12.2018 Data'!H11","v":40699.050000000003},{"$f":"'12.2018 Data'!I11","v":18451.240000000002},{"$f":"'12.2018 Data'!J11","v":0},"920",198058.83,138908.54,40699.050000000003,18451.240000000002,0,{"$f":"IF(ISNUMBER(MATCH($B31,'Org functional rollups'!$A:$A,0)),INDEX('Org functional rollups'!$D:$D,MATCH($B31,'Org functional rollups'!$A:$A,0)),0)","v":"Common"},null,"ELECTRIC",null,null,null,null,null,null,null,null,null,null,null,null,null,null,null,"ELECTRIC"]
[{"$f":"'12.2018 Data'!A12","v":"920000"},{"$f":"'12.2018 Data'!B12","v":"A19"},{"$f":"'12.2018 Data'!C12","v":"CD"},{"$f":"'12.2018 Data'!D12","v":"AN"},{"$f":"'12.2018 Data'!E12","v":"OPER"},{"$f":"'12.2018 Data'!F12","v":40.630000000000003},{"$f":"'12.2018 Data'!G12","v":31.58},{"$f":"'12.2018 Data'!H12","v":9.0500000000000007},{"$f":"'12.2018 Data'!I12","v":0},{"$f":"'12.2018 Data'!J12","v":0},"920",40.630000000000003,31.58,9.0500000000000007,0,0,{"$f":"IF(ISNUMBER(MATCH($B32,'Org functional rollups'!$A:$A,0)),INDEX('Org functional rollups'!$D:$D,MATCH($B32,'Org functional rollups'!$A:$A,0)),0)","v":"Common"},null,null,920,921,922,923,924,925,926,927,928,930,931,935,null,"Total",null,null,920,921,922,923,924,925,926,927,928,930,931,935]
[{"$f":"'12.2018 Data'!A13","v":"920000"},{"$f":"'12.2018 Data'!B13","v":"A39"},{"$f":"'12.2018 Data'!C13","v":"CD"},{"$f":"'12.2018 Data'!D13","v":"AA"},{"$f":"'12.2018 Data'!E13","v":"OPER"},{"$f":"'12.2018 Data'!F13","v":8125},{"$f":"'12.2018 Data'!G13","v":5698.49},{"$f":"'12.2018 Data'!H13","v":1669.62},{"$f":"'12.2018 Data'!I13","v":756.89},{"$f":"'12.2018 Data'!J13","v":0},"920",8125,5698.49,1669.62,756.89,0,{"$f":"IF(ISNUMBER(MATCH($B33,'Org functional rollups'!$A:$A,0)),INDEX('Org functional rollups'!$D:$D,MATCH($B33,'Org functional rollups'!$A:$A,0)),0)","v":"Common"},null,"Production",{"$f":"SUMPRODUCT(--($Q$22:$Q$1410=$S33),--($K$22:$K$1410=T$21&\"\"),$M$22:$M$1410)","v":656444.21000000008},{"$f":"SUMPRODUCT(--($Q$22:$Q$1410=$S33),--($K$22:$K$1410=U$21&\"\"),$M$22:$M$1410)","v":174601.47000000006},215.82999999999998,115077.77,0,0,49609.119999999995,0,2230568.34,107152.65000000001,0,12238.7,null,{"$f":"SUM(T33:AF33)","v":3345908.0900000003},null,"Production",{"$f":"IF(T$39=0,0,T33/T$39)","v":1.9400627062582915E-2},{"$f":"IF(U$39=0,0,U33/U$39)","v":3.7142210724315929E-2},-1.7837453959029643E-3,1.2737821890487557E-2,0,0,2.921094571981836E-2,0,0.36136257247871917,2.567827030176829E-2,0,9.7181391842681927E-4]
[{"$f":"'12.2018 Data'!A14","v":"920000"},{"$f":"'12.2018 Data'!B14","v":"A50"},{"$f":"'12.2018 Data'!C14","v":"CD"},{"$f":"'12.2018 Data'!D14","v":"AA"},{"$f":"'12.2018 Data'!E14","v":"OPER"},{"$f":"'12.2018 Data'!F14","v":1083.1400000000001},{"$f":"'12.2018 Data'!G14","v":759.65},{"$f":"'12.2018 Data'!H14","v":222.57},{"$f":"'12.2018 Data'!I14","v":100.92},{"$f":"'12.2018 Data'!J14","v":0},"920",1083.1400000000001,759.65,222.57,100.92,0,{"$f":"IF(ISNUMBER(MATCH($B34,'Org functional rollups'!$A:$A,0)),INDEX('Org functional rollups'!$D:$D,MATCH($B34,'Org functional rollups'!$A:$A,0)),0)","v":"Common"},null,"Transmission",{"$f":"SUMPRODUCT(--($Q$22:$Q$1410=$S34),--($K$22:$K$1410=T$21&\"\"),$M$22:$M$1410)","v":191441.22999999998},14230.250000000002,0,0,0,0,8133.13,0,453944.02,931.93000000000006,0,795984.32000000007,null,{"$f":"SUM(T34:AF34)","v":1464664.8800000001},null,"Transmission",{"$f":"IF(T$39=0,0,T34/T$39)","v":5.6578759490195814E-3},3.0271391424121267E-3,0,0,0,0,4.7889666045724316E-3,0,7.3541068384630245E-2,2.2332952514311986E-4,0,6.3205131347733604E-2]
[{"$f":"'12.2018 Data'!A15","v":"920000"},{"$f":"'12.2018 Data'!B15","v":"A54"},{"$f":"'12.2018 Data'!C15","v":"ED"},{"$f":"'12.2018 Data'!D15","v":"WA"},{"$f":"'12.2018 Data'!E15","v":"OPER"},{"$f":"'12.2018 Data'!F15","v":42768.18},{"$f":"'12.2018 Data'!G15","v":42768.18},{"$f":"'12.2018 Data'!H15","v":0},{"$f":"'12.2018 Data'!I15","v":0},{"$f":"'12.2018 Data'!J15","v":0},"920",42768.18,42768.18,0,0,0,{"$f":"IF(ISNUMBER(MATCH($B35,'Org functional rollups'!$A:$A,0)),INDEX('Org functional rollups'!$D:$D,MATCH($B35,'Org functional rollups'!$A:$A,0)),0)","v":"Customer"},null,"Distribution",1593312.0099999998,520216.1399999999,0,408137.7,0,85,401142.26999999996,1200,94367.85,767633.7300000001,0,327872.49,null,{"$f":"SUM(T35:AF35)","v":4113967.1899999995},null,"Distribution",{"$f":"IF(T$39=0,0,T35/T$39)","v":4.7088924891796016E-2},0.1106633151145304,0,4.5176278002200101E-2,0,2.5584570026483675E-5,0.23620142979546341,1,1.5288035978886845E-2,0.18395724615018499,0,2.603471359304976E-2]
[{"$f":"'12.2018 Data'!A16","v":"920000"},{"$f":"'12.2018 Data'!B16","v":"A54"},{"$f":"'12.2018 Data'!C16","v":"CD"},{"$f":"'12.2018 Data'!D16","v":"AA"},{"$f":"'12.2018 Data'!E16","v":"OPER"},{"$f":"'12.2018 Data'!F16","v":374025.04},{"$f":"'12.2018 Data'!G16","v":262322.48},{"$f":"'12.2018 Data'!H16","v":76858.42},{"$f":"'12.2018 Data'!I16","v":34844.14},{"$f":"'12.2018 Data'!J16","v":0},"920",374025.04,262322.48,76858.42,34844.14,0,{"$f":"IF(ISNUMBER(MATCH($B36,'Org functional rollups'!$A:$A,0)),INDEX('Org functional rollups'!$D:$D,MATCH($B36,'Org functional rollups'!$A:$A,0)),0)","v":"Customer"},null,"Customer",978053.7100000002,154595.04999999999,0,1206.74,0,0,44816.869999999995,0,2029.02,157095.76999999999,0,2712.55,null,{"$f":"SUM(T36:AF36)","v":1340509.7100000002},null,"Customer",{"$f":"IF(T$39=0,0,T36/T$39)","v":2.8905510911408028E-2},3.2886332079770889E-2,0,1.3357261952614264E-4,0,0,2.638916305917452E-2,0,3.2871079251970862E-4,3.7646737111255962E-2,0,2.1539002054373984E-4]
[{"$f":"'12.2018 Data'!A17","v":"920000"},{"$f":"'12.2018 Data'!B17","v":"A56"},{"$f":"'12.2018 Data'!C17","v":"CD"},{"$f":"'12.2018 Data'!D17","v":"AA"},{"$f":"'12.2018 Data'!E17","v":"OPER"},{"$f":"'12.2018 Data'!F17","v":286.05},{"$f":"'12.2018 Data'!G17","v":200.62},{"$f":"'12.2018 Data'!H17","v":58.78},{"$f":"'12.2018 Data'!I17","v":26.65},{"$f":"'12.2018 Data'!J17","v":0},"920",286.05,200.62,58.78,26.65,0,{"$f":"IF(ISNUMBER(MATCH($B37,'Org functional rollups'!$A:$A,0)),INDEX('Org functional rollups'!$D:$D,MATCH($B37,'Org functional rollups'!$A:$A,0)),0)","v":"Transmission"},null,"Common",30416985.570000008,3837247.7099999976,-121214.04,8509914.3499999959,1281469.47,3322229.9699999997,1194604.4600000007,0,3391750.8900000006,3140077.97,417574.25999999995,11454858.040000001,null,{"$f":"SUM(T37:AF37)","v":66845498.649999999},null,"Common",{"$f":"IF(T$39=0,0,T37/T$39)","v":0.89894706118519352},0.81628100293897066,1.0017837453959029,0.94195232748778612,1,0.99997441542997356,0.70340949482097126,0,0.5494796123652439,0.75249441691164765,1,0.90957295112024605]
[{"$f":"'12.2018 Data'!A18","v":"920000"},{"$f":"'12.2018 Data'!B18","v":"A57"},{"$f":"'12.2018 Data'!C18","v":"CD"},{"$f":"'12.2018 Data'!D18","v":"AA"},{"$f":"'12.2018 Data'!E18","v":"OPER"},{"$f":"'12.2018 Data'!F18","v":373396.5},{"$f":"'12.2018 Data'!G18","v":261881.66},{"$f":"'12.2018 Data'!H18","v":76729.22},{"$f":"'12.2018 Data'!I18","v":34785.620000000003},{"$f":"'12.2018 Data'!J18","v":0},"920",373396.5,{"$f":"IF(ISNUMBER(G38),G38,0)","v":261881.66},{"$f":"IF(ISNUMBER(H38),H38,0)","v":76729.22},{"$f":"IF(ISNUMBER(I38),I38,0)","v":34785.620000000003},{"$f":"IF(ISNUMBER(J38),J38,0)","v":0},{"$f":"IF(ISNUMBER(MATCH($B38,'Org functional rollups'!$A:$A,0)),INDEX('Org functional rollups'!$D:$D,MATCH($B38,'Org functional rollups'!$A:$A,0)),0)","v":"Common"}]
[{"$f":"'12.2018 Data'!A19","v":"920000"},{"$f":"'12.2018 Data'!B19","v":"A57"},{"$f":"'12.2018 Data'!C19","v":"ED"},{"$f":"'12.2018 Data'!D19","v":"AN"},{"$f":"'12.2018 Data'!E19","v":"OPER"},{"$f":"'12.2018 Data'!F19","v":46.85},{"$f":"'12.2018 Data'!G19","v":46.85},{"$f":"'12.2018 Data'!H19","v":0},{"$f":"'12.2018 Data'!I19","v":0},{"$f":"'12.2018 Data'!J19","v":0},"920",46.85,46.85,0,0,0,{"$f":"IF(ISNUMBER(MATCH($B39,'Org functional rollups'!$A:$A,0)),INDEX('Org functional rollups'!$D:$D,MATCH($B39,'Org functional rollups'!$A:$A,0)),0)","v":"Common"},null,"Total",{"$f":"SUM(T33:T38)","v":33836236.730000004},4700890.6199999973,-120998.20999999999,9034336.5599999968,1281469.47,3322314.9699999997,1698305.8500000006,1200,6172660.120000001,4172892.0500000003,417574.25999999995,12593666.100000001,null,{"$f":"SUM(AG33:AG38)","v":77110548.519999996},null,"Total",{"$f":"SUM(AJ33:AJ38)","v":1},1,0.99999999999999989,0.99999999999999989,1,1,1,1,0.99999999999999989,1,1,1]
[{"$f":"'12.2018 Data'!A20","v":"920000"},{"$f":"'12.2018 Data'!B20","v":"A81"},{"$f":"'12.2018 Data'!C20","v":"CD"},{"$f":"'12.2018 Data'!D20","v":"AA"},{"$f":"'12.2018 Data'!E20","v":"OPER"},{"$f":"'12.2018 Data'!F20","v":1240.0899999999999},{"$f":"'12.2018 Data'!G20","v":869.73},{"$f":"'12.2018 Data'!H20","v":254.83},{"$f":"'12.2018 Data'!I20","v":115.53},{"$f":"'12.2018 Data'!J20","v":0},"920",1240.0899999999999,869.73,254.83,115.53,0,{"$f":"IF(ISNUMBER(MATCH($B40,'Org functional rollups'!$A:$A,0)),INDEX('Org functional rollups'!$D:$D,MATCH($B40,'Org functional rollups'!$A:$A,0)),0)","v":"Distribution"},null,null,null,null,null,null,null,null,null,null,null,null,null,null,"check",{"$f":"AG39-M18","v":-1196.4100000113249}]
[{"$f":"'12.2018 Data'!A21","v":"920000"},{"$f":"'12.2018 Data'!B21","v":"A81"},{"$f":"'12.2018 Data'!C21","v":"GD"},{"$f":"'12.2018 Data'!D21","v":"AA"},{"$f":"'12.2018 Data'!E21","v":"OPER"},{"$f":"'12.2018 Data'!F21","v":4451.32},{"$f":"'12.2018 Data'!G21","v":0},{"$f":"'12.2018 Data'!H21","v":3051.91},{"$f":"'12.2018 Data'!I21","v":1399.41},{"$f":"'12.2018 Data'!J21","v":0},"920",4451.32,0,3051.91,1399.41,0,{"$f":"IF(ISNUMBER(MATCH($B41,'Org functional rollups'!$A:$A,0)),INDEX('Org functional rollups'!$D:$D,MATCH($B41,'Org functional rollups'!$A:$A,0)),0)","v":"Distribution"}]
[{"$f":"'12.2018 Data'!A22","v":"920000"},{"$f":"'12.2018 Data'!B22","v":"A82"},{"$f":"'12.2018 Data'!C22","v":"CD"},{"$f":"'12.2018 Data'!D22","v":"AA"},{"$f":"'12.2018 Data'!E22","v":"OPER"},{"$f":"'12.2018 Data'!F22","v":324.02},{"$f":"'12.2018 Data'!G22","v":227.26},{"$f":"'12.2018 Data'!H22","v":66.58},{"$f":"'12.2018 Data'!I22","v":30.18},{"$f":"'12.2018 Data'!J22","v":0},"920",324.02,227.26,66.58,30.18,0,{"$f":"IF(ISNUMBER(MATCH($B42,'Org functional rollups'!$A:$A,0)),INDEX('Org functional rollups'!$D:$D,MATCH($B42,'Org functional rollups'!$A:$A,0)),0)","v":"Distribution"},null,"GAS N",null,null,null,null,null,null,null,null,null,null,null,null,null,null,null,"GAS N"]
[{"$f":"'12.2018 Data'!A23","v":"920000"},{"$f":"'12.2018 Data'!B23","v":"B02"},{"$f":"'12.2018 Data'!C23","v":"CD"},{"$f":"'12.2018 Data'!D23","v":"AA"},{"$f":"'12.2018 Data'!E23","v":"OPER"},{"$f":"'12.2018 Data'!F23","v":260531.42},{"$f":"'12.2018 Data'!G23","v":182723.62},{"$f":"'12.2018 Data'!H23","v":53536.69},{"$f":"'12.2018 Data'!I23","v":24271.11},{"$f":"'12.2018 Data'!J23","v":0},"920",260531.42,182723.62,53536.69,24271.11,0,{"$f":"IF(ISNUMBER(MATCH($B43,'Org functional rollups'!$A:$A,0)),INDEX('Org functional rollups'!$D:$D,MATCH($B43,'Org functional rollups'!$A:$A,0)),0)","v":"Common"},null,null,920,921,922,923,924,925,926,927,928,930,931,935,null,"Total",null,null,920,921,922,923,924,925,926,927,928,930,931,935]
[{"$f":"'12.2018 Data'!A24","v":"920000"},{"$f":"'12.2018 Data'!B24","v":"B04"},{"$f":"'12.2018 Data'!C24","v":"CD"},{"$f":"'12.2018 Data'!D24","v":"AA"},{"$f":"'12.2018 Data'!E24","v":"OPER"},{"$f":"'12.2018 Data'!F24","v":2183.59},{"$f":"'12.2018 Data'!G24","v":1531.46},{"$f":"'12.2018 Data'!H24","v":448.7},{"$f":"'12.2018 Data'!I24","v":203.43},{"$f":"'12.2018 Data'!J24","v":0},"920",2183.59,1531.46,448.7,203.43,0,{"$f":"IF(ISNUMBER(MATCH($B44,'Org functional rollups'!$A:$A,0)),INDEX('Org functional rollups'!$D:$D,MATCH($B44,'Org functional rollups'!$A:$A,0)),0)","v":"Production"},null,"Production",{"$f":"SUMPRODUCT(--($Q$22:$Q$1410=$S44),--($K$22:$K$1410=T$21&\"\"),$N$22:$N$1410)","v":239672.34000000003},{"$f":"SUMPRODUCT(--($Q$22:$Q$1410=$S44),--($K$22:$K$1410=U$21&\"\"),$N$22:$N$1410)","v":27520.279999999995},61.879999999999995,667.04,0,0,7793.8899999999994,0,3386.06,12761.59,0,504.4,0,{"$f":"SUM(T44:AF44)","v":292367.48000000004},null,"Production",{"$f":"IF(T$50=0,0,T44/T$50)","v":2.5009028236786073E-2},{"$f":"IF(U$50=0,0,U44/U$50)","v":2.0573673402926158E-2},-3.1503310698601694E-3,2.5695149242422222E-4,0,0,1.535799279039061E-2,0,3.3485265666262807E-3,1.1534744640189101E-2,0,1.4856456878297421E-4]
[{"$f":"'12.2018 Data'!A25","v":"920000"},{"$f":"'12.2018 Data'!B25","v":"B07"},{"$f":"'12.2018 Data'!C25","v":"CD"},{"$f":"'12.2018 Data'!D25","v":"AA"},{"$f":"'12.2018 Data'!E25","v":"OPER"},{"$f":"'12.2018 Data'!F25","v":3398.03},{"$f":"'12.2018 Data'!G25","v":2383.23},{"$f":"'12.2018 Data'!H25","v":698.27},{"$f":"'12.2018 Data'!I25","v":316.52999999999997},{"$f":"'12.2018 Data'!J25","v":0},"920",3398.03,2383.23,698.27,316.52999999999997,0,{"$f":"IF(ISNUMBER(MATCH($B45,'Org functional rollups'!$A:$A,0)),INDEX('Org functional rollups'!$D:$D,MATCH($B45,'Org functional rollups'!$A:$A,0)),0)","v":"Production"},null,"Transmission",{"$f":"SUMPRODUCT(--($Q$22:$Q$1410=$S45),--($K$22:$K$1410=T$21&\"\"),$N$22:$N$1410)","v":584.91},3870.25,0,0,0,0,597.62,0,284.89999999999998,34.01,0,180.93,0,{"$f":"SUM(T45:AF45)","v":5552.62},null,"Transmission",{"$f":"IF(T$50=0,0,T45/T$50)","v":6.1033453864465708E-5},2.8933302818021831E-3,0,0,0,0,1.1776203733172058E-3,0,2.8174197114989912E-4,3.0740422252464724E-5,0,5.3290617426454256E-5]
[{"$f":"'12.2018 Data'!A26","v":"920000"},{"$f":"'12.2018 Data'!B26","v":"B08"},{"$f":"'12.2018 Data'!C26","v":"CD"},{"$f":"'12.2018 Data'!D26","v":"AA"},{"$f":"'12.2018 Data'!E26","v":"OPER"},{"$f":"'12.2018 Data'!F26","v":326811.32},{"$f":"'12.2018 Data'!G26","v":229209.08},{"$f":"'12.2018 Data'!H26","v":67156.31},{"$f":"'12.2018 Data'!I26","v":30445.93},{"$f":"'12.2018 Data'!J26","v":0},"920",326811.32,229209.08,67156.31,30445.93,0,{"$f":"IF(ISNUMBER(MATCH($B46,'Org functional rollups'!$A:$A,0)),INDEX('Org functional rollups'!$D:$D,MATCH($B46,'Org functional rollups'!$A:$A,0)),0)","v":"Customer"},null,"Distribution",459004.76,153812.50000000003,0,118993.54,0,0,136275.48000000004,0,39018.68,235355.99999999991,0,85182.75,0,{"$f":"SUM(T46:AF46)","v":1227643.71},null,"Distribution",{"$f":"IF(T$50=0,0,T46/T$50)","v":4.7895652054213735E-2},0.11498749795741835,0,4.5837682435598145E-2,0,0,0.26853315088447754,0,3.8586169936353623E-2,0.21272986826377788,0,2.508948953508703E-2]
[{"$f":"'12.2018 Data'!A27","v":"920000"},{"$f":"'12.2018 Data'!B27","v":"B09"},{"$f":"'12.2018 Data'!C27","v":"ED"},{"$f":"'12.2018 Data'!D27","v":"AN"},{"$f":"'12.2018 Data'!E27","v":"OPER"},{"$f":"'12.2018 Data'!F27","v":11141.32},{"$f":"'12.2018 Data'!G27","v":11141.32},{"$f":"'12.2018 Data'!H27","v":0},{"$f":"'12.2018 Data'!I27","v":0},{"$f":"'12.2018 Data'!J27","v":0},"920",11141.32,11141.32,0,0,0,{"$f":"IF(ISNUMBER(MATCH($B47,'Org functional rollups'!$A:$A,0)),INDEX('Org functional rollups'!$D:$D,MATCH($B47,'Org functional rollups'!$A:$A,0)),0)","v":"Common"},null,"Customer",274427.64999999997,45292.15,0,262.04000000000002,0,0,13131.09,0,790.89,52286.649999999994,0,615.98,0,{"$f":"SUM(T47:AF47)","v":386806.44999999995},null,"Customer",{"$f":"IF(T$50=0,0,T47/T$50)","v":2.8635631661980035E-2},3.3859608325799817E-2,0,1.0094082674928521E-4,0,0,2.5875036156523923E-2,0,7.8212322766845811E-4,4.7260032318930743E-2,0,1.8142903068782011E-4]
[{"$f":"'12.2018 Data'!A28","v":"920000"},{"$f":"'12.2018 Data'!B28","v":"B09"},{"$f":"'12.2018 Data'!C28","v":"CD"},{"$f":"'12.2018 Data'!D28","v":"AA"},{"$f":"'12.2018 Data'!E28","v":"OPER"},{"$f":"'12.2018 Data'!F28","v":808929.32},{"$f":"'12.2018 Data'!G28","v":567342.71},{"$f":"'12.2018 Data'!H28","v":166226.9},{"$f":"'12.2018 Data'!I28","v":75359.710000000006},{"$f":"'12.2018 Data'!J28","v":0},"920",808929.32,567342.71,166226.9,75359.710000000006,0,{"$f":"IF(ISNUMBER(MATCH($B48,'Org functional rollups'!$A:$A,0)),INDEX('Org functional rollups'!$D:$D,MATCH($B48,'Org functional rollups'!$A:$A,0)),0)","v":"Common"},null,"Common",8609743.0799999963,1107150.2400000002,-19704.260000000002,2476053.7399999998,308423.02,839449.71,349682.9499999999,0,967728.40999999968,805922.60999999975,139266,3308672.7000000007,0,{"$f":"SUM(T48:AF48)","v":18892388.199999996},null,"Common",{"$f":"IF(T$50=0,0,T48/T$50)","v":0.89839865459315571},0.82768589003205351,1.0031503310698602,0.95380442524522835,1,1,0.68905619979529076,0,0.95700143829820172,0.72844461435484986,1,0.97452722624801569]
[{"$f":"'12.2018 Data'!A29","v":"920000"},{"$f":"'12.2018 Data'!B29","v":"B09"},{"$f":"'12.2018 Data'!C29","v":"CD"},{"$f":"'12.2018 Data'!D29","v":"AN"},{"$f":"'12.2018 Data'!E29","v":"OPER"},{"$f":"'12.2018 Data'!F29","v":60428.77},{"$f":"'12.2018 Data'!G29","v":46962.23},{"$f":"'12.2018 Data'!H29","v":13466.54},{"$f":"'12.2018 Data'!I29","v":0},{"$f":"'12.2018 Data'!J29","v":0},"920",60428.77,46962.23,13466.54,0,0,{"$f":"IF(ISNUMBER(MATCH($B49,'Org functional rollups'!$A:$A,0)),INDEX('Org functional rollups'!$D:$D,MATCH($B49,'Org functional rollups'!$A:$A,0)),0)","v":"Common"}]
[{"$f":"'12.2018 Data'!A30","v":"920000"},{"$f":"'12.2018 Data'!B30","v":"B16"},{"$f":"'12.2018 Data'!C30","v":"CD"},{"$f":"'12.2018 Data'!D30","v":"AA"},{"$f":"'12.2018 Data'!E30","v":"OPER"},{"$f":"'12.2018 Data'!F30","v":58977.54},{"$f":"'12.2018 Data'!G30","v":41363.839999999997},{"$f":"'12.2018 Data'!H30","v":12119.28},{"$f":"'12.2018 Data'!I30","v":5494.42},{"$f":"'12.2018 Data'!J30","v":0},"920",58977.54,41363.839999999997,12119.28,5494.42,0,{"$f":"IF(ISNUMBER(MATCH($B50,'Org functional rollups'!$A:$A,0)),INDEX('Org functional rollups'!$D:$D,MATCH($B50,'Org functional rollups'!$A:$A,0)),0)","v":"Common"},null,"Total",{"$f":"SUM(T44:T49)","v":9583432.7399999965},1337645.4200000002,-19642.38,2595976.36,308423.02,839449.71,507481.02999999991,0,1011208.9399999997,1106360.8599999996,139266,3395156.7600000007,null,{"$f":"SUM(AG44:AG49)","v":20804758.459999997},null,"Total",{"$f":"SUM(AJ44:AJ49)","v":1},1,1,1,1,1,1,0,1,1,1,1]
[{"$f":"'12.2018 Data'!A31","v":"920000"},{"$f":"'12.2018 Data'!B31","v":"B50"},{"$f":"'12.2018 Data'!C31","v":"ED"},{"$f":"'12.2018 Data'!D31","v":"AN"},{"$f":"'12.2018 Data'!E31","v":"OPER"},{"$f":"'12.2018 Data'!F31","v":1500},{"$f":"'12.2018 Data'!G31","v":1500},{"$f":"'12.2018 Data'!H31","v":0},{"$f":"'12.2018 Data'!I31","v":0},{"$f":"'12.2018 Data'!J31","v":0},"920",1500,1500,0,0,0,{"$f":"IF(ISNUMBER(MATCH($B51,'Org functional rollups'!$A:$A,0)),INDEX('Org functional rollups'!$D:$D,MATCH($B51,'Org functional rollups'!$A:$A,0)),0)","v":"Distribution"},null,null,null,null,null,null,null,null,null,null,null,null,null,null,"check",{"$f":"AG50-N18","v":-350.53000002726912}]
[{"$f":"'12.2018 Data'!A32","v":"920000"},{"$f":"'12.2018 Data'!B32","v":"B50"},{"$f":"'12.2018 Data'!C32","v":"CD"},{"$f":"'12.2018 Data'!D32","v":"AA"},{"$f":"'12.2018 Data'!E32","v":"OPER"},{"$f":"'12.2018 Data'!F32","v":4137.99},{"$f":"'12.2018 Data'!G32","v":2902.19},{"$f":"'12.2018 Data'!H32","v":850.32},{"$f":"'12.2018 Data'!I32","v":385.48},{"$f":"'12.2018 Data'!J32","v":0},"920",4137.99,2902.19,850.32,385.48,0,{"$f":"IF(ISNUMBER(MATCH($B52,'Org functional rollups'!$A:$A,0)),INDEX('Org functional rollups'!$D:$D,MATCH($B52,'Org functional rollups'!$A:$A,0)),0)","v":"Distribution"}]
[{"$f":"'12.2018 Data'!A33","v":"920000"},{"$f":"'12.2018 Data'!B33","v":"B51"},{"$f":"'12.2018 Data'!C33","v":"CD"},{"$f":"'12.2018 Data'!D33","v":"AA"},{"$f":"'12.2018 Data'!E33","v":"OPER"},{"$f":"'12.2018 Data'!F33","v":5651.02},{"$f":"'12.2018 Data'!G33","v":3963.34},{"$f":"'12.2018 Data'!H33","v":1161.23},{"$f":"'12.2018 Data'!I33","v":526.45000000000005},{"$f":"'12.2018 Data'!J33","v":0},"920",5651.02,3963.34,1161.23,526.45000000000005,0,{"$f":"IF(ISNUMBER(MATCH($B53,'Org functional rollups'!$A:$A,0)),INDEX('Org functional rollups'!$D:$D,MATCH($B53,'Org functional rollups'!$A:$A,0)),0)","v":"Distribution"},null,"GAS S",null,null,null,null,null,null,null,null,null,null,null,null,null,null,null,"GAS S"]
[{"$f":"'12.2018 Data'!A34","v":"920000"},{"$f":"'12.2018 Data'!B34","v":"B51"},{"$f":"'12.2018 Data'!C34","v":"GD"},{"$f":"'12.2018 Data'!D34","v":"AA"},{"$f":"'12.2018 Data'!E34","v":"OPER"},{"$f":"'12.2018 Data'!F34","v":4741.6000000000004},{"$f":"'12.2018 Data'!G34","v":0},{"$f":"'12.2018 Data'!H34","v":3250.93},{"$f":"'12.2018 Data'!I34","v":1490.67},{"$f":"'12.2018 Data'!J34","v":0},"920",4741.6000000000004,0,3250.93,1490.67,0,{"$f":"IF(ISNUMBER(MATCH($B54,'Org functional rollups'!$A:$A,0)),INDEX('Org functional rollups'!$D:$D,MATCH($B54,'Org functional rollups'!$A:$A,0)),0)","v":"Distribution"},null,null,920,921,922,923,924,925,926,927,928,930,931,935,null,"Total",null,null,920,921,922,923,924,925,926,927,928,930,931,935]
[{"$f":"'12.2018 Data'!A35","v":"920000"},{"$f":"'12.2018 Data'!B35","v":"B52"},{"$f":"'12.2018 Data'!C35","v":"GD"},{"$f":"'12.2018 Data'!D35","v":"AA"},{"$f":"'12.2018 Data'!E35","v":"OPER"},{"$f":"'12.2018 Data'!F35","v":153.02000000000001},{"$f":"'12.2018 Data'!G35","v":0},{"$f":"'12.2018 Data'!H35","v":104.91},{"$f":"'12.2018 Data'!I35","v":48.11},{"$f":"'12.2018 Data'!J35","v":0},"920",153.02000000000001,0,104.91,48.11,0,{"$f":"IF(ISNUMBER(MATCH($B55,'Org functional rollups'!$A:$A,0)),INDEX('Org functional rollups'!$D:$D,MATCH($B55,'Org functional rollups'!$A:$A,0)),0)","v":"Distribution"},null,"Production",{"$f":"SUMPRODUCT(--($Q$22:$Q$1410=$S55),--($K$22:$K$1410=T$21&\"\"),$O$22:$O$1410)","v":105023.01999999999},{"$f":"SUMPRODUCT(--($Q$22:$Q$1410=$S55),--($K$22:$K$1410=U$21&\"\"),$O$22:$O$1410)","v":11404.01},0,302.41000000000003,0,0,4717.41,0,5275.6,5837.5,0,199.94,null,{"$f":"SUM(T55:AF55)","v":132759.89000000001},null,"Production",{"$f":"IF(T$61=0,0,T55/T$61)","v":2.4401943897473428E-2},{"$f":"IF(U$61=0,0,U55/U$61)","v":1.8087905462195304E-2},0,2.6313017484195708E-4,0,0,2.0686135026142645E-2,0,5.6587487268324873E-3,1.1579860560427164E-2,0,1.3943380182900126E-4]
[{"$f":"'12.2018 Data'!A36","v":"920000"},{"$f":"'12.2018 Data'!B36","v":"B54"},{"$f":"'12.2018 Data'!C36","v":"GD"},{"$f":"'12.2018 Data'!D36","v":"AA"},{"$f":"'12.2018 Data'!E36","v":"OPER"},{"$f":"'12.2018 Data'!F36","v":975.06},{"$f":"'12.2018 Data'!G36","v":0},{"$f":"'12.2018 Data'!H36","v":668.52},{"$f":"'12.2018 Data'!I36","v":306.54000000000002},{"$f":"'12.2018 Data'!J36","v":0},"920",975.06,0,668.52,306.54000000000002,0,{"$f":"IF(ISNUMBER(MATCH($B56,'Org functional rollups'!$A:$A,0)),INDEX('Org functional rollups'!$D:$D,MATCH($B56,'Org functional rollups'!$A:$A,0)),0)","v":"Distribution"},null,"Transmission",{"$f":"SUMPRODUCT(--($Q$22:$Q$1410=$S56),--($K$22:$K$1410=T$21&\"\"),$O$22:$O$1410)","v":265.16000000000003},1339.3200000000002,0,0,0,0,270.89,0,129.16,4.0199999999999996,0,0,null,{"$f":"SUM(T56:AF56)","v":2008.5500000000004},null,"Transmission",{"$f":"IF(T$61=0,0,T56/T$61)","v":6.1609535165281433E-5},2.1242960628434573E-3,0,0,0,0,1.1878694277647653E-3,0,1.3854044763774432E-4,7.9744821332620474E-6,0,0]
[{"$f":"'12.2018 Data'!A37","v":"920000"},{"$f":"'12.2018 Data'!B37","v":"B54"},{"$f":"'12.2018 Data'!C37","v":"CD"},{"$f":"'12.2018 Data'!D37","v":"AA"},{"$f":"'12.2018 Data'!E37","v":"OPER"},{"$f":"'12.2018 Data'!F37","v":218.81},{"$f":"'12.2018 Data'!G37","v":153.46},{"$f":"'12.2018 Data'!H37","v":44.97},{"$f":"'12.2018 Data'!I37","v":20.38},{"$f":"'12.2018 Data'!J37","v":0},"920",218.81,153.46,44.97,20.38,0,{"$f":"IF(ISNUMBER(MATCH($B57,'Org functional rollups'!$A:$A,0)),INDEX('Org functional rollups'!$D:$D,MATCH($B57,'Org functional rollups'!$A:$A,0)),0)","v":"Distribution"},null,"Distribution",230033.06,89963.4,0,48731.46,0,0,61513.13,0,44274.720000000001,118917.76000000001,0,12558.869999999999,null,{"$f":"SUM(T57:AF57)","v":605992.4},null,"Distribution",{"$f":"IF(T$61=0,0,T57/T$61)","v":5.3447842431917685E-2},0.1426909897709368,0,4.2401764459190625E-2,0,0,0.26973888490944525,0,4.7490241002135274E-2,0.23589740110635429,0,8.7582824386125274E-3]
[{"$f":"'12.2018 Data'!A38","v":"920000"},{"$f":"'12.2018 Data'!B38","v":"C04"},{"$f":"'12.2018 Data'!C38","v":"CD"},{"$f":"'12.2018 Data'!D38","v":"AA"},{"$f":"'12.2018 Data'!E38","v":"OPER"},{"$f":"'12.2018 Data'!F38","v":13770.94},{"$f":"'12.2018 Data'!G38","v":9658.24},{"$f":"'12.2018 Data'!H38","v":2829.8},{"$f":"'12.2018 Data'!I38","v":1282.9000000000001},{"$f":"'12.2018 Data'!J38","v":0},"920",13770.94,9658.24,2829.8,1282.9000000000001,0,{"$f":"IF(ISNUMBER(MATCH($B58,'Org functional rollups'!$A:$A,0)),INDEX('Org functional rollups'!$D:$D,MATCH($B58,'Org functional rollups'!$A:$A,0)),0)","v":"Production"},null,"Customer",116544.49999999999,20486.05,0,93.16,0,0,5952.35,0,195.94,21625.879999999997,0,265.55,null,{"$f":"SUM(T58:AF58)","v":165163.43},null,"Customer",{"$f":"IF(T$61=0,0,T58/T$61)","v":2.7078942793295143E-2},3.2492933248375447E-2,0,8.1059512212812798E-5,0,0,2.6101423413029647E-2,0,2.10170449908173E-4,4.289930190946991E-2,0,1.8518878701456078E-4]
[{"$f":"'12.2018 Data'!A39","v":"920000"},{"$f":"'12.2018 Data'!B39","v":"C07"},{"$f":"'12.2018 Data'!C39","v":"CD"},{"$f":"'12.2018 Data'!D39","v":"AA"},{"$f":"'12.2018 Data'!E39","v":"OPER"},{"$f":"'12.2018 Data'!F39","v":6141.59},{"$f":"'12.2018 Data'!G39","v":4307.3999999999996},{"$f":"'12.2018 Data'!H39","v":1262.04},{"$f":"'12.2018 Data'!I39","v":572.15},{"$f":"'12.2018 Data'!J39","v":0},"920",6141.59,4307.3999999999996,1262.04,572.15,0,{"$f":"IF(ISNUMBER(MATCH($B59,'Org functional rollups'!$A:$A,0)),INDEX('Org functional rollups'!$D:$D,MATCH($B59,'Org functional rollups'!$A:$A,0)),0)","v":"Production"},null,"Common",3852013.5099999993,507284.30999999994,0,1100152.0299999998,139865.72999999998,436536.91,155593.16999999995,0,882415.48999999987,357722.81,26707.84,1420917.7500000005,null,{"$f":"SUM(T59:AF59)","v":8879209.5500000007},null,"Common",{"$f":"IF(T$61=0,0,T59/T$61)","v":0.89500966134214854},0.80460387545564893,0,0.95725404585375462,1,1,0.68228568722361771,0,0.94650229937348629,0.7096154619416154,1,0.99091709497254388]
[{"$f":"'12.2018 Data'!A40","v":"920000"},{"$f":"'12.2018 Data'!B40","v":"C08"},{"$f":"'12.2018 Data'!C40","v":"CD"},{"$f":"'12.2018 Data'!D40","v":"AA"},{"$f":"'12.2018 Data'!E40","v":"OPER"},{"$f":"'12.2018 Data'!F40","v":97999.69},{"$f":"'12.2018 Data'!G40","v":68732.06},{"$f":"'12.2018 Data'!H40","v":20138},{"$f":"'12.2018 Data'!I40","v":9129.6299999999992},{"$f":"'12.2018 Data'!J40","v":0},"920",97999.69,68732.06,20138,9129.6299999999992,0,{"$f":"IF(ISNUMBER(MATCH($B60,'Org functional rollups'!$A:$A,0)),INDEX('Org functional rollups'!$D:$D,MATCH($B60,'Org functional rollups'!$A:$A,0)),0)","v":"Distribution"}]
[{"$f":"'12.2018 Data'!A41","v":"920000"},{"$f":"'12.2018 Data'!B41","v":"C09"},{"$f":"'12.2018 Data'!C41","v":"ED"},{"$f":"'12.2018 Data'!D41","v":"AN"},{"$f":"'12.2018 Data'!E41","v":"OPER"},{"$f":"'12.2018 Data'!F41","v":86583.6},{"$f":"'12.2018 Data'!G41","v":86583.6},{"$f":"'12.2018 Data'!H41","v":0},{"$f":"'12.2018 Data'!I41","v":0},{"$f":"'12.2018 Data'!J41","v":0},"920",86583.6,86583.6,0,0,0,{"$f":"IF(ISNUMBER(MATCH($B61,'Org functional rollups'!$A:$A,0)),INDEX('Org functional rollups'!$D:$D,MATCH($B61,'Org functional rollups'!$A:$A,0)),0)","v":"Common"},null,"Total",{"$f":"SUM(T55:T60)","v":4303879.2499999991},630477.09,0,1149279.0599999998,139865.72999999998,436536.91,228046.94999999995,0,932290.90999999992,504107.97,26707.84,1433942.1100000006,null,{"$f":"SUM(AG55:AG60)","v":9785133.8200000003},null,"Total",{"$f":"SUM(AJ55:AJ60)","v":1},1,0,1,1,1,1,0,1,1,1,1]
[{"$f":"'12.2018 Data'!A42","v":"920000"},{"$f":"'12.2018 Data'!B42","v":"C09"},{"$f":"'12.2018 Data'!C42","v":"CD"},{"$f":"'12.2018 Data'!D42","v":"AA"},{"$f":"'12.2018 Data'!E42","v":"OPER"},{"$f":"'12.2018 Data'!F42","v":192129.25},{"$f":"'12.2018 Data'!G42","v":134749.71},{"$f":"'12.2018 Data'!H42","v":39480.699999999997},{"$f":"'12.2018 Data'!I42","v":17898.84},{"$f":"'12.2018 Data'!J42","v":0},"920",192129.25,134749.71,39480.699999999997,17898.84,0,{"$f":"IF(ISNUMBER(MATCH($B62,'Org functional rollups'!$A:$A,0)),INDEX('Org functional rollups'!$D:$D,MATCH($B62,'Org functional rollups'!$A:$A,0)),0)","v":"Common"},null,null,null,null,null,null,null,null,null,null,null,null,null,null,null,{"$f":"AG61-O18","v":-158.92000001110137}]
[{"$f":"'12.2018 Data'!A43","v":"920000"},{"$f":"'12.2018 Data'!B43","v":"C11"},{"$f":"'12.2018 Data'!C43","v":"CD"},{"$f":"'12.2018 Data'!D43","v":"WA"},{"$f":"'12.2018 Data'!E43","v":"OPER"},{"$f":"'12.2018 Data'!F43","v":3692.94},{"$f":"'12.2018 Data'!G43","v":2869.96},{"$f":"'12.2018 Data'!H43","v":822.98},{"$f":"'12.2018 Data'!I43","v":0},{"$f":"'12.2018 Data'!J43","v":0},"920",3692.94,2869.96,822.98,0,0,{"$f":"IF(ISNUMBER(MATCH($B63,'Org functional rollups'!$A:$A,0)),INDEX('Org functional rollups'!$D:$D,MATCH($B63,'Org functional rollups'!$A:$A,0)),0)","v":"Common"}]
[{"$f":"'12.2018 Data'!A44","v":"920000"},{"$f":"'12.2018 Data'!B44","v":"C11"},{"$f":"'12.2018 Data'!C44","v":"CD"},{"$f":"'12.2018 Data'!D44","v":"AA"},{"$f":"'12.2018 Data'!E44","v":"OPER"},{"$f":"'12.2018 Data'!F44","v":317035.92},{"$f":"'12.2018 Data'!G44","v":222353.17},{"$f":"'12.2018 Data'!H44","v":65147.7},{"$f":"'12.2018 Data'!I44","v":29535.05},{"$f":"'12.2018 Data'!J44","v":0},"920",317035.92,222353.17,65147.7,29535.05,0,{"$f":"IF(ISNUMBER(MATCH($B64,'Org functional rollups'!$A:$A,0)),INDEX('Org functional rollups'!$D:$D,MATCH($B64,'Org functional rollups'!$A:$A,0)),0)","v":"Common"}]
[{"$f":"'12.2018 Data'!A45","v":"920000"},{"$f":"'12.2018 Data'!B45","v":"C19"},{"$f":"'12.2018 Data'!C45","v":"CD"},{"$f":"'12.2018 Data'!D45","v":"AN"},{"$f":"'12.2018 Data'!E45","v":"OPER"},{"$f":"'12.2018 Data'!F45","v":317.5},{"$f":"'12.2018 Data'!G45","v":246.74},{"$f":"'12.2018 Data'!H45","v":70.760000000000005},{"$f":"'12.2018 Data'!I45","v":0},{"$f":"'12.2018 Data'!J45","v":0},"920",317.5,246.74,70.760000000000005,0,0,{"$f":"IF(ISNUMBER(MATCH($B65,'Org functional rollups'!$A:$A,0)),INDEX('Org functional rollups'!$D:$D,MATCH($B65,'Org functional rollups'!$A:$A,0)),0)","v":"Common"},null,null,null,null,null,null,null,null,null,null,null,null,null,null,"check",{"$f":"AG29-AG40-AG51-AG62","v":2.0489096641540527E-8}]
[{"$f":"'12.2018 Data'!A46","v":"920000"},{"$f":"'12.2018 Data'!B46","v":"C19"},{"$f":"'12.2018 Data'!C46","v":"ED"},{"$f":"'12.2018 Data'!D46","v":"AN"},{"$f":"'12.2018 Data'!E46","v":"OPER"},{"$f":"'12.2018 Data'!F46","v":2675.58},{"$f":"'12.2018 Data'!G46","v":2675.58},{"$f":"'12.2018 Data'!H46","v":0},{"$f":"'12.2018 Data'!I46","v":0},{"$f":"'12.2018 Data'!J46","v":0},"920",2675.58,2675.58,0,0,0,{"$f":"IF(ISNUMBER(MATCH($B66,'Org functional rollups'!$A:$A,0)),INDEX('Org functional rollups'!$D:$D,MATCH($B66,'Org functional rollups'!$A:$A,0)),0)","v":"Common"}]
[{"$f":"'12.2018 Data'!A47","v":"920000"},{"$f":"'12.2018 Data'!B47","v":"C19"},{"$f":"'12.2018 Data'!C47","v":"CD"},{"$f":"'12.2018 Data'!D47","v":"AA"},{"$f":"'12.2018 Data'!E47","v":"OPER"},{"$f":"'12.2018 Data'!F47","v":455591.96},{"$f":"'12.2018 Data'!G47","v":319529.26},{"$f":"'12.2018 Data'!H47","v":93619.58},{"$f":"'12.2018 Data'!I47","v":42443.12},{"$f":"'12.2018 Data'!J47","v":0},"920",455591.96,319529.26,93619.58,42443.12,0,{"$f":"IF(ISNUMBER(MATCH($B67,'Org functional rollups'!$A:$A,0)),INDEX('Org functional rollups'!$D:$D,MATCH($B67,'Org functional rollups'!$A:$A,0)),0)","v":"Common"}]
[{"$f":"'12.2018 Data'!A48","v":"920000"},{"$f":"'12.2018 Data'!B48","v":"C50"},{"$f":"'12.2018 Data'!C48","v":"CD"},{"$f":"'12.2018 Data'!D48","v":"AA"},{"$f":"'12.2018 Data'!E48","v":"OPER"},{"$f":"'12.2018 Data'!F48","v":2986.18},{"$f":"'12.2018 Data'!G48","v":2094.36},{"$f":"'12.2018 Data'!H48","v":613.63},{"$f":"'12.2018 Data'!I48","v":278.19},{"$f":"'12.2018 Data'!J48","v":0},"920",2986.18,2094.36,613.63,278.19,0,{"$f":"IF(ISNUMBER(MATCH($B68,'Org functional rollups'!$A:$A,0)),INDEX('Org functional rollups'!$D:$D,MATCH($B68,'Org functional rollups'!$A:$A,0)),0)","v":"Customer"}]
[{"$f":"'12.2018 Data'!A49","v":"920000"},{"$f":"'12.2018 Data'!B49","v":"C51"},{"$f":"'12.2018 Data'!C49","v":"CD"},{"$f":"'12.2018 Data'!D49","v":"AA"},{"$f":"'12.2018 Data'!E49","v":"OPER"},{"$f":"'12.2018 Data'!F49","v":40433.22},{"$f":"'12.2018 Data'!G49","v":28357.81},{"$f":"'12.2018 Data'!H49","v":8308.6299999999992},{"$f":"'12.2018 Data'!I49","v":3766.78},{"$f":"'12.2018 Data'!J49","v":0},"920",40433.22,28357.81,8308.6299999999992,3766.78,0,{"$f":"IF(ISNUMBER(MATCH($B69,'Org functional rollups'!$A:$A,0)),INDEX('Org functional rollups'!$D:$D,MATCH($B69,'Org functional rollups'!$A:$A,0)),0)","v":"Distribution"}]
[{"$f":"'12.2018 Data'!A50","v":"920000"},{"$f":"'12.2018 Data'!B50","v":"C53"},{"$f":"'12.2018 Data'!C50","v":"CD"},{"$f":"'12.2018 Data'!D50","v":"AA"},{"$f":"'12.2018 Data'!E50","v":"OPER"},{"$f":"'12.2018 Data'!F50","v":902.22},{"$f":"'12.2018 Data'!G50","v":632.77},{"$f":"'12.2018 Data'!H50","v":185.4},{"$f":"'12.2018 Data'!I50","v":84.05},{"$f":"'12.2018 Data'!J50","v":0},"920",902.22,632.77,185.4,84.05,0,{"$f":"IF(ISNUMBER(MATCH($B70,'Org functional rollups'!$A:$A,0)),INDEX('Org functional rollups'!$D:$D,MATCH($B70,'Org functional rollups'!$A:$A,0)),0)","v":"Distribution"}]
[{"$f":"'12.2018 Data'!A51","v":"920000"},{"$f":"'12.2018 Data'!B51","v":"C54"},{"$f":"'12.2018 Data'!C51","v":"CD"},{"$f":"'12.2018 Data'!D51","v":"AA"},{"$f":"'12.2018 Data'!E51","v":"OPER"},{"$f":"'12.2018 Data'!F51","v":512940.11},{"$f":"'12.2018 Data'!G51","v":359750.53},{"$f":"'12.2018 Data'!H51","v":105404.05},{"$f":"'12.2018 Data'!I51","v":47785.53},{"$f":"'12.2018 Data'!J51","v":0},"920",512940.11,359750.53,105404.05,47785.53,0,{"$f":"IF(ISNUMBER(MATCH($B71,'Org functional rollups'!$A:$A,0)),INDEX('Org functional rollups'!$D:$D,MATCH($B71,'Org functional rollups'!$A:$A,0)),0)","v":"Common"}]
[{"$f":"'12.2018 Data'!A52","v":"920000"},{"$f":"'12.2018 Data'!B52","v":"C56"},{"$f":"'12.2018 Data'!C52","v":"CD"},{"$f":"'12.2018 Data'!D52","v":"AA"},{"$f":"'12.2018 Data'!E52","v":"OPER"},{"$f":"'12.2018 Data'!F52","v":2098.65},{"$f":"'12.2018 Data'!G52","v":1471.9},{"$f":"'12.2018 Data'!H52","v":431.26},{"$f":"'12.2018 Data'!I52","v":195.49},{"$f":"'12.2018 Data'!J52","v":0},"920",2098.65,1471.9,431.26,195.49,0,{"$f":"IF(ISNUMBER(MATCH($B72,'Org functional rollups'!$A:$A,0)),INDEX('Org functional rollups'!$D:$D,MATCH($B72,'Org functional rollups'!$A:$A,0)),0)","v":"Transmission"}]
[{"$f":"'12.2018 Data'!A53","v":"920000"},{"$f":"'12.2018 Data'!B53","v":"C57"},{"$f":"'12.2018 Data'!C53","v":"CD"},{"$f":"'12.2018 Data'!D53","v":"AA"},{"$f":"'12.2018 Data'!E53","v":"OPER"},{"$f":"'12.2018 Data'!F53","v":2355.92},{"$f":"'12.2018 Data'!G53","v":1652.33},{"$f":"'12.2018 Data'!H53","v":484.12},{"$f":"'12.2018 Data'!I53","v":219.47},{"$f":"'12.2018 Data'!J53","v":0},"920",2355.92,1652.33,484.12,219.47,0,{"$f":"IF(ISNUMBER(MATCH($B73,'Org functional rollups'!$A:$A,0)),INDEX('Org functional rollups'!$D:$D,MATCH($B73,'Org functional rollups'!$A:$A,0)),0)","v":"Distribution"}]
[{"$f":"'12.2018 Data'!A54","v":"920000"},{"$f":"'12.2018 Data'!B54","v":"C59"},{"$f":"'12.2018 Data'!C54","v":"CD"},{"$f":"'12.2018 Data'!D54","v":"AA"},{"$f":"'12.2018 Data'!E54","v":"OPER"},{"$f":"'12.2018 Data'!F54","v":104515.35},{"$f":"'12.2018 Data'!G54","v":73301.91},{"$f":"'12.2018 Data'!H54","v":21476.87},{"$f":"'12.2018 Data'!I54","v":9736.57},{"$f":"'12.2018 Data'!J54","v":0},"920",104515.35,73301.91,21476.87,9736.57,0,{"$f":"IF(ISNUMBER(MATCH($B74,'Org functional rollups'!$A:$A,0)),INDEX('Org functional rollups'!$D:$D,MATCH($B74,'Org functional rollups'!$A:$A,0)),0)","v":"Common"}]
[{"$f":"'12.2018 Data'!A55","v":"920000"},{"$f":"'12.2018 Data'!B55","v":"D08"},{"$f":"'12.2018 Data'!C55","v":"ED"},{"$f":"'12.2018 Data'!D55","v":"AN"},{"$f":"'12.2018 Data'!E55","v":"OPER"},{"$f":"'12.2018 Data'!F55","v":-5919.49},{"$f":"'12.2018 Data'!G55","v":-5919.49},{"$f":"'12.2018 Data'!H55","v":0},{"$f":"'12.2018 Data'!I55","v":0},{"$f":"'12.2018 Data'!J55","v":0},"920",-5919.49,-5919.49,0,0,0,{"$f":"IF(ISNUMBER(MATCH($B75,'Org functional rollups'!$A:$A,0)),INDEX('Org functional rollups'!$D:$D,MATCH($B75,'Org functional rollups'!$A:$A,0)),0)","v":"Distribution"}]
[{"$f":"'12.2018 Data'!A56","v":"920000"},{"$f":"'12.2018 Data'!B56","v":"D08"},{"$f":"'12.2018 Data'!C56","v":"CD"},{"$f":"'12.2018 Data'!D56","v":"AA"},{"$f":"'12.2018 Data'!E56","v":"OPER"},{"$f":"'12.2018 Data'!F56","v":43095.19},{"$f":"'12.2018 Data'!G56","v":30224.85},{"$f":"'12.2018 Data'!H56","v":8855.67},{"$f":"'12.2018 Data'!I56","v":4014.67},{"$f":"'12.2018 Data'!J56","v":0},"920",43095.19,30224.85,8855.67,4014.67,0,{"$f":"IF(ISNUMBER(MATCH($B76,'Org functional rollups'!$A:$A,0)),INDEX('Org functional rollups'!$D:$D,MATCH($B76,'Org functional rollups'!$A:$A,0)),0)","v":"Distribution"}]
[{"$f":"'12.2018 Data'!A57","v":"920000"},{"$f":"'12.2018 Data'!B57","v":"D09"},{"$f":"'12.2018 Data'!C57","v":"ED"},{"$f":"'12.2018 Data'!D57","v":"AN"},{"$f":"'12.2018 Data'!E57","v":"OPER"},{"$f":"'12.2018 Data'!F57","v":189444.9},{"$f":"'12.2018 Data'!G57","v":189444.9},{"$f":"'12.2018 Data'!H57","v":0},{"$f":"'12.2018 Data'!I57","v":0},{"$f":"'12.2018 Data'!J57","v":0},"920",189444.9,189444.9,0,0,0,{"$f":"IF(ISNUMBER(MATCH($B77,'Org functional rollups'!$A:$A,0)),INDEX('Org functional rollups'!$D:$D,MATCH($B77,'Org functional rollups'!$A:$A,0)),0)","v":"Transmission"}]
[{"$f":"'12.2018 Data'!A58","v":"920000"},{"$f":"'12.2018 Data'!B58","v":"D50"},{"$f":"'12.2018 Data'!C58","v":"CD"},{"$f":"'12.2018 Data'!D58","v":"AA"},{"$f":"'12.2018 Data'!E58","v":"OPER"},{"$f":"'12.2018 Data'!F58","v":67936.759999999995},{"$f":"'12.2018 Data'!G58","v":47647.44},{"$f":"'12.2018 Data'!H58","v":13960.33},{"$f":"'12.2018 Data'!I58","v":6328.99},{"$f":"'12.2018 Data'!J58","v":0},"920",67936.759999999995,47647.44,13960.33,6328.99,0,{"$f":"IF(ISNUMBER(MATCH($B78,'Org functional rollups'!$A:$A,0)),INDEX('Org functional rollups'!$D:$D,MATCH($B78,'Org functional rollups'!$A:$A,0)),0)","v":"Customer"}]
[{"$f":"'12.2018 Data'!A59","v":"920000"},{"$f":"'12.2018 Data'!B59","v":"D50"},{"$f":"'12.2018 Data'!C59","v":"CD"},{"$f":"'12.2018 Data'!D59","v":"AN"},{"$f":"'12.2018 Data'!E59","v":"OPER"},{"$f":"'12.2018 Data'!F59","v":297.25},{"$f":"'12.2018 Data'!G59","v":231},{"$f":"'12.2018 Data'!H59","v":66.25},{"$f":"'12.2018 Data'!I59","v":0},{"$f":"'12.2018 Data'!J59","v":0},"920",297.25,231,66.25,0,0,{"$f":"IF(ISNUMBER(MATCH($B79,'Org functional rollups'!$A:$A,0)),INDEX('Org functional rollups'!$D:$D,MATCH($B79,'Org functional rollups'!$A:$A,0)),0)","v":"Customer"}]
[{"$f":"'12.2018 Data'!A60","v":"920000"},{"$f":"'12.2018 Data'!B60","v":"D53"},{"$f":"'12.2018 Data'!C60","v":"CD"},{"$f":"'12.2018 Data'!D60","v":"AA"},{"$f":"'12.2018 Data'!E60","v":"OPER"},{"$f":"'12.2018 Data'!F60","v":218.2},{"$f":"'12.2018 Data'!G60","v":153.04},{"$f":"'12.2018 Data'!H60","v":44.84},{"$f":"'12.2018 Data'!I60","v":20.32},{"$f":"'12.2018 Data'!J60","v":0},"920",218.2,153.04,44.84,20.32,0,{"$f":"IF(ISNUMBER(MATCH($B80,'Org functional rollups'!$A:$A,0)),INDEX('Org functional rollups'!$D:$D,MATCH($B80,'Org functional rollups'!$A:$A,0)),0)","v":"Distribution"}]
[{"$f":"'12.2018 Data'!A61","v":"920000"},{"$f":"'12.2018 Data'!B61","v":"D53"},{"$f":"'12.2018 Data'!C61","v":"CD"},{"$f":"'12.2018 Data'!D61","v":"AN"},{"$f":"'12.2018 Data'!E61","v":"OPER"},{"$f":"'12.2018 Data'!F61","v":1250},{"$f":"'12.2018 Data'!G61","v":971.44},{"$f":"'12.2018 Data'!H61","v":278.56},{"$f":"'12.2018 Data'!I61","v":0},{"$f":"'12.2018 Data'!J61","v":0},"920",1250,971.44,278.56,0,0,{"$f":"IF(ISNUMBER(MATCH($B81,'Org functional rollups'!$A:$A,0)),INDEX('Org functional rollups'!$D:$D,MATCH($B81,'Org functional rollups'!$A:$A,0)),0)","v":"Distribution"}]
[{"$f":"'12.2018 Data'!A62","v":"920000"},{"$f":"'12.2018 Data'!B62","v":"D54"},{"$f":"'12.2018 Data'!C62","v":"CD"},{"$f":"'12.2018 Data'!D62","v":"AA"},{"$f":"'12.2018 Data'!E62","v":"OPER"},{"$f":"'12.2018 Data'!F62","v":324306.40000000002},{"$f":"'12.2018 Data'!G62","v":227452.28},{"$f":"'12.2018 Data'!H62","v":66641.67},{"$f":"'12.2018 Data'!I62","v":30212.45},{"$f":"'12.2018 Data'!J62","v":0},"920",324306.40000000002,227452.28,66641.67,30212.45,0,{"$f":"IF(ISNUMBER(MATCH($B82,'Org functional rollups'!$A:$A,0)),INDEX('Org functional rollups'!$D:$D,MATCH($B82,'Org functional rollups'!$A:$A,0)),0)","v":"Common"}]
[{"$f":"'12.2018 Data'!A63","v":"920000"},{"$f":"'12.2018 Data'!B63","v":"E01"},{"$f":"'12.2018 Data'!C63","v":"CD"},{"$f":"'12.2018 Data'!D63","v":"AA"},{"$f":"'12.2018 Data'!E63","v":"OPER"},{"$f":"'12.2018 Data'!F63","v":2569452.58},{"$f":"'12.2018 Data'!G63","v":1802085.53},{"$f":"'12.2018 Data'!H63","v":527996.87},{"$f":"'12.2018 Data'!I63","v":239370.18},{"$f":"'12.2018 Data'!J63","v":0},"920",2569452.58,1802085.53,527996.87,239370.18,0,{"$f":"IF(ISNUMBER(MATCH($B83,'Org functional rollups'!$A:$A,0)),INDEX('Org functional rollups'!$D:$D,MATCH($B83,'Org functional rollups'!$A:$A,0)),0)","v":"Common"}]
[{"$f":"'12.2018 Data'!A64","v":"920000"},{"$f":"'12.2018 Data'!B64","v":"E02"},{"$f":"'12.2018 Data'!C64","v":"CD"},{"$f":"'12.2018 Data'!D64","v":"AA"},{"$f":"'12.2018 Data'!E64","v":"OPER"},{"$f":"'12.2018 Data'!F64","v":128433.26},{"$f":"'12.2018 Data'!G64","v":90076.67},{"$f":"'12.2018 Data'!H64","v":26391.75},{"$f":"'12.2018 Data'!I64","v":11964.84},{"$f":"'12.2018 Data'!J64","v":0},"920",128433.26,90076.67,26391.75,11964.84,0,{"$f":"IF(ISNUMBER(MATCH($B84,'Org functional rollups'!$A:$A,0)),INDEX('Org functional rollups'!$D:$D,MATCH($B84,'Org functional rollups'!$A:$A,0)),0)","v":"Common"}]
[{"$f":"'12.2018 Data'!A65","v":"920000"},{"$f":"'12.2018 Data'!B65","v":"E07"},{"$f":"'12.2018 Data'!C65","v":"ED"},{"$f":"'12.2018 Data'!D65","v":"AN"},{"$f":"'12.2018 Data'!E65","v":"OPER"},{"$f":"'12.2018 Data'!F65","v":2996.37},{"$f":"'12.2018 Data'!G65","v":2996.37},{"$f":"'12.2018 Data'!H65","v":0},{"$f":"'12.2018 Data'!I65","v":0},{"$f":"'12.2018 Data'!J65","v":0},"920",2996.37,2996.37,0,0,0,{"$f":"IF(ISNUMBER(MATCH($B85,'Org functional rollups'!$A:$A,0)),INDEX('Org functional rollups'!$D:$D,MATCH($B85,'Org functional rollups'!$A:$A,0)),0)","v":"Production"}]
[{"$f":"'12.2018 Data'!A66","v":"920000"},{"$f":"'12.2018 Data'!B66","v":"E07"},{"$f":"'12.2018 Data'!C66","v":"CD"},{"$f":"'12.2018 Data'!D66","v":"AA"},{"$f":"'12.2018 Data'!E66","v":"OPER"},{"$f":"'12.2018 Data'!F66","v":10556.29},{"$f":"'12.2018 Data'!G66","v":7403.62},{"$f":"'12.2018 Data'!H66","v":2169.1799999999998},{"$f":"'12.2018 Data'!I66","v":983.49},{"$f":"'12.2018 Data'!J66","v":0},"920",10556.29,7403.62,2169.1799999999998,983.49,0,{"$f":"IF(ISNUMBER(MATCH($B86,'Org functional rollups'!$A:$A,0)),INDEX('Org functional rollups'!$D:$D,MATCH($B86,'Org functional rollups'!$A:$A,0)),0)","v":"Production"}]
[{"$f":"'12.2018 Data'!A67","v":"920000"},{"$f":"'12.2018 Data'!B67","v":"E09"},{"$f":"'12.2018 Data'!C67","v":"CD"},{"$f":"'12.2018 Data'!D67","v":"AA"},{"$f":"'12.2018 Data'!E67","v":"OPER"},{"$f":"'12.2018 Data'!F67","v":57551.34},{"$f":"'12.2018 Data'!G67","v":40363.64},{"$f":"'12.2018 Data'!H67","v":11826.2},{"$f":"'12.2018 Data'!I67","v":5361.5},{"$f":"'12.2018 Data'!J67","v":0},{"$f":"LEFT(A87,3)","v":"920"},{"$f":"IF(ISNUMBER(F87),F87,0)","v":57551.34},40363.64,11826.2,5361.5,0,{"$f":"IF(ISNUMBER(MATCH($B87,'Org functional rollups'!$A:$A,0)),INDEX('Org functional rollups'!$D:$D,MATCH($B87,'Org functional rollups'!$A:$A,0)),0)","v":"Common"}]
[{"$f":"'12.2018 Data'!A68","v":"920000"},{"$f":"'12.2018 Data'!B68","v":"E14"},{"$f":"'12.2018 Data'!C68","v":"CD"},{"$f":"'12.2018 Data'!D68","v":"AN"},{"$f":"'12.2018 Data'!E68","v":"OPER"},{"$f":"'12.2018 Data'!F68","v":42306.34},{"$f":"'12.2018 Data'!G68","v":32878.39},{"$f":"'12.2018 Data'!H68","v":9427.9500000000007},{"$f":"'12.2018 Data'!I68","v":0},{"$f":"'12.2018 Data'!J68","v":0},"920",42306.34,32878.39,9427.9500000000007,0,0,{"$f":"IF(ISNUMBER(MATCH($B88,'Org functional rollups'!$A:$A,0)),INDEX('Org functional rollups'!$D:$D,MATCH($B88,'Org functional rollups'!$A:$A,0)),0)","v":"Production"}]
[{"$f":"'12.2018 Data'!A69","v":"920000"},{"$f":"'12.2018 Data'!B69","v":"E14"},{"$f":"'12.2018 Data'!C69","v":"CD"},{"$f":"'12.2018 Data'!D69","v":"AA"},{"$f":"'12.2018 Data'!E69","v":"OPER"},{"$f":"'12.2018 Data'!F69","v":264427.26},{"$f":"'12.2018 Data'!G69","v":185456.12},{"$f":"'12.2018 Data'!H69","v":54337.17},{"$f":"'12.2018 Data'!I69","v":24633.97},{"$f":"'12.2018 Data'!J69","v":0},"920",264427.26,185456.12,54337.17,24633.97,0,{"$f":"IF(ISNUMBER(MATCH($B89,'Org functional rollups'!$A:$A,0)),INDEX('Org functional rollups'!$D:$D,MATCH($B89,'Org functional rollups'!$A:$A,0)),0)","v":"Production"}]
[{"$f":"'12.2018 Data'!A70","v":"920000"},{"$f":"'12.2018 Data'!B70","v":"E14"},{"$f":"'12.2018 Data'!C70","v":"ED"},{"$f":"'12.2018 Data'!D70","v":"AN"},{"$f":"'12.2018 Data'!E70","v":"OPER"},{"$f":"'12.2018 Data'!F70","v":33959.65},{"$f":"'12.2018 Data'!G70","v":33959.65},{"$f":"'12.2018 Data'!H70","v":0},{"$f":"'12.2018 Data'!I70","v":0},{"$f":"'12.2018 Data'!J70","v":0},"920",33959.65,33959.65,0,0,0,{"$f":"IF(ISNUMBER(MATCH($B90,'Org functional rollups'!$A:$A,0)),INDEX('Org functional rollups'!$D:$D,MATCH($B90,'Org functional rollups'!$A:$A,0)),0)","v":"Production"}]
[{"$f":"'12.2018 Data'!A71","v":"920000"},{"$f":"'12.2018 Data'!B71","v":"E19"},{"$f":"'12.2018 Data'!C71","v":"CD"},{"$f":"'12.2018 Data'!D71","v":"AN"},{"$f":"'12.2018 Data'!E71","v":"OPER"},{"$f":"'12.2018 Data'!F71","v":180.25},{"$f":"'12.2018 Data'!G71","v":140.09},{"$f":"'12.2018 Data'!H71","v":40.159999999999997},{"$f":"'12.2018 Data'!I71","v":0},{"$f":"'12.2018 Data'!J71","v":0},"920",180.25,140.09,40.159999999999997,0,0,{"$f":"IF(ISNUMBER(MATCH($B91,'Org functional rollups'!$A:$A,0)),INDEX('Org functional rollups'!$D:$D,MATCH($B91,'Org functional rollups'!$A:$A,0)),0)","v":"Common"}]
[{"$f":"'12.2018 Data'!A72","v":"920000"},{"$f":"'12.2018 Data'!B72","v":"E19"},{"$f":"'12.2018 Data'!C72","v":"CD"},{"$f":"'12.2018 Data'!D72","v":"AA"},{"$f":"'12.2018 Data'!E72","v":"OPER"},{"$f":"'12.2018 Data'!F72","v":458166.88},{"$f":"'12.2018 Data'!G72","v":321335.42},{"$f":"'12.2018 Data'!H72","v":94148.96},{"$f":"'12.2018 Data'!I72","v":42682.5},{"$f":"'12.2018 Data'!J72","v":0},"920",458166.88,321335.42,94148.96,42682.5,0,{"$f":"IF(ISNUMBER(MATCH($B92,'Org functional rollups'!$A:$A,0)),INDEX('Org functional rollups'!$D:$D,MATCH($B92,'Org functional rollups'!$A:$A,0)),0)","v":"Common"}]
[{"$f":"'12.2018 Data'!A73","v":"920000"},{"$f":"'12.2018 Data'!B73","v":"E50"},{"$f":"'12.2018 Data'!C73","v":"CD"},{"$f":"'12.2018 Data'!D73","v":"AA"},{"$f":"'12.2018 Data'!E73","v":"OPER"},{"$f":"'12.2018 Data'!F73","v":10430.33},{"$f":"'12.2018 Data'!G73","v":7315.31},{"$f":"'12.2018 Data'!H73","v":2143.3200000000002},{"$f":"'12.2018 Data'!I73","v":971.7},{"$f":"'12.2018 Data'!J73","v":0},"920",10430.33,7315.31,2143.3200000000002,971.7,0,{"$f":"IF(ISNUMBER(MATCH($B93,'Org functional rollups'!$A:$A,0)),INDEX('Org functional rollups'!$D:$D,MATCH($B93,'Org functional rollups'!$A:$A,0)),0)","v":"Customer"}]
[{"$f":"'12.2018 Data'!A74","v":"920000"},{"$f":"'12.2018 Data'!B74","v":"E51"},{"$f":"'12.2018 Data'!C74","v":"CD"},{"$f":"'12.2018 Data'!D74","v":"AA"},{"$f":"'12.2018 Data'!E74","v":"OPER"},{"$f":"'12.2018 Data'!F74","v":46349.91},{"$f":"'12.2018 Data'!G74","v":32507.5},{"$f":"'12.2018 Data'!H74","v":9524.44},{"$f":"'12.2018 Data'!I74","v":4317.97},{"$f":"'12.2018 Data'!J74","v":0},"920",46349.91,32507.5,9524.44,4317.97,0,{"$f":"IF(ISNUMBER(MATCH($B94,'Org functional rollups'!$A:$A,0)),INDEX('Org functional rollups'!$D:$D,MATCH($B94,'Org functional rollups'!$A:$A,0)),0)","v":"Distribution"}]
[{"$f":"'12.2018 Data'!A75","v":"920000"},{"$f":"'12.2018 Data'!B75","v":"E51"},{"$f":"'12.2018 Data'!C75","v":"CD"},{"$f":"'12.2018 Data'!D75","v":"AN"},{"$f":"'12.2018 Data'!E75","v":"OPER"},{"$f":"'12.2018 Data'!F75","v":9123.0499999999993},{"$f":"'12.2018 Data'!G75","v":7089.98},{"$f":"'12.2018 Data'!H75","v":2033.07},{"$f":"'12.2018 Data'!I75","v":0},{"$f":"'12.2018 Data'!J75","v":0},"920",9123.0499999999993,7089.98,2033.07,0,0,{"$f":"IF(ISNUMBER(MATCH($B95,'Org functional rollups'!$A:$A,0)),INDEX('Org functional rollups'!$D:$D,MATCH($B95,'Org functional rollups'!$A:$A,0)),0)","v":"Distribution"}]
[{"$f":"'12.2018 Data'!A76","v":"920000"},{"$f":"'12.2018 Data'!B76","v":"E55"},{"$f":"'12.2018 Data'!C76","v":"CD"},{"$f":"'12.2018 Data'!D76","v":"AA"},{"$f":"'12.2018 Data'!E76","v":"OPER"},{"$f":"'12.2018 Data'!F76","v":13435.01},{"$f":"'12.2018 Data'!G76","v":9422.65},{"$f":"'12.2018 Data'!H76","v":2760.74},{"$f":"'12.2018 Data'!I76","v":1251.6199999999999},{"$f":"'12.2018 Data'!J76","v":0},"920",13435.01,9422.65,2760.74,1251.6199999999999,0,{"$f":"IF(ISNUMBER(MATCH($B96,'Org functional rollups'!$A:$A,0)),INDEX('Org functional rollups'!$D:$D,MATCH($B96,'Org functional rollups'!$A:$A,0)),0)","v":"Production"}]
[{"$f":"'12.2018 Data'!A77","v":"920000"},{"$f":"'12.2018 Data'!B77","v":"F02"},{"$f":"'12.2018 Data'!C77","v":"CD"},{"$f":"'12.2018 Data'!D77","v":"AA"},{"$f":"'12.2018 Data'!E77","v":"OPER"},{"$f":"'12.2018 Data'!F77","v":227595.27},{"$f":"'12.2018 Data'!G77","v":159623.99},{"$f":"'12.2018 Data'!H77","v":46768.69},{"$f":"'12.2018 Data'!I77","v":21202.59},{"$f":"'12.2018 Data'!J77","v":0},"920",227595.27,159623.99,46768.69,21202.59,0,{"$f":"IF(ISNUMBER(MATCH($B97,'Org functional rollups'!$A:$A,0)),INDEX('Org functional rollups'!$D:$D,MATCH($B97,'Org functional rollups'!$A:$A,0)),0)","v":"Common"}]
[{"$f":"'12.2018 Data'!A78","v":"920000"},{"$f":"'12.2018 Data'!B78","v":"F08"},{"$f":"'12.2018 Data'!C78","v":"CD"},{"$f":"'12.2018 Data'!D78","v":"AA"},{"$f":"'12.2018 Data'!E78","v":"OPER"},{"$f":"'12.2018 Data'!F78","v":461.7},{"$f":"'12.2018 Data'!G78","v":323.81},{"$f":"'12.2018 Data'!H78","v":94.87},{"$f":"'12.2018 Data'!I78","v":43.02},{"$f":"'12.2018 Data'!J78","v":0},"920",461.7,323.81,94.87,43.02,0,{"$f":"IF(ISNUMBER(MATCH($B98,'Org functional rollups'!$A:$A,0)),INDEX('Org functional rollups'!$D:$D,MATCH($B98,'Org functional rollups'!$A:$A,0)),0)","v":"Transmission"}]
[{"$f":"'12.2018 Data'!A79","v":"920000"},{"$f":"'12.2018 Data'!B79","v":"F19"},{"$f":"'12.2018 Data'!C79","v":"CD"},{"$f":"'12.2018 Data'!D79","v":"AA"},{"$f":"'12.2018 Data'!E79","v":"OPER"},{"$f":"'12.2018 Data'!F79","v":237705.74},{"$f":"'12.2018 Data'!G79","v":166714.91},{"$f":"'12.2018 Data'!H79","v":48846.16},{"$f":"'12.2018 Data'!I79","v":22144.67},{"$f":"'12.2018 Data'!J79","v":0},"920",237705.74,166714.91,48846.16,22144.67,0,{"$f":"IF(ISNUMBER(MATCH($B99,'Org functional rollups'!$A:$A,0)),INDEX('Org functional rollups'!$D:$D,MATCH($B99,'Org functional rollups'!$A:$A,0)),0)","v":"Common"}]
[{"$f":"'12.2018 Data'!A80","v":"920000"},{"$f":"'12.2018 Data'!B80","v":"F39"},{"$f":"'12.2018 Data'!C80","v":"CD"},{"$f":"'12.2018 Data'!D80","v":"AA"},{"$f":"'12.2018 Data'!E80","v":"OPER"},{"$f":"'12.2018 Data'!F80","v":25656.73},{"$f":"'12.2018 Data'!G80","v":17994.29},{"$f":"'12.2018 Data'!H80","v":5272.2},{"$f":"'12.2018 Data'!I80","v":2390.2399999999998},{"$f":"'12.2018 Data'!J80","v":0},"920",25656.73,17994.29,5272.2,2390.2399999999998,0,{"$f":"IF(ISNUMBER(MATCH($B100,'Org functional rollups'!$A:$A,0)),INDEX('Org functional rollups'!$D:$D,MATCH($B100,'Org functional rollups'!$A:$A,0)),0)","v":"Common"}]
[{"$f":"'12.2018 Data'!A81","v":"920000"},{"$f":"'12.2018 Data'!B81","v":"F50"},{"$f":"'12.2018 Data'!C81","v":"CD"},{"$f":"'12.2018 Data'!D81","v":"AA"},{"$f":"'12.2018 Data'!E81","v":"OPER"},{"$f":"'12.2018 Data'!F81","v":8501.49},{"$f":"'12.2018 Data'!G81","v":5962.51},{"$f":"'12.2018 Data'!H81","v":1746.97},{"$f":"'12.2018 Data'!I81","v":792.01},{"$f":"'12.2018 Data'!J81","v":0},"920",8501.49,5962.51,1746.97,792.01,0,{"$f":"IF(ISNUMBER(MATCH($B101,'Org functional rollups'!$A:$A,0)),INDEX('Org functional rollups'!$D:$D,MATCH($B101,'Org functional rollups'!$A:$A,0)),0)","v":"Customer"}]
[{"$f":"'12.2018 Data'!A82","v":"920000"},{"$f":"'12.2018 Data'!B82","v":"F52"},{"$f":"'12.2018 Data'!C82","v":"GD"},{"$f":"'12.2018 Data'!D82","v":"AA"},{"$f":"'12.2018 Data'!E82","v":"OPER"},{"$f":"'12.2018 Data'!F82","v":1129.6199999999999},{"$f":"'12.2018 Data'!G82","v":0},{"$f":"'12.2018 Data'!H82","v":774.49},{"$f":"'12.2018 Data'!I82","v":355.13},{"$f":"'12.2018 Data'!J82","v":0},"920",1129.6199999999999,{"$f":"IF(ISNUMBER(G102),G102,0)","v":0},{"$f":"IF(ISNUMBER(H102),H102,0)","v":774.49},{"$f":"IF(ISNUMBER(I102),I102,0)","v":355.13},{"$f":"IF(ISNUMBER(J102),J102,0)","v":0},{"$f":"IF(ISNUMBER(MATCH($B102,'Org functional rollups'!$A:$A,0)),INDEX('Org functional rollups'!$D:$D,MATCH($B102,'Org functional rollups'!$A:$A,0)),0)","v":"Customer"}]
[{"$f":"'12.2018 Data'!A83","v":"920000"},{"$f":"'12.2018 Data'!B83","v":"F53"},{"$f":"'12.2018 Data'!C83","v":"CD"},{"$f":"'12.2018 Data'!D83","v":"WA"},{"$f":"'12.2018 Data'!E83","v":"OPER"},{"$f":"'12.2018 Data'!F83","v":9674.76},{"$f":"'12.2018 Data'!G83","v":7518.65},{"$f":"'12.2018 Data'!H83","v":2156.11},{"$f":"'12.2018 Data'!I83","v":0},{"$f":"'12.2018 Data'!J83","v":0},"920",9674.76,7518.65,2156.11,0,0,{"$f":"IF(ISNUMBER(MATCH($B103,'Org functional rollups'!$A:$A,0)),INDEX('Org functional rollups'!$D:$D,MATCH($B103,'Org functional rollups'!$A:$A,0)),0)","v":"Customer"}]
[{"$f":"'12.2018 Data'!A84","v":"920000"},{"$f":"'12.2018 Data'!B84","v":"F53"},{"$f":"'12.2018 Data'!C84","v":"CD"},{"$f":"'12.2018 Data'!D84","v":"ID"},{"$f":"'12.2018 Data'!E84","v":"OPER"},{"$f":"'12.2018 Data'!F84","v":22903.4},{"$f":"'12.2018 Data'!G84","v":17799.38},{"$f":"'12.2018 Data'!H84","v":5104.0200000000004},{"$f":"'12.2018 Data'!I84","v":0},{"$f":"'12.2018 Data'!J84","v":0},"920",22903.4,17799.38,5104.0200000000004,0,0,{"$f":"IF(ISNUMBER(MATCH($B104,'Org functional rollups'!$A:$A,0)),INDEX('Org functional rollups'!$D:$D,MATCH($B104,'Org functional rollups'!$A:$A,0)),0)","v":"Customer"}]
[{"$f":"'12.2018 Data'!A85","v":"920000"},{"$f":"'12.2018 Data'!B85","v":"F54"},{"$f":"'12.2018 Data'!C85","v":"CD"},{"$f":"'12.2018 Data'!D85","v":"AA"},{"$f":"'12.2018 Data'!E85","v":"OPER"},{"$f":"'12.2018 Data'!F85","v":397803.85},{"$f":"'12.2018 Data'!G85","v":278999.77},{"$f":"'12.2018 Data'!H85","v":81744.850000000006},{"$f":"'12.2018 Data'!I85","v":37059.230000000003},{"$f":"'12.2018 Data'!J85","v":0},"920",397803.85,278999.77,81744.850000000006,37059.230000000003,0,{"$f":"IF(ISNUMBER(MATCH($B105,'Org functional rollups'!$A:$A,0)),INDEX('Org functional rollups'!$D:$D,MATCH($B105,'Org functional rollups'!$A:$A,0)),0)","v":"Common"}]
[{"$f":"'12.2018 Data'!A86","v":"920000"},{"$f":"'12.2018 Data'!B86","v":"F55"},{"$f":"'12.2018 Data'!C86","v":"CD"},{"$f":"'12.2018 Data'!D86","v":"AA"},{"$f":"'12.2018 Data'!E86","v":"OPER"},{"$f":"'12.2018 Data'!F86","v":613489.41},{"$f":"'12.2018 Data'!G86","v":430270.77},{"$f":"'12.2018 Data'!H86","v":126066},{"$f":"'12.2018 Data'!I86","v":57152.639999999999},{"$f":"'12.2018 Data'!J86","v":0},"920",613489.41,430270.77,126066,57152.639999999999,0,{"$f":"IF(ISNUMBER(MATCH($B106,'Org functional rollups'!$A:$A,0)),INDEX('Org functional rollups'!$D:$D,MATCH($B106,'Org functional rollups'!$A:$A,0)),0)","v":"Common"}]
[{"$f":"'12.2018 Data'!A87","v":"920000"},{"$f":"'12.2018 Data'!B87","v":"F55"},{"$f":"'12.2018 Data'!C87","v":"ED"},{"$f":"'12.2018 Data'!D87","v":"AN"},{"$f":"'12.2018 Data'!E87","v":"OPER"},{"$f":"'12.2018 Data'!F87","v":6484.33},{"$f":"'12.2018 Data'!G87","v":6484.33},{"$f":"'12.2018 Data'!H87","v":0},{"$f":"'12.2018 Data'!I87","v":0},{"$f":"'12.2018 Data'!J87","v":0},"920",6484.33,6484.33,0,0,0,{"$f":"IF(ISNUMBER(MATCH($B107,'Org functional rollups'!$A:$A,0)),INDEX('Org functional rollups'!$D:$D,MATCH($B107,'Org functional rollups'!$A:$A,0)),0)","v":"Common"}]
[{"$f":"'12.2018 Data'!A88","v":"920000"},{"$f":"'12.2018 Data'!B88","v":"F55"},{"$f":"'12.2018 Data'!C88","v":"GD"},{"$f":"'12.2018 Data'!D88","v":"AA"},{"$f":"'12.2018 Data'!E88","v":"OPER"},{"$f":"'12.2018 Data'!F88","v":6484.33},{"$f":"'12.2018 Data'!G88","v":0},{"$f":"'12.2018 Data'!H88","v":4445.78},{"$f":"'12.2018 Data'!I88","v":2038.55},{"$f":"'12.2018 Data'!J88","v":0},"920",6484.33,0,4445.78,2038.55,0,{"$f":"IF(ISNUMBER(MATCH($B108,'Org functional rollups'!$A:$A,0)),INDEX('Org functional rollups'!$D:$D,MATCH($B108,'Org functional rollups'!$A:$A,0)),0)","v":"Common"}]
[{"$f":"'12.2018 Data'!A89","v":"920000"},{"$f":"'12.2018 Data'!B89","v":"G02"},{"$f":"'12.2018 Data'!C89","v":"CD"},{"$f":"'12.2018 Data'!D89","v":"AA"},{"$f":"'12.2018 Data'!E89","v":"OPER"},{"$f":"'12.2018 Data'!F89","v":249291.62},{"$f":"'12.2018 Data'!G89","v":174840.63},{"$f":"'12.2018 Data'!H89","v":51226.97},{"$f":"'12.2018 Data'!I89","v":23224.02},{"$f":"'12.2018 Data'!J89","v":0},"920",249291.62,174840.63,51226.97,23224.02,0,{"$f":"IF(ISNUMBER(MATCH($B109,'Org functional rollups'!$A:$A,0)),INDEX('Org functional rollups'!$D:$D,MATCH($B109,'Org functional rollups'!$A:$A,0)),0)","v":"Distribution"}]
[{"$f":"'12.2018 Data'!A90","v":"920000"},{"$f":"'12.2018 Data'!B90","v":"G02"},{"$f":"'12.2018 Data'!C90","v":"CD"},{"$f":"'12.2018 Data'!D90","v":"WA"},{"$f":"'12.2018 Data'!E90","v":"OPER"},{"$f":"'12.2018 Data'!F90","v":528.9},{"$f":"'12.2018 Data'!G90","v":411.03},{"$f":"'12.2018 Data'!H90","v":117.87},{"$f":"'12.2018 Data'!I90","v":0},{"$f":"'12.2018 Data'!J90","v":0},"920",528.9,411.03,117.87,0,0,{"$f":"IF(ISNUMBER(MATCH($B110,'Org functional rollups'!$A:$A,0)),INDEX('Org functional rollups'!$D:$D,MATCH($B110,'Org functional rollups'!$A:$A,0)),0)","v":"Distribution"}]
[{"$f":"'12.2018 Data'!A91","v":"920000"},{"$f":"'12.2018 Data'!B91","v":"G08"},{"$f":"'12.2018 Data'!C91","v":"CD"},{"$f":"'12.2018 Data'!D91","v":"AA"},{"$f":"'12.2018 Data'!E91","v":"OPER"},{"$f":"'12.2018 Data'!F91","v":3570.9},{"$f":"'12.2018 Data'!G91","v":2504.46},{"$f":"'12.2018 Data'!H91","v":733.78},{"$f":"'12.2018 Data'!I91","v":332.66},{"$f":"'12.2018 Data'!J91","v":0},"920",3570.9,2504.46,733.78,332.66,0,{"$f":"IF(ISNUMBER(MATCH($B111,'Org functional rollups'!$A:$A,0)),INDEX('Org functional rollups'!$D:$D,MATCH($B111,'Org functional rollups'!$A:$A,0)),0)","v":"Distribution"}]
[{"$f":"'12.2018 Data'!A92","v":"920000"},{"$f":"'12.2018 Data'!B92","v":"G39"},{"$f":"'12.2018 Data'!C92","v":"CD"},{"$f":"'12.2018 Data'!D92","v":"AA"},{"$f":"'12.2018 Data'!E92","v":"OPER"},{"$f":"'12.2018 Data'!F92","v":15814.67},{"$f":"'12.2018 Data'!G92","v":11091.65},{"$f":"'12.2018 Data'!H92","v":3249.77},{"$f":"'12.2018 Data'!I92","v":1473.25},{"$f":"'12.2018 Data'!J92","v":0},"920",15814.67,11091.65,3249.77,1473.25,0,{"$f":"IF(ISNUMBER(MATCH($B112,'Org functional rollups'!$A:$A,0)),INDEX('Org functional rollups'!$D:$D,MATCH($B112,'Org functional rollups'!$A:$A,0)),0)","v":"Common"}]
[{"$f":"'12.2018 Data'!A93","v":"920000"},{"$f":"'12.2018 Data'!B93","v":"G50"},{"$f":"'12.2018 Data'!C93","v":"CD"},{"$f":"'12.2018 Data'!D93","v":"AA"},{"$f":"'12.2018 Data'!E93","v":"OPER"},{"$f":"'12.2018 Data'!F93","v":10900.58},{"$f":"'12.2018 Data'!G93","v":7645.14},{"$f":"'12.2018 Data'!H93","v":2239.96},{"$f":"'12.2018 Data'!I93","v":1015.48},{"$f":"'12.2018 Data'!J93","v":0},"920",10900.58,7645.14,2239.96,1015.48,0,{"$f":"IF(ISNUMBER(MATCH($B113,'Org functional rollups'!$A:$A,0)),INDEX('Org functional rollups'!$D:$D,MATCH($B113,'Org functional rollups'!$A:$A,0)),0)","v":"Distribution"}]
[{"$f":"'12.2018 Data'!A94","v":"920000"},{"$f":"'12.2018 Data'!B94","v":"G51"},{"$f":"'12.2018 Data'!C94","v":"CD"},{"$f":"'12.2018 Data'!D94","v":"AA"},{"$f":"'12.2018 Data'!E94","v":"OPER"},{"$f":"'12.2018 Data'!F94","v":8501.99},{"$f":"'12.2018 Data'!G94","v":5962.88},{"$f":"'12.2018 Data'!H94","v":1747.07},{"$f":"'12.2018 Data'!I94","v":792.04},{"$f":"'12.2018 Data'!J94","v":0},"920",8501.99,5962.88,1747.07,792.04,0,{"$f":"IF(ISNUMBER(MATCH($B114,'Org functional rollups'!$A:$A,0)),INDEX('Org functional rollups'!$D:$D,MATCH($B114,'Org functional rollups'!$A:$A,0)),0)","v":"Production"}]
[{"$f":"'12.2018 Data'!A95","v":"920000"},{"$f":"'12.2018 Data'!B95","v":"G53"},{"$f":"'12.2018 Data'!C95","v":"CD"},{"$f":"'12.2018 Data'!D95","v":"ID"},{"$f":"'12.2018 Data'!E95","v":"OPER"},{"$f":"'12.2018 Data'!F95","v":59189.42},{"$f":"'12.2018 Data'!G95","v":45999.03},{"$f":"'12.2018 Data'!H95","v":13190.39},{"$f":"'12.2018 Data'!I95","v":0},{"$f":"'12.2018 Data'!J95","v":0},"920",59189.42,45999.03,13190.39,0,0,{"$f":"IF(ISNUMBER(MATCH($B115,'Org functional rollups'!$A:$A,0)),INDEX('Org functional rollups'!$D:$D,MATCH($B115,'Org functional rollups'!$A:$A,0)),0)","v":"Distribution"}]
[{"$f":"'12.2018 Data'!A96","v":"920000"},{"$f":"'12.2018 Data'!B96","v":"G54"},{"$f":"'12.2018 Data'!C96","v":"CD"},{"$f":"'12.2018 Data'!D96","v":"AA"},{"$f":"'12.2018 Data'!E96","v":"OPER"},{"$f":"'12.2018 Data'!F96","v":35870.19},{"$f":"'12.2018 Data'!G96","v":25157.55},{"$f":"'12.2018 Data'!H96","v":7370.98},{"$f":"'12.2018 Data'!I96","v":3341.66},{"$f":"'12.2018 Data'!J96","v":0},"920",35870.19,25157.55,7370.98,3341.66,0,{"$f":"IF(ISNUMBER(MATCH($B116,'Org functional rollups'!$A:$A,0)),INDEX('Org functional rollups'!$D:$D,MATCH($B116,'Org functional rollups'!$A:$A,0)),0)","v":"Common"}]
[{"$f":"'12.2018 Data'!A97","v":"920000"},{"$f":"'12.2018 Data'!B97","v":"H02"},{"$f":"'12.2018 Data'!C97","v":"CD"},{"$f":"'12.2018 Data'!D97","v":"AA"},{"$f":"'12.2018 Data'!E97","v":"OPER"},{"$f":"'12.2018 Data'!F97","v":170016.92},{"$f":"'12.2018 Data'!G97","v":119241.31},{"$f":"'12.2018 Data'!H97","v":34936.910000000003},{"$f":"'12.2018 Data'!I97","v":15838.7},{"$f":"'12.2018 Data'!J97","v":0},"920",170016.92,119241.31,34936.910000000003,15838.7,0,{"$f":"IF(ISNUMBER(MATCH($B117,'Org functional rollups'!$A:$A,0)),INDEX('Org functional rollups'!$D:$D,MATCH($B117,'Org functional rollups'!$A:$A,0)),0)","v":"Common"}]
[{"$f":"'12.2018 Data'!A98","v":"920000"},{"$f":"'12.2018 Data'!B98","v":"H04"},{"$f":"'12.2018 Data'!C98","v":"CD"},{"$f":"'12.2018 Data'!D98","v":"AA"},{"$f":"'12.2018 Data'!E98","v":"OPER"},{"$f":"'12.2018 Data'!F98","v":60.21},{"$f":"'12.2018 Data'!G98","v":42.23},{"$f":"'12.2018 Data'!H98","v":12.37},{"$f":"'12.2018 Data'!I98","v":5.61},{"$f":"'12.2018 Data'!J98","v":0},"920",60.21,42.23,12.37,5.61,0,{"$f":"IF(ISNUMBER(MATCH($B118,'Org functional rollups'!$A:$A,0)),INDEX('Org functional rollups'!$D:$D,MATCH($B118,'Org functional rollups'!$A:$A,0)),0)","v":"Production"}]
[{"$f":"'12.2018 Data'!A99","v":"920000"},{"$f":"'12.2018 Data'!B99","v":"H07"},{"$f":"'12.2018 Data'!C99","v":"CD"},{"$f":"'12.2018 Data'!D99","v":"AA"},{"$f":"'12.2018 Data'!E99","v":"OPER"},{"$f":"'12.2018 Data'!F99","v":24621.69},{"$f":"'12.2018 Data'!G99","v":17268.43},{"$f":"'12.2018 Data'!H99","v":5059.51},{"$f":"'12.2018 Data'!I99","v":2293.75},{"$f":"'12.2018 Data'!J99","v":0},"920",24621.69,17268.43,5059.51,2293.75,0,{"$f":"IF(ISNUMBER(MATCH($B119,'Org functional rollups'!$A:$A,0)),INDEX('Org functional rollups'!$D:$D,MATCH($B119,'Org functional rollups'!$A:$A,0)),0)","v":"Common"}]
[{"$f":"'12.2018 Data'!A100","v":"920000"},{"$f":"'12.2018 Data'!B100","v":"H14"},{"$f":"'12.2018 Data'!C100","v":"CD"},{"$f":"'12.2018 Data'!D100","v":"WA"},{"$f":"'12.2018 Data'!E100","v":"OPER"},{"$f":"'12.2018 Data'!F100","v":29962.560000000001},{"$f":"'12.2018 Data'!G100","v":23285.45},{"$f":"'12.2018 Data'!H100","v":6677.11},{"$f":"'12.2018 Data'!I100","v":0},{"$f":"'12.2018 Data'!J100","v":0},"920",29962.560000000001,23285.45,6677.11,0,0,{"$f":"IF(ISNUMBER(MATCH($B120,'Org functional rollups'!$A:$A,0)),INDEX('Org functional rollups'!$D:$D,MATCH($B120,'Org functional rollups'!$A:$A,0)),0)","v":"Customer"}]
[{"$f":"'12.2018 Data'!A101","v":"920000"},{"$f":"'12.2018 Data'!B101","v":"H14"},{"$f":"'12.2018 Data'!C101","v":"CD"},{"$f":"'12.2018 Data'!D101","v":"AA"},{"$f":"'12.2018 Data'!E101","v":"OPER"},{"$f":"'12.2018 Data'!F101","v":129773.65},{"$f":"'12.2018 Data'!G101","v":91016.76},{"$f":"'12.2018 Data'!H101","v":26667.16},{"$f":"'12.2018 Data'!I101","v":12089.73},{"$f":"'12.2018 Data'!J101","v":0},"920",129773.65,91016.76,26667.16,12089.73,0,{"$f":"IF(ISNUMBER(MATCH($B121,'Org functional rollups'!$A:$A,0)),INDEX('Org functional rollups'!$D:$D,MATCH($B121,'Org functional rollups'!$A:$A,0)),0)","v":"Customer"}]
[{"$f":"'12.2018 Data'!A102","v":"920000"},{"$f":"'12.2018 Data'!B102","v":"H14"},{"$f":"'12.2018 Data'!C102","v":"CD"},{"$f":"'12.2018 Data'!D102","v":"ID"},{"$f":"'12.2018 Data'!E102","v":"OPER"},{"$f":"'12.2018 Data'!F102","v":10213.049999999999},{"$f":"'12.2018 Data'!G102","v":7937.17},{"$f":"'12.2018 Data'!H102","v":2275.88},{"$f":"'12.2018 Data'!I102","v":0},{"$f":"'12.2018 Data'!J102","v":0},"920",10213.049999999999,7937.17,2275.88,0,0,{"$f":"IF(ISNUMBER(MATCH($B122,'Org functional rollups'!$A:$A,0)),INDEX('Org functional rollups'!$D:$D,MATCH($B122,'Org functional rollups'!$A:$A,0)),0)","v":"Customer"}]
[{"$f":"'12.2018 Data'!A103","v":"920000"},{"$f":"'12.2018 Data'!B103","v":"H51"},{"$f":"'12.2018 Data'!C103","v":"CD"},{"$f":"'12.2018 Data'!D103","v":"AA"},{"$f":"'12.2018 Data'!E103","v":"OPER"},{"$f":"'12.2018 Data'!F103","v":716080.48},{"$f":"'12.2018 Data'!G103","v":502223.11},{"$f":"'12.2018 Data'!H103","v":147147.42000000001},{"$f":"'12.2018 Data'!I103","v":66709.95},{"$f":"'12.2018 Data'!J103","v":0},"920",716080.48,502223.11,147147.42000000001,66709.95,0,{"$f":"IF(ISNUMBER(MATCH($B123,'Org functional rollups'!$A:$A,0)),INDEX('Org functional rollups'!$D:$D,MATCH($B123,'Org functional rollups'!$A:$A,0)),0)","v":"Common"}]
[{"$f":"'12.2018 Data'!A104","v":"920000"},{"$f":"'12.2018 Data'!B104","v":"H54"},{"$f":"'12.2018 Data'!C104","v":"CD"},{"$f":"'12.2018 Data'!D104","v":"AA"},{"$f":"'12.2018 Data'!E104","v":"OPER"},{"$f":"'12.2018 Data'!F104","v":238497.14},{"$f":"'12.2018 Data'!G104","v":167270.06},{"$f":"'12.2018 Data'!H104","v":49008.85},{"$f":"'12.2018 Data'!I104","v":22218.23},{"$f":"'12.2018 Data'!J104","v":0},"920",238497.14,167270.06,49008.85,22218.23,0,{"$f":"IF(ISNUMBER(MATCH($B124,'Org functional rollups'!$A:$A,0)),INDEX('Org functional rollups'!$D:$D,MATCH($B124,'Org functional rollups'!$A:$A,0)),0)","v":"Customer"}]
[{"$f":"'12.2018 Data'!A105","v":"920000"},{"$f":"'12.2018 Data'!B105","v":"I02"},{"$f":"'12.2018 Data'!C105","v":"CD"},{"$f":"'12.2018 Data'!D105","v":"AA"},{"$f":"'12.2018 Data'!E105","v":"OPER"},{"$f":"'12.2018 Data'!F105","v":556475.47},{"$f":"'12.2018 Data'!G105","v":390283.99},{"$f":"'12.2018 Data'!H105","v":114350.17},{"$f":"'12.2018 Data'!I105","v":51841.31},{"$f":"'12.2018 Data'!J105","v":0},"920",556475.47,390283.99,114350.17,51841.31,0,{"$f":"IF(ISNUMBER(MATCH($B125,'Org functional rollups'!$A:$A,0)),INDEX('Org functional rollups'!$D:$D,MATCH($B125,'Org functional rollups'!$A:$A,0)),0)","v":"Distribution"}]
[{"$f":"'12.2018 Data'!A106","v":"920000"},{"$f":"'12.2018 Data'!B106","v":"I02"},{"$f":"'12.2018 Data'!C106","v":"CD"},{"$f":"'12.2018 Data'!D106","v":"WA"},{"$f":"'12.2018 Data'!E106","v":"OPER"},{"$f":"'12.2018 Data'!F106","v":12614.16},{"$f":"'12.2018 Data'!G106","v":9803.09},{"$f":"'12.2018 Data'!H106","v":2811.07},{"$f":"'12.2018 Data'!I106","v":0},{"$f":"'12.2018 Data'!J106","v":0},"920",12614.16,9803.09,2811.07,0,0,{"$f":"IF(ISNUMBER(MATCH($B126,'Org functional rollups'!$A:$A,0)),INDEX('Org functional rollups'!$D:$D,MATCH($B126,'Org functional rollups'!$A:$A,0)),0)","v":"Distribution"}]
[{"$f":"'12.2018 Data'!A107","v":"920000"},{"$f":"'12.2018 Data'!B107","v":"I08"},{"$f":"'12.2018 Data'!C107","v":"CD"},{"$f":"'12.2018 Data'!D107","v":"AA"},{"$f":"'12.2018 Data'!E107","v":"OPER"},{"$f":"'12.2018 Data'!F107","v":180734.49},{"$f":"'12.2018 Data'!G107","v":126758.12},{"$f":"'12.2018 Data'!H107","v":37139.120000000003},{"$f":"'12.2018 Data'!I107","v":16837.25},{"$f":"'12.2018 Data'!J107","v":0},"920",180734.49,126758.12,37139.120000000003,16837.25,0,{"$f":"IF(ISNUMBER(MATCH($B127,'Org functional rollups'!$A:$A,0)),INDEX('Org functional rollups'!$D:$D,MATCH($B127,'Org functional rollups'!$A:$A,0)),0)","v":"Distribution"}]
[{"$f":"'12.2018 Data'!A108","v":"920000"},{"$f":"'12.2018 Data'!B108","v":"I08"},{"$f":"'12.2018 Data'!C108","v":"GD"},{"$f":"'12.2018 Data'!D108","v":"AA"},{"$f":"'12.2018 Data'!E108","v":"OPER"},{"$f":"'12.2018 Data'!F108","v":880.86},{"$f":"'12.2018 Data'!G108","v":0},{"$f":"'12.2018 Data'!H108","v":603.94000000000005},{"$f":"'12.2018 Data'!I108","v":276.92},{"$f":"'12.2018 Data'!J108","v":0},"920",880.86,0,603.94000000000005,276.92,0,{"$f":"IF(ISNUMBER(MATCH($B128,'Org functional rollups'!$A:$A,0)),INDEX('Org functional rollups'!$D:$D,MATCH($B128,'Org functional rollups'!$A:$A,0)),0)","v":"Distribution"}]
[{"$f":"'12.2018 Data'!A109","v":"920000"},{"$f":"'12.2018 Data'!B109","v":"I50"},{"$f":"'12.2018 Data'!C109","v":"CD"},{"$f":"'12.2018 Data'!D109","v":"AA"},{"$f":"'12.2018 Data'!E109","v":"OPER"},{"$f":"'12.2018 Data'!F109","v":1632.12},{"$f":"'12.2018 Data'!G109","v":1144.68},{"$f":"'12.2018 Data'!H109","v":335.37},{"$f":"'12.2018 Data'!I109","v":152.07},{"$f":"'12.2018 Data'!J109","v":0},"920",1632.12,1144.68,335.37,152.07,0,{"$f":"IF(ISNUMBER(MATCH($B129,'Org functional rollups'!$A:$A,0)),INDEX('Org functional rollups'!$D:$D,MATCH($B129,'Org functional rollups'!$A:$A,0)),0)","v":"Customer"}]
[{"$f":"'12.2018 Data'!A110","v":"920000"},{"$f":"'12.2018 Data'!B110","v":"J02"},{"$f":"'12.2018 Data'!C110","v":"CD"},{"$f":"'12.2018 Data'!D110","v":"AA"},{"$f":"'12.2018 Data'!E110","v":"OPER"},{"$f":"'12.2018 Data'!F110","v":750},{"$f":"'12.2018 Data'!G110","v":526.01},{"$f":"'12.2018 Data'!H110","v":154.12},{"$f":"'12.2018 Data'!I110","v":69.87},{"$f":"'12.2018 Data'!J110","v":0},"920",750,526.01,154.12,69.87,0,{"$f":"IF(ISNUMBER(MATCH($B130,'Org functional rollups'!$A:$A,0)),INDEX('Org functional rollups'!$D:$D,MATCH($B130,'Org functional rollups'!$A:$A,0)),0)","v":"Customer"}]
[{"$f":"'12.2018 Data'!A111","v":"920000"},{"$f":"'12.2018 Data'!B111","v":"J07"},{"$f":"'12.2018 Data'!C111","v":"CD"},{"$f":"'12.2018 Data'!D111","v":"AA"},{"$f":"'12.2018 Data'!E111","v":"OPER"},{"$f":"'12.2018 Data'!F111","v":4996.78},{"$f":"'12.2018 Data'!G111","v":3504.5},{"$f":"'12.2018 Data'!H111","v":1026.8},{"$f":"'12.2018 Data'!I111","v":465.48},{"$f":"'12.2018 Data'!J111","v":0},"920",4996.78,3504.5,1026.8,465.48,0,{"$f":"IF(ISNUMBER(MATCH($B131,'Org functional rollups'!$A:$A,0)),INDEX('Org functional rollups'!$D:$D,MATCH($B131,'Org functional rollups'!$A:$A,0)),0)","v":"Production"}]
[{"$f":"'12.2018 Data'!A112","v":"920000"},{"$f":"'12.2018 Data'!B112","v":"J09"},{"$f":"'12.2018 Data'!C112","v":"CD"},{"$f":"'12.2018 Data'!D112","v":"AA"},{"$f":"'12.2018 Data'!E112","v":"OPER"},{"$f":"'12.2018 Data'!F112","v":199616.61},{"$f":"'12.2018 Data'!G112","v":140001.16},{"$f":"'12.2018 Data'!H112","v":41019.269999999997},{"$f":"'12.2018 Data'!I112","v":18596.18},{"$f":"'12.2018 Data'!J112","v":0},"920",199616.61,140001.16,41019.269999999997,18596.18,0,{"$f":"IF(ISNUMBER(MATCH($B132,'Org functional rollups'!$A:$A,0)),INDEX('Org functional rollups'!$D:$D,MATCH($B132,'Org functional rollups'!$A:$A,0)),0)","v":"Common"}]
[{"$f":"'12.2018 Data'!A113","v":"920000"},{"$f":"'12.2018 Data'!B113","v":"J50"},{"$f":"'12.2018 Data'!C113","v":"CD"},{"$f":"'12.2018 Data'!D113","v":"ID"},{"$f":"'12.2018 Data'!E113","v":"OPER"},{"$f":"'12.2018 Data'!F113","v":565.29999999999995},{"$f":"'12.2018 Data'!G113","v":439.32},{"$f":"'12.2018 Data'!H113","v":125.98},{"$f":"'12.2018 Data'!I113","v":0},{"$f":"'12.2018 Data'!J113","v":0},"920",565.29999999999995,439.32,125.98,0,0,{"$f":"IF(ISNUMBER(MATCH($B133,'Org functional rollups'!$A:$A,0)),INDEX('Org functional rollups'!$D:$D,MATCH($B133,'Org functional rollups'!$A:$A,0)),0)","v":"Distribution"}]
[{"$f":"'12.2018 Data'!A114","v":"920000"},{"$f":"'12.2018 Data'!B114","v":"J50"},{"$f":"'12.2018 Data'!C114","v":"CD"},{"$f":"'12.2018 Data'!D114","v":"AA"},{"$f":"'12.2018 Data'!E114","v":"OPER"},{"$f":"'12.2018 Data'!F114","v":235929.73},{"$f":"'12.2018 Data'!G114","v":165469.37},{"$f":"'12.2018 Data'!H114","v":48481.19},{"$f":"'12.2018 Data'!I114","v":21979.17},{"$f":"'12.2018 Data'!J114","v":0},"920",235929.73,165469.37,48481.19,21979.17,0,{"$f":"IF(ISNUMBER(MATCH($B134,'Org functional rollups'!$A:$A,0)),INDEX('Org functional rollups'!$D:$D,MATCH($B134,'Org functional rollups'!$A:$A,0)),0)","v":"Distribution"}]
[{"$f":"'12.2018 Data'!A115","v":"920000"},{"$f":"'12.2018 Data'!B115","v":"J50"},{"$f":"'12.2018 Data'!C115","v":"CD"},{"$f":"'12.2018 Data'!D115","v":"WA"},{"$f":"'12.2018 Data'!E115","v":"OPER"},{"$f":"'12.2018 Data'!F115","v":146897.96},{"$f":"'12.2018 Data'!G115","v":114161.78},{"$f":"'12.2018 Data'!H115","v":32736.18},{"$f":"'12.2018 Data'!I115","v":0},{"$f":"'12.2018 Data'!J115","v":0},"920",146897.96,114161.78,32736.18,0,0,{"$f":"IF(ISNUMBER(MATCH($B135,'Org functional rollups'!$A:$A,0)),INDEX('Org functional rollups'!$D:$D,MATCH($B135,'Org functional rollups'!$A:$A,0)),0)","v":"Distribution"}]
[{"$f":"'12.2018 Data'!A116","v":"920000"},{"$f":"'12.2018 Data'!B116","v":"J51"},{"$f":"'12.2018 Data'!C116","v":"CD"},{"$f":"'12.2018 Data'!D116","v":"AA"},{"$f":"'12.2018 Data'!E116","v":"OPER"},{"$f":"'12.2018 Data'!F116","v":5075.49},{"$f":"'12.2018 Data'!G116","v":3559.66},{"$f":"'12.2018 Data'!H116","v":1042.95},{"$f":"'12.2018 Data'!I116","v":472.88},{"$f":"'12.2018 Data'!J116","v":0},"920",5075.49,3559.66,1042.95,472.88,0,{"$f":"IF(ISNUMBER(MATCH($B136,'Org functional rollups'!$A:$A,0)),INDEX('Org functional rollups'!$D:$D,MATCH($B136,'Org functional rollups'!$A:$A,0)),0)","v":"Common"}]
[{"$f":"'12.2018 Data'!A117","v":"920000"},{"$f":"'12.2018 Data'!B117","v":"J51"},{"$f":"'12.2018 Data'!C117","v":"ED"},{"$f":"'12.2018 Data'!D117","v":"AN"},{"$f":"'12.2018 Data'!E117","v":"OPER"},{"$f":"'12.2018 Data'!F117","v":1122.8599999999999},{"$f":"'12.2018 Data'!G117","v":1122.8599999999999},{"$f":"'12.2018 Data'!H117","v":0},{"$f":"'12.2018 Data'!I117","v":0},{"$f":"'12.2018 Data'!J117","v":0},"920",1122.8599999999999,1122.8599999999999,0,0,0,{"$f":"IF(ISNUMBER(MATCH($B137,'Org functional rollups'!$A:$A,0)),INDEX('Org functional rollups'!$D:$D,MATCH($B137,'Org functional rollups'!$A:$A,0)),0)","v":"Common"}]
[{"$f":"'12.2018 Data'!A118","v":"920000"},{"$f":"'12.2018 Data'!B118","v":"J53"},{"$f":"'12.2018 Data'!C118","v":"CD"},{"$f":"'12.2018 Data'!D118","v":"AA"},{"$f":"'12.2018 Data'!E118","v":"OPER"},{"$f":"'12.2018 Data'!F118","v":51595.68},{"$f":"'12.2018 Data'!G118","v":36186.639999999999},{"$f":"'12.2018 Data'!H118","v":10602.42},{"$f":"'12.2018 Data'!I118","v":4806.62},{"$f":"'12.2018 Data'!J118","v":0},"920",51595.68,36186.639999999999,10602.42,4806.62,0,{"$f":"IF(ISNUMBER(MATCH($B138,'Org functional rollups'!$A:$A,0)),INDEX('Org functional rollups'!$D:$D,MATCH($B138,'Org functional rollups'!$A:$A,0)),0)","v":"Distribution"}]
[{"$f":"'12.2018 Data'!A119","v":"920000"},{"$f":"'12.2018 Data'!B119","v":"J54"},{"$f":"'12.2018 Data'!C119","v":"CD"},{"$f":"'12.2018 Data'!D119","v":"AA"},{"$f":"'12.2018 Data'!E119","v":"OPER"},{"$f":"'12.2018 Data'!F119","v":537236.52},{"$f":"'12.2018 Data'!G119","v":376790.95},{"$f":"'12.2018 Data'!H119","v":110396.81},{"$f":"'12.2018 Data'!I119","v":50048.76},{"$f":"'12.2018 Data'!J119","v":0},"920",537236.52,376790.95,110396.81,50048.76,0,{"$f":"IF(ISNUMBER(MATCH($B139,'Org functional rollups'!$A:$A,0)),INDEX('Org functional rollups'!$D:$D,MATCH($B139,'Org functional rollups'!$A:$A,0)),0)","v":"Common"}]
[{"$f":"'12.2018 Data'!A120","v":"920000"},{"$f":"'12.2018 Data'!B120","v":"K02"},{"$f":"'12.2018 Data'!C120","v":"CD"},{"$f":"'12.2018 Data'!D120","v":"AA"},{"$f":"'12.2018 Data'!E120","v":"OPER"},{"$f":"'12.2018 Data'!F120","v":95418.63},{"$f":"'12.2018 Data'!G120","v":66921.89},{"$f":"'12.2018 Data'!H120","v":19607.580000000002},{"$f":"'12.2018 Data'!I120","v":8889.16},{"$f":"'12.2018 Data'!J120","v":0},"920",95418.63,66921.89,19607.580000000002,8889.16,0,{"$f":"IF(ISNUMBER(MATCH($B140,'Org functional rollups'!$A:$A,0)),INDEX('Org functional rollups'!$D:$D,MATCH($B140,'Org functional rollups'!$A:$A,0)),0)","v":"Common"}]
[{"$f":"'12.2018 Data'!A121","v":"920000"},{"$f":"'12.2018 Data'!B121","v":"K19"},{"$f":"'12.2018 Data'!C121","v":"CD"},{"$f":"'12.2018 Data'!D121","v":"AA"},{"$f":"'12.2018 Data'!E121","v":"OPER"},{"$f":"'12.2018 Data'!F121","v":176826.8},{"$f":"'12.2018 Data'!G121","v":124017.45},{"$f":"'12.2018 Data'!H121","v":36336.160000000003},{"$f":"'12.2018 Data'!I121","v":16473.189999999999},{"$f":"'12.2018 Data'!J121","v":0},"920",176826.8,124017.45,36336.160000000003,16473.189999999999,0,{"$f":"IF(ISNUMBER(MATCH($B141,'Org functional rollups'!$A:$A,0)),INDEX('Org functional rollups'!$D:$D,MATCH($B141,'Org functional rollups'!$A:$A,0)),0)","v":"Common"}]
[{"$f":"'12.2018 Data'!A122","v":"920000"},{"$f":"'12.2018 Data'!B122","v":"K50"},{"$f":"'12.2018 Data'!C122","v":"CD"},{"$f":"'12.2018 Data'!D122","v":"AA"},{"$f":"'12.2018 Data'!E122","v":"OPER"},{"$f":"'12.2018 Data'!F122","v":115721.17},{"$f":"'12.2018 Data'!G122","v":81161.039999999994},{"$f":"'12.2018 Data'!H122","v":23779.51},{"$f":"'12.2018 Data'!I122","v":10780.62},{"$f":"'12.2018 Data'!J122","v":0},"920",115721.17,81161.039999999994,23779.51,10780.62,0,{"$f":"IF(ISNUMBER(MATCH($B142,'Org functional rollups'!$A:$A,0)),INDEX('Org functional rollups'!$D:$D,MATCH($B142,'Org functional rollups'!$A:$A,0)),0)","v":"Distribution"}]
[{"$f":"'12.2018 Data'!A123","v":"920000"},{"$f":"'12.2018 Data'!B123","v":"K51"},{"$f":"'12.2018 Data'!C123","v":"CD"},{"$f":"'12.2018 Data'!D123","v":"AA"},{"$f":"'12.2018 Data'!E123","v":"OPER"},{"$f":"'12.2018 Data'!F123","v":12161.55},{"$f":"'12.2018 Data'!G123","v":8529.5},{"$f":"'12.2018 Data'!H123","v":2499.08},{"$f":"'12.2018 Data'!I123","v":1132.97},{"$f":"'12.2018 Data'!J123","v":0},"920",12161.55,8529.5,2499.08,1132.97,0,{"$f":"IF(ISNUMBER(MATCH($B143,'Org functional rollups'!$A:$A,0)),INDEX('Org functional rollups'!$D:$D,MATCH($B143,'Org functional rollups'!$A:$A,0)),0)","v":"Distribution"}]
[{"$f":"'12.2018 Data'!A124","v":"920000"},{"$f":"'12.2018 Data'!B124","v":"K53"},{"$f":"'12.2018 Data'!C124","v":"CD"},{"$f":"'12.2018 Data'!D124","v":"AA"},{"$f":"'12.2018 Data'!E124","v":"OPER"},{"$f":"'12.2018 Data'!F124","v":7235.12},{"$f":"'12.2018 Data'!G124","v":5074.3500000000004},{"$f":"'12.2018 Data'!H124","v":1486.75},{"$f":"'12.2018 Data'!I124","v":674.02},{"$f":"'12.2018 Data'!J124","v":0},"920",7235.12,5074.3500000000004,1486.75,674.02,0,{"$f":"IF(ISNUMBER(MATCH($B144,'Org functional rollups'!$A:$A,0)),INDEX('Org functional rollups'!$D:$D,MATCH($B144,'Org functional rollups'!$A:$A,0)),0)","v":"Customer"}]
[{"$f":"'12.2018 Data'!A125","v":"920000"},{"$f":"'12.2018 Data'!B125","v":"L39"},{"$f":"'12.2018 Data'!C125","v":"CD"},{"$f":"'12.2018 Data'!D125","v":"AA"},{"$f":"'12.2018 Data'!E125","v":"OPER"},{"$f":"'12.2018 Data'!F125","v":41816.9},{"$f":"'12.2018 Data'!G125","v":29328.28},{"$f":"'12.2018 Data'!H125","v":8592.94},{"$f":"'12.2018 Data'!I125","v":3895.68},{"$f":"'12.2018 Data'!J125","v":0},"920",41816.9,29328.28,8592.94,3895.68,0,{"$f":"IF(ISNUMBER(MATCH($B145,'Org functional rollups'!$A:$A,0)),INDEX('Org functional rollups'!$D:$D,MATCH($B145,'Org functional rollups'!$A:$A,0)),0)","v":"Common"}]
[{"$f":"'12.2018 Data'!A126","v":"920000"},{"$f":"'12.2018 Data'!B126","v":"L50"},{"$f":"'12.2018 Data'!C126","v":"CD"},{"$f":"'12.2018 Data'!D126","v":"AA"},{"$f":"'12.2018 Data'!E126","v":"OPER"},{"$f":"'12.2018 Data'!F126","v":1683.6},{"$f":"'12.2018 Data'!G126","v":1180.8},{"$f":"'12.2018 Data'!H126","v":345.97},{"$f":"'12.2018 Data'!I126","v":156.83000000000001},{"$f":"'12.2018 Data'!J126","v":0},"920",1683.6,1180.8,345.97,156.83000000000001,0,{"$f":"IF(ISNUMBER(MATCH($B146,'Org functional rollups'!$A:$A,0)),INDEX('Org functional rollups'!$D:$D,MATCH($B146,'Org functional rollups'!$A:$A,0)),0)","v":"Distribution"}]
[{"$f":"'12.2018 Data'!A127","v":"920000"},{"$f":"'12.2018 Data'!B127","v":"L51"},{"$f":"'12.2018 Data'!C127","v":"CD"},{"$f":"'12.2018 Data'!D127","v":"AA"},{"$f":"'12.2018 Data'!E127","v":"OPER"},{"$f":"'12.2018 Data'!F127","v":29051.82},{"$f":"'12.2018 Data'!G127","v":20375.52},{"$f":"'12.2018 Data'!H127","v":5969.85},{"$f":"'12.2018 Data'!I127","v":2706.45},{"$f":"'12.2018 Data'!J127","v":0},"920",29051.82,20375.52,5969.85,2706.45,0,{"$f":"IF(ISNUMBER(MATCH($B147,'Org functional rollups'!$A:$A,0)),INDEX('Org functional rollups'!$D:$D,MATCH($B147,'Org functional rollups'!$A:$A,0)),0)","v":"Common"}]
[{"$f":"'12.2018 Data'!A128","v":"920000"},{"$f":"'12.2018 Data'!B128","v":"L51"},{"$f":"'12.2018 Data'!C128","v":"CD"},{"$f":"'12.2018 Data'!D128","v":"AN"},{"$f":"'12.2018 Data'!E128","v":"OPER"},{"$f":"'12.2018 Data'!F128","v":229636.93},{"$f":"'12.2018 Data'!G128","v":178462.31},{"$f":"'12.2018 Data'!H128","v":51174.62},{"$f":"'12.2018 Data'!I128","v":0},{"$f":"'12.2018 Data'!J128","v":0},"920",229636.93,178462.31,51174.62,0,0,{"$f":"IF(ISNUMBER(MATCH($B148,'Org functional rollups'!$A:$A,0)),INDEX('Org functional rollups'!$D:$D,MATCH($B148,'Org functional rollups'!$A:$A,0)),0)","v":"Common"}]
[{"$f":"'12.2018 Data'!A129","v":"920000"},{"$f":"'12.2018 Data'!B129","v":"L53"},{"$f":"'12.2018 Data'!C129","v":"CD"},{"$f":"'12.2018 Data'!D129","v":"AA"},{"$f":"'12.2018 Data'!E129","v":"OPER"},{"$f":"'12.2018 Data'!F129","v":14098.76},{"$f":"'12.2018 Data'!G129","v":9888.16},{"$f":"'12.2018 Data'!H129","v":2897.15},{"$f":"'12.2018 Data'!I129","v":1313.45},{"$f":"'12.2018 Data'!J129","v":0},"920",14098.76,9888.16,2897.15,1313.45,0,{"$f":"IF(ISNUMBER(MATCH($B149,'Org functional rollups'!$A:$A,0)),INDEX('Org functional rollups'!$D:$D,MATCH($B149,'Org functional rollups'!$A:$A,0)),0)","v":"Distribution"}]
[{"$f":"'12.2018 Data'!A130","v":"920000"},{"$f":"'12.2018 Data'!B130","v":"L54"},{"$f":"'12.2018 Data'!C130","v":"CD"},{"$f":"'12.2018 Data'!D130","v":"AA"},{"$f":"'12.2018 Data'!E130","v":"OPER"},{"$f":"'12.2018 Data'!F130","v":150},{"$f":"'12.2018 Data'!G130","v":105.2},{"$f":"'12.2018 Data'!H130","v":30.82},{"$f":"'12.2018 Data'!I130","v":13.98},{"$f":"'12.2018 Data'!J130","v":0},"920",150,105.2,30.82,13.98,0,{"$f":"IF(ISNUMBER(MATCH($B150,'Org functional rollups'!$A:$A,0)),INDEX('Org functional rollups'!$D:$D,MATCH($B150,'Org functional rollups'!$A:$A,0)),0)","v":"Common"}]
[{"$f":"'12.2018 Data'!A131","v":"920000"},{"$f":"'12.2018 Data'!B131","v":"M02"},{"$f":"'12.2018 Data'!C131","v":"CD"},{"$f":"'12.2018 Data'!D131","v":"AA"},{"$f":"'12.2018 Data'!E131","v":"OPER"},{"$f":"'12.2018 Data'!F131","v":151486.97},{"$f":"'12.2018 Data'!G131","v":106245.46},{"$f":"'12.2018 Data'!H131","v":31129.03},{"$f":"'12.2018 Data'!I131","v":14112.48},{"$f":"'12.2018 Data'!J131","v":0},{"$f":"LEFT(A151,3)","v":"920"},{"$f":"IF(ISNUMBER(F151),F151,0)","v":151486.97},106245.46,31129.03,14112.48,0,{"$f":"IF(ISNUMBER(MATCH($B151,'Org functional rollups'!$A:$A,0)),INDEX('Org functional rollups'!$D:$D,MATCH($B151,'Org functional rollups'!$A:$A,0)),0)","v":"Common"}]
[{"$f":"'12.2018 Data'!A132","v":"920000"},{"$f":"'12.2018 Data'!B132","v":"M07"},{"$f":"'12.2018 Data'!C132","v":"CD"},{"$f":"'12.2018 Data'!D132","v":"AA"},{"$f":"'12.2018 Data'!E132","v":"OPER"},{"$f":"'12.2018 Data'!F132","v":320.10000000000002},{"$f":"'12.2018 Data'!G132","v":224.5},{"$f":"'12.2018 Data'!H132","v":65.78},{"$f":"'12.2018 Data'!I132","v":29.82},{"$f":"'12.2018 Data'!J132","v":0},"920",320.10000000000002,224.5,65.78,29.82,0,{"$f":"IF(ISNUMBER(MATCH($B152,'Org functional rollups'!$A:$A,0)),INDEX('Org functional rollups'!$D:$D,MATCH($B152,'Org functional rollups'!$A:$A,0)),0)","v":"Production"}]
[{"$f":"'12.2018 Data'!A133","v":"920000"},{"$f":"'12.2018 Data'!B133","v":"M08"},{"$f":"'12.2018 Data'!C133","v":"CD"},{"$f":"'12.2018 Data'!D133","v":"AA"},{"$f":"'12.2018 Data'!E133","v":"OPER"},{"$f":"'12.2018 Data'!F133","v":2756.97},{"$f":"'12.2018 Data'!G133","v":1933.6},{"$f":"'12.2018 Data'!H133","v":566.53},{"$f":"'12.2018 Data'!I133","v":256.83999999999997},{"$f":"'12.2018 Data'!J133","v":0},"920",2756.97,1933.6,566.53,256.83999999999997,0,{"$f":"IF(ISNUMBER(MATCH($B153,'Org functional rollups'!$A:$A,0)),INDEX('Org functional rollups'!$D:$D,MATCH($B153,'Org functional rollups'!$A:$A,0)),0)","v":"Distribution"}]
[{"$f":"'12.2018 Data'!A134","v":"920000"},{"$f":"'12.2018 Data'!B134","v":"M09"},{"$f":"'12.2018 Data'!C134","v":"CD"},{"$f":"'12.2018 Data'!D134","v":"AA"},{"$f":"'12.2018 Data'!E134","v":"OPER"},{"$f":"'12.2018 Data'!F134","v":53565.89},{"$f":"'12.2018 Data'!G134","v":37568.449999999997},{"$f":"'12.2018 Data'!H134","v":11007.33},{"$f":"'12.2018 Data'!I134","v":4990.1099999999997},{"$f":"'12.2018 Data'!J134","v":0},"920",53565.89,37568.449999999997,11007.33,4990.1099999999997,0,{"$f":"IF(ISNUMBER(MATCH($B154,'Org functional rollups'!$A:$A,0)),INDEX('Org functional rollups'!$D:$D,MATCH($B154,'Org functional rollups'!$A:$A,0)),0)","v":"Common"}]
[{"$f":"'12.2018 Data'!A135","v":"920000"},{"$f":"'12.2018 Data'!B135","v":"M11"},{"$f":"'12.2018 Data'!C135","v":"CD"},{"$f":"'12.2018 Data'!D135","v":"AA"},{"$f":"'12.2018 Data'!E135","v":"OPER"},{"$f":"'12.2018 Data'!F135","v":150576.25},{"$f":"'12.2018 Data'!G135","v":105606.63},{"$f":"'12.2018 Data'!H135","v":30941.94},{"$f":"'12.2018 Data'!I135","v":14027.68},{"$f":"'12.2018 Data'!J135","v":0},"920",150576.25,105606.63,30941.94,14027.68,0,{"$f":"IF(ISNUMBER(MATCH($B155,'Org functional rollups'!$A:$A,0)),INDEX('Org functional rollups'!$D:$D,MATCH($B155,'Org functional rollups'!$A:$A,0)),0)","v":"Common"}]
[{"$f":"'12.2018 Data'!A136","v":"920000"},{"$f":"'12.2018 Data'!B136","v":"M19"},{"$f":"'12.2018 Data'!C136","v":"ED"},{"$f":"'12.2018 Data'!D136","v":"AN"},{"$f":"'12.2018 Data'!E136","v":"OPER"},{"$f":"'12.2018 Data'!F136","v":3621.5},{"$f":"'12.2018 Data'!G136","v":3621.5},{"$f":"'12.2018 Data'!H136","v":0},{"$f":"'12.2018 Data'!I136","v":0},{"$f":"'12.2018 Data'!J136","v":0},"920",3621.5,3621.5,0,0,0,{"$f":"IF(ISNUMBER(MATCH($B156,'Org functional rollups'!$A:$A,0)),INDEX('Org functional rollups'!$D:$D,MATCH($B156,'Org functional rollups'!$A:$A,0)),0)","v":"Common"}]
[{"$f":"'12.2018 Data'!A137","v":"920000"},{"$f":"'12.2018 Data'!B137","v":"M19"},{"$f":"'12.2018 Data'!C137","v":"CD"},{"$f":"'12.2018 Data'!D137","v":"AN"},{"$f":"'12.2018 Data'!E137","v":"OPER"},{"$f":"'12.2018 Data'!F137","v":537.44000000000005},{"$f":"'12.2018 Data'!G137","v":417.66},{"$f":"'12.2018 Data'!H137","v":119.78},{"$f":"'12.2018 Data'!I137","v":0},{"$f":"'12.2018 Data'!J137","v":0},"920",537.44000000000005,417.66,119.78,0,0,{"$f":"IF(ISNUMBER(MATCH($B157,'Org functional rollups'!$A:$A,0)),INDEX('Org functional rollups'!$D:$D,MATCH($B157,'Org functional rollups'!$A:$A,0)),0)","v":"Common"}]
[{"$f":"'12.2018 Data'!A138","v":"920000"},{"$f":"'12.2018 Data'!B138","v":"M19"},{"$f":"'12.2018 Data'!C138","v":"CD"},{"$f":"'12.2018 Data'!D138","v":"AA"},{"$f":"'12.2018 Data'!E138","v":"OPER"},{"$f":"'12.2018 Data'!F138","v":309168.94},{"$f":"'12.2018 Data'!G138","v":216835.59},{"$f":"'12.2018 Data'!H138","v":63531.17},{"$f":"'12.2018 Data'!I138","v":28802.18},{"$f":"'12.2018 Data'!J138","v":0},"920",309168.94,216835.59,63531.17,28802.18,0,{"$f":"IF(ISNUMBER(MATCH($B158,'Org functional rollups'!$A:$A,0)),INDEX('Org functional rollups'!$D:$D,MATCH($B158,'Org functional rollups'!$A:$A,0)),0)","v":"Common"}]
[{"$f":"'12.2018 Data'!A139","v":"920000"},{"$f":"'12.2018 Data'!B139","v":"M54"},{"$f":"'12.2018 Data'!C139","v":"CD"},{"$f":"'12.2018 Data'!D139","v":"AA"},{"$f":"'12.2018 Data'!E139","v":"OPER"},{"$f":"'12.2018 Data'!F139","v":1623.36},{"$f":"'12.2018 Data'!G139","v":1138.55},{"$f":"'12.2018 Data'!H139","v":333.58},{"$f":"'12.2018 Data'!I139","v":151.22999999999999},{"$f":"'12.2018 Data'!J139","v":0},"920",1623.36,1138.55,333.58,151.22999999999999,0,{"$f":"IF(ISNUMBER(MATCH($B159,'Org functional rollups'!$A:$A,0)),INDEX('Org functional rollups'!$D:$D,MATCH($B159,'Org functional rollups'!$A:$A,0)),0)","v":"Common"}]
[{"$f":"'12.2018 Data'!A140","v":"920000"},{"$f":"'12.2018 Data'!B140","v":"N02"},{"$f":"'12.2018 Data'!C140","v":"CD"},{"$f":"'12.2018 Data'!D140","v":"AA"},{"$f":"'12.2018 Data'!E140","v":"OPER"},{"$f":"'12.2018 Data'!F140","v":329095.21999999997},{"$f":"'12.2018 Data'!G140","v":230810.98},{"$f":"'12.2018 Data'!H140","v":67625.78},{"$f":"'12.2018 Data'!I140","v":30658.46},{"$f":"'12.2018 Data'!J140","v":0},"920",329095.21999999997,230810.98,67625.78,30658.46,0,{"$f":"IF(ISNUMBER(MATCH($B160,'Org functional rollups'!$A:$A,0)),INDEX('Org functional rollups'!$D:$D,MATCH($B160,'Org functional rollups'!$A:$A,0)),0)","v":"Common"}]
[{"$f":"'12.2018 Data'!A141","v":"920000"},{"$f":"'12.2018 Data'!B141","v":"N08"},{"$f":"'12.2018 Data'!C141","v":"CD"},{"$f":"'12.2018 Data'!D141","v":"AA"},{"$f":"'12.2018 Data'!E141","v":"OPER"},{"$f":"'12.2018 Data'!F141","v":1846.54},{"$f":"'12.2018 Data'!G141","v":1295.08},{"$f":"'12.2018 Data'!H141","v":379.44},{"$f":"'12.2018 Data'!I141","v":172.02},{"$f":"'12.2018 Data'!J141","v":0},"920",1846.54,1295.08,379.44,172.02,0,{"$f":"IF(ISNUMBER(MATCH($B161,'Org functional rollups'!$A:$A,0)),INDEX('Org functional rollups'!$D:$D,MATCH($B161,'Org functional rollups'!$A:$A,0)),0)","v":"Distribution"}]
[{"$f":"'12.2018 Data'!A142","v":"920000"},{"$f":"'12.2018 Data'!B142","v":"N09"},{"$f":"'12.2018 Data'!C142","v":"CD"},{"$f":"'12.2018 Data'!D142","v":"AA"},{"$f":"'12.2018 Data'!E142","v":"OPER"},{"$f":"'12.2018 Data'!F142","v":671537.5},{"$f":"'12.2018 Data'!G142","v":470982.78},{"$f":"'12.2018 Data'!H142","v":137994.10999999999},{"$f":"'12.2018 Data'!I142","v":62560.61},{"$f":"'12.2018 Data'!J142","v":0},"920",671537.5,470982.78,137994.10999999999,62560.61,0,{"$f":"IF(ISNUMBER(MATCH($B162,'Org functional rollups'!$A:$A,0)),INDEX('Org functional rollups'!$D:$D,MATCH($B162,'Org functional rollups'!$A:$A,0)),0)","v":"Common"}]
[{"$f":"'12.2018 Data'!A143","v":"920000"},{"$f":"'12.2018 Data'!B143","v":"N50"},{"$f":"'12.2018 Data'!C143","v":"CD"},{"$f":"'12.2018 Data'!D143","v":"AA"},{"$f":"'12.2018 Data'!E143","v":"OPER"},{"$f":"'12.2018 Data'!F143","v":45048.91},{"$f":"'12.2018 Data'!G143","v":31595.119999999999},{"$f":"'12.2018 Data'!H143","v":9257.06},{"$f":"'12.2018 Data'!I143","v":4196.7299999999996},{"$f":"'12.2018 Data'!J143","v":0},"920",45048.91,31595.119999999999,9257.06,4196.7299999999996,0,{"$f":"IF(ISNUMBER(MATCH($B163,'Org functional rollups'!$A:$A,0)),INDEX('Org functional rollups'!$D:$D,MATCH($B163,'Org functional rollups'!$A:$A,0)),0)","v":"Customer"}]
[{"$f":"'12.2018 Data'!A144","v":"920000"},{"$f":"'12.2018 Data'!B144","v":"P03"},{"$f":"'12.2018 Data'!C144","v":"CD"},{"$f":"'12.2018 Data'!D144","v":"AA"},{"$f":"'12.2018 Data'!E144","v":"OPER"},{"$f":"'12.2018 Data'!F144","v":31021.68},{"$f":"'12.2018 Data'!G144","v":21757.06},{"$f":"'12.2018 Data'!H144","v":6374.67},{"$f":"'12.2018 Data'!I144","v":2889.95},{"$f":"'12.2018 Data'!J144","v":0},"920",31021.68,21757.06,6374.67,2889.95,0,{"$f":"IF(ISNUMBER(MATCH($B164,'Org functional rollups'!$A:$A,0)),INDEX('Org functional rollups'!$D:$D,MATCH($B164,'Org functional rollups'!$A:$A,0)),0)","v":"Distribution"}]
[{"$f":"'12.2018 Data'!A145","v":"920000"},{"$f":"'12.2018 Data'!B145","v":"P07"},{"$f":"'12.2018 Data'!C145","v":"ED"},{"$f":"'12.2018 Data'!D145","v":"AN"},{"$f":"'12.2018 Data'!E145","v":"OPER"},{"$f":"'12.2018 Data'!F145","v":6342.84},{"$f":"'12.2018 Data'!G145","v":6342.84},{"$f":"'12.2018 Data'!H145","v":0},{"$f":"'12.2018 Data'!I145","v":0},{"$f":"'12.2018 Data'!J145","v":0},"920",6342.84,6342.84,0,0,0,{"$f":"IF(ISNUMBER(MATCH($B165,'Org functional rollups'!$A:$A,0)),INDEX('Org functional rollups'!$D:$D,MATCH($B165,'Org functional rollups'!$A:$A,0)),0)","v":"Production"}]
[{"$f":"'12.2018 Data'!A146","v":"920000"},{"$f":"'12.2018 Data'!B146","v":"P07"},{"$f":"'12.2018 Data'!C146","v":"CD"},{"$f":"'12.2018 Data'!D146","v":"AA"},{"$f":"'12.2018 Data'!E146","v":"OPER"},{"$f":"'12.2018 Data'!F146","v":6719.12},{"$f":"'12.2018 Data'!G146","v":4712.45},{"$f":"'12.2018 Data'!H146","v":1380.71},{"$f":"'12.2018 Data'!I146","v":625.96},{"$f":"'12.2018 Data'!J146","v":0},"920",6719.12,{"$f":"IF(ISNUMBER(G166),G166,0)","v":4712.45},{"$f":"IF(ISNUMBER(H166),H166,0)","v":1380.71},{"$f":"IF(ISNUMBER(I166),I166,0)","v":625.96},{"$f":"IF(ISNUMBER(J166),J166,0)","v":0},{"$f":"IF(ISNUMBER(MATCH($B166,'Org functional rollups'!$A:$A,0)),INDEX('Org functional rollups'!$D:$D,MATCH($B166,'Org functional rollups'!$A:$A,0)),0)","v":"Production"}]
[{"$f":"'12.2018 Data'!A147","v":"920000"},{"$f":"'12.2018 Data'!B147","v":"P08"},{"$f":"'12.2018 Data'!C147","v":"ED"},{"$f":"'12.2018 Data'!D147","v":"AN"},{"$f":"'12.2018 Data'!E147","v":"OPER"},{"$f":"'12.2018 Data'!F147","v":51747.9},{"$f":"'12.2018 Data'!G147","v":51747.9},{"$f":"'12.2018 Data'!H147","v":0},{"$f":"'12.2018 Data'!I147","v":0},{"$f":"'12.2018 Data'!J147","v":0},"920",51747.9,51747.9,0,0,0,{"$f":"IF(ISNUMBER(MATCH($B167,'Org functional rollups'!$A:$A,0)),INDEX('Org functional rollups'!$D:$D,MATCH($B167,'Org functional rollups'!$A:$A,0)),0)","v":"Distribution"}]
[{"$f":"'12.2018 Data'!A148","v":"920000"},{"$f":"'12.2018 Data'!B148","v":"P08"},{"$f":"'12.2018 Data'!C148","v":"CD"},{"$f":"'12.2018 Data'!D148","v":"WA"},{"$f":"'12.2018 Data'!E148","v":"OPER"},{"$f":"'12.2018 Data'!F148","v":3860.8},{"$f":"'12.2018 Data'!G148","v":3000.42},{"$f":"'12.2018 Data'!H148","v":860.38},{"$f":"'12.2018 Data'!I148","v":0},{"$f":"'12.2018 Data'!J148","v":0},"920",3860.8,3000.42,860.38,0,0,{"$f":"IF(ISNUMBER(MATCH($B168,'Org functional rollups'!$A:$A,0)),INDEX('Org functional rollups'!$D:$D,MATCH($B168,'Org functional rollups'!$A:$A,0)),0)","v":"Distribution"}]
[{"$f":"'12.2018 Data'!A149","v":"920000"},{"$f":"'12.2018 Data'!B149","v":"P08"},{"$f":"'12.2018 Data'!C149","v":"CD"},{"$f":"'12.2018 Data'!D149","v":"AA"},{"$f":"'12.2018 Data'!E149","v":"OPER"},{"$f":"'12.2018 Data'!F149","v":25332.22},{"$f":"'12.2018 Data'!G149","v":17766.740000000002},{"$f":"'12.2018 Data'!H149","v":5205.51},{"$f":"'12.2018 Data'!I149","v":2359.9699999999998},{"$f":"'12.2018 Data'!J149","v":0},"920",25332.22,17766.740000000002,5205.51,2359.9699999999998,0,{"$f":"IF(ISNUMBER(MATCH($B169,'Org functional rollups'!$A:$A,0)),INDEX('Org functional rollups'!$D:$D,MATCH($B169,'Org functional rollups'!$A:$A,0)),0)","v":"Distribution"}]
[{"$f":"'12.2018 Data'!A150","v":"920000"},{"$f":"'12.2018 Data'!B150","v":"P09"},{"$f":"'12.2018 Data'!C150","v":"CD"},{"$f":"'12.2018 Data'!D150","v":"AA"},{"$f":"'12.2018 Data'!E150","v":"OPER"},{"$f":"'12.2018 Data'!F150","v":280317.18},{"$f":"'12.2018 Data'!G150","v":196600.55},{"$f":"'12.2018 Data'!H150","v":57602.46},{"$f":"'12.2018 Data'!I150","v":26114.17},{"$f":"'12.2018 Data'!J150","v":0},"920",280317.18,196600.55,57602.46,26114.17,0,{"$f":"IF(ISNUMBER(MATCH($B170,'Org functional rollups'!$A:$A,0)),INDEX('Org functional rollups'!$D:$D,MATCH($B170,'Org functional rollups'!$A:$A,0)),0)","v":"Common"}]
[{"$f":"'12.2018 Data'!A151","v":"920000"},{"$f":"'12.2018 Data'!B151","v":"P50"},{"$f":"'12.2018 Data'!C151","v":"CD"},{"$f":"'12.2018 Data'!D151","v":"AA"},{"$f":"'12.2018 Data'!E151","v":"OPER"},{"$f":"'12.2018 Data'!F151","v":108.54},{"$f":"'12.2018 Data'!G151","v":76.12},{"$f":"'12.2018 Data'!H151","v":22.3},{"$f":"'12.2018 Data'!I151","v":10.119999999999999},{"$f":"'12.2018 Data'!J151","v":0},"920",108.54,76.12,22.3,10.119999999999999,0,{"$f":"IF(ISNUMBER(MATCH($B171,'Org functional rollups'!$A:$A,0)),INDEX('Org functional rollups'!$D:$D,MATCH($B171,'Org functional rollups'!$A:$A,0)),0)","v":"Distribution"}]
[{"$f":"'12.2018 Data'!A152","v":"920000"},{"$f":"'12.2018 Data'!B152","v":"P53"},{"$f":"'12.2018 Data'!C152","v":"CD"},{"$f":"'12.2018 Data'!D152","v":"ID"},{"$f":"'12.2018 Data'!E152","v":"OPER"},{"$f":"'12.2018 Data'!F152","v":22207.15},{"$f":"'12.2018 Data'!G152","v":17258.38},{"$f":"'12.2018 Data'!H152","v":4948.7700000000004},{"$f":"'12.2018 Data'!I152","v":0},{"$f":"'12.2018 Data'!J152","v":0},"920",22207.15,17258.38,4948.7700000000004,0,0,{"$f":"IF(ISNUMBER(MATCH($B172,'Org functional rollups'!$A:$A,0)),INDEX('Org functional rollups'!$D:$D,MATCH($B172,'Org functional rollups'!$A:$A,0)),0)","v":"Distribution"}]
[{"$f":"'12.2018 Data'!A153","v":"920000"},{"$f":"'12.2018 Data'!B153","v":"P53"},{"$f":"'12.2018 Data'!C153","v":"CD"},{"$f":"'12.2018 Data'!D153","v":"WA"},{"$f":"'12.2018 Data'!E153","v":"OPER"},{"$f":"'12.2018 Data'!F153","v":32965.79},{"$f":"'12.2018 Data'!G153","v":25619.42},{"$f":"'12.2018 Data'!H153","v":7346.37},{"$f":"'12.2018 Data'!I153","v":0},{"$f":"'12.2018 Data'!J153","v":0},"920",32965.79,25619.42,7346.37,0,0,{"$f":"IF(ISNUMBER(MATCH($B173,'Org functional rollups'!$A:$A,0)),INDEX('Org functional rollups'!$D:$D,MATCH($B173,'Org functional rollups'!$A:$A,0)),0)","v":"Distribution"}]
[{"$f":"'12.2018 Data'!A154","v":"920000"},{"$f":"'12.2018 Data'!B154","v":"P59"},{"$f":"'12.2018 Data'!C154","v":"CD"},{"$f":"'12.2018 Data'!D154","v":"AA"},{"$f":"'12.2018 Data'!E154","v":"OPER"},{"$f":"'12.2018 Data'!F154","v":347334.45},{"$f":"'12.2018 Data'!G154","v":243603.06},{"$f":"'12.2018 Data'!H154","v":71373.84},{"$f":"'12.2018 Data'!I154","v":32357.55},{"$f":"'12.2018 Data'!J154","v":0},"920",347334.45,243603.06,71373.84,32357.55,0,{"$f":"IF(ISNUMBER(MATCH($B174,'Org functional rollups'!$A:$A,0)),INDEX('Org functional rollups'!$D:$D,MATCH($B174,'Org functional rollups'!$A:$A,0)),0)","v":"Common"}]
[{"$f":"'12.2018 Data'!A155","v":"920000"},{"$f":"'12.2018 Data'!B155","v":"P99"},{"$f":"'12.2018 Data'!C155","v":"ED"},{"$f":"'12.2018 Data'!D155","v":"AN"},{"$f":"'12.2018 Data'!E155","v":"OPER"},{"$f":"'12.2018 Data'!F155","v":1764.02},{"$f":"'12.2018 Data'!G155","v":1764.02},{"$f":"'12.2018 Data'!H155","v":0},{"$f":"'12.2018 Data'!I155","v":0},{"$f":"'12.2018 Data'!J155","v":0},"920",1764.02,1764.02,0,0,0,{"$f":"IF(ISNUMBER(MATCH($B175,'Org functional rollups'!$A:$A,0)),INDEX('Org functional rollups'!$D:$D,MATCH($B175,'Org functional rollups'!$A:$A,0)),0)","v":"Common"}]
[{"$f":"'12.2018 Data'!A156","v":"920000"},{"$f":"'12.2018 Data'!B156","v":"P99"},{"$f":"'12.2018 Data'!C156","v":"CD"},{"$f":"'12.2018 Data'!D156","v":"AA"},{"$f":"'12.2018 Data'!E156","v":"OPER"},{"$f":"'12.2018 Data'!F156","v":654200.73},{"$f":"'12.2018 Data'!G156","v":458823.74},{"$f":"'12.2018 Data'!H156","v":134431.79999999999},{"$f":"'12.2018 Data'!I156","v":60945.19},{"$f":"'12.2018 Data'!J156","v":0},"920",654200.73,458823.74,134431.79999999999,60945.19,0,{"$f":"IF(ISNUMBER(MATCH($B176,'Org functional rollups'!$A:$A,0)),INDEX('Org functional rollups'!$D:$D,MATCH($B176,'Org functional rollups'!$A:$A,0)),0)","v":"Common"}]
[{"$f":"'12.2018 Data'!A157","v":"920000"},{"$f":"'12.2018 Data'!B157","v":"Q19"},{"$f":"'12.2018 Data'!C157","v":"CD"},{"$f":"'12.2018 Data'!D157","v":"AA"},{"$f":"'12.2018 Data'!E157","v":"OPER"},{"$f":"'12.2018 Data'!F157","v":4146.75},{"$f":"'12.2018 Data'!G157","v":2908.35},{"$f":"'12.2018 Data'!H157","v":852.1},{"$f":"'12.2018 Data'!I157","v":386.3},{"$f":"'12.2018 Data'!J157","v":0},"920",4146.75,2908.35,852.1,386.3,0,{"$f":"IF(ISNUMBER(MATCH($B177,'Org functional rollups'!$A:$A,0)),INDEX('Org functional rollups'!$D:$D,MATCH($B177,'Org functional rollups'!$A:$A,0)),0)","v":"Common"}]
[{"$f":"'12.2018 Data'!A158","v":"920000"},{"$f":"'12.2018 Data'!B158","v":"R07"},{"$f":"'12.2018 Data'!C158","v":"CD"},{"$f":"'12.2018 Data'!D158","v":"AA"},{"$f":"'12.2018 Data'!E158","v":"OPER"},{"$f":"'12.2018 Data'!F158","v":6760.4},{"$f":"'12.2018 Data'!G158","v":4741.3999999999996},{"$f":"'12.2018 Data'!H158","v":1389.2},{"$f":"'12.2018 Data'!I158","v":629.79999999999995},{"$f":"'12.2018 Data'!J158","v":0},"920",6760.4,4741.3999999999996,1389.2,629.79999999999995,0,{"$f":"IF(ISNUMBER(MATCH($B178,'Org functional rollups'!$A:$A,0)),INDEX('Org functional rollups'!$D:$D,MATCH($B178,'Org functional rollups'!$A:$A,0)),0)","v":"Production"}]
[{"$f":"'12.2018 Data'!A159","v":"920000"},{"$f":"'12.2018 Data'!B159","v":"R08"},{"$f":"'12.2018 Data'!C159","v":"CD"},{"$f":"'12.2018 Data'!D159","v":"AA"},{"$f":"'12.2018 Data'!E159","v":"OPER"},{"$f":"'12.2018 Data'!F159","v":4789.59},{"$f":"'12.2018 Data'!G159","v":3359.17},{"$f":"'12.2018 Data'!H159","v":984.22},{"$f":"'12.2018 Data'!I159","v":446.2},{"$f":"'12.2018 Data'!J159","v":0},"920",4789.59,3359.17,984.22,446.2,0,{"$f":"IF(ISNUMBER(MATCH($B179,'Org functional rollups'!$A:$A,0)),INDEX('Org functional rollups'!$D:$D,MATCH($B179,'Org functional rollups'!$A:$A,0)),0)","v":"Distribution"}]
[{"$f":"'12.2018 Data'!A160","v":"920000"},{"$f":"'12.2018 Data'!B160","v":"R09"},{"$f":"'12.2018 Data'!C160","v":"CD"},{"$f":"'12.2018 Data'!D160","v":"AA"},{"$f":"'12.2018 Data'!E160","v":"OPER"},{"$f":"'12.2018 Data'!F160","v":62995.38},{"$f":"'12.2018 Data'!G160","v":44181.82},{"$f":"'12.2018 Data'!H160","v":12944.89},{"$f":"'12.2018 Data'!I160","v":5868.67},{"$f":"'12.2018 Data'!J160","v":0},"920",62995.38,44181.82,12944.89,5868.67,0,{"$f":"IF(ISNUMBER(MATCH($B180,'Org functional rollups'!$A:$A,0)),INDEX('Org functional rollups'!$D:$D,MATCH($B180,'Org functional rollups'!$A:$A,0)),0)","v":"Common"}]
[{"$f":"'12.2018 Data'!A161","v":"920000"},{"$f":"'12.2018 Data'!B161","v":"R11"},{"$f":"'12.2018 Data'!C161","v":"CD"},{"$f":"'12.2018 Data'!D161","v":"AA"},{"$f":"'12.2018 Data'!E161","v":"OPER"},{"$f":"'12.2018 Data'!F161","v":20949.45},{"$f":"'12.2018 Data'!G161","v":14692.9},{"$f":"'12.2018 Data'!H161","v":4304.93},{"$f":"'12.2018 Data'!I161","v":1951.62},{"$f":"'12.2018 Data'!J161","v":0},"920",20949.45,14692.9,4304.93,1951.62,0,{"$f":"IF(ISNUMBER(MATCH($B181,'Org functional rollups'!$A:$A,0)),INDEX('Org functional rollups'!$D:$D,MATCH($B181,'Org functional rollups'!$A:$A,0)),0)","v":"Common"}]
[{"$f":"'12.2018 Data'!A162","v":"920000"},{"$f":"'12.2018 Data'!B162","v":"R11"},{"$f":"'12.2018 Data'!C162","v":"CD"},{"$f":"'12.2018 Data'!D162","v":"WA"},{"$f":"'12.2018 Data'!E162","v":"OPER"},{"$f":"'12.2018 Data'!F162","v":16194.83},{"$f":"'12.2018 Data'!G162","v":12585.82},{"$f":"'12.2018 Data'!H162","v":3609.01},{"$f":"'12.2018 Data'!I162","v":0},{"$f":"'12.2018 Data'!J162","v":0},"920",16194.83,12585.82,3609.01,0,0,{"$f":"IF(ISNUMBER(MATCH($B182,'Org functional rollups'!$A:$A,0)),INDEX('Org functional rollups'!$D:$D,MATCH($B182,'Org functional rollups'!$A:$A,0)),0)","v":"Common"}]
[{"$f":"'12.2018 Data'!A163","v":"920000"},{"$f":"'12.2018 Data'!B163","v":"R19"},{"$f":"'12.2018 Data'!C163","v":"CD"},{"$f":"'12.2018 Data'!D163","v":"AN"},{"$f":"'12.2018 Data'!E163","v":"OPER"},{"$f":"'12.2018 Data'!F163","v":109.38},{"$f":"'12.2018 Data'!G163","v":85},{"$f":"'12.2018 Data'!H163","v":24.38},{"$f":"'12.2018 Data'!I163","v":0},{"$f":"'12.2018 Data'!J163","v":0},"920",109.38,85,24.38,0,0,{"$f":"IF(ISNUMBER(MATCH($B183,'Org functional rollups'!$A:$A,0)),INDEX('Org functional rollups'!$D:$D,MATCH($B183,'Org functional rollups'!$A:$A,0)),0)","v":"Common"}]
[{"$f":"'12.2018 Data'!A164","v":"920000"},{"$f":"'12.2018 Data'!B164","v":"R19"},{"$f":"'12.2018 Data'!C164","v":"ED"},{"$f":"'12.2018 Data'!D164","v":"AN"},{"$f":"'12.2018 Data'!E164","v":"OPER"},{"$f":"'12.2018 Data'!F164","v":850},{"$f":"'12.2018 Data'!G164","v":850},{"$f":"'12.2018 Data'!H164","v":0},{"$f":"'12.2018 Data'!I164","v":0},{"$f":"'12.2018 Data'!J164","v":0},"920",850,850,0,0,0,{"$f":"IF(ISNUMBER(MATCH($B184,'Org functional rollups'!$A:$A,0)),INDEX('Org functional rollups'!$D:$D,MATCH($B184,'Org functional rollups'!$A:$A,0)),0)","v":"Common"}]
[{"$f":"'12.2018 Data'!A165","v":"920000"},{"$f":"'12.2018 Data'!B165","v":"R19"},{"$f":"'12.2018 Data'!C165","v":"CD"},{"$f":"'12.2018 Data'!D165","v":"AA"},{"$f":"'12.2018 Data'!E165","v":"OPER"},{"$f":"'12.2018 Data'!F165","v":36484.449999999997},{"$f":"'12.2018 Data'!G165","v":25588.38},{"$f":"'12.2018 Data'!H165","v":7497.18},{"$f":"'12.2018 Data'!I165","v":3398.89},{"$f":"'12.2018 Data'!J165","v":0},"920",36484.449999999997,25588.38,7497.18,3398.89,0,{"$f":"IF(ISNUMBER(MATCH($B185,'Org functional rollups'!$A:$A,0)),INDEX('Org functional rollups'!$D:$D,MATCH($B185,'Org functional rollups'!$A:$A,0)),0)","v":"Common"}]
[{"$f":"'12.2018 Data'!A166","v":"920000"},{"$f":"'12.2018 Data'!B166","v":"R51"},{"$f":"'12.2018 Data'!C166","v":"CD"},{"$f":"'12.2018 Data'!D166","v":"AA"},{"$f":"'12.2018 Data'!E166","v":"OPER"},{"$f":"'12.2018 Data'!F166","v":3808.8},{"$f":"'12.2018 Data'!G166","v":2671.33},{"$f":"'12.2018 Data'!H166","v":782.64},{"$f":"'12.2018 Data'!I166","v":354.83},{"$f":"'12.2018 Data'!J166","v":0},"920",3808.8,2671.33,782.64,354.83,0,{"$f":"IF(ISNUMBER(MATCH($B186,'Org functional rollups'!$A:$A,0)),INDEX('Org functional rollups'!$D:$D,MATCH($B186,'Org functional rollups'!$A:$A,0)),0)","v":"Distribution"}]
[{"$f":"'12.2018 Data'!A167","v":"920000"},{"$f":"'12.2018 Data'!B167","v":"R54"},{"$f":"'12.2018 Data'!C167","v":"CD"},{"$f":"'12.2018 Data'!D167","v":"AA"},{"$f":"'12.2018 Data'!E167","v":"OPER"},{"$f":"'12.2018 Data'!F167","v":568987.6},{"$f":"'12.2018 Data'!G167","v":399059.42},{"$f":"'12.2018 Data'!H167","v":116921.29},{"$f":"'12.2018 Data'!I167","v":53006.89},{"$f":"'12.2018 Data'!J167","v":0},"920",568987.6,399059.42,116921.29,53006.89,0,{"$f":"IF(ISNUMBER(MATCH($B187,'Org functional rollups'!$A:$A,0)),INDEX('Org functional rollups'!$D:$D,MATCH($B187,'Org functional rollups'!$A:$A,0)),0)","v":"Common"}]
[{"$f":"'12.2018 Data'!A168","v":"920000"},{"$f":"'12.2018 Data'!B168","v":"S03"},{"$f":"'12.2018 Data'!C168","v":"CD"},{"$f":"'12.2018 Data'!D168","v":"AA"},{"$f":"'12.2018 Data'!E168","v":"OPER"},{"$f":"'12.2018 Data'!F168","v":1634.6},{"$f":"'12.2018 Data'!G168","v":1146.43},{"$f":"'12.2018 Data'!H168","v":335.89},{"$f":"'12.2018 Data'!I168","v":152.28},{"$f":"'12.2018 Data'!J168","v":0},"920",1634.6,1146.43,335.89,152.28,0,{"$f":"IF(ISNUMBER(MATCH($B188,'Org functional rollups'!$A:$A,0)),INDEX('Org functional rollups'!$D:$D,MATCH($B188,'Org functional rollups'!$A:$A,0)),0)","v":"None"}]
[{"$f":"'12.2018 Data'!A169","v":"920000"},{"$f":"'12.2018 Data'!B169","v":"S19"},{"$f":"'12.2018 Data'!C169","v":"CD"},{"$f":"'12.2018 Data'!D169","v":"AA"},{"$f":"'12.2018 Data'!E169","v":"OPER"},{"$f":"'12.2018 Data'!F169","v":45606.27},{"$f":"'12.2018 Data'!G169","v":31985.94},{"$f":"'12.2018 Data'!H169","v":9371.6299999999992},{"$f":"'12.2018 Data'!I169","v":4248.7},{"$f":"'12.2018 Data'!J169","v":0},"920",45606.27,31985.94,9371.6299999999992,4248.7,0,{"$f":"IF(ISNUMBER(MATCH($B189,'Org functional rollups'!$A:$A,0)),INDEX('Org functional rollups'!$D:$D,MATCH($B189,'Org functional rollups'!$A:$A,0)),0)","v":"Common"}]
[{"$f":"'12.2018 Data'!A170","v":"920000"},{"$f":"'12.2018 Data'!B170","v":"S39"},{"$f":"'12.2018 Data'!C170","v":"CD"},{"$f":"'12.2018 Data'!D170","v":"AA"},{"$f":"'12.2018 Data'!E170","v":"OPER"},{"$f":"'12.2018 Data'!F170","v":959.42},{"$f":"'12.2018 Data'!G170","v":672.9},{"$f":"'12.2018 Data'!H170","v":197.15},{"$f":"'12.2018 Data'!I170","v":89.37},{"$f":"'12.2018 Data'!J170","v":0},"920",959.42,672.9,197.15,89.37,0,{"$f":"IF(ISNUMBER(MATCH($B190,'Org functional rollups'!$A:$A,0)),INDEX('Org functional rollups'!$D:$D,MATCH($B190,'Org functional rollups'!$A:$A,0)),0)","v":"Common"}]
[{"$f":"'12.2018 Data'!A171","v":"920000"},{"$f":"'12.2018 Data'!B171","v":"S50"},{"$f":"'12.2018 Data'!C171","v":"CD"},{"$f":"'12.2018 Data'!D171","v":"AA"},{"$f":"'12.2018 Data'!E171","v":"OPER"},{"$f":"'12.2018 Data'!F171","v":69488.02},{"$f":"'12.2018 Data'!G171","v":48735.46},{"$f":"'12.2018 Data'!H171","v":14279.11},{"$f":"'12.2018 Data'!I171","v":6473.45},{"$f":"'12.2018 Data'!J171","v":0},"920",69488.02,48735.46,14279.11,6473.45,0,{"$f":"IF(ISNUMBER(MATCH($B191,'Org functional rollups'!$A:$A,0)),INDEX('Org functional rollups'!$D:$D,MATCH($B191,'Org functional rollups'!$A:$A,0)),0)","v":"Distribution"}]
[{"$f":"'12.2018 Data'!A172","v":"920000"},{"$f":"'12.2018 Data'!B172","v":"S51"},{"$f":"'12.2018 Data'!C172","v":"ED"},{"$f":"'12.2018 Data'!D172","v":"AN"},{"$f":"'12.2018 Data'!E172","v":"OPER"},{"$f":"'12.2018 Data'!F172","v":1249.98},{"$f":"'12.2018 Data'!G172","v":1249.98},{"$f":"'12.2018 Data'!H172","v":0},{"$f":"'12.2018 Data'!I172","v":0},{"$f":"'12.2018 Data'!J172","v":0},"920",1249.98,1249.98,0,0,0,{"$f":"IF(ISNUMBER(MATCH($B192,'Org functional rollups'!$A:$A,0)),INDEX('Org functional rollups'!$D:$D,MATCH($B192,'Org functional rollups'!$A:$A,0)),0)","v":"Common"}]
[{"$f":"'12.2018 Data'!A173","v":"920000"},{"$f":"'12.2018 Data'!B173","v":"S51"},{"$f":"'12.2018 Data'!C173","v":"CD"},{"$f":"'12.2018 Data'!D173","v":"WA"},{"$f":"'12.2018 Data'!E173","v":"OPER"},{"$f":"'12.2018 Data'!F173","v":37.020000000000003},{"$f":"'12.2018 Data'!G173","v":28.77},{"$f":"'12.2018 Data'!H173","v":8.25},{"$f":"'12.2018 Data'!I173","v":0},{"$f":"'12.2018 Data'!J173","v":0},"920",37.020000000000003,28.77,8.25,0,0,{"$f":"IF(ISNUMBER(MATCH($B193,'Org functional rollups'!$A:$A,0)),INDEX('Org functional rollups'!$D:$D,MATCH($B193,'Org functional rollups'!$A:$A,0)),0)","v":"Common"}]
[{"$f":"'12.2018 Data'!A174","v":"920000"},{"$f":"'12.2018 Data'!B174","v":"S51"},{"$f":"'12.2018 Data'!C174","v":"CD"},{"$f":"'12.2018 Data'!D174","v":"AA"},{"$f":"'12.2018 Data'!E174","v":"OPER"},{"$f":"'12.2018 Data'!F174","v":16627.91},{"$f":"'12.2018 Data'!G174","v":11661.99},{"$f":"'12.2018 Data'!H174","v":3416.89},{"$f":"'12.2018 Data'!I174","v":1549.03},{"$f":"'12.2018 Data'!J174","v":0},"920",16627.91,11661.99,3416.89,1549.03,0,{"$f":"IF(ISNUMBER(MATCH($B194,'Org functional rollups'!$A:$A,0)),INDEX('Org functional rollups'!$D:$D,MATCH($B194,'Org functional rollups'!$A:$A,0)),0)","v":"Common"}]
[{"$f":"'12.2018 Data'!A175","v":"920000"},{"$f":"'12.2018 Data'!B175","v":"S51"},{"$f":"'12.2018 Data'!C175","v":"CD"},{"$f":"'12.2018 Data'!D175","v":"AN"},{"$f":"'12.2018 Data'!E175","v":"OPER"},{"$f":"'12.2018 Data'!F175","v":3946.91},{"$f":"'12.2018 Data'!G175","v":3067.37},{"$f":"'12.2018 Data'!H175","v":879.54},{"$f":"'12.2018 Data'!I175","v":0},{"$f":"'12.2018 Data'!J175","v":0},"920",3946.91,3067.37,879.54,0,0,{"$f":"IF(ISNUMBER(MATCH($B195,'Org functional rollups'!$A:$A,0)),INDEX('Org functional rollups'!$D:$D,MATCH($B195,'Org functional rollups'!$A:$A,0)),0)","v":"Common"}]
[{"$f":"'12.2018 Data'!A176","v":"920000"},{"$f":"'12.2018 Data'!B176","v":"S52"},{"$f":"'12.2018 Data'!C176","v":"CD"},{"$f":"'12.2018 Data'!D176","v":"AA"},{"$f":"'12.2018 Data'!E176","v":"OPER"},{"$f":"'12.2018 Data'!F176","v":31089.47},{"$f":"'12.2018 Data'!G176","v":21804.63},{"$f":"'12.2018 Data'!H176","v":6388.57},{"$f":"'12.2018 Data'!I176","v":2896.27},{"$f":"'12.2018 Data'!J176","v":0},"920",31089.47,21804.63,6388.57,2896.27,0,{"$f":"IF(ISNUMBER(MATCH($B196,'Org functional rollups'!$A:$A,0)),INDEX('Org functional rollups'!$D:$D,MATCH($B196,'Org functional rollups'!$A:$A,0)),0)","v":"Common"}]
[{"$f":"'12.2018 Data'!A177","v":"920000"},{"$f":"'12.2018 Data'!B177","v":"S54"},{"$f":"'12.2018 Data'!C177","v":"CD"},{"$f":"'12.2018 Data'!D177","v":"AA"},{"$f":"'12.2018 Data'!E177","v":"OPER"},{"$f":"'12.2018 Data'!F177","v":558050},{"$f":"'12.2018 Data'!G177","v":391388.48},{"$f":"'12.2018 Data'!H177","v":114673.65},{"$f":"'12.2018 Data'!I177","v":51987.87},{"$f":"'12.2018 Data'!J177","v":0},"920",558050,391388.48,114673.65,51987.87,0,{"$f":"IF(ISNUMBER(MATCH($B197,'Org functional rollups'!$A:$A,0)),INDEX('Org functional rollups'!$D:$D,MATCH($B197,'Org functional rollups'!$A:$A,0)),0)","v":"Common"}]
[{"$f":"'12.2018 Data'!A178","v":"920000"},{"$f":"'12.2018 Data'!B178","v":"T08"},{"$f":"'12.2018 Data'!C178","v":"CD"},{"$f":"'12.2018 Data'!D178","v":"AA"},{"$f":"'12.2018 Data'!E178","v":"OPER"},{"$f":"'12.2018 Data'!F178","v":10370.34},{"$f":"'12.2018 Data'!G178","v":7273.26},{"$f":"'12.2018 Data'!H178","v":2131},{"$f":"'12.2018 Data'!I178","v":966.08},{"$f":"'12.2018 Data'!J178","v":0},"920",10370.34,7273.26,2131,966.08,0,{"$f":"IF(ISNUMBER(MATCH($B198,'Org functional rollups'!$A:$A,0)),INDEX('Org functional rollups'!$D:$D,MATCH($B198,'Org functional rollups'!$A:$A,0)),0)","v":"Distribution"}]
[{"$f":"'12.2018 Data'!A179","v":"920000"},{"$f":"'12.2018 Data'!B179","v":"T19"},{"$f":"'12.2018 Data'!C179","v":"CD"},{"$f":"'12.2018 Data'!D179","v":"AA"},{"$f":"'12.2018 Data'!E179","v":"OPER"},{"$f":"'12.2018 Data'!F179","v":259682.7},{"$f":"'12.2018 Data'!G179","v":182128.53},{"$f":"'12.2018 Data'!H179","v":53362.21},{"$f":"'12.2018 Data'!I179","v":24191.96},{"$f":"'12.2018 Data'!J179","v":0},"920",259682.7,182128.53,53362.21,24191.96,0,{"$f":"IF(ISNUMBER(MATCH($B199,'Org functional rollups'!$A:$A,0)),INDEX('Org functional rollups'!$D:$D,MATCH($B199,'Org functional rollups'!$A:$A,0)),0)","v":"Common"}]
[{"$f":"'12.2018 Data'!A180","v":"920000"},{"$f":"'12.2018 Data'!B180","v":"T51"},{"$f":"'12.2018 Data'!C180","v":"CD"},{"$f":"'12.2018 Data'!D180","v":"AA"},{"$f":"'12.2018 Data'!E180","v":"OPER"},{"$f":"'12.2018 Data'!F180","v":9794.77},{"$f":"'12.2018 Data'!G180","v":6869.58},{"$f":"'12.2018 Data'!H180","v":2012.73},{"$f":"'12.2018 Data'!I180","v":912.46},{"$f":"'12.2018 Data'!J180","v":0},"920",9794.77,6869.58,2012.73,912.46,0,{"$f":"IF(ISNUMBER(MATCH($B200,'Org functional rollups'!$A:$A,0)),INDEX('Org functional rollups'!$D:$D,MATCH($B200,'Org functional rollups'!$A:$A,0)),0)","v":"Distribution"}]
[{"$f":"'12.2018 Data'!A181","v":"920000"},{"$f":"'12.2018 Data'!B181","v":"T52"},{"$f":"'12.2018 Data'!C181","v":"CD"},{"$f":"'12.2018 Data'!D181","v":"AA"},{"$f":"'12.2018 Data'!E181","v":"OPER"},{"$f":"'12.2018 Data'!F181","v":33574.230000000003},{"$f":"'12.2018 Data'!G181","v":23547.31},{"$f":"'12.2018 Data'!H181","v":6899.16},{"$f":"'12.2018 Data'!I181","v":3127.76},{"$f":"'12.2018 Data'!J181","v":0},"920",33574.230000000003,23547.31,6899.16,3127.76,0,{"$f":"IF(ISNUMBER(MATCH($B201,'Org functional rollups'!$A:$A,0)),INDEX('Org functional rollups'!$D:$D,MATCH($B201,'Org functional rollups'!$A:$A,0)),0)","v":"Customer"}]
[{"$f":"'12.2018 Data'!A182","v":"920000"},{"$f":"'12.2018 Data'!B182","v":"T52"},{"$f":"'12.2018 Data'!C182","v":"CD"},{"$f":"'12.2018 Data'!D182","v":"WA"},{"$f":"'12.2018 Data'!E182","v":"OPER"},{"$f":"'12.2018 Data'!F182","v":4874.75},{"$f":"'12.2018 Data'!G182","v":3788.41},{"$f":"'12.2018 Data'!H182","v":1086.3399999999999},{"$f":"'12.2018 Data'!I182","v":0},{"$f":"'12.2018 Data'!J182","v":0},"920",4874.75,3788.41,1086.3399999999999,0,0,{"$f":"IF(ISNUMBER(MATCH($B202,'Org functional rollups'!$A:$A,0)),INDEX('Org functional rollups'!$D:$D,MATCH($B202,'Org functional rollups'!$A:$A,0)),0)","v":"Customer"}]
[{"$f":"'12.2018 Data'!A183","v":"920000"},{"$f":"'12.2018 Data'!B183","v":"T54"},{"$f":"'12.2018 Data'!C183","v":"CD"},{"$f":"'12.2018 Data'!D183","v":"AA"},{"$f":"'12.2018 Data'!E183","v":"OPER"},{"$f":"'12.2018 Data'!F183","v":332877.46000000002},{"$f":"'12.2018 Data'!G183","v":233463.6},{"$f":"'12.2018 Data'!H183","v":68402.960000000006},{"$f":"'12.2018 Data'!I183","v":31010.9},{"$f":"'12.2018 Data'!J183","v":0},"920",332877.46000000002,233463.6,68402.960000000006,31010.9,0,{"$f":"IF(ISNUMBER(MATCH($B203,'Org functional rollups'!$A:$A,0)),INDEX('Org functional rollups'!$D:$D,MATCH($B203,'Org functional rollups'!$A:$A,0)),0)","v":"Common"}]
[{"$f":"'12.2018 Data'!A184","v":"920000"},{"$f":"'12.2018 Data'!B184","v":"U01"},{"$f":"'12.2018 Data'!C184","v":"CD"},{"$f":"'12.2018 Data'!D184","v":"AA"},{"$f":"'12.2018 Data'!E184","v":"OPER"},{"$f":"'12.2018 Data'!F184","v":521814.73},{"$f":"'12.2018 Data'!G184","v":365974.83},{"$f":"'12.2018 Data'!H184","v":107227.56},{"$f":"'12.2018 Data'!I184","v":48612.34},{"$f":"'12.2018 Data'!J184","v":0},"920",521814.73,365974.83,107227.56,48612.34,0,{"$f":"IF(ISNUMBER(MATCH($B204,'Org functional rollups'!$A:$A,0)),INDEX('Org functional rollups'!$D:$D,MATCH($B204,'Org functional rollups'!$A:$A,0)),0)","v":"Common"}]
[{"$f":"'12.2018 Data'!A185","v":"920000"},{"$f":"'12.2018 Data'!B185","v":"V08"},{"$f":"'12.2018 Data'!C185","v":"ED"},{"$f":"'12.2018 Data'!D185","v":"AN"},{"$f":"'12.2018 Data'!E185","v":"OPER"},{"$f":"'12.2018 Data'!F185","v":26919.88},{"$f":"'12.2018 Data'!G185","v":26919.88},{"$f":"'12.2018 Data'!H185","v":0},{"$f":"'12.2018 Data'!I185","v":0},{"$f":"'12.2018 Data'!J185","v":0},"920",26919.88,26919.88,0,0,0,{"$f":"IF(ISNUMBER(MATCH($B205,'Org functional rollups'!$A:$A,0)),INDEX('Org functional rollups'!$D:$D,MATCH($B205,'Org functional rollups'!$A:$A,0)),0)","v":"Common"}]
[{"$f":"'12.2018 Data'!A186","v":"920000"},{"$f":"'12.2018 Data'!B186","v":"V08"},{"$f":"'12.2018 Data'!C186","v":"CD"},{"$f":"'12.2018 Data'!D186","v":"WA"},{"$f":"'12.2018 Data'!E186","v":"OPER"},{"$f":"'12.2018 Data'!F186","v":194.12},{"$f":"'12.2018 Data'!G186","v":150.86000000000001},{"$f":"'12.2018 Data'!H186","v":43.26},{"$f":"'12.2018 Data'!I186","v":0},{"$f":"'12.2018 Data'!J186","v":0},"920",194.12,150.86000000000001,43.26,0,0,{"$f":"IF(ISNUMBER(MATCH($B206,'Org functional rollups'!$A:$A,0)),INDEX('Org functional rollups'!$D:$D,MATCH($B206,'Org functional rollups'!$A:$A,0)),0)","v":"Common"}]
[{"$f":"'12.2018 Data'!A187","v":"920000"},{"$f":"'12.2018 Data'!B187","v":"V08"},{"$f":"'12.2018 Data'!C187","v":"CD"},{"$f":"'12.2018 Data'!D187","v":"AA"},{"$f":"'12.2018 Data'!E187","v":"OPER"},{"$f":"'12.2018 Data'!F187","v":139593.85999999999},{"$f":"'12.2018 Data'!G187","v":97904.18},{"$f":"'12.2018 Data'!H187","v":28685.19},{"$f":"'12.2018 Data'!I187","v":13004.49},{"$f":"'12.2018 Data'!J187","v":0},"920",139593.85999999999,97904.18,28685.19,13004.49,0,{"$f":"IF(ISNUMBER(MATCH($B207,'Org functional rollups'!$A:$A,0)),INDEX('Org functional rollups'!$D:$D,MATCH($B207,'Org functional rollups'!$A:$A,0)),0)","v":"Common"}]
[{"$f":"'12.2018 Data'!A188","v":"920000"},{"$f":"'12.2018 Data'!B188","v":"V19"},{"$f":"'12.2018 Data'!C188","v":"CD"},{"$f":"'12.2018 Data'!D188","v":"AA"},{"$f":"'12.2018 Data'!E188","v":"OPER"},{"$f":"'12.2018 Data'!F188","v":131044.8},{"$f":"'12.2018 Data'!G188","v":91908.18},{"$f":"'12.2018 Data'!H188","v":26928.42},{"$f":"'12.2018 Data'!I188","v":12208.2},{"$f":"'12.2018 Data'!J188","v":0},"920",131044.8,91908.18,26928.42,12208.2,0,{"$f":"IF(ISNUMBER(MATCH($B208,'Org functional rollups'!$A:$A,0)),INDEX('Org functional rollups'!$D:$D,MATCH($B208,'Org functional rollups'!$A:$A,0)),0)","v":"Common"}]
[{"$f":"'12.2018 Data'!A189","v":"920000"},{"$f":"'12.2018 Data'!B189","v":"V50"},{"$f":"'12.2018 Data'!C189","v":"GD"},{"$f":"'12.2018 Data'!D189","v":"OR"},{"$f":"'12.2018 Data'!E189","v":"OPER"},{"$f":"'12.2018 Data'!F189","v":51184.73},{"$f":"'12.2018 Data'!G189","v":0},{"$f":"'12.2018 Data'!H189","v":0},{"$f":"'12.2018 Data'!I189","v":51184.73},{"$f":"'12.2018 Data'!J189","v":0},"920",51184.73,0,0,51184.73,0,{"$f":"IF(ISNUMBER(MATCH($B209,'Org functional rollups'!$A:$A,0)),INDEX('Org functional rollups'!$D:$D,MATCH($B209,'Org functional rollups'!$A:$A,0)),0)","v":"Distribution"}]
[{"$f":"'12.2018 Data'!A190","v":"920000"},{"$f":"'12.2018 Data'!B190","v":"W01"},{"$f":"'12.2018 Data'!C190","v":"CD"},{"$f":"'12.2018 Data'!D190","v":"AA"},{"$f":"'12.2018 Data'!E190","v":"OPER"},{"$f":"'12.2018 Data'!F190","v":213944.69},{"$f":"'12.2018 Data'!G190","v":150050.18},{"$f":"'12.2018 Data'!H190","v":43963.46},{"$f":"'12.2018 Data'!I190","v":19931.05},{"$f":"'12.2018 Data'!J190","v":0},"920",213944.69,150050.18,43963.46,19931.05,0,{"$f":"IF(ISNUMBER(MATCH($B210,'Org functional rollups'!$A:$A,0)),INDEX('Org functional rollups'!$D:$D,MATCH($B210,'Org functional rollups'!$A:$A,0)),0)","v":"Common"}]
[{"$f":"'12.2018 Data'!A191","v":"920000"},{"$f":"'12.2018 Data'!B191","v":"W01"},{"$f":"'12.2018 Data'!C191","v":"ED"},{"$f":"'12.2018 Data'!D191","v":"AN"},{"$f":"'12.2018 Data'!E191","v":"OPER"},{"$f":"'12.2018 Data'!F191","v":377902.49},{"$f":"'12.2018 Data'!G191","v":377902.49},{"$f":"'12.2018 Data'!H191","v":0},{"$f":"'12.2018 Data'!I191","v":0},{"$f":"'12.2018 Data'!J191","v":0},"920",377902.49,377902.49,0,0,0,{"$f":"IF(ISNUMBER(MATCH($B211,'Org functional rollups'!$A:$A,0)),INDEX('Org functional rollups'!$D:$D,MATCH($B211,'Org functional rollups'!$A:$A,0)),0)","v":"Common"}]
[{"$f":"'12.2018 Data'!A192","v":"920000"},{"$f":"'12.2018 Data'!B192","v":"W09"},{"$f":"'12.2018 Data'!C192","v":"CD"},{"$f":"'12.2018 Data'!D192","v":"WA"},{"$f":"'12.2018 Data'!E192","v":"OPER"},{"$f":"'12.2018 Data'!F192","v":709.34},{"$f":"'12.2018 Data'!G192","v":551.26},{"$f":"'12.2018 Data'!H192","v":158.08000000000001},{"$f":"'12.2018 Data'!I192","v":0},{"$f":"'12.2018 Data'!J192","v":0},"920",709.34,551.26,158.08000000000001,0,0,{"$f":"IF(ISNUMBER(MATCH($B212,'Org functional rollups'!$A:$A,0)),INDEX('Org functional rollups'!$D:$D,MATCH($B212,'Org functional rollups'!$A:$A,0)),0)","v":"Common"}]
[{"$f":"'12.2018 Data'!A193","v":"920000"},{"$f":"'12.2018 Data'!B193","v":"W09"},{"$f":"'12.2018 Data'!C193","v":"CD"},{"$f":"'12.2018 Data'!D193","v":"AA"},{"$f":"'12.2018 Data'!E193","v":"OPER"},{"$f":"'12.2018 Data'!F193","v":366384.36},{"$f":"'12.2018 Data'!G193","v":256963.63},{"$f":"'12.2018 Data'!H193","v":75288.34},{"$f":"'12.2018 Data'!I193","v":34132.39},{"$f":"'12.2018 Data'!J193","v":0},"920",366384.36,256963.63,75288.34,34132.39,0,{"$f":"IF(ISNUMBER(MATCH($B213,'Org functional rollups'!$A:$A,0)),INDEX('Org functional rollups'!$D:$D,MATCH($B213,'Org functional rollups'!$A:$A,0)),0)","v":"Common"}]
[{"$f":"'12.2018 Data'!A194","v":"920000"},{"$f":"'12.2018 Data'!B194","v":"W39"},{"$f":"'12.2018 Data'!C194","v":"CD"},{"$f":"'12.2018 Data'!D194","v":"WA"},{"$f":"'12.2018 Data'!E194","v":"OPER"},{"$f":"'12.2018 Data'!F194","v":2561.36},{"$f":"'12.2018 Data'!G194","v":1990.56},{"$f":"'12.2018 Data'!H194","v":570.79999999999995},{"$f":"'12.2018 Data'!I194","v":0},{"$f":"'12.2018 Data'!J194","v":0},"920",2561.36,1990.56,570.79999999999995,0,0,{"$f":"IF(ISNUMBER(MATCH($B214,'Org functional rollups'!$A:$A,0)),INDEX('Org functional rollups'!$D:$D,MATCH($B214,'Org functional rollups'!$A:$A,0)),0)","v":"Common"}]
[{"$f":"'12.2018 Data'!A195","v":"920000"},{"$f":"'12.2018 Data'!B195","v":"W39"},{"$f":"'12.2018 Data'!C195","v":"CD"},{"$f":"'12.2018 Data'!D195","v":"AA"},{"$f":"'12.2018 Data'!E195","v":"OPER"},{"$f":"'12.2018 Data'!F195","v":62445.61},{"$f":"'12.2018 Data'!G195","v":43796.22},{"$f":"'12.2018 Data'!H195","v":12831.9},{"$f":"'12.2018 Data'!I195","v":5817.49},{"$f":"'12.2018 Data'!J195","v":0},{"$f":"LEFT(A215,3)","v":"920"},{"$f":"IF(ISNUMBER(F215),F215,0)","v":62445.61},43796.22,12831.9,5817.49,0,{"$f":"IF(ISNUMBER(MATCH($B215,'Org functional rollups'!$A:$A,0)),INDEX('Org functional rollups'!$D:$D,MATCH($B215,'Org functional rollups'!$A:$A,0)),0)","v":"Common"}]
[{"$f":"'12.2018 Data'!A196","v":"920000"},{"$f":"'12.2018 Data'!B196","v":"X02"},{"$f":"'12.2018 Data'!C196","v":"CD"},{"$f":"'12.2018 Data'!D196","v":"AA"},{"$f":"'12.2018 Data'!E196","v":"OPER"},{"$f":"'12.2018 Data'!F196","v":466235.64},{"$f":"'12.2018 Data'!G196","v":326994.34999999998},{"$f":"'12.2018 Data'!H196","v":95806.82},{"$f":"'12.2018 Data'!I196","v":43434.47},{"$f":"'12.2018 Data'!J196","v":0},"920",466235.64,326994.34999999998,95806.82,43434.47,0,{"$f":"IF(ISNUMBER(MATCH($B216,'Org functional rollups'!$A:$A,0)),INDEX('Org functional rollups'!$D:$D,MATCH($B216,'Org functional rollups'!$A:$A,0)),0)","v":"Common"}]
[{"$f":"'12.2018 Data'!A197","v":"920000"},{"$f":"'12.2018 Data'!B197","v":"X09"},{"$f":"'12.2018 Data'!C197","v":"CD"},{"$f":"'12.2018 Data'!D197","v":"AA"},{"$f":"'12.2018 Data'!E197","v":"OPER"},{"$f":"'12.2018 Data'!F197","v":64598.7},{"$f":"'12.2018 Data'!G197","v":45306.31},{"$f":"'12.2018 Data'!H197","v":13274.39},{"$f":"'12.2018 Data'!I197","v":6018},{"$f":"'12.2018 Data'!J197","v":0},"920",64598.7,45306.31,13274.39,6018,0,{"$f":"IF(ISNUMBER(MATCH($B217,'Org functional rollups'!$A:$A,0)),INDEX('Org functional rollups'!$D:$D,MATCH($B217,'Org functional rollups'!$A:$A,0)),0)","v":"Common"}]
[{"$f":"'12.2018 Data'!A198","v":"920000"},{"$f":"'12.2018 Data'!B198","v":"X19"},{"$f":"'12.2018 Data'!C198","v":"CD"},{"$f":"'12.2018 Data'!D198","v":"AN"},{"$f":"'12.2018 Data'!E198","v":"OPER"},{"$f":"'12.2018 Data'!F198","v":100.39},{"$f":"'12.2018 Data'!G198","v":78.02},{"$f":"'12.2018 Data'!H198","v":22.37},{"$f":"'12.2018 Data'!I198","v":0},{"$f":"'12.2018 Data'!J198","v":0},"920",100.39,78.02,22.37,0,0,{"$f":"IF(ISNUMBER(MATCH($B218,'Org functional rollups'!$A:$A,0)),INDEX('Org functional rollups'!$D:$D,MATCH($B218,'Org functional rollups'!$A:$A,0)),0)","v":"Common"}]
[{"$f":"'12.2018 Data'!A199","v":"920000"},{"$f":"'12.2018 Data'!B199","v":"X19"},{"$f":"'12.2018 Data'!C199","v":"CD"},{"$f":"'12.2018 Data'!D199","v":"AA"},{"$f":"'12.2018 Data'!E199","v":"OPER"},{"$f":"'12.2018 Data'!F199","v":214395.69},{"$f":"'12.2018 Data'!G199","v":150366.42000000001},{"$f":"'12.2018 Data'!H199","v":44056.2},{"$f":"'12.2018 Data'!I199","v":19973.07},{"$f":"'12.2018 Data'!J199","v":0},"920",214395.69,150366.42000000001,44056.2,19973.07,0,{"$f":"IF(ISNUMBER(MATCH($B219,'Org functional rollups'!$A:$A,0)),INDEX('Org functional rollups'!$D:$D,MATCH($B219,'Org functional rollups'!$A:$A,0)),0)","v":"Common"}]
[{"$f":"'12.2018 Data'!A200","v":"920000"},{"$f":"'12.2018 Data'!B200","v":"X39"},{"$f":"'12.2018 Data'!C200","v":"CD"},{"$f":"'12.2018 Data'!D200","v":"AA"},{"$f":"'12.2018 Data'!E200","v":"OPER"},{"$f":"'12.2018 Data'!F200","v":54001.48},{"$f":"'12.2018 Data'!G200","v":37873.94},{"$f":"'12.2018 Data'!H200","v":11096.73},{"$f":"'12.2018 Data'!I200","v":5030.8100000000004},{"$f":"'12.2018 Data'!J200","v":0},"920",54001.48,37873.94,11096.73,5030.8100000000004,0,{"$f":"IF(ISNUMBER(MATCH($B220,'Org functional rollups'!$A:$A,0)),INDEX('Org functional rollups'!$D:$D,MATCH($B220,'Org functional rollups'!$A:$A,0)),0)","v":"Common"}]
[{"$f":"'12.2018 Data'!A201","v":"920000"},{"$f":"'12.2018 Data'!B201","v":"Y01"},{"$f":"'12.2018 Data'!C201","v":"CD"},{"$f":"'12.2018 Data'!D201","v":"AA"},{"$f":"'12.2018 Data'!E201","v":"OPER"},{"$f":"'12.2018 Data'!F201","v":190888.87},{"$f":"'12.2018 Data'!G201","v":133879.98000000001},{"$f":"'12.2018 Data'!H201","v":39225.78},{"$f":"'12.2018 Data'!I201","v":17783.11},{"$f":"'12.2018 Data'!J201","v":0},"920",190888.87,133879.98000000001,39225.78,17783.11,0,{"$f":"IF(ISNUMBER(MATCH($B221,'Org functional rollups'!$A:$A,0)),INDEX('Org functional rollups'!$D:$D,MATCH($B221,'Org functional rollups'!$A:$A,0)),0)","v":"Common"}]
[{"$f":"'12.2018 Data'!A202","v":"920000"},{"$f":"'12.2018 Data'!B202","v":"Y39"},{"$f":"'12.2018 Data'!C202","v":"CD"},{"$f":"'12.2018 Data'!D202","v":"AA"},{"$f":"'12.2018 Data'!E202","v":"OPER"},{"$f":"'12.2018 Data'!F202","v":18620.080000000002},{"$f":"'12.2018 Data'!G202","v":13059.19},{"$f":"'12.2018 Data'!H202","v":3826.2},{"$f":"'12.2018 Data'!I202","v":1734.69},{"$f":"'12.2018 Data'!J202","v":0},"920",18620.080000000002,13059.19,3826.2,1734.69,0,{"$f":"IF(ISNUMBER(MATCH($B222,'Org functional rollups'!$A:$A,0)),INDEX('Org functional rollups'!$D:$D,MATCH($B222,'Org functional rollups'!$A:$A,0)),0)","v":"Common"}]
[{"$f":"'12.2018 Data'!A203","v":"920000"},{"$f":"'12.2018 Data'!B203","v":"Y54"},{"$f":"'12.2018 Data'!C203","v":"CD"},{"$f":"'12.2018 Data'!D203","v":"AA"},{"$f":"'12.2018 Data'!E203","v":"OPER"},{"$f":"'12.2018 Data'!F203","v":23147.83},{"$f":"'12.2018 Data'!G203","v":16234.72},{"$f":"'12.2018 Data'!H203","v":4756.6499999999996},{"$f":"'12.2018 Data'!I203","v":2156.46},{"$f":"'12.2018 Data'!J203","v":0},"920",23147.83,16234.72,4756.6499999999996,2156.46,0,{"$f":"IF(ISNUMBER(MATCH($B223,'Org functional rollups'!$A:$A,0)),INDEX('Org functional rollups'!$D:$D,MATCH($B223,'Org functional rollups'!$A:$A,0)),0)","v":"Common"}]
[{"$f":"'12.2018 Data'!A204","v":"920000"},{"$f":"'12.2018 Data'!B204","v":"Y55"},{"$f":"'12.2018 Data'!C204","v":"ED"},{"$f":"'12.2018 Data'!D204","v":"AN"},{"$f":"'12.2018 Data'!E204","v":"OPER"},{"$f":"'12.2018 Data'!F204","v":102913.99},{"$f":"'12.2018 Data'!G204","v":102913.99},{"$f":"'12.2018 Data'!H204","v":0},{"$f":"'12.2018 Data'!I204","v":0},{"$f":"'12.2018 Data'!J204","v":0},"920",102913.99,102913.99,0,0,0,{"$f":"IF(ISNUMBER(MATCH($B224,'Org functional rollups'!$A:$A,0)),INDEX('Org functional rollups'!$D:$D,MATCH($B224,'Org functional rollups'!$A:$A,0)),0)","v":"Production"}]
[{"$f":"'12.2018 Data'!A205","v":"920000"},{"$f":"'12.2018 Data'!B205","v":"Y55"},{"$f":"'12.2018 Data'!C205","v":"CD"},{"$f":"'12.2018 Data'!D205","v":"AA"},{"$f":"'12.2018 Data'!E205","v":"OPER"},{"$f":"'12.2018 Data'!F205","v":174757.63},{"$f":"'12.2018 Data'!G205","v":122566.27},{"$f":"'12.2018 Data'!H205","v":35910.89},{"$f":"'12.2018 Data'!I205","v":16280.47},{"$f":"'12.2018 Data'!J205","v":0},"920",174757.63,122566.27,35910.89,16280.47,0,{"$f":"IF(ISNUMBER(MATCH($B225,'Org functional rollups'!$A:$A,0)),INDEX('Org functional rollups'!$D:$D,MATCH($B225,'Org functional rollups'!$A:$A,0)),0)","v":"Production"}]
[{"$f":"'12.2018 Data'!A206","v":"920000"},{"$f":"'12.2018 Data'!B206","v":"Y55"},{"$f":"'12.2018 Data'!C206","v":"GD"},{"$f":"'12.2018 Data'!D206","v":"AA"},{"$f":"'12.2018 Data'!E206","v":"OPER"},{"$f":"'12.2018 Data'!F206","v":180366.25},{"$f":"'12.2018 Data'!G206","v":0},{"$f":"'12.2018 Data'!H206","v":123662.67},{"$f":"'12.2018 Data'!I206","v":56703.58},{"$f":"'12.2018 Data'!J206","v":0},"920",180366.25,0,123662.67,56703.58,0,{"$f":"IF(ISNUMBER(MATCH($B226,'Org functional rollups'!$A:$A,0)),INDEX('Org functional rollups'!$D:$D,MATCH($B226,'Org functional rollups'!$A:$A,0)),0)","v":"Production"}]
[{"$f":"'12.2018 Data'!A207","v":"920000"},{"$f":"'12.2018 Data'!B207","v":"Z57"},{"$f":"'12.2018 Data'!C207","v":"ED"},{"$f":"'12.2018 Data'!D207","v":"AN"},{"$f":"'12.2018 Data'!E207","v":"OPER"},{"$f":"'12.2018 Data'!F207","v":-13406.85},{"$f":"'12.2018 Data'!G207","v":-13406.85},{"$f":"'12.2018 Data'!H207","v":0},{"$f":"'12.2018 Data'!I207","v":0},{"$f":"'12.2018 Data'!J207","v":0},"920",-13406.85,-13406.85,0,0,0,{"$f":"IF(ISNUMBER(MATCH($B227,'Org functional rollups'!$A:$A,0)),INDEX('Org functional rollups'!$D:$D,MATCH($B227,'Org functional rollups'!$A:$A,0)),0)","v":"Common"}]
[{"$f":"'12.2018 Data'!A208","v":"920000"},{"$f":"'12.2018 Data'!B208","v":"Z87"},{"$f":"'12.2018 Data'!C208","v":"GD"},{"$f":"'12.2018 Data'!D208","v":"OR"},{"$f":"'12.2018 Data'!E208","v":"OPER"},{"$f":"'12.2018 Data'!F208","v":37681.58},{"$f":"'12.2018 Data'!G208","v":0},{"$f":"'12.2018 Data'!H208","v":0},{"$f":"'12.2018 Data'!I208","v":37681.58},{"$f":"'12.2018 Data'!J208","v":0},"920",37681.58,0,0,37681.58,0,{"$f":"IF(ISNUMBER(MATCH($B228,'Org functional rollups'!$A:$A,0)),INDEX('Org functional rollups'!$D:$D,MATCH($B228,'Org functional rollups'!$A:$A,0)),0)","v":"Common"}]
[{"$f":"'12.2018 Data'!A209","v":"920000"},{"$f":"'12.2018 Data'!B209","v":"Z87"},{"$f":"'12.2018 Data'!C209","v":"CD"},{"$f":"'12.2018 Data'!D209","v":"AN"},{"$f":"'12.2018 Data'!E209","v":"OPER"},{"$f":"'12.2018 Data'!F209","v":235515.74},{"$f":"'12.2018 Data'!G209","v":183031.13},{"$f":"'12.2018 Data'!H209","v":52484.61},{"$f":"'12.2018 Data'!I209","v":0},{"$f":"'12.2018 Data'!J209","v":0},"920",235515.74,183031.13,52484.61,0,0,{"$f":"IF(ISNUMBER(MATCH($B229,'Org functional rollups'!$A:$A,0)),INDEX('Org functional rollups'!$D:$D,MATCH($B229,'Org functional rollups'!$A:$A,0)),0)","v":"Common"}]
[{"$f":"'12.2018 Data'!A210","v":"920000"},{"$f":"'12.2018 Data'!B210","v":"Z87"},{"$f":"'12.2018 Data'!C210","v":"GD"},{"$f":"'12.2018 Data'!D210","v":"AA"},{"$f":"'12.2018 Data'!E210","v":"OPER"},{"$f":"'12.2018 Data'!F210","v":146502.38},{"$f":"'12.2018 Data'!G210","v":0},{"$f":"'12.2018 Data'!H210","v":100444.93},{"$f":"'12.2018 Data'!I210","v":46057.45},{"$f":"'12.2018 Data'!J210","v":0},"920",146502.38,{"$f":"IF(ISNUMBER(G230),G230,0)","v":0},{"$f":"IF(ISNUMBER(H230),H230,0)","v":100444.93},{"$f":"IF(ISNUMBER(I230),I230,0)","v":46057.45},{"$f":"IF(ISNUMBER(J230),J230,0)","v":0},{"$f":"IF(ISNUMBER(MATCH($B230,'Org functional rollups'!$A:$A,0)),INDEX('Org functional rollups'!$D:$D,MATCH($B230,'Org functional rollups'!$A:$A,0)),0)","v":"Common"}]
[{"$f":"'12.2018 Data'!A211","v":"920000"},{"$f":"'12.2018 Data'!B211","v":"Z87"},{"$f":"'12.2018 Data'!C211","v":"CD"},{"$f":"'12.2018 Data'!D211","v":"WA"},{"$f":"'12.2018 Data'!E211","v":"OPER"},{"$f":"'12.2018 Data'!F211","v":206036.73},{"$f":"'12.2018 Data'!G211","v":160121.28},{"$f":"'12.2018 Data'!H211","v":45915.45},{"$f":"'12.2018 Data'!I211","v":0},{"$f":"'12.2018 Data'!J211","v":0},"920",206036.73,160121.28,45915.45,0,0,{"$f":"IF(ISNUMBER(MATCH($B231,'Org functional rollups'!$A:$A,0)),INDEX('Org functional rollups'!$D:$D,MATCH($B231,'Org functional rollups'!$A:$A,0)),0)","v":"Common"}]
[{"$f":"'12.2018 Data'!A212","v":"920000"},{"$f":"'12.2018 Data'!B212","v":"Z87"},{"$f":"'12.2018 Data'!C212","v":"ED"},{"$f":"'12.2018 Data'!D212","v":"AN"},{"$f":"'12.2018 Data'!E212","v":"OPER"},{"$f":"'12.2018 Data'!F212","v":760284.91},{"$f":"'12.2018 Data'!G212","v":760284.91},{"$f":"'12.2018 Data'!H212","v":0},{"$f":"'12.2018 Data'!I212","v":0},{"$f":"'12.2018 Data'!J212","v":0},"920",760284.91,760284.91,0,0,0,{"$f":"IF(ISNUMBER(MATCH($B232,'Org functional rollups'!$A:$A,0)),INDEX('Org functional rollups'!$D:$D,MATCH($B232,'Org functional rollups'!$A:$A,0)),0)","v":"Common"}]
[{"$f":"'12.2018 Data'!A213","v":"920000"},{"$f":"'12.2018 Data'!B213","v":"Z87"},{"$f":"'12.2018 Data'!C213","v":"ED"},{"$f":"'12.2018 Data'!D213","v":"WA"},{"$f":"'12.2018 Data'!E213","v":"OPER"},{"$f":"'12.2018 Data'!F213","v":21719.05},{"$f":"'12.2018 Data'!G213","v":21719.05},{"$f":"'12.2018 Data'!H213","v":0},{"$f":"'12.2018 Data'!I213","v":0},{"$f":"'12.2018 Data'!J213","v":0},"920",21719.05,21719.05,0,0,0,{"$f":"IF(ISNUMBER(MATCH($B233,'Org functional rollups'!$A:$A,0)),INDEX('Org functional rollups'!$D:$D,MATCH($B233,'Org functional rollups'!$A:$A,0)),0)","v":"Common"}]
[{"$f":"'12.2018 Data'!A214","v":"920000"},{"$f":"'12.2018 Data'!B214","v":"Z87"},{"$f":"'12.2018 Data'!C214","v":"CD"},{"$f":"'12.2018 Data'!D214","v":"AA"},{"$f":"'12.2018 Data'!E214","v":"OPER"},{"$f":"'12.2018 Data'!F214","v":16668824.720000001},{"$f":"'12.2018 Data'!G214","v":11690680.630000001},{"$f":"'12.2018 Data'!H214","v":3425278.1},{"$f":"'12.2018 Data'!I214","v":1552865.99},{"$f":"'12.2018 Data'!J214","v":0},"920",16668824.720000001,11690680.630000001,3425278.1,1552865.99,0,{"$f":"IF(ISNUMBER(MATCH($B234,'Org functional rollups'!$A:$A,0)),INDEX('Org functional rollups'!$D:$D,MATCH($B234,'Org functional rollups'!$A:$A,0)),0)","v":"Common"}]
[{"$f":"'12.2018 Data'!A215","v":"920000"},{"$f":"'12.2018 Data'!B215","v":"Z87"},{"$f":"'12.2018 Data'!C215","v":"CD"},{"$f":"'12.2018 Data'!D215","v":"ID"},{"$f":"'12.2018 Data'!E215","v":"OPER"},{"$f":"'12.2018 Data'!F215","v":85106.96},{"$f":"'12.2018 Data'!G215","v":66140.94},{"$f":"'12.2018 Data'!H215","v":18966.02},{"$f":"'12.2018 Data'!I215","v":0},{"$f":"'12.2018 Data'!J215","v":0},"920",85106.96,66140.94,18966.02,0,0,{"$f":"IF(ISNUMBER(MATCH($B235,'Org functional rollups'!$A:$A,0)),INDEX('Org functional rollups'!$D:$D,MATCH($B235,'Org functional rollups'!$A:$A,0)),0)","v":"Common"}]
[{"$f":"'12.2018 Data'!A216","v":"920000"},{"$f":"'12.2018 Data'!B216","v":"Z88"},{"$f":"'12.2018 Data'!C216","v":"CD"},{"$f":"'12.2018 Data'!D216","v":"AA"},{"$f":"'12.2018 Data'!E216","v":"OPER"},{"$f":"'12.2018 Data'!F216","v":47590},{"$f":"'12.2018 Data'!G216","v":33377.26},{"$f":"'12.2018 Data'!H216","v":9779.27},{"$f":"'12.2018 Data'!I216","v":4433.47},{"$f":"'12.2018 Data'!J216","v":0},"920",47590,33377.26,9779.27,4433.47,0,{"$f":"IF(ISNUMBER(MATCH($B236,'Org functional rollups'!$A:$A,0)),INDEX('Org functional rollups'!$D:$D,MATCH($B236,'Org functional rollups'!$A:$A,0)),0)","v":"Distribution"}]
[{"$f":"'12.2018 Data'!A217","v":"920000"},{"$f":"'12.2018 Data'!B217","v":"Z88"},{"$f":"'12.2018 Data'!C217","v":"CD"},{"$f":"'12.2018 Data'!D217","v":"AN"},{"$f":"'12.2018 Data'!E217","v":"OPER"},{"$f":"'12.2018 Data'!F217","v":646.79999999999995},{"$f":"'12.2018 Data'!G217","v":502.66},{"$f":"'12.2018 Data'!H217","v":144.13999999999999},{"$f":"'12.2018 Data'!I217","v":0},{"$f":"'12.2018 Data'!J217","v":0},"920",646.79999999999995,502.66,144.13999999999999,0,0,{"$f":"IF(ISNUMBER(MATCH($B237,'Org functional rollups'!$A:$A,0)),INDEX('Org functional rollups'!$D:$D,MATCH($B237,'Org functional rollups'!$A:$A,0)),0)","v":"Distribution"}]
[{"$f":"'12.2018 Data'!A218","v":"920000"},{"$f":"'12.2018 Data'!B218","v":"Z88"},{"$f":"'12.2018 Data'!C218","v":"ED"},{"$f":"'12.2018 Data'!D218","v":"AN"},{"$f":"'12.2018 Data'!E218","v":"OPER"},{"$f":"'12.2018 Data'!F218","v":788.2},{"$f":"'12.2018 Data'!G218","v":788.2},{"$f":"'12.2018 Data'!H218","v":0},{"$f":"'12.2018 Data'!I218","v":0},{"$f":"'12.2018 Data'!J218","v":0},"920",788.2,788.2,0,0,0,{"$f":"IF(ISNUMBER(MATCH($B238,'Org functional rollups'!$A:$A,0)),INDEX('Org functional rollups'!$D:$D,MATCH($B238,'Org functional rollups'!$A:$A,0)),0)","v":"Distribution"}]
[{"$f":"'12.2018 Data'!A219","v":"920000"},{"$f":"'12.2018 Data'!B219","v":"Z89"},{"$f":"'12.2018 Data'!C219","v":"CD"},{"$f":"'12.2018 Data'!D219","v":"AA"},{"$f":"'12.2018 Data'!E219","v":"OPER"},{"$f":"'12.2018 Data'!F219","v":169658.27},{"$f":"'12.2018 Data'!G219","v":118989.83},{"$f":"'12.2018 Data'!H219","v":34863.08},{"$f":"'12.2018 Data'!I219","v":15805.36},{"$f":"'12.2018 Data'!J219","v":0},"920",169658.27,118989.83,34863.08,15805.36,0,{"$f":"IF(ISNUMBER(MATCH($B239,'Org functional rollups'!$A:$A,0)),INDEX('Org functional rollups'!$D:$D,MATCH($B239,'Org functional rollups'!$A:$A,0)),0)","v":"Common"}]
[{"$f":"'12.2018 Data'!A220","v":"920000"},{"$f":"'12.2018 Data'!B220","v":"Z89"},{"$f":"'12.2018 Data'!C220","v":"CD"},{"$f":"'12.2018 Data'!D220","v":"AN"},{"$f":"'12.2018 Data'!E220","v":"OPER"},{"$f":"'12.2018 Data'!F220","v":3180.44},{"$f":"'12.2018 Data'!G220","v":2471.67},{"$f":"'12.2018 Data'!H220","v":708.77},{"$f":"'12.2018 Data'!I220","v":0},{"$f":"'12.2018 Data'!J220","v":0},"920",3180.44,2471.67,708.77,0,0,{"$f":"IF(ISNUMBER(MATCH($B240,'Org functional rollups'!$A:$A,0)),INDEX('Org functional rollups'!$D:$D,MATCH($B240,'Org functional rollups'!$A:$A,0)),0)","v":"Common"}]
[{"$f":"'12.2018 Data'!A221","v":"920000"},{"$f":"'12.2018 Data'!B221","v":"Z89"},{"$f":"'12.2018 Data'!C221","v":"ED"},{"$f":"'12.2018 Data'!D221","v":"WA"},{"$f":"'12.2018 Data'!E221","v":"OPER"},{"$f":"'12.2018 Data'!F221","v":679.8},{"$f":"'12.2018 Data'!G221","v":679.8},{"$f":"'12.2018 Data'!H221","v":0},{"$f":"'12.2018 Data'!I221","v":0},{"$f":"'12.2018 Data'!J221","v":0},"920",679.8,679.8,0,0,0,{"$f":"IF(ISNUMBER(MATCH($B241,'Org functional rollups'!$A:$A,0)),INDEX('Org functional rollups'!$D:$D,MATCH($B241,'Org functional rollups'!$A:$A,0)),0)","v":"Common"}]
[{"$f":"'12.2018 Data'!A222","v":"920000"},{"$f":"'12.2018 Data'!B222","v":"Z89"},{"$f":"'12.2018 Data'!C222","v":"CD"},{"$f":"'12.2018 Data'!D222","v":"ID"},{"$f":"'12.2018 Data'!E222","v":"OPER"},{"$f":"'12.2018 Data'!F222","v":1121.8499999999999},{"$f":"'12.2018 Data'!G222","v":871.85},{"$f":"'12.2018 Data'!H222","v":250},{"$f":"'12.2018 Data'!I222","v":0},{"$f":"'12.2018 Data'!J222","v":0},"920",1121.8499999999999,871.85,250,0,0,{"$f":"IF(ISNUMBER(MATCH($B242,'Org functional rollups'!$A:$A,0)),INDEX('Org functional rollups'!$D:$D,MATCH($B242,'Org functional rollups'!$A:$A,0)),0)","v":"Common"}]
[{"$f":"'12.2018 Data'!A223","v":"920000"},{"$f":"'12.2018 Data'!B223","v":"Z89"},{"$f":"'12.2018 Data'!C223","v":"CD"},{"$f":"'12.2018 Data'!D223","v":"WA"},{"$f":"'12.2018 Data'!E223","v":"OPER"},{"$f":"'12.2018 Data'!F223","v":3214.95},{"$f":"'12.2018 Data'!G223","v":2498.48},{"$f":"'12.2018 Data'!H223","v":716.47},{"$f":"'12.2018 Data'!I223","v":0},{"$f":"'12.2018 Data'!J223","v":0},"920",3214.95,2498.48,716.47,0,0,{"$f":"IF(ISNUMBER(MATCH($B243,'Org functional rollups'!$A:$A,0)),INDEX('Org functional rollups'!$D:$D,MATCH($B243,'Org functional rollups'!$A:$A,0)),0)","v":"Common"}]
[{"$f":"'12.2018 Data'!A224","v":"920000"},{"$f":"'12.2018 Data'!B224","v":"Z89"},{"$f":"'12.2018 Data'!C224","v":"GD"},{"$f":"'12.2018 Data'!D224","v":"AA"},{"$f":"'12.2018 Data'!E224","v":"OPER"},{"$f":"'12.2018 Data'!F224","v":725.01},{"$f":"'12.2018 Data'!G224","v":0},{"$f":"'12.2018 Data'!H224","v":497.09},{"$f":"'12.2018 Data'!I224","v":227.92},{"$f":"'12.2018 Data'!J224","v":0},"920",725.01,0,497.09,227.92,0,{"$f":"IF(ISNUMBER(MATCH($B244,'Org functional rollups'!$A:$A,0)),INDEX('Org functional rollups'!$D:$D,MATCH($B244,'Org functional rollups'!$A:$A,0)),0)","v":"Common"}]
[{"$f":"'12.2018 Data'!A225","v":"920000"},{"$f":"'12.2018 Data'!B225","v":"Z89"},{"$f":"'12.2018 Data'!C225","v":"ED"},{"$f":"'12.2018 Data'!D225","v":"AN"},{"$f":"'12.2018 Data'!E225","v":"OPER"},{"$f":"'12.2018 Data'!F225","v":5968.03},{"$f":"'12.2018 Data'!G225","v":5968.03},{"$f":"'12.2018 Data'!H225","v":0},{"$f":"'12.2018 Data'!I225","v":0},{"$f":"'12.2018 Data'!J225","v":0},"920",5968.03,5968.03,0,0,0,{"$f":"IF(ISNUMBER(MATCH($B245,'Org functional rollups'!$A:$A,0)),INDEX('Org functional rollups'!$D:$D,MATCH($B245,'Org functional rollups'!$A:$A,0)),0)","v":"Common"}]
[{"$f":"'12.2018 Data'!A226","v":"920000"},{"$f":"'12.2018 Data'!B226","v":"Z89"},{"$f":"'12.2018 Data'!C226","v":"GD"},{"$f":"'12.2018 Data'!D226","v":"OR"},{"$f":"'12.2018 Data'!E226","v":"OPER"},{"$f":"'12.2018 Data'!F226","v":309.89999999999998},{"$f":"'12.2018 Data'!G226","v":0},{"$f":"'12.2018 Data'!H226","v":0},{"$f":"'12.2018 Data'!I226","v":309.89999999999998},{"$f":"'12.2018 Data'!J226","v":0},"920",309.89999999999998,0,0,309.89999999999998,0,{"$f":"IF(ISNUMBER(MATCH($B246,'Org functional rollups'!$A:$A,0)),INDEX('Org functional rollups'!$D:$D,MATCH($B246,'Org functional rollups'!$A:$A,0)),0)","v":"Common"}]
[{"$f":"'12.2018 Data'!A227","v":"920000"},{"$f":"'12.2018 Data'!B227","v":"Z90"},{"$f":"'12.2018 Data'!C227","v":"ED"},{"$f":"'12.2018 Data'!D227","v":"WA"},{"$f":"'12.2018 Data'!E227","v":"OPER"},{"$f":"'12.2018 Data'!F227","v":4056.38},{"$f":"'12.2018 Data'!G227","v":4056.38},{"$f":"'12.2018 Data'!H227","v":0},{"$f":"'12.2018 Data'!I227","v":0},{"$f":"'12.2018 Data'!J227","v":0},"920",4056.38,4056.38,0,0,0,{"$f":"IF(ISNUMBER(MATCH($B247,'Org functional rollups'!$A:$A,0)),INDEX('Org functional rollups'!$D:$D,MATCH($B247,'Org functional rollups'!$A:$A,0)),0)","v":"Common"}]
[{"$f":"'12.2018 Data'!A228","v":"920000"},{"$f":"'12.2018 Data'!B228","v":"Z90"},{"$f":"'12.2018 Data'!C228","v":"GD"},{"$f":"'12.2018 Data'!D228","v":"OR"},{"$f":"'12.2018 Data'!E228","v":"OPER"},{"$f":"'12.2018 Data'!F228","v":7001.31},{"$f":"'12.2018 Data'!G228","v":0},{"$f":"'12.2018 Data'!H228","v":0},{"$f":"'12.2018 Data'!I228","v":7001.31},{"$f":"'12.2018 Data'!J228","v":0},"920",7001.31,0,0,7001.31,0,{"$f":"IF(ISNUMBER(MATCH($B248,'Org functional rollups'!$A:$A,0)),INDEX('Org functional rollups'!$D:$D,MATCH($B248,'Org functional rollups'!$A:$A,0)),0)","v":"Common"}]
[{"$f":"'12.2018 Data'!A229","v":"920000"},{"$f":"'12.2018 Data'!B229","v":"Z90"},{"$f":"'12.2018 Data'!C229","v":"CD"},{"$f":"'12.2018 Data'!D229","v":"AN"},{"$f":"'12.2018 Data'!E229","v":"OPER"},{"$f":"'12.2018 Data'!F229","v":37851.89},{"$f":"'12.2018 Data'!G229","v":29416.59},{"$f":"'12.2018 Data'!H229","v":8435.2999999999993},{"$f":"'12.2018 Data'!I229","v":0},{"$f":"'12.2018 Data'!J229","v":0},"920",37851.89,29416.59,8435.2999999999993,0,0,{"$f":"IF(ISNUMBER(MATCH($B249,'Org functional rollups'!$A:$A,0)),INDEX('Org functional rollups'!$D:$D,MATCH($B249,'Org functional rollups'!$A:$A,0)),0)","v":"Common"}]
[{"$f":"'12.2018 Data'!A230","v":"920000"},{"$f":"'12.2018 Data'!B230","v":"Z90"},{"$f":"'12.2018 Data'!C230","v":"CD"},{"$f":"'12.2018 Data'!D230","v":"WA"},{"$f":"'12.2018 Data'!E230","v":"OPER"},{"$f":"'12.2018 Data'!F230","v":38105.89},{"$f":"'12.2018 Data'!G230","v":29613.88},{"$f":"'12.2018 Data'!H230","v":8492.01},{"$f":"'12.2018 Data'!I230","v":0},{"$f":"'12.2018 Data'!J230","v":0},"920",38105.89,29613.88,8492.01,0,0,{"$f":"IF(ISNUMBER(MATCH($B250,'Org functional rollups'!$A:$A,0)),INDEX('Org functional rollups'!$D:$D,MATCH($B250,'Org functional rollups'!$A:$A,0)),0)","v":"Common"}]
[{"$f":"'12.2018 Data'!A231","v":"920000"},{"$f":"'12.2018 Data'!B231","v":"Z90"},{"$f":"'12.2018 Data'!C231","v":"CD"},{"$f":"'12.2018 Data'!D231","v":"ID"},{"$f":"'12.2018 Data'!E231","v":"OPER"},{"$f":"'12.2018 Data'!F231","v":15831.93},{"$f":"'12.2018 Data'!G231","v":12303.81},{"$f":"'12.2018 Data'!H231","v":3528.12},{"$f":"'12.2018 Data'!I231","v":0},{"$f":"'12.2018 Data'!J231","v":0},"920",15831.93,12303.81,3528.12,0,0,{"$f":"IF(ISNUMBER(MATCH($B251,'Org functional rollups'!$A:$A,0)),INDEX('Org functional rollups'!$D:$D,MATCH($B251,'Org functional rollups'!$A:$A,0)),0)","v":"Common"}]
[{"$f":"'12.2018 Data'!A232","v":"920000"},{"$f":"'12.2018 Data'!B232","v":"Z90"},{"$f":"'12.2018 Data'!C232","v":"ED"},{"$f":"'12.2018 Data'!D232","v":"AN"},{"$f":"'12.2018 Data'!E232","v":"OPER"},{"$f":"'12.2018 Data'!F232","v":138359.67000000001},{"$f":"'12.2018 Data'!G232","v":138359.67000000001},{"$f":"'12.2018 Data'!H232","v":0},{"$f":"'12.2018 Data'!I232","v":0},{"$f":"'12.2018 Data'!J232","v":0},"920",138359.67000000001,138359.67000000001,0,0,0,{"$f":"IF(ISNUMBER(MATCH($B252,'Org functional rollups'!$A:$A,0)),INDEX('Org functional rollups'!$D:$D,MATCH($B252,'Org functional rollups'!$A:$A,0)),0)","v":"Common"}]
[{"$f":"'12.2018 Data'!A233","v":"920000"},{"$f":"'12.2018 Data'!B233","v":"Z90"},{"$f":"'12.2018 Data'!C233","v":"CD"},{"$f":"'12.2018 Data'!D233","v":"AA"},{"$f":"'12.2018 Data'!E233","v":"OPER"},{"$f":"'12.2018 Data'!F233","v":5182175.0999999996},{"$f":"'12.2018 Data'!G233","v":3634518.54},{"$f":"'12.2018 Data'!H233","v":1064885.45},{"$f":"'12.2018 Data'!I233","v":482771.11},{"$f":"'12.2018 Data'!J233","v":0},"920",5182175.0999999996,3634518.54,1064885.45,482771.11,0,{"$f":"IF(ISNUMBER(MATCH($B253,'Org functional rollups'!$A:$A,0)),INDEX('Org functional rollups'!$D:$D,MATCH($B253,'Org functional rollups'!$A:$A,0)),0)","v":"Common"}]
[{"$f":"'12.2018 Data'!A234","v":"920000"},{"$f":"'12.2018 Data'!B234","v":"Z90"},{"$f":"'12.2018 Data'!C234","v":"GD"},{"$f":"'12.2018 Data'!D234","v":"AA"},{"$f":"'12.2018 Data'!E234","v":"OPER"},{"$f":"'12.2018 Data'!F234","v":26832.55},{"$f":"'12.2018 Data'!G234","v":0},{"$f":"'12.2018 Data'!H234","v":18396.919999999998},{"$f":"'12.2018 Data'!I234","v":8435.6299999999992},{"$f":"'12.2018 Data'!J234","v":0},"920",26832.55,0,18396.919999999998,8435.6299999999992,0,{"$f":"IF(ISNUMBER(MATCH($B254,'Org functional rollups'!$A:$A,0)),INDEX('Org functional rollups'!$D:$D,MATCH($B254,'Org functional rollups'!$A:$A,0)),0)","v":"Common"}]
[{"$f":"'12.2018 Data'!A235","v":"921000"},{"$f":"'12.2018 Data'!B235","v":"000"},{"$f":"'12.2018 Data'!C235","v":"GD"},{"$f":"'12.2018 Data'!D235","v":"OR"},{"$f":"'12.2018 Data'!E235","v":"OPER"},{"$f":"'12.2018 Data'!F235","v":23.98},{"$f":"'12.2018 Data'!G235","v":0},{"$f":"'12.2018 Data'!H235","v":0},{"$f":"'12.2018 Data'!I235","v":23.98},{"$f":"'12.2018 Data'!J235","v":0},"921",23.98,0,0,23.98,0,{"$f":"IF(ISNUMBER(MATCH($B255,'Org functional rollups'!$A:$A,0)),INDEX('Org functional rollups'!$D:$D,MATCH($B255,'Org functional rollups'!$A:$A,0)),0)","v":"Common"}]
[{"$f":"'12.2018 Data'!A236","v":"921000"},{"$f":"'12.2018 Data'!B236","v":"000"},{"$f":"'12.2018 Data'!C236","v":"CD"},{"$f":"'12.2018 Data'!D236","v":"WA"},{"$f":"'12.2018 Data'!E236","v":"OPER"},{"$f":"'12.2018 Data'!F236","v":53.57},{"$f":"'12.2018 Data'!G236","v":41.63},{"$f":"'12.2018 Data'!H236","v":11.94},{"$f":"'12.2018 Data'!I236","v":0},{"$f":"'12.2018 Data'!J236","v":0},"921",53.57,41.63,11.94,0,0,{"$f":"IF(ISNUMBER(MATCH($B256,'Org functional rollups'!$A:$A,0)),INDEX('Org functional rollups'!$D:$D,MATCH($B256,'Org functional rollups'!$A:$A,0)),0)","v":"Common"}]
[{"$f":"'12.2018 Data'!A237","v":"921000"},{"$f":"'12.2018 Data'!B237","v":"000"},{"$f":"'12.2018 Data'!C237","v":"GD"},{"$f":"'12.2018 Data'!D237","v":"AA"},{"$f":"'12.2018 Data'!E237","v":"OPER"},{"$f":"'12.2018 Data'!F237","v":45},{"$f":"'12.2018 Data'!G237","v":0},{"$f":"'12.2018 Data'!H237","v":30.85},{"$f":"'12.2018 Data'!I237","v":14.15},{"$f":"'12.2018 Data'!J237","v":0},"921",45,0,30.85,14.15,0,{"$f":"IF(ISNUMBER(MATCH($B257,'Org functional rollups'!$A:$A,0)),INDEX('Org functional rollups'!$D:$D,MATCH($B257,'Org functional rollups'!$A:$A,0)),0)","v":"Common"}]
[{"$f":"'12.2018 Data'!A238","v":"921000"},{"$f":"'12.2018 Data'!B238","v":"000"},{"$f":"'12.2018 Data'!C238","v":"ED"},{"$f":"'12.2018 Data'!D238","v":"AN"},{"$f":"'12.2018 Data'!E238","v":"OPER"},{"$f":"'12.2018 Data'!F238","v":102.87},{"$f":"'12.2018 Data'!G238","v":102.87},{"$f":"'12.2018 Data'!H238","v":0},{"$f":"'12.2018 Data'!I238","v":0},{"$f":"'12.2018 Data'!J238","v":0},"921",102.87,102.87,0,0,0,{"$f":"IF(ISNUMBER(MATCH($B258,'Org functional rollups'!$A:$A,0)),INDEX('Org functional rollups'!$D:$D,MATCH($B258,'Org functional rollups'!$A:$A,0)),0)","v":"Common"}]
[{"$f":"'12.2018 Data'!A239","v":"921000"},{"$f":"'12.2018 Data'!B239","v":"000"},{"$f":"'12.2018 Data'!C239","v":"CD"},{"$f":"'12.2018 Data'!D239","v":"AN"},{"$f":"'12.2018 Data'!E239","v":"OPER"},{"$f":"'12.2018 Data'!F239","v":177.23},{"$f":"'12.2018 Data'!G239","v":137.72999999999999},{"$f":"'12.2018 Data'!H239","v":39.5},{"$f":"'12.2018 Data'!I239","v":0},{"$f":"'12.2018 Data'!J239","v":0},"921",177.23,137.72999999999999,39.5,0,0,{"$f":"IF(ISNUMBER(MATCH($B259,'Org functional rollups'!$A:$A,0)),INDEX('Org functional rollups'!$D:$D,MATCH($B259,'Org functional rollups'!$A:$A,0)),0)","v":"Common"}]
[{"$f":"'12.2018 Data'!A240","v":"921000"},{"$f":"'12.2018 Data'!B240","v":"000"},{"$f":"'12.2018 Data'!C240","v":"CD"},{"$f":"'12.2018 Data'!D240","v":"AA"},{"$f":"'12.2018 Data'!E240","v":"OPER"},{"$f":"'12.2018 Data'!F240","v":19126.22},{"$f":"'12.2018 Data'!G240","v":13414.17},{"$f":"'12.2018 Data'!H240","v":3930.25},{"$f":"'12.2018 Data'!I240","v":1781.8},{"$f":"'12.2018 Data'!J240","v":0},"921",19126.22,13414.17,3930.25,1781.8,0,{"$f":"IF(ISNUMBER(MATCH($B260,'Org functional rollups'!$A:$A,0)),INDEX('Org functional rollups'!$D:$D,MATCH($B260,'Org functional rollups'!$A:$A,0)),0)","v":"Common"}]
[{"$f":"'12.2018 Data'!A241","v":"921000"},{"$f":"'12.2018 Data'!B241","v":"000"},{"$f":"'12.2018 Data'!C241","v":"ED"},{"$f":"'12.2018 Data'!D241","v":"WA"},{"$f":"'12.2018 Data'!E241","v":"OPER"},{"$f":"'12.2018 Data'!F241","v":78.98},{"$f":"'12.2018 Data'!G241","v":78.98},{"$f":"'12.2018 Data'!H241","v":0},{"$f":"'12.2018 Data'!I241","v":0},{"$f":"'12.2018 Data'!J241","v":0},"921",78.98,78.98,0,0,0,{"$f":"IF(ISNUMBER(MATCH($B261,'Org functional rollups'!$A:$A,0)),INDEX('Org functional rollups'!$D:$D,MATCH($B261,'Org functional rollups'!$A:$A,0)),0)","v":"Common"}]
[{"$f":"'12.2018 Data'!A242","v":"921000"},{"$f":"'12.2018 Data'!B242","v":"A01"},{"$f":"'12.2018 Data'!C242","v":"ED"},{"$f":"'12.2018 Data'!D242","v":"AN"},{"$f":"'12.2018 Data'!E242","v":"OPER"},{"$f":"'12.2018 Data'!F242","v":6457.16},{"$f":"'12.2018 Data'!G242","v":6457.16},{"$f":"'12.2018 Data'!H242","v":0},{"$f":"'12.2018 Data'!I242","v":0},{"$f":"'12.2018 Data'!J242","v":0},"921",6457.16,6457.16,0,0,0,{"$f":"IF(ISNUMBER(MATCH($B262,'Org functional rollups'!$A:$A,0)),INDEX('Org functional rollups'!$D:$D,MATCH($B262,'Org functional rollups'!$A:$A,0)),0)","v":"Production"}]
[{"$f":"'12.2018 Data'!A243","v":"921000"},{"$f":"'12.2018 Data'!B243","v":"A02"},{"$f":"'12.2018 Data'!C243","v":"CD"},{"$f":"'12.2018 Data'!D243","v":"AA"},{"$f":"'12.2018 Data'!E243","v":"OPER"},{"$f":"'12.2018 Data'!F243","v":8934.2199999999993},{"$f":"'12.2018 Data'!G243","v":6266.02},{"$f":"'12.2018 Data'!H243","v":1835.89},{"$f":"'12.2018 Data'!I243","v":832.31},{"$f":"'12.2018 Data'!J243","v":0},"921",8934.2199999999993,6266.02,1835.89,832.31,0,{"$f":"IF(ISNUMBER(MATCH($B263,'Org functional rollups'!$A:$A,0)),INDEX('Org functional rollups'!$D:$D,MATCH($B263,'Org functional rollups'!$A:$A,0)),0)","v":"Common"}]
[{"$f":"'12.2018 Data'!A244","v":"921000"},{"$f":"'12.2018 Data'!B244","v":"A04"},{"$f":"'12.2018 Data'!C244","v":"CD"},{"$f":"'12.2018 Data'!D244","v":"AA"},{"$f":"'12.2018 Data'!E244","v":"OPER"},{"$f":"'12.2018 Data'!F244","v":783.86},{"$f":"'12.2018 Data'!G244","v":549.78},{"$f":"'12.2018 Data'!H244","v":161.04},{"$f":"'12.2018 Data'!I244","v":73.040000000000006},{"$f":"'12.2018 Data'!J244","v":0},"921",783.86,549.78,161.04,73.040000000000006,0,{"$f":"IF(ISNUMBER(MATCH($B264,'Org functional rollups'!$A:$A,0)),INDEX('Org functional rollups'!$D:$D,MATCH($B264,'Org functional rollups'!$A:$A,0)),0)","v":"Production"}]
[{"$f":"'12.2018 Data'!A245","v":"921000"},{"$f":"'12.2018 Data'!B245","v":"A04"},{"$f":"'12.2018 Data'!C245","v":"CD"},{"$f":"'12.2018 Data'!D245","v":"AN"},{"$f":"'12.2018 Data'!E245","v":"OPER"},{"$f":"'12.2018 Data'!F245","v":0},{"$f":"'12.2018 Data'!G245","v":0},{"$f":"'12.2018 Data'!H245","v":0},{"$f":"'12.2018 Data'!I245","v":0},{"$f":"'12.2018 Data'!J245","v":0},"921",0,0,0,0,0,{"$f":"IF(ISNUMBER(MATCH($B265,'Org functional rollups'!$A:$A,0)),INDEX('Org functional rollups'!$D:$D,MATCH($B265,'Org functional rollups'!$A:$A,0)),0)","v":"Production"}]
[{"$f":"'12.2018 Data'!A246","v":"921000"},{"$f":"'12.2018 Data'!B246","v":"A07"},{"$f":"'12.2018 Data'!C246","v":"CD"},{"$f":"'12.2018 Data'!D246","v":"AA"},{"$f":"'12.2018 Data'!E246","v":"OPER"},{"$f":"'12.2018 Data'!F246","v":2130.9},{"$f":"'12.2018 Data'!G246","v":1494.56},{"$f":"'12.2018 Data'!H246","v":437.8},{"$f":"'12.2018 Data'!I246","v":198.54},{"$f":"'12.2018 Data'!J246","v":0},"921",2130.9,1494.56,437.8,198.54,0,{"$f":"IF(ISNUMBER(MATCH($B266,'Org functional rollups'!$A:$A,0)),INDEX('Org functional rollups'!$D:$D,MATCH($B266,'Org functional rollups'!$A:$A,0)),0)","v":"Production"}]
[{"$f":"'12.2018 Data'!A247","v":"921000"},{"$f":"'12.2018 Data'!B247","v":"A08"},{"$f":"'12.2018 Data'!C247","v":"CD"},{"$f":"'12.2018 Data'!D247","v":"AA"},{"$f":"'12.2018 Data'!E247","v":"OPER"},{"$f":"'12.2018 Data'!F247","v":2160.54},{"$f":"'12.2018 Data'!G247","v":1515.33},{"$f":"'12.2018 Data'!H247","v":443.9},{"$f":"'12.2018 Data'!I247","v":201.31},{"$f":"'12.2018 Data'!J247","v":0},"921",2160.54,1515.33,443.9,201.31,0,{"$f":"IF(ISNUMBER(MATCH($B267,'Org functional rollups'!$A:$A,0)),INDEX('Org functional rollups'!$D:$D,MATCH($B267,'Org functional rollups'!$A:$A,0)),0)","v":"Distribution"}]
[{"$f":"'12.2018 Data'!A248","v":"921000"},{"$f":"'12.2018 Data'!B248","v":"A19"},{"$f":"'12.2018 Data'!C248","v":"CD"},{"$f":"'12.2018 Data'!D248","v":"AA"},{"$f":"'12.2018 Data'!E248","v":"OPER"},{"$f":"'12.2018 Data'!F248","v":748.77},{"$f":"'12.2018 Data'!G248","v":525.16999999999996},{"$f":"'12.2018 Data'!H248","v":153.84},{"$f":"'12.2018 Data'!I248","v":69.760000000000005},{"$f":"'12.2018 Data'!J248","v":0},"921",748.77,525.16999999999996,153.84,69.760000000000005,0,{"$f":"IF(ISNUMBER(MATCH($B268,'Org functional rollups'!$A:$A,0)),INDEX('Org functional rollups'!$D:$D,MATCH($B268,'Org functional rollups'!$A:$A,0)),0)","v":"Common"}]
[{"$f":"'12.2018 Data'!A249","v":"921000"},{"$f":"'12.2018 Data'!B249","v":"A19"},{"$f":"'12.2018 Data'!C249","v":"CD"},{"$f":"'12.2018 Data'!D249","v":"AN"},{"$f":"'12.2018 Data'!E249","v":"OPER"},{"$f":"'12.2018 Data'!F249","v":19.579999999999998},{"$f":"'12.2018 Data'!G249","v":15.22},{"$f":"'12.2018 Data'!H249","v":4.3600000000000003},{"$f":"'12.2018 Data'!I249","v":0},{"$f":"'12.2018 Data'!J249","v":0},"921",19.579999999999998,15.22,4.3600000000000003,0,0,{"$f":"IF(ISNUMBER(MATCH($B269,'Org functional rollups'!$A:$A,0)),INDEX('Org functional rollups'!$D:$D,MATCH($B269,'Org functional rollups'!$A:$A,0)),0)","v":"Common"}]
[{"$f":"'12.2018 Data'!A250","v":"921000"},{"$f":"'12.2018 Data'!B250","v":"A50"},{"$f":"'12.2018 Data'!C250","v":"CD"},{"$f":"'12.2018 Data'!D250","v":"AA"},{"$f":"'12.2018 Data'!E250","v":"OPER"},{"$f":"'12.2018 Data'!F250","v":3331},{"$f":"'12.2018 Data'!G250","v":2336.19},{"$f":"'12.2018 Data'!H250","v":684.48},{"$f":"'12.2018 Data'!I250","v":310.33},{"$f":"'12.2018 Data'!J250","v":0},"921",3331,2336.19,684.48,310.33,0,{"$f":"IF(ISNUMBER(MATCH($B270,'Org functional rollups'!$A:$A,0)),INDEX('Org functional rollups'!$D:$D,MATCH($B270,'Org functional rollups'!$A:$A,0)),0)","v":"Common"}]
[{"$f":"'12.2018 Data'!A251","v":"921000"},{"$f":"'12.2018 Data'!B251","v":"A53"},{"$f":"'12.2018 Data'!C251","v":"CD"},{"$f":"'12.2018 Data'!D251","v":"AA"},{"$f":"'12.2018 Data'!E251","v":"OPER"},{"$f":"'12.2018 Data'!F251","v":11854.83},{"$f":"'12.2018 Data'!G251","v":8314.39},{"$f":"'12.2018 Data'!H251","v":2436.0500000000002},{"$f":"'12.2018 Data'!I251","v":1104.3900000000001},{"$f":"'12.2018 Data'!J251","v":0},"921",11854.83,8314.39,2436.0500000000002,1104.3900000000001,0,{"$f":"IF(ISNUMBER(MATCH($B271,'Org functional rollups'!$A:$A,0)),INDEX('Org functional rollups'!$D:$D,MATCH($B271,'Org functional rollups'!$A:$A,0)),0)","v":"Common"}]
[{"$f":"'12.2018 Data'!A252","v":"921000"},{"$f":"'12.2018 Data'!B252","v":"A54"},{"$f":"'12.2018 Data'!C252","v":"CD"},{"$f":"'12.2018 Data'!D252","v":"AA"},{"$f":"'12.2018 Data'!E252","v":"OPER"},{"$f":"'12.2018 Data'!F252","v":190405.05},{"$f":"'12.2018 Data'!G252","v":133540.63},{"$f":"'12.2018 Data'!H252","v":39126.29},{"$f":"'12.2018 Data'!I252","v":17738.13},{"$f":"'12.2018 Data'!J252","v":0},"921",190405.05,133540.63,39126.29,17738.13,0,{"$f":"IF(ISNUMBER(MATCH($B272,'Org functional rollups'!$A:$A,0)),INDEX('Org functional rollups'!$D:$D,MATCH($B272,'Org functional rollups'!$A:$A,0)),0)","v":"Customer"}]
[{"$f":"'12.2018 Data'!A253","v":"921000"},{"$f":"'12.2018 Data'!B253","v":"A54"},{"$f":"'12.2018 Data'!C253","v":"CD"},{"$f":"'12.2018 Data'!D253","v":"WA"},{"$f":"'12.2018 Data'!E253","v":"OPER"},{"$f":"'12.2018 Data'!F253","v":323},{"$f":"'12.2018 Data'!G253","v":251.02},{"$f":"'12.2018 Data'!H253","v":71.98},{"$f":"'12.2018 Data'!I253","v":0},{"$f":"'12.2018 Data'!J253","v":0},"921",323,251.02,71.98,0,0,{"$f":"IF(ISNUMBER(MATCH($B273,'Org functional rollups'!$A:$A,0)),INDEX('Org functional rollups'!$D:$D,MATCH($B273,'Org functional rollups'!$A:$A,0)),0)","v":"Customer"}]
[{"$f":"'12.2018 Data'!A254","v":"921000"},{"$f":"'12.2018 Data'!B254","v":"A56"},{"$f":"'12.2018 Data'!C254","v":"CD"},{"$f":"'12.2018 Data'!D254","v":"AA"},{"$f":"'12.2018 Data'!E254","v":"OPER"},{"$f":"'12.2018 Data'!F254","v":40.28},{"$f":"'12.2018 Data'!G254","v":28.25},{"$f":"'12.2018 Data'!H254","v":8.2799999999999994},{"$f":"'12.2018 Data'!I254","v":3.75},{"$f":"'12.2018 Data'!J254","v":0},"921",40.28,28.25,8.2799999999999994,3.75,0,{"$f":"IF(ISNUMBER(MATCH($B274,'Org functional rollups'!$A:$A,0)),INDEX('Org functional rollups'!$D:$D,MATCH($B274,'Org functional rollups'!$A:$A,0)),0)","v":"Transmission"}]
[{"$f":"'12.2018 Data'!A255","v":"921000"},{"$f":"'12.2018 Data'!B255","v":"A57"},{"$f":"'12.2018 Data'!C255","v":"CD"},{"$f":"'12.2018 Data'!D255","v":"AA"},{"$f":"'12.2018 Data'!E255","v":"OPER"},{"$f":"'12.2018 Data'!F255","v":3672.96},{"$f":"'12.2018 Data'!G255","v":2576.06},{"$f":"'12.2018 Data'!H255","v":754.77},{"$f":"'12.2018 Data'!I255","v":342.13},{"$f":"'12.2018 Data'!J255","v":0},"921",3672.96,2576.06,754.77,342.13,0,{"$f":"IF(ISNUMBER(MATCH($B275,'Org functional rollups'!$A:$A,0)),INDEX('Org functional rollups'!$D:$D,MATCH($B275,'Org functional rollups'!$A:$A,0)),0)","v":"Common"}]
[{"$f":"'12.2018 Data'!A256","v":"921000"},{"$f":"'12.2018 Data'!B256","v":"A81"},{"$f":"'12.2018 Data'!C256","v":"CD"},{"$f":"'12.2018 Data'!D256","v":"AA"},{"$f":"'12.2018 Data'!E256","v":"OPER"},{"$f":"'12.2018 Data'!F256","v":619.66},{"$f":"'12.2018 Data'!G256","v":434.61},{"$f":"'12.2018 Data'!H256","v":127.32},{"$f":"'12.2018 Data'!I256","v":57.73},{"$f":"'12.2018 Data'!J256","v":0},"921",619.66,434.61,127.32,57.73,0,{"$f":"IF(ISNUMBER(MATCH($B276,'Org functional rollups'!$A:$A,0)),INDEX('Org functional rollups'!$D:$D,MATCH($B276,'Org functional rollups'!$A:$A,0)),0)","v":"Distribution"}]
[{"$f":"'12.2018 Data'!A257","v":"921000"},{"$f":"'12.2018 Data'!B257","v":"A81"},{"$f":"'12.2018 Data'!C257","v":"GD"},{"$f":"'12.2018 Data'!D257","v":"OR"},{"$f":"'12.2018 Data'!E257","v":"OPER"},{"$f":"'12.2018 Data'!F257","v":17623.95},{"$f":"'12.2018 Data'!G257","v":0},{"$f":"'12.2018 Data'!H257","v":0},{"$f":"'12.2018 Data'!I257","v":17623.95},{"$f":"'12.2018 Data'!J257","v":0},"921",17623.95,0,0,17623.95,0,{"$f":"IF(ISNUMBER(MATCH($B277,'Org functional rollups'!$A:$A,0)),INDEX('Org functional rollups'!$D:$D,MATCH($B277,'Org functional rollups'!$A:$A,0)),0)","v":"Distribution"}]
[{"$f":"'12.2018 Data'!A258","v":"921000"},{"$f":"'12.2018 Data'!B258","v":"A82"},{"$f":"'12.2018 Data'!C258","v":"GD"},{"$f":"'12.2018 Data'!D258","v":"OR"},{"$f":"'12.2018 Data'!E258","v":"OPER"},{"$f":"'12.2018 Data'!F258","v":2199.34},{"$f":"'12.2018 Data'!G258","v":0},{"$f":"'12.2018 Data'!H258","v":0},{"$f":"'12.2018 Data'!I258","v":2199.34},{"$f":"'12.2018 Data'!J258","v":0},"921",2199.34,0,0,2199.34,0,{"$f":"IF(ISNUMBER(MATCH($B278,'Org functional rollups'!$A:$A,0)),INDEX('Org functional rollups'!$D:$D,MATCH($B278,'Org functional rollups'!$A:$A,0)),0)","v":"Distribution"}]
[{"$f":"'12.2018 Data'!A259","v":"921000"},{"$f":"'12.2018 Data'!B259","v":"A82"},{"$f":"'12.2018 Data'!C259","v":"CD"},{"$f":"'12.2018 Data'!D259","v":"AA"},{"$f":"'12.2018 Data'!E259","v":"OPER"},{"$f":"'12.2018 Data'!F259","v":40.28},{"$f":"'12.2018 Data'!G259","v":28.25},{"$f":"'12.2018 Data'!H259","v":8.2799999999999994},{"$f":"'12.2018 Data'!I259","v":3.75},{"$f":"'12.2018 Data'!J259","v":0},{"$f":"LEFT(A279,3)","v":"921"},{"$f":"IF(ISNUMBER(F279),F279,0)","v":40.28},28.25,8.2799999999999994,3.75,0,{"$f":"IF(ISNUMBER(MATCH($B279,'Org functional rollups'!$A:$A,0)),INDEX('Org functional rollups'!$D:$D,MATCH($B279,'Org functional rollups'!$A:$A,0)),0)","v":"Distribution"}]
[{"$f":"'12.2018 Data'!A260","v":"921000"},{"$f":"'12.2018 Data'!B260","v":"A83"},{"$f":"'12.2018 Data'!C260","v":"CD"},{"$f":"'12.2018 Data'!D260","v":"AA"},{"$f":"'12.2018 Data'!E260","v":"OPER"},{"$f":"'12.2018 Data'!F260","v":71.260000000000005},{"$f":"'12.2018 Data'!G260","v":49.98},{"$f":"'12.2018 Data'!H260","v":14.64},{"$f":"'12.2018 Data'!I260","v":6.64},{"$f":"'12.2018 Data'!J260","v":0},"921",71.260000000000005,49.98,14.64,6.64,0,{"$f":"IF(ISNUMBER(MATCH($B280,'Org functional rollups'!$A:$A,0)),INDEX('Org functional rollups'!$D:$D,MATCH($B280,'Org functional rollups'!$A:$A,0)),0)","v":"Distribution"}]
[{"$f":"'12.2018 Data'!A261","v":"921000"},{"$f":"'12.2018 Data'!B261","v":"B02"},{"$f":"'12.2018 Data'!C261","v":"CD"},{"$f":"'12.2018 Data'!D261","v":"AA"},{"$f":"'12.2018 Data'!E261","v":"OPER"},{"$f":"'12.2018 Data'!F261","v":0},{"$f":"'12.2018 Data'!G261","v":0},{"$f":"'12.2018 Data'!H261","v":0},{"$f":"'12.2018 Data'!I261","v":0},{"$f":"'12.2018 Data'!J261","v":0},"921",0,0,0,0,0,{"$f":"IF(ISNUMBER(MATCH($B281,'Org functional rollups'!$A:$A,0)),INDEX('Org functional rollups'!$D:$D,MATCH($B281,'Org functional rollups'!$A:$A,0)),0)","v":"Common"}]
[{"$f":"'12.2018 Data'!A262","v":"921000"},{"$f":"'12.2018 Data'!B262","v":"B07"},{"$f":"'12.2018 Data'!C262","v":"CD"},{"$f":"'12.2018 Data'!D262","v":"AA"},{"$f":"'12.2018 Data'!E262","v":"OPER"},{"$f":"'12.2018 Data'!F262","v":5935.65},{"$f":"'12.2018 Data'!G262","v":4163.07},{"$f":"'12.2018 Data'!H262","v":1219.51},{"$f":"'12.2018 Data'!I262","v":553.07000000000005},{"$f":"'12.2018 Data'!J262","v":0},"921",5935.65,4163.07,1219.51,553.07000000000005,0,{"$f":"IF(ISNUMBER(MATCH($B282,'Org functional rollups'!$A:$A,0)),INDEX('Org functional rollups'!$D:$D,MATCH($B282,'Org functional rollups'!$A:$A,0)),0)","v":"Production"}]
[{"$f":"'12.2018 Data'!A263","v":"921000"},{"$f":"'12.2018 Data'!B263","v":"B08"},{"$f":"'12.2018 Data'!C263","v":"CD"},{"$f":"'12.2018 Data'!D263","v":"AA"},{"$f":"'12.2018 Data'!E263","v":"OPER"},{"$f":"'12.2018 Data'!F263","v":2947.05},{"$f":"'12.2018 Data'!G263","v":2066.98},{"$f":"'12.2018 Data'!H263","v":605.63},{"$f":"'12.2018 Data'!I263","v":274.44},{"$f":"'12.2018 Data'!J263","v":0},"921",2947.05,2066.98,605.63,274.44,0,{"$f":"IF(ISNUMBER(MATCH($B283,'Org functional rollups'!$A:$A,0)),INDEX('Org functional rollups'!$D:$D,MATCH($B283,'Org functional rollups'!$A:$A,0)),0)","v":"Customer"}]
[{"$f":"'12.2018 Data'!A264","v":"921000"},{"$f":"'12.2018 Data'!B264","v":"B09"},{"$f":"'12.2018 Data'!C264","v":"ED"},{"$f":"'12.2018 Data'!D264","v":"AN"},{"$f":"'12.2018 Data'!E264","v":"OPER"},{"$f":"'12.2018 Data'!F264","v":250.35},{"$f":"'12.2018 Data'!G264","v":250.35},{"$f":"'12.2018 Data'!H264","v":0},{"$f":"'12.2018 Data'!I264","v":0},{"$f":"'12.2018 Data'!J264","v":0},"921",250.35,250.35,0,0,0,{"$f":"IF(ISNUMBER(MATCH($B284,'Org functional rollups'!$A:$A,0)),INDEX('Org functional rollups'!$D:$D,MATCH($B284,'Org functional rollups'!$A:$A,0)),0)","v":"Common"}]
[{"$f":"'12.2018 Data'!A265","v":"921000"},{"$f":"'12.2018 Data'!B265","v":"B09"},{"$f":"'12.2018 Data'!C265","v":"CD"},{"$f":"'12.2018 Data'!D265","v":"AA"},{"$f":"'12.2018 Data'!E265","v":"OPER"},{"$f":"'12.2018 Data'!F265","v":11894.57},{"$f":"'12.2018 Data'!G265","v":8342.23},{"$f":"'12.2018 Data'!H265","v":2444.17},{"$f":"'12.2018 Data'!I265","v":1108.17},{"$f":"'12.2018 Data'!J265","v":0},"921",11894.57,8342.23,2444.17,1108.17,0,{"$f":"IF(ISNUMBER(MATCH($B285,'Org functional rollups'!$A:$A,0)),INDEX('Org functional rollups'!$D:$D,MATCH($B285,'Org functional rollups'!$A:$A,0)),0)","v":"Common"}]
[{"$f":"'12.2018 Data'!A266","v":"921000"},{"$f":"'12.2018 Data'!B266","v":"B09"},{"$f":"'12.2018 Data'!C266","v":"CD"},{"$f":"'12.2018 Data'!D266","v":"AN"},{"$f":"'12.2018 Data'!E266","v":"OPER"},{"$f":"'12.2018 Data'!F266","v":463.14},{"$f":"'12.2018 Data'!G266","v":359.93},{"$f":"'12.2018 Data'!H266","v":103.21},{"$f":"'12.2018 Data'!I266","v":0},{"$f":"'12.2018 Data'!J266","v":0},"921",463.14,359.93,103.21,0,0,{"$f":"IF(ISNUMBER(MATCH($B286,'Org functional rollups'!$A:$A,0)),INDEX('Org functional rollups'!$D:$D,MATCH($B286,'Org functional rollups'!$A:$A,0)),0)","v":"Common"}]
[{"$f":"'12.2018 Data'!A267","v":"921000"},{"$f":"'12.2018 Data'!B267","v":"B16"},{"$f":"'12.2018 Data'!C267","v":"CD"},{"$f":"'12.2018 Data'!D267","v":"AA"},{"$f":"'12.2018 Data'!E267","v":"OPER"},{"$f":"'12.2018 Data'!F267","v":47.63},{"$f":"'12.2018 Data'!G267","v":33.409999999999997},{"$f":"'12.2018 Data'!H267","v":9.7799999999999994},{"$f":"'12.2018 Data'!I267","v":4.4400000000000004},{"$f":"'12.2018 Data'!J267","v":0},"921",47.63,33.409999999999997,9.7799999999999994,4.4400000000000004,0,{"$f":"IF(ISNUMBER(MATCH($B287,'Org functional rollups'!$A:$A,0)),INDEX('Org functional rollups'!$D:$D,MATCH($B287,'Org functional rollups'!$A:$A,0)),0)","v":"Common"}]
[{"$f":"'12.2018 Data'!A268","v":"921000"},{"$f":"'12.2018 Data'!B268","v":"B50"},{"$f":"'12.2018 Data'!C268","v":"CD"},{"$f":"'12.2018 Data'!D268","v":"AA"},{"$f":"'12.2018 Data'!E268","v":"OPER"},{"$f":"'12.2018 Data'!F268","v":2288.6},{"$f":"'12.2018 Data'!G268","v":1605.12},{"$f":"'12.2018 Data'!H268","v":470.26},{"$f":"'12.2018 Data'!I268","v":213.22},{"$f":"'12.2018 Data'!J268","v":0},"921",2288.6,1605.12,470.26,213.22,0,{"$f":"IF(ISNUMBER(MATCH($B288,'Org functional rollups'!$A:$A,0)),INDEX('Org functional rollups'!$D:$D,MATCH($B288,'Org functional rollups'!$A:$A,0)),0)","v":"Distribution"}]
[{"$f":"'12.2018 Data'!A269","v":"921000"},{"$f":"'12.2018 Data'!B269","v":"B50"},{"$f":"'12.2018 Data'!C269","v":"CD"},{"$f":"'12.2018 Data'!D269","v":"AN"},{"$f":"'12.2018 Data'!E269","v":"OPER"},{"$f":"'12.2018 Data'!F269","v":838.49},{"$f":"'12.2018 Data'!G269","v":651.63},{"$f":"'12.2018 Data'!H269","v":186.86},{"$f":"'12.2018 Data'!I269","v":0},{"$f":"'12.2018 Data'!J269","v":0},"921",838.49,651.63,186.86,0,0,{"$f":"IF(ISNUMBER(MATCH($B289,'Org functional rollups'!$A:$A,0)),INDEX('Org functional rollups'!$D:$D,MATCH($B289,'Org functional rollups'!$A:$A,0)),0)","v":"Distribution"}]
[{"$f":"'12.2018 Data'!A270","v":"921000"},{"$f":"'12.2018 Data'!B270","v":"B51"},{"$f":"'12.2018 Data'!C270","v":"GD"},{"$f":"'12.2018 Data'!D270","v":"AA"},{"$f":"'12.2018 Data'!E270","v":"OPER"},{"$f":"'12.2018 Data'!F270","v":992.57},{"$f":"'12.2018 Data'!G270","v":0},{"$f":"'12.2018 Data'!H270","v":680.52},{"$f":"'12.2018 Data'!I270","v":312.05},{"$f":"'12.2018 Data'!J270","v":0},"921",992.57,0,680.52,312.05,0,{"$f":"IF(ISNUMBER(MATCH($B290,'Org functional rollups'!$A:$A,0)),INDEX('Org functional rollups'!$D:$D,MATCH($B290,'Org functional rollups'!$A:$A,0)),0)","v":"Distribution"}]
[{"$f":"'12.2018 Data'!A271","v":"921000"},{"$f":"'12.2018 Data'!B271","v":"B51"},{"$f":"'12.2018 Data'!C271","v":"CD"},{"$f":"'12.2018 Data'!D271","v":"AA"},{"$f":"'12.2018 Data'!E271","v":"OPER"},{"$f":"'12.2018 Data'!F271","v":1681.32},{"$f":"'12.2018 Data'!G271","v":1179.2},{"$f":"'12.2018 Data'!H271","v":345.48},{"$f":"'12.2018 Data'!I271","v":156.63999999999999},{"$f":"'12.2018 Data'!J271","v":0},"921",1681.32,1179.2,345.48,156.63999999999999,0,{"$f":"IF(ISNUMBER(MATCH($B291,'Org functional rollups'!$A:$A,0)),INDEX('Org functional rollups'!$D:$D,MATCH($B291,'Org functional rollups'!$A:$A,0)),0)","v":"Distribution"}]
[{"$f":"'12.2018 Data'!A272","v":"921000"},{"$f":"'12.2018 Data'!B272","v":"B52"},{"$f":"'12.2018 Data'!C272","v":"CD"},{"$f":"'12.2018 Data'!D272","v":"AA"},{"$f":"'12.2018 Data'!E272","v":"OPER"},{"$f":"'12.2018 Data'!F272","v":2524.5500000000002},{"$f":"'12.2018 Data'!G272","v":1770.6},{"$f":"'12.2018 Data'!H272","v":518.75},{"$f":"'12.2018 Data'!I272","v":235.2},{"$f":"'12.2018 Data'!J272","v":0},"921",2524.5500000000002,1770.6,518.75,235.2,0,{"$f":"IF(ISNUMBER(MATCH($B292,'Org functional rollups'!$A:$A,0)),INDEX('Org functional rollups'!$D:$D,MATCH($B292,'Org functional rollups'!$A:$A,0)),0)","v":"Distribution"}]
[{"$f":"'12.2018 Data'!A273","v":"921000"},{"$f":"'12.2018 Data'!B273","v":"B53"},{"$f":"'12.2018 Data'!C273","v":"CD"},{"$f":"'12.2018 Data'!D273","v":"AA"},{"$f":"'12.2018 Data'!E273","v":"OPER"},{"$f":"'12.2018 Data'!F273","v":285.04000000000002},{"$f":"'12.2018 Data'!G273","v":199.92},{"$f":"'12.2018 Data'!H273","v":58.56},{"$f":"'12.2018 Data'!I273","v":26.56},{"$f":"'12.2018 Data'!J273","v":0},"921",285.04000000000002,199.92,58.56,26.56,0,{"$f":"IF(ISNUMBER(MATCH($B293,'Org functional rollups'!$A:$A,0)),INDEX('Org functional rollups'!$D:$D,MATCH($B293,'Org functional rollups'!$A:$A,0)),0)","v":"Distribution"}]
[{"$f":"'12.2018 Data'!A274","v":"921000"},{"$f":"'12.2018 Data'!B274","v":"B54"},{"$f":"'12.2018 Data'!C274","v":"CD"},{"$f":"'12.2018 Data'!D274","v":"AA"},{"$f":"'12.2018 Data'!E274","v":"OPER"},{"$f":"'12.2018 Data'!F274","v":430.16},{"$f":"'12.2018 Data'!G274","v":301.7},{"$f":"'12.2018 Data'!H274","v":88.39},{"$f":"'12.2018 Data'!I274","v":40.07},{"$f":"'12.2018 Data'!J274","v":0},"921",430.16,{"$f":"IF(ISNUMBER(G294),G294,0)","v":301.7},{"$f":"IF(ISNUMBER(H294),H294,0)","v":88.39},{"$f":"IF(ISNUMBER(I294),I294,0)","v":40.07},{"$f":"IF(ISNUMBER(J294),J294,0)","v":0},{"$f":"IF(ISNUMBER(MATCH($B294,'Org functional rollups'!$A:$A,0)),INDEX('Org functional rollups'!$D:$D,MATCH($B294,'Org functional rollups'!$A:$A,0)),0)","v":"Distribution"}]
[{"$f":"'12.2018 Data'!A275","v":"921000"},{"$f":"'12.2018 Data'!B275","v":"B54"},{"$f":"'12.2018 Data'!C275","v":"GD"},{"$f":"'12.2018 Data'!D275","v":"AA"},{"$f":"'12.2018 Data'!E275","v":"OPER"},{"$f":"'12.2018 Data'!F275","v":1105.03},{"$f":"'12.2018 Data'!G275","v":0},{"$f":"'12.2018 Data'!H275","v":757.61},{"$f":"'12.2018 Data'!I275","v":347.42},{"$f":"'12.2018 Data'!J275","v":0},"921",1105.03,0,757.61,347.42,0,{"$f":"IF(ISNUMBER(MATCH($B295,'Org functional rollups'!$A:$A,0)),INDEX('Org functional rollups'!$D:$D,MATCH($B295,'Org functional rollups'!$A:$A,0)),0)","v":"Distribution"}]
[{"$f":"'12.2018 Data'!A276","v":"921000"},{"$f":"'12.2018 Data'!B276","v":"C02"},{"$f":"'12.2018 Data'!C276","v":"CD"},{"$f":"'12.2018 Data'!D276","v":"AA"},{"$f":"'12.2018 Data'!E276","v":"OPER"},{"$f":"'12.2018 Data'!F276","v":177},{"$f":"'12.2018 Data'!G276","v":124.14},{"$f":"'12.2018 Data'!H276","v":36.36},{"$f":"'12.2018 Data'!I276","v":16.5},{"$f":"'12.2018 Data'!J276","v":0},"921",177,124.14,36.36,16.5,0,{"$f":"IF(ISNUMBER(MATCH($B296,'Org functional rollups'!$A:$A,0)),INDEX('Org functional rollups'!$D:$D,MATCH($B296,'Org functional rollups'!$A:$A,0)),0)","v":"Common"}]
[{"$f":"'12.2018 Data'!A277","v":"921000"},{"$f":"'12.2018 Data'!B277","v":"C04"},{"$f":"'12.2018 Data'!C277","v":"CD"},{"$f":"'12.2018 Data'!D277","v":"AA"},{"$f":"'12.2018 Data'!E277","v":"OPER"},{"$f":"'12.2018 Data'!F277","v":1282.68},{"$f":"'12.2018 Data'!G277","v":899.64},{"$f":"'12.2018 Data'!H277","v":263.52},{"$f":"'12.2018 Data'!I277","v":119.52},{"$f":"'12.2018 Data'!J277","v":0},"921",1282.68,899.64,263.52,119.52,0,{"$f":"IF(ISNUMBER(MATCH($B297,'Org functional rollups'!$A:$A,0)),INDEX('Org functional rollups'!$D:$D,MATCH($B297,'Org functional rollups'!$A:$A,0)),0)","v":"Production"}]
[{"$f":"'12.2018 Data'!A278","v":"921000"},{"$f":"'12.2018 Data'!B278","v":"C04"},{"$f":"'12.2018 Data'!C278","v":"CD"},{"$f":"'12.2018 Data'!D278","v":"AN"},{"$f":"'12.2018 Data'!E278","v":"OPER"},{"$f":"'12.2018 Data'!F278","v":7787.48},{"$f":"'12.2018 Data'!G278","v":6052.06},{"$f":"'12.2018 Data'!H278","v":1735.42},{"$f":"'12.2018 Data'!I278","v":0},{"$f":"'12.2018 Data'!J278","v":0},"921",7787.48,6052.06,1735.42,0,0,{"$f":"IF(ISNUMBER(MATCH($B298,'Org functional rollups'!$A:$A,0)),INDEX('Org functional rollups'!$D:$D,MATCH($B298,'Org functional rollups'!$A:$A,0)),0)","v":"Production"}]
[{"$f":"'12.2018 Data'!A279","v":"921000"},{"$f":"'12.2018 Data'!B279","v":"C07"},{"$f":"'12.2018 Data'!C279","v":"CD"},{"$f":"'12.2018 Data'!D279","v":"AA"},{"$f":"'12.2018 Data'!E279","v":"OPER"},{"$f":"'12.2018 Data'!F279","v":3489.37},{"$f":"'12.2018 Data'!G279","v":2447.2800000000002},{"$f":"'12.2018 Data'!H279","v":717.05},{"$f":"'12.2018 Data'!I279","v":325.04000000000002},{"$f":"'12.2018 Data'!J279","v":0},"921",3489.37,2447.2800000000002,717.05,325.04000000000002,0,{"$f":"IF(ISNUMBER(MATCH($B299,'Org functional rollups'!$A:$A,0)),INDEX('Org functional rollups'!$D:$D,MATCH($B299,'Org functional rollups'!$A:$A,0)),0)","v":"Production"}]
[{"$f":"'12.2018 Data'!A280","v":"921000"},{"$f":"'12.2018 Data'!B280","v":"C08"},{"$f":"'12.2018 Data'!C280","v":"CD"},{"$f":"'12.2018 Data'!D280","v":"AN"},{"$f":"'12.2018 Data'!E280","v":"OPER"},{"$f":"'12.2018 Data'!F280","v":919.81},{"$f":"'12.2018 Data'!G280","v":714.83},{"$f":"'12.2018 Data'!H280","v":204.98},{"$f":"'12.2018 Data'!I280","v":0},{"$f":"'12.2018 Data'!J280","v":0},"921",919.81,714.83,204.98,0,0,{"$f":"IF(ISNUMBER(MATCH($B300,'Org functional rollups'!$A:$A,0)),INDEX('Org functional rollups'!$D:$D,MATCH($B300,'Org functional rollups'!$A:$A,0)),0)","v":"Distribution"}]
[{"$f":"'12.2018 Data'!A281","v":"921000"},{"$f":"'12.2018 Data'!B281","v":"C08"},{"$f":"'12.2018 Data'!C281","v":"CD"},{"$f":"'12.2018 Data'!D281","v":"AA"},{"$f":"'12.2018 Data'!E281","v":"OPER"},{"$f":"'12.2018 Data'!F281","v":11297.17},{"$f":"'12.2018 Data'!G281","v":7923.27},{"$f":"'12.2018 Data'!H281","v":2321.46},{"$f":"'12.2018 Data'!I281","v":1052.44},{"$f":"'12.2018 Data'!J281","v":0},"921",11297.17,7923.27,2321.46,1052.44,0,{"$f":"IF(ISNUMBER(MATCH($B301,'Org functional rollups'!$A:$A,0)),INDEX('Org functional rollups'!$D:$D,MATCH($B301,'Org functional rollups'!$A:$A,0)),0)","v":"Distribution"}]
[{"$f":"'12.2018 Data'!A282","v":"921000"},{"$f":"'12.2018 Data'!B282","v":"C09"},{"$f":"'12.2018 Data'!C282","v":"CD"},{"$f":"'12.2018 Data'!D282","v":"AA"},{"$f":"'12.2018 Data'!E282","v":"OPER"},{"$f":"'12.2018 Data'!F282","v":39871.21},{"$f":"'12.2018 Data'!G282","v":27963.77},{"$f":"'12.2018 Data'!H282","v":8192.9},{"$f":"'12.2018 Data'!I282","v":3714.54},{"$f":"'12.2018 Data'!J282","v":0},"921",39871.21,27963.77,8192.9,3714.54,0,{"$f":"IF(ISNUMBER(MATCH($B302,'Org functional rollups'!$A:$A,0)),INDEX('Org functional rollups'!$D:$D,MATCH($B302,'Org functional rollups'!$A:$A,0)),0)","v":"Common"}]
[{"$f":"'12.2018 Data'!A283","v":"921000"},{"$f":"'12.2018 Data'!B283","v":"C11"},{"$f":"'12.2018 Data'!C283","v":"CD"},{"$f":"'12.2018 Data'!D283","v":"AA"},{"$f":"'12.2018 Data'!E283","v":"OPER"},{"$f":"'12.2018 Data'!F283","v":6968.77},{"$f":"'12.2018 Data'!G283","v":4887.6400000000003},{"$f":"'12.2018 Data'!H283","v":1431.84},{"$f":"'12.2018 Data'!I283","v":649.29},{"$f":"'12.2018 Data'!J283","v":0},"921",6968.77,4887.6400000000003,1431.84,649.29,0,{"$f":"IF(ISNUMBER(MATCH($B303,'Org functional rollups'!$A:$A,0)),INDEX('Org functional rollups'!$D:$D,MATCH($B303,'Org functional rollups'!$A:$A,0)),0)","v":"Common"}]
[{"$f":"'12.2018 Data'!A284","v":"921000"},{"$f":"'12.2018 Data'!B284","v":"C11"},{"$f":"'12.2018 Data'!C284","v":"CD"},{"$f":"'12.2018 Data'!D284","v":"AN"},{"$f":"'12.2018 Data'!E284","v":"OPER"},{"$f":"'12.2018 Data'!F284","v":3092.75},{"$f":"'12.2018 Data'!G284","v":2403.5100000000002},{"$f":"'12.2018 Data'!H284","v":689.24},{"$f":"'12.2018 Data'!I284","v":0},{"$f":"'12.2018 Data'!J284","v":0},"921",3092.75,2403.5100000000002,689.24,0,0,{"$f":"IF(ISNUMBER(MATCH($B304,'Org functional rollups'!$A:$A,0)),INDEX('Org functional rollups'!$D:$D,MATCH($B304,'Org functional rollups'!$A:$A,0)),0)","v":"Common"}]
[{"$f":"'12.2018 Data'!A285","v":"921000"},{"$f":"'12.2018 Data'!B285","v":"C19"},{"$f":"'12.2018 Data'!C285","v":"CD"},{"$f":"'12.2018 Data'!D285","v":"AA"},{"$f":"'12.2018 Data'!E285","v":"OPER"},{"$f":"'12.2018 Data'!F285","v":6076.81},{"$f":"'12.2018 Data'!G285","v":4262.03},{"$f":"'12.2018 Data'!H285","v":1248.6099999999999},{"$f":"'12.2018 Data'!I285","v":566.16999999999996},{"$f":"'12.2018 Data'!J285","v":0},"921",6076.81,4262.03,1248.6099999999999,566.16999999999996,0,{"$f":"IF(ISNUMBER(MATCH($B305,'Org functional rollups'!$A:$A,0)),INDEX('Org functional rollups'!$D:$D,MATCH($B305,'Org functional rollups'!$A:$A,0)),0)","v":"Common"}]
[{"$f":"'12.2018 Data'!A286","v":"921000"},{"$f":"'12.2018 Data'!B286","v":"C19"},{"$f":"'12.2018 Data'!C286","v":"ED"},{"$f":"'12.2018 Data'!D286","v":"AN"},{"$f":"'12.2018 Data'!E286","v":"OPER"},{"$f":"'12.2018 Data'!F286","v":385.7},{"$f":"'12.2018 Data'!G286","v":385.7},{"$f":"'12.2018 Data'!H286","v":0},{"$f":"'12.2018 Data'!I286","v":0},{"$f":"'12.2018 Data'!J286","v":0},"921",385.7,385.7,0,0,0,{"$f":"IF(ISNUMBER(MATCH($B306,'Org functional rollups'!$A:$A,0)),INDEX('Org functional rollups'!$D:$D,MATCH($B306,'Org functional rollups'!$A:$A,0)),0)","v":"Common"}]
[{"$f":"'12.2018 Data'!A287","v":"921000"},{"$f":"'12.2018 Data'!B287","v":"C29"},{"$f":"'12.2018 Data'!C287","v":"CD"},{"$f":"'12.2018 Data'!D287","v":"AA"},{"$f":"'12.2018 Data'!E287","v":"OPER"},{"$f":"'12.2018 Data'!F287","v":84989.42},{"$f":"'12.2018 Data'!G287","v":59607.32},{"$f":"'12.2018 Data'!H287","v":17464.46},{"$f":"'12.2018 Data'!I287","v":7917.64},{"$f":"'12.2018 Data'!J287","v":0},"921",84989.42,59607.32,17464.46,7917.64,0,{"$f":"IF(ISNUMBER(MATCH($B307,'Org functional rollups'!$A:$A,0)),INDEX('Org functional rollups'!$D:$D,MATCH($B307,'Org functional rollups'!$A:$A,0)),0)","v":"Common"}]
[{"$f":"'12.2018 Data'!A288","v":"921000"},{"$f":"'12.2018 Data'!B288","v":"C51"},{"$f":"'12.2018 Data'!C288","v":"CD"},{"$f":"'12.2018 Data'!D288","v":"AA"},{"$f":"'12.2018 Data'!E288","v":"OPER"},{"$f":"'12.2018 Data'!F288","v":3891.73},{"$f":"'12.2018 Data'!G288","v":2729.48},{"$f":"'12.2018 Data'!H288","v":799.67},{"$f":"'12.2018 Data'!I288","v":362.58},{"$f":"'12.2018 Data'!J288","v":0},"921",3891.73,2729.48,799.67,362.58,0,{"$f":"IF(ISNUMBER(MATCH($B308,'Org functional rollups'!$A:$A,0)),INDEX('Org functional rollups'!$D:$D,MATCH($B308,'Org functional rollups'!$A:$A,0)),0)","v":"Distribution"}]
[{"$f":"'12.2018 Data'!A289","v":"921000"},{"$f":"'12.2018 Data'!B289","v":"C53"},{"$f":"'12.2018 Data'!C289","v":"CD"},{"$f":"'12.2018 Data'!D289","v":"AA"},{"$f":"'12.2018 Data'!E289","v":"OPER"},{"$f":"'12.2018 Data'!F289","v":75},{"$f":"'12.2018 Data'!G289","v":52.6},{"$f":"'12.2018 Data'!H289","v":15.41},{"$f":"'12.2018 Data'!I289","v":6.99},{"$f":"'12.2018 Data'!J289","v":0},"921",75,52.6,15.41,6.99,0,{"$f":"IF(ISNUMBER(MATCH($B309,'Org functional rollups'!$A:$A,0)),INDEX('Org functional rollups'!$D:$D,MATCH($B309,'Org functional rollups'!$A:$A,0)),0)","v":"Distribution"}]
[{"$f":"'12.2018 Data'!A290","v":"921000"},{"$f":"'12.2018 Data'!B290","v":"C53"},{"$f":"'12.2018 Data'!C290","v":"GD"},{"$f":"'12.2018 Data'!D290","v":"AA"},{"$f":"'12.2018 Data'!E290","v":"OPER"},{"$f":"'12.2018 Data'!F290","v":932.33},{"$f":"'12.2018 Data'!G290","v":0},{"$f":"'12.2018 Data'!H290","v":639.22},{"$f":"'12.2018 Data'!I290","v":293.11},{"$f":"'12.2018 Data'!J290","v":0},"921",932.33,0,639.22,293.11,0,{"$f":"IF(ISNUMBER(MATCH($B310,'Org functional rollups'!$A:$A,0)),INDEX('Org functional rollups'!$D:$D,MATCH($B310,'Org functional rollups'!$A:$A,0)),0)","v":"Distribution"}]
[{"$f":"'12.2018 Data'!A291","v":"921000"},{"$f":"'12.2018 Data'!B291","v":"C54"},{"$f":"'12.2018 Data'!C291","v":"CD"},{"$f":"'12.2018 Data'!D291","v":"AA"},{"$f":"'12.2018 Data'!E291","v":"OPER"},{"$f":"'12.2018 Data'!F291","v":36056.32},{"$f":"'12.2018 Data'!G291","v":25288.09},{"$f":"'12.2018 Data'!H291","v":7409.2},{"$f":"'12.2018 Data'!I291","v":3359.03},{"$f":"'12.2018 Data'!J291","v":0},"921",36056.32,25288.09,7409.2,3359.03,0,{"$f":"IF(ISNUMBER(MATCH($B311,'Org functional rollups'!$A:$A,0)),INDEX('Org functional rollups'!$D:$D,MATCH($B311,'Org functional rollups'!$A:$A,0)),0)","v":"Common"}]
[{"$f":"'12.2018 Data'!A292","v":"921000"},{"$f":"'12.2018 Data'!B292","v":"C56"},{"$f":"'12.2018 Data'!C292","v":"CD"},{"$f":"'12.2018 Data'!D292","v":"AA"},{"$f":"'12.2018 Data'!E292","v":"OPER"},{"$f":"'12.2018 Data'!F292","v":1709.64},{"$f":"'12.2018 Data'!G292","v":1199.0999999999999},{"$f":"'12.2018 Data'!H292","v":351.24},{"$f":"'12.2018 Data'!I292","v":159.30000000000001},{"$f":"'12.2018 Data'!J292","v":0},"921",1709.64,1199.0999999999999,351.24,159.30000000000001,0,{"$f":"IF(ISNUMBER(MATCH($B312,'Org functional rollups'!$A:$A,0)),INDEX('Org functional rollups'!$D:$D,MATCH($B312,'Org functional rollups'!$A:$A,0)),0)","v":"Transmission"}]
[{"$f":"'12.2018 Data'!A293","v":"921000"},{"$f":"'12.2018 Data'!B293","v":"C57"},{"$f":"'12.2018 Data'!C293","v":"CD"},{"$f":"'12.2018 Data'!D293","v":"AA"},{"$f":"'12.2018 Data'!E293","v":"OPER"},{"$f":"'12.2018 Data'!F293","v":570.08000000000004},{"$f":"'12.2018 Data'!G293","v":399.84},{"$f":"'12.2018 Data'!H293","v":117.12},{"$f":"'12.2018 Data'!I293","v":53.12},{"$f":"'12.2018 Data'!J293","v":0},"921",570.08000000000004,399.84,117.12,53.12,0,{"$f":"IF(ISNUMBER(MATCH($B313,'Org functional rollups'!$A:$A,0)),INDEX('Org functional rollups'!$D:$D,MATCH($B313,'Org functional rollups'!$A:$A,0)),0)","v":"Distribution"}]
[{"$f":"'12.2018 Data'!A294","v":"921000"},{"$f":"'12.2018 Data'!B294","v":"C59"},{"$f":"'12.2018 Data'!C294","v":"CD"},{"$f":"'12.2018 Data'!D294","v":"AA"},{"$f":"'12.2018 Data'!E294","v":"OPER"},{"$f":"'12.2018 Data'!F294","v":-1967.16},{"$f":"'12.2018 Data'!G294","v":-1379.63},{"$f":"'12.2018 Data'!H294","v":-404.23},{"$f":"'12.2018 Data'!I294","v":-183.3},{"$f":"'12.2018 Data'!J294","v":0},"921",-1967.16,-1379.63,-404.23,-183.3,0,{"$f":"IF(ISNUMBER(MATCH($B314,'Org functional rollups'!$A:$A,0)),INDEX('Org functional rollups'!$D:$D,MATCH($B314,'Org functional rollups'!$A:$A,0)),0)","v":"Common"}]
[{"$f":"'12.2018 Data'!A295","v":"921000"},{"$f":"'12.2018 Data'!B295","v":"C83"},{"$f":"'12.2018 Data'!C295","v":"CD"},{"$f":"'12.2018 Data'!D295","v":"AA"},{"$f":"'12.2018 Data'!E295","v":"OPER"},{"$f":"'12.2018 Data'!F295","v":213.78},{"$f":"'12.2018 Data'!G295","v":149.94},{"$f":"'12.2018 Data'!H295","v":43.92},{"$f":"'12.2018 Data'!I295","v":19.920000000000002},{"$f":"'12.2018 Data'!J295","v":0},"921",213.78,149.94,43.92,19.920000000000002,0,{"$f":"IF(ISNUMBER(MATCH($B315,'Org functional rollups'!$A:$A,0)),INDEX('Org functional rollups'!$D:$D,MATCH($B315,'Org functional rollups'!$A:$A,0)),0)","v":"Distribution"}]
[{"$f":"'12.2018 Data'!A296","v":"921000"},{"$f":"'12.2018 Data'!B296","v":"D02"},{"$f":"'12.2018 Data'!C296","v":"CD"},{"$f":"'12.2018 Data'!D296","v":"AA"},{"$f":"'12.2018 Data'!E296","v":"OPER"},{"$f":"'12.2018 Data'!F296","v":10428.08},{"$f":"'12.2018 Data'!G296","v":7313.74},{"$f":"'12.2018 Data'!H296","v":2142.87},{"$f":"'12.2018 Data'!I296","v":971.47},{"$f":"'12.2018 Data'!J296","v":0},"921",10428.08,7313.74,2142.87,971.47,0,{"$f":"IF(ISNUMBER(MATCH($B316,'Org functional rollups'!$A:$A,0)),INDEX('Org functional rollups'!$D:$D,MATCH($B316,'Org functional rollups'!$A:$A,0)),0)","v":"Common"}]
[{"$f":"'12.2018 Data'!A297","v":"921000"},{"$f":"'12.2018 Data'!B297","v":"D08"},{"$f":"'12.2018 Data'!C297","v":"CD"},{"$f":"'12.2018 Data'!D297","v":"AA"},{"$f":"'12.2018 Data'!E297","v":"OPER"},{"$f":"'12.2018 Data'!F297","v":57573.5},{"$f":"'12.2018 Data'!G297","v":40379.199999999997},{"$f":"'12.2018 Data'!H297","v":11830.79},{"$f":"'12.2018 Data'!I297","v":5363.51},{"$f":"'12.2018 Data'!J297","v":0},"921",57573.5,40379.199999999997,11830.79,5363.51,0,{"$f":"IF(ISNUMBER(MATCH($B317,'Org functional rollups'!$A:$A,0)),INDEX('Org functional rollups'!$D:$D,MATCH($B317,'Org functional rollups'!$A:$A,0)),0)","v":"Distribution"}]
[{"$f":"'12.2018 Data'!A298","v":"921000"},{"$f":"'12.2018 Data'!B298","v":"D08"},{"$f":"'12.2018 Data'!C298","v":"ED"},{"$f":"'12.2018 Data'!D298","v":"AN"},{"$f":"'12.2018 Data'!E298","v":"OPER"},{"$f":"'12.2018 Data'!F298","v":3527.14},{"$f":"'12.2018 Data'!G298","v":3527.14},{"$f":"'12.2018 Data'!H298","v":0},{"$f":"'12.2018 Data'!I298","v":0},{"$f":"'12.2018 Data'!J298","v":0},"921",3527.14,3527.14,0,0,0,{"$f":"IF(ISNUMBER(MATCH($B318,'Org functional rollups'!$A:$A,0)),INDEX('Org functional rollups'!$D:$D,MATCH($B318,'Org functional rollups'!$A:$A,0)),0)","v":"Distribution"}]
[{"$f":"'12.2018 Data'!A299","v":"921000"},{"$f":"'12.2018 Data'!B299","v":"D09"},{"$f":"'12.2018 Data'!C299","v":"ED"},{"$f":"'12.2018 Data'!D299","v":"AN"},{"$f":"'12.2018 Data'!E299","v":"OPER"},{"$f":"'12.2018 Data'!F299","v":942.32},{"$f":"'12.2018 Data'!G299","v":942.32},{"$f":"'12.2018 Data'!H299","v":0},{"$f":"'12.2018 Data'!I299","v":0},{"$f":"'12.2018 Data'!J299","v":0},"921",942.32,942.32,0,0,0,{"$f":"IF(ISNUMBER(MATCH($B319,'Org functional rollups'!$A:$A,0)),INDEX('Org functional rollups'!$D:$D,MATCH($B319,'Org functional rollups'!$A:$A,0)),0)","v":"Transmission"}]
[{"$f":"'12.2018 Data'!A300","v":"921000"},{"$f":"'12.2018 Data'!B300","v":"D09"},{"$f":"'12.2018 Data'!C300","v":"CD"},{"$f":"'12.2018 Data'!D300","v":"AA"},{"$f":"'12.2018 Data'!E300","v":"OPER"},{"$f":"'12.2018 Data'!F300","v":325.32},{"$f":"'12.2018 Data'!G300","v":228.17},{"$f":"'12.2018 Data'!H300","v":66.84},{"$f":"'12.2018 Data'!I300","v":30.31},{"$f":"'12.2018 Data'!J300","v":0},"921",325.32,228.17,66.84,30.31,0,{"$f":"IF(ISNUMBER(MATCH($B320,'Org functional rollups'!$A:$A,0)),INDEX('Org functional rollups'!$D:$D,MATCH($B320,'Org functional rollups'!$A:$A,0)),0)","v":"Transmission"}]
[{"$f":"'12.2018 Data'!A301","v":"921000"},{"$f":"'12.2018 Data'!B301","v":"D50"},{"$f":"'12.2018 Data'!C301","v":"CD"},{"$f":"'12.2018 Data'!D301","v":"AN"},{"$f":"'12.2018 Data'!E301","v":"OPER"},{"$f":"'12.2018 Data'!F301","v":127.64},{"$f":"'12.2018 Data'!G301","v":99.2},{"$f":"'12.2018 Data'!H301","v":28.44},{"$f":"'12.2018 Data'!I301","v":0},{"$f":"'12.2018 Data'!J301","v":0},"921",127.64,99.2,28.44,0,0,{"$f":"IF(ISNUMBER(MATCH($B321,'Org functional rollups'!$A:$A,0)),INDEX('Org functional rollups'!$D:$D,MATCH($B321,'Org functional rollups'!$A:$A,0)),0)","v":"Customer"}]
[{"$f":"'12.2018 Data'!A302","v":"921000"},{"$f":"'12.2018 Data'!B302","v":"D50"},{"$f":"'12.2018 Data'!C302","v":"CD"},{"$f":"'12.2018 Data'!D302","v":"AA"},{"$f":"'12.2018 Data'!E302","v":"OPER"},{"$f":"'12.2018 Data'!F302","v":498.82},{"$f":"'12.2018 Data'!G302","v":349.86},{"$f":"'12.2018 Data'!H302","v":102.48},{"$f":"'12.2018 Data'!I302","v":46.48},{"$f":"'12.2018 Data'!J302","v":0},"921",498.82,349.86,102.48,46.48,0,{"$f":"IF(ISNUMBER(MATCH($B322,'Org functional rollups'!$A:$A,0)),INDEX('Org functional rollups'!$D:$D,MATCH($B322,'Org functional rollups'!$A:$A,0)),0)","v":"Customer"}]
[{"$f":"'12.2018 Data'!A303","v":"921000"},{"$f":"'12.2018 Data'!B303","v":"D52"},{"$f":"'12.2018 Data'!C303","v":"CD"},{"$f":"'12.2018 Data'!D303","v":"AA"},{"$f":"'12.2018 Data'!E303","v":"OPER"},{"$f":"'12.2018 Data'!F303","v":39.17},{"$f":"'12.2018 Data'!G303","v":27.47},{"$f":"'12.2018 Data'!H303","v":8.0500000000000007},{"$f":"'12.2018 Data'!I303","v":3.65},{"$f":"'12.2018 Data'!J303","v":0},"921",39.17,27.47,8.0500000000000007,3.65,0,{"$f":"IF(ISNUMBER(MATCH($B323,'Org functional rollups'!$A:$A,0)),INDEX('Org functional rollups'!$D:$D,MATCH($B323,'Org functional rollups'!$A:$A,0)),0)","v":"Production"}]
[{"$f":"'12.2018 Data'!A304","v":"921000"},{"$f":"'12.2018 Data'!B304","v":"D53"},{"$f":"'12.2018 Data'!C304","v":"CD"},{"$f":"'12.2018 Data'!D304","v":"AA"},{"$f":"'12.2018 Data'!E304","v":"OPER"},{"$f":"'12.2018 Data'!F304","v":663.42},{"$f":"'12.2018 Data'!G304","v":465.3},{"$f":"'12.2018 Data'!H304","v":136.32},{"$f":"'12.2018 Data'!I304","v":61.8},{"$f":"'12.2018 Data'!J304","v":0},"921",663.42,465.3,136.32,61.8,0,{"$f":"IF(ISNUMBER(MATCH($B324,'Org functional rollups'!$A:$A,0)),INDEX('Org functional rollups'!$D:$D,MATCH($B324,'Org functional rollups'!$A:$A,0)),0)","v":"Distribution"}]
[{"$f":"'12.2018 Data'!A305","v":"921000"},{"$f":"'12.2018 Data'!B305","v":"D54"},{"$f":"'12.2018 Data'!C305","v":"CD"},{"$f":"'12.2018 Data'!D305","v":"AA"},{"$f":"'12.2018 Data'!E305","v":"OPER"},{"$f":"'12.2018 Data'!F305","v":9173.2900000000009},{"$f":"'12.2018 Data'!G305","v":6433.71},{"$f":"'12.2018 Data'!H305","v":1884.98},{"$f":"'12.2018 Data'!I305","v":854.6},{"$f":"'12.2018 Data'!J305","v":0},"921",9173.2900000000009,6433.71,1884.98,854.6,0,{"$f":"IF(ISNUMBER(MATCH($B325,'Org functional rollups'!$A:$A,0)),INDEX('Org functional rollups'!$D:$D,MATCH($B325,'Org functional rollups'!$A:$A,0)),0)","v":"Common"}]
[{"$f":"'12.2018 Data'!A306","v":"921000"},{"$f":"'12.2018 Data'!B306","v":"D55"},{"$f":"'12.2018 Data'!C306","v":"CD"},{"$f":"'12.2018 Data'!D306","v":"AA"},{"$f":"'12.2018 Data'!E306","v":"OPER"},{"$f":"'12.2018 Data'!F306","v":3420.48},{"$f":"'12.2018 Data'!G306","v":2399.04},{"$f":"'12.2018 Data'!H306","v":702.72},{"$f":"'12.2018 Data'!I306","v":318.72000000000003},{"$f":"'12.2018 Data'!J306","v":0},"921",3420.48,2399.04,702.72,318.72000000000003,0,{"$f":"IF(ISNUMBER(MATCH($B326,'Org functional rollups'!$A:$A,0)),INDEX('Org functional rollups'!$D:$D,MATCH($B326,'Org functional rollups'!$A:$A,0)),0)","v":"Production"}]
[{"$f":"'12.2018 Data'!A307","v":"921000"},{"$f":"'12.2018 Data'!B307","v":"D56"},{"$f":"'12.2018 Data'!C307","v":"CD"},{"$f":"'12.2018 Data'!D307","v":"AA"},{"$f":"'12.2018 Data'!E307","v":"OPER"},{"$f":"'12.2018 Data'!F307","v":712.6},{"$f":"'12.2018 Data'!G307","v":499.8},{"$f":"'12.2018 Data'!H307","v":146.4},{"$f":"'12.2018 Data'!I307","v":66.400000000000006},{"$f":"'12.2018 Data'!J307","v":0},"921",712.6,499.8,146.4,66.400000000000006,0,{"$f":"IF(ISNUMBER(MATCH($B327,'Org functional rollups'!$A:$A,0)),INDEX('Org functional rollups'!$D:$D,MATCH($B327,'Org functional rollups'!$A:$A,0)),0)","v":"Transmission"}]
[{"$f":"'12.2018 Data'!A308","v":"921000"},{"$f":"'12.2018 Data'!B308","v":"E01"},{"$f":"'12.2018 Data'!C308","v":"CD"},{"$f":"'12.2018 Data'!D308","v":"AA"},{"$f":"'12.2018 Data'!E308","v":"OPER"},{"$f":"'12.2018 Data'!F308","v":62966.86},{"$f":"'12.2018 Data'!G308","v":44161.69},{"$f":"'12.2018 Data'!H308","v":12939.03},{"$f":"'12.2018 Data'!I308","v":5866.14},{"$f":"'12.2018 Data'!J308","v":0},"921",62966.86,44161.69,12939.03,5866.14,0,{"$f":"IF(ISNUMBER(MATCH($B328,'Org functional rollups'!$A:$A,0)),INDEX('Org functional rollups'!$D:$D,MATCH($B328,'Org functional rollups'!$A:$A,0)),0)","v":"Common"}]
[{"$f":"'12.2018 Data'!A309","v":"921000"},{"$f":"'12.2018 Data'!B309","v":"E01"},{"$f":"'12.2018 Data'!C309","v":"CD"},{"$f":"'12.2018 Data'!D309","v":"AN"},{"$f":"'12.2018 Data'!E309","v":"OPER"},{"$f":"'12.2018 Data'!F309","v":242.14},{"$f":"'12.2018 Data'!G309","v":188.18},{"$f":"'12.2018 Data'!H309","v":53.96},{"$f":"'12.2018 Data'!I309","v":0},{"$f":"'12.2018 Data'!J309","v":0},"921",242.14,188.18,53.96,0,0,{"$f":"IF(ISNUMBER(MATCH($B329,'Org functional rollups'!$A:$A,0)),INDEX('Org functional rollups'!$D:$D,MATCH($B329,'Org functional rollups'!$A:$A,0)),0)","v":"Common"}]
[{"$f":"'12.2018 Data'!A310","v":"921000"},{"$f":"'12.2018 Data'!B310","v":"E01"},{"$f":"'12.2018 Data'!C310","v":"ED"},{"$f":"'12.2018 Data'!D310","v":"AN"},{"$f":"'12.2018 Data'!E310","v":"OPER"},{"$f":"'12.2018 Data'!F310","v":593.82000000000005},{"$f":"'12.2018 Data'!G310","v":593.82000000000005},{"$f":"'12.2018 Data'!H310","v":0},{"$f":"'12.2018 Data'!I310","v":0},{"$f":"'12.2018 Data'!J310","v":0},"921",593.82000000000005,593.82000000000005,0,0,0,{"$f":"IF(ISNUMBER(MATCH($B330,'Org functional rollups'!$A:$A,0)),INDEX('Org functional rollups'!$D:$D,MATCH($B330,'Org functional rollups'!$A:$A,0)),0)","v":"Common"}]
[{"$f":"'12.2018 Data'!A311","v":"921000"},{"$f":"'12.2018 Data'!B311","v":"E02"},{"$f":"'12.2018 Data'!C311","v":"CD"},{"$f":"'12.2018 Data'!D311","v":"AA"},{"$f":"'12.2018 Data'!E311","v":"OPER"},{"$f":"'12.2018 Data'!F311","v":258.41000000000003},{"$f":"'12.2018 Data'!G311","v":181.23},{"$f":"'12.2018 Data'!H311","v":53.11},{"$f":"'12.2018 Data'!I311","v":24.07},{"$f":"'12.2018 Data'!J311","v":0},"921",258.41000000000003,181.23,53.11,24.07,0,{"$f":"IF(ISNUMBER(MATCH($B331,'Org functional rollups'!$A:$A,0)),INDEX('Org functional rollups'!$D:$D,MATCH($B331,'Org functional rollups'!$A:$A,0)),0)","v":"Common"}]
[{"$f":"'12.2018 Data'!A312","v":"921000"},{"$f":"'12.2018 Data'!B312","v":"E07"},{"$f":"'12.2018 Data'!C312","v":"CD"},{"$f":"'12.2018 Data'!D312","v":"AA"},{"$f":"'12.2018 Data'!E312","v":"OPER"},{"$f":"'12.2018 Data'!F312","v":5287.33},{"$f":"'12.2018 Data'!G312","v":3708.31},{"$f":"'12.2018 Data'!H312","v":1086.42},{"$f":"'12.2018 Data'!I312","v":492.6},{"$f":"'12.2018 Data'!J312","v":0},"921",5287.33,3708.31,1086.42,492.6,0,{"$f":"IF(ISNUMBER(MATCH($B332,'Org functional rollups'!$A:$A,0)),INDEX('Org functional rollups'!$D:$D,MATCH($B332,'Org functional rollups'!$A:$A,0)),0)","v":"Production"}]
[{"$f":"'12.2018 Data'!A313","v":"921000"},{"$f":"'12.2018 Data'!B313","v":"E09"},{"$f":"'12.2018 Data'!C313","v":"CD"},{"$f":"'12.2018 Data'!D313","v":"AA"},{"$f":"'12.2018 Data'!E313","v":"OPER"},{"$f":"'12.2018 Data'!F313","v":1334.61},{"$f":"'12.2018 Data'!G313","v":936.04},{"$f":"'12.2018 Data'!H313","v":274.24},{"$f":"'12.2018 Data'!I313","v":124.33},{"$f":"'12.2018 Data'!J313","v":0},"921",1334.61,936.04,274.24,124.33,0,{"$f":"IF(ISNUMBER(MATCH($B333,'Org functional rollups'!$A:$A,0)),INDEX('Org functional rollups'!$D:$D,MATCH($B333,'Org functional rollups'!$A:$A,0)),0)","v":"Common"}]
[{"$f":"'12.2018 Data'!A314","v":"921000"},{"$f":"'12.2018 Data'!B314","v":"E14"},{"$f":"'12.2018 Data'!C314","v":"CD"},{"$f":"'12.2018 Data'!D314","v":"AA"},{"$f":"'12.2018 Data'!E314","v":"OPER"},{"$f":"'12.2018 Data'!F314","v":32416.86},{"$f":"'12.2018 Data'!G314","v":22735.58},{"$f":"'12.2018 Data'!H314","v":6661.4},{"$f":"'12.2018 Data'!I314","v":3019.88},{"$f":"'12.2018 Data'!J314","v":0},"921",32416.86,22735.58,6661.4,3019.88,0,{"$f":"IF(ISNUMBER(MATCH($B334,'Org functional rollups'!$A:$A,0)),INDEX('Org functional rollups'!$D:$D,MATCH($B334,'Org functional rollups'!$A:$A,0)),0)","v":"Production"}]
[{"$f":"'12.2018 Data'!A315","v":"921000"},{"$f":"'12.2018 Data'!B315","v":"E14"},{"$f":"'12.2018 Data'!C315","v":"CD"},{"$f":"'12.2018 Data'!D315","v":"AN"},{"$f":"'12.2018 Data'!E315","v":"OPER"},{"$f":"'12.2018 Data'!F315","v":2719.22},{"$f":"'12.2018 Data'!G315","v":2113.2399999999998},{"$f":"'12.2018 Data'!H315","v":605.98},{"$f":"'12.2018 Data'!I315","v":0},{"$f":"'12.2018 Data'!J315","v":0},"921",2719.22,2113.2399999999998,605.98,0,0,{"$f":"IF(ISNUMBER(MATCH($B335,'Org functional rollups'!$A:$A,0)),INDEX('Org functional rollups'!$D:$D,MATCH($B335,'Org functional rollups'!$A:$A,0)),0)","v":"Production"}]
[{"$f":"'12.2018 Data'!A316","v":"921000"},{"$f":"'12.2018 Data'!B316","v":"E14"},{"$f":"'12.2018 Data'!C316","v":"ED"},{"$f":"'12.2018 Data'!D316","v":"AN"},{"$f":"'12.2018 Data'!E316","v":"OPER"},{"$f":"'12.2018 Data'!F316","v":72814.47},{"$f":"'12.2018 Data'!G316","v":72814.47},{"$f":"'12.2018 Data'!H316","v":0},{"$f":"'12.2018 Data'!I316","v":0},{"$f":"'12.2018 Data'!J316","v":0},"921",72814.47,72814.47,0,0,0,{"$f":"IF(ISNUMBER(MATCH($B336,'Org functional rollups'!$A:$A,0)),INDEX('Org functional rollups'!$D:$D,MATCH($B336,'Org functional rollups'!$A:$A,0)),0)","v":"Production"}]
[{"$f":"'12.2018 Data'!A317","v":"921000"},{"$f":"'12.2018 Data'!B317","v":"E19"},{"$f":"'12.2018 Data'!C317","v":"CD"},{"$f":"'12.2018 Data'!D317","v":"AA"},{"$f":"'12.2018 Data'!E317","v":"OPER"},{"$f":"'12.2018 Data'!F317","v":3522.47},{"$f":"'12.2018 Data'!G317","v":2470.48},{"$f":"'12.2018 Data'!H317","v":723.78},{"$f":"'12.2018 Data'!I317","v":328.21},{"$f":"'12.2018 Data'!J317","v":0},"921",3522.47,2470.48,723.78,328.21,0,{"$f":"IF(ISNUMBER(MATCH($B337,'Org functional rollups'!$A:$A,0)),INDEX('Org functional rollups'!$D:$D,MATCH($B337,'Org functional rollups'!$A:$A,0)),0)","v":"Common"}]
[{"$f":"'12.2018 Data'!A318","v":"921000"},{"$f":"'12.2018 Data'!B318","v":"E29"},{"$f":"'12.2018 Data'!C318","v":"CD"},{"$f":"'12.2018 Data'!D318","v":"AA"},{"$f":"'12.2018 Data'!E318","v":"OPER"},{"$f":"'12.2018 Data'!F318","v":326654.93},{"$f":"'12.2018 Data'!G318","v":229099.43},{"$f":"'12.2018 Data'!H318","v":67124.179999999993},{"$f":"'12.2018 Data'!I318","v":30431.32},{"$f":"'12.2018 Data'!J318","v":0},"921",326654.93,229099.43,67124.179999999993,30431.32,0,{"$f":"IF(ISNUMBER(MATCH($B338,'Org functional rollups'!$A:$A,0)),INDEX('Org functional rollups'!$D:$D,MATCH($B338,'Org functional rollups'!$A:$A,0)),0)","v":"Common"}]
[{"$f":"'12.2018 Data'!A319","v":"921000"},{"$f":"'12.2018 Data'!B319","v":"E51"},{"$f":"'12.2018 Data'!C319","v":"CD"},{"$f":"'12.2018 Data'!D319","v":"AA"},{"$f":"'12.2018 Data'!E319","v":"OPER"},{"$f":"'12.2018 Data'!F319","v":2114.54},{"$f":"'12.2018 Data'!G319","v":1483.05},{"$f":"'12.2018 Data'!H319","v":434.53},{"$f":"'12.2018 Data'!I319","v":196.96},{"$f":"'12.2018 Data'!J319","v":0},"921",2114.54,1483.05,434.53,196.96,0,{"$f":"IF(ISNUMBER(MATCH($B339,'Org functional rollups'!$A:$A,0)),INDEX('Org functional rollups'!$D:$D,MATCH($B339,'Org functional rollups'!$A:$A,0)),0)","v":"Distribution"}]
[{"$f":"'12.2018 Data'!A320","v":"921000"},{"$f":"'12.2018 Data'!B320","v":"E53"},{"$f":"'12.2018 Data'!C320","v":"CD"},{"$f":"'12.2018 Data'!D320","v":"AA"},{"$f":"'12.2018 Data'!E320","v":"OPER"},{"$f":"'12.2018 Data'!F320","v":157.9},{"$f":"'12.2018 Data'!G320","v":110.74},{"$f":"'12.2018 Data'!H320","v":32.450000000000003},{"$f":"'12.2018 Data'!I320","v":14.71},{"$f":"'12.2018 Data'!J320","v":0},"921",157.9,110.74,32.450000000000003,14.71,0,{"$f":"IF(ISNUMBER(MATCH($B340,'Org functional rollups'!$A:$A,0)),INDEX('Org functional rollups'!$D:$D,MATCH($B340,'Org functional rollups'!$A:$A,0)),0)","v":"Customer"}]
[{"$f":"'12.2018 Data'!A321","v":"921000"},{"$f":"'12.2018 Data'!B321","v":"E55"},{"$f":"'12.2018 Data'!C321","v":"CD"},{"$f":"'12.2018 Data'!D321","v":"AA"},{"$f":"'12.2018 Data'!E321","v":"OPER"},{"$f":"'12.2018 Data'!F321","v":16165.4},{"$f":"'12.2018 Data'!G321","v":11337.77},{"$f":"'12.2018 Data'!H321","v":3321.53},{"$f":"'12.2018 Data'!I321","v":1506.1},{"$f":"'12.2018 Data'!J321","v":0},"921",16165.4,11337.77,3321.53,1506.1,0,{"$f":"IF(ISNUMBER(MATCH($B341,'Org functional rollups'!$A:$A,0)),INDEX('Org functional rollups'!$D:$D,MATCH($B341,'Org functional rollups'!$A:$A,0)),0)","v":"Production"}]
[{"$f":"'12.2018 Data'!A322","v":"921000"},{"$f":"'12.2018 Data'!B322","v":"E56"},{"$f":"'12.2018 Data'!C322","v":"CD"},{"$f":"'12.2018 Data'!D322","v":"AA"},{"$f":"'12.2018 Data'!E322","v":"OPER"},{"$f":"'12.2018 Data'!F322","v":788.68},{"$f":"'12.2018 Data'!G322","v":553.14},{"$f":"'12.2018 Data'!H322","v":162.06},{"$f":"'12.2018 Data'!I322","v":73.48},{"$f":"'12.2018 Data'!J322","v":0},"921",788.68,553.14,162.06,73.48,0,{"$f":"IF(ISNUMBER(MATCH($B342,'Org functional rollups'!$A:$A,0)),INDEX('Org functional rollups'!$D:$D,MATCH($B342,'Org functional rollups'!$A:$A,0)),0)","v":"Transmission"}]
[{"$f":"'12.2018 Data'!A323","v":"921000"},{"$f":"'12.2018 Data'!B323","v":"F02"},{"$f":"'12.2018 Data'!C323","v":"CD"},{"$f":"'12.2018 Data'!D323","v":"AA"},{"$f":"'12.2018 Data'!E323","v":"OPER"},{"$f":"'12.2018 Data'!F323","v":5149.6899999999996},{"$f":"'12.2018 Data'!G323","v":3611.73},{"$f":"'12.2018 Data'!H323","v":1058.21},{"$f":"'12.2018 Data'!I323","v":479.75},{"$f":"'12.2018 Data'!J323","v":0},{"$f":"LEFT(A343,3)","v":"921"},{"$f":"IF(ISNUMBER(F343),F343,0)","v":5149.6899999999996},3611.73,1058.21,479.75,0,{"$f":"IF(ISNUMBER(MATCH($B343,'Org functional rollups'!$A:$A,0)),INDEX('Org functional rollups'!$D:$D,MATCH($B343,'Org functional rollups'!$A:$A,0)),0)","v":"Common"}]
[{"$f":"'12.2018 Data'!A324","v":"921000"},{"$f":"'12.2018 Data'!B324","v":"F08"},{"$f":"'12.2018 Data'!C324","v":"CD"},{"$f":"'12.2018 Data'!D324","v":"AA"},{"$f":"'12.2018 Data'!E324","v":"OPER"},{"$f":"'12.2018 Data'!F324","v":8406.7900000000009},{"$f":"'12.2018 Data'!G324","v":5896.12},{"$f":"'12.2018 Data'!H324","v":1727.49},{"$f":"'12.2018 Data'!I324","v":783.18},{"$f":"'12.2018 Data'!J324","v":0},"921",8406.7900000000009,5896.12,1727.49,783.18,0,{"$f":"IF(ISNUMBER(MATCH($B344,'Org functional rollups'!$A:$A,0)),INDEX('Org functional rollups'!$D:$D,MATCH($B344,'Org functional rollups'!$A:$A,0)),0)","v":"Transmission"}]
[{"$f":"'12.2018 Data'!A325","v":"921000"},{"$f":"'12.2018 Data'!B325","v":"F19"},{"$f":"'12.2018 Data'!C325","v":"CD"},{"$f":"'12.2018 Data'!D325","v":"AA"},{"$f":"'12.2018 Data'!E325","v":"OPER"},{"$f":"'12.2018 Data'!F325","v":498.82},{"$f":"'12.2018 Data'!G325","v":349.86},{"$f":"'12.2018 Data'!H325","v":102.48},{"$f":"'12.2018 Data'!I325","v":46.48},{"$f":"'12.2018 Data'!J325","v":0},"921",498.82,349.86,102.48,46.48,0,{"$f":"IF(ISNUMBER(MATCH($B345,'Org functional rollups'!$A:$A,0)),INDEX('Org functional rollups'!$D:$D,MATCH($B345,'Org functional rollups'!$A:$A,0)),0)","v":"Common"}]
[{"$f":"'12.2018 Data'!A326","v":"921000"},{"$f":"'12.2018 Data'!B326","v":"F39"},{"$f":"'12.2018 Data'!C326","v":"CD"},{"$f":"'12.2018 Data'!D326","v":"AA"},{"$f":"'12.2018 Data'!E326","v":"OPER"},{"$f":"'12.2018 Data'!F326","v":71.260000000000005},{"$f":"'12.2018 Data'!G326","v":49.98},{"$f":"'12.2018 Data'!H326","v":14.64},{"$f":"'12.2018 Data'!I326","v":6.64},{"$f":"'12.2018 Data'!J326","v":0},"921",71.260000000000005,49.98,14.64,6.64,0,{"$f":"IF(ISNUMBER(MATCH($B346,'Org functional rollups'!$A:$A,0)),INDEX('Org functional rollups'!$D:$D,MATCH($B346,'Org functional rollups'!$A:$A,0)),0)","v":"Common"}]
[{"$f":"'12.2018 Data'!A327","v":"921000"},{"$f":"'12.2018 Data'!B327","v":"F50"},{"$f":"'12.2018 Data'!C327","v":"CD"},{"$f":"'12.2018 Data'!D327","v":"AA"},{"$f":"'12.2018 Data'!E327","v":"OPER"},{"$f":"'12.2018 Data'!F327","v":71.260000000000005},{"$f":"'12.2018 Data'!G327","v":49.98},{"$f":"'12.2018 Data'!H327","v":14.64},{"$f":"'12.2018 Data'!I327","v":6.64},{"$f":"'12.2018 Data'!J327","v":0},"921",71.260000000000005,49.98,14.64,6.64,0,{"$f":"IF(ISNUMBER(MATCH($B347,'Org functional rollups'!$A:$A,0)),INDEX('Org functional rollups'!$D:$D,MATCH($B347,'Org functional rollups'!$A:$A,0)),0)","v":"Customer"}]
[{"$f":"'12.2018 Data'!A328","v":"921000"},{"$f":"'12.2018 Data'!B328","v":"F52"},{"$f":"'12.2018 Data'!C328","v":"CD"},{"$f":"'12.2018 Data'!D328","v":"AA"},{"$f":"'12.2018 Data'!E328","v":"OPER"},{"$f":"'12.2018 Data'!F328","v":6552.28},{"$f":"'12.2018 Data'!G328","v":4595.49},{"$f":"'12.2018 Data'!H328","v":1346.33},{"$f":"'12.2018 Data'!I328","v":610.46},{"$f":"'12.2018 Data'!J328","v":0},"921",6552.28,4595.49,1346.33,610.46,0,{"$f":"IF(ISNUMBER(MATCH($B348,'Org functional rollups'!$A:$A,0)),INDEX('Org functional rollups'!$D:$D,MATCH($B348,'Org functional rollups'!$A:$A,0)),0)","v":"Customer"}]
[{"$f":"'12.2018 Data'!A329","v":"921000"},{"$f":"'12.2018 Data'!B329","v":"F53"},{"$f":"'12.2018 Data'!C329","v":"CD"},{"$f":"'12.2018 Data'!D329","v":"AA"},{"$f":"'12.2018 Data'!E329","v":"OPER"},{"$f":"'12.2018 Data'!F329","v":855.12},{"$f":"'12.2018 Data'!G329","v":599.76},{"$f":"'12.2018 Data'!H329","v":175.68},{"$f":"'12.2018 Data'!I329","v":79.680000000000007},{"$f":"'12.2018 Data'!J329","v":0},"921",855.12,599.76,175.68,79.680000000000007,0,{"$f":"IF(ISNUMBER(MATCH($B349,'Org functional rollups'!$A:$A,0)),INDEX('Org functional rollups'!$D:$D,MATCH($B349,'Org functional rollups'!$A:$A,0)),0)","v":"Customer"}]
[{"$f":"'12.2018 Data'!A330","v":"921000"},{"$f":"'12.2018 Data'!B330","v":"F53"},{"$f":"'12.2018 Data'!C330","v":"CD"},{"$f":"'12.2018 Data'!D330","v":"AN"},{"$f":"'12.2018 Data'!E330","v":"OPER"},{"$f":"'12.2018 Data'!F330","v":21.97},{"$f":"'12.2018 Data'!G330","v":17.07},{"$f":"'12.2018 Data'!H330","v":4.9000000000000004},{"$f":"'12.2018 Data'!I330","v":0},{"$f":"'12.2018 Data'!J330","v":0},"921",21.97,17.07,4.9000000000000004,0,0,{"$f":"IF(ISNUMBER(MATCH($B350,'Org functional rollups'!$A:$A,0)),INDEX('Org functional rollups'!$D:$D,MATCH($B350,'Org functional rollups'!$A:$A,0)),0)","v":"Customer"}]
[{"$f":"'12.2018 Data'!A331","v":"921000"},{"$f":"'12.2018 Data'!B331","v":"F54"},{"$f":"'12.2018 Data'!C331","v":"CD"},{"$f":"'12.2018 Data'!D331","v":"AA"},{"$f":"'12.2018 Data'!E331","v":"OPER"},{"$f":"'12.2018 Data'!F331","v":204455.23},{"$f":"'12.2018 Data'!G331","v":143394.73000000001},{"$f":"'12.2018 Data'!H331","v":42013.41},{"$f":"'12.2018 Data'!I331","v":19047.09},{"$f":"'12.2018 Data'!J331","v":0},"921",204455.23,143394.73000000001,42013.41,19047.09,0,{"$f":"IF(ISNUMBER(MATCH($B351,'Org functional rollups'!$A:$A,0)),INDEX('Org functional rollups'!$D:$D,MATCH($B351,'Org functional rollups'!$A:$A,0)),0)","v":"Common"}]
[{"$f":"'12.2018 Data'!A332","v":"921000"},{"$f":"'12.2018 Data'!B332","v":"F55"},{"$f":"'12.2018 Data'!C332","v":"CD"},{"$f":"'12.2018 Data'!D332","v":"AA"},{"$f":"'12.2018 Data'!E332","v":"OPER"},{"$f":"'12.2018 Data'!F332","v":24473.439999999999},{"$f":"'12.2018 Data'!G332","v":17164.47},{"$f":"'12.2018 Data'!H332","v":5029.03},{"$f":"'12.2018 Data'!I332","v":2279.94},{"$f":"'12.2018 Data'!J332","v":0},"921",24473.439999999999,17164.47,5029.03,2279.94,0,{"$f":"IF(ISNUMBER(MATCH($B352,'Org functional rollups'!$A:$A,0)),INDEX('Org functional rollups'!$D:$D,MATCH($B352,'Org functional rollups'!$A:$A,0)),0)","v":"Common"}]
[{"$f":"'12.2018 Data'!A333","v":"921000"},{"$f":"'12.2018 Data'!B333","v":"G02"},{"$f":"'12.2018 Data'!C333","v":"CD"},{"$f":"'12.2018 Data'!D333","v":"AA"},{"$f":"'12.2018 Data'!E333","v":"OPER"},{"$f":"'12.2018 Data'!F333","v":293517.65000000002},{"$f":"'12.2018 Data'!G333","v":205858.8},{"$f":"'12.2018 Data'!H333","v":60314.62},{"$f":"'12.2018 Data'!I333","v":27344.23},{"$f":"'12.2018 Data'!J333","v":0},"921",293517.65000000002,205858.8,60314.62,27344.23,0,{"$f":"IF(ISNUMBER(MATCH($B353,'Org functional rollups'!$A:$A,0)),INDEX('Org functional rollups'!$D:$D,MATCH($B353,'Org functional rollups'!$A:$A,0)),0)","v":"Distribution"}]
[{"$f":"'12.2018 Data'!A334","v":"921000"},{"$f":"'12.2018 Data'!B334","v":"G07"},{"$f":"'12.2018 Data'!C334","v":"CD"},{"$f":"'12.2018 Data'!D334","v":"AA"},{"$f":"'12.2018 Data'!E334","v":"OPER"},{"$f":"'12.2018 Data'!F334","v":285.04000000000002},{"$f":"'12.2018 Data'!G334","v":199.92},{"$f":"'12.2018 Data'!H334","v":58.56},{"$f":"'12.2018 Data'!I334","v":26.56},{"$f":"'12.2018 Data'!J334","v":0},"921",285.04000000000002,199.92,58.56,26.56,0,{"$f":"IF(ISNUMBER(MATCH($B354,'Org functional rollups'!$A:$A,0)),INDEX('Org functional rollups'!$D:$D,MATCH($B354,'Org functional rollups'!$A:$A,0)),0)","v":"Production"}]
[{"$f":"'12.2018 Data'!A335","v":"921000"},{"$f":"'12.2018 Data'!B335","v":"G08"},{"$f":"'12.2018 Data'!C335","v":"CD"},{"$f":"'12.2018 Data'!D335","v":"AA"},{"$f":"'12.2018 Data'!E335","v":"OPER"},{"$f":"'12.2018 Data'!F335","v":3969.54},{"$f":"'12.2018 Data'!G335","v":2784.04},{"$f":"'12.2018 Data'!H335","v":815.68},{"$f":"'12.2018 Data'!I335","v":369.82},{"$f":"'12.2018 Data'!J335","v":0},"921",3969.54,2784.04,815.68,369.82,0,{"$f":"IF(ISNUMBER(MATCH($B355,'Org functional rollups'!$A:$A,0)),INDEX('Org functional rollups'!$D:$D,MATCH($B355,'Org functional rollups'!$A:$A,0)),0)","v":"Distribution"}]
[{"$f":"'12.2018 Data'!A336","v":"921000"},{"$f":"'12.2018 Data'!B336","v":"G10"},{"$f":"'12.2018 Data'!C336","v":"CD"},{"$f":"'12.2018 Data'!D336","v":"AA"},{"$f":"'12.2018 Data'!E336","v":"OPER"},{"$f":"'12.2018 Data'!F336","v":855.12},{"$f":"'12.2018 Data'!G336","v":599.76},{"$f":"'12.2018 Data'!H336","v":175.68},{"$f":"'12.2018 Data'!I336","v":79.680000000000007},{"$f":"'12.2018 Data'!J336","v":0},"921",855.12,599.76,175.68,79.680000000000007,0,{"$f":"IF(ISNUMBER(MATCH($B356,'Org functional rollups'!$A:$A,0)),INDEX('Org functional rollups'!$D:$D,MATCH($B356,'Org functional rollups'!$A:$A,0)),0)","v":"Common"}]
[{"$f":"'12.2018 Data'!A337","v":"921000"},{"$f":"'12.2018 Data'!B337","v":"G39"},{"$f":"'12.2018 Data'!C337","v":"CD"},{"$f":"'12.2018 Data'!D337","v":"AA"},{"$f":"'12.2018 Data'!E337","v":"OPER"},{"$f":"'12.2018 Data'!F337","v":885.92},{"$f":"'12.2018 Data'!G337","v":621.34},{"$f":"'12.2018 Data'!H337","v":182.05},{"$f":"'12.2018 Data'!I337","v":82.53},{"$f":"'12.2018 Data'!J337","v":0},"921",885.92,621.34,182.05,82.53,0,{"$f":"IF(ISNUMBER(MATCH($B357,'Org functional rollups'!$A:$A,0)),INDEX('Org functional rollups'!$D:$D,MATCH($B357,'Org functional rollups'!$A:$A,0)),0)","v":"Common"}]
[{"$f":"'12.2018 Data'!A338","v":"921000"},{"$f":"'12.2018 Data'!B338","v":"G50"},{"$f":"'12.2018 Data'!C338","v":"CD"},{"$f":"'12.2018 Data'!D338","v":"AA"},{"$f":"'12.2018 Data'!E338","v":"OPER"},{"$f":"'12.2018 Data'!F338","v":3238.04},{"$f":"'12.2018 Data'!G338","v":2270.9899999999998},{"$f":"'12.2018 Data'!H338","v":665.39},{"$f":"'12.2018 Data'!I338","v":301.66000000000003},{"$f":"'12.2018 Data'!J338","v":0},"921",3238.04,{"$f":"IF(ISNUMBER(G358),G358,0)","v":2270.9899999999998},{"$f":"IF(ISNUMBER(H358),H358,0)","v":665.39},{"$f":"IF(ISNUMBER(I358),I358,0)","v":301.66000000000003},{"$f":"IF(ISNUMBER(J358),J358,0)","v":0},{"$f":"IF(ISNUMBER(MATCH($B358,'Org functional rollups'!$A:$A,0)),INDEX('Org functional rollups'!$D:$D,MATCH($B358,'Org functional rollups'!$A:$A,0)),0)","v":"Distribution"}]
[{"$f":"'12.2018 Data'!A339","v":"921000"},{"$f":"'12.2018 Data'!B339","v":"G51"},{"$f":"'12.2018 Data'!C339","v":"CD"},{"$f":"'12.2018 Data'!D339","v":"AA"},{"$f":"'12.2018 Data'!E339","v":"OPER"},{"$f":"'12.2018 Data'!F339","v":2137.6},{"$f":"'12.2018 Data'!G339","v":1499.2},{"$f":"'12.2018 Data'!H339","v":439.25},{"$f":"'12.2018 Data'!I339","v":199.15},{"$f":"'12.2018 Data'!J339","v":0},"921",2137.6,1499.2,439.25,199.15,0,{"$f":"IF(ISNUMBER(MATCH($B359,'Org functional rollups'!$A:$A,0)),INDEX('Org functional rollups'!$D:$D,MATCH($B359,'Org functional rollups'!$A:$A,0)),0)","v":"Production"}]
[{"$f":"'12.2018 Data'!A340","v":"921000"},{"$f":"'12.2018 Data'!B340","v":"G53"},{"$f":"'12.2018 Data'!C340","v":"CD"},{"$f":"'12.2018 Data'!D340","v":"AA"},{"$f":"'12.2018 Data'!E340","v":"OPER"},{"$f":"'12.2018 Data'!F340","v":9.25},{"$f":"'12.2018 Data'!G340","v":6.49},{"$f":"'12.2018 Data'!H340","v":1.9},{"$f":"'12.2018 Data'!I340","v":0.86},{"$f":"'12.2018 Data'!J340","v":0},"921",9.25,6.49,1.9,0.86,0,{"$f":"IF(ISNUMBER(MATCH($B360,'Org functional rollups'!$A:$A,0)),INDEX('Org functional rollups'!$D:$D,MATCH($B360,'Org functional rollups'!$A:$A,0)),0)","v":"Distribution"}]
[{"$f":"'12.2018 Data'!A341","v":"921000"},{"$f":"'12.2018 Data'!B341","v":"G54"},{"$f":"'12.2018 Data'!C341","v":"CD"},{"$f":"'12.2018 Data'!D341","v":"AA"},{"$f":"'12.2018 Data'!E341","v":"OPER"},{"$f":"'12.2018 Data'!F341","v":6154.34},{"$f":"'12.2018 Data'!G341","v":4316.3100000000004},{"$f":"'12.2018 Data'!H341","v":1264.6500000000001},{"$f":"'12.2018 Data'!I341","v":573.38},{"$f":"'12.2018 Data'!J341","v":0},"921",6154.34,4316.3100000000004,1264.6500000000001,573.38,0,{"$f":"IF(ISNUMBER(MATCH($B361,'Org functional rollups'!$A:$A,0)),INDEX('Org functional rollups'!$D:$D,MATCH($B361,'Org functional rollups'!$A:$A,0)),0)","v":"Common"}]
[{"$f":"'12.2018 Data'!A342","v":"921000"},{"$f":"'12.2018 Data'!B342","v":"H02"},{"$f":"'12.2018 Data'!C342","v":"CD"},{"$f":"'12.2018 Data'!D342","v":"AA"},{"$f":"'12.2018 Data'!E342","v":"OPER"},{"$f":"'12.2018 Data'!F342","v":268848.12},{"$f":"'12.2018 Data'!G342","v":188556.64},{"$f":"'12.2018 Data'!H342","v":55245.46},{"$f":"'12.2018 Data'!I342","v":25046.02},{"$f":"'12.2018 Data'!J342","v":0},"921",268848.12,188556.64,55245.46,25046.02,0,{"$f":"IF(ISNUMBER(MATCH($B362,'Org functional rollups'!$A:$A,0)),INDEX('Org functional rollups'!$D:$D,MATCH($B362,'Org functional rollups'!$A:$A,0)),0)","v":"Common"}]
[{"$f":"'12.2018 Data'!A343","v":"921000"},{"$f":"'12.2018 Data'!B343","v":"H04"},{"$f":"'12.2018 Data'!C343","v":"CD"},{"$f":"'12.2018 Data'!D343","v":"AA"},{"$f":"'12.2018 Data'!E343","v":"OPER"},{"$f":"'12.2018 Data'!F343","v":27940.240000000002},{"$f":"'12.2018 Data'!G343","v":19595.919999999998},{"$f":"'12.2018 Data'!H343","v":5741.37},{"$f":"'12.2018 Data'!I343","v":2602.9499999999998},{"$f":"'12.2018 Data'!J343","v":0},"921",27940.240000000002,19595.919999999998,5741.37,2602.9499999999998,0,{"$f":"IF(ISNUMBER(MATCH($B363,'Org functional rollups'!$A:$A,0)),INDEX('Org functional rollups'!$D:$D,MATCH($B363,'Org functional rollups'!$A:$A,0)),0)","v":"Production"}]
[{"$f":"'12.2018 Data'!A344","v":"921000"},{"$f":"'12.2018 Data'!B344","v":"H04"},{"$f":"'12.2018 Data'!C344","v":"CD"},{"$f":"'12.2018 Data'!D344","v":"AN"},{"$f":"'12.2018 Data'!E344","v":"OPER"},{"$f":"'12.2018 Data'!F344","v":117.45},{"$f":"'12.2018 Data'!G344","v":91.28},{"$f":"'12.2018 Data'!H344","v":26.17},{"$f":"'12.2018 Data'!I344","v":0},{"$f":"'12.2018 Data'!J344","v":0},"921",117.45,91.28,26.17,0,0,{"$f":"IF(ISNUMBER(MATCH($B364,'Org functional rollups'!$A:$A,0)),INDEX('Org functional rollups'!$D:$D,MATCH($B364,'Org functional rollups'!$A:$A,0)),0)","v":"Production"}]
[{"$f":"'12.2018 Data'!A345","v":"921000"},{"$f":"'12.2018 Data'!B345","v":"H07"},{"$f":"'12.2018 Data'!C345","v":"CD"},{"$f":"'12.2018 Data'!D345","v":"AA"},{"$f":"'12.2018 Data'!E345","v":"OPER"},{"$f":"'12.2018 Data'!F345","v":6534.98},{"$f":"'12.2018 Data'!G345","v":4583.32},{"$f":"'12.2018 Data'!H345","v":1342.87},{"$f":"'12.2018 Data'!I345","v":608.79},{"$f":"'12.2018 Data'!J345","v":0},"921",6534.98,4583.32,1342.87,608.79,0,{"$f":"IF(ISNUMBER(MATCH($B365,'Org functional rollups'!$A:$A,0)),INDEX('Org functional rollups'!$D:$D,MATCH($B365,'Org functional rollups'!$A:$A,0)),0)","v":"Common"}]
[{"$f":"'12.2018 Data'!A346","v":"921000"},{"$f":"'12.2018 Data'!B346","v":"H14"},{"$f":"'12.2018 Data'!C346","v":"CD"},{"$f":"'12.2018 Data'!D346","v":"AA"},{"$f":"'12.2018 Data'!E346","v":"OPER"},{"$f":"'12.2018 Data'!F346","v":2229.4699999999998},{"$f":"'12.2018 Data'!G346","v":1563.69},{"$f":"'12.2018 Data'!H346","v":458.06},{"$f":"'12.2018 Data'!I346","v":207.72},{"$f":"'12.2018 Data'!J346","v":0},"921",2229.4699999999998,1563.69,458.06,207.72,0,{"$f":"IF(ISNUMBER(MATCH($B366,'Org functional rollups'!$A:$A,0)),INDEX('Org functional rollups'!$D:$D,MATCH($B366,'Org functional rollups'!$A:$A,0)),0)","v":"Customer"}]
[{"$f":"'12.2018 Data'!A347","v":"921000"},{"$f":"'12.2018 Data'!B347","v":"H50"},{"$f":"'12.2018 Data'!C347","v":"CD"},{"$f":"'12.2018 Data'!D347","v":"AA"},{"$f":"'12.2018 Data'!E347","v":"OPER"},{"$f":"'12.2018 Data'!F347","v":708.81},{"$f":"'12.2018 Data'!G347","v":497.1},{"$f":"'12.2018 Data'!H347","v":145.62},{"$f":"'12.2018 Data'!I347","v":66.09},{"$f":"'12.2018 Data'!J347","v":0},"921",708.81,497.1,145.62,66.09,0,{"$f":"IF(ISNUMBER(MATCH($B367,'Org functional rollups'!$A:$A,0)),INDEX('Org functional rollups'!$D:$D,MATCH($B367,'Org functional rollups'!$A:$A,0)),0)","v":"Distribution"}]
[{"$f":"'12.2018 Data'!A348","v":"921000"},{"$f":"'12.2018 Data'!B348","v":"H51"},{"$f":"'12.2018 Data'!C348","v":"CD"},{"$f":"'12.2018 Data'!D348","v":"AA"},{"$f":"'12.2018 Data'!E348","v":"OPER"},{"$f":"'12.2018 Data'!F348","v":89214.89},{"$f":"'12.2018 Data'!G348","v":62570.84},{"$f":"'12.2018 Data'!H348","v":18332.78},{"$f":"'12.2018 Data'!I348","v":8311.27},{"$f":"'12.2018 Data'!J348","v":0},"921",89214.89,62570.84,18332.78,8311.27,0,{"$f":"IF(ISNUMBER(MATCH($B368,'Org functional rollups'!$A:$A,0)),INDEX('Org functional rollups'!$D:$D,MATCH($B368,'Org functional rollups'!$A:$A,0)),0)","v":"Common"}]
[{"$f":"'12.2018 Data'!A349","v":"921000"},{"$f":"'12.2018 Data'!B349","v":"H53"},{"$f":"'12.2018 Data'!C349","v":"CD"},{"$f":"'12.2018 Data'!D349","v":"AA"},{"$f":"'12.2018 Data'!E349","v":"OPER"},{"$f":"'12.2018 Data'!F349","v":71.260000000000005},{"$f":"'12.2018 Data'!G349","v":49.98},{"$f":"'12.2018 Data'!H349","v":14.64},{"$f":"'12.2018 Data'!I349","v":6.64},{"$f":"'12.2018 Data'!J349","v":0},"921",71.260000000000005,49.98,14.64,6.64,0,{"$f":"IF(ISNUMBER(MATCH($B369,'Org functional rollups'!$A:$A,0)),INDEX('Org functional rollups'!$D:$D,MATCH($B369,'Org functional rollups'!$A:$A,0)),0)","v":"Distribution"}]
[{"$f":"'12.2018 Data'!A350","v":"921000"},{"$f":"'12.2018 Data'!B350","v":"H54"},{"$f":"'12.2018 Data'!C350","v":"CD"},{"$f":"'12.2018 Data'!D350","v":"AA"},{"$f":"'12.2018 Data'!E350","v":"OPER"},{"$f":"'12.2018 Data'!F350","v":8526.35},{"$f":"'12.2018 Data'!G350","v":5979.99},{"$f":"'12.2018 Data'!H350","v":1752.03},{"$f":"'12.2018 Data'!I350","v":794.33},{"$f":"'12.2018 Data'!J350","v":0},"921",8526.35,5979.99,1752.03,794.33,0,{"$f":"IF(ISNUMBER(MATCH($B370,'Org functional rollups'!$A:$A,0)),INDEX('Org functional rollups'!$D:$D,MATCH($B370,'Org functional rollups'!$A:$A,0)),0)","v":"Customer"}]
[{"$f":"'12.2018 Data'!A351","v":"921000"},{"$f":"'12.2018 Data'!B351","v":"I02"},{"$f":"'12.2018 Data'!C351","v":"CD"},{"$f":"'12.2018 Data'!D351","v":"AA"},{"$f":"'12.2018 Data'!E351","v":"OPER"},{"$f":"'12.2018 Data'!F351","v":17400.11},{"$f":"'12.2018 Data'!G351","v":12203.61},{"$f":"'12.2018 Data'!H351","v":3575.38},{"$f":"'12.2018 Data'!I351","v":1621.12},{"$f":"'12.2018 Data'!J351","v":0},"921",17400.11,12203.61,3575.38,1621.12,0,{"$f":"IF(ISNUMBER(MATCH($B371,'Org functional rollups'!$A:$A,0)),INDEX('Org functional rollups'!$D:$D,MATCH($B371,'Org functional rollups'!$A:$A,0)),0)","v":"Distribution"}]
[{"$f":"'12.2018 Data'!A352","v":"921000"},{"$f":"'12.2018 Data'!B352","v":"I02"},{"$f":"'12.2018 Data'!C352","v":"GD"},{"$f":"'12.2018 Data'!D352","v":"AA"},{"$f":"'12.2018 Data'!E352","v":"OPER"},{"$f":"'12.2018 Data'!F352","v":11.32},{"$f":"'12.2018 Data'!G352","v":0},{"$f":"'12.2018 Data'!H352","v":7.76},{"$f":"'12.2018 Data'!I352","v":3.56},{"$f":"'12.2018 Data'!J352","v":0},"921",11.32,0,7.76,3.56,0,{"$f":"IF(ISNUMBER(MATCH($B372,'Org functional rollups'!$A:$A,0)),INDEX('Org functional rollups'!$D:$D,MATCH($B372,'Org functional rollups'!$A:$A,0)),0)","v":"Distribution"}]
[{"$f":"'12.2018 Data'!A353","v":"921000"},{"$f":"'12.2018 Data'!B353","v":"I08"},{"$f":"'12.2018 Data'!C353","v":"CD"},{"$f":"'12.2018 Data'!D353","v":"AA"},{"$f":"'12.2018 Data'!E353","v":"OPER"},{"$f":"'12.2018 Data'!F353","v":2768.04},{"$f":"'12.2018 Data'!G353","v":1941.37},{"$f":"'12.2018 Data'!H353","v":568.77},{"$f":"'12.2018 Data'!I353","v":257.89999999999998},{"$f":"'12.2018 Data'!J353","v":0},"921",2768.04,1941.37,568.77,257.89999999999998,0,{"$f":"IF(ISNUMBER(MATCH($B373,'Org functional rollups'!$A:$A,0)),INDEX('Org functional rollups'!$D:$D,MATCH($B373,'Org functional rollups'!$A:$A,0)),0)","v":"Distribution"}]
[{"$f":"'12.2018 Data'!A354","v":"921000"},{"$f":"'12.2018 Data'!B354","v":"I50"},{"$f":"'12.2018 Data'!C354","v":"CD"},{"$f":"'12.2018 Data'!D354","v":"AA"},{"$f":"'12.2018 Data'!E354","v":"OPER"},{"$f":"'12.2018 Data'!F354","v":641.34},{"$f":"'12.2018 Data'!G354","v":449.82},{"$f":"'12.2018 Data'!H354","v":131.76},{"$f":"'12.2018 Data'!I354","v":59.76},{"$f":"'12.2018 Data'!J354","v":0},"921",641.34,449.82,131.76,59.76,0,{"$f":"IF(ISNUMBER(MATCH($B374,'Org functional rollups'!$A:$A,0)),INDEX('Org functional rollups'!$D:$D,MATCH($B374,'Org functional rollups'!$A:$A,0)),0)","v":"Customer"}]
[{"$f":"'12.2018 Data'!A355","v":"921000"},{"$f":"'12.2018 Data'!B355","v":"J02"},{"$f":"'12.2018 Data'!C355","v":"CD"},{"$f":"'12.2018 Data'!D355","v":"AA"},{"$f":"'12.2018 Data'!E355","v":"OPER"},{"$f":"'12.2018 Data'!F355","v":238.5},{"$f":"'12.2018 Data'!G355","v":167.27},{"$f":"'12.2018 Data'!H355","v":49.01},{"$f":"'12.2018 Data'!I355","v":22.22},{"$f":"'12.2018 Data'!J355","v":0},"921",238.5,167.27,49.01,22.22,0,{"$f":"IF(ISNUMBER(MATCH($B375,'Org functional rollups'!$A:$A,0)),INDEX('Org functional rollups'!$D:$D,MATCH($B375,'Org functional rollups'!$A:$A,0)),0)","v":"Customer"}]
[{"$f":"'12.2018 Data'!A356","v":"921000"},{"$f":"'12.2018 Data'!B356","v":"J07"},{"$f":"'12.2018 Data'!C356","v":"ED"},{"$f":"'12.2018 Data'!D356","v":"AN"},{"$f":"'12.2018 Data'!E356","v":"OPER"},{"$f":"'12.2018 Data'!F356","v":1175.82},{"$f":"'12.2018 Data'!G356","v":1175.82},{"$f":"'12.2018 Data'!H356","v":0},{"$f":"'12.2018 Data'!I356","v":0},{"$f":"'12.2018 Data'!J356","v":0},"921",1175.82,1175.82,0,0,0,{"$f":"IF(ISNUMBER(MATCH($B376,'Org functional rollups'!$A:$A,0)),INDEX('Org functional rollups'!$D:$D,MATCH($B376,'Org functional rollups'!$A:$A,0)),0)","v":"Production"}]
[{"$f":"'12.2018 Data'!A357","v":"921000"},{"$f":"'12.2018 Data'!B357","v":"J07"},{"$f":"'12.2018 Data'!C357","v":"CD"},{"$f":"'12.2018 Data'!D357","v":"AA"},{"$f":"'12.2018 Data'!E357","v":"OPER"},{"$f":"'12.2018 Data'!F357","v":4280.79},{"$f":"'12.2018 Data'!G357","v":3002.4},{"$f":"'12.2018 Data'!H357","v":879.55},{"$f":"'12.2018 Data'!I357","v":398.84},{"$f":"'12.2018 Data'!J357","v":0},"921",4280.79,3002.4,879.55,398.84,0,{"$f":"IF(ISNUMBER(MATCH($B377,'Org functional rollups'!$A:$A,0)),INDEX('Org functional rollups'!$D:$D,MATCH($B377,'Org functional rollups'!$A:$A,0)),0)","v":"Production"}]
[{"$f":"'12.2018 Data'!A358","v":"921000"},{"$f":"'12.2018 Data'!B358","v":"J08"},{"$f":"'12.2018 Data'!C358","v":"CD"},{"$f":"'12.2018 Data'!D358","v":"WA"},{"$f":"'12.2018 Data'!E358","v":"OPER"},{"$f":"'12.2018 Data'!F358","v":725.66},{"$f":"'12.2018 Data'!G358","v":563.95000000000005},{"$f":"'12.2018 Data'!H358","v":161.71},{"$f":"'12.2018 Data'!I358","v":0},{"$f":"'12.2018 Data'!J358","v":0},"921",725.66,563.95000000000005,161.71,0,0,{"$f":"IF(ISNUMBER(MATCH($B378,'Org functional rollups'!$A:$A,0)),INDEX('Org functional rollups'!$D:$D,MATCH($B378,'Org functional rollups'!$A:$A,0)),0)","v":"Distribution"}]
[{"$f":"'12.2018 Data'!A359","v":"921000"},{"$f":"'12.2018 Data'!B359","v":"J08"},{"$f":"'12.2018 Data'!C359","v":"CD"},{"$f":"'12.2018 Data'!D359","v":"AA"},{"$f":"'12.2018 Data'!E359","v":"OPER"},{"$f":"'12.2018 Data'!F359","v":321.54000000000002},{"$f":"'12.2018 Data'!G359","v":225.51},{"$f":"'12.2018 Data'!H359","v":66.06},{"$f":"'12.2018 Data'!I359","v":29.97},{"$f":"'12.2018 Data'!J359","v":0},"921",321.54000000000002,225.51,66.06,29.97,0,{"$f":"IF(ISNUMBER(MATCH($B379,'Org functional rollups'!$A:$A,0)),INDEX('Org functional rollups'!$D:$D,MATCH($B379,'Org functional rollups'!$A:$A,0)),0)","v":"Distribution"}]
[{"$f":"'12.2018 Data'!A360","v":"921000"},{"$f":"'12.2018 Data'!B360","v":"J09"},{"$f":"'12.2018 Data'!C360","v":"CD"},{"$f":"'12.2018 Data'!D360","v":"AN"},{"$f":"'12.2018 Data'!E360","v":"OPER"},{"$f":"'12.2018 Data'!F360","v":14101.06},{"$f":"'12.2018 Data'!G360","v":10958.62},{"$f":"'12.2018 Data'!H360","v":3142.44},{"$f":"'12.2018 Data'!I360","v":0},{"$f":"'12.2018 Data'!J360","v":0},"921",14101.06,10958.62,3142.44,0,0,{"$f":"IF(ISNUMBER(MATCH($B380,'Org functional rollups'!$A:$A,0)),INDEX('Org functional rollups'!$D:$D,MATCH($B380,'Org functional rollups'!$A:$A,0)),0)","v":"Common"}]
[{"$f":"'12.2018 Data'!A361","v":"921000"},{"$f":"'12.2018 Data'!B361","v":"J09"},{"$f":"'12.2018 Data'!C361","v":"CD"},{"$f":"'12.2018 Data'!D361","v":"AA"},{"$f":"'12.2018 Data'!E361","v":"OPER"},{"$f":"'12.2018 Data'!F361","v":7372.04},{"$f":"'12.2018 Data'!G361","v":5170.3900000000003},{"$f":"'12.2018 Data'!H361","v":1514.83},{"$f":"'12.2018 Data'!I361","v":686.82},{"$f":"'12.2018 Data'!J361","v":0},"921",7372.04,5170.3900000000003,1514.83,686.82,0,{"$f":"IF(ISNUMBER(MATCH($B381,'Org functional rollups'!$A:$A,0)),INDEX('Org functional rollups'!$D:$D,MATCH($B381,'Org functional rollups'!$A:$A,0)),0)","v":"Common"}]
[{"$f":"'12.2018 Data'!A362","v":"921000"},{"$f":"'12.2018 Data'!B362","v":"J29"},{"$f":"'12.2018 Data'!C362","v":"CD"},{"$f":"'12.2018 Data'!D362","v":"AN"},{"$f":"'12.2018 Data'!E362","v":"OPER"},{"$f":"'12.2018 Data'!F362","v":32383.5},{"$f":"'12.2018 Data'!G362","v":25166.83},{"$f":"'12.2018 Data'!H362","v":7216.67},{"$f":"'12.2018 Data'!I362","v":0},{"$f":"'12.2018 Data'!J362","v":0},"921",32383.5,25166.83,7216.67,0,0,{"$f":"IF(ISNUMBER(MATCH($B382,'Org functional rollups'!$A:$A,0)),INDEX('Org functional rollups'!$D:$D,MATCH($B382,'Org functional rollups'!$A:$A,0)),0)","v":"Common"}]
[{"$f":"'12.2018 Data'!A363","v":"921000"},{"$f":"'12.2018 Data'!B363","v":"J29"},{"$f":"'12.2018 Data'!C363","v":"CD"},{"$f":"'12.2018 Data'!D363","v":"AA"},{"$f":"'12.2018 Data'!E363","v":"OPER"},{"$f":"'12.2018 Data'!F363","v":1683675.84},{"$f":"'12.2018 Data'!G363","v":1180846.48},{"$f":"'12.2018 Data'!H363","v":345978.34},{"$f":"'12.2018 Data'!I363","v":156851.01999999999},{"$f":"'12.2018 Data'!J363","v":0},"921",1683675.84,1180846.48,345978.34,156851.01999999999,0,{"$f":"IF(ISNUMBER(MATCH($B383,'Org functional rollups'!$A:$A,0)),INDEX('Org functional rollups'!$D:$D,MATCH($B383,'Org functional rollups'!$A:$A,0)),0)","v":"Common"}]
[{"$f":"'12.2018 Data'!A364","v":"921000"},{"$f":"'12.2018 Data'!B364","v":"J29"},{"$f":"'12.2018 Data'!C364","v":"ED"},{"$f":"'12.2018 Data'!D364","v":"WA"},{"$f":"'12.2018 Data'!E364","v":"OPER"},{"$f":"'12.2018 Data'!F364","v":26170.92},{"$f":"'12.2018 Data'!G364","v":26170.92},{"$f":"'12.2018 Data'!H364","v":0},{"$f":"'12.2018 Data'!I364","v":0},{"$f":"'12.2018 Data'!J364","v":0},"921",26170.92,26170.92,0,0,0,{"$f":"IF(ISNUMBER(MATCH($B384,'Org functional rollups'!$A:$A,0)),INDEX('Org functional rollups'!$D:$D,MATCH($B384,'Org functional rollups'!$A:$A,0)),0)","v":"Common"}]
[{"$f":"'12.2018 Data'!A365","v":"921000"},{"$f":"'12.2018 Data'!B365","v":"J50"},{"$f":"'12.2018 Data'!C365","v":"CD"},{"$f":"'12.2018 Data'!D365","v":"AA"},{"$f":"'12.2018 Data'!E365","v":"OPER"},{"$f":"'12.2018 Data'!F365","v":1410.9},{"$f":"'12.2018 Data'!G365","v":989.56},{"$f":"'12.2018 Data'!H365","v":289.91000000000003},{"$f":"'12.2018 Data'!I365","v":131.43},{"$f":"'12.2018 Data'!J365","v":0},"921",1410.9,989.56,289.91000000000003,131.43,0,{"$f":"IF(ISNUMBER(MATCH($B385,'Org functional rollups'!$A:$A,0)),INDEX('Org functional rollups'!$D:$D,MATCH($B385,'Org functional rollups'!$A:$A,0)),0)","v":"Distribution"}]
[{"$f":"'12.2018 Data'!A366","v":"921000"},{"$f":"'12.2018 Data'!B366","v":"J50"},{"$f":"'12.2018 Data'!C366","v":"CD"},{"$f":"'12.2018 Data'!D366","v":"WA"},{"$f":"'12.2018 Data'!E366","v":"OPER"},{"$f":"'12.2018 Data'!F366","v":24},{"$f":"'12.2018 Data'!G366","v":18.649999999999999},{"$f":"'12.2018 Data'!H366","v":5.35},{"$f":"'12.2018 Data'!I366","v":0},{"$f":"'12.2018 Data'!J366","v":0},"921",24,18.649999999999999,5.35,0,0,{"$f":"IF(ISNUMBER(MATCH($B386,'Org functional rollups'!$A:$A,0)),INDEX('Org functional rollups'!$D:$D,MATCH($B386,'Org functional rollups'!$A:$A,0)),0)","v":"Distribution"}]
[{"$f":"'12.2018 Data'!A367","v":"921000"},{"$f":"'12.2018 Data'!B367","v":"J50"},{"$f":"'12.2018 Data'!C367","v":"ED"},{"$f":"'12.2018 Data'!D367","v":"AN"},{"$f":"'12.2018 Data'!E367","v":"OPER"},{"$f":"'12.2018 Data'!F367","v":0},{"$f":"'12.2018 Data'!G367","v":0},{"$f":"'12.2018 Data'!H367","v":0},{"$f":"'12.2018 Data'!I367","v":0},{"$f":"'12.2018 Data'!J367","v":0},"921",0,0,0,0,0,{"$f":"IF(ISNUMBER(MATCH($B387,'Org functional rollups'!$A:$A,0)),INDEX('Org functional rollups'!$D:$D,MATCH($B387,'Org functional rollups'!$A:$A,0)),0)","v":"Distribution"}]
[{"$f":"'12.2018 Data'!A368","v":"921000"},{"$f":"'12.2018 Data'!B368","v":"J51"},{"$f":"'12.2018 Data'!C368","v":"CD"},{"$f":"'12.2018 Data'!D368","v":"AA"},{"$f":"'12.2018 Data'!E368","v":"OPER"},{"$f":"'12.2018 Data'!F368","v":1196.75},{"$f":"'12.2018 Data'!G368","v":839.34},{"$f":"'12.2018 Data'!H368","v":245.93},{"$f":"'12.2018 Data'!I368","v":111.48},{"$f":"'12.2018 Data'!J368","v":0},"921",1196.75,839.34,245.93,111.48,0,{"$f":"IF(ISNUMBER(MATCH($B388,'Org functional rollups'!$A:$A,0)),INDEX('Org functional rollups'!$D:$D,MATCH($B388,'Org functional rollups'!$A:$A,0)),0)","v":"Common"}]
[{"$f":"'12.2018 Data'!A369","v":"921000"},{"$f":"'12.2018 Data'!B369","v":"J53"},{"$f":"'12.2018 Data'!C369","v":"CD"},{"$f":"'12.2018 Data'!D369","v":"AA"},{"$f":"'12.2018 Data'!E369","v":"OPER"},{"$f":"'12.2018 Data'!F369","v":12932.85},{"$f":"'12.2018 Data'!G369","v":9070.4500000000007},{"$f":"'12.2018 Data'!H369","v":2657.55},{"$f":"'12.2018 Data'!I369","v":1204.8499999999999},{"$f":"'12.2018 Data'!J369","v":0},"921",12932.85,9070.4500000000007,2657.55,1204.8499999999999,0,{"$f":"IF(ISNUMBER(MATCH($B389,'Org functional rollups'!$A:$A,0)),INDEX('Org functional rollups'!$D:$D,MATCH($B389,'Org functional rollups'!$A:$A,0)),0)","v":"Distribution"}]
[{"$f":"'12.2018 Data'!A370","v":"921000"},{"$f":"'12.2018 Data'!B370","v":"J54"},{"$f":"'12.2018 Data'!C370","v":"CD"},{"$f":"'12.2018 Data'!D370","v":"AA"},{"$f":"'12.2018 Data'!E370","v":"OPER"},{"$f":"'12.2018 Data'!F370","v":8158.9},{"$f":"'12.2018 Data'!G370","v":5722.27},{"$f":"'12.2018 Data'!H370","v":1676.56},{"$f":"'12.2018 Data'!I370","v":760.07},{"$f":"'12.2018 Data'!J370","v":0},"921",8158.9,5722.27,1676.56,760.07,0,{"$f":"IF(ISNUMBER(MATCH($B390,'Org functional rollups'!$A:$A,0)),INDEX('Org functional rollups'!$D:$D,MATCH($B390,'Org functional rollups'!$A:$A,0)),0)","v":"Common"}]
[{"$f":"'12.2018 Data'!A371","v":"921000"},{"$f":"'12.2018 Data'!B371","v":"K02"},{"$f":"'12.2018 Data'!C371","v":"CD"},{"$f":"'12.2018 Data'!D371","v":"AA"},{"$f":"'12.2018 Data'!E371","v":"OPER"},{"$f":"'12.2018 Data'!F371","v":24623.86},{"$f":"'12.2018 Data'!G371","v":17269.96},{"$f":"'12.2018 Data'!H371","v":5059.9399999999996},{"$f":"'12.2018 Data'!I371","v":2293.96},{"$f":"'12.2018 Data'!J371","v":0},"921",24623.86,17269.96,5059.9399999999996,2293.96,0,{"$f":"IF(ISNUMBER(MATCH($B391,'Org functional rollups'!$A:$A,0)),INDEX('Org functional rollups'!$D:$D,MATCH($B391,'Org functional rollups'!$A:$A,0)),0)","v":"Common"}]
[{"$f":"'12.2018 Data'!A372","v":"921000"},{"$f":"'12.2018 Data'!B372","v":"K08"},{"$f":"'12.2018 Data'!C372","v":"CD"},{"$f":"'12.2018 Data'!D372","v":"AA"},{"$f":"'12.2018 Data'!E372","v":"OPER"},{"$f":"'12.2018 Data'!F372","v":934.21},{"$f":"'12.2018 Data'!G372","v":655.21},{"$f":"'12.2018 Data'!H372","v":191.97},{"$f":"'12.2018 Data'!I372","v":87.03},{"$f":"'12.2018 Data'!J372","v":0},"921",934.21,655.21,191.97,87.03,0,{"$f":"IF(ISNUMBER(MATCH($B392,'Org functional rollups'!$A:$A,0)),INDEX('Org functional rollups'!$D:$D,MATCH($B392,'Org functional rollups'!$A:$A,0)),0)","v":"Distribution"}]
[{"$f":"'12.2018 Data'!A373","v":"921000"},{"$f":"'12.2018 Data'!B373","v":"K19"},{"$f":"'12.2018 Data'!C373","v":"CD"},{"$f":"'12.2018 Data'!D373","v":"AN"},{"$f":"'12.2018 Data'!E373","v":"OPER"},{"$f":"'12.2018 Data'!F373","v":17.829999999999998},{"$f":"'12.2018 Data'!G373","v":13.86},{"$f":"'12.2018 Data'!H373","v":3.97},{"$f":"'12.2018 Data'!I373","v":0},{"$f":"'12.2018 Data'!J373","v":0},"921",17.829999999999998,13.86,3.97,0,0,{"$f":"IF(ISNUMBER(MATCH($B393,'Org functional rollups'!$A:$A,0)),INDEX('Org functional rollups'!$D:$D,MATCH($B393,'Org functional rollups'!$A:$A,0)),0)","v":"Common"}]
[{"$f":"'12.2018 Data'!A374","v":"921000"},{"$f":"'12.2018 Data'!B374","v":"K19"},{"$f":"'12.2018 Data'!C374","v":"CD"},{"$f":"'12.2018 Data'!D374","v":"AA"},{"$f":"'12.2018 Data'!E374","v":"OPER"},{"$f":"'12.2018 Data'!F374","v":80.59},{"$f":"'12.2018 Data'!G374","v":56.52},{"$f":"'12.2018 Data'!H374","v":16.559999999999999},{"$f":"'12.2018 Data'!I374","v":7.51},{"$f":"'12.2018 Data'!J374","v":0},"921",80.59,56.52,16.559999999999999,7.51,0,{"$f":"IF(ISNUMBER(MATCH($B394,'Org functional rollups'!$A:$A,0)),INDEX('Org functional rollups'!$D:$D,MATCH($B394,'Org functional rollups'!$A:$A,0)),0)","v":"Common"}]
[{"$f":"'12.2018 Data'!A375","v":"921000"},{"$f":"'12.2018 Data'!B375","v":"K39"},{"$f":"'12.2018 Data'!C375","v":"CD"},{"$f":"'12.2018 Data'!D375","v":"AA"},{"$f":"'12.2018 Data'!E375","v":"OPER"},{"$f":"'12.2018 Data'!F375","v":1361.34},{"$f":"'12.2018 Data'!G375","v":954.78},{"$f":"'12.2018 Data'!H375","v":279.74},{"$f":"'12.2018 Data'!I375","v":126.82},{"$f":"'12.2018 Data'!J375","v":0},"921",1361.34,954.78,279.74,126.82,0,{"$f":"IF(ISNUMBER(MATCH($B395,'Org functional rollups'!$A:$A,0)),INDEX('Org functional rollups'!$D:$D,MATCH($B395,'Org functional rollups'!$A:$A,0)),0)","v":"Common"}]
[{"$f":"'12.2018 Data'!A376","v":"921000"},{"$f":"'12.2018 Data'!B376","v":"K50"},{"$f":"'12.2018 Data'!C376","v":"CD"},{"$f":"'12.2018 Data'!D376","v":"AA"},{"$f":"'12.2018 Data'!E376","v":"OPER"},{"$f":"'12.2018 Data'!F376","v":2961.91},{"$f":"'12.2018 Data'!G376","v":2077.38},{"$f":"'12.2018 Data'!H376","v":608.54999999999995},{"$f":"'12.2018 Data'!I376","v":275.98},{"$f":"'12.2018 Data'!J376","v":0},"921",2961.91,2077.38,608.54999999999995,275.98,0,{"$f":"IF(ISNUMBER(MATCH($B396,'Org functional rollups'!$A:$A,0)),INDEX('Org functional rollups'!$D:$D,MATCH($B396,'Org functional rollups'!$A:$A,0)),0)","v":"Distribution"}]
[{"$f":"'12.2018 Data'!A377","v":"921000"},{"$f":"'12.2018 Data'!B377","v":"K50"},{"$f":"'12.2018 Data'!C377","v":"CD"},{"$f":"'12.2018 Data'!D377","v":"WA"},{"$f":"'12.2018 Data'!E377","v":"OPER"},{"$f":"'12.2018 Data'!F377","v":110.71},{"$f":"'12.2018 Data'!G377","v":86.04},{"$f":"'12.2018 Data'!H377","v":24.67},{"$f":"'12.2018 Data'!I377","v":0},{"$f":"'12.2018 Data'!J377","v":0},"921",110.71,86.04,24.67,0,0,{"$f":"IF(ISNUMBER(MATCH($B397,'Org functional rollups'!$A:$A,0)),INDEX('Org functional rollups'!$D:$D,MATCH($B397,'Org functional rollups'!$A:$A,0)),0)","v":"Distribution"}]
[{"$f":"'12.2018 Data'!A378","v":"921000"},{"$f":"'12.2018 Data'!B378","v":"K51"},{"$f":"'12.2018 Data'!C378","v":"CD"},{"$f":"'12.2018 Data'!D378","v":"AA"},{"$f":"'12.2018 Data'!E378","v":"OPER"},{"$f":"'12.2018 Data'!F378","v":89576.42},{"$f":"'12.2018 Data'!G378","v":62824.36},{"$f":"'12.2018 Data'!H378","v":18407.07},{"$f":"'12.2018 Data'!I378","v":8344.99},{"$f":"'12.2018 Data'!J378","v":0},"921",89576.42,62824.36,18407.07,8344.99,0,{"$f":"IF(ISNUMBER(MATCH($B398,'Org functional rollups'!$A:$A,0)),INDEX('Org functional rollups'!$D:$D,MATCH($B398,'Org functional rollups'!$A:$A,0)),0)","v":"Distribution"}]
[{"$f":"'12.2018 Data'!A379","v":"921000"},{"$f":"'12.2018 Data'!B379","v":"K51"},{"$f":"'12.2018 Data'!C379","v":"GD"},{"$f":"'12.2018 Data'!D379","v":"AA"},{"$f":"'12.2018 Data'!E379","v":"OPER"},{"$f":"'12.2018 Data'!F379","v":687},{"$f":"'12.2018 Data'!G379","v":0},{"$f":"'12.2018 Data'!H379","v":471.02},{"$f":"'12.2018 Data'!I379","v":215.98},{"$f":"'12.2018 Data'!J379","v":0},"921",687,0,471.02,215.98,0,{"$f":"IF(ISNUMBER(MATCH($B399,'Org functional rollups'!$A:$A,0)),INDEX('Org functional rollups'!$D:$D,MATCH($B399,'Org functional rollups'!$A:$A,0)),0)","v":"Distribution"}]
[{"$f":"'12.2018 Data'!A380","v":"921000"},{"$f":"'12.2018 Data'!B380","v":"K53"},{"$f":"'12.2018 Data'!C380","v":"CD"},{"$f":"'12.2018 Data'!D380","v":"AA"},{"$f":"'12.2018 Data'!E380","v":"OPER"},{"$f":"'12.2018 Data'!F380","v":600.9},{"$f":"'12.2018 Data'!G380","v":421.47},{"$f":"'12.2018 Data'!H380","v":123.45},{"$f":"'12.2018 Data'!I380","v":55.98},{"$f":"'12.2018 Data'!J380","v":0},"921",600.9,421.47,123.45,55.98,0,{"$f":"IF(ISNUMBER(MATCH($B400,'Org functional rollups'!$A:$A,0)),INDEX('Org functional rollups'!$D:$D,MATCH($B400,'Org functional rollups'!$A:$A,0)),0)","v":"Customer"}]
[{"$f":"'12.2018 Data'!A381","v":"921000"},{"$f":"'12.2018 Data'!B381","v":"L07"},{"$f":"'12.2018 Data'!C381","v":"CD"},{"$f":"'12.2018 Data'!D381","v":"AA"},{"$f":"'12.2018 Data'!E381","v":"OPER"},{"$f":"'12.2018 Data'!F381","v":1267.22},{"$f":"'12.2018 Data'!G381","v":888.78},{"$f":"'12.2018 Data'!H381","v":260.39999999999998},{"$f":"'12.2018 Data'!I381","v":118.04},{"$f":"'12.2018 Data'!J381","v":0},"921",1267.22,888.78,260.39999999999998,118.04,0,{"$f":"IF(ISNUMBER(MATCH($B401,'Org functional rollups'!$A:$A,0)),INDEX('Org functional rollups'!$D:$D,MATCH($B401,'Org functional rollups'!$A:$A,0)),0)","v":"Production"}]
[{"$f":"'12.2018 Data'!A382","v":"921000"},{"$f":"'12.2018 Data'!B382","v":"L08"},{"$f":"'12.2018 Data'!C382","v":"CD"},{"$f":"'12.2018 Data'!D382","v":"AN"},{"$f":"'12.2018 Data'!E382","v":"OPER"},{"$f":"'12.2018 Data'!F382","v":4111.87},{"$f":"'12.2018 Data'!G382","v":3195.55},{"$f":"'12.2018 Data'!H382","v":916.32},{"$f":"'12.2018 Data'!I382","v":0},{"$f":"'12.2018 Data'!J382","v":0},"921",4111.87,3195.55,916.32,0,0,{"$f":"IF(ISNUMBER(MATCH($B402,'Org functional rollups'!$A:$A,0)),INDEX('Org functional rollups'!$D:$D,MATCH($B402,'Org functional rollups'!$A:$A,0)),0)","v":"Transmission"}]
[{"$f":"'12.2018 Data'!A383","v":"921000"},{"$f":"'12.2018 Data'!B383","v":"L08"},{"$f":"'12.2018 Data'!C383","v":"CD"},{"$f":"'12.2018 Data'!D383","v":"AA"},{"$f":"'12.2018 Data'!E383","v":"OPER"},{"$f":"'12.2018 Data'!F383","v":2392.54},{"$f":"'12.2018 Data'!G383","v":1678.02},{"$f":"'12.2018 Data'!H383","v":491.62},{"$f":"'12.2018 Data'!I383","v":222.9},{"$f":"'12.2018 Data'!J383","v":0},"921",2392.54,1678.02,491.62,222.9,0,{"$f":"IF(ISNUMBER(MATCH($B403,'Org functional rollups'!$A:$A,0)),INDEX('Org functional rollups'!$D:$D,MATCH($B403,'Org functional rollups'!$A:$A,0)),0)","v":"Transmission"}]
[{"$f":"'12.2018 Data'!A384","v":"921000"},{"$f":"'12.2018 Data'!B384","v":"L39"},{"$f":"'12.2018 Data'!C384","v":"CD"},{"$f":"'12.2018 Data'!D384","v":"AA"},{"$f":"'12.2018 Data'!E384","v":"OPER"},{"$f":"'12.2018 Data'!F384","v":8615.14},{"$f":"'12.2018 Data'!G384","v":6042.21},{"$f":"'12.2018 Data'!H384","v":1770.31},{"$f":"'12.2018 Data'!I384","v":802.62},{"$f":"'12.2018 Data'!J384","v":0},"921",8615.14,6042.21,1770.31,802.62,0,{"$f":"IF(ISNUMBER(MATCH($B404,'Org functional rollups'!$A:$A,0)),INDEX('Org functional rollups'!$D:$D,MATCH($B404,'Org functional rollups'!$A:$A,0)),0)","v":"Common"}]
[{"$f":"'12.2018 Data'!A385","v":"921000"},{"$f":"'12.2018 Data'!B385","v":"L50"},{"$f":"'12.2018 Data'!C385","v":"CD"},{"$f":"'12.2018 Data'!D385","v":"AA"},{"$f":"'12.2018 Data'!E385","v":"OPER"},{"$f":"'12.2018 Data'!F385","v":213.78},{"$f":"'12.2018 Data'!G385","v":149.94},{"$f":"'12.2018 Data'!H385","v":43.92},{"$f":"'12.2018 Data'!I385","v":19.920000000000002},{"$f":"'12.2018 Data'!J385","v":0},"921",213.78,149.94,43.92,19.920000000000002,0,{"$f":"IF(ISNUMBER(MATCH($B405,'Org functional rollups'!$A:$A,0)),INDEX('Org functional rollups'!$D:$D,MATCH($B405,'Org functional rollups'!$A:$A,0)),0)","v":"Distribution"}]
[{"$f":"'12.2018 Data'!A386","v":"921000"},{"$f":"'12.2018 Data'!B386","v":"L51"},{"$f":"'12.2018 Data'!C386","v":"CD"},{"$f":"'12.2018 Data'!D386","v":"AA"},{"$f":"'12.2018 Data'!E386","v":"OPER"},{"$f":"'12.2018 Data'!F386","v":7629.34},{"$f":"'12.2018 Data'!G386","v":5350.86},{"$f":"'12.2018 Data'!H386","v":1567.75},{"$f":"'12.2018 Data'!I386","v":710.73},{"$f":"'12.2018 Data'!J386","v":0},"921",7629.34,5350.86,1567.75,710.73,0,{"$f":"IF(ISNUMBER(MATCH($B406,'Org functional rollups'!$A:$A,0)),INDEX('Org functional rollups'!$D:$D,MATCH($B406,'Org functional rollups'!$A:$A,0)),0)","v":"Common"}]
[{"$f":"'12.2018 Data'!A387","v":"921000"},{"$f":"'12.2018 Data'!B387","v":"L53"},{"$f":"'12.2018 Data'!C387","v":"CD"},{"$f":"'12.2018 Data'!D387","v":"AA"},{"$f":"'12.2018 Data'!E387","v":"OPER"},{"$f":"'12.2018 Data'!F387","v":1382.85},{"$f":"'12.2018 Data'!G387","v":969.91},{"$f":"'12.2018 Data'!H387","v":284.16000000000003},{"$f":"'12.2018 Data'!I387","v":128.78},{"$f":"'12.2018 Data'!J387","v":0},{"$f":"LEFT(A407,3)","v":"921"},{"$f":"IF(ISNUMBER(F407),F407,0)","v":1382.85},969.91,284.16000000000003,128.78,0,{"$f":"IF(ISNUMBER(MATCH($B407,'Org functional rollups'!$A:$A,0)),INDEX('Org functional rollups'!$D:$D,MATCH($B407,'Org functional rollups'!$A:$A,0)),0)","v":"Distribution"}]
[{"$f":"'12.2018 Data'!A388","v":"921000"},{"$f":"'12.2018 Data'!B388","v":"L54"},{"$f":"'12.2018 Data'!C388","v":"CD"},{"$f":"'12.2018 Data'!D388","v":"AA"},{"$f":"'12.2018 Data'!E388","v":"OPER"},{"$f":"'12.2018 Data'!F388","v":0},{"$f":"'12.2018 Data'!G388","v":0},{"$f":"'12.2018 Data'!H388","v":0},{"$f":"'12.2018 Data'!I388","v":0},{"$f":"'12.2018 Data'!J388","v":0},"921",0,0,0,0,0,{"$f":"IF(ISNUMBER(MATCH($B408,'Org functional rollups'!$A:$A,0)),INDEX('Org functional rollups'!$D:$D,MATCH($B408,'Org functional rollups'!$A:$A,0)),0)","v":"Common"}]
[{"$f":"'12.2018 Data'!A389","v":"921000"},{"$f":"'12.2018 Data'!B389","v":"M02"},{"$f":"'12.2018 Data'!C389","v":"CD"},{"$f":"'12.2018 Data'!D389","v":"AA"},{"$f":"'12.2018 Data'!E389","v":"OPER"},{"$f":"'12.2018 Data'!F389","v":3536.19},{"$f":"'12.2018 Data'!G389","v":2480.15},{"$f":"'12.2018 Data'!H389","v":726.58},{"$f":"'12.2018 Data'!I389","v":329.46},{"$f":"'12.2018 Data'!J389","v":0},"921",3536.19,2480.15,726.58,329.46,0,{"$f":"IF(ISNUMBER(MATCH($B409,'Org functional rollups'!$A:$A,0)),INDEX('Org functional rollups'!$D:$D,MATCH($B409,'Org functional rollups'!$A:$A,0)),0)","v":"Common"}]
[{"$f":"'12.2018 Data'!A390","v":"921000"},{"$f":"'12.2018 Data'!B390","v":"M07"},{"$f":"'12.2018 Data'!C390","v":"CD"},{"$f":"'12.2018 Data'!D390","v":"AA"},{"$f":"'12.2018 Data'!E390","v":"OPER"},{"$f":"'12.2018 Data'!F390","v":5150.05},{"$f":"'12.2018 Data'!G390","v":3612.01},{"$f":"'12.2018 Data'!H390","v":1058.28},{"$f":"'12.2018 Data'!I390","v":479.76},{"$f":"'12.2018 Data'!J390","v":0},"921",5150.05,3612.01,1058.28,479.76,0,{"$f":"IF(ISNUMBER(MATCH($B410,'Org functional rollups'!$A:$A,0)),INDEX('Org functional rollups'!$D:$D,MATCH($B410,'Org functional rollups'!$A:$A,0)),0)","v":"Production"}]
[{"$f":"'12.2018 Data'!A391","v":"921000"},{"$f":"'12.2018 Data'!B391","v":"M08"},{"$f":"'12.2018 Data'!C391","v":"CD"},{"$f":"'12.2018 Data'!D391","v":"AA"},{"$f":"'12.2018 Data'!E391","v":"OPER"},{"$f":"'12.2018 Data'!F391","v":1487.23},{"$f":"'12.2018 Data'!G391","v":1043.07},{"$f":"'12.2018 Data'!H391","v":305.60000000000002},{"$f":"'12.2018 Data'!I391","v":138.56},{"$f":"'12.2018 Data'!J391","v":0},"921",1487.23,1043.07,305.60000000000002,138.56,0,{"$f":"IF(ISNUMBER(MATCH($B411,'Org functional rollups'!$A:$A,0)),INDEX('Org functional rollups'!$D:$D,MATCH($B411,'Org functional rollups'!$A:$A,0)),0)","v":"Distribution"}]
[{"$f":"'12.2018 Data'!A392","v":"921000"},{"$f":"'12.2018 Data'!B392","v":"M08"},{"$f":"'12.2018 Data'!C392","v":"ED"},{"$f":"'12.2018 Data'!D392","v":"AN"},{"$f":"'12.2018 Data'!E392","v":"OPER"},{"$f":"'12.2018 Data'!F392","v":9.25},{"$f":"'12.2018 Data'!G392","v":9.25},{"$f":"'12.2018 Data'!H392","v":0},{"$f":"'12.2018 Data'!I392","v":0},{"$f":"'12.2018 Data'!J392","v":0},"921",9.25,9.25,0,0,0,{"$f":"IF(ISNUMBER(MATCH($B412,'Org functional rollups'!$A:$A,0)),INDEX('Org functional rollups'!$D:$D,MATCH($B412,'Org functional rollups'!$A:$A,0)),0)","v":"Distribution"}]
[{"$f":"'12.2018 Data'!A393","v":"921000"},{"$f":"'12.2018 Data'!B393","v":"M09"},{"$f":"'12.2018 Data'!C393","v":"CD"},{"$f":"'12.2018 Data'!D393","v":"AA"},{"$f":"'12.2018 Data'!E393","v":"OPER"},{"$f":"'12.2018 Data'!F393","v":3674.62},{"$f":"'12.2018 Data'!G393","v":2577.21},{"$f":"'12.2018 Data'!H393","v":755.02},{"$f":"'12.2018 Data'!I393","v":342.39},{"$f":"'12.2018 Data'!J393","v":0},"921",3674.62,2577.21,755.02,342.39,0,{"$f":"IF(ISNUMBER(MATCH($B413,'Org functional rollups'!$A:$A,0)),INDEX('Org functional rollups'!$D:$D,MATCH($B413,'Org functional rollups'!$A:$A,0)),0)","v":"Common"}]
[{"$f":"'12.2018 Data'!A394","v":"921000"},{"$f":"'12.2018 Data'!B394","v":"M11"},{"$f":"'12.2018 Data'!C394","v":"CD"},{"$f":"'12.2018 Data'!D394","v":"AA"},{"$f":"'12.2018 Data'!E394","v":"OPER"},{"$f":"'12.2018 Data'!F394","v":2334.09},{"$f":"'12.2018 Data'!G394","v":1637.03},{"$f":"'12.2018 Data'!H394","v":479.59},{"$f":"'12.2018 Data'!I394","v":217.47},{"$f":"'12.2018 Data'!J394","v":0},"921",2334.09,1637.03,479.59,217.47,0,{"$f":"IF(ISNUMBER(MATCH($B414,'Org functional rollups'!$A:$A,0)),INDEX('Org functional rollups'!$D:$D,MATCH($B414,'Org functional rollups'!$A:$A,0)),0)","v":"Common"}]
[{"$f":"'12.2018 Data'!A395","v":"921000"},{"$f":"'12.2018 Data'!B395","v":"M19"},{"$f":"'12.2018 Data'!C395","v":"CD"},{"$f":"'12.2018 Data'!D395","v":"AA"},{"$f":"'12.2018 Data'!E395","v":"OPER"},{"$f":"'12.2018 Data'!F395","v":6131.72},{"$f":"'12.2018 Data'!G395","v":4300.55},{"$f":"'12.2018 Data'!H395","v":1259.8699999999999},{"$f":"'12.2018 Data'!I395","v":571.29999999999995},{"$f":"'12.2018 Data'!J395","v":0},"921",6131.72,4300.55,1259.8699999999999,571.29999999999995,0,{"$f":"IF(ISNUMBER(MATCH($B415,'Org functional rollups'!$A:$A,0)),INDEX('Org functional rollups'!$D:$D,MATCH($B415,'Org functional rollups'!$A:$A,0)),0)","v":"Common"}]
[{"$f":"'12.2018 Data'!A396","v":"921000"},{"$f":"'12.2018 Data'!B396","v":"M29"},{"$f":"'12.2018 Data'!C396","v":"CD"},{"$f":"'12.2018 Data'!D396","v":"AA"},{"$f":"'12.2018 Data'!E396","v":"OPER"},{"$f":"'12.2018 Data'!F396","v":61},{"$f":"'12.2018 Data'!G396","v":42.77},{"$f":"'12.2018 Data'!H396","v":12.53},{"$f":"'12.2018 Data'!I396","v":5.7},{"$f":"'12.2018 Data'!J396","v":0},"921",61,42.77,12.53,5.7,0,{"$f":"IF(ISNUMBER(MATCH($B416,'Org functional rollups'!$A:$A,0)),INDEX('Org functional rollups'!$D:$D,MATCH($B416,'Org functional rollups'!$A:$A,0)),0)","v":"Common"}]
[{"$f":"'12.2018 Data'!A397","v":"921000"},{"$f":"'12.2018 Data'!B397","v":"M50"},{"$f":"'12.2018 Data'!C397","v":"CD"},{"$f":"'12.2018 Data'!D397","v":"AA"},{"$f":"'12.2018 Data'!E397","v":"OPER"},{"$f":"'12.2018 Data'!F397","v":71.260000000000005},{"$f":"'12.2018 Data'!G397","v":49.98},{"$f":"'12.2018 Data'!H397","v":14.64},{"$f":"'12.2018 Data'!I397","v":6.64},{"$f":"'12.2018 Data'!J397","v":0},"921",71.260000000000005,49.98,14.64,6.64,0,{"$f":"IF(ISNUMBER(MATCH($B417,'Org functional rollups'!$A:$A,0)),INDEX('Org functional rollups'!$D:$D,MATCH($B417,'Org functional rollups'!$A:$A,0)),0)","v":"Distribution"}]
[{"$f":"'12.2018 Data'!A398","v":"921000"},{"$f":"'12.2018 Data'!B398","v":"M54"},{"$f":"'12.2018 Data'!C398","v":"CD"},{"$f":"'12.2018 Data'!D398","v":"AA"},{"$f":"'12.2018 Data'!E398","v":"OPER"},{"$f":"'12.2018 Data'!F398","v":1880.53},{"$f":"'12.2018 Data'!G398","v":1318.93},{"$f":"'12.2018 Data'!H398","v":386.4},{"$f":"'12.2018 Data'!I398","v":175.2},{"$f":"'12.2018 Data'!J398","v":0},"921",1880.53,1318.93,386.4,175.2,0,{"$f":"IF(ISNUMBER(MATCH($B418,'Org functional rollups'!$A:$A,0)),INDEX('Org functional rollups'!$D:$D,MATCH($B418,'Org functional rollups'!$A:$A,0)),0)","v":"Common"}]
[{"$f":"'12.2018 Data'!A399","v":"921000"},{"$f":"'12.2018 Data'!B399","v":"N02"},{"$f":"'12.2018 Data'!C399","v":"CD"},{"$f":"'12.2018 Data'!D399","v":"AA"},{"$f":"'12.2018 Data'!E399","v":"OPER"},{"$f":"'12.2018 Data'!F399","v":3180.27},{"$f":"'12.2018 Data'!G399","v":2230.5},{"$f":"'12.2018 Data'!H399","v":653.5},{"$f":"'12.2018 Data'!I399","v":296.27},{"$f":"'12.2018 Data'!J399","v":0},"921",3180.27,2230.5,653.5,296.27,0,{"$f":"IF(ISNUMBER(MATCH($B419,'Org functional rollups'!$A:$A,0)),INDEX('Org functional rollups'!$D:$D,MATCH($B419,'Org functional rollups'!$A:$A,0)),0)","v":"Common"}]
[{"$f":"'12.2018 Data'!A400","v":"921000"},{"$f":"'12.2018 Data'!B400","v":"N08"},{"$f":"'12.2018 Data'!C400","v":"CD"},{"$f":"'12.2018 Data'!D400","v":"AA"},{"$f":"'12.2018 Data'!E400","v":"OPER"},{"$f":"'12.2018 Data'!F400","v":1199.19},{"$f":"'12.2018 Data'!G400","v":841.04},{"$f":"'12.2018 Data'!H400","v":246.41},{"$f":"'12.2018 Data'!I400","v":111.74},{"$f":"'12.2018 Data'!J400","v":0},"921",1199.19,841.04,246.41,111.74,0,{"$f":"IF(ISNUMBER(MATCH($B420,'Org functional rollups'!$A:$A,0)),INDEX('Org functional rollups'!$D:$D,MATCH($B420,'Org functional rollups'!$A:$A,0)),0)","v":"Distribution"}]
[{"$f":"'12.2018 Data'!A401","v":"921000"},{"$f":"'12.2018 Data'!B401","v":"N09"},{"$f":"'12.2018 Data'!C401","v":"CD"},{"$f":"'12.2018 Data'!D401","v":"AA"},{"$f":"'12.2018 Data'!E401","v":"OPER"},{"$f":"'12.2018 Data'!F401","v":37402.639999999999},{"$f":"'12.2018 Data'!G401","v":26232.18},{"$f":"'12.2018 Data'!H401","v":7685.9},{"$f":"'12.2018 Data'!I401","v":3484.56},{"$f":"'12.2018 Data'!J401","v":0},"921",37402.639999999999,26232.18,7685.9,3484.56,0,{"$f":"IF(ISNUMBER(MATCH($B421,'Org functional rollups'!$A:$A,0)),INDEX('Org functional rollups'!$D:$D,MATCH($B421,'Org functional rollups'!$A:$A,0)),0)","v":"Common"}]
[{"$f":"'12.2018 Data'!A402","v":"921000"},{"$f":"'12.2018 Data'!B402","v":"N50"},{"$f":"'12.2018 Data'!C402","v":"CD"},{"$f":"'12.2018 Data'!D402","v":"AA"},{"$f":"'12.2018 Data'!E402","v":"OPER"},{"$f":"'12.2018 Data'!F402","v":97.27},{"$f":"'12.2018 Data'!G402","v":68.22},{"$f":"'12.2018 Data'!H402","v":19.989999999999998},{"$f":"'12.2018 Data'!I402","v":9.06},{"$f":"'12.2018 Data'!J402","v":0},"921",97.27,{"$f":"IF(ISNUMBER(G422),G422,0)","v":68.22},{"$f":"IF(ISNUMBER(H422),H422,0)","v":19.989999999999998},{"$f":"IF(ISNUMBER(I422),I422,0)","v":9.06},{"$f":"IF(ISNUMBER(J422),J422,0)","v":0},{"$f":"IF(ISNUMBER(MATCH($B422,'Org functional rollups'!$A:$A,0)),INDEX('Org functional rollups'!$D:$D,MATCH($B422,'Org functional rollups'!$A:$A,0)),0)","v":"Customer"}]
[{"$f":"'12.2018 Data'!A403","v":"921000"},{"$f":"'12.2018 Data'!B403","v":"N52"},{"$f":"'12.2018 Data'!C403","v":"CD"},{"$f":"'12.2018 Data'!D403","v":"AA"},{"$f":"'12.2018 Data'!E403","v":"OPER"},{"$f":"'12.2018 Data'!F403","v":77.13},{"$f":"'12.2018 Data'!G403","v":54.09},{"$f":"'12.2018 Data'!H403","v":15.85},{"$f":"'12.2018 Data'!I403","v":7.19},{"$f":"'12.2018 Data'!J403","v":0},"921",77.13,54.09,15.85,7.19,0,{"$f":"IF(ISNUMBER(MATCH($B423,'Org functional rollups'!$A:$A,0)),INDEX('Org functional rollups'!$D:$D,MATCH($B423,'Org functional rollups'!$A:$A,0)),0)","v":"Customer"}]
[{"$f":"'12.2018 Data'!A404","v":"921000"},{"$f":"'12.2018 Data'!B404","v":"P01"},{"$f":"'12.2018 Data'!C404","v":"CD"},{"$f":"'12.2018 Data'!D404","v":"AA"},{"$f":"'12.2018 Data'!E404","v":"OPER"},{"$f":"'12.2018 Data'!F404","v":8410.4599999999991},{"$f":"'12.2018 Data'!G404","v":5898.68},{"$f":"'12.2018 Data'!H404","v":1728.27},{"$f":"'12.2018 Data'!I404","v":783.51},{"$f":"'12.2018 Data'!J404","v":0},"921",8410.4599999999991,5898.68,1728.27,783.51,0,{"$f":"IF(ISNUMBER(MATCH($B424,'Org functional rollups'!$A:$A,0)),INDEX('Org functional rollups'!$D:$D,MATCH($B424,'Org functional rollups'!$A:$A,0)),0)","v":"Common"}]
[{"$f":"'12.2018 Data'!A405","v":"921000"},{"$f":"'12.2018 Data'!B405","v":"P03"},{"$f":"'12.2018 Data'!C405","v":"CD"},{"$f":"'12.2018 Data'!D405","v":"AA"},{"$f":"'12.2018 Data'!E405","v":"OPER"},{"$f":"'12.2018 Data'!F405","v":12180.05},{"$f":"'12.2018 Data'!G405","v":8542.49},{"$f":"'12.2018 Data'!H405","v":2502.8200000000002},{"$f":"'12.2018 Data'!I405","v":1134.74},{"$f":"'12.2018 Data'!J405","v":0},"921",12180.05,8542.49,2502.8200000000002,1134.74,0,{"$f":"IF(ISNUMBER(MATCH($B425,'Org functional rollups'!$A:$A,0)),INDEX('Org functional rollups'!$D:$D,MATCH($B425,'Org functional rollups'!$A:$A,0)),0)","v":"Distribution"}]
[{"$f":"'12.2018 Data'!A406","v":"921000"},{"$f":"'12.2018 Data'!B406","v":"P07"},{"$f":"'12.2018 Data'!C406","v":"CD"},{"$f":"'12.2018 Data'!D406","v":"AA"},{"$f":"'12.2018 Data'!E406","v":"OPER"},{"$f":"'12.2018 Data'!F406","v":3110.81},{"$f":"'12.2018 Data'!G406","v":2181.8200000000002},{"$f":"'12.2018 Data'!H406","v":639.17999999999995},{"$f":"'12.2018 Data'!I406","v":289.81},{"$f":"'12.2018 Data'!J406","v":0},"921",3110.81,2181.8200000000002,639.17999999999995,289.81,0,{"$f":"IF(ISNUMBER(MATCH($B426,'Org functional rollups'!$A:$A,0)),INDEX('Org functional rollups'!$D:$D,MATCH($B426,'Org functional rollups'!$A:$A,0)),0)","v":"Production"}]
[{"$f":"'12.2018 Data'!A407","v":"921000"},{"$f":"'12.2018 Data'!B407","v":"P08"},{"$f":"'12.2018 Data'!C407","v":"CD"},{"$f":"'12.2018 Data'!D407","v":"AA"},{"$f":"'12.2018 Data'!E407","v":"OPER"},{"$f":"'12.2018 Data'!F407","v":43077.04},{"$f":"'12.2018 Data'!G407","v":30212.09},{"$f":"'12.2018 Data'!H407","v":8851.91},{"$f":"'12.2018 Data'!I407","v":4013.04},{"$f":"'12.2018 Data'!J407","v":0},"921",43077.04,30212.09,8851.91,4013.04,0,{"$f":"IF(ISNUMBER(MATCH($B427,'Org functional rollups'!$A:$A,0)),INDEX('Org functional rollups'!$D:$D,MATCH($B427,'Org functional rollups'!$A:$A,0)),0)","v":"Distribution"}]
[{"$f":"'12.2018 Data'!A408","v":"921000"},{"$f":"'12.2018 Data'!B408","v":"P09"},{"$f":"'12.2018 Data'!C408","v":"CD"},{"$f":"'12.2018 Data'!D408","v":"AA"},{"$f":"'12.2018 Data'!E408","v":"OPER"},{"$f":"'12.2018 Data'!F408","v":9197.02},{"$f":"'12.2018 Data'!G408","v":6450.34},{"$f":"'12.2018 Data'!H408","v":1889.86},{"$f":"'12.2018 Data'!I408","v":856.82},{"$f":"'12.2018 Data'!J408","v":0},"921",9197.02,6450.34,1889.86,856.82,0,{"$f":"IF(ISNUMBER(MATCH($B428,'Org functional rollups'!$A:$A,0)),INDEX('Org functional rollups'!$D:$D,MATCH($B428,'Org functional rollups'!$A:$A,0)),0)","v":"Common"}]
[{"$f":"'12.2018 Data'!A409","v":"921000"},{"$f":"'12.2018 Data'!B409","v":"P51"},{"$f":"'12.2018 Data'!C409","v":"CD"},{"$f":"'12.2018 Data'!D409","v":"AA"},{"$f":"'12.2018 Data'!E409","v":"OPER"},{"$f":"'12.2018 Data'!F409","v":641.34},{"$f":"'12.2018 Data'!G409","v":449.82},{"$f":"'12.2018 Data'!H409","v":131.76},{"$f":"'12.2018 Data'!I409","v":59.76},{"$f":"'12.2018 Data'!J409","v":0},"921",641.34,449.82,131.76,59.76,0,{"$f":"IF(ISNUMBER(MATCH($B429,'Org functional rollups'!$A:$A,0)),INDEX('Org functional rollups'!$D:$D,MATCH($B429,'Org functional rollups'!$A:$A,0)),0)","v":"Distribution"}]
[{"$f":"'12.2018 Data'!A410","v":"921000"},{"$f":"'12.2018 Data'!B410","v":"P53"},{"$f":"'12.2018 Data'!C410","v":"CD"},{"$f":"'12.2018 Data'!D410","v":"AA"},{"$f":"'12.2018 Data'!E410","v":"OPER"},{"$f":"'12.2018 Data'!F410","v":750},{"$f":"'12.2018 Data'!G410","v":526.01},{"$f":"'12.2018 Data'!H410","v":154.12},{"$f":"'12.2018 Data'!I410","v":69.87},{"$f":"'12.2018 Data'!J410","v":0},"921",750,526.01,154.12,69.87,0,{"$f":"IF(ISNUMBER(MATCH($B430,'Org functional rollups'!$A:$A,0)),INDEX('Org functional rollups'!$D:$D,MATCH($B430,'Org functional rollups'!$A:$A,0)),0)","v":"Distribution"}]
[{"$f":"'12.2018 Data'!A411","v":"921000"},{"$f":"'12.2018 Data'!B411","v":"P53"},{"$f":"'12.2018 Data'!C411","v":"CD"},{"$f":"'12.2018 Data'!D411","v":"AN"},{"$f":"'12.2018 Data'!E411","v":"OPER"},{"$f":"'12.2018 Data'!F411","v":217.49},{"$f":"'12.2018 Data'!G411","v":169.03},{"$f":"'12.2018 Data'!H411","v":48.46},{"$f":"'12.2018 Data'!I411","v":0},{"$f":"'12.2018 Data'!J411","v":0},"921",217.49,169.03,48.46,0,0,{"$f":"IF(ISNUMBER(MATCH($B431,'Org functional rollups'!$A:$A,0)),INDEX('Org functional rollups'!$D:$D,MATCH($B431,'Org functional rollups'!$A:$A,0)),0)","v":"Distribution"}]
[{"$f":"'12.2018 Data'!A412","v":"921000"},{"$f":"'12.2018 Data'!B412","v":"P53"},{"$f":"'12.2018 Data'!C412","v":"ED"},{"$f":"'12.2018 Data'!D412","v":"AN"},{"$f":"'12.2018 Data'!E412","v":"OPER"},{"$f":"'12.2018 Data'!F412","v":145.32},{"$f":"'12.2018 Data'!G412","v":145.32},{"$f":"'12.2018 Data'!H412","v":0},{"$f":"'12.2018 Data'!I412","v":0},{"$f":"'12.2018 Data'!J412","v":0},"921",145.32,145.32,0,0,0,{"$f":"IF(ISNUMBER(MATCH($B432,'Org functional rollups'!$A:$A,0)),INDEX('Org functional rollups'!$D:$D,MATCH($B432,'Org functional rollups'!$A:$A,0)),0)","v":"Distribution"}]
[{"$f":"'12.2018 Data'!A413","v":"921000"},{"$f":"'12.2018 Data'!B413","v":"P59"},{"$f":"'12.2018 Data'!C413","v":"CD"},{"$f":"'12.2018 Data'!D413","v":"AA"},{"$f":"'12.2018 Data'!E413","v":"OPER"},{"$f":"'12.2018 Data'!F413","v":31914.95},{"$f":"'12.2018 Data'!G413","v":22383.55},{"$f":"'12.2018 Data'!H413","v":6558.21},{"$f":"'12.2018 Data'!I413","v":2973.19},{"$f":"'12.2018 Data'!J413","v":0},"921",31914.95,22383.55,6558.21,2973.19,0,{"$f":"IF(ISNUMBER(MATCH($B433,'Org functional rollups'!$A:$A,0)),INDEX('Org functional rollups'!$D:$D,MATCH($B433,'Org functional rollups'!$A:$A,0)),0)","v":"Common"}]
[{"$f":"'12.2018 Data'!A414","v":"921000"},{"$f":"'12.2018 Data'!B414","v":"P99"},{"$f":"'12.2018 Data'!C414","v":"CD"},{"$f":"'12.2018 Data'!D414","v":"AA"},{"$f":"'12.2018 Data'!E414","v":"OPER"},{"$f":"'12.2018 Data'!F414","v":12630.54},{"$f":"'12.2018 Data'!G414","v":8858.4},{"$f":"'12.2018 Data'!H414","v":2595.5300000000002},{"$f":"'12.2018 Data'!I414","v":1176.6099999999999},{"$f":"'12.2018 Data'!J414","v":0},"921",12630.54,8858.4,2595.5300000000002,1176.6099999999999,0,{"$f":"IF(ISNUMBER(MATCH($B434,'Org functional rollups'!$A:$A,0)),INDEX('Org functional rollups'!$D:$D,MATCH($B434,'Org functional rollups'!$A:$A,0)),0)","v":"Common"}]
[{"$f":"'12.2018 Data'!A415","v":"921000"},{"$f":"'12.2018 Data'!B415","v":"R07"},{"$f":"'12.2018 Data'!C415","v":"CD"},{"$f":"'12.2018 Data'!D415","v":"AA"},{"$f":"'12.2018 Data'!E415","v":"OPER"},{"$f":"'12.2018 Data'!F415","v":2393.33},{"$f":"'12.2018 Data'!G415","v":1678.56},{"$f":"'12.2018 Data'!H415","v":491.8},{"$f":"'12.2018 Data'!I415","v":222.97},{"$f":"'12.2018 Data'!J415","v":0},"921",2393.33,1678.56,491.8,222.97,0,{"$f":"IF(ISNUMBER(MATCH($B435,'Org functional rollups'!$A:$A,0)),INDEX('Org functional rollups'!$D:$D,MATCH($B435,'Org functional rollups'!$A:$A,0)),0)","v":"Production"}]
[{"$f":"'12.2018 Data'!A416","v":"921000"},{"$f":"'12.2018 Data'!B416","v":"R08"},{"$f":"'12.2018 Data'!C416","v":"CD"},{"$f":"'12.2018 Data'!D416","v":"AA"},{"$f":"'12.2018 Data'!E416","v":"OPER"},{"$f":"'12.2018 Data'!F416","v":71.260000000000005},{"$f":"'12.2018 Data'!G416","v":49.98},{"$f":"'12.2018 Data'!H416","v":14.64},{"$f":"'12.2018 Data'!I416","v":6.64},{"$f":"'12.2018 Data'!J416","v":0},"921",71.260000000000005,49.98,14.64,6.64,0,{"$f":"IF(ISNUMBER(MATCH($B436,'Org functional rollups'!$A:$A,0)),INDEX('Org functional rollups'!$D:$D,MATCH($B436,'Org functional rollups'!$A:$A,0)),0)","v":"Distribution"}]
[{"$f":"'12.2018 Data'!A417","v":"921000"},{"$f":"'12.2018 Data'!B417","v":"R09"},{"$f":"'12.2018 Data'!C417","v":"CD"},{"$f":"'12.2018 Data'!D417","v":"AA"},{"$f":"'12.2018 Data'!E417","v":"OPER"},{"$f":"'12.2018 Data'!F417","v":14645.34},{"$f":"'12.2018 Data'!G417","v":10271.52},{"$f":"'12.2018 Data'!H417","v":3009.48},{"$f":"'12.2018 Data'!I417","v":1364.34},{"$f":"'12.2018 Data'!J417","v":0},"921",14645.34,10271.52,3009.48,1364.34,0,{"$f":"IF(ISNUMBER(MATCH($B437,'Org functional rollups'!$A:$A,0)),INDEX('Org functional rollups'!$D:$D,MATCH($B437,'Org functional rollups'!$A:$A,0)),0)","v":"Common"}]
[{"$f":"'12.2018 Data'!A418","v":"921000"},{"$f":"'12.2018 Data'!B418","v":"R11"},{"$f":"'12.2018 Data'!C418","v":"CD"},{"$f":"'12.2018 Data'!D418","v":"AA"},{"$f":"'12.2018 Data'!E418","v":"OPER"},{"$f":"'12.2018 Data'!F418","v":5914.58},{"$f":"'12.2018 Data'!G418","v":4148.34},{"$f":"'12.2018 Data'!H418","v":1215.1199999999999},{"$f":"'12.2018 Data'!I418","v":551.12},{"$f":"'12.2018 Data'!J418","v":0},"921",5914.58,4148.34,1215.1199999999999,551.12,0,{"$f":"IF(ISNUMBER(MATCH($B438,'Org functional rollups'!$A:$A,0)),INDEX('Org functional rollups'!$D:$D,MATCH($B438,'Org functional rollups'!$A:$A,0)),0)","v":"Common"}]
[{"$f":"'12.2018 Data'!A419","v":"921000"},{"$f":"'12.2018 Data'!B419","v":"R29"},{"$f":"'12.2018 Data'!C419","v":"CD"},{"$f":"'12.2018 Data'!D419","v":"AA"},{"$f":"'12.2018 Data'!E419","v":"OPER"},{"$f":"'12.2018 Data'!F419","v":1082408.83},{"$f":"'12.2018 Data'!G419","v":759147.29},{"$f":"'12.2018 Data'!H419","v":222424.15},{"$f":"'12.2018 Data'!I419","v":100837.39},{"$f":"'12.2018 Data'!J419","v":0},"921",1082408.83,759147.29,222424.15,100837.39,0,{"$f":"IF(ISNUMBER(MATCH($B439,'Org functional rollups'!$A:$A,0)),INDEX('Org functional rollups'!$D:$D,MATCH($B439,'Org functional rollups'!$A:$A,0)),0)","v":"Common"}]
[{"$f":"'12.2018 Data'!A420","v":"921000"},{"$f":"'12.2018 Data'!B420","v":"R53"},{"$f":"'12.2018 Data'!C420","v":"CD"},{"$f":"'12.2018 Data'!D420","v":"AA"},{"$f":"'12.2018 Data'!E420","v":"OPER"},{"$f":"'12.2018 Data'!F420","v":1881.27},{"$f":"'12.2018 Data'!G420","v":1319.44},{"$f":"'12.2018 Data'!H420","v":386.57},{"$f":"'12.2018 Data'!I420","v":175.26},{"$f":"'12.2018 Data'!J420","v":0},"921",1881.27,1319.44,386.57,175.26,0,{"$f":"IF(ISNUMBER(MATCH($B440,'Org functional rollups'!$A:$A,0)),INDEX('Org functional rollups'!$D:$D,MATCH($B440,'Org functional rollups'!$A:$A,0)),0)","v":"Distribution"}]
[{"$f":"'12.2018 Data'!A421","v":"921000"},{"$f":"'12.2018 Data'!B421","v":"R54"},{"$f":"'12.2018 Data'!C421","v":"CD"},{"$f":"'12.2018 Data'!D421","v":"AA"},{"$f":"'12.2018 Data'!E421","v":"OPER"},{"$f":"'12.2018 Data'!F421","v":70259.789999999994},{"$f":"'12.2018 Data'!G421","v":49276.76},{"$f":"'12.2018 Data'!H421","v":14437.66},{"$f":"'12.2018 Data'!I421","v":6545.37},{"$f":"'12.2018 Data'!J421","v":0},"921",70259.789999999994,49276.76,14437.66,6545.37,0,{"$f":"IF(ISNUMBER(MATCH($B441,'Org functional rollups'!$A:$A,0)),INDEX('Org functional rollups'!$D:$D,MATCH($B441,'Org functional rollups'!$A:$A,0)),0)","v":"Common"}]
[{"$f":"'12.2018 Data'!A422","v":"921000"},{"$f":"'12.2018 Data'!B422","v":"R55"},{"$f":"'12.2018 Data'!C422","v":"CD"},{"$f":"'12.2018 Data'!D422","v":"AA"},{"$f":"'12.2018 Data'!E422","v":"OPER"},{"$f":"'12.2018 Data'!F422","v":0},{"$f":"'12.2018 Data'!G422","v":0},{"$f":"'12.2018 Data'!H422","v":0},{"$f":"'12.2018 Data'!I422","v":0},{"$f":"'12.2018 Data'!J422","v":0},"921",0,0,0,0,0,{"$f":"IF(ISNUMBER(MATCH($B442,'Org functional rollups'!$A:$A,0)),INDEX('Org functional rollups'!$D:$D,MATCH($B442,'Org functional rollups'!$A:$A,0)),0)","v":"Production"}]
[{"$f":"'12.2018 Data'!A423","v":"921000"},{"$f":"'12.2018 Data'!B423","v":"R56"},{"$f":"'12.2018 Data'!C423","v":"CD"},{"$f":"'12.2018 Data'!D423","v":"AA"},{"$f":"'12.2018 Data'!E423","v":"OPER"},{"$f":"'12.2018 Data'!F423","v":238.55},{"$f":"'12.2018 Data'!G423","v":167.31},{"$f":"'12.2018 Data'!H423","v":49.02},{"$f":"'12.2018 Data'!I423","v":22.22},{"$f":"'12.2018 Data'!J423","v":0},"921",238.55,167.31,49.02,22.22,0,{"$f":"IF(ISNUMBER(MATCH($B443,'Org functional rollups'!$A:$A,0)),INDEX('Org functional rollups'!$D:$D,MATCH($B443,'Org functional rollups'!$A:$A,0)),0)","v":"Common"}]
[{"$f":"'12.2018 Data'!A424","v":"921000"},{"$f":"'12.2018 Data'!B424","v":"S01"},{"$f":"'12.2018 Data'!C424","v":"CD"},{"$f":"'12.2018 Data'!D424","v":"AA"},{"$f":"'12.2018 Data'!E424","v":"OPER"},{"$f":"'12.2018 Data'!F424","v":317.29000000000002},{"$f":"'12.2018 Data'!G424","v":222.54},{"$f":"'12.2018 Data'!H424","v":65.2},{"$f":"'12.2018 Data'!I424","v":29.55},{"$f":"'12.2018 Data'!J424","v":0},"921",317.29000000000002,222.54,65.2,29.55,0,{"$f":"IF(ISNUMBER(MATCH($B444,'Org functional rollups'!$A:$A,0)),INDEX('Org functional rollups'!$D:$D,MATCH($B444,'Org functional rollups'!$A:$A,0)),0)","v":"Common"}]
[{"$f":"'12.2018 Data'!A425","v":"921000"},{"$f":"'12.2018 Data'!B425","v":"S04"},{"$f":"'12.2018 Data'!C425","v":"CD"},{"$f":"'12.2018 Data'!D425","v":"AA"},{"$f":"'12.2018 Data'!E425","v":"OPER"},{"$f":"'12.2018 Data'!F425","v":71.260000000000005},{"$f":"'12.2018 Data'!G425","v":49.98},{"$f":"'12.2018 Data'!H425","v":14.64},{"$f":"'12.2018 Data'!I425","v":6.64},{"$f":"'12.2018 Data'!J425","v":0},"921",71.260000000000005,49.98,14.64,6.64,0,{"$f":"IF(ISNUMBER(MATCH($B445,'Org functional rollups'!$A:$A,0)),INDEX('Org functional rollups'!$D:$D,MATCH($B445,'Org functional rollups'!$A:$A,0)),0)","v":"None"}]
[{"$f":"'12.2018 Data'!A426","v":"921000"},{"$f":"'12.2018 Data'!B426","v":"S09"},{"$f":"'12.2018 Data'!C426","v":"CD"},{"$f":"'12.2018 Data'!D426","v":"AA"},{"$f":"'12.2018 Data'!E426","v":"OPER"},{"$f":"'12.2018 Data'!F426","v":11946.54},{"$f":"'12.2018 Data'!G426","v":8378.7199999999993},{"$f":"'12.2018 Data'!H426","v":2454.86},{"$f":"'12.2018 Data'!I426","v":1112.96},{"$f":"'12.2018 Data'!J426","v":0},"921",11946.54,8378.7199999999993,2454.86,1112.96,0,{"$f":"IF(ISNUMBER(MATCH($B446,'Org functional rollups'!$A:$A,0)),INDEX('Org functional rollups'!$D:$D,MATCH($B446,'Org functional rollups'!$A:$A,0)),0)","v":"Common"}]
[{"$f":"'12.2018 Data'!A427","v":"921000"},{"$f":"'12.2018 Data'!B427","v":"S39"},{"$f":"'12.2018 Data'!C427","v":"CD"},{"$f":"'12.2018 Data'!D427","v":"AA"},{"$f":"'12.2018 Data'!E427","v":"OPER"},{"$f":"'12.2018 Data'!F427","v":40.28},{"$f":"'12.2018 Data'!G427","v":28.25},{"$f":"'12.2018 Data'!H427","v":8.2799999999999994},{"$f":"'12.2018 Data'!I427","v":3.75},{"$f":"'12.2018 Data'!J427","v":0},"921",40.28,28.25,8.2799999999999994,3.75,0,{"$f":"IF(ISNUMBER(MATCH($B447,'Org functional rollups'!$A:$A,0)),INDEX('Org functional rollups'!$D:$D,MATCH($B447,'Org functional rollups'!$A:$A,0)),0)","v":"Common"}]
[{"$f":"'12.2018 Data'!A428","v":"921000"},{"$f":"'12.2018 Data'!B428","v":"S50"},{"$f":"'12.2018 Data'!C428","v":"CD"},{"$f":"'12.2018 Data'!D428","v":"WA"},{"$f":"'12.2018 Data'!E428","v":"OPER"},{"$f":"'12.2018 Data'!F428","v":165.88},{"$f":"'12.2018 Data'!G428","v":128.91999999999999},{"$f":"'12.2018 Data'!H428","v":36.96},{"$f":"'12.2018 Data'!I428","v":0},{"$f":"'12.2018 Data'!J428","v":0},"921",165.88,128.91999999999999,36.96,0,0,{"$f":"IF(ISNUMBER(MATCH($B448,'Org functional rollups'!$A:$A,0)),INDEX('Org functional rollups'!$D:$D,MATCH($B448,'Org functional rollups'!$A:$A,0)),0)","v":"Distribution"}]
[{"$f":"'12.2018 Data'!A429","v":"921000"},{"$f":"'12.2018 Data'!B429","v":"S50"},{"$f":"'12.2018 Data'!C429","v":"CD"},{"$f":"'12.2018 Data'!D429","v":"AA"},{"$f":"'12.2018 Data'!E429","v":"OPER"},{"$f":"'12.2018 Data'!F429","v":9330.24},{"$f":"'12.2018 Data'!G429","v":6543.83},{"$f":"'12.2018 Data'!H429","v":1917.17},{"$f":"'12.2018 Data'!I429","v":869.24},{"$f":"'12.2018 Data'!J429","v":0},"921",{"$f":"IF(ISNUMBER(F449),F449,0)","v":9330.24},{"$f":"IF(ISNUMBER(G449),G449,0)","v":6543.83},{"$f":"IF(ISNUMBER(H449),H449,0)","v":1917.17},{"$f":"IF(ISNUMBER(I449),I449,0)","v":869.24},{"$f":"IF(ISNUMBER(J449),J449,0)","v":0},{"$f":"IF(ISNUMBER(MATCH($B449,'Org functional rollups'!$A:$A,0)),INDEX('Org functional rollups'!$D:$D,MATCH($B449,'Org functional rollups'!$A:$A,0)),0)","v":"Distribution"}]
[{"$f":"'12.2018 Data'!A430","v":"921000"},{"$f":"'12.2018 Data'!B430","v":"S51"},{"$f":"'12.2018 Data'!C430","v":"GD"},{"$f":"'12.2018 Data'!D430","v":"AA"},{"$f":"'12.2018 Data'!E430","v":"OPER"},{"$f":"'12.2018 Data'!F430","v":232.79},{"$f":"'12.2018 Data'!G430","v":0},{"$f":"'12.2018 Data'!H430","v":159.62},{"$f":"'12.2018 Data'!I430","v":73.17},{"$f":"'12.2018 Data'!J430","v":0},"921",232.79,0,159.62,73.17,0,{"$f":"IF(ISNUMBER(MATCH($B450,'Org functional rollups'!$A:$A,0)),INDEX('Org functional rollups'!$D:$D,MATCH($B450,'Org functional rollups'!$A:$A,0)),0)","v":"Common"}]
[{"$f":"'12.2018 Data'!A431","v":"921000"},{"$f":"'12.2018 Data'!B431","v":"S51"},{"$f":"'12.2018 Data'!C431","v":"ED"},{"$f":"'12.2018 Data'!D431","v":"AN"},{"$f":"'12.2018 Data'!E431","v":"OPER"},{"$f":"'12.2018 Data'!F431","v":871.53},{"$f":"'12.2018 Data'!G431","v":871.53},{"$f":"'12.2018 Data'!H431","v":0},{"$f":"'12.2018 Data'!I431","v":0},{"$f":"'12.2018 Data'!J431","v":0},"921",871.53,871.53,0,0,0,{"$f":"IF(ISNUMBER(MATCH($B451,'Org functional rollups'!$A:$A,0)),INDEX('Org functional rollups'!$D:$D,MATCH($B451,'Org functional rollups'!$A:$A,0)),0)","v":"Common"}]
[{"$f":"'12.2018 Data'!A432","v":"921000"},{"$f":"'12.2018 Data'!B432","v":"S51"},{"$f":"'12.2018 Data'!C432","v":"CD"},{"$f":"'12.2018 Data'!D432","v":"WA"},{"$f":"'12.2018 Data'!E432","v":"OPER"},{"$f":"'12.2018 Data'!F432","v":8.86},{"$f":"'12.2018 Data'!G432","v":6.89},{"$f":"'12.2018 Data'!H432","v":1.97},{"$f":"'12.2018 Data'!I432","v":0},{"$f":"'12.2018 Data'!J432","v":0},"921",8.86,6.89,1.97,0,0,{"$f":"IF(ISNUMBER(MATCH($B452,'Org functional rollups'!$A:$A,0)),INDEX('Org functional rollups'!$D:$D,MATCH($B452,'Org functional rollups'!$A:$A,0)),0)","v":"Common"}]
[{"$f":"'12.2018 Data'!A433","v":"921000"},{"$f":"'12.2018 Data'!B433","v":"S51"},{"$f":"'12.2018 Data'!C433","v":"CD"},{"$f":"'12.2018 Data'!D433","v":"AN"},{"$f":"'12.2018 Data'!E433","v":"OPER"},{"$f":"'12.2018 Data'!F433","v":376.23},{"$f":"'12.2018 Data'!G433","v":292.39},{"$f":"'12.2018 Data'!H433","v":83.84},{"$f":"'12.2018 Data'!I433","v":0},{"$f":"'12.2018 Data'!J433","v":0},"921",376.23,292.39,83.84,0,0,{"$f":"IF(ISNUMBER(MATCH($B453,'Org functional rollups'!$A:$A,0)),INDEX('Org functional rollups'!$D:$D,MATCH($B453,'Org functional rollups'!$A:$A,0)),0)","v":"Common"}]
[{"$f":"'12.2018 Data'!A434","v":"921000"},{"$f":"'12.2018 Data'!B434","v":"S51"},{"$f":"'12.2018 Data'!C434","v":"CD"},{"$f":"'12.2018 Data'!D434","v":"AA"},{"$f":"'12.2018 Data'!E434","v":"OPER"},{"$f":"'12.2018 Data'!F434","v":16066.23},{"$f":"'12.2018 Data'!G434","v":11268.11},{"$f":"'12.2018 Data'!H434","v":3301.56},{"$f":"'12.2018 Data'!I434","v":1496.56},{"$f":"'12.2018 Data'!J434","v":0},"921",16066.23,11268.11,3301.56,1496.56,0,{"$f":"IF(ISNUMBER(MATCH($B454,'Org functional rollups'!$A:$A,0)),INDEX('Org functional rollups'!$D:$D,MATCH($B454,'Org functional rollups'!$A:$A,0)),0)","v":"Common"}]
[{"$f":"'12.2018 Data'!A435","v":"921000"},{"$f":"'12.2018 Data'!B435","v":"S51"},{"$f":"'12.2018 Data'!C435","v":"GD"},{"$f":"'12.2018 Data'!D435","v":"OR"},{"$f":"'12.2018 Data'!E435","v":"OPER"},{"$f":"'12.2018 Data'!F435","v":214.89},{"$f":"'12.2018 Data'!G435","v":0},{"$f":"'12.2018 Data'!H435","v":0},{"$f":"'12.2018 Data'!I435","v":214.89},{"$f":"'12.2018 Data'!J435","v":0},"921",214.89,0,0,214.89,0,{"$f":"IF(ISNUMBER(MATCH($B455,'Org functional rollups'!$A:$A,0)),INDEX('Org functional rollups'!$D:$D,MATCH($B455,'Org functional rollups'!$A:$A,0)),0)","v":"Common"}]
[{"$f":"'12.2018 Data'!A436","v":"921000"},{"$f":"'12.2018 Data'!B436","v":"S52"},{"$f":"'12.2018 Data'!C436","v":"CD"},{"$f":"'12.2018 Data'!D436","v":"AA"},{"$f":"'12.2018 Data'!E436","v":"OPER"},{"$f":"'12.2018 Data'!F436","v":18940.11},{"$f":"'12.2018 Data'!G436","v":13283.61},{"$f":"'12.2018 Data'!H436","v":3892.04},{"$f":"'12.2018 Data'!I436","v":1764.46},{"$f":"'12.2018 Data'!J436","v":0},"921",18940.11,13283.61,3892.04,1764.46,0,{"$f":"IF(ISNUMBER(MATCH($B456,'Org functional rollups'!$A:$A,0)),INDEX('Org functional rollups'!$D:$D,MATCH($B456,'Org functional rollups'!$A:$A,0)),0)","v":"Common"}]
[{"$f":"'12.2018 Data'!A437","v":"921000"},{"$f":"'12.2018 Data'!B437","v":"S53"},{"$f":"'12.2018 Data'!C437","v":"CD"},{"$f":"'12.2018 Data'!D437","v":"AA"},{"$f":"'12.2018 Data'!E437","v":"OPER"},{"$f":"'12.2018 Data'!F437","v":165},{"$f":"'12.2018 Data'!G437","v":115.72},{"$f":"'12.2018 Data'!H437","v":33.9},{"$f":"'12.2018 Data'!I437","v":15.38},{"$f":"'12.2018 Data'!J437","v":0},"921",165,115.72,33.9,15.38,0,{"$f":"IF(ISNUMBER(MATCH($B457,'Org functional rollups'!$A:$A,0)),INDEX('Org functional rollups'!$D:$D,MATCH($B457,'Org functional rollups'!$A:$A,0)),0)","v":"Distribution"}]
[{"$f":"'12.2018 Data'!A438","v":"921000"},{"$f":"'12.2018 Data'!B438","v":"S54"},{"$f":"'12.2018 Data'!C438","v":"CD"},{"$f":"'12.2018 Data'!D438","v":"AA"},{"$f":"'12.2018 Data'!E438","v":"OPER"},{"$f":"'12.2018 Data'!F438","v":156479.21},{"$f":"'12.2018 Data'!G438","v":109746.84},{"$f":"'12.2018 Data'!H438","v":32154.77},{"$f":"'12.2018 Data'!I438","v":14577.6},{"$f":"'12.2018 Data'!J438","v":0},"921",156479.21,109746.84,32154.77,14577.6,0,{"$f":"IF(ISNUMBER(MATCH($B458,'Org functional rollups'!$A:$A,0)),INDEX('Org functional rollups'!$D:$D,MATCH($B458,'Org functional rollups'!$A:$A,0)),0)","v":"Common"}]
[{"$f":"'12.2018 Data'!A439","v":"921000"},{"$f":"'12.2018 Data'!B439","v":"S54"},{"$f":"'12.2018 Data'!C439","v":"GD"},{"$f":"'12.2018 Data'!D439","v":"AA"},{"$f":"'12.2018 Data'!E439","v":"OPER"},{"$f":"'12.2018 Data'!F439","v":2530},{"$f":"'12.2018 Data'!G439","v":0},{"$f":"'12.2018 Data'!H439","v":1734.62},{"$f":"'12.2018 Data'!I439","v":795.38},{"$f":"'12.2018 Data'!J439","v":0},"921",2530,0,1734.62,795.38,0,{"$f":"IF(ISNUMBER(MATCH($B459,'Org functional rollups'!$A:$A,0)),INDEX('Org functional rollups'!$D:$D,MATCH($B459,'Org functional rollups'!$A:$A,0)),0)","v":"Common"}]
[{"$f":"'12.2018 Data'!A440","v":"921000"},{"$f":"'12.2018 Data'!B440","v":"T01"},{"$f":"'12.2018 Data'!C440","v":"CD"},{"$f":"'12.2018 Data'!D440","v":"AA"},{"$f":"'12.2018 Data'!E440","v":"OPER"},{"$f":"'12.2018 Data'!F440","v":321.22000000000003},{"$f":"'12.2018 Data'!G440","v":225.29},{"$f":"'12.2018 Data'!H440","v":66.010000000000005},{"$f":"'12.2018 Data'!I440","v":29.92},{"$f":"'12.2018 Data'!J440","v":0},"921",321.22000000000003,225.29,66.010000000000005,29.92,0,{"$f":"IF(ISNUMBER(MATCH($B460,'Org functional rollups'!$A:$A,0)),INDEX('Org functional rollups'!$D:$D,MATCH($B460,'Org functional rollups'!$A:$A,0)),0)","v":"Common"}]
[{"$f":"'12.2018 Data'!A441","v":"921000"},{"$f":"'12.2018 Data'!B441","v":"T07"},{"$f":"'12.2018 Data'!C441","v":"CD"},{"$f":"'12.2018 Data'!D441","v":"AA"},{"$f":"'12.2018 Data'!E441","v":"OPER"},{"$f":"'12.2018 Data'!F441","v":2799.56},{"$f":"'12.2018 Data'!G441","v":1963.51},{"$f":"'12.2018 Data'!H441","v":575.27},{"$f":"'12.2018 Data'!I441","v":260.77999999999997},{"$f":"'12.2018 Data'!J441","v":0},"921",2799.56,1963.51,575.27,260.77999999999997,0,{"$f":"IF(ISNUMBER(MATCH($B461,'Org functional rollups'!$A:$A,0)),INDEX('Org functional rollups'!$D:$D,MATCH($B461,'Org functional rollups'!$A:$A,0)),0)","v":"Production"}]
[{"$f":"'12.2018 Data'!A442","v":"921000"},{"$f":"'12.2018 Data'!B442","v":"T08"},{"$f":"'12.2018 Data'!C442","v":"CD"},{"$f":"'12.2018 Data'!D442","v":"AA"},{"$f":"'12.2018 Data'!E442","v":"OPER"},{"$f":"'12.2018 Data'!F442","v":2374.4499999999998},{"$f":"'12.2018 Data'!G442","v":1665.33},{"$f":"'12.2018 Data'!H442","v":487.88},{"$f":"'12.2018 Data'!I442","v":221.24},{"$f":"'12.2018 Data'!J442","v":0},"921",2374.4499999999998,1665.33,487.88,221.24,0,{"$f":"IF(ISNUMBER(MATCH($B462,'Org functional rollups'!$A:$A,0)),INDEX('Org functional rollups'!$D:$D,MATCH($B462,'Org functional rollups'!$A:$A,0)),0)","v":"Distribution"}]
[{"$f":"'12.2018 Data'!A443","v":"921000"},{"$f":"'12.2018 Data'!B443","v":"T19"},{"$f":"'12.2018 Data'!C443","v":"CD"},{"$f":"'12.2018 Data'!D443","v":"WA"},{"$f":"'12.2018 Data'!E443","v":"OPER"},{"$f":"'12.2018 Data'!F443","v":365.8},{"$f":"'12.2018 Data'!G443","v":284.27999999999997},{"$f":"'12.2018 Data'!H443","v":81.52},{"$f":"'12.2018 Data'!I443","v":0},{"$f":"'12.2018 Data'!J443","v":0},"921",365.8,284.27999999999997,81.52,0,0,{"$f":"IF(ISNUMBER(MATCH($B463,'Org functional rollups'!$A:$A,0)),INDEX('Org functional rollups'!$D:$D,MATCH($B463,'Org functional rollups'!$A:$A,0)),0)","v":"Common"}]
[{"$f":"'12.2018 Data'!A444","v":"921000"},{"$f":"'12.2018 Data'!B444","v":"T19"},{"$f":"'12.2018 Data'!C444","v":"CD"},{"$f":"'12.2018 Data'!D444","v":"AA"},{"$f":"'12.2018 Data'!E444","v":"OPER"},{"$f":"'12.2018 Data'!F444","v":5428.94},{"$f":"'12.2018 Data'!G444","v":3807.62},{"$f":"'12.2018 Data'!H444","v":1115.53},{"$f":"'12.2018 Data'!I444","v":505.79},{"$f":"'12.2018 Data'!J444","v":0},"921",5428.94,3807.62,1115.53,505.79,0,{"$f":"IF(ISNUMBER(MATCH($B464,'Org functional rollups'!$A:$A,0)),INDEX('Org functional rollups'!$D:$D,MATCH($B464,'Org functional rollups'!$A:$A,0)),0)","v":"Common"}]
[{"$f":"'12.2018 Data'!A445","v":"921000"},{"$f":"'12.2018 Data'!B445","v":"T51"},{"$f":"'12.2018 Data'!C445","v":"CD"},{"$f":"'12.2018 Data'!D445","v":"AA"},{"$f":"'12.2018 Data'!E445","v":"OPER"},{"$f":"'12.2018 Data'!F445","v":1438.98},{"$f":"'12.2018 Data'!G445","v":1009.24},{"$f":"'12.2018 Data'!H445","v":295.68},{"$f":"'12.2018 Data'!I445","v":134.06},{"$f":"'12.2018 Data'!J445","v":0},"921",1438.98,1009.24,295.68,134.06,0,{"$f":"IF(ISNUMBER(MATCH($B465,'Org functional rollups'!$A:$A,0)),INDEX('Org functional rollups'!$D:$D,MATCH($B465,'Org functional rollups'!$A:$A,0)),0)","v":"Distribution"}]
[{"$f":"'12.2018 Data'!A446","v":"921000"},{"$f":"'12.2018 Data'!B446","v":"T52"},{"$f":"'12.2018 Data'!C446","v":"CD"},{"$f":"'12.2018 Data'!D446","v":"AA"},{"$f":"'12.2018 Data'!E446","v":"OPER"},{"$f":"'12.2018 Data'!F446","v":6002.2},{"$f":"'12.2018 Data'!G446","v":4209.7700000000004},{"$f":"'12.2018 Data'!H446","v":1233.18},{"$f":"'12.2018 Data'!I446","v":559.25},{"$f":"'12.2018 Data'!J446","v":0},"921",6002.2,4209.7700000000004,1233.18,559.25,0,{"$f":"IF(ISNUMBER(MATCH($B466,'Org functional rollups'!$A:$A,0)),INDEX('Org functional rollups'!$D:$D,MATCH($B466,'Org functional rollups'!$A:$A,0)),0)","v":"Customer"}]
[{"$f":"'12.2018 Data'!A447","v":"921000"},{"$f":"'12.2018 Data'!B447","v":"T54"},{"$f":"'12.2018 Data'!C447","v":"CD"},{"$f":"'12.2018 Data'!D447","v":"AA"},{"$f":"'12.2018 Data'!E447","v":"OPER"},{"$f":"'12.2018 Data'!F447","v":1168.3699999999999},{"$f":"'12.2018 Data'!G447","v":819.46},{"$f":"'12.2018 Data'!H447","v":240.04},{"$f":"'12.2018 Data'!I447","v":108.87},{"$f":"'12.2018 Data'!J447","v":0},"921",1168.3699999999999,819.46,240.04,108.87,0,{"$f":"IF(ISNUMBER(MATCH($B467,'Org functional rollups'!$A:$A,0)),INDEX('Org functional rollups'!$D:$D,MATCH($B467,'Org functional rollups'!$A:$A,0)),0)","v":"Common"}]
[{"$f":"'12.2018 Data'!A448","v":"921000"},{"$f":"'12.2018 Data'!B448","v":"U01"},{"$f":"'12.2018 Data'!C448","v":"CD"},{"$f":"'12.2018 Data'!D448","v":"AA"},{"$f":"'12.2018 Data'!E448","v":"OPER"},{"$f":"'12.2018 Data'!F448","v":2500.5300000000002},{"$f":"'12.2018 Data'!G448","v":1753.78},{"$f":"'12.2018 Data'!H448","v":513.77},{"$f":"'12.2018 Data'!I448","v":232.98},{"$f":"'12.2018 Data'!J448","v":0},"921",2500.5300000000002,1753.78,513.77,232.98,0,{"$f":"IF(ISNUMBER(MATCH($B468,'Org functional rollups'!$A:$A,0)),INDEX('Org functional rollups'!$D:$D,MATCH($B468,'Org functional rollups'!$A:$A,0)),0)","v":"Common"}]
[{"$f":"'12.2018 Data'!A449","v":"921000"},{"$f":"'12.2018 Data'!B449","v":"V01"},{"$f":"'12.2018 Data'!C449","v":"CD"},{"$f":"'12.2018 Data'!D449","v":"AA"},{"$f":"'12.2018 Data'!E449","v":"OPER"},{"$f":"'12.2018 Data'!F449","v":3064},{"$f":"'12.2018 Data'!G449","v":2148.94},{"$f":"'12.2018 Data'!H449","v":629.62},{"$f":"'12.2018 Data'!I449","v":285.44},{"$f":"'12.2018 Data'!J449","v":0},"921",3064,2148.94,629.62,285.44,0,{"$f":"IF(ISNUMBER(MATCH($B469,'Org functional rollups'!$A:$A,0)),INDEX('Org functional rollups'!$D:$D,MATCH($B469,'Org functional rollups'!$A:$A,0)),0)","v":"Common"}]
[{"$f":"'12.2018 Data'!A450","v":"921000"},{"$f":"'12.2018 Data'!B450","v":"V08"},{"$f":"'12.2018 Data'!C450","v":"CD"},{"$f":"'12.2018 Data'!D450","v":"AA"},{"$f":"'12.2018 Data'!E450","v":"OPER"},{"$f":"'12.2018 Data'!F450","v":27737.74},{"$f":"'12.2018 Data'!G450","v":19453.95},{"$f":"'12.2018 Data'!H450","v":5699.72},{"$f":"'12.2018 Data'!I450","v":2584.0700000000002},{"$f":"'12.2018 Data'!J450","v":0},"921",27737.74,19453.95,5699.72,2584.0700000000002,0,{"$f":"IF(ISNUMBER(MATCH($B470,'Org functional rollups'!$A:$A,0)),INDEX('Org functional rollups'!$D:$D,MATCH($B470,'Org functional rollups'!$A:$A,0)),0)","v":"Common"}]
[{"$f":"'12.2018 Data'!A451","v":"921000"},{"$f":"'12.2018 Data'!B451","v":"V08"},{"$f":"'12.2018 Data'!C451","v":"ED"},{"$f":"'12.2018 Data'!D451","v":"AN"},{"$f":"'12.2018 Data'!E451","v":"OPER"},{"$f":"'12.2018 Data'!F451","v":23239.38},{"$f":"'12.2018 Data'!G451","v":23239.38},{"$f":"'12.2018 Data'!H451","v":0},{"$f":"'12.2018 Data'!I451","v":0},{"$f":"'12.2018 Data'!J451","v":0},{"$f":"LEFT(A471,3)","v":"921"},23239.38,23239.38,0,0,0,{"$f":"IF(ISNUMBER(MATCH($B471,'Org functional rollups'!$A:$A,0)),INDEX('Org functional rollups'!$D:$D,MATCH($B471,'Org functional rollups'!$A:$A,0)),0)","v":"Common"}]
[{"$f":"'12.2018 Data'!A452","v":"921000"},{"$f":"'12.2018 Data'!B452","v":"V19"},{"$f":"'12.2018 Data'!C452","v":"CD"},{"$f":"'12.2018 Data'!D452","v":"AA"},{"$f":"'12.2018 Data'!E452","v":"OPER"},{"$f":"'12.2018 Data'!F452","v":1645.2},{"$f":"'12.2018 Data'!G452","v":1153.8900000000001},{"$f":"'12.2018 Data'!H452","v":338.04},{"$f":"'12.2018 Data'!I452","v":153.27000000000001},{"$f":"'12.2018 Data'!J452","v":0},"921",1645.2,1153.8900000000001,338.04,153.27000000000001,0,{"$f":"IF(ISNUMBER(MATCH($B472,'Org functional rollups'!$A:$A,0)),INDEX('Org functional rollups'!$D:$D,MATCH($B472,'Org functional rollups'!$A:$A,0)),0)","v":"Common"}]
[{"$f":"'12.2018 Data'!A453","v":"921000"},{"$f":"'12.2018 Data'!B453","v":"V50"},{"$f":"'12.2018 Data'!C453","v":"GD"},{"$f":"'12.2018 Data'!D453","v":"OR"},{"$f":"'12.2018 Data'!E453","v":"OPER"},{"$f":"'12.2018 Data'!F453","v":771.09},{"$f":"'12.2018 Data'!G453","v":0},{"$f":"'12.2018 Data'!H453","v":0},{"$f":"'12.2018 Data'!I453","v":771.09},{"$f":"'12.2018 Data'!J453","v":0},"921",771.09,0,0,771.09,0,{"$f":"IF(ISNUMBER(MATCH($B473,'Org functional rollups'!$A:$A,0)),INDEX('Org functional rollups'!$D:$D,MATCH($B473,'Org functional rollups'!$A:$A,0)),0)","v":"Distribution"}]
[{"$f":"'12.2018 Data'!A454","v":"921000"},{"$f":"'12.2018 Data'!B454","v":"V51"},{"$f":"'12.2018 Data'!C454","v":"ED"},{"$f":"'12.2018 Data'!D454","v":"AN"},{"$f":"'12.2018 Data'!E454","v":"OPER"},{"$f":"'12.2018 Data'!F454","v":9.7799999999999994},{"$f":"'12.2018 Data'!G454","v":9.7799999999999994},{"$f":"'12.2018 Data'!H454","v":0},{"$f":"'12.2018 Data'!I454","v":0},{"$f":"'12.2018 Data'!J454","v":0},"921",9.7799999999999994,9.7799999999999994,0,0,0,{"$f":"IF(ISNUMBER(MATCH($B474,'Org functional rollups'!$A:$A,0)),INDEX('Org functional rollups'!$D:$D,MATCH($B474,'Org functional rollups'!$A:$A,0)),0)","v":"Transmission"}]
[{"$f":"'12.2018 Data'!A455","v":"921000"},{"$f":"'12.2018 Data'!B455","v":"W01"},{"$f":"'12.2018 Data'!C455","v":"CD"},{"$f":"'12.2018 Data'!D455","v":"AA"},{"$f":"'12.2018 Data'!E455","v":"OPER"},{"$f":"'12.2018 Data'!F455","v":3782.51},{"$f":"'12.2018 Data'!G455","v":2652.95},{"$f":"'12.2018 Data'!H455","v":777.14},{"$f":"'12.2018 Data'!I455","v":352.42},{"$f":"'12.2018 Data'!J455","v":0},"921",3782.51,2652.95,777.14,352.42,0,{"$f":"IF(ISNUMBER(MATCH($B475,'Org functional rollups'!$A:$A,0)),INDEX('Org functional rollups'!$D:$D,MATCH($B475,'Org functional rollups'!$A:$A,0)),0)","v":"Common"}]
[{"$f":"'12.2018 Data'!A456","v":"921000"},{"$f":"'12.2018 Data'!B456","v":"W09"},{"$f":"'12.2018 Data'!C456","v":"CD"},{"$f":"'12.2018 Data'!D456","v":"AA"},{"$f":"'12.2018 Data'!E456","v":"OPER"},{"$f":"'12.2018 Data'!F456","v":9338.83},{"$f":"'12.2018 Data'!G456","v":6549.81},{"$f":"'12.2018 Data'!H456","v":1919.02},{"$f":"'12.2018 Data'!I456","v":870},{"$f":"'12.2018 Data'!J456","v":0},"921",9338.83,6549.81,1919.02,870,0,{"$f":"IF(ISNUMBER(MATCH($B476,'Org functional rollups'!$A:$A,0)),INDEX('Org functional rollups'!$D:$D,MATCH($B476,'Org functional rollups'!$A:$A,0)),0)","v":"Common"}]
[{"$f":"'12.2018 Data'!A457","v":"921000"},{"$f":"'12.2018 Data'!B457","v":"W39"},{"$f":"'12.2018 Data'!C457","v":"CD"},{"$f":"'12.2018 Data'!D457","v":"AA"},{"$f":"'12.2018 Data'!E457","v":"OPER"},{"$f":"'12.2018 Data'!F457","v":6609.77},{"$f":"'12.2018 Data'!G457","v":4635.76},{"$f":"'12.2018 Data'!H457","v":1358.21},{"$f":"'12.2018 Data'!I457","v":615.79999999999995},{"$f":"'12.2018 Data'!J457","v":0},"921",6609.77,4635.76,1358.21,615.79999999999995,0,{"$f":"IF(ISNUMBER(MATCH($B477,'Org functional rollups'!$A:$A,0)),INDEX('Org functional rollups'!$D:$D,MATCH($B477,'Org functional rollups'!$A:$A,0)),0)","v":"Common"}]
[{"$f":"'12.2018 Data'!A458","v":"921000"},{"$f":"'12.2018 Data'!B458","v":"X01"},{"$f":"'12.2018 Data'!C458","v":"CD"},{"$f":"'12.2018 Data'!D458","v":"WA"},{"$f":"'12.2018 Data'!E458","v":"OPER"},{"$f":"'12.2018 Data'!F458","v":6250},{"$f":"'12.2018 Data'!G458","v":4857.1899999999996},{"$f":"'12.2018 Data'!H458","v":1392.81},{"$f":"'12.2018 Data'!I458","v":0},{"$f":"'12.2018 Data'!J458","v":0},"921",6250,4857.1899999999996,1392.81,0,0,{"$f":"IF(ISNUMBER(MATCH($B478,'Org functional rollups'!$A:$A,0)),INDEX('Org functional rollups'!$D:$D,MATCH($B478,'Org functional rollups'!$A:$A,0)),0)","v":"Common"}]
[{"$f":"'12.2018 Data'!A459","v":"921000"},{"$f":"'12.2018 Data'!B459","v":"X02"},{"$f":"'12.2018 Data'!C459","v":"CD"},{"$f":"'12.2018 Data'!D459","v":"AA"},{"$f":"'12.2018 Data'!E459","v":"OPER"},{"$f":"'12.2018 Data'!F459","v":74610.52},{"$f":"'12.2018 Data'!G459","v":52328.27},{"$f":"'12.2018 Data'!H459","v":15331.61},{"$f":"'12.2018 Data'!I459","v":6950.64},{"$f":"'12.2018 Data'!J459","v":0},"921",74610.52,52328.27,15331.61,6950.64,0,{"$f":"IF(ISNUMBER(MATCH($B479,'Org functional rollups'!$A:$A,0)),INDEX('Org functional rollups'!$D:$D,MATCH($B479,'Org functional rollups'!$A:$A,0)),0)","v":"Common"}]
[{"$f":"'12.2018 Data'!A460","v":"921000"},{"$f":"'12.2018 Data'!B460","v":"X08"},{"$f":"'12.2018 Data'!C460","v":"CD"},{"$f":"'12.2018 Data'!D460","v":"AA"},{"$f":"'12.2018 Data'!E460","v":"OPER"},{"$f":"'12.2018 Data'!F460","v":1621.62},{"$f":"'12.2018 Data'!G460","v":1137.3599999999999},{"$f":"'12.2018 Data'!H460","v":333.17},{"$f":"'12.2018 Data'!I460","v":151.09},{"$f":"'12.2018 Data'!J460","v":0},"921",1621.62,1137.3599999999999,333.17,151.09,0,{"$f":"IF(ISNUMBER(MATCH($B480,'Org functional rollups'!$A:$A,0)),INDEX('Org functional rollups'!$D:$D,MATCH($B480,'Org functional rollups'!$A:$A,0)),0)","v":"Production"}]
[{"$f":"'12.2018 Data'!A461","v":"921000"},{"$f":"'12.2018 Data'!B461","v":"X08"},{"$f":"'12.2018 Data'!C461","v":"ED"},{"$f":"'12.2018 Data'!D461","v":"AN"},{"$f":"'12.2018 Data'!E461","v":"OPER"},{"$f":"'12.2018 Data'!F461","v":44.95},{"$f":"'12.2018 Data'!G461","v":44.95},{"$f":"'12.2018 Data'!H461","v":0},{"$f":"'12.2018 Data'!I461","v":0},{"$f":"'12.2018 Data'!J461","v":0},"921",44.95,44.95,0,0,0,{"$f":"IF(ISNUMBER(MATCH($B481,'Org functional rollups'!$A:$A,0)),INDEX('Org functional rollups'!$D:$D,MATCH($B481,'Org functional rollups'!$A:$A,0)),0)","v":"Production"}]
[{"$f":"'12.2018 Data'!A462","v":"921000"},{"$f":"'12.2018 Data'!B462","v":"X09"},{"$f":"'12.2018 Data'!C462","v":"CD"},{"$f":"'12.2018 Data'!D462","v":"AA"},{"$f":"'12.2018 Data'!E462","v":"OPER"},{"$f":"'12.2018 Data'!F462","v":5271.31},{"$f":"'12.2018 Data'!G462","v":3697.07},{"$f":"'12.2018 Data'!H462","v":1083.1400000000001},{"$f":"'12.2018 Data'!I462","v":491.1},{"$f":"'12.2018 Data'!J462","v":0},"921",5271.31,3697.07,1083.1400000000001,491.1,0,{"$f":"IF(ISNUMBER(MATCH($B482,'Org functional rollups'!$A:$A,0)),INDEX('Org functional rollups'!$D:$D,MATCH($B482,'Org functional rollups'!$A:$A,0)),0)","v":"Common"}]
[{"$f":"'12.2018 Data'!A463","v":"921000"},{"$f":"'12.2018 Data'!B463","v":"X19"},{"$f":"'12.2018 Data'!C463","v":"CD"},{"$f":"'12.2018 Data'!D463","v":"AA"},{"$f":"'12.2018 Data'!E463","v":"OPER"},{"$f":"'12.2018 Data'!F463","v":468.56},{"$f":"'12.2018 Data'!G463","v":328.63},{"$f":"'12.2018 Data'!H463","v":96.28},{"$f":"'12.2018 Data'!I463","v":43.65},{"$f":"'12.2018 Data'!J463","v":0},"921",468.56,328.63,96.28,43.65,0,{"$f":"IF(ISNUMBER(MATCH($B483,'Org functional rollups'!$A:$A,0)),INDEX('Org functional rollups'!$D:$D,MATCH($B483,'Org functional rollups'!$A:$A,0)),0)","v":"Common"}]
[{"$f":"'12.2018 Data'!A464","v":"921000"},{"$f":"'12.2018 Data'!B464","v":"X39"},{"$f":"'12.2018 Data'!C464","v":"CD"},{"$f":"'12.2018 Data'!D464","v":"AA"},{"$f":"'12.2018 Data'!E464","v":"OPER"},{"$f":"'12.2018 Data'!F464","v":285.04000000000002},{"$f":"'12.2018 Data'!G464","v":199.92},{"$f":"'12.2018 Data'!H464","v":58.56},{"$f":"'12.2018 Data'!I464","v":26.56},{"$f":"'12.2018 Data'!J464","v":0},"921",285.04000000000002,199.92,58.56,26.56,0,{"$f":"IF(ISNUMBER(MATCH($B484,'Org functional rollups'!$A:$A,0)),INDEX('Org functional rollups'!$D:$D,MATCH($B484,'Org functional rollups'!$A:$A,0)),0)","v":"Common"}]
[{"$f":"'12.2018 Data'!A465","v":"921000"},{"$f":"'12.2018 Data'!B465","v":"X54"},{"$f":"'12.2018 Data'!C465","v":"CD"},{"$f":"'12.2018 Data'!D465","v":"AA"},{"$f":"'12.2018 Data'!E465","v":"OPER"},{"$f":"'12.2018 Data'!F465","v":23800},{"$f":"'12.2018 Data'!G465","v":16692.13},{"$f":"'12.2018 Data'!H465","v":4890.66},{"$f":"'12.2018 Data'!I465","v":2217.21},{"$f":"'12.2018 Data'!J465","v":0},"921",23800,16692.13,4890.66,2217.21,0,{"$f":"IF(ISNUMBER(MATCH($B485,'Org functional rollups'!$A:$A,0)),INDEX('Org functional rollups'!$D:$D,MATCH($B485,'Org functional rollups'!$A:$A,0)),0)","v":"Common"}]
[{"$f":"'12.2018 Data'!A466","v":"921000"},{"$f":"'12.2018 Data'!B466","v":"X57"},{"$f":"'12.2018 Data'!C466","v":"CD"},{"$f":"'12.2018 Data'!D466","v":"AA"},{"$f":"'12.2018 Data'!E466","v":"OPER"},{"$f":"'12.2018 Data'!F466","v":1589.94},{"$f":"'12.2018 Data'!G466","v":1115.1300000000001},{"$f":"'12.2018 Data'!H466","v":326.70999999999998},{"$f":"'12.2018 Data'!I466","v":148.1},{"$f":"'12.2018 Data'!J466","v":0},"921",1589.94,1115.1300000000001,326.70999999999998,148.1,0,{"$f":"IF(ISNUMBER(MATCH($B486,'Org functional rollups'!$A:$A,0)),INDEX('Org functional rollups'!$D:$D,MATCH($B486,'Org functional rollups'!$A:$A,0)),0)","v":"Distribution"}]
[{"$f":"'12.2018 Data'!A467","v":"921000"},{"$f":"'12.2018 Data'!B467","v":"Y01"},{"$f":"'12.2018 Data'!C467","v":"CD"},{"$f":"'12.2018 Data'!D467","v":"AA"},{"$f":"'12.2018 Data'!E467","v":"OPER"},{"$f":"'12.2018 Data'!F467","v":60526.71},{"$f":"'12.2018 Data'!G467","v":42450.44},{"$f":"'12.2018 Data'!H467","v":12437.67},{"$f":"'12.2018 Data'!I467","v":5638.6},{"$f":"'12.2018 Data'!J467","v":0},"921",60526.71,42450.44,12437.67,5638.6,0,{"$f":"IF(ISNUMBER(MATCH($B487,'Org functional rollups'!$A:$A,0)),INDEX('Org functional rollups'!$D:$D,MATCH($B487,'Org functional rollups'!$A:$A,0)),0)","v":"Common"}]
[{"$f":"'12.2018 Data'!A468","v":"921000"},{"$f":"'12.2018 Data'!B468","v":"Y54"},{"$f":"'12.2018 Data'!C468","v":"CD"},{"$f":"'12.2018 Data'!D468","v":"AA"},{"$f":"'12.2018 Data'!E468","v":"OPER"},{"$f":"'12.2018 Data'!F468","v":129015.95},{"$f":"'12.2018 Data'!G468","v":90485.33},{"$f":"'12.2018 Data'!H468","v":26511.45},{"$f":"'12.2018 Data'!I468","v":12019.17},{"$f":"'12.2018 Data'!J468","v":0},"921",129015.95,90485.33,26511.45,12019.17,0,{"$f":"IF(ISNUMBER(MATCH($B488,'Org functional rollups'!$A:$A,0)),INDEX('Org functional rollups'!$D:$D,MATCH($B488,'Org functional rollups'!$A:$A,0)),0)","v":"Common"}]
[{"$f":"'12.2018 Data'!A469","v":"921000"},{"$f":"'12.2018 Data'!B469","v":"Y55"},{"$f":"'12.2018 Data'!C469","v":"CD"},{"$f":"'12.2018 Data'!D469","v":"AA"},{"$f":"'12.2018 Data'!E469","v":"OPER"},{"$f":"'12.2018 Data'!F469","v":471.25},{"$f":"'12.2018 Data'!G469","v":330.51},{"$f":"'12.2018 Data'!H469","v":96.84},{"$f":"'12.2018 Data'!I469","v":43.9},{"$f":"'12.2018 Data'!J469","v":0},"921",471.25,330.51,96.84,43.9,0,{"$f":"IF(ISNUMBER(MATCH($B489,'Org functional rollups'!$A:$A,0)),INDEX('Org functional rollups'!$D:$D,MATCH($B489,'Org functional rollups'!$A:$A,0)),0)","v":"Production"}]
[{"$f":"'12.2018 Data'!A470","v":"921000"},{"$f":"'12.2018 Data'!B470","v":"Z08"},{"$f":"'12.2018 Data'!C470","v":"CD"},{"$f":"'12.2018 Data'!D470","v":"AA"},{"$f":"'12.2018 Data'!E470","v":"OPER"},{"$f":"'12.2018 Data'!F470","v":508.12},{"$f":"'12.2018 Data'!G470","v":356.38},{"$f":"'12.2018 Data'!H470","v":104.4},{"$f":"'12.2018 Data'!I470","v":47.34},{"$f":"'12.2018 Data'!J470","v":0},"921",508.12,356.38,104.4,47.34,0,{"$f":"IF(ISNUMBER(MATCH($B490,'Org functional rollups'!$A:$A,0)),INDEX('Org functional rollups'!$D:$D,MATCH($B490,'Org functional rollups'!$A:$A,0)),0)","v":"Distribution"}]
[{"$f":"'12.2018 Data'!A471","v":"921000"},{"$f":"'12.2018 Data'!B471","v":"Z09"},{"$f":"'12.2018 Data'!C471","v":"CD"},{"$f":"'12.2018 Data'!D471","v":"AA"},{"$f":"'12.2018 Data'!E471","v":"OPER"},{"$f":"'12.2018 Data'!F471","v":89898.47},{"$f":"'12.2018 Data'!G471","v":63050.28},{"$f":"'12.2018 Data'!H471","v":18473.259999999998},{"$f":"'12.2018 Data'!I471","v":8374.93},{"$f":"'12.2018 Data'!J471","v":0},"921",89898.47,63050.28,18473.259999999998,8374.93,0,{"$f":"IF(ISNUMBER(MATCH($B491,'Org functional rollups'!$A:$A,0)),INDEX('Org functional rollups'!$D:$D,MATCH($B491,'Org functional rollups'!$A:$A,0)),0)","v":"Common"}]
[{"$f":"'12.2018 Data'!A472","v":"921000"},{"$f":"'12.2018 Data'!B472","v":"Z57"},{"$f":"'12.2018 Data'!C472","v":"CD"},{"$f":"'12.2018 Data'!D472","v":"AA"},{"$f":"'12.2018 Data'!E472","v":"OPER"},{"$f":"'12.2018 Data'!F472","v":-928.14},{"$f":"'12.2018 Data'!G472","v":-650.95000000000005},{"$f":"'12.2018 Data'!H472","v":-190.73},{"$f":"'12.2018 Data'!I472","v":-86.46},{"$f":"'12.2018 Data'!J472","v":0},"921",-928.14,-650.95000000000005,-190.73,-86.46,0,{"$f":"IF(ISNUMBER(MATCH($B492,'Org functional rollups'!$A:$A,0)),INDEX('Org functional rollups'!$D:$D,MATCH($B492,'Org functional rollups'!$A:$A,0)),0)","v":"Common"}]
[{"$f":"'12.2018 Data'!A473","v":"921000"},{"$f":"'12.2018 Data'!B473","v":"Z87"},{"$f":"'12.2018 Data'!C473","v":"CD"},{"$f":"'12.2018 Data'!D473","v":"AA"},{"$f":"'12.2018 Data'!E473","v":"OPER"},{"$f":"'12.2018 Data'!F473","v":304822.53999999998},{"$f":"'12.2018 Data'!G473","v":213788.29},{"$f":"'12.2018 Data'!H473","v":62638.559999999998},{"$f":"'12.2018 Data'!I473","v":28395.69},{"$f":"'12.2018 Data'!J473","v":0},"921",304822.53999999998,213788.29,62638.559999999998,28395.69,0,{"$f":"IF(ISNUMBER(MATCH($B493,'Org functional rollups'!$A:$A,0)),INDEX('Org functional rollups'!$D:$D,MATCH($B493,'Org functional rollups'!$A:$A,0)),0)","v":"Common"}]
[{"$f":"'12.2018 Data'!A474","v":"921000"},{"$f":"'12.2018 Data'!B474","v":"Z87"},{"$f":"'12.2018 Data'!C474","v":"ED"},{"$f":"'12.2018 Data'!D474","v":"AN"},{"$f":"'12.2018 Data'!E474","v":"OPER"},{"$f":"'12.2018 Data'!F474","v":10683.78},{"$f":"'12.2018 Data'!G474","v":10683.78},{"$f":"'12.2018 Data'!H474","v":0},{"$f":"'12.2018 Data'!I474","v":0},{"$f":"'12.2018 Data'!J474","v":0},"921",10683.78,10683.78,0,0,0,{"$f":"IF(ISNUMBER(MATCH($B494,'Org functional rollups'!$A:$A,0)),INDEX('Org functional rollups'!$D:$D,MATCH($B494,'Org functional rollups'!$A:$A,0)),0)","v":"Common"}]
[{"$f":"'12.2018 Data'!A475","v":"921000"},{"$f":"'12.2018 Data'!B475","v":"Z87"},{"$f":"'12.2018 Data'!C475","v":"GD"},{"$f":"'12.2018 Data'!D475","v":"OR"},{"$f":"'12.2018 Data'!E475","v":"OPER"},{"$f":"'12.2018 Data'!F475","v":9847.6},{"$f":"'12.2018 Data'!G475","v":0},{"$f":"'12.2018 Data'!H475","v":0},{"$f":"'12.2018 Data'!I475","v":9847.6},{"$f":"'12.2018 Data'!J475","v":0},"921",9847.6,0,0,9847.6,0,{"$f":"IF(ISNUMBER(MATCH($B495,'Org functional rollups'!$A:$A,0)),INDEX('Org functional rollups'!$D:$D,MATCH($B495,'Org functional rollups'!$A:$A,0)),0)","v":"Common"}]
[{"$f":"'12.2018 Data'!A476","v":"921000"},{"$f":"'12.2018 Data'!B476","v":"Z87"},{"$f":"'12.2018 Data'!C476","v":"CD"},{"$f":"'12.2018 Data'!D476","v":"AN"},{"$f":"'12.2018 Data'!E476","v":"OPER"},{"$f":"'12.2018 Data'!F476","v":6279.85},{"$f":"'12.2018 Data'!G476","v":4880.41},{"$f":"'12.2018 Data'!H476","v":1399.44},{"$f":"'12.2018 Data'!I476","v":0},{"$f":"'12.2018 Data'!J476","v":0},"921",6279.85,4880.41,1399.44,0,0,{"$f":"IF(ISNUMBER(MATCH($B496,'Org functional rollups'!$A:$A,0)),INDEX('Org functional rollups'!$D:$D,MATCH($B496,'Org functional rollups'!$A:$A,0)),0)","v":"Common"}]
[{"$f":"'12.2018 Data'!A477","v":"921000"},{"$f":"'12.2018 Data'!B477","v":"Z87"},{"$f":"'12.2018 Data'!C477","v":"CD"},{"$f":"'12.2018 Data'!D477","v":"WA"},{"$f":"'12.2018 Data'!E477","v":"OPER"},{"$f":"'12.2018 Data'!F477","v":911.83},{"$f":"'12.2018 Data'!G477","v":708.63},{"$f":"'12.2018 Data'!H477","v":203.2},{"$f":"'12.2018 Data'!I477","v":0},{"$f":"'12.2018 Data'!J477","v":0},"921",911.83,708.63,203.2,0,0,{"$f":"IF(ISNUMBER(MATCH($B497,'Org functional rollups'!$A:$A,0)),INDEX('Org functional rollups'!$D:$D,MATCH($B497,'Org functional rollups'!$A:$A,0)),0)","v":"Common"}]
[{"$f":"'12.2018 Data'!A478","v":"921000"},{"$f":"'12.2018 Data'!B478","v":"Z88"},{"$f":"'12.2018 Data'!C478","v":"ED"},{"$f":"'12.2018 Data'!D478","v":"AN"},{"$f":"'12.2018 Data'!E478","v":"OPER"},{"$f":"'12.2018 Data'!F478","v":220.3},{"$f":"'12.2018 Data'!G478","v":220.3},{"$f":"'12.2018 Data'!H478","v":0},{"$f":"'12.2018 Data'!I478","v":0},{"$f":"'12.2018 Data'!J478","v":0},"921",220.3,220.3,0,0,0,{"$f":"IF(ISNUMBER(MATCH($B498,'Org functional rollups'!$A:$A,0)),INDEX('Org functional rollups'!$D:$D,MATCH($B498,'Org functional rollups'!$A:$A,0)),0)","v":"Distribution"}]
[{"$f":"'12.2018 Data'!A479","v":"921000"},{"$f":"'12.2018 Data'!B479","v":"Z88"},{"$f":"'12.2018 Data'!C479","v":"CD"},{"$f":"'12.2018 Data'!D479","v":"AA"},{"$f":"'12.2018 Data'!E479","v":"OPER"},{"$f":"'12.2018 Data'!F479","v":137350},{"$f":"'12.2018 Data'!G479","v":96330.41},{"$f":"'12.2018 Data'!H479","v":28224.01},{"$f":"'12.2018 Data'!I479","v":12795.58},{"$f":"'12.2018 Data'!J479","v":0},"921",137350,96330.41,28224.01,12795.58,0,{"$f":"IF(ISNUMBER(MATCH($B499,'Org functional rollups'!$A:$A,0)),INDEX('Org functional rollups'!$D:$D,MATCH($B499,'Org functional rollups'!$A:$A,0)),0)","v":"Distribution"}]
[{"$f":"'12.2018 Data'!A480","v":"921000"},{"$f":"'12.2018 Data'!B480","v":"Z88"},{"$f":"'12.2018 Data'!C480","v":"CD"},{"$f":"'12.2018 Data'!D480","v":"AN"},{"$f":"'12.2018 Data'!E480","v":"OPER"},{"$f":"'12.2018 Data'!F480","v":732.2},{"$f":"'12.2018 Data'!G480","v":569.03},{"$f":"'12.2018 Data'!H480","v":163.16999999999999},{"$f":"'12.2018 Data'!I480","v":0},{"$f":"'12.2018 Data'!J480","v":0},"921",732.2,569.03,163.16999999999999,0,0,{"$f":"IF(ISNUMBER(MATCH($B500,'Org functional rollups'!$A:$A,0)),INDEX('Org functional rollups'!$D:$D,MATCH($B500,'Org functional rollups'!$A:$A,0)),0)","v":"Distribution"}]
[{"$f":"'12.2018 Data'!A481","v":"921000"},{"$f":"'12.2018 Data'!B481","v":"Z89"},{"$f":"'12.2018 Data'!C481","v":"CD"},{"$f":"'12.2018 Data'!D481","v":"AN"},{"$f":"'12.2018 Data'!E481","v":"OPER"},{"$f":"'12.2018 Data'!F481","v":-39.25},{"$f":"'12.2018 Data'!G481","v":-30.5},{"$f":"'12.2018 Data'!H481","v":-8.75},{"$f":"'12.2018 Data'!I481","v":0},{"$f":"'12.2018 Data'!J481","v":0},"921",-39.25,-30.5,-8.75,0,0,{"$f":"IF(ISNUMBER(MATCH($B501,'Org functional rollups'!$A:$A,0)),INDEX('Org functional rollups'!$D:$D,MATCH($B501,'Org functional rollups'!$A:$A,0)),0)","v":"Common"}]
[{"$f":"'12.2018 Data'!A482","v":"921000"},{"$f":"'12.2018 Data'!B482","v":"Z89"},{"$f":"'12.2018 Data'!C482","v":"ED"},{"$f":"'12.2018 Data'!D482","v":"AN"},{"$f":"'12.2018 Data'!E482","v":"OPER"},{"$f":"'12.2018 Data'!F482","v":-305.60000000000002},{"$f":"'12.2018 Data'!G482","v":-305.60000000000002},{"$f":"'12.2018 Data'!H482","v":0},{"$f":"'12.2018 Data'!I482","v":0},{"$f":"'12.2018 Data'!J482","v":0},"921",-305.60000000000002,-305.60000000000002,0,0,0,{"$f":"IF(ISNUMBER(MATCH($B502,'Org functional rollups'!$A:$A,0)),INDEX('Org functional rollups'!$D:$D,MATCH($B502,'Org functional rollups'!$A:$A,0)),0)","v":"Common"}]
[{"$f":"'12.2018 Data'!A483","v":"921000"},{"$f":"'12.2018 Data'!B483","v":"Z89"},{"$f":"'12.2018 Data'!C483","v":"CD"},{"$f":"'12.2018 Data'!D483","v":"AA"},{"$f":"'12.2018 Data'!E483","v":"OPER"},{"$f":"'12.2018 Data'!F483","v":10617},{"$f":"'12.2018 Data'!G483","v":7446.24},{"$f":"'12.2018 Data'!H483","v":2181.6799999999998},{"$f":"'12.2018 Data'!I483","v":989.08},{"$f":"'12.2018 Data'!J483","v":0},"921",10617,7446.24,2181.6799999999998,989.08,0,{"$f":"IF(ISNUMBER(MATCH($B503,'Org functional rollups'!$A:$A,0)),INDEX('Org functional rollups'!$D:$D,MATCH($B503,'Org functional rollups'!$A:$A,0)),0)","v":"Common"}]
[{"$f":"'12.2018 Data'!A484","v":"921000"},{"$f":"'12.2018 Data'!B484","v":"Z89"},{"$f":"'12.2018 Data'!C484","v":"CD"},{"$f":"'12.2018 Data'!D484","v":"WA"},{"$f":"'12.2018 Data'!E484","v":"OPER"},{"$f":"'12.2018 Data'!F484","v":-41.47},{"$f":"'12.2018 Data'!G484","v":-32.229999999999997},{"$f":"'12.2018 Data'!H484","v":-9.24},{"$f":"'12.2018 Data'!I484","v":0},{"$f":"'12.2018 Data'!J484","v":0},"921",-41.47,-32.229999999999997,-9.24,0,0,{"$f":"IF(ISNUMBER(MATCH($B504,'Org functional rollups'!$A:$A,0)),INDEX('Org functional rollups'!$D:$D,MATCH($B504,'Org functional rollups'!$A:$A,0)),0)","v":"Common"}]
[{"$f":"'12.2018 Data'!A485","v":"921000"},{"$f":"'12.2018 Data'!B485","v":"Z89"},{"$f":"'12.2018 Data'!C485","v":"GD"},{"$f":"'12.2018 Data'!D485","v":"OR"},{"$f":"'12.2018 Data'!E485","v":"OPER"},{"$f":"'12.2018 Data'!F485","v":97.18},{"$f":"'12.2018 Data'!G485","v":0},{"$f":"'12.2018 Data'!H485","v":0},{"$f":"'12.2018 Data'!I485","v":97.18},{"$f":"'12.2018 Data'!J485","v":0},"921",97.18,0,0,97.18,0,{"$f":"IF(ISNUMBER(MATCH($B505,'Org functional rollups'!$A:$A,0)),INDEX('Org functional rollups'!$D:$D,MATCH($B505,'Org functional rollups'!$A:$A,0)),0)","v":"Common"}]
[{"$f":"'12.2018 Data'!A486","v":"921000"},{"$f":"'12.2018 Data'!B486","v":"Z90"},{"$f":"'12.2018 Data'!C486","v":"CD"},{"$f":"'12.2018 Data'!D486","v":"AA"},{"$f":"'12.2018 Data'!E486","v":"OPER"},{"$f":"'12.2018 Data'!F486","v":53437.36},{"$f":"'12.2018 Data'!G486","v":37477.89},{"$f":"'12.2018 Data'!H486","v":10980.55},{"$f":"'12.2018 Data'!I486","v":4978.92},{"$f":"'12.2018 Data'!J486","v":0},"921",53437.36,37477.89,10980.55,4978.92,0,{"$f":"IF(ISNUMBER(MATCH($B506,'Org functional rollups'!$A:$A,0)),INDEX('Org functional rollups'!$D:$D,MATCH($B506,'Org functional rollups'!$A:$A,0)),0)","v":"Common"}]
[{"$f":"'12.2018 Data'!A487","v":"921000"},{"$f":"'12.2018 Data'!B487","v":"Z90"},{"$f":"'12.2018 Data'!C487","v":"CD"},{"$f":"'12.2018 Data'!D487","v":"AN"},{"$f":"'12.2018 Data'!E487","v":"OPER"},{"$f":"'12.2018 Data'!F487","v":1112.69},{"$f":"'12.2018 Data'!G487","v":864.74},{"$f":"'12.2018 Data'!H487","v":247.95},{"$f":"'12.2018 Data'!I487","v":0},{"$f":"'12.2018 Data'!J487","v":0},"921",1112.69,864.74,247.95,0,0,{"$f":"IF(ISNUMBER(MATCH($B507,'Org functional rollups'!$A:$A,0)),INDEX('Org functional rollups'!$D:$D,MATCH($B507,'Org functional rollups'!$A:$A,0)),0)","v":"Common"}]
[{"$f":"'12.2018 Data'!A488","v":"921000"},{"$f":"'12.2018 Data'!B488","v":"Z90"},{"$f":"'12.2018 Data'!C488","v":"CD"},{"$f":"'12.2018 Data'!D488","v":"WA"},{"$f":"'12.2018 Data'!E488","v":"OPER"},{"$f":"'12.2018 Data'!F488","v":144.30000000000001},{"$f":"'12.2018 Data'!G488","v":112.15},{"$f":"'12.2018 Data'!H488","v":32.15},{"$f":"'12.2018 Data'!I488","v":0},{"$f":"'12.2018 Data'!J488","v":0},"921",144.30000000000001,112.15,32.15,0,0,{"$f":"IF(ISNUMBER(MATCH($B508,'Org functional rollups'!$A:$A,0)),INDEX('Org functional rollups'!$D:$D,MATCH($B508,'Org functional rollups'!$A:$A,0)),0)","v":"Common"}]
[{"$f":"'12.2018 Data'!A489","v":"921000"},{"$f":"'12.2018 Data'!B489","v":"Z90"},{"$f":"'12.2018 Data'!C489","v":"ED"},{"$f":"'12.2018 Data'!D489","v":"AN"},{"$f":"'12.2018 Data'!E489","v":"OPER"},{"$f":"'12.2018 Data'!F489","v":1872.84},{"$f":"'12.2018 Data'!G489","v":1872.84},{"$f":"'12.2018 Data'!H489","v":0},{"$f":"'12.2018 Data'!I489","v":0},{"$f":"'12.2018 Data'!J489","v":0},"921",1872.84,1872.84,0,0,0,{"$f":"IF(ISNUMBER(MATCH($B509,'Org functional rollups'!$A:$A,0)),INDEX('Org functional rollups'!$D:$D,MATCH($B509,'Org functional rollups'!$A:$A,0)),0)","v":"Common"}]
[{"$f":"'12.2018 Data'!A490","v":"921000"},{"$f":"'12.2018 Data'!B490","v":"Z90"},{"$f":"'12.2018 Data'!C490","v":"GD"},{"$f":"'12.2018 Data'!D490","v":"OR"},{"$f":"'12.2018 Data'!E490","v":"OPER"},{"$f":"'12.2018 Data'!F490","v":1816.57},{"$f":"'12.2018 Data'!G490","v":0},{"$f":"'12.2018 Data'!H490","v":0},{"$f":"'12.2018 Data'!I490","v":1816.57},{"$f":"'12.2018 Data'!J490","v":0},"921",1816.57,0,0,1816.57,0,{"$f":"IF(ISNUMBER(MATCH($B510,'Org functional rollups'!$A:$A,0)),INDEX('Org functional rollups'!$D:$D,MATCH($B510,'Org functional rollups'!$A:$A,0)),0)","v":"Common"}]
[{"$f":"'12.2018 Data'!A491","v":"922000"},{"$f":"'12.2018 Data'!B491","v":"A04"},{"$f":"'12.2018 Data'!C491","v":"CD"},{"$f":"'12.2018 Data'!D491","v":"AN"},{"$f":"'12.2018 Data'!E491","v":"OPER"},{"$f":"'12.2018 Data'!F491","v":106.01},{"$f":"'12.2018 Data'!G491","v":82.39},{"$f":"'12.2018 Data'!H491","v":23.62},{"$f":"'12.2018 Data'!I491","v":0},{"$f":"'12.2018 Data'!J491","v":0},"922",106.01,82.39,23.62,0,0,{"$f":"IF(ISNUMBER(MATCH($B511,'Org functional rollups'!$A:$A,0)),INDEX('Org functional rollups'!$D:$D,MATCH($B511,'Org functional rollups'!$A:$A,0)),0)","v":"Production"}]
[{"$f":"'12.2018 Data'!A492","v":"922000"},{"$f":"'12.2018 Data'!B492","v":"E14"},{"$f":"'12.2018 Data'!C492","v":"CD"},{"$f":"'12.2018 Data'!D492","v":"AN"},{"$f":"'12.2018 Data'!E492","v":"OPER"},{"$f":"'12.2018 Data'!F492","v":171.7},{"$f":"'12.2018 Data'!G492","v":133.44},{"$f":"'12.2018 Data'!H492","v":38.26},{"$f":"'12.2018 Data'!I492","v":0},{"$f":"'12.2018 Data'!J492","v":0},"922",171.7,133.44,38.26,0,0,{"$f":"IF(ISNUMBER(MATCH($B512,'Org functional rollups'!$A:$A,0)),INDEX('Org functional rollups'!$D:$D,MATCH($B512,'Org functional rollups'!$A:$A,0)),0)","v":"Production"}]
[{"$f":"'12.2018 Data'!A493","v":"922000"},{"$f":"'12.2018 Data'!B493","v":"V08"},{"$f":"'12.2018 Data'!C493","v":"ED"},{"$f":"'12.2018 Data'!D493","v":"AN"},{"$f":"'12.2018 Data'!E493","v":"OPER"},{"$f":"'12.2018 Data'!F493","v":-12},{"$f":"'12.2018 Data'!G493","v":-12},{"$f":"'12.2018 Data'!H493","v":0},{"$f":"'12.2018 Data'!I493","v":0},{"$f":"'12.2018 Data'!J493","v":0},"922",{"$f":"IF(ISNUMBER(F513),F513,0)","v":-12},{"$f":"IF(ISNUMBER(G513),G513,0)","v":-12},{"$f":"IF(ISNUMBER(H513),H513,0)","v":0},{"$f":"IF(ISNUMBER(I513),I513,0)","v":0},{"$f":"IF(ISNUMBER(J513),J513,0)","v":0},{"$f":"IF(ISNUMBER(MATCH($B513,'Org functional rollups'!$A:$A,0)),INDEX('Org functional rollups'!$D:$D,MATCH($B513,'Org functional rollups'!$A:$A,0)),0)","v":"Common"}]
[{"$f":"'12.2018 Data'!A494","v":"922000"},{"$f":"'12.2018 Data'!B494","v":"Z57"},{"$f":"'12.2018 Data'!C494","v":"ED"},{"$f":"'12.2018 Data'!D494","v":"AN"},{"$f":"'12.2018 Data'!E494","v":"OPER"},{"$f":"'12.2018 Data'!F494","v":-121389.59},{"$f":"'12.2018 Data'!G494","v":-121389.59},{"$f":"'12.2018 Data'!H494","v":0},{"$f":"'12.2018 Data'!I494","v":0},{"$f":"'12.2018 Data'!J494","v":0},"922",-121389.59,-121389.59,0,0,0,{"$f":"IF(ISNUMBER(MATCH($B514,'Org functional rollups'!$A:$A,0)),INDEX('Org functional rollups'!$D:$D,MATCH($B514,'Org functional rollups'!$A:$A,0)),0)","v":"Common"}]
[{"$f":"'12.2018 Data'!A495","v":"922000"},{"$f":"'12.2018 Data'!B495","v":"Z57"},{"$f":"'12.2018 Data'!C495","v":"GD"},{"$f":"'12.2018 Data'!D495","v":"AN"},{"$f":"'12.2018 Data'!E495","v":"OPER"},{"$f":"'12.2018 Data'!F495","v":-19758.04},{"$f":"'12.2018 Data'!G495","v":0},{"$f":"'12.2018 Data'!H495","v":-19758.04},{"$f":"'12.2018 Data'!I495","v":0},{"$f":"'12.2018 Data'!J495","v":0},"922",-19758.04,0,-19758.04,0,0,{"$f":"IF(ISNUMBER(MATCH($B515,'Org functional rollups'!$A:$A,0)),INDEX('Org functional rollups'!$D:$D,MATCH($B515,'Org functional rollups'!$A:$A,0)),0)","v":"Common"}]
[{"$f":"'12.2018 Data'!A496","v":"922000"},{"$f":"'12.2018 Data'!B496","v":"Z87"},{"$f":"'12.2018 Data'!C496","v":"CD"},{"$f":"'12.2018 Data'!D496","v":"AN"},{"$f":"'12.2018 Data'!E496","v":"OPER"},{"$f":"'12.2018 Data'!F496","v":208.28},{"$f":"'12.2018 Data'!G496","v":161.86000000000001},{"$f":"'12.2018 Data'!H496","v":46.42},{"$f":"'12.2018 Data'!I496","v":0},{"$f":"'12.2018 Data'!J496","v":0},"922",208.28,161.86000000000001,46.42,0,0,{"$f":"IF(ISNUMBER(MATCH($B516,'Org functional rollups'!$A:$A,0)),INDEX('Org functional rollups'!$D:$D,MATCH($B516,'Org functional rollups'!$A:$A,0)),0)","v":"Common"}]
[{"$f":"'12.2018 Data'!A497","v":"922000"},{"$f":"'12.2018 Data'!B497","v":"Z89"},{"$f":"'12.2018 Data'!C497","v":"CD"},{"$f":"'12.2018 Data'!D497","v":"AN"},{"$f":"'12.2018 Data'!E497","v":"OPER"},{"$f":"'12.2018 Data'!F497","v":0},{"$f":"'12.2018 Data'!G497","v":0},{"$f":"'12.2018 Data'!H497","v":0},{"$f":"'12.2018 Data'!I497","v":0},{"$f":"'12.2018 Data'!J497","v":0},"922",0,0,0,0,0,{"$f":"IF(ISNUMBER(MATCH($B517,'Org functional rollups'!$A:$A,0)),INDEX('Org functional rollups'!$D:$D,MATCH($B517,'Org functional rollups'!$A:$A,0)),0)","v":"Common"}]
[{"$f":"'12.2018 Data'!A498","v":"922000"},{"$f":"'12.2018 Data'!B498","v":"Z90"},{"$f":"'12.2018 Data'!C498","v":"CD"},{"$f":"'12.2018 Data'!D498","v":"AN"},{"$f":"'12.2018 Data'!E498","v":"OPER"},{"$f":"'12.2018 Data'!F498","v":33.049999999999997},{"$f":"'12.2018 Data'!G498","v":25.69},{"$f":"'12.2018 Data'!H498","v":7.36},{"$f":"'12.2018 Data'!I498","v":0},{"$f":"'12.2018 Data'!J498","v":0},"922",33.049999999999997,25.69,7.36,0,0,{"$f":"IF(ISNUMBER(MATCH($B518,'Org functional rollups'!$A:$A,0)),INDEX('Org functional rollups'!$D:$D,MATCH($B518,'Org functional rollups'!$A:$A,0)),0)","v":"Common"}]
[{"$f":"'12.2018 Data'!A499","v":"923000"},{"$f":"'12.2018 Data'!B499","v":"000"},{"$f":"'12.2018 Data'!C499","v":"CD"},{"$f":"'12.2018 Data'!D499","v":"AA"},{"$f":"'12.2018 Data'!E499","v":"OPER"},{"$f":"'12.2018 Data'!F499","v":25976.79},{"$f":"'12.2018 Data'!G499","v":18218.82},{"$f":"'12.2018 Data'!H499","v":5337.97},{"$f":"'12.2018 Data'!I499","v":2420},{"$f":"'12.2018 Data'!J499","v":0},"923",25976.79,18218.82,5337.97,2420,0,{"$f":"IF(ISNUMBER(MATCH($B519,'Org functional rollups'!$A:$A,0)),INDEX('Org functional rollups'!$D:$D,MATCH($B519,'Org functional rollups'!$A:$A,0)),0)","v":"Common"}]
[{"$f":"'12.2018 Data'!A500","v":"923000"},{"$f":"'12.2018 Data'!B500","v":"000"},{"$f":"'12.2018 Data'!C500","v":"ED"},{"$f":"'12.2018 Data'!D500","v":"AN"},{"$f":"'12.2018 Data'!E500","v":"OPER"},{"$f":"'12.2018 Data'!F500","v":101.32},{"$f":"'12.2018 Data'!G500","v":101.32},{"$f":"'12.2018 Data'!H500","v":0},{"$f":"'12.2018 Data'!I500","v":0},{"$f":"'12.2018 Data'!J500","v":0},"923",101.32,101.32,0,0,0,{"$f":"IF(ISNUMBER(MATCH($B520,'Org functional rollups'!$A:$A,0)),INDEX('Org functional rollups'!$D:$D,MATCH($B520,'Org functional rollups'!$A:$A,0)),0)","v":"Common"}]
[{"$f":"'12.2018 Data'!A501","v":"923000"},{"$f":"'12.2018 Data'!B501","v":"000"},{"$f":"'12.2018 Data'!C501","v":"ED"},{"$f":"'12.2018 Data'!D501","v":"WA"},{"$f":"'12.2018 Data'!E501","v":"OPER"},{"$f":"'12.2018 Data'!F501","v":0},{"$f":"'12.2018 Data'!G501","v":0},{"$f":"'12.2018 Data'!H501","v":0},{"$f":"'12.2018 Data'!I501","v":0},{"$f":"'12.2018 Data'!J501","v":0},"923",0,0,0,0,0,{"$f":"IF(ISNUMBER(MATCH($B521,'Org functional rollups'!$A:$A,0)),INDEX('Org functional rollups'!$D:$D,MATCH($B521,'Org functional rollups'!$A:$A,0)),0)","v":"Common"}]
[{"$f":"'12.2018 Data'!A502","v":"923000"},{"$f":"'12.2018 Data'!B502","v":"000"},{"$f":"'12.2018 Data'!C502","v":"CD"},{"$f":"'12.2018 Data'!D502","v":"AN"},{"$f":"'12.2018 Data'!E502","v":"OPER"},{"$f":"'12.2018 Data'!F502","v":15.44},{"$f":"'12.2018 Data'!G502","v":12},{"$f":"'12.2018 Data'!H502","v":3.44},{"$f":"'12.2018 Data'!I502","v":0},{"$f":"'12.2018 Data'!J502","v":0},"923",15.44,12,3.44,0,0,{"$f":"IF(ISNUMBER(MATCH($B522,'Org functional rollups'!$A:$A,0)),INDEX('Org functional rollups'!$D:$D,MATCH($B522,'Org functional rollups'!$A:$A,0)),0)","v":"Common"}]
[{"$f":"'12.2018 Data'!A503","v":"923000"},{"$f":"'12.2018 Data'!B503","v":"000"},{"$f":"'12.2018 Data'!C503","v":"GD"},{"$f":"'12.2018 Data'!D503","v":"WA"},{"$f":"'12.2018 Data'!E503","v":"OPER"},{"$f":"'12.2018 Data'!F503","v":19.63},{"$f":"'12.2018 Data'!G503","v":0},{"$f":"'12.2018 Data'!H503","v":19.63},{"$f":"'12.2018 Data'!I503","v":0},{"$f":"'12.2018 Data'!J503","v":0},"923",19.63,0,19.63,0,0,{"$f":"IF(ISNUMBER(MATCH($B523,'Org functional rollups'!$A:$A,0)),INDEX('Org functional rollups'!$D:$D,MATCH($B523,'Org functional rollups'!$A:$A,0)),0)","v":"Common"}]
[{"$f":"'12.2018 Data'!A504","v":"923000"},{"$f":"'12.2018 Data'!B504","v":"A01"},{"$f":"'12.2018 Data'!C504","v":"ED"},{"$f":"'12.2018 Data'!D504","v":"AN"},{"$f":"'12.2018 Data'!E504","v":"OPER"},{"$f":"'12.2018 Data'!F504","v":12188.01},{"$f":"'12.2018 Data'!G504","v":12188.01},{"$f":"'12.2018 Data'!H504","v":0},{"$f":"'12.2018 Data'!I504","v":0},{"$f":"'12.2018 Data'!J504","v":0},"923",12188.01,12188.01,0,0,0,{"$f":"IF(ISNUMBER(MATCH($B524,'Org functional rollups'!$A:$A,0)),INDEX('Org functional rollups'!$D:$D,MATCH($B524,'Org functional rollups'!$A:$A,0)),0)","v":"Production"}]
[{"$f":"'12.2018 Data'!A505","v":"923000"},{"$f":"'12.2018 Data'!B505","v":"A09"},{"$f":"'12.2018 Data'!C505","v":"CD"},{"$f":"'12.2018 Data'!D505","v":"AA"},{"$f":"'12.2018 Data'!E505","v":"OPER"},{"$f":"'12.2018 Data'!F505","v":3034670.08},{"$f":"'12.2018 Data'!G505","v":2128365.84},{"$f":"'12.2018 Data'!H505","v":623594.34},{"$f":"'12.2018 Data'!I505","v":282709.90000000002},{"$f":"'12.2018 Data'!J505","v":0},"923",3034670.08,2128365.84,623594.34,282709.90000000002,0,{"$f":"IF(ISNUMBER(MATCH($B525,'Org functional rollups'!$A:$A,0)),INDEX('Org functional rollups'!$D:$D,MATCH($B525,'Org functional rollups'!$A:$A,0)),0)","v":"Common"}]
[{"$f":"'12.2018 Data'!A506","v":"923000"},{"$f":"'12.2018 Data'!B506","v":"A39"},{"$f":"'12.2018 Data'!C506","v":"CD"},{"$f":"'12.2018 Data'!D506","v":"AA"},{"$f":"'12.2018 Data'!E506","v":"OPER"},{"$f":"'12.2018 Data'!F506","v":58564.35},{"$f":"'12.2018 Data'!G506","v":41074.15},{"$f":"'12.2018 Data'!H506","v":12034.38},{"$f":"'12.2018 Data'!I506","v":5455.82},{"$f":"'12.2018 Data'!J506","v":0},"923",58564.35,41074.15,12034.38,5455.82,0,{"$f":"IF(ISNUMBER(MATCH($B526,'Org functional rollups'!$A:$A,0)),INDEX('Org functional rollups'!$D:$D,MATCH($B526,'Org functional rollups'!$A:$A,0)),0)","v":"Common"}]
[{"$f":"'12.2018 Data'!A507","v":"923000"},{"$f":"'12.2018 Data'!B507","v":"A57"},{"$f":"'12.2018 Data'!C507","v":"CD"},{"$f":"'12.2018 Data'!D507","v":"AA"},{"$f":"'12.2018 Data'!E507","v":"OPER"},{"$f":"'12.2018 Data'!F507","v":14668.88},{"$f":"'12.2018 Data'!G507","v":10288.030000000001},{"$f":"'12.2018 Data'!H507","v":3014.31},{"$f":"'12.2018 Data'!I507","v":1366.54},{"$f":"'12.2018 Data'!J507","v":0},"923",14668.88,10288.030000000001,3014.31,1366.54,0,{"$f":"IF(ISNUMBER(MATCH($B527,'Org functional rollups'!$A:$A,0)),INDEX('Org functional rollups'!$D:$D,MATCH($B527,'Org functional rollups'!$A:$A,0)),0)","v":"Common"}]
[{"$f":"'12.2018 Data'!A508","v":"923000"},{"$f":"'12.2018 Data'!B508","v":"A81"},{"$f":"'12.2018 Data'!C508","v":"CD"},{"$f":"'12.2018 Data'!D508","v":"AA"},{"$f":"'12.2018 Data'!E508","v":"OPER"},{"$f":"'12.2018 Data'!F508","v":278.36},{"$f":"'12.2018 Data'!G508","v":195.23},{"$f":"'12.2018 Data'!H508","v":57.2},{"$f":"'12.2018 Data'!I508","v":25.93},{"$f":"'12.2018 Data'!J508","v":0},"923",278.36,195.23,57.2,25.93,0,{"$f":"IF(ISNUMBER(MATCH($B528,'Org functional rollups'!$A:$A,0)),INDEX('Org functional rollups'!$D:$D,MATCH($B528,'Org functional rollups'!$A:$A,0)),0)","v":"Distribution"}]
[{"$f":"'12.2018 Data'!A509","v":"923000"},{"$f":"'12.2018 Data'!B509","v":"B08"},{"$f":"'12.2018 Data'!C509","v":"CD"},{"$f":"'12.2018 Data'!D509","v":"AN"},{"$f":"'12.2018 Data'!E509","v":"OPER"},{"$f":"'12.2018 Data'!F509","v":253.75},{"$f":"'12.2018 Data'!G509","v":197.2},{"$f":"'12.2018 Data'!H509","v":56.55},{"$f":"'12.2018 Data'!I509","v":0},{"$f":"'12.2018 Data'!J509","v":0},"923",253.75,197.2,56.55,0,0,{"$f":"IF(ISNUMBER(MATCH($B529,'Org functional rollups'!$A:$A,0)),INDEX('Org functional rollups'!$D:$D,MATCH($B529,'Org functional rollups'!$A:$A,0)),0)","v":"Customer"}]
[{"$f":"'12.2018 Data'!A510","v":"923000"},{"$f":"'12.2018 Data'!B510","v":"B09"},{"$f":"'12.2018 Data'!C510","v":"CD"},{"$f":"'12.2018 Data'!D510","v":"AA"},{"$f":"'12.2018 Data'!E510","v":"OPER"},{"$f":"'12.2018 Data'!F510","v":27204.89},{"$f":"'12.2018 Data'!G510","v":19080.2},{"$f":"'12.2018 Data'!H510","v":5590.34},{"$f":"'12.2018 Data'!I510","v":2534.35},{"$f":"'12.2018 Data'!J510","v":0},"923",27204.89,19080.2,5590.34,2534.35,0,{"$f":"IF(ISNUMBER(MATCH($B530,'Org functional rollups'!$A:$A,0)),INDEX('Org functional rollups'!$D:$D,MATCH($B530,'Org functional rollups'!$A:$A,0)),0)","v":"Common"}]
[{"$f":"'12.2018 Data'!A511","v":"923000"},{"$f":"'12.2018 Data'!B511","v":"B09"},{"$f":"'12.2018 Data'!C511","v":"CD"},{"$f":"'12.2018 Data'!D511","v":"AN"},{"$f":"'12.2018 Data'!E511","v":"OPER"},{"$f":"'12.2018 Data'!F511","v":56.42},{"$f":"'12.2018 Data'!G511","v":43.85},{"$f":"'12.2018 Data'!H511","v":12.57},{"$f":"'12.2018 Data'!I511","v":0},{"$f":"'12.2018 Data'!J511","v":0},"923",56.42,43.85,12.57,0,0,{"$f":"IF(ISNUMBER(MATCH($B531,'Org functional rollups'!$A:$A,0)),INDEX('Org functional rollups'!$D:$D,MATCH($B531,'Org functional rollups'!$A:$A,0)),0)","v":"Common"}]
[{"$f":"'12.2018 Data'!A512","v":"923000"},{"$f":"'12.2018 Data'!B512","v":"B52"},{"$f":"'12.2018 Data'!C512","v":"CD"},{"$f":"'12.2018 Data'!D512","v":"AA"},{"$f":"'12.2018 Data'!E512","v":"OPER"},{"$f":"'12.2018 Data'!F512","v":442.2},{"$f":"'12.2018 Data'!G512","v":310.14},{"$f":"'12.2018 Data'!H512","v":90.87},{"$f":"'12.2018 Data'!I512","v":41.19},{"$f":"'12.2018 Data'!J512","v":0},"923",442.2,310.14,90.87,41.19,0,{"$f":"IF(ISNUMBER(MATCH($B532,'Org functional rollups'!$A:$A,0)),INDEX('Org functional rollups'!$D:$D,MATCH($B532,'Org functional rollups'!$A:$A,0)),0)","v":"Distribution"}]
[{"$f":"'12.2018 Data'!A513","v":"923000"},{"$f":"'12.2018 Data'!B513","v":"C09"},{"$f":"'12.2018 Data'!C513","v":"CD"},{"$f":"'12.2018 Data'!D513","v":"AA"},{"$f":"'12.2018 Data'!E513","v":"OPER"},{"$f":"'12.2018 Data'!F513","v":36387.54},{"$f":"'12.2018 Data'!G513","v":25520.400000000001},{"$f":"'12.2018 Data'!H513","v":7477.26},{"$f":"'12.2018 Data'!I513","v":3389.88},{"$f":"'12.2018 Data'!J513","v":0},"923",36387.54,25520.400000000001,7477.26,3389.88,0,{"$f":"IF(ISNUMBER(MATCH($B533,'Org functional rollups'!$A:$A,0)),INDEX('Org functional rollups'!$D:$D,MATCH($B533,'Org functional rollups'!$A:$A,0)),0)","v":"Common"}]
[{"$f":"'12.2018 Data'!A514","v":"923000"},{"$f":"'12.2018 Data'!B514","v":"C19"},{"$f":"'12.2018 Data'!C514","v":"CD"},{"$f":"'12.2018 Data'!D514","v":"AA"},{"$f":"'12.2018 Data'!E514","v":"OPER"},{"$f":"'12.2018 Data'!F514","v":3939.92},{"$f":"'12.2018 Data'!G514","v":2763.26},{"$f":"'12.2018 Data'!H514","v":809.61},{"$f":"'12.2018 Data'!I514","v":367.05},{"$f":"'12.2018 Data'!J514","v":0},"923",3939.92,2763.26,809.61,367.05,0,{"$f":"IF(ISNUMBER(MATCH($B534,'Org functional rollups'!$A:$A,0)),INDEX('Org functional rollups'!$D:$D,MATCH($B534,'Org functional rollups'!$A:$A,0)),0)","v":"Common"}]
[{"$f":"'12.2018 Data'!A515","v":"923000"},{"$f":"'12.2018 Data'!B515","v":"C19"},{"$f":"'12.2018 Data'!C515","v":"ED"},{"$f":"'12.2018 Data'!D515","v":"AN"},{"$f":"'12.2018 Data'!E515","v":"OPER"},{"$f":"'12.2018 Data'!F515","v":288.45999999999998},{"$f":"'12.2018 Data'!G515","v":288.45999999999998},{"$f":"'12.2018 Data'!H515","v":0},{"$f":"'12.2018 Data'!I515","v":0},{"$f":"'12.2018 Data'!J515","v":0},{"$f":"LEFT(A535,3)","v":"923"},288.45999999999998,288.45999999999998,0,0,0,{"$f":"IF(ISNUMBER(MATCH($B535,'Org functional rollups'!$A:$A,0)),INDEX('Org functional rollups'!$D:$D,MATCH($B535,'Org functional rollups'!$A:$A,0)),0)","v":"Common"}]
[{"$f":"'12.2018 Data'!A516","v":"923000"},{"$f":"'12.2018 Data'!B516","v":"C29"},{"$f":"'12.2018 Data'!C516","v":"CD"},{"$f":"'12.2018 Data'!D516","v":"AA"},{"$f":"'12.2018 Data'!E516","v":"OPER"},{"$f":"'12.2018 Data'!F516","v":134978.65},{"$f":"'12.2018 Data'!G516","v":94667.4},{"$f":"'12.2018 Data'!H516","v":27736.76},{"$f":"'12.2018 Data'!I516","v":12574.49},{"$f":"'12.2018 Data'!J516","v":0},"923",134978.65,94667.4,27736.76,12574.49,0,{"$f":"IF(ISNUMBER(MATCH($B536,'Org functional rollups'!$A:$A,0)),INDEX('Org functional rollups'!$D:$D,MATCH($B536,'Org functional rollups'!$A:$A,0)),0)","v":"Common"}]
[{"$f":"'12.2018 Data'!A517","v":"923000"},{"$f":"'12.2018 Data'!B517","v":"C50"},{"$f":"'12.2018 Data'!C517","v":"CD"},{"$f":"'12.2018 Data'!D517","v":"AA"},{"$f":"'12.2018 Data'!E517","v":"OPER"},{"$f":"'12.2018 Data'!F517","v":1000},{"$f":"'12.2018 Data'!G517","v":701.35},{"$f":"'12.2018 Data'!H517","v":205.49},{"$f":"'12.2018 Data'!I517","v":93.16},{"$f":"'12.2018 Data'!J517","v":0},"923",1000,701.35,205.49,93.16,0,{"$f":"IF(ISNUMBER(MATCH($B537,'Org functional rollups'!$A:$A,0)),INDEX('Org functional rollups'!$D:$D,MATCH($B537,'Org functional rollups'!$A:$A,0)),0)","v":"Customer"}]
[{"$f":"'12.2018 Data'!A518","v":"923000"},{"$f":"'12.2018 Data'!B518","v":"C53"},{"$f":"'12.2018 Data'!C518","v":"CD"},{"$f":"'12.2018 Data'!D518","v":"AA"},{"$f":"'12.2018 Data'!E518","v":"OPER"},{"$f":"'12.2018 Data'!F518","v":771.42},{"$f":"'12.2018 Data'!G518","v":541.04},{"$f":"'12.2018 Data'!H518","v":158.52000000000001},{"$f":"'12.2018 Data'!I518","v":71.86},{"$f":"'12.2018 Data'!J518","v":0},"923",771.42,541.04,158.52000000000001,71.86,0,{"$f":"IF(ISNUMBER(MATCH($B538,'Org functional rollups'!$A:$A,0)),INDEX('Org functional rollups'!$D:$D,MATCH($B538,'Org functional rollups'!$A:$A,0)),0)","v":"Distribution"}]
[{"$f":"'12.2018 Data'!A519","v":"923000"},{"$f":"'12.2018 Data'!B519","v":"C54"},{"$f":"'12.2018 Data'!C519","v":"CD"},{"$f":"'12.2018 Data'!D519","v":"AA"},{"$f":"'12.2018 Data'!E519","v":"OPER"},{"$f":"'12.2018 Data'!F519","v":139460.04999999999},{"$f":"'12.2018 Data'!G519","v":97810.32},{"$f":"'12.2018 Data'!H519","v":28657.65},{"$f":"'12.2018 Data'!I519","v":12992.08},{"$f":"'12.2018 Data'!J519","v":0},"923",139460.04999999999,97810.32,28657.65,12992.08,0,{"$f":"IF(ISNUMBER(MATCH($B539,'Org functional rollups'!$A:$A,0)),INDEX('Org functional rollups'!$D:$D,MATCH($B539,'Org functional rollups'!$A:$A,0)),0)","v":"Common"}]
[{"$f":"'12.2018 Data'!A520","v":"923000"},{"$f":"'12.2018 Data'!B520","v":"C59"},{"$f":"'12.2018 Data'!C520","v":"CD"},{"$f":"'12.2018 Data'!D520","v":"AA"},{"$f":"'12.2018 Data'!E520","v":"OPER"},{"$f":"'12.2018 Data'!F520","v":29151.97},{"$f":"'12.2018 Data'!G520","v":20445.75},{"$f":"'12.2018 Data'!H520","v":5990.43},{"$f":"'12.2018 Data'!I520","v":2715.79},{"$f":"'12.2018 Data'!J520","v":0},"923",29151.97,20445.75,5990.43,2715.79,0,{"$f":"IF(ISNUMBER(MATCH($B540,'Org functional rollups'!$A:$A,0)),INDEX('Org functional rollups'!$D:$D,MATCH($B540,'Org functional rollups'!$A:$A,0)),0)","v":"Common"}]
[{"$f":"'12.2018 Data'!A521","v":"923000"},{"$f":"'12.2018 Data'!B521","v":"D02"},{"$f":"'12.2018 Data'!C521","v":"CD"},{"$f":"'12.2018 Data'!D521","v":"AA"},{"$f":"'12.2018 Data'!E521","v":"OPER"},{"$f":"'12.2018 Data'!F521","v":90630.399999999994},{"$f":"'12.2018 Data'!G521","v":63563.63},{"$f":"'12.2018 Data'!H521","v":18623.64},{"$f":"'12.2018 Data'!I521","v":8443.1299999999992},{"$f":"'12.2018 Data'!J521","v":0},"923",90630.399999999994,63563.63,18623.64,8443.1299999999992,0,{"$f":"IF(ISNUMBER(MATCH($B541,'Org functional rollups'!$A:$A,0)),INDEX('Org functional rollups'!$D:$D,MATCH($B541,'Org functional rollups'!$A:$A,0)),0)","v":"Common"}]
[{"$f":"'12.2018 Data'!A522","v":"923000"},{"$f":"'12.2018 Data'!B522","v":"D53"},{"$f":"'12.2018 Data'!C522","v":"CD"},{"$f":"'12.2018 Data'!D522","v":"AA"},{"$f":"'12.2018 Data'!E522","v":"OPER"},{"$f":"'12.2018 Data'!F522","v":1827.66},{"$f":"'12.2018 Data'!G522","v":1281.8499999999999},{"$f":"'12.2018 Data'!H522","v":375.57},{"$f":"'12.2018 Data'!I522","v":170.24},{"$f":"'12.2018 Data'!J522","v":0},"923",1827.66,1281.8499999999999,375.57,170.24,0,{"$f":"IF(ISNUMBER(MATCH($B542,'Org functional rollups'!$A:$A,0)),INDEX('Org functional rollups'!$D:$D,MATCH($B542,'Org functional rollups'!$A:$A,0)),0)","v":"Distribution"}]
[{"$f":"'12.2018 Data'!A523","v":"923000"},{"$f":"'12.2018 Data'!B523","v":"D54"},{"$f":"'12.2018 Data'!C523","v":"CD"},{"$f":"'12.2018 Data'!D523","v":"AA"},{"$f":"'12.2018 Data'!E523","v":"OPER"},{"$f":"'12.2018 Data'!F523","v":11822.29},{"$f":"'12.2018 Data'!G523","v":8291.56},{"$f":"'12.2018 Data'!H523","v":2429.37},{"$f":"'12.2018 Data'!I523","v":1101.3599999999999},{"$f":"'12.2018 Data'!J523","v":0},"923",11822.29,8291.56,2429.37,1101.3599999999999,0,{"$f":"IF(ISNUMBER(MATCH($B543,'Org functional rollups'!$A:$A,0)),INDEX('Org functional rollups'!$D:$D,MATCH($B543,'Org functional rollups'!$A:$A,0)),0)","v":"Common"}]
[{"$f":"'12.2018 Data'!A524","v":"923000"},{"$f":"'12.2018 Data'!B524","v":"E01"},{"$f":"'12.2018 Data'!C524","v":"CD"},{"$f":"'12.2018 Data'!D524","v":"AA"},{"$f":"'12.2018 Data'!E524","v":"OPER"},{"$f":"'12.2018 Data'!F524","v":21712.48},{"$f":"'12.2018 Data'!G524","v":15228.05},{"$f":"'12.2018 Data'!H524","v":4461.7},{"$f":"'12.2018 Data'!I524","v":2022.73},{"$f":"'12.2018 Data'!J524","v":0},"923",21712.48,15228.05,4461.7,2022.73,0,{"$f":"IF(ISNUMBER(MATCH($B544,'Org functional rollups'!$A:$A,0)),INDEX('Org functional rollups'!$D:$D,MATCH($B544,'Org functional rollups'!$A:$A,0)),0)","v":"Common"}]
[{"$f":"'12.2018 Data'!A525","v":"923000"},{"$f":"'12.2018 Data'!B525","v":"E09"},{"$f":"'12.2018 Data'!C525","v":"CD"},{"$f":"'12.2018 Data'!D525","v":"AA"},{"$f":"'12.2018 Data'!E525","v":"OPER"},{"$f":"'12.2018 Data'!F525","v":32657.72},{"$f":"'12.2018 Data'!G525","v":22904.54},{"$f":"'12.2018 Data'!H525","v":6710.79},{"$f":"'12.2018 Data'!I525","v":3042.39},{"$f":"'12.2018 Data'!J525","v":0},"923",32657.72,22904.54,6710.79,3042.39,0,{"$f":"IF(ISNUMBER(MATCH($B545,'Org functional rollups'!$A:$A,0)),INDEX('Org functional rollups'!$D:$D,MATCH($B545,'Org functional rollups'!$A:$A,0)),0)","v":"Common"}]
[{"$f":"'12.2018 Data'!A526","v":"923000"},{"$f":"'12.2018 Data'!B526","v":"E14"},{"$f":"'12.2018 Data'!C526","v":"CD"},{"$f":"'12.2018 Data'!D526","v":"AA"},{"$f":"'12.2018 Data'!E526","v":"OPER"},{"$f":"'12.2018 Data'!F526","v":495.83},{"$f":"'12.2018 Data'!G526","v":347.75},{"$f":"'12.2018 Data'!H526","v":101.89},{"$f":"'12.2018 Data'!I526","v":46.19},{"$f":"'12.2018 Data'!J526","v":0},"923",495.83,347.75,101.89,46.19,0,{"$f":"IF(ISNUMBER(MATCH($B546,'Org functional rollups'!$A:$A,0)),INDEX('Org functional rollups'!$D:$D,MATCH($B546,'Org functional rollups'!$A:$A,0)),0)","v":"Production"}]
[{"$f":"'12.2018 Data'!A527","v":"923000"},{"$f":"'12.2018 Data'!B527","v":"E14"},{"$f":"'12.2018 Data'!C527","v":"ED"},{"$f":"'12.2018 Data'!D527","v":"AN"},{"$f":"'12.2018 Data'!E527","v":"OPER"},{"$f":"'12.2018 Data'!F527","v":100613.1},{"$f":"'12.2018 Data'!G527","v":100613.1},{"$f":"'12.2018 Data'!H527","v":0},{"$f":"'12.2018 Data'!I527","v":0},{"$f":"'12.2018 Data'!J527","v":0},"923",100613.1,100613.1,0,0,0,{"$f":"IF(ISNUMBER(MATCH($B547,'Org functional rollups'!$A:$A,0)),INDEX('Org functional rollups'!$D:$D,MATCH($B547,'Org functional rollups'!$A:$A,0)),0)","v":"Production"}]
[{"$f":"'12.2018 Data'!A528","v":"923000"},{"$f":"'12.2018 Data'!B528","v":"E29"},{"$f":"'12.2018 Data'!C528","v":"CD"},{"$f":"'12.2018 Data'!D528","v":"AA"},{"$f":"'12.2018 Data'!E528","v":"OPER"},{"$f":"'12.2018 Data'!F528","v":27122},{"$f":"'12.2018 Data'!G528","v":19022.02},{"$f":"'12.2018 Data'!H528","v":5573.23},{"$f":"'12.2018 Data'!I528","v":2526.75},{"$f":"'12.2018 Data'!J528","v":0},"923",27122,19022.02,5573.23,2526.75,0,{"$f":"IF(ISNUMBER(MATCH($B548,'Org functional rollups'!$A:$A,0)),INDEX('Org functional rollups'!$D:$D,MATCH($B548,'Org functional rollups'!$A:$A,0)),0)","v":"Common"}]
[{"$f":"'12.2018 Data'!A529","v":"923000"},{"$f":"'12.2018 Data'!B529","v":"F02"},{"$f":"'12.2018 Data'!C529","v":"CD"},{"$f":"'12.2018 Data'!D529","v":"AA"},{"$f":"'12.2018 Data'!E529","v":"OPER"},{"$f":"'12.2018 Data'!F529","v":3838.82},{"$f":"'12.2018 Data'!G529","v":2692.35},{"$f":"'12.2018 Data'!H529","v":788.83},{"$f":"'12.2018 Data'!I529","v":357.64},{"$f":"'12.2018 Data'!J529","v":0},"923",3838.82,2692.35,788.83,357.64,0,{"$f":"IF(ISNUMBER(MATCH($B549,'Org functional rollups'!$A:$A,0)),INDEX('Org functional rollups'!$D:$D,MATCH($B549,'Org functional rollups'!$A:$A,0)),0)","v":"Common"}]
[{"$f":"'12.2018 Data'!A530","v":"923000"},{"$f":"'12.2018 Data'!B530","v":"F39"},{"$f":"'12.2018 Data'!C530","v":"CD"},{"$f":"'12.2018 Data'!D530","v":"AA"},{"$f":"'12.2018 Data'!E530","v":"OPER"},{"$f":"'12.2018 Data'!F530","v":4244.3999999999996},{"$f":"'12.2018 Data'!G530","v":2976.82},{"$f":"'12.2018 Data'!H530","v":872.18},{"$f":"'12.2018 Data'!I530","v":395.4},{"$f":"'12.2018 Data'!J530","v":0},"923",4244.3999999999996,2976.82,872.18,395.4,0,{"$f":"IF(ISNUMBER(MATCH($B550,'Org functional rollups'!$A:$A,0)),INDEX('Org functional rollups'!$D:$D,MATCH($B550,'Org functional rollups'!$A:$A,0)),0)","v":"Common"}]
[{"$f":"'12.2018 Data'!A531","v":"923000"},{"$f":"'12.2018 Data'!B531","v":"G02"},{"$f":"'12.2018 Data'!C531","v":"CD"},{"$f":"'12.2018 Data'!D531","v":"AA"},{"$f":"'12.2018 Data'!E531","v":"OPER"},{"$f":"'12.2018 Data'!F531","v":26626.26},{"$f":"'12.2018 Data'!G531","v":18674.34},{"$f":"'12.2018 Data'!H531","v":5471.43},{"$f":"'12.2018 Data'!I531","v":2480.4899999999998},{"$f":"'12.2018 Data'!J531","v":0},"923",26626.26,18674.34,5471.43,2480.4899999999998,0,{"$f":"IF(ISNUMBER(MATCH($B551,'Org functional rollups'!$A:$A,0)),INDEX('Org functional rollups'!$D:$D,MATCH($B551,'Org functional rollups'!$A:$A,0)),0)","v":"Distribution"}]
[{"$f":"'12.2018 Data'!A532","v":"923000"},{"$f":"'12.2018 Data'!B532","v":"G39"},{"$f":"'12.2018 Data'!C532","v":"CD"},{"$f":"'12.2018 Data'!D532","v":"AA"},{"$f":"'12.2018 Data'!E532","v":"OPER"},{"$f":"'12.2018 Data'!F532","v":44733.51},{"$f":"'12.2018 Data'!G532","v":31373.88},{"$f":"'12.2018 Data'!H532","v":9192.2800000000007},{"$f":"'12.2018 Data'!I532","v":4167.3500000000004},{"$f":"'12.2018 Data'!J532","v":0},"923",44733.51,31373.88,9192.2800000000007,4167.3500000000004,0,{"$f":"IF(ISNUMBER(MATCH($B552,'Org functional rollups'!$A:$A,0)),INDEX('Org functional rollups'!$D:$D,MATCH($B552,'Org functional rollups'!$A:$A,0)),0)","v":"Common"}]
[{"$f":"'12.2018 Data'!A533","v":"923000"},{"$f":"'12.2018 Data'!B533","v":"H07"},{"$f":"'12.2018 Data'!C533","v":"CD"},{"$f":"'12.2018 Data'!D533","v":"AA"},{"$f":"'12.2018 Data'!E533","v":"OPER"},{"$f":"'12.2018 Data'!F533","v":1322.99},{"$f":"'12.2018 Data'!G533","v":927.88},{"$f":"'12.2018 Data'!H533","v":271.87},{"$f":"'12.2018 Data'!I533","v":123.24},{"$f":"'12.2018 Data'!J533","v":0},"923",1322.99,927.88,271.87,123.24,0,{"$f":"IF(ISNUMBER(MATCH($B553,'Org functional rollups'!$A:$A,0)),INDEX('Org functional rollups'!$D:$D,MATCH($B553,'Org functional rollups'!$A:$A,0)),0)","v":"Common"}]
[{"$f":"'12.2018 Data'!A534","v":"923000"},{"$f":"'12.2018 Data'!B534","v":"H14"},{"$f":"'12.2018 Data'!C534","v":"CD"},{"$f":"'12.2018 Data'!D534","v":"AA"},{"$f":"'12.2018 Data'!E534","v":"OPER"},{"$f":"'12.2018 Data'!F534","v":0},{"$f":"'12.2018 Data'!G534","v":0},{"$f":"'12.2018 Data'!H534","v":0},{"$f":"'12.2018 Data'!I534","v":0},{"$f":"'12.2018 Data'!J534","v":0},"923",0,0,0,0,0,{"$f":"IF(ISNUMBER(MATCH($B554,'Org functional rollups'!$A:$A,0)),INDEX('Org functional rollups'!$D:$D,MATCH($B554,'Org functional rollups'!$A:$A,0)),0)","v":"Customer"}]
[{"$f":"'12.2018 Data'!A535","v":"923000"},{"$f":"'12.2018 Data'!B535","v":"H50"},{"$f":"'12.2018 Data'!C535","v":"CD"},{"$f":"'12.2018 Data'!D535","v":"AA"},{"$f":"'12.2018 Data'!E535","v":"OPER"},{"$f":"'12.2018 Data'!F535","v":103.55},{"$f":"'12.2018 Data'!G535","v":72.62},{"$f":"'12.2018 Data'!H535","v":21.28},{"$f":"'12.2018 Data'!I535","v":9.65},{"$f":"'12.2018 Data'!J535","v":0},"923",103.55,72.62,21.28,9.65,0,{"$f":"IF(ISNUMBER(MATCH($B555,'Org functional rollups'!$A:$A,0)),INDEX('Org functional rollups'!$D:$D,MATCH($B555,'Org functional rollups'!$A:$A,0)),0)","v":"Distribution"}]
[{"$f":"'12.2018 Data'!A536","v":"923000"},{"$f":"'12.2018 Data'!B536","v":"H51"},{"$f":"'12.2018 Data'!C536","v":"CD"},{"$f":"'12.2018 Data'!D536","v":"AA"},{"$f":"'12.2018 Data'!E536","v":"OPER"},{"$f":"'12.2018 Data'!F536","v":506580.06},{"$f":"'12.2018 Data'!G536","v":355289.98},{"$f":"'12.2018 Data'!H536","v":104097.23},{"$f":"'12.2018 Data'!I536","v":47192.85},{"$f":"'12.2018 Data'!J536","v":0},"923",506580.06,355289.98,104097.23,47192.85,0,{"$f":"IF(ISNUMBER(MATCH($B556,'Org functional rollups'!$A:$A,0)),INDEX('Org functional rollups'!$D:$D,MATCH($B556,'Org functional rollups'!$A:$A,0)),0)","v":"Common"}]
[{"$f":"'12.2018 Data'!A537","v":"923000"},{"$f":"'12.2018 Data'!B537","v":"I02"},{"$f":"'12.2018 Data'!C537","v":"CD"},{"$f":"'12.2018 Data'!D537","v":"AA"},{"$f":"'12.2018 Data'!E537","v":"OPER"},{"$f":"'12.2018 Data'!F537","v":471264.84},{"$f":"'12.2018 Data'!G537","v":330521.55},{"$f":"'12.2018 Data'!H537","v":96840.2},{"$f":"'12.2018 Data'!I537","v":43903.09},{"$f":"'12.2018 Data'!J537","v":0},"923",471264.84,330521.55,96840.2,43903.09,0,{"$f":"IF(ISNUMBER(MATCH($B557,'Org functional rollups'!$A:$A,0)),INDEX('Org functional rollups'!$D:$D,MATCH($B557,'Org functional rollups'!$A:$A,0)),0)","v":"Distribution"}]
[{"$f":"'12.2018 Data'!A538","v":"923000"},{"$f":"'12.2018 Data'!B538","v":"I08"},{"$f":"'12.2018 Data'!C538","v":"CD"},{"$f":"'12.2018 Data'!D538","v":"AA"},{"$f":"'12.2018 Data'!E538","v":"OPER"},{"$f":"'12.2018 Data'!F538","v":160.78},{"$f":"'12.2018 Data'!G538","v":112.76},{"$f":"'12.2018 Data'!H538","v":33.049999999999997},{"$f":"'12.2018 Data'!I538","v":14.97},{"$f":"'12.2018 Data'!J538","v":0},"923",160.78,112.76,33.049999999999997,14.97,0,{"$f":"IF(ISNUMBER(MATCH($B558,'Org functional rollups'!$A:$A,0)),INDEX('Org functional rollups'!$D:$D,MATCH($B558,'Org functional rollups'!$A:$A,0)),0)","v":"Distribution"}]
[{"$f":"'12.2018 Data'!A539","v":"923000"},{"$f":"'12.2018 Data'!B539","v":"J02"},{"$f":"'12.2018 Data'!C539","v":"ED"},{"$f":"'12.2018 Data'!D539","v":"AN"},{"$f":"'12.2018 Data'!E539","v":"OPER"},{"$f":"'12.2018 Data'!F539","v":308.19},{"$f":"'12.2018 Data'!G539","v":308.19},{"$f":"'12.2018 Data'!H539","v":0},{"$f":"'12.2018 Data'!I539","v":0},{"$f":"'12.2018 Data'!J539","v":0},"923",308.19,308.19,0,0,0,{"$f":"IF(ISNUMBER(MATCH($B559,'Org functional rollups'!$A:$A,0)),INDEX('Org functional rollups'!$D:$D,MATCH($B559,'Org functional rollups'!$A:$A,0)),0)","v":"Customer"}]
[{"$f":"'12.2018 Data'!A540","v":"923000"},{"$f":"'12.2018 Data'!B540","v":"J09"},{"$f":"'12.2018 Data'!C540","v":"CD"},{"$f":"'12.2018 Data'!D540","v":"AA"},{"$f":"'12.2018 Data'!E540","v":"OPER"},{"$f":"'12.2018 Data'!F540","v":107071.95},{"$f":"'12.2018 Data'!G540","v":75094.94},{"$f":"'12.2018 Data'!H540","v":22002.16},{"$f":"'12.2018 Data'!I540","v":9974.85},{"$f":"'12.2018 Data'!J540","v":0},"923",107071.95,75094.94,22002.16,9974.85,0,{"$f":"IF(ISNUMBER(MATCH($B560,'Org functional rollups'!$A:$A,0)),INDEX('Org functional rollups'!$D:$D,MATCH($B560,'Org functional rollups'!$A:$A,0)),0)","v":"Common"}]
[{"$f":"'12.2018 Data'!A541","v":"923000"},{"$f":"'12.2018 Data'!B541","v":"J09"},{"$f":"'12.2018 Data'!C541","v":"ED"},{"$f":"'12.2018 Data'!D541","v":"AN"},{"$f":"'12.2018 Data'!E541","v":"OPER"},{"$f":"'12.2018 Data'!F541","v":650.67999999999995},{"$f":"'12.2018 Data'!G541","v":650.67999999999995},{"$f":"'12.2018 Data'!H541","v":0},{"$f":"'12.2018 Data'!I541","v":0},{"$f":"'12.2018 Data'!J541","v":0},"923",650.67999999999995,650.67999999999995,0,0,0,{"$f":"IF(ISNUMBER(MATCH($B561,'Org functional rollups'!$A:$A,0)),INDEX('Org functional rollups'!$D:$D,MATCH($B561,'Org functional rollups'!$A:$A,0)),0)","v":"Common"}]
[{"$f":"'12.2018 Data'!A542","v":"923000"},{"$f":"'12.2018 Data'!B542","v":"J29"},{"$f":"'12.2018 Data'!C542","v":"CD"},{"$f":"'12.2018 Data'!D542","v":"AA"},{"$f":"'12.2018 Data'!E542","v":"OPER"},{"$f":"'12.2018 Data'!F542","v":75872.639999999999},{"$f":"'12.2018 Data'!G542","v":53213.24},{"$f":"'12.2018 Data'!H542","v":15591.05},{"$f":"'12.2018 Data'!I542","v":7068.35},{"$f":"'12.2018 Data'!J542","v":0},"923",75872.639999999999,53213.24,15591.05,7068.35,0,{"$f":"IF(ISNUMBER(MATCH($B562,'Org functional rollups'!$A:$A,0)),INDEX('Org functional rollups'!$D:$D,MATCH($B562,'Org functional rollups'!$A:$A,0)),0)","v":"Common"}]
[{"$f":"'12.2018 Data'!A543","v":"923000"},{"$f":"'12.2018 Data'!B543","v":"J51"},{"$f":"'12.2018 Data'!C543","v":"CD"},{"$f":"'12.2018 Data'!D543","v":"AA"},{"$f":"'12.2018 Data'!E543","v":"OPER"},{"$f":"'12.2018 Data'!F543","v":304.08},{"$f":"'12.2018 Data'!G543","v":213.27},{"$f":"'12.2018 Data'!H543","v":62.49},{"$f":"'12.2018 Data'!I543","v":28.32},{"$f":"'12.2018 Data'!J543","v":0},"923",304.08,213.27,62.49,28.32,0,{"$f":"IF(ISNUMBER(MATCH($B563,'Org functional rollups'!$A:$A,0)),INDEX('Org functional rollups'!$D:$D,MATCH($B563,'Org functional rollups'!$A:$A,0)),0)","v":"Common"}]
[{"$f":"'12.2018 Data'!A544","v":"923000"},{"$f":"'12.2018 Data'!B544","v":"J54"},{"$f":"'12.2018 Data'!C544","v":"CD"},{"$f":"'12.2018 Data'!D544","v":"AA"},{"$f":"'12.2018 Data'!E544","v":"OPER"},{"$f":"'12.2018 Data'!F544","v":1896537.5},{"$f":"'12.2018 Data'!G544","v":1330136.6000000001},{"$f":"'12.2018 Data'!H544","v":389719.5},{"$f":"'12.2018 Data'!I544","v":176681.4},{"$f":"'12.2018 Data'!J544","v":0},"923",1896537.5,1330136.6000000001,389719.5,176681.4,0,{"$f":"IF(ISNUMBER(MATCH($B564,'Org functional rollups'!$A:$A,0)),INDEX('Org functional rollups'!$D:$D,MATCH($B564,'Org functional rollups'!$A:$A,0)),0)","v":"Common"}]
[{"$f":"'12.2018 Data'!A545","v":"923000"},{"$f":"'12.2018 Data'!B545","v":"K19"},{"$f":"'12.2018 Data'!C545","v":"CD"},{"$f":"'12.2018 Data'!D545","v":"AA"},{"$f":"'12.2018 Data'!E545","v":"OPER"},{"$f":"'12.2018 Data'!F545","v":395},{"$f":"'12.2018 Data'!G545","v":277.02999999999997},{"$f":"'12.2018 Data'!H545","v":81.17},{"$f":"'12.2018 Data'!I545","v":36.799999999999997},{"$f":"'12.2018 Data'!J545","v":0},"923",395,277.02999999999997,81.17,36.799999999999997,0,{"$f":"IF(ISNUMBER(MATCH($B565,'Org functional rollups'!$A:$A,0)),INDEX('Org functional rollups'!$D:$D,MATCH($B565,'Org functional rollups'!$A:$A,0)),0)","v":"Common"}]
[{"$f":"'12.2018 Data'!A546","v":"923000"},{"$f":"'12.2018 Data'!B546","v":"K39"},{"$f":"'12.2018 Data'!C546","v":"CD"},{"$f":"'12.2018 Data'!D546","v":"AA"},{"$f":"'12.2018 Data'!E546","v":"OPER"},{"$f":"'12.2018 Data'!F546","v":15834.2},{"$f":"'12.2018 Data'!G546","v":11105.33},{"$f":"'12.2018 Data'!H546","v":3253.78},{"$f":"'12.2018 Data'!I546","v":1475.09},{"$f":"'12.2018 Data'!J546","v":0},"923",15834.2,11105.33,3253.78,1475.09,0,{"$f":"IF(ISNUMBER(MATCH($B566,'Org functional rollups'!$A:$A,0)),INDEX('Org functional rollups'!$D:$D,MATCH($B566,'Org functional rollups'!$A:$A,0)),0)","v":"Common"}]
[{"$f":"'12.2018 Data'!A547","v":"923000"},{"$f":"'12.2018 Data'!B547","v":"L39"},{"$f":"'12.2018 Data'!C547","v":"CD"},{"$f":"'12.2018 Data'!D547","v":"AA"},{"$f":"'12.2018 Data'!E547","v":"OPER"},{"$f":"'12.2018 Data'!F547","v":15904.79},{"$f":"'12.2018 Data'!G547","v":11154.83},{"$f":"'12.2018 Data'!H547","v":3268.26},{"$f":"'12.2018 Data'!I547","v":1481.7},{"$f":"'12.2018 Data'!J547","v":0},"923",15904.79,11154.83,3268.26,1481.7,0,{"$f":"IF(ISNUMBER(MATCH($B567,'Org functional rollups'!$A:$A,0)),INDEX('Org functional rollups'!$D:$D,MATCH($B567,'Org functional rollups'!$A:$A,0)),0)","v":"Common"}]
[{"$f":"'12.2018 Data'!A548","v":"923000"},{"$f":"'12.2018 Data'!B548","v":"L50"},{"$f":"'12.2018 Data'!C548","v":"CD"},{"$f":"'12.2018 Data'!D548","v":"AA"},{"$f":"'12.2018 Data'!E548","v":"OPER"},{"$f":"'12.2018 Data'!F548","v":209.84},{"$f":"'12.2018 Data'!G548","v":147.16999999999999},{"$f":"'12.2018 Data'!H548","v":43.13},{"$f":"'12.2018 Data'!I548","v":19.54},{"$f":"'12.2018 Data'!J548","v":0},"923",209.84,147.16999999999999,43.13,19.54,0,{"$f":"IF(ISNUMBER(MATCH($B568,'Org functional rollups'!$A:$A,0)),INDEX('Org functional rollups'!$D:$D,MATCH($B568,'Org functional rollups'!$A:$A,0)),0)","v":"Distribution"}]
[{"$f":"'12.2018 Data'!A549","v":"923000"},{"$f":"'12.2018 Data'!B549","v":"L52"},{"$f":"'12.2018 Data'!C549","v":"ED"},{"$f":"'12.2018 Data'!D549","v":"AN"},{"$f":"'12.2018 Data'!E549","v":"OPER"},{"$f":"'12.2018 Data'!F549","v":3870.01},{"$f":"'12.2018 Data'!G549","v":3870.01},{"$f":"'12.2018 Data'!H549","v":0},{"$f":"'12.2018 Data'!I549","v":0},{"$f":"'12.2018 Data'!J549","v":0},"923",3870.01,3870.01,0,0,0,{"$f":"IF(ISNUMBER(MATCH($B569,'Org functional rollups'!$A:$A,0)),INDEX('Org functional rollups'!$D:$D,MATCH($B569,'Org functional rollups'!$A:$A,0)),0)","v":"Common"}]
[{"$f":"'12.2018 Data'!A550","v":"923000"},{"$f":"'12.2018 Data'!B550","v":"L52"},{"$f":"'12.2018 Data'!C550","v":"GD"},{"$f":"'12.2018 Data'!D550","v":"AA"},{"$f":"'12.2018 Data'!E550","v":"OPER"},{"$f":"'12.2018 Data'!F550","v":1612.5},{"$f":"'12.2018 Data'!G550","v":0},{"$f":"'12.2018 Data'!H550","v":1105.56},{"$f":"'12.2018 Data'!I550","v":506.94},{"$f":"'12.2018 Data'!J550","v":0},"923",1612.5,0,1105.56,506.94,0,{"$f":"IF(ISNUMBER(MATCH($B570,'Org functional rollups'!$A:$A,0)),INDEX('Org functional rollups'!$D:$D,MATCH($B570,'Org functional rollups'!$A:$A,0)),0)","v":"Common"}]
[{"$f":"'12.2018 Data'!A551","v":"923000"},{"$f":"'12.2018 Data'!B551","v":"L53"},{"$f":"'12.2018 Data'!C551","v":"CD"},{"$f":"'12.2018 Data'!D551","v":"AA"},{"$f":"'12.2018 Data'!E551","v":"OPER"},{"$f":"'12.2018 Data'!F551","v":1855.2},{"$f":"'12.2018 Data'!G551","v":1301.1500000000001},{"$f":"'12.2018 Data'!H551","v":381.22},{"$f":"'12.2018 Data'!I551","v":172.83},{"$f":"'12.2018 Data'!J551","v":0},"923",1855.2,1301.1500000000001,381.22,172.83,0,{"$f":"IF(ISNUMBER(MATCH($B571,'Org functional rollups'!$A:$A,0)),INDEX('Org functional rollups'!$D:$D,MATCH($B571,'Org functional rollups'!$A:$A,0)),0)","v":"Distribution"}]
[{"$f":"'12.2018 Data'!A552","v":"923000"},{"$f":"'12.2018 Data'!B552","v":"M02"},{"$f":"'12.2018 Data'!C552","v":"CD"},{"$f":"'12.2018 Data'!D552","v":"AA"},{"$f":"'12.2018 Data'!E552","v":"OPER"},{"$f":"'12.2018 Data'!F552","v":341.68},{"$f":"'12.2018 Data'!G552","v":239.62},{"$f":"'12.2018 Data'!H552","v":70.22},{"$f":"'12.2018 Data'!I552","v":31.84},{"$f":"'12.2018 Data'!J552","v":0},"923",341.68,239.62,70.22,31.84,0,{"$f":"IF(ISNUMBER(MATCH($B572,'Org functional rollups'!$A:$A,0)),INDEX('Org functional rollups'!$D:$D,MATCH($B572,'Org functional rollups'!$A:$A,0)),0)","v":"Common"}]
[{"$f":"'12.2018 Data'!A553","v":"923000"},{"$f":"'12.2018 Data'!B553","v":"M09"},{"$f":"'12.2018 Data'!C553","v":"CD"},{"$f":"'12.2018 Data'!D553","v":"AA"},{"$f":"'12.2018 Data'!E553","v":"OPER"},{"$f":"'12.2018 Data'!F553","v":8244.64},{"$f":"'12.2018 Data'!G553","v":5782.39},{"$f":"'12.2018 Data'!H553","v":1694.21},{"$f":"'12.2018 Data'!I553","v":768.04},{"$f":"'12.2018 Data'!J553","v":0},"923",8244.64,5782.39,1694.21,768.04,0,{"$f":"IF(ISNUMBER(MATCH($B573,'Org functional rollups'!$A:$A,0)),INDEX('Org functional rollups'!$D:$D,MATCH($B573,'Org functional rollups'!$A:$A,0)),0)","v":"Common"}]
[{"$f":"'12.2018 Data'!A554","v":"923000"},{"$f":"'12.2018 Data'!B554","v":"M19"},{"$f":"'12.2018 Data'!C554","v":"CD"},{"$f":"'12.2018 Data'!D554","v":"AA"},{"$f":"'12.2018 Data'!E554","v":"OPER"},{"$f":"'12.2018 Data'!F554","v":11.71},{"$f":"'12.2018 Data'!G554","v":8.2100000000000009},{"$f":"'12.2018 Data'!H554","v":2.41},{"$f":"'12.2018 Data'!I554","v":1.0900000000000001},{"$f":"'12.2018 Data'!J554","v":0},"923",11.71,8.2100000000000009,2.41,1.0900000000000001,0,{"$f":"IF(ISNUMBER(MATCH($B574,'Org functional rollups'!$A:$A,0)),INDEX('Org functional rollups'!$D:$D,MATCH($B574,'Org functional rollups'!$A:$A,0)),0)","v":"Common"}]
[{"$f":"'12.2018 Data'!A555","v":"923000"},{"$f":"'12.2018 Data'!B555","v":"M29"},{"$f":"'12.2018 Data'!C555","v":"CD"},{"$f":"'12.2018 Data'!D555","v":"AA"},{"$f":"'12.2018 Data'!E555","v":"OPER"},{"$f":"'12.2018 Data'!F555","v":182959.96},{"$f":"'12.2018 Data'!G555","v":128318.94},{"$f":"'12.2018 Data'!H555","v":37596.480000000003},{"$f":"'12.2018 Data'!I555","v":17044.54},{"$f":"'12.2018 Data'!J555","v":0},"923",182959.96,128318.94,37596.480000000003,17044.54,0,{"$f":"IF(ISNUMBER(MATCH($B575,'Org functional rollups'!$A:$A,0)),INDEX('Org functional rollups'!$D:$D,MATCH($B575,'Org functional rollups'!$A:$A,0)),0)","v":"Common"}]
[{"$f":"'12.2018 Data'!A556","v":"923000"},{"$f":"'12.2018 Data'!B556","v":"M54"},{"$f":"'12.2018 Data'!C556","v":"CD"},{"$f":"'12.2018 Data'!D556","v":"AA"},{"$f":"'12.2018 Data'!E556","v":"OPER"},{"$f":"'12.2018 Data'!F556","v":6000},{"$f":"'12.2018 Data'!G556","v":4208.1000000000004},{"$f":"'12.2018 Data'!H556","v":1232.94},{"$f":"'12.2018 Data'!I556","v":558.96},{"$f":"'12.2018 Data'!J556","v":0},"923",6000,4208.1000000000004,1232.94,558.96,0,{"$f":"IF(ISNUMBER(MATCH($B576,'Org functional rollups'!$A:$A,0)),INDEX('Org functional rollups'!$D:$D,MATCH($B576,'Org functional rollups'!$A:$A,0)),0)","v":"Common"}]
[{"$f":"'12.2018 Data'!A557","v":"923000"},{"$f":"'12.2018 Data'!B557","v":"M54"},{"$f":"'12.2018 Data'!C557","v":"ED"},{"$f":"'12.2018 Data'!D557","v":"AN"},{"$f":"'12.2018 Data'!E557","v":"OPER"},{"$f":"'12.2018 Data'!F557","v":12393.05},{"$f":"'12.2018 Data'!G557","v":12393.05},{"$f":"'12.2018 Data'!H557","v":0},{"$f":"'12.2018 Data'!I557","v":0},{"$f":"'12.2018 Data'!J557","v":0},"923",{"$f":"IF(ISNUMBER(F577),F577,0)","v":12393.05},{"$f":"IF(ISNUMBER(G577),G577,0)","v":12393.05},{"$f":"IF(ISNUMBER(H577),H577,0)","v":0},{"$f":"IF(ISNUMBER(I577),I577,0)","v":0},{"$f":"IF(ISNUMBER(J577),J577,0)","v":0},{"$f":"IF(ISNUMBER(MATCH($B577,'Org functional rollups'!$A:$A,0)),INDEX('Org functional rollups'!$D:$D,MATCH($B577,'Org functional rollups'!$A:$A,0)),0)","v":"Common"}]
[{"$f":"'12.2018 Data'!A558","v":"923000"},{"$f":"'12.2018 Data'!B558","v":"N02"},{"$f":"'12.2018 Data'!C558","v":"CD"},{"$f":"'12.2018 Data'!D558","v":"AA"},{"$f":"'12.2018 Data'!E558","v":"OPER"},{"$f":"'12.2018 Data'!F558","v":305.64},{"$f":"'12.2018 Data'!G558","v":214.36},{"$f":"'12.2018 Data'!H558","v":62.81},{"$f":"'12.2018 Data'!I558","v":28.47},{"$f":"'12.2018 Data'!J558","v":0},"923",305.64,214.36,62.81,28.47,0,{"$f":"IF(ISNUMBER(MATCH($B578,'Org functional rollups'!$A:$A,0)),INDEX('Org functional rollups'!$D:$D,MATCH($B578,'Org functional rollups'!$A:$A,0)),0)","v":"Common"}]
[{"$f":"'12.2018 Data'!A559","v":"923000"},{"$f":"'12.2018 Data'!B559","v":"N09"},{"$f":"'12.2018 Data'!C559","v":"CD"},{"$f":"'12.2018 Data'!D559","v":"AA"},{"$f":"'12.2018 Data'!E559","v":"OPER"},{"$f":"'12.2018 Data'!F559","v":32022.38},{"$f":"'12.2018 Data'!G559","v":22458.880000000001},{"$f":"'12.2018 Data'!H559","v":6580.3},{"$f":"'12.2018 Data'!I559","v":2983.2},{"$f":"'12.2018 Data'!J559","v":0},"923",32022.38,22458.880000000001,6580.3,2983.2,0,{"$f":"IF(ISNUMBER(MATCH($B579,'Org functional rollups'!$A:$A,0)),INDEX('Org functional rollups'!$D:$D,MATCH($B579,'Org functional rollups'!$A:$A,0)),0)","v":"Common"}]
[{"$f":"'12.2018 Data'!A560","v":"923000"},{"$f":"'12.2018 Data'!B560","v":"P01"},{"$f":"'12.2018 Data'!C560","v":"CD"},{"$f":"'12.2018 Data'!D560","v":"WA"},{"$f":"'12.2018 Data'!E560","v":"OPER"},{"$f":"'12.2018 Data'!F560","v":4323},{"$f":"'12.2018 Data'!G560","v":3359.62},{"$f":"'12.2018 Data'!H560","v":963.38},{"$f":"'12.2018 Data'!I560","v":0},{"$f":"'12.2018 Data'!J560","v":0},"923",4323,3359.62,963.38,0,0,{"$f":"IF(ISNUMBER(MATCH($B580,'Org functional rollups'!$A:$A,0)),INDEX('Org functional rollups'!$D:$D,MATCH($B580,'Org functional rollups'!$A:$A,0)),0)","v":"Common"}]
[{"$f":"'12.2018 Data'!A561","v":"923000"},{"$f":"'12.2018 Data'!B561","v":"P01"},{"$f":"'12.2018 Data'!C561","v":"CD"},{"$f":"'12.2018 Data'!D561","v":"AA"},{"$f":"'12.2018 Data'!E561","v":"OPER"},{"$f":"'12.2018 Data'!F561","v":422791.37},{"$f":"'12.2018 Data'!G561","v":296524.68},{"$f":"'12.2018 Data'!H561","v":86879.33},{"$f":"'12.2018 Data'!I561","v":39387.360000000001},{"$f":"'12.2018 Data'!J561","v":0},"923",422791.37,296524.68,86879.33,39387.360000000001,0,{"$f":"IF(ISNUMBER(MATCH($B581,'Org functional rollups'!$A:$A,0)),INDEX('Org functional rollups'!$D:$D,MATCH($B581,'Org functional rollups'!$A:$A,0)),0)","v":"Common"}]
[{"$f":"'12.2018 Data'!A562","v":"923000"},{"$f":"'12.2018 Data'!B562","v":"P01"},{"$f":"'12.2018 Data'!C562","v":"GD"},{"$f":"'12.2018 Data'!D562","v":"AA"},{"$f":"'12.2018 Data'!E562","v":"OPER"},{"$f":"'12.2018 Data'!F562","v":26574.15},{"$f":"'12.2018 Data'!G562","v":0},{"$f":"'12.2018 Data'!H562","v":18219.77},{"$f":"'12.2018 Data'!I562","v":8354.3799999999992},{"$f":"'12.2018 Data'!J562","v":0},"923",26574.15,0,18219.77,8354.3799999999992,0,{"$f":"IF(ISNUMBER(MATCH($B582,'Org functional rollups'!$A:$A,0)),INDEX('Org functional rollups'!$D:$D,MATCH($B582,'Org functional rollups'!$A:$A,0)),0)","v":"Common"}]
[{"$f":"'12.2018 Data'!A563","v":"923000"},{"$f":"'12.2018 Data'!B563","v":"P01"},{"$f":"'12.2018 Data'!C563","v":"CD"},{"$f":"'12.2018 Data'!D563","v":"AN"},{"$f":"'12.2018 Data'!E563","v":"OPER"},{"$f":"'12.2018 Data'!F563","v":65766.36},{"$f":"'12.2018 Data'!G563","v":51110.3},{"$f":"'12.2018 Data'!H563","v":14656.06},{"$f":"'12.2018 Data'!I563","v":0},{"$f":"'12.2018 Data'!J563","v":0},"923",65766.36,51110.3,14656.06,0,0,{"$f":"IF(ISNUMBER(MATCH($B583,'Org functional rollups'!$A:$A,0)),INDEX('Org functional rollups'!$D:$D,MATCH($B583,'Org functional rollups'!$A:$A,0)),0)","v":"Common"}]
[{"$f":"'12.2018 Data'!A564","v":"923000"},{"$f":"'12.2018 Data'!B564","v":"P01"},{"$f":"'12.2018 Data'!C564","v":"CD"},{"$f":"'12.2018 Data'!D564","v":"ID"},{"$f":"'12.2018 Data'!E564","v":"OPER"},{"$f":"'12.2018 Data'!F564","v":1184},{"$f":"'12.2018 Data'!G564","v":920.15},{"$f":"'12.2018 Data'!H564","v":263.85000000000002},{"$f":"'12.2018 Data'!I564","v":0},{"$f":"'12.2018 Data'!J564","v":0},"923",1184,920.15,263.85000000000002,0,0,{"$f":"IF(ISNUMBER(MATCH($B584,'Org functional rollups'!$A:$A,0)),INDEX('Org functional rollups'!$D:$D,MATCH($B584,'Org functional rollups'!$A:$A,0)),0)","v":"Common"}]
[{"$f":"'12.2018 Data'!A565","v":"923000"},{"$f":"'12.2018 Data'!B565","v":"P01"},{"$f":"'12.2018 Data'!C565","v":"ED"},{"$f":"'12.2018 Data'!D565","v":"ID"},{"$f":"'12.2018 Data'!E565","v":"OPER"},{"$f":"'12.2018 Data'!F565","v":5668.73},{"$f":"'12.2018 Data'!G565","v":5668.73},{"$f":"'12.2018 Data'!H565","v":0},{"$f":"'12.2018 Data'!I565","v":0},{"$f":"'12.2018 Data'!J565","v":0},"923",5668.73,5668.73,0,0,0,{"$f":"IF(ISNUMBER(MATCH($B585,'Org functional rollups'!$A:$A,0)),INDEX('Org functional rollups'!$D:$D,MATCH($B585,'Org functional rollups'!$A:$A,0)),0)","v":"Common"}]
[{"$f":"'12.2018 Data'!A566","v":"923000"},{"$f":"'12.2018 Data'!B566","v":"P01"},{"$f":"'12.2018 Data'!C566","v":"GD"},{"$f":"'12.2018 Data'!D566","v":"OR"},{"$f":"'12.2018 Data'!E566","v":"OPER"},{"$f":"'12.2018 Data'!F566","v":13214.67},{"$f":"'12.2018 Data'!G566","v":0},{"$f":"'12.2018 Data'!H566","v":0},{"$f":"'12.2018 Data'!I566","v":13214.67},{"$f":"'12.2018 Data'!J566","v":0},"923",13214.67,0,0,13214.67,0,{"$f":"IF(ISNUMBER(MATCH($B586,'Org functional rollups'!$A:$A,0)),INDEX('Org functional rollups'!$D:$D,MATCH($B586,'Org functional rollups'!$A:$A,0)),0)","v":"Common"}]
[{"$f":"'12.2018 Data'!A567","v":"923000"},{"$f":"'12.2018 Data'!B567","v":"P01"},{"$f":"'12.2018 Data'!C567","v":"ED"},{"$f":"'12.2018 Data'!D567","v":"AN"},{"$f":"'12.2018 Data'!E567","v":"OPER"},{"$f":"'12.2018 Data'!F567","v":253696.38},{"$f":"'12.2018 Data'!G567","v":253696.38},{"$f":"'12.2018 Data'!H567","v":0},{"$f":"'12.2018 Data'!I567","v":0},{"$f":"'12.2018 Data'!J567","v":0},"923",253696.38,253696.38,0,0,0,{"$f":"IF(ISNUMBER(MATCH($B587,'Org functional rollups'!$A:$A,0)),INDEX('Org functional rollups'!$D:$D,MATCH($B587,'Org functional rollups'!$A:$A,0)),0)","v":"Common"}]
[{"$f":"'12.2018 Data'!A568","v":"923000"},{"$f":"'12.2018 Data'!B568","v":"P01"},{"$f":"'12.2018 Data'!C568","v":"ED"},{"$f":"'12.2018 Data'!D568","v":"WA"},{"$f":"'12.2018 Data'!E568","v":"OPER"},{"$f":"'12.2018 Data'!F568","v":46511.18},{"$f":"'12.2018 Data'!G568","v":46511.18},{"$f":"'12.2018 Data'!H568","v":0},{"$f":"'12.2018 Data'!I568","v":0},{"$f":"'12.2018 Data'!J568","v":0},"923",46511.18,46511.18,0,0,0,{"$f":"IF(ISNUMBER(MATCH($B588,'Org functional rollups'!$A:$A,0)),INDEX('Org functional rollups'!$D:$D,MATCH($B588,'Org functional rollups'!$A:$A,0)),0)","v":"Common"}]
[{"$f":"'12.2018 Data'!A569","v":"923000"},{"$f":"'12.2018 Data'!B569","v":"P01"},{"$f":"'12.2018 Data'!C569","v":"GD"},{"$f":"'12.2018 Data'!D569","v":"WA"},{"$f":"'12.2018 Data'!E569","v":"OPER"},{"$f":"'12.2018 Data'!F569","v":62326.3},{"$f":"'12.2018 Data'!G569","v":0},{"$f":"'12.2018 Data'!H569","v":62326.3},{"$f":"'12.2018 Data'!I569","v":0},{"$f":"'12.2018 Data'!J569","v":0},"923",62326.3,0,62326.3,0,0,{"$f":"IF(ISNUMBER(MATCH($B589,'Org functional rollups'!$A:$A,0)),INDEX('Org functional rollups'!$D:$D,MATCH($B589,'Org functional rollups'!$A:$A,0)),0)","v":"Common"}]
[{"$f":"'12.2018 Data'!A570","v":"923000"},{"$f":"'12.2018 Data'!B570","v":"P03"},{"$f":"'12.2018 Data'!C570","v":"CD"},{"$f":"'12.2018 Data'!D570","v":"AA"},{"$f":"'12.2018 Data'!E570","v":"OPER"},{"$f":"'12.2018 Data'!F570","v":28.24},{"$f":"'12.2018 Data'!G570","v":19.84},{"$f":"'12.2018 Data'!H570","v":5.79},{"$f":"'12.2018 Data'!I570","v":2.61},{"$f":"'12.2018 Data'!J570","v":0},"923",28.24,19.84,5.79,2.61,0,{"$f":"IF(ISNUMBER(MATCH($B590,'Org functional rollups'!$A:$A,0)),INDEX('Org functional rollups'!$D:$D,MATCH($B590,'Org functional rollups'!$A:$A,0)),0)","v":"Distribution"}]
[{"$f":"'12.2018 Data'!A571","v":"923000"},{"$f":"'12.2018 Data'!B571","v":"P09"},{"$f":"'12.2018 Data'!C571","v":"CD"},{"$f":"'12.2018 Data'!D571","v":"AA"},{"$f":"'12.2018 Data'!E571","v":"OPER"},{"$f":"'12.2018 Data'!F571","v":598669.68000000005},{"$f":"'12.2018 Data'!G571","v":419877.03},{"$f":"'12.2018 Data'!H571","v":123020.92},{"$f":"'12.2018 Data'!I571","v":55771.73},{"$f":"'12.2018 Data'!J571","v":0},"923",598669.68000000005,419877.03,123020.92,55771.73,0,{"$f":"IF(ISNUMBER(MATCH($B591,'Org functional rollups'!$A:$A,0)),INDEX('Org functional rollups'!$D:$D,MATCH($B591,'Org functional rollups'!$A:$A,0)),0)","v":"Common"}]
[{"$f":"'12.2018 Data'!A572","v":"923000"},{"$f":"'12.2018 Data'!B572","v":"P09"},{"$f":"'12.2018 Data'!C572","v":"ED"},{"$f":"'12.2018 Data'!D572","v":"AN"},{"$f":"'12.2018 Data'!E572","v":"OPER"},{"$f":"'12.2018 Data'!F572","v":1085.47},{"$f":"'12.2018 Data'!G572","v":1085.47},{"$f":"'12.2018 Data'!H572","v":0},{"$f":"'12.2018 Data'!I572","v":0},{"$f":"'12.2018 Data'!J572","v":0},"923",1085.47,1085.47,0,0,0,{"$f":"IF(ISNUMBER(MATCH($B592,'Org functional rollups'!$A:$A,0)),INDEX('Org functional rollups'!$D:$D,MATCH($B592,'Org functional rollups'!$A:$A,0)),0)","v":"Common"}]
[{"$f":"'12.2018 Data'!A573","v":"923000"},{"$f":"'12.2018 Data'!B573","v":"P99"},{"$f":"'12.2018 Data'!C573","v":"CD"},{"$f":"'12.2018 Data'!D573","v":"AA"},{"$f":"'12.2018 Data'!E573","v":"OPER"},{"$f":"'12.2018 Data'!F573","v":3724.58},{"$f":"'12.2018 Data'!G573","v":2612.23},{"$f":"'12.2018 Data'!H573","v":765.37},{"$f":"'12.2018 Data'!I573","v":346.98},{"$f":"'12.2018 Data'!J573","v":0},"923",3724.58,2612.23,765.37,346.98,0,{"$f":"IF(ISNUMBER(MATCH($B593,'Org functional rollups'!$A:$A,0)),INDEX('Org functional rollups'!$D:$D,MATCH($B593,'Org functional rollups'!$A:$A,0)),0)","v":"Common"}]
[{"$f":"'12.2018 Data'!A574","v":"923000"},{"$f":"'12.2018 Data'!B574","v":"Q19"},{"$f":"'12.2018 Data'!C574","v":"CD"},{"$f":"'12.2018 Data'!D574","v":"AA"},{"$f":"'12.2018 Data'!E574","v":"OPER"},{"$f":"'12.2018 Data'!F574","v":186176.01},{"$f":"'12.2018 Data'!G574","v":130574.55},{"$f":"'12.2018 Data'!H574","v":38257.22},{"$f":"'12.2018 Data'!I574","v":17344.240000000002},{"$f":"'12.2018 Data'!J574","v":0},"923",186176.01,130574.55,38257.22,17344.240000000002,0,{"$f":"IF(ISNUMBER(MATCH($B594,'Org functional rollups'!$A:$A,0)),INDEX('Org functional rollups'!$D:$D,MATCH($B594,'Org functional rollups'!$A:$A,0)),0)","v":"Common"}]
[{"$f":"'12.2018 Data'!A575","v":"923000"},{"$f":"'12.2018 Data'!B575","v":"R09"},{"$f":"'12.2018 Data'!C575","v":"ED"},{"$f":"'12.2018 Data'!D575","v":"AN"},{"$f":"'12.2018 Data'!E575","v":"OPER"},{"$f":"'12.2018 Data'!F575","v":6041.27},{"$f":"'12.2018 Data'!G575","v":6041.27},{"$f":"'12.2018 Data'!H575","v":0},{"$f":"'12.2018 Data'!I575","v":0},{"$f":"'12.2018 Data'!J575","v":0},"923",6041.27,6041.27,0,0,0,{"$f":"IF(ISNUMBER(MATCH($B595,'Org functional rollups'!$A:$A,0)),INDEX('Org functional rollups'!$D:$D,MATCH($B595,'Org functional rollups'!$A:$A,0)),0)","v":"Common"}]
[{"$f":"'12.2018 Data'!A576","v":"923000"},{"$f":"'12.2018 Data'!B576","v":"R09"},{"$f":"'12.2018 Data'!C576","v":"CD"},{"$f":"'12.2018 Data'!D576","v":"AA"},{"$f":"'12.2018 Data'!E576","v":"OPER"},{"$f":"'12.2018 Data'!F576","v":97320.48},{"$f":"'12.2018 Data'!G576","v":68255.649999999994},{"$f":"'12.2018 Data'!H576","v":19998.419999999998},{"$f":"'12.2018 Data'!I576","v":9066.41},{"$f":"'12.2018 Data'!J576","v":0},"923",97320.48,68255.649999999994,19998.419999999998,9066.41,0,{"$f":"IF(ISNUMBER(MATCH($B596,'Org functional rollups'!$A:$A,0)),INDEX('Org functional rollups'!$D:$D,MATCH($B596,'Org functional rollups'!$A:$A,0)),0)","v":"Common"}]
[{"$f":"'12.2018 Data'!A577","v":"923000"},{"$f":"'12.2018 Data'!B577","v":"R19"},{"$f":"'12.2018 Data'!C577","v":"CD"},{"$f":"'12.2018 Data'!D577","v":"AA"},{"$f":"'12.2018 Data'!E577","v":"OPER"},{"$f":"'12.2018 Data'!F577","v":353757.71},{"$f":"'12.2018 Data'!G577","v":248107.94},{"$f":"'12.2018 Data'!H577","v":72693.740000000005},{"$f":"'12.2018 Data'!I577","v":32956.03},{"$f":"'12.2018 Data'!J577","v":0},"923",353757.71,248107.94,72693.740000000005,32956.03,0,{"$f":"IF(ISNUMBER(MATCH($B597,'Org functional rollups'!$A:$A,0)),INDEX('Org functional rollups'!$D:$D,MATCH($B597,'Org functional rollups'!$A:$A,0)),0)","v":"Common"}]
[{"$f":"'12.2018 Data'!A578","v":"923000"},{"$f":"'12.2018 Data'!B578","v":"R19"},{"$f":"'12.2018 Data'!C578","v":"CD"},{"$f":"'12.2018 Data'!D578","v":"AN"},{"$f":"'12.2018 Data'!E578","v":"OPER"},{"$f":"'12.2018 Data'!F578","v":762.33},{"$f":"'12.2018 Data'!G578","v":592.44000000000005},{"$f":"'12.2018 Data'!H578","v":169.89},{"$f":"'12.2018 Data'!I578","v":0},{"$f":"'12.2018 Data'!J578","v":0},"923",762.33,592.44000000000005,169.89,0,0,{"$f":"IF(ISNUMBER(MATCH($B598,'Org functional rollups'!$A:$A,0)),INDEX('Org functional rollups'!$D:$D,MATCH($B598,'Org functional rollups'!$A:$A,0)),0)","v":"Common"}]
[{"$f":"'12.2018 Data'!A579","v":"923000"},{"$f":"'12.2018 Data'!B579","v":"R29"},{"$f":"'12.2018 Data'!C579","v":"CD"},{"$f":"'12.2018 Data'!D579","v":"AA"},{"$f":"'12.2018 Data'!E579","v":"OPER"},{"$f":"'12.2018 Data'!F579","v":350778.33},{"$f":"'12.2018 Data'!G579","v":246018.45},{"$f":"'12.2018 Data'!H579","v":72081.509999999995},{"$f":"'12.2018 Data'!I579","v":32678.37},{"$f":"'12.2018 Data'!J579","v":0},{"$f":"LEFT(A599,3)","v":"923"},350778.33,246018.45,72081.509999999995,32678.37,0,{"$f":"IF(ISNUMBER(MATCH($B599,'Org functional rollups'!$A:$A,0)),INDEX('Org functional rollups'!$D:$D,MATCH($B599,'Org functional rollups'!$A:$A,0)),0)","v":"Common"}]
[{"$f":"'12.2018 Data'!A580","v":"923000"},{"$f":"'12.2018 Data'!B580","v":"S09"},{"$f":"'12.2018 Data'!C580","v":"CD"},{"$f":"'12.2018 Data'!D580","v":"AA"},{"$f":"'12.2018 Data'!E580","v":"OPER"},{"$f":"'12.2018 Data'!F580","v":881030.64},{"$f":"'12.2018 Data'!G580","v":617910.85},{"$f":"'12.2018 Data'!H580","v":181042.9},{"$f":"'12.2018 Data'!I580","v":82076.89},{"$f":"'12.2018 Data'!J580","v":0},"923",881030.64,617910.85,181042.9,82076.89,0,{"$f":"IF(ISNUMBER(MATCH($B600,'Org functional rollups'!$A:$A,0)),INDEX('Org functional rollups'!$D:$D,MATCH($B600,'Org functional rollups'!$A:$A,0)),0)","v":"Common"}]
[{"$f":"'12.2018 Data'!A581","v":"923000"},{"$f":"'12.2018 Data'!B581","v":"S19"},{"$f":"'12.2018 Data'!C581","v":"CD"},{"$f":"'12.2018 Data'!D581","v":"AA"},{"$f":"'12.2018 Data'!E581","v":"OPER"},{"$f":"'12.2018 Data'!F581","v":291554.28000000003},{"$f":"'12.2018 Data'!G581","v":204481.61},{"$f":"'12.2018 Data'!H581","v":59911.51},{"$f":"'12.2018 Data'!I581","v":27161.16},{"$f":"'12.2018 Data'!J581","v":0},"923",291554.28000000003,204481.61,59911.51,27161.16,0,{"$f":"IF(ISNUMBER(MATCH($B601,'Org functional rollups'!$A:$A,0)),INDEX('Org functional rollups'!$D:$D,MATCH($B601,'Org functional rollups'!$A:$A,0)),0)","v":"Common"}]
[{"$f":"'12.2018 Data'!A582","v":"923000"},{"$f":"'12.2018 Data'!B582","v":"S19"},{"$f":"'12.2018 Data'!C582","v":"CD"},{"$f":"'12.2018 Data'!D582","v":"AN"},{"$f":"'12.2018 Data'!E582","v":"OPER"},{"$f":"'12.2018 Data'!F582","v":80},{"$f":"'12.2018 Data'!G582","v":62.17},{"$f":"'12.2018 Data'!H582","v":17.829999999999998},{"$f":"'12.2018 Data'!I582","v":0},{"$f":"'12.2018 Data'!J582","v":0},"923",80,62.17,17.829999999999998,0,0,{"$f":"IF(ISNUMBER(MATCH($B602,'Org functional rollups'!$A:$A,0)),INDEX('Org functional rollups'!$D:$D,MATCH($B602,'Org functional rollups'!$A:$A,0)),0)","v":"Common"}]
[{"$f":"'12.2018 Data'!A583","v":"923000"},{"$f":"'12.2018 Data'!B583","v":"S39"},{"$f":"'12.2018 Data'!C583","v":"CD"},{"$f":"'12.2018 Data'!D583","v":"AA"},{"$f":"'12.2018 Data'!E583","v":"OPER"},{"$f":"'12.2018 Data'!F583","v":3104.31},{"$f":"'12.2018 Data'!G583","v":2177.2199999999998},{"$f":"'12.2018 Data'!H583","v":637.9},{"$f":"'12.2018 Data'!I583","v":289.19},{"$f":"'12.2018 Data'!J583","v":0},"923",3104.31,2177.2199999999998,637.9,289.19,0,{"$f":"IF(ISNUMBER(MATCH($B603,'Org functional rollups'!$A:$A,0)),INDEX('Org functional rollups'!$D:$D,MATCH($B603,'Org functional rollups'!$A:$A,0)),0)","v":"Common"}]
[{"$f":"'12.2018 Data'!A584","v":"923000"},{"$f":"'12.2018 Data'!B584","v":"S51"},{"$f":"'12.2018 Data'!C584","v":"CD"},{"$f":"'12.2018 Data'!D584","v":"AA"},{"$f":"'12.2018 Data'!E584","v":"OPER"},{"$f":"'12.2018 Data'!F584","v":5799.58},{"$f":"'12.2018 Data'!G584","v":4067.52},{"$f":"'12.2018 Data'!H584","v":1191.74},{"$f":"'12.2018 Data'!I584","v":540.32000000000005},{"$f":"'12.2018 Data'!J584","v":0},"923",5799.58,4067.52,1191.74,540.32000000000005,0,{"$f":"IF(ISNUMBER(MATCH($B604,'Org functional rollups'!$A:$A,0)),INDEX('Org functional rollups'!$D:$D,MATCH($B604,'Org functional rollups'!$A:$A,0)),0)","v":"Common"}]
[{"$f":"'12.2018 Data'!A585","v":"923000"},{"$f":"'12.2018 Data'!B585","v":"S51"},{"$f":"'12.2018 Data'!C585","v":"CD"},{"$f":"'12.2018 Data'!D585","v":"AN"},{"$f":"'12.2018 Data'!E585","v":"OPER"},{"$f":"'12.2018 Data'!F585","v":4.2300000000000004},{"$f":"'12.2018 Data'!G585","v":3.29},{"$f":"'12.2018 Data'!H585","v":0.94},{"$f":"'12.2018 Data'!I585","v":0},{"$f":"'12.2018 Data'!J585","v":0},"923",4.2300000000000004,3.29,0.94,0,0,{"$f":"IF(ISNUMBER(MATCH($B605,'Org functional rollups'!$A:$A,0)),INDEX('Org functional rollups'!$D:$D,MATCH($B605,'Org functional rollups'!$A:$A,0)),0)","v":"Common"}]
[{"$f":"'12.2018 Data'!A586","v":"923000"},{"$f":"'12.2018 Data'!B586","v":"S52"},{"$f":"'12.2018 Data'!C586","v":"CD"},{"$f":"'12.2018 Data'!D586","v":"AA"},{"$f":"'12.2018 Data'!E586","v":"OPER"},{"$f":"'12.2018 Data'!F586","v":13898.04},{"$f":"'12.2018 Data'!G586","v":9747.39},{"$f":"'12.2018 Data'!H586","v":2855.91},{"$f":"'12.2018 Data'!I586","v":1294.74},{"$f":"'12.2018 Data'!J586","v":0},"923",13898.04,9747.39,2855.91,1294.74,0,{"$f":"IF(ISNUMBER(MATCH($B606,'Org functional rollups'!$A:$A,0)),INDEX('Org functional rollups'!$D:$D,MATCH($B606,'Org functional rollups'!$A:$A,0)),0)","v":"Common"}]
[{"$f":"'12.2018 Data'!A587","v":"923000"},{"$f":"'12.2018 Data'!B587","v":"S54"},{"$f":"'12.2018 Data'!C587","v":"CD"},{"$f":"'12.2018 Data'!D587","v":"AA"},{"$f":"'12.2018 Data'!E587","v":"OPER"},{"$f":"'12.2018 Data'!F587","v":91.52},{"$f":"'12.2018 Data'!G587","v":64.19},{"$f":"'12.2018 Data'!H587","v":18.809999999999999},{"$f":"'12.2018 Data'!I587","v":8.52},{"$f":"'12.2018 Data'!J587","v":0},"923",91.52,64.19,18.809999999999999,8.52,0,{"$f":"IF(ISNUMBER(MATCH($B607,'Org functional rollups'!$A:$A,0)),INDEX('Org functional rollups'!$D:$D,MATCH($B607,'Org functional rollups'!$A:$A,0)),0)","v":"Common"}]
[{"$f":"'12.2018 Data'!A588","v":"923000"},{"$f":"'12.2018 Data'!B588","v":"T01"},{"$f":"'12.2018 Data'!C588","v":"CD"},{"$f":"'12.2018 Data'!D588","v":"AA"},{"$f":"'12.2018 Data'!E588","v":"OPER"},{"$f":"'12.2018 Data'!F588","v":12500},{"$f":"'12.2018 Data'!G588","v":8766.8799999999992},{"$f":"'12.2018 Data'!H588","v":2568.63},{"$f":"'12.2018 Data'!I588","v":1164.49},{"$f":"'12.2018 Data'!J588","v":0},"923",12500,8766.8799999999992,2568.63,1164.49,0,{"$f":"IF(ISNUMBER(MATCH($B608,'Org functional rollups'!$A:$A,0)),INDEX('Org functional rollups'!$D:$D,MATCH($B608,'Org functional rollups'!$A:$A,0)),0)","v":"Common"}]
[{"$f":"'12.2018 Data'!A589","v":"923000"},{"$f":"'12.2018 Data'!B589","v":"T19"},{"$f":"'12.2018 Data'!C589","v":"CD"},{"$f":"'12.2018 Data'!D589","v":"AN"},{"$f":"'12.2018 Data'!E589","v":"OPER"},{"$f":"'12.2018 Data'!F589","v":299.3},{"$f":"'12.2018 Data'!G589","v":232.6},{"$f":"'12.2018 Data'!H589","v":66.7},{"$f":"'12.2018 Data'!I589","v":0},{"$f":"'12.2018 Data'!J589","v":0},"923",299.3,232.6,66.7,0,0,{"$f":"IF(ISNUMBER(MATCH($B609,'Org functional rollups'!$A:$A,0)),INDEX('Org functional rollups'!$D:$D,MATCH($B609,'Org functional rollups'!$A:$A,0)),0)","v":"Common"}]
[{"$f":"'12.2018 Data'!A590","v":"923000"},{"$f":"'12.2018 Data'!B590","v":"T19"},{"$f":"'12.2018 Data'!C590","v":"CD"},{"$f":"'12.2018 Data'!D590","v":"AA"},{"$f":"'12.2018 Data'!E590","v":"OPER"},{"$f":"'12.2018 Data'!F590","v":882914.42},{"$f":"'12.2018 Data'!G590","v":619232.03},{"$f":"'12.2018 Data'!H590","v":181430.1},{"$f":"'12.2018 Data'!I590","v":82252.289999999994},{"$f":"'12.2018 Data'!J590","v":0},"923",882914.42,619232.03,181430.1,82252.289999999994,0,{"$f":"IF(ISNUMBER(MATCH($B610,'Org functional rollups'!$A:$A,0)),INDEX('Org functional rollups'!$D:$D,MATCH($B610,'Org functional rollups'!$A:$A,0)),0)","v":"Common"}]
[{"$f":"'12.2018 Data'!A591","v":"923000"},{"$f":"'12.2018 Data'!B591","v":"T39"},{"$f":"'12.2018 Data'!C591","v":"CD"},{"$f":"'12.2018 Data'!D591","v":"AA"},{"$f":"'12.2018 Data'!E591","v":"OPER"},{"$f":"'12.2018 Data'!F591","v":3114.17},{"$f":"'12.2018 Data'!G591","v":2184.13},{"$f":"'12.2018 Data'!H591","v":639.92999999999995},{"$f":"'12.2018 Data'!I591","v":290.11},{"$f":"'12.2018 Data'!J591","v":0},"923",3114.17,2184.13,639.92999999999995,290.11,0,{"$f":"IF(ISNUMBER(MATCH($B611,'Org functional rollups'!$A:$A,0)),INDEX('Org functional rollups'!$D:$D,MATCH($B611,'Org functional rollups'!$A:$A,0)),0)","v":"Common"}]
[{"$f":"'12.2018 Data'!A592","v":"923000"},{"$f":"'12.2018 Data'!B592","v":"T54"},{"$f":"'12.2018 Data'!C592","v":"CD"},{"$f":"'12.2018 Data'!D592","v":"AA"},{"$f":"'12.2018 Data'!E592","v":"OPER"},{"$f":"'12.2018 Data'!F592","v":218.21},{"$f":"'12.2018 Data'!G592","v":153.04},{"$f":"'12.2018 Data'!H592","v":44.84},{"$f":"'12.2018 Data'!I592","v":20.329999999999998},{"$f":"'12.2018 Data'!J592","v":0},"923",218.21,153.04,44.84,20.329999999999998,0,{"$f":"IF(ISNUMBER(MATCH($B612,'Org functional rollups'!$A:$A,0)),INDEX('Org functional rollups'!$D:$D,MATCH($B612,'Org functional rollups'!$A:$A,0)),0)","v":"Common"}]
[{"$f":"'12.2018 Data'!A593","v":"923000"},{"$f":"'12.2018 Data'!B593","v":"U01"},{"$f":"'12.2018 Data'!C593","v":"CD"},{"$f":"'12.2018 Data'!D593","v":"AA"},{"$f":"'12.2018 Data'!E593","v":"OPER"},{"$f":"'12.2018 Data'!F593","v":1528.18},{"$f":"'12.2018 Data'!G593","v":1071.8},{"$f":"'12.2018 Data'!H593","v":314.04000000000002},{"$f":"'12.2018 Data'!I593","v":142.34},{"$f":"'12.2018 Data'!J593","v":0},"923",1528.18,1071.8,314.04000000000002,142.34,0,{"$f":"IF(ISNUMBER(MATCH($B613,'Org functional rollups'!$A:$A,0)),INDEX('Org functional rollups'!$D:$D,MATCH($B613,'Org functional rollups'!$A:$A,0)),0)","v":"Common"}]
[{"$f":"'12.2018 Data'!A594","v":"923000"},{"$f":"'12.2018 Data'!B594","v":"U01"},{"$f":"'12.2018 Data'!C594","v":"ED"},{"$f":"'12.2018 Data'!D594","v":"ID"},{"$f":"'12.2018 Data'!E594","v":"OPER"},{"$f":"'12.2018 Data'!F594","v":19.23},{"$f":"'12.2018 Data'!G594","v":19.23},{"$f":"'12.2018 Data'!H594","v":0},{"$f":"'12.2018 Data'!I594","v":0},{"$f":"'12.2018 Data'!J594","v":0},"923",19.23,19.23,0,0,0,{"$f":"IF(ISNUMBER(MATCH($B614,'Org functional rollups'!$A:$A,0)),INDEX('Org functional rollups'!$D:$D,MATCH($B614,'Org functional rollups'!$A:$A,0)),0)","v":"Common"}]
[{"$f":"'12.2018 Data'!A595","v":"923000"},{"$f":"'12.2018 Data'!B595","v":"U01"},{"$f":"'12.2018 Data'!C595","v":"ED"},{"$f":"'12.2018 Data'!D595","v":"WA"},{"$f":"'12.2018 Data'!E595","v":"OPER"},{"$f":"'12.2018 Data'!F595","v":81.260000000000005},{"$f":"'12.2018 Data'!G595","v":81.260000000000005},{"$f":"'12.2018 Data'!H595","v":0},{"$f":"'12.2018 Data'!I595","v":0},{"$f":"'12.2018 Data'!J595","v":0},"923",81.260000000000005,81.260000000000005,0,0,0,{"$f":"IF(ISNUMBER(MATCH($B615,'Org functional rollups'!$A:$A,0)),INDEX('Org functional rollups'!$D:$D,MATCH($B615,'Org functional rollups'!$A:$A,0)),0)","v":"Common"}]
[{"$f":"'12.2018 Data'!A596","v":"923000"},{"$f":"'12.2018 Data'!B596","v":"U01"},{"$f":"'12.2018 Data'!C596","v":"GD"},{"$f":"'12.2018 Data'!D596","v":"WA"},{"$f":"'12.2018 Data'!E596","v":"OPER"},{"$f":"'12.2018 Data'!F596","v":123.8},{"$f":"'12.2018 Data'!G596","v":0},{"$f":"'12.2018 Data'!H596","v":123.8},{"$f":"'12.2018 Data'!I596","v":0},{"$f":"'12.2018 Data'!J596","v":0},"923",123.8,0,123.8,0,0,{"$f":"IF(ISNUMBER(MATCH($B616,'Org functional rollups'!$A:$A,0)),INDEX('Org functional rollups'!$D:$D,MATCH($B616,'Org functional rollups'!$A:$A,0)),0)","v":"Common"}]
[{"$f":"'12.2018 Data'!A597","v":"923000"},{"$f":"'12.2018 Data'!B597","v":"V08"},{"$f":"'12.2018 Data'!C597","v":"ED"},{"$f":"'12.2018 Data'!D597","v":"AN"},{"$f":"'12.2018 Data'!E597","v":"OPER"},{"$f":"'12.2018 Data'!F597","v":6027.63},{"$f":"'12.2018 Data'!G597","v":6027.63},{"$f":"'12.2018 Data'!H597","v":0},{"$f":"'12.2018 Data'!I597","v":0},{"$f":"'12.2018 Data'!J597","v":0},"923",6027.63,6027.63,0,0,0,{"$f":"IF(ISNUMBER(MATCH($B617,'Org functional rollups'!$A:$A,0)),INDEX('Org functional rollups'!$D:$D,MATCH($B617,'Org functional rollups'!$A:$A,0)),0)","v":"Common"}]
[{"$f":"'12.2018 Data'!A598","v":"923000"},{"$f":"'12.2018 Data'!B598","v":"V19"},{"$f":"'12.2018 Data'!C598","v":"CD"},{"$f":"'12.2018 Data'!D598","v":"AN"},{"$f":"'12.2018 Data'!E598","v":"OPER"},{"$f":"'12.2018 Data'!F598","v":446.95},{"$f":"'12.2018 Data'!G598","v":347.35},{"$f":"'12.2018 Data'!H598","v":99.6},{"$f":"'12.2018 Data'!I598","v":0},{"$f":"'12.2018 Data'!J598","v":0},"923",446.95,347.35,99.6,0,0,{"$f":"IF(ISNUMBER(MATCH($B618,'Org functional rollups'!$A:$A,0)),INDEX('Org functional rollups'!$D:$D,MATCH($B618,'Org functional rollups'!$A:$A,0)),0)","v":"Common"}]
[{"$f":"'12.2018 Data'!A599","v":"923000"},{"$f":"'12.2018 Data'!B599","v":"V19"},{"$f":"'12.2018 Data'!C599","v":"CD"},{"$f":"'12.2018 Data'!D599","v":"AA"},{"$f":"'12.2018 Data'!E599","v":"OPER"},{"$f":"'12.2018 Data'!F599","v":448855.81},{"$f":"'12.2018 Data'!G599","v":314805},{"$f":"'12.2018 Data'!H599","v":92235.38},{"$f":"'12.2018 Data'!I599","v":41815.43},{"$f":"'12.2018 Data'!J599","v":0},"923",448855.81,314805,92235.38,41815.43,0,{"$f":"IF(ISNUMBER(MATCH($B619,'Org functional rollups'!$A:$A,0)),INDEX('Org functional rollups'!$D:$D,MATCH($B619,'Org functional rollups'!$A:$A,0)),0)","v":"Common"}]
[{"$f":"'12.2018 Data'!A600","v":"923000"},{"$f":"'12.2018 Data'!B600","v":"V39"},{"$f":"'12.2018 Data'!C600","v":"CD"},{"$f":"'12.2018 Data'!D600","v":"AA"},{"$f":"'12.2018 Data'!E600","v":"OPER"},{"$f":"'12.2018 Data'!F600","v":29289.59},{"$f":"'12.2018 Data'!G600","v":20542.28},{"$f":"'12.2018 Data'!H600","v":6018.71},{"$f":"'12.2018 Data'!I600","v":2728.6},{"$f":"'12.2018 Data'!J600","v":0},"923",29289.59,20542.28,6018.71,2728.6,0,{"$f":"IF(ISNUMBER(MATCH($B620,'Org functional rollups'!$A:$A,0)),INDEX('Org functional rollups'!$D:$D,MATCH($B620,'Org functional rollups'!$A:$A,0)),0)","v":"Common"}]
[{"$f":"'12.2018 Data'!A601","v":"923000"},{"$f":"'12.2018 Data'!B601","v":"W01"},{"$f":"'12.2018 Data'!C601","v":"ED"},{"$f":"'12.2018 Data'!D601","v":"AN"},{"$f":"'12.2018 Data'!E601","v":"OPER"},{"$f":"'12.2018 Data'!F601","v":30.4},{"$f":"'12.2018 Data'!G601","v":30.4},{"$f":"'12.2018 Data'!H601","v":0},{"$f":"'12.2018 Data'!I601","v":0},{"$f":"'12.2018 Data'!J601","v":0},"923",30.4,30.4,0,0,0,{"$f":"IF(ISNUMBER(MATCH($B621,'Org functional rollups'!$A:$A,0)),INDEX('Org functional rollups'!$D:$D,MATCH($B621,'Org functional rollups'!$A:$A,0)),0)","v":"Common"}]
[{"$f":"'12.2018 Data'!A602","v":"923000"},{"$f":"'12.2018 Data'!B602","v":"W39"},{"$f":"'12.2018 Data'!C602","v":"CD"},{"$f":"'12.2018 Data'!D602","v":"AA"},{"$f":"'12.2018 Data'!E602","v":"OPER"},{"$f":"'12.2018 Data'!F602","v":6321.89},{"$f":"'12.2018 Data'!G602","v":4433.8599999999997},{"$f":"'12.2018 Data'!H602","v":1299.0899999999999},{"$f":"'12.2018 Data'!I602","v":588.94000000000005},{"$f":"'12.2018 Data'!J602","v":0},"923",6321.89,4433.8599999999997,1299.0899999999999,588.94000000000005,0,{"$f":"IF(ISNUMBER(MATCH($B622,'Org functional rollups'!$A:$A,0)),INDEX('Org functional rollups'!$D:$D,MATCH($B622,'Org functional rollups'!$A:$A,0)),0)","v":"Common"}]
[{"$f":"'12.2018 Data'!A603","v":"923000"},{"$f":"'12.2018 Data'!B603","v":"X02"},{"$f":"'12.2018 Data'!C603","v":"CD"},{"$f":"'12.2018 Data'!D603","v":"AA"},{"$f":"'12.2018 Data'!E603","v":"OPER"},{"$f":"'12.2018 Data'!F603","v":50543.27},{"$f":"'12.2018 Data'!G603","v":35448.53},{"$f":"'12.2018 Data'!H603","v":10386.120000000001},{"$f":"'12.2018 Data'!I603","v":4708.62},{"$f":"'12.2018 Data'!J603","v":0},"923",50543.27,35448.53,10386.120000000001,4708.62,0,{"$f":"IF(ISNUMBER(MATCH($B623,'Org functional rollups'!$A:$A,0)),INDEX('Org functional rollups'!$D:$D,MATCH($B623,'Org functional rollups'!$A:$A,0)),0)","v":"Common"}]
[{"$f":"'12.2018 Data'!A604","v":"923000"},{"$f":"'12.2018 Data'!B604","v":"X08"},{"$f":"'12.2018 Data'!C604","v":"CD"},{"$f":"'12.2018 Data'!D604","v":"AA"},{"$f":"'12.2018 Data'!E604","v":"OPER"},{"$f":"'12.2018 Data'!F604","v":2750.28},{"$f":"'12.2018 Data'!G604","v":1928.91},{"$f":"'12.2018 Data'!H604","v":565.15},{"$f":"'12.2018 Data'!I604","v":256.22000000000003},{"$f":"'12.2018 Data'!J604","v":0},"923",2750.28,1928.91,565.15,256.22000000000003,0,{"$f":"IF(ISNUMBER(MATCH($B624,'Org functional rollups'!$A:$A,0)),INDEX('Org functional rollups'!$D:$D,MATCH($B624,'Org functional rollups'!$A:$A,0)),0)","v":"Production"}]
[{"$f":"'12.2018 Data'!A605","v":"923000"},{"$f":"'12.2018 Data'!B605","v":"X09"},{"$f":"'12.2018 Data'!C605","v":"CD"},{"$f":"'12.2018 Data'!D605","v":"AA"},{"$f":"'12.2018 Data'!E605","v":"OPER"},{"$f":"'12.2018 Data'!F605","v":20400},{"$f":"'12.2018 Data'!G605","v":14307.54},{"$f":"'12.2018 Data'!H605","v":4192},{"$f":"'12.2018 Data'!I605","v":1900.46},{"$f":"'12.2018 Data'!J605","v":0},"923",20400,14307.54,4192,1900.46,0,{"$f":"IF(ISNUMBER(MATCH($B625,'Org functional rollups'!$A:$A,0)),INDEX('Org functional rollups'!$D:$D,MATCH($B625,'Org functional rollups'!$A:$A,0)),0)","v":"Common"}]
[{"$f":"'12.2018 Data'!A606","v":"923000"},{"$f":"'12.2018 Data'!B606","v":"X19"},{"$f":"'12.2018 Data'!C606","v":"CD"},{"$f":"'12.2018 Data'!D606","v":"AA"},{"$f":"'12.2018 Data'!E606","v":"OPER"},{"$f":"'12.2018 Data'!F606","v":176800},{"$f":"'12.2018 Data'!G606","v":123998.7},{"$f":"'12.2018 Data'!H606","v":36330.629999999997},{"$f":"'12.2018 Data'!I606","v":16470.669999999998},{"$f":"'12.2018 Data'!J606","v":0},"923",176800,123998.7,36330.629999999997,16470.669999999998,0,{"$f":"IF(ISNUMBER(MATCH($B626,'Org functional rollups'!$A:$A,0)),INDEX('Org functional rollups'!$D:$D,MATCH($B626,'Org functional rollups'!$A:$A,0)),0)","v":"Common"}]
[{"$f":"'12.2018 Data'!A607","v":"923000"},{"$f":"'12.2018 Data'!B607","v":"X39"},{"$f":"'12.2018 Data'!C607","v":"CD"},{"$f":"'12.2018 Data'!D607","v":"AA"},{"$f":"'12.2018 Data'!E607","v":"OPER"},{"$f":"'12.2018 Data'!F607","v":60536.46},{"$f":"'12.2018 Data'!G607","v":42457.29},{"$f":"'12.2018 Data'!H607","v":12439.62},{"$f":"'12.2018 Data'!I607","v":5639.55},{"$f":"'12.2018 Data'!J607","v":0},"923",60536.46,42457.29,12439.62,5639.55,0,{"$f":"IF(ISNUMBER(MATCH($B627,'Org functional rollups'!$A:$A,0)),INDEX('Org functional rollups'!$D:$D,MATCH($B627,'Org functional rollups'!$A:$A,0)),0)","v":"Common"}]
[{"$f":"'12.2018 Data'!A608","v":"923000"},{"$f":"'12.2018 Data'!B608","v":"Y39"},{"$f":"'12.2018 Data'!C608","v":"CD"},{"$f":"'12.2018 Data'!D608","v":"AA"},{"$f":"'12.2018 Data'!E608","v":"OPER"},{"$f":"'12.2018 Data'!F608","v":51932.26},{"$f":"'12.2018 Data'!G608","v":36422.65},{"$f":"'12.2018 Data'!H608","v":10671.57},{"$f":"'12.2018 Data'!I608","v":4838.04},{"$f":"'12.2018 Data'!J608","v":0},"923",51932.26,36422.65,10671.57,4838.04,0,{"$f":"IF(ISNUMBER(MATCH($B628,'Org functional rollups'!$A:$A,0)),INDEX('Org functional rollups'!$D:$D,MATCH($B628,'Org functional rollups'!$A:$A,0)),0)","v":"Common"}]
[{"$f":"'12.2018 Data'!A609","v":"923000"},{"$f":"'12.2018 Data'!B609","v":"Z87"},{"$f":"'12.2018 Data'!C609","v":"ED"},{"$f":"'12.2018 Data'!D609","v":"AN"},{"$f":"'12.2018 Data'!E609","v":"OPER"},{"$f":"'12.2018 Data'!F609","v":409.87},{"$f":"'12.2018 Data'!G609","v":409.87},{"$f":"'12.2018 Data'!H609","v":0},{"$f":"'12.2018 Data'!I609","v":0},{"$f":"'12.2018 Data'!J609","v":0},"923",409.87,409.87,0,0,0,{"$f":"IF(ISNUMBER(MATCH($B629,'Org functional rollups'!$A:$A,0)),INDEX('Org functional rollups'!$D:$D,MATCH($B629,'Org functional rollups'!$A:$A,0)),0)","v":"Common"}]
[{"$f":"'12.2018 Data'!A610","v":"923000"},{"$f":"'12.2018 Data'!B610","v":"Z87"},{"$f":"'12.2018 Data'!C610","v":"CD"},{"$f":"'12.2018 Data'!D610","v":"AN"},{"$f":"'12.2018 Data'!E610","v":"OPER"},{"$f":"'12.2018 Data'!F610","v":41.76},{"$f":"'12.2018 Data'!G610","v":32.450000000000003},{"$f":"'12.2018 Data'!H610","v":9.31},{"$f":"'12.2018 Data'!I610","v":0},{"$f":"'12.2018 Data'!J610","v":0},"923",41.76,32.450000000000003,9.31,0,0,{"$f":"IF(ISNUMBER(MATCH($B630,'Org functional rollups'!$A:$A,0)),INDEX('Org functional rollups'!$D:$D,MATCH($B630,'Org functional rollups'!$A:$A,0)),0)","v":"Common"}]
[{"$f":"'12.2018 Data'!A611","v":"923000"},{"$f":"'12.2018 Data'!B611","v":"Z87"},{"$f":"'12.2018 Data'!C611","v":"CD"},{"$f":"'12.2018 Data'!D611","v":"AA"},{"$f":"'12.2018 Data'!E611","v":"OPER"},{"$f":"'12.2018 Data'!F611","v":23478.21},{"$f":"'12.2018 Data'!G611","v":16466.41},{"$f":"'12.2018 Data'!H611","v":4824.53},{"$f":"'12.2018 Data'!I611","v":2187.27},{"$f":"'12.2018 Data'!J611","v":0},"923",23478.21,16466.41,4824.53,2187.27,0,{"$f":"IF(ISNUMBER(MATCH($B631,'Org functional rollups'!$A:$A,0)),INDEX('Org functional rollups'!$D:$D,MATCH($B631,'Org functional rollups'!$A:$A,0)),0)","v":"Common"}]
[{"$f":"'12.2018 Data'!A612","v":"923000"},{"$f":"'12.2018 Data'!B612","v":"Z88"},{"$f":"'12.2018 Data'!C612","v":"CD"},{"$f":"'12.2018 Data'!D612","v":"AN"},{"$f":"'12.2018 Data'!E612","v":"OPER"},{"$f":"'12.2018 Data'!F612","v":51617.35},{"$f":"'12.2018 Data'!G612","v":40114.46},{"$f":"'12.2018 Data'!H612","v":11502.89},{"$f":"'12.2018 Data'!I612","v":0},{"$f":"'12.2018 Data'!J612","v":0},"923",51617.35,40114.46,11502.89,0,0,{"$f":"IF(ISNUMBER(MATCH($B632,'Org functional rollups'!$A:$A,0)),INDEX('Org functional rollups'!$D:$D,MATCH($B632,'Org functional rollups'!$A:$A,0)),0)","v":"Distribution"}]
[{"$f":"'12.2018 Data'!A613","v":"923000"},{"$f":"'12.2018 Data'!B613","v":"Z88"},{"$f":"'12.2018 Data'!C613","v":"CD"},{"$f":"'12.2018 Data'!D613","v":"AA"},{"$f":"'12.2018 Data'!E613","v":"OPER"},{"$f":"'12.2018 Data'!F613","v":19526},{"$f":"'12.2018 Data'!G613","v":13694.55},{"$f":"'12.2018 Data'!H613","v":4012.39},{"$f":"'12.2018 Data'!I613","v":1819.06},{"$f":"'12.2018 Data'!J613","v":0},"923",19526,13694.55,4012.39,1819.06,0,{"$f":"IF(ISNUMBER(MATCH($B633,'Org functional rollups'!$A:$A,0)),INDEX('Org functional rollups'!$D:$D,MATCH($B633,'Org functional rollups'!$A:$A,0)),0)","v":"Distribution"}]
[{"$f":"'12.2018 Data'!A614","v":"923000"},{"$f":"'12.2018 Data'!B614","v":"Z88"},{"$f":"'12.2018 Data'!C614","v":"ED"},{"$f":"'12.2018 Data'!D614","v":"AN"},{"$f":"'12.2018 Data'!E614","v":"OPER"},{"$f":"'12.2018 Data'!F614","v":1151},{"$f":"'12.2018 Data'!G614","v":1151},{"$f":"'12.2018 Data'!H614","v":0},{"$f":"'12.2018 Data'!I614","v":0},{"$f":"'12.2018 Data'!J614","v":0},"923",1151,1151,0,0,0,{"$f":"IF(ISNUMBER(MATCH($B634,'Org functional rollups'!$A:$A,0)),INDEX('Org functional rollups'!$D:$D,MATCH($B634,'Org functional rollups'!$A:$A,0)),0)","v":"Distribution"}]
[{"$f":"'12.2018 Data'!A615","v":"923000"},{"$f":"'12.2018 Data'!B615","v":"Z89"},{"$f":"'12.2018 Data'!C615","v":"CD"},{"$f":"'12.2018 Data'!D615","v":"AA"},{"$f":"'12.2018 Data'!E615","v":"OPER"},{"$f":"'12.2018 Data'!F615","v":-87.76},{"$f":"'12.2018 Data'!G615","v":-61.55},{"$f":"'12.2018 Data'!H615","v":-18.03},{"$f":"'12.2018 Data'!I615","v":-8.18},{"$f":"'12.2018 Data'!J615","v":0},"923",-87.76,-61.55,-18.03,-8.18,0,{"$f":"IF(ISNUMBER(MATCH($B635,'Org functional rollups'!$A:$A,0)),INDEX('Org functional rollups'!$D:$D,MATCH($B635,'Org functional rollups'!$A:$A,0)),0)","v":"Common"}]
[{"$f":"'12.2018 Data'!A616","v":"923000"},{"$f":"'12.2018 Data'!B616","v":"Z89"},{"$f":"'12.2018 Data'!C616","v":"ED"},{"$f":"'12.2018 Data'!D616","v":"AN"},{"$f":"'12.2018 Data'!E616","v":"OPER"},{"$f":"'12.2018 Data'!F616","v":0},{"$f":"'12.2018 Data'!G616","v":0},{"$f":"'12.2018 Data'!H616","v":0},{"$f":"'12.2018 Data'!I616","v":0},{"$f":"'12.2018 Data'!J616","v":0},"923",0,0,0,0,0,{"$f":"IF(ISNUMBER(MATCH($B636,'Org functional rollups'!$A:$A,0)),INDEX('Org functional rollups'!$D:$D,MATCH($B636,'Org functional rollups'!$A:$A,0)),0)","v":"Common"}]
[{"$f":"'12.2018 Data'!A617","v":"923000"},{"$f":"'12.2018 Data'!B617","v":"Z90"},{"$f":"'12.2018 Data'!C617","v":"ED"},{"$f":"'12.2018 Data'!D617","v":"AN"},{"$f":"'12.2018 Data'!E617","v":"OPER"},{"$f":"'12.2018 Data'!F617","v":80.11},{"$f":"'12.2018 Data'!G617","v":80.11},{"$f":"'12.2018 Data'!H617","v":0},{"$f":"'12.2018 Data'!I617","v":0},{"$f":"'12.2018 Data'!J617","v":0},"923",80.11,80.11,0,0,0,{"$f":"IF(ISNUMBER(MATCH($B637,'Org functional rollups'!$A:$A,0)),INDEX('Org functional rollups'!$D:$D,MATCH($B637,'Org functional rollups'!$A:$A,0)),0)","v":"Common"}]
[{"$f":"'12.2018 Data'!A618","v":"923000"},{"$f":"'12.2018 Data'!B618","v":"Z90"},{"$f":"'12.2018 Data'!C618","v":"CD"},{"$f":"'12.2018 Data'!D618","v":"AN"},{"$f":"'12.2018 Data'!E618","v":"OPER"},{"$f":"'12.2018 Data'!F618","v":1.33},{"$f":"'12.2018 Data'!G618","v":1.03},{"$f":"'12.2018 Data'!H618","v":0.3},{"$f":"'12.2018 Data'!I618","v":0},{"$f":"'12.2018 Data'!J618","v":0},"923",1.33,1.03,0.3,0,0,{"$f":"IF(ISNUMBER(MATCH($B638,'Org functional rollups'!$A:$A,0)),INDEX('Org functional rollups'!$D:$D,MATCH($B638,'Org functional rollups'!$A:$A,0)),0)","v":"Common"}]
[{"$f":"'12.2018 Data'!A619","v":"923000"},{"$f":"'12.2018 Data'!B619","v":"Z90"},{"$f":"'12.2018 Data'!C619","v":"CD"},{"$f":"'12.2018 Data'!D619","v":"AA"},{"$f":"'12.2018 Data'!E619","v":"OPER"},{"$f":"'12.2018 Data'!F619","v":3797.7},{"$f":"'12.2018 Data'!G619","v":2663.53},{"$f":"'12.2018 Data'!H619","v":780.42},{"$f":"'12.2018 Data'!I619","v":353.75},{"$f":"'12.2018 Data'!J619","v":0},"923",3797.7,2663.53,780.42,353.75,0,{"$f":"IF(ISNUMBER(MATCH($B639,'Org functional rollups'!$A:$A,0)),INDEX('Org functional rollups'!$D:$D,MATCH($B639,'Org functional rollups'!$A:$A,0)),0)","v":"Common"}]
[{"$f":"'12.2018 Data'!A620","v":"924000"},{"$f":"'12.2018 Data'!B620","v":"000"},{"$f":"'12.2018 Data'!C620","v":"CD"},{"$f":"'12.2018 Data'!D620","v":"AA"},{"$f":"'12.2018 Data'!E620","v":"OPER"},{"$f":"'12.2018 Data'!F620","v":209.57},{"$f":"'12.2018 Data'!G620","v":146.97999999999999},{"$f":"'12.2018 Data'!H620","v":43.06},{"$f":"'12.2018 Data'!I620","v":19.53},{"$f":"'12.2018 Data'!J620","v":0},"924",209.57,146.97999999999999,43.06,19.53,0,{"$f":"IF(ISNUMBER(MATCH($B640,'Org functional rollups'!$A:$A,0)),INDEX('Org functional rollups'!$D:$D,MATCH($B640,'Org functional rollups'!$A:$A,0)),0)","v":"Common"}]
[{"$f":"'12.2018 Data'!A621","v":"924000"},{"$f":"'12.2018 Data'!B621","v":"R56"},{"$f":"'12.2018 Data'!C621","v":"ED"},{"$f":"'12.2018 Data'!D621","v":"AN"},{"$f":"'12.2018 Data'!E621","v":"OPER"},{"$f":"'12.2018 Data'!F621","v":255443.88},{"$f":"'12.2018 Data'!G621","v":255443.88},{"$f":"'12.2018 Data'!H621","v":0},{"$f":"'12.2018 Data'!I621","v":0},{"$f":"'12.2018 Data'!J621","v":0},"924",{"$f":"IF(ISNUMBER(F641),F641,0)","v":255443.88},{"$f":"IF(ISNUMBER(G641),G641,0)","v":255443.88},{"$f":"IF(ISNUMBER(H641),H641,0)","v":0},{"$f":"IF(ISNUMBER(I641),I641,0)","v":0},{"$f":"IF(ISNUMBER(J641),J641,0)","v":0},{"$f":"IF(ISNUMBER(MATCH($B641,'Org functional rollups'!$A:$A,0)),INDEX('Org functional rollups'!$D:$D,MATCH($B641,'Org functional rollups'!$A:$A,0)),0)","v":"Common"}]
[{"$f":"'12.2018 Data'!A622","v":"924000"},{"$f":"'12.2018 Data'!B622","v":"R56"},{"$f":"'12.2018 Data'!C622","v":"CD"},{"$f":"'12.2018 Data'!D622","v":"AA"},{"$f":"'12.2018 Data'!E622","v":"OPER"},{"$f":"'12.2018 Data'!F622","v":1487495.04},{"$f":"'12.2018 Data'!G622","v":1043254.63},{"$f":"'12.2018 Data'!H622","v":305665.33},{"$f":"'12.2018 Data'!I622","v":138575.07999999999},{"$f":"'12.2018 Data'!J622","v":0},"924",1487495.04,1043254.63,305665.33,138575.07999999999,0,{"$f":"IF(ISNUMBER(MATCH($B642,'Org functional rollups'!$A:$A,0)),INDEX('Org functional rollups'!$D:$D,MATCH($B642,'Org functional rollups'!$A:$A,0)),0)","v":"Common"}]
[{"$f":"'12.2018 Data'!A623","v":"924000"},{"$f":"'12.2018 Data'!B623","v":"R56"},{"$f":"'12.2018 Data'!C623","v":"GD"},{"$f":"'12.2018 Data'!D623","v":"AA"},{"$f":"'12.2018 Data'!E623","v":"OPER"},{"$f":"'12.2018 Data'!F623","v":11384.83},{"$f":"'12.2018 Data'!G623","v":0},{"$f":"'12.2018 Data'!H623","v":7805.67},{"$f":"'12.2018 Data'!I623","v":3579.16},{"$f":"'12.2018 Data'!J623","v":0},"924",11384.83,0,7805.67,3579.16,0,{"$f":"IF(ISNUMBER(MATCH($B643,'Org functional rollups'!$A:$A,0)),INDEX('Org functional rollups'!$D:$D,MATCH($B643,'Org functional rollups'!$A:$A,0)),0)","v":"Common"}]
[{"$f":"'12.2018 Data'!A624","v":"924000"},{"$f":"'12.2018 Data'!B624","v":"Z57"},{"$f":"'12.2018 Data'!C624","v":"CD"},{"$f":"'12.2018 Data'!D624","v":"AA"},{"$f":"'12.2018 Data'!E624","v":"OPER"},{"$f":"'12.2018 Data'!F624","v":-24775.1},{"$f":"'12.2018 Data'!G624","v":-17376.02},{"$f":"'12.2018 Data'!H624","v":-5091.04},{"$f":"'12.2018 Data'!I624","v":-2308.04},{"$f":"'12.2018 Data'!J624","v":0},"924",-24775.1,-17376.02,-5091.04,-2308.04,0,{"$f":"IF(ISNUMBER(MATCH($B644,'Org functional rollups'!$A:$A,0)),INDEX('Org functional rollups'!$D:$D,MATCH($B644,'Org functional rollups'!$A:$A,0)),0)","v":"Common"}]
[{"$f":"'12.2018 Data'!A625","v":"925100"},{"$f":"'12.2018 Data'!B625","v":"000"},{"$f":"'12.2018 Data'!C625","v":"CD"},{"$f":"'12.2018 Data'!D625","v":"AA"},{"$f":"'12.2018 Data'!E625","v":"OPER"},{"$f":"'12.2018 Data'!F625","v":3772.34},{"$f":"'12.2018 Data'!G625","v":2645.73},{"$f":"'12.2018 Data'!H625","v":775.18},{"$f":"'12.2018 Data'!I625","v":351.43},{"$f":"'12.2018 Data'!J625","v":0},"925",3772.34,2645.73,775.18,351.43,0,{"$f":"IF(ISNUMBER(MATCH($B645,'Org functional rollups'!$A:$A,0)),INDEX('Org functional rollups'!$D:$D,MATCH($B645,'Org functional rollups'!$A:$A,0)),0)","v":"Common"}]
[{"$f":"'12.2018 Data'!A626","v":"925100"},{"$f":"'12.2018 Data'!B626","v":"000"},{"$f":"'12.2018 Data'!C626","v":"CD"},{"$f":"'12.2018 Data'!D626","v":"AN"},{"$f":"'12.2018 Data'!E626","v":"OPER"},{"$f":"'12.2018 Data'!F626","v":4.8499999999999996},{"$f":"'12.2018 Data'!G626","v":3.77},{"$f":"'12.2018 Data'!H626","v":1.08},{"$f":"'12.2018 Data'!I626","v":0},{"$f":"'12.2018 Data'!J626","v":0},"925",4.8499999999999996,3.77,1.08,0,0,{"$f":"IF(ISNUMBER(MATCH($B646,'Org functional rollups'!$A:$A,0)),INDEX('Org functional rollups'!$D:$D,MATCH($B646,'Org functional rollups'!$A:$A,0)),0)","v":"Common"}]
[{"$f":"'12.2018 Data'!A627","v":"925100"},{"$f":"'12.2018 Data'!B627","v":"000"},{"$f":"'12.2018 Data'!C627","v":"CD"},{"$f":"'12.2018 Data'!D627","v":"ID"},{"$f":"'12.2018 Data'!E627","v":"OPER"},{"$f":"'12.2018 Data'!F627","v":419.15},{"$f":"'12.2018 Data'!G627","v":325.74},{"$f":"'12.2018 Data'!H627","v":93.41},{"$f":"'12.2018 Data'!I627","v":0},{"$f":"'12.2018 Data'!J627","v":0},"925",419.15,325.74,93.41,0,0,{"$f":"IF(ISNUMBER(MATCH($B647,'Org functional rollups'!$A:$A,0)),INDEX('Org functional rollups'!$D:$D,MATCH($B647,'Org functional rollups'!$A:$A,0)),0)","v":"Common"}]
[{"$f":"'12.2018 Data'!A628","v":"925100"},{"$f":"'12.2018 Data'!B628","v":"000"},{"$f":"'12.2018 Data'!C628","v":"ED"},{"$f":"'12.2018 Data'!D628","v":"AN"},{"$f":"'12.2018 Data'!E628","v":"OPER"},{"$f":"'12.2018 Data'!F628","v":1163.02},{"$f":"'12.2018 Data'!G628","v":1163.02},{"$f":"'12.2018 Data'!H628","v":0},{"$f":"'12.2018 Data'!I628","v":0},{"$f":"'12.2018 Data'!J628","v":0},"925",1163.02,1163.02,0,0,0,{"$f":"IF(ISNUMBER(MATCH($B648,'Org functional rollups'!$A:$A,0)),INDEX('Org functional rollups'!$D:$D,MATCH($B648,'Org functional rollups'!$A:$A,0)),0)","v":"Common"}]
[{"$f":"'12.2018 Data'!A629","v":"925100"},{"$f":"'12.2018 Data'!B629","v":"000"},{"$f":"'12.2018 Data'!C629","v":"CD"},{"$f":"'12.2018 Data'!D629","v":"WA"},{"$f":"'12.2018 Data'!E629","v":"OPER"},{"$f":"'12.2018 Data'!F629","v":523.94000000000005},{"$f":"'12.2018 Data'!G629","v":407.18},{"$f":"'12.2018 Data'!H629","v":116.76},{"$f":"'12.2018 Data'!I629","v":0},{"$f":"'12.2018 Data'!J629","v":0},"925",523.94000000000005,407.18,116.76,0,0,{"$f":"IF(ISNUMBER(MATCH($B649,'Org functional rollups'!$A:$A,0)),INDEX('Org functional rollups'!$D:$D,MATCH($B649,'Org functional rollups'!$A:$A,0)),0)","v":"Common"}]
[{"$f":"'12.2018 Data'!A630","v":"925100"},{"$f":"'12.2018 Data'!B630","v":"L51"},{"$f":"'12.2018 Data'!C630","v":"CD"},{"$f":"'12.2018 Data'!D630","v":"AN"},{"$f":"'12.2018 Data'!E630","v":"OPER"},{"$f":"'12.2018 Data'!F630","v":170.06},{"$f":"'12.2018 Data'!G630","v":132.16},{"$f":"'12.2018 Data'!H630","v":37.9},{"$f":"'12.2018 Data'!I630","v":0},{"$f":"'12.2018 Data'!J630","v":0},"925",170.06,132.16,37.9,0,0,{"$f":"IF(ISNUMBER(MATCH($B650,'Org functional rollups'!$A:$A,0)),INDEX('Org functional rollups'!$D:$D,MATCH($B650,'Org functional rollups'!$A:$A,0)),0)","v":"Common"}]
[{"$f":"'12.2018 Data'!A631","v":"925100"},{"$f":"'12.2018 Data'!B631","v":"L51"},{"$f":"'12.2018 Data'!C631","v":"GD"},{"$f":"'12.2018 Data'!D631","v":"OR"},{"$f":"'12.2018 Data'!E631","v":"OPER"},{"$f":"'12.2018 Data'!F631","v":786.17},{"$f":"'12.2018 Data'!G631","v":0},{"$f":"'12.2018 Data'!H631","v":0},{"$f":"'12.2018 Data'!I631","v":786.17},{"$f":"'12.2018 Data'!J631","v":0},"925",786.17,0,0,786.17,0,{"$f":"IF(ISNUMBER(MATCH($B651,'Org functional rollups'!$A:$A,0)),INDEX('Org functional rollups'!$D:$D,MATCH($B651,'Org functional rollups'!$A:$A,0)),0)","v":"Common"}]
[{"$f":"'12.2018 Data'!A632","v":"925100"},{"$f":"'12.2018 Data'!B632","v":"L51"},{"$f":"'12.2018 Data'!C632","v":"ED"},{"$f":"'12.2018 Data'!D632","v":"AN"},{"$f":"'12.2018 Data'!E632","v":"OPER"},{"$f":"'12.2018 Data'!F632","v":815.96},{"$f":"'12.2018 Data'!G632","v":815.96},{"$f":"'12.2018 Data'!H632","v":0},{"$f":"'12.2018 Data'!I632","v":0},{"$f":"'12.2018 Data'!J632","v":0},"925",815.96,815.96,0,0,0,{"$f":"IF(ISNUMBER(MATCH($B652,'Org functional rollups'!$A:$A,0)),INDEX('Org functional rollups'!$D:$D,MATCH($B652,'Org functional rollups'!$A:$A,0)),0)","v":"Common"}]
[{"$f":"'12.2018 Data'!A633","v":"925100"},{"$f":"'12.2018 Data'!B633","v":"L52"},{"$f":"'12.2018 Data'!C633","v":"GD"},{"$f":"'12.2018 Data'!D633","v":"AN"},{"$f":"'12.2018 Data'!E633","v":"OPER"},{"$f":"'12.2018 Data'!F633","v":61471.86},{"$f":"'12.2018 Data'!G633","v":0},{"$f":"'12.2018 Data'!H633","v":61471.86},{"$f":"'12.2018 Data'!I633","v":0},{"$f":"'12.2018 Data'!J633","v":0},"925",61471.86,0,61471.86,0,0,{"$f":"IF(ISNUMBER(MATCH($B653,'Org functional rollups'!$A:$A,0)),INDEX('Org functional rollups'!$D:$D,MATCH($B653,'Org functional rollups'!$A:$A,0)),0)","v":"Common"}]
[{"$f":"'12.2018 Data'!A634","v":"925100"},{"$f":"'12.2018 Data'!B634","v":"L52"},{"$f":"'12.2018 Data'!C634","v":"CD"},{"$f":"'12.2018 Data'!D634","v":"AN"},{"$f":"'12.2018 Data'!E634","v":"OPER"},{"$f":"'12.2018 Data'!F634","v":3041.48},{"$f":"'12.2018 Data'!G634","v":2363.69},{"$f":"'12.2018 Data'!H634","v":677.79},{"$f":"'12.2018 Data'!I634","v":0},{"$f":"'12.2018 Data'!J634","v":0},"925",3041.48,2363.69,677.79,0,0,{"$f":"IF(ISNUMBER(MATCH($B654,'Org functional rollups'!$A:$A,0)),INDEX('Org functional rollups'!$D:$D,MATCH($B654,'Org functional rollups'!$A:$A,0)),0)","v":"Common"}]
[{"$f":"'12.2018 Data'!A635","v":"925100"},{"$f":"'12.2018 Data'!B635","v":"L52"},{"$f":"'12.2018 Data'!C635","v":"ED"},{"$f":"'12.2018 Data'!D635","v":"AN"},{"$f":"'12.2018 Data'!E635","v":"OPER"},{"$f":"'12.2018 Data'!F635","v":617389.18999999994},{"$f":"'12.2018 Data'!G635","v":617389.18999999994},{"$f":"'12.2018 Data'!H635","v":0},{"$f":"'12.2018 Data'!I635","v":0},{"$f":"'12.2018 Data'!J635","v":0},"925",617389.18999999994,617389.18999999994,0,0,0,{"$f":"IF(ISNUMBER(MATCH($B655,'Org functional rollups'!$A:$A,0)),INDEX('Org functional rollups'!$D:$D,MATCH($B655,'Org functional rollups'!$A:$A,0)),0)","v":"Common"}]
[{"$f":"'12.2018 Data'!A636","v":"925100"},{"$f":"'12.2018 Data'!B636","v":"L52"},{"$f":"'12.2018 Data'!C636","v":"GD"},{"$f":"'12.2018 Data'!D636","v":"OR"},{"$f":"'12.2018 Data'!E636","v":"OPER"},{"$f":"'12.2018 Data'!F636","v":83510.990000000005},{"$f":"'12.2018 Data'!G636","v":0},{"$f":"'12.2018 Data'!H636","v":0},{"$f":"'12.2018 Data'!I636","v":83510.990000000005},{"$f":"'12.2018 Data'!J636","v":0},"925",83510.990000000005,0,0,83510.990000000005,0,{"$f":"IF(ISNUMBER(MATCH($B656,'Org functional rollups'!$A:$A,0)),INDEX('Org functional rollups'!$D:$D,MATCH($B656,'Org functional rollups'!$A:$A,0)),0)","v":"Common"}]
[{"$f":"'12.2018 Data'!A637","v":"925100"},{"$f":"'12.2018 Data'!B637","v":"L53"},{"$f":"'12.2018 Data'!C637","v":"ED"},{"$f":"'12.2018 Data'!D637","v":"AN"},{"$f":"'12.2018 Data'!E637","v":"OPER"},{"$f":"'12.2018 Data'!F637","v":85},{"$f":"'12.2018 Data'!G637","v":85},{"$f":"'12.2018 Data'!H637","v":0},{"$f":"'12.2018 Data'!I637","v":0},{"$f":"'12.2018 Data'!J637","v":0},"925",85,85,0,0,0,{"$f":"IF(ISNUMBER(MATCH($B657,'Org functional rollups'!$A:$A,0)),INDEX('Org functional rollups'!$D:$D,MATCH($B657,'Org functional rollups'!$A:$A,0)),0)","v":"Distribution"}]
[{"$f":"'12.2018 Data'!A638","v":"925100"},{"$f":"'12.2018 Data'!B638","v":"R54"},{"$f":"'12.2018 Data'!C638","v":"CD"},{"$f":"'12.2018 Data'!D638","v":"AA"},{"$f":"'12.2018 Data'!E638","v":"OPER"},{"$f":"'12.2018 Data'!F638","v":586.17999999999995},{"$f":"'12.2018 Data'!G638","v":411.12},{"$f":"'12.2018 Data'!H638","v":120.46},{"$f":"'12.2018 Data'!I638","v":54.6},{"$f":"'12.2018 Data'!J638","v":0},"925",586.17999999999995,411.12,120.46,54.6,0,{"$f":"IF(ISNUMBER(MATCH($B658,'Org functional rollups'!$A:$A,0)),INDEX('Org functional rollups'!$D:$D,MATCH($B658,'Org functional rollups'!$A:$A,0)),0)","v":"Common"}]
[{"$f":"'12.2018 Data'!A639","v":"925100"},{"$f":"'12.2018 Data'!B639","v":"R56"},{"$f":"'12.2018 Data'!C639","v":"CD"},{"$f":"'12.2018 Data'!D639","v":"AA"},{"$f":"'12.2018 Data'!E639","v":"OPER"},{"$f":"'12.2018 Data'!F639","v":3776605.74},{"$f":"'12.2018 Data'!G639","v":2648722.5},{"$f":"'12.2018 Data'!H639","v":776054.7},{"$f":"'12.2018 Data'!I639","v":351828.54},{"$f":"'12.2018 Data'!J639","v":0},"925",3776605.74,2648722.5,776054.7,351828.54,0,{"$f":"IF(ISNUMBER(MATCH($B659,'Org functional rollups'!$A:$A,0)),INDEX('Org functional rollups'!$D:$D,MATCH($B659,'Org functional rollups'!$A:$A,0)),0)","v":"Common"}]
[{"$f":"'12.2018 Data'!A640","v":"925100"},{"$f":"'12.2018 Data'!B640","v":"R56"},{"$f":"'12.2018 Data'!C640","v":"ED"},{"$f":"'12.2018 Data'!D640","v":"AN"},{"$f":"'12.2018 Data'!E640","v":"OPER"},{"$f":"'12.2018 Data'!F640","v":47499.98},{"$f":"'12.2018 Data'!G640","v":47499.98},{"$f":"'12.2018 Data'!H640","v":0},{"$f":"'12.2018 Data'!I640","v":0},{"$f":"'12.2018 Data'!J640","v":0},"925",47499.98,47499.98,0,0,0,{"$f":"IF(ISNUMBER(MATCH($B660,'Org functional rollups'!$A:$A,0)),INDEX('Org functional rollups'!$D:$D,MATCH($B660,'Org functional rollups'!$A:$A,0)),0)","v":"Common"}]
[{"$f":"'12.2018 Data'!A641","v":"925100"},{"$f":"'12.2018 Data'!B641","v":"R56"},{"$f":"'12.2018 Data'!C641","v":"CD"},{"$f":"'12.2018 Data'!D641","v":"WA"},{"$f":"'12.2018 Data'!E641","v":"OPER"},{"$f":"'12.2018 Data'!F641","v":200},{"$f":"'12.2018 Data'!G641","v":155.44},{"$f":"'12.2018 Data'!H641","v":44.56},{"$f":"'12.2018 Data'!I641","v":0},{"$f":"'12.2018 Data'!J641","v":0},"925",200,155.44,44.56,0,0,{"$f":"IF(ISNUMBER(MATCH($B661,'Org functional rollups'!$A:$A,0)),INDEX('Org functional rollups'!$D:$D,MATCH($B661,'Org functional rollups'!$A:$A,0)),0)","v":"Common"}]
[{"$f":"'12.2018 Data'!A642","v":"925100"},{"$f":"'12.2018 Data'!B642","v":"R56"},{"$f":"'12.2018 Data'!C642","v":"CD"},{"$f":"'12.2018 Data'!D642","v":"ID"},{"$f":"'12.2018 Data'!E642","v":"OPER"},{"$f":"'12.2018 Data'!F642","v":200},{"$f":"'12.2018 Data'!G642","v":155.44},{"$f":"'12.2018 Data'!H642","v":44.56},{"$f":"'12.2018 Data'!I642","v":0},{"$f":"'12.2018 Data'!J642","v":0},"925",200,155.44,44.56,0,0,{"$f":"IF(ISNUMBER(MATCH($B662,'Org functional rollups'!$A:$A,0)),INDEX('Org functional rollups'!$D:$D,MATCH($B662,'Org functional rollups'!$A:$A,0)),0)","v":"Common"}]
[{"$f":"'12.2018 Data'!A643","v":"925100"},{"$f":"'12.2018 Data'!B643","v":"S51"},{"$f":"'12.2018 Data'!C643","v":"CD"},{"$f":"'12.2018 Data'!D643","v":"AA"},{"$f":"'12.2018 Data'!E643","v":"OPER"},{"$f":"'12.2018 Data'!F643","v":55.68},{"$f":"'12.2018 Data'!G643","v":39.049999999999997},{"$f":"'12.2018 Data'!H643","v":11.45},{"$f":"'12.2018 Data'!I643","v":5.18},{"$f":"'12.2018 Data'!J643","v":0},{"$f":"LEFT(A663,3)","v":"925"},55.68,39.049999999999997,11.45,5.18,0,{"$f":"IF(ISNUMBER(MATCH($B663,'Org functional rollups'!$A:$A,0)),INDEX('Org functional rollups'!$D:$D,MATCH($B663,'Org functional rollups'!$A:$A,0)),0)","v":"Common"}]
[{"$f":"'12.2018 Data'!A644","v":"926100"},{"$f":"'12.2018 Data'!B644","v":"000"},{"$f":"'12.2018 Data'!C644","v":"GD"},{"$f":"'12.2018 Data'!D644","v":"AA"},{"$f":"'12.2018 Data'!E644","v":"OPER"},{"$f":"'12.2018 Data'!F644","v":116.13},{"$f":"'12.2018 Data'!G644","v":0},{"$f":"'12.2018 Data'!H644","v":79.62},{"$f":"'12.2018 Data'!I644","v":36.51},{"$f":"'12.2018 Data'!J644","v":0},"926",116.13,0,79.62,36.51,0,{"$f":"IF(ISNUMBER(MATCH($B664,'Org functional rollups'!$A:$A,0)),INDEX('Org functional rollups'!$D:$D,MATCH($B664,'Org functional rollups'!$A:$A,0)),0)","v":"Common"}]
[{"$f":"'12.2018 Data'!A645","v":"926100"},{"$f":"'12.2018 Data'!B645","v":"000"},{"$f":"'12.2018 Data'!C645","v":"CD"},{"$f":"'12.2018 Data'!D645","v":"AN"},{"$f":"'12.2018 Data'!E645","v":"OPER"},{"$f":"'12.2018 Data'!F645","v":0.89},{"$f":"'12.2018 Data'!G645","v":0.69},{"$f":"'12.2018 Data'!H645","v":0.2},{"$f":"'12.2018 Data'!I645","v":0},{"$f":"'12.2018 Data'!J645","v":0},"926",0.89,0.69,0.2,0,0,{"$f":"IF(ISNUMBER(MATCH($B665,'Org functional rollups'!$A:$A,0)),INDEX('Org functional rollups'!$D:$D,MATCH($B665,'Org functional rollups'!$A:$A,0)),0)","v":"Common"}]
[{"$f":"'12.2018 Data'!A646","v":"926100"},{"$f":"'12.2018 Data'!B646","v":"000"},{"$f":"'12.2018 Data'!C646","v":"ED"},{"$f":"'12.2018 Data'!D646","v":"AN"},{"$f":"'12.2018 Data'!E646","v":"OPER"},{"$f":"'12.2018 Data'!F646","v":10.7},{"$f":"'12.2018 Data'!G646","v":10.7},{"$f":"'12.2018 Data'!H646","v":0},{"$f":"'12.2018 Data'!I646","v":0},{"$f":"'12.2018 Data'!J646","v":0},"926",10.7,10.7,0,0,0,{"$f":"IF(ISNUMBER(MATCH($B666,'Org functional rollups'!$A:$A,0)),INDEX('Org functional rollups'!$D:$D,MATCH($B666,'Org functional rollups'!$A:$A,0)),0)","v":"Common"}]
[{"$f":"'12.2018 Data'!A647","v":"926100"},{"$f":"'12.2018 Data'!B647","v":"000"},{"$f":"'12.2018 Data'!C647","v":"CD"},{"$f":"'12.2018 Data'!D647","v":"AA"},{"$f":"'12.2018 Data'!E647","v":"OPER"},{"$f":"'12.2018 Data'!F647","v":9198.51},{"$f":"'12.2018 Data'!G647","v":6451.37},{"$f":"'12.2018 Data'!H647","v":1890.2},{"$f":"'12.2018 Data'!I647","v":856.94},{"$f":"'12.2018 Data'!J647","v":0},"926",9198.51,6451.37,1890.2,856.94,0,{"$f":"IF(ISNUMBER(MATCH($B667,'Org functional rollups'!$A:$A,0)),INDEX('Org functional rollups'!$D:$D,MATCH($B667,'Org functional rollups'!$A:$A,0)),0)","v":"Common"}]
[{"$f":"'12.2018 Data'!A648","v":"926100"},{"$f":"'12.2018 Data'!B648","v":"A02"},{"$f":"'12.2018 Data'!C648","v":"CD"},{"$f":"'12.2018 Data'!D648","v":"AA"},{"$f":"'12.2018 Data'!E648","v":"OPER"},{"$f":"'12.2018 Data'!F648","v":14733.02},{"$f":"'12.2018 Data'!G648","v":10333.049999999999},{"$f":"'12.2018 Data'!H648","v":3027.48},{"$f":"'12.2018 Data'!I648","v":1372.49},{"$f":"'12.2018 Data'!J648","v":0},"926",14733.02,10333.049999999999,3027.48,1372.49,0,{"$f":"IF(ISNUMBER(MATCH($B668,'Org functional rollups'!$A:$A,0)),INDEX('Org functional rollups'!$D:$D,MATCH($B668,'Org functional rollups'!$A:$A,0)),0)","v":"Common"}]
[{"$f":"'12.2018 Data'!A649","v":"926100"},{"$f":"'12.2018 Data'!B649","v":"A07"},{"$f":"'12.2018 Data'!C649","v":"CD"},{"$f":"'12.2018 Data'!D649","v":"AA"},{"$f":"'12.2018 Data'!E649","v":"OPER"},{"$f":"'12.2018 Data'!F649","v":1570.99},{"$f":"'12.2018 Data'!G649","v":1101.81},{"$f":"'12.2018 Data'!H649","v":322.83},{"$f":"'12.2018 Data'!I649","v":146.35},{"$f":"'12.2018 Data'!J649","v":0},"926",1570.99,1101.81,322.83,146.35,0,{"$f":"IF(ISNUMBER(MATCH($B669,'Org functional rollups'!$A:$A,0)),INDEX('Org functional rollups'!$D:$D,MATCH($B669,'Org functional rollups'!$A:$A,0)),0)","v":"Production"}]
[{"$f":"'12.2018 Data'!A650","v":"926100"},{"$f":"'12.2018 Data'!B650","v":"A19"},{"$f":"'12.2018 Data'!C650","v":"CD"},{"$f":"'12.2018 Data'!D650","v":"AA"},{"$f":"'12.2018 Data'!E650","v":"OPER"},{"$f":"'12.2018 Data'!F650","v":5856.43},{"$f":"'12.2018 Data'!G650","v":4107.38},{"$f":"'12.2018 Data'!H650","v":1203.44},{"$f":"'12.2018 Data'!I650","v":545.61},{"$f":"'12.2018 Data'!J650","v":0},"926",5856.43,4107.38,1203.44,545.61,0,{"$f":"IF(ISNUMBER(MATCH($B670,'Org functional rollups'!$A:$A,0)),INDEX('Org functional rollups'!$D:$D,MATCH($B670,'Org functional rollups'!$A:$A,0)),0)","v":"Common"}]
[{"$f":"'12.2018 Data'!A651","v":"926100"},{"$f":"'12.2018 Data'!B651","v":"A39"},{"$f":"'12.2018 Data'!C651","v":"CD"},{"$f":"'12.2018 Data'!D651","v":"AA"},{"$f":"'12.2018 Data'!E651","v":"OPER"},{"$f":"'12.2018 Data'!F651","v":4392.88},{"$f":"'12.2018 Data'!G651","v":3080.95},{"$f":"'12.2018 Data'!H651","v":902.68},{"$f":"'12.2018 Data'!I651","v":409.25},{"$f":"'12.2018 Data'!J651","v":0},"926",4392.88,3080.95,902.68,409.25,0,{"$f":"IF(ISNUMBER(MATCH($B671,'Org functional rollups'!$A:$A,0)),INDEX('Org functional rollups'!$D:$D,MATCH($B671,'Org functional rollups'!$A:$A,0)),0)","v":"Common"}]
[{"$f":"'12.2018 Data'!A652","v":"926100"},{"$f":"'12.2018 Data'!B652","v":"A50"},{"$f":"'12.2018 Data'!C652","v":"CD"},{"$f":"'12.2018 Data'!D652","v":"AA"},{"$f":"'12.2018 Data'!E652","v":"OPER"},{"$f":"'12.2018 Data'!F652","v":1191.71},{"$f":"'12.2018 Data'!G652","v":835.81},{"$f":"'12.2018 Data'!H652","v":244.88},{"$f":"'12.2018 Data'!I652","v":111.02},{"$f":"'12.2018 Data'!J652","v":0},"926",1191.71,835.81,244.88,111.02,0,{"$f":"IF(ISNUMBER(MATCH($B672,'Org functional rollups'!$A:$A,0)),INDEX('Org functional rollups'!$D:$D,MATCH($B672,'Org functional rollups'!$A:$A,0)),0)","v":"Common"}]
[{"$f":"'12.2018 Data'!A653","v":"926100"},{"$f":"'12.2018 Data'!B653","v":"A53"},{"$f":"'12.2018 Data'!C653","v":"CD"},{"$f":"'12.2018 Data'!D653","v":"AA"},{"$f":"'12.2018 Data'!E653","v":"OPER"},{"$f":"'12.2018 Data'!F653","v":3200},{"$f":"'12.2018 Data'!G653","v":2244.3200000000002},{"$f":"'12.2018 Data'!H653","v":657.57},{"$f":"'12.2018 Data'!I653","v":298.11},{"$f":"'12.2018 Data'!J653","v":0},"926",3200,2244.3200000000002,657.57,298.11,0,{"$f":"IF(ISNUMBER(MATCH($B673,'Org functional rollups'!$A:$A,0)),INDEX('Org functional rollups'!$D:$D,MATCH($B673,'Org functional rollups'!$A:$A,0)),0)","v":"Common"}]
[{"$f":"'12.2018 Data'!A654","v":"926100"},{"$f":"'12.2018 Data'!B654","v":"A54"},{"$f":"'12.2018 Data'!C654","v":"CD"},{"$f":"'12.2018 Data'!D654","v":"AA"},{"$f":"'12.2018 Data'!E654","v":"OPER"},{"$f":"'12.2018 Data'!F654","v":1822.65},{"$f":"'12.2018 Data'!G654","v":1278.31},{"$f":"'12.2018 Data'!H654","v":374.54},{"$f":"'12.2018 Data'!I654","v":169.8},{"$f":"'12.2018 Data'!J654","v":0},"926",1822.65,1278.31,374.54,169.8,0,{"$f":"IF(ISNUMBER(MATCH($B674,'Org functional rollups'!$A:$A,0)),INDEX('Org functional rollups'!$D:$D,MATCH($B674,'Org functional rollups'!$A:$A,0)),0)","v":"Customer"}]
[{"$f":"'12.2018 Data'!A655","v":"926100"},{"$f":"'12.2018 Data'!B655","v":"A56"},{"$f":"'12.2018 Data'!C655","v":"ED"},{"$f":"'12.2018 Data'!D655","v":"AN"},{"$f":"'12.2018 Data'!E655","v":"OPER"},{"$f":"'12.2018 Data'!F655","v":154.71},{"$f":"'12.2018 Data'!G655","v":154.71},{"$f":"'12.2018 Data'!H655","v":0},{"$f":"'12.2018 Data'!I655","v":0},{"$f":"'12.2018 Data'!J655","v":0},"926",154.71,154.71,0,0,0,{"$f":"IF(ISNUMBER(MATCH($B675,'Org functional rollups'!$A:$A,0)),INDEX('Org functional rollups'!$D:$D,MATCH($B675,'Org functional rollups'!$A:$A,0)),0)","v":"Transmission"}]
[{"$f":"'12.2018 Data'!A656","v":"926100"},{"$f":"'12.2018 Data'!B656","v":"A57"},{"$f":"'12.2018 Data'!C656","v":"CD"},{"$f":"'12.2018 Data'!D656","v":"AA"},{"$f":"'12.2018 Data'!E656","v":"OPER"},{"$f":"'12.2018 Data'!F656","v":31734.9},{"$f":"'12.2018 Data'!G656","v":22257.25},{"$f":"'12.2018 Data'!H656","v":6521.13},{"$f":"'12.2018 Data'!I656","v":2956.52},{"$f":"'12.2018 Data'!J656","v":0},"926",31734.9,22257.25,6521.13,2956.52,0,{"$f":"IF(ISNUMBER(MATCH($B676,'Org functional rollups'!$A:$A,0)),INDEX('Org functional rollups'!$D:$D,MATCH($B676,'Org functional rollups'!$A:$A,0)),0)","v":"Common"}]
[{"$f":"'12.2018 Data'!A657","v":"926100"},{"$f":"'12.2018 Data'!B657","v":"A81"},{"$f":"'12.2018 Data'!C657","v":"CD"},{"$f":"'12.2018 Data'!D657","v":"AA"},{"$f":"'12.2018 Data'!E657","v":"OPER"},{"$f":"'12.2018 Data'!F657","v":4024.36},{"$f":"'12.2018 Data'!G657","v":2822.52},{"$f":"'12.2018 Data'!H657","v":826.96},{"$f":"'12.2018 Data'!I657","v":374.88},{"$f":"'12.2018 Data'!J657","v":0},"926",4024.36,2822.52,826.96,374.88,0,{"$f":"IF(ISNUMBER(MATCH($B677,'Org functional rollups'!$A:$A,0)),INDEX('Org functional rollups'!$D:$D,MATCH($B677,'Org functional rollups'!$A:$A,0)),0)","v":"Distribution"}]
[{"$f":"'12.2018 Data'!A658","v":"926100"},{"$f":"'12.2018 Data'!B658","v":"A82"},{"$f":"'12.2018 Data'!C658","v":"CD"},{"$f":"'12.2018 Data'!D658","v":"AA"},{"$f":"'12.2018 Data'!E658","v":"OPER"},{"$f":"'12.2018 Data'!F658","v":1159.43},{"$f":"'12.2018 Data'!G658","v":813.18},{"$f":"'12.2018 Data'!H658","v":238.24},{"$f":"'12.2018 Data'!I658","v":108.01},{"$f":"'12.2018 Data'!J658","v":0},"926",1159.43,813.18,238.24,108.01,0,{"$f":"IF(ISNUMBER(MATCH($B678,'Org functional rollups'!$A:$A,0)),INDEX('Org functional rollups'!$D:$D,MATCH($B678,'Org functional rollups'!$A:$A,0)),0)","v":"Distribution"}]
[{"$f":"'12.2018 Data'!A659","v":"926100"},{"$f":"'12.2018 Data'!B659","v":"A83"},{"$f":"'12.2018 Data'!C659","v":"CD"},{"$f":"'12.2018 Data'!D659","v":"AA"},{"$f":"'12.2018 Data'!E659","v":"OPER"},{"$f":"'12.2018 Data'!F659","v":1260.56},{"$f":"'12.2018 Data'!G659","v":884.09},{"$f":"'12.2018 Data'!H659","v":259.02999999999997},{"$f":"'12.2018 Data'!I659","v":117.44},{"$f":"'12.2018 Data'!J659","v":0},"926",1260.56,884.09,259.02999999999997,117.44,0,{"$f":"IF(ISNUMBER(MATCH($B679,'Org functional rollups'!$A:$A,0)),INDEX('Org functional rollups'!$D:$D,MATCH($B679,'Org functional rollups'!$A:$A,0)),0)","v":"Distribution"}]
[{"$f":"'12.2018 Data'!A660","v":"926100"},{"$f":"'12.2018 Data'!B660","v":"B02"},{"$f":"'12.2018 Data'!C660","v":"CD"},{"$f":"'12.2018 Data'!D660","v":"AA"},{"$f":"'12.2018 Data'!E660","v":"OPER"},{"$f":"'12.2018 Data'!F660","v":303194.26},{"$f":"'12.2018 Data'!G660","v":212645.32},{"$f":"'12.2018 Data'!H660","v":62303.34},{"$f":"'12.2018 Data'!I660","v":28245.599999999999},{"$f":"'12.2018 Data'!J660","v":0},"926",303194.26,212645.32,62303.34,28245.599999999999,0,{"$f":"IF(ISNUMBER(MATCH($B680,'Org functional rollups'!$A:$A,0)),INDEX('Org functional rollups'!$D:$D,MATCH($B680,'Org functional rollups'!$A:$A,0)),0)","v":"Common"}]
[{"$f":"'12.2018 Data'!A661","v":"926100"},{"$f":"'12.2018 Data'!B661","v":"B07"},{"$f":"'12.2018 Data'!C661","v":"CD"},{"$f":"'12.2018 Data'!D661","v":"AA"},{"$f":"'12.2018 Data'!E661","v":"OPER"},{"$f":"'12.2018 Data'!F661","v":369.66},{"$f":"'12.2018 Data'!G661","v":259.26},{"$f":"'12.2018 Data'!H661","v":75.959999999999994},{"$f":"'12.2018 Data'!I661","v":34.44},{"$f":"'12.2018 Data'!J661","v":0},"926",369.66,259.26,75.959999999999994,34.44,0,{"$f":"IF(ISNUMBER(MATCH($B681,'Org functional rollups'!$A:$A,0)),INDEX('Org functional rollups'!$D:$D,MATCH($B681,'Org functional rollups'!$A:$A,0)),0)","v":"Production"}]
[{"$f":"'12.2018 Data'!A662","v":"926100"},{"$f":"'12.2018 Data'!B662","v":"B07"},{"$f":"'12.2018 Data'!C662","v":"ED"},{"$f":"'12.2018 Data'!D662","v":"AN"},{"$f":"'12.2018 Data'!E662","v":"OPER"},{"$f":"'12.2018 Data'!F662","v":17207.939999999999},{"$f":"'12.2018 Data'!G662","v":17207.939999999999},{"$f":"'12.2018 Data'!H662","v":0},{"$f":"'12.2018 Data'!I662","v":0},{"$f":"'12.2018 Data'!J662","v":0},"926",17207.939999999999,17207.939999999999,0,0,0,{"$f":"IF(ISNUMBER(MATCH($B682,'Org functional rollups'!$A:$A,0)),INDEX('Org functional rollups'!$D:$D,MATCH($B682,'Org functional rollups'!$A:$A,0)),0)","v":"Production"}]
[{"$f":"'12.2018 Data'!A663","v":"926100"},{"$f":"'12.2018 Data'!B663","v":"B08"},{"$f":"'12.2018 Data'!C663","v":"CD"},{"$f":"'12.2018 Data'!D663","v":"AA"},{"$f":"'12.2018 Data'!E663","v":"OPER"},{"$f":"'12.2018 Data'!F663","v":531.76},{"$f":"'12.2018 Data'!G663","v":372.96},{"$f":"'12.2018 Data'!H663","v":109.27},{"$f":"'12.2018 Data'!I663","v":49.53},{"$f":"'12.2018 Data'!J663","v":0},"926",531.76,372.96,109.27,49.53,0,{"$f":"IF(ISNUMBER(MATCH($B683,'Org functional rollups'!$A:$A,0)),INDEX('Org functional rollups'!$D:$D,MATCH($B683,'Org functional rollups'!$A:$A,0)),0)","v":"Customer"}]
[{"$f":"'12.2018 Data'!A664","v":"926100"},{"$f":"'12.2018 Data'!B664","v":"B09"},{"$f":"'12.2018 Data'!C664","v":"CD"},{"$f":"'12.2018 Data'!D664","v":"AA"},{"$f":"'12.2018 Data'!E664","v":"OPER"},{"$f":"'12.2018 Data'!F664","v":300},{"$f":"'12.2018 Data'!G664","v":210.41},{"$f":"'12.2018 Data'!H664","v":61.65},{"$f":"'12.2018 Data'!I664","v":27.94},{"$f":"'12.2018 Data'!J664","v":0},"926",300,210.41,61.65,27.94,0,{"$f":"IF(ISNUMBER(MATCH($B684,'Org functional rollups'!$A:$A,0)),INDEX('Org functional rollups'!$D:$D,MATCH($B684,'Org functional rollups'!$A:$A,0)),0)","v":"Common"}]
[{"$f":"'12.2018 Data'!A665","v":"926100"},{"$f":"'12.2018 Data'!B665","v":"B09"},{"$f":"'12.2018 Data'!C665","v":"ED"},{"$f":"'12.2018 Data'!D665","v":"AN"},{"$f":"'12.2018 Data'!E665","v":"OPER"},{"$f":"'12.2018 Data'!F665","v":412.56},{"$f":"'12.2018 Data'!G665","v":412.56},{"$f":"'12.2018 Data'!H665","v":0},{"$f":"'12.2018 Data'!I665","v":0},{"$f":"'12.2018 Data'!J665","v":0},"926",412.56,412.56,0,0,0,{"$f":"IF(ISNUMBER(MATCH($B685,'Org functional rollups'!$A:$A,0)),INDEX('Org functional rollups'!$D:$D,MATCH($B685,'Org functional rollups'!$A:$A,0)),0)","v":"Common"}]
[{"$f":"'12.2018 Data'!A666","v":"926100"},{"$f":"'12.2018 Data'!B666","v":"B09"},{"$f":"'12.2018 Data'!C666","v":"CD"},{"$f":"'12.2018 Data'!D666","v":"AN"},{"$f":"'12.2018 Data'!E666","v":"OPER"},{"$f":"'12.2018 Data'!F666","v":17194.91},{"$f":"'12.2018 Data'!G666","v":13363.03},{"$f":"'12.2018 Data'!H666","v":3831.88},{"$f":"'12.2018 Data'!I666","v":0},{"$f":"'12.2018 Data'!J666","v":0},"926",17194.91,13363.03,3831.88,0,0,{"$f":"IF(ISNUMBER(MATCH($B686,'Org functional rollups'!$A:$A,0)),INDEX('Org functional rollups'!$D:$D,MATCH($B686,'Org functional rollups'!$A:$A,0)),0)","v":"Common"}]
[{"$f":"'12.2018 Data'!A667","v":"926100"},{"$f":"'12.2018 Data'!B667","v":"B50"},{"$f":"'12.2018 Data'!C667","v":"CD"},{"$f":"'12.2018 Data'!D667","v":"AA"},{"$f":"'12.2018 Data'!E667","v":"OPER"},{"$f":"'12.2018 Data'!F667","v":118.05},{"$f":"'12.2018 Data'!G667","v":82.79},{"$f":"'12.2018 Data'!H667","v":24.26},{"$f":"'12.2018 Data'!I667","v":11},{"$f":"'12.2018 Data'!J667","v":0},"926",118.05,82.79,24.26,11,0,{"$f":"IF(ISNUMBER(MATCH($B687,'Org functional rollups'!$A:$A,0)),INDEX('Org functional rollups'!$D:$D,MATCH($B687,'Org functional rollups'!$A:$A,0)),0)","v":"Distribution"}]
[{"$f":"'12.2018 Data'!A668","v":"926100"},{"$f":"'12.2018 Data'!B668","v":"B50"},{"$f":"'12.2018 Data'!C668","v":"ED"},{"$f":"'12.2018 Data'!D668","v":"AN"},{"$f":"'12.2018 Data'!E668","v":"OPER"},{"$f":"'12.2018 Data'!F668","v":6137.16},{"$f":"'12.2018 Data'!G668","v":6137.16},{"$f":"'12.2018 Data'!H668","v":0},{"$f":"'12.2018 Data'!I668","v":0},{"$f":"'12.2018 Data'!J668","v":0},"926",6137.16,6137.16,0,0,0,{"$f":"IF(ISNUMBER(MATCH($B688,'Org functional rollups'!$A:$A,0)),INDEX('Org functional rollups'!$D:$D,MATCH($B688,'Org functional rollups'!$A:$A,0)),0)","v":"Distribution"}]
[{"$f":"'12.2018 Data'!A669","v":"926100"},{"$f":"'12.2018 Data'!B669","v":"B51"},{"$f":"'12.2018 Data'!C669","v":"CD"},{"$f":"'12.2018 Data'!D669","v":"AA"},{"$f":"'12.2018 Data'!E669","v":"OPER"},{"$f":"'12.2018 Data'!F669","v":2413.2199999999998},{"$f":"'12.2018 Data'!G669","v":1692.51},{"$f":"'12.2018 Data'!H669","v":495.89},{"$f":"'12.2018 Data'!I669","v":224.82},{"$f":"'12.2018 Data'!J669","v":0},"926",2413.2199999999998,1692.51,495.89,224.82,0,{"$f":"IF(ISNUMBER(MATCH($B689,'Org functional rollups'!$A:$A,0)),INDEX('Org functional rollups'!$D:$D,MATCH($B689,'Org functional rollups'!$A:$A,0)),0)","v":"Distribution"}]
[{"$f":"'12.2018 Data'!A670","v":"926100"},{"$f":"'12.2018 Data'!B670","v":"B51"},{"$f":"'12.2018 Data'!C670","v":"GD"},{"$f":"'12.2018 Data'!D670","v":"AA"},{"$f":"'12.2018 Data'!E670","v":"OPER"},{"$f":"'12.2018 Data'!F670","v":1468.89},{"$f":"'12.2018 Data'!G670","v":0},{"$f":"'12.2018 Data'!H670","v":1007.1},{"$f":"'12.2018 Data'!I670","v":461.79},{"$f":"'12.2018 Data'!J670","v":0},"926",1468.89,0,1007.1,461.79,0,{"$f":"IF(ISNUMBER(MATCH($B690,'Org functional rollups'!$A:$A,0)),INDEX('Org functional rollups'!$D:$D,MATCH($B690,'Org functional rollups'!$A:$A,0)),0)","v":"Distribution"}]
[{"$f":"'12.2018 Data'!A671","v":"926100"},{"$f":"'12.2018 Data'!B671","v":"B53"},{"$f":"'12.2018 Data'!C671","v":"CD"},{"$f":"'12.2018 Data'!D671","v":"AA"},{"$f":"'12.2018 Data'!E671","v":"OPER"},{"$f":"'12.2018 Data'!F671","v":1992.97},{"$f":"'12.2018 Data'!G671","v":1397.76},{"$f":"'12.2018 Data'!H671","v":409.53},{"$f":"'12.2018 Data'!I671","v":185.68},{"$f":"'12.2018 Data'!J671","v":0},"926",{"$f":"IF(ISNUMBER(F691),F691,0)","v":1992.97},{"$f":"IF(ISNUMBER(G691),G691,0)","v":1397.76},{"$f":"IF(ISNUMBER(H691),H691,0)","v":409.53},{"$f":"IF(ISNUMBER(I691),I691,0)","v":185.68},{"$f":"IF(ISNUMBER(J691),J691,0)","v":0},{"$f":"IF(ISNUMBER(MATCH($B691,'Org functional rollups'!$A:$A,0)),INDEX('Org functional rollups'!$D:$D,MATCH($B691,'Org functional rollups'!$A:$A,0)),0)","v":"Distribution"}]
[{"$f":"'12.2018 Data'!A672","v":"926100"},{"$f":"'12.2018 Data'!B672","v":"B53"},{"$f":"'12.2018 Data'!C672","v":"ED"},{"$f":"'12.2018 Data'!D672","v":"AN"},{"$f":"'12.2018 Data'!E672","v":"OPER"},{"$f":"'12.2018 Data'!F672","v":1189.73},{"$f":"'12.2018 Data'!G672","v":1189.73},{"$f":"'12.2018 Data'!H672","v":0},{"$f":"'12.2018 Data'!I672","v":0},{"$f":"'12.2018 Data'!J672","v":0},"926",1189.73,1189.73,0,0,0,{"$f":"IF(ISNUMBER(MATCH($B692,'Org functional rollups'!$A:$A,0)),INDEX('Org functional rollups'!$D:$D,MATCH($B692,'Org functional rollups'!$A:$A,0)),0)","v":"Distribution"}]
[{"$f":"'12.2018 Data'!A673","v":"926100"},{"$f":"'12.2018 Data'!B673","v":"B54"},{"$f":"'12.2018 Data'!C673","v":"CD"},{"$f":"'12.2018 Data'!D673","v":"AA"},{"$f":"'12.2018 Data'!E673","v":"OPER"},{"$f":"'12.2018 Data'!F673","v":254.28},{"$f":"'12.2018 Data'!G673","v":178.34},{"$f":"'12.2018 Data'!H673","v":52.25},{"$f":"'12.2018 Data'!I673","v":23.69},{"$f":"'12.2018 Data'!J673","v":0},"926",254.28,178.34,52.25,23.69,0,{"$f":"IF(ISNUMBER(MATCH($B693,'Org functional rollups'!$A:$A,0)),INDEX('Org functional rollups'!$D:$D,MATCH($B693,'Org functional rollups'!$A:$A,0)),0)","v":"Distribution"}]
[{"$f":"'12.2018 Data'!A674","v":"926100"},{"$f":"'12.2018 Data'!B674","v":"C04"},{"$f":"'12.2018 Data'!C674","v":"CD"},{"$f":"'12.2018 Data'!D674","v":"AA"},{"$f":"'12.2018 Data'!E674","v":"OPER"},{"$f":"'12.2018 Data'!F674","v":150},{"$f":"'12.2018 Data'!G674","v":105.2},{"$f":"'12.2018 Data'!H674","v":30.82},{"$f":"'12.2018 Data'!I674","v":13.98},{"$f":"'12.2018 Data'!J674","v":0},"926",150,105.2,30.82,13.98,0,{"$f":"IF(ISNUMBER(MATCH($B694,'Org functional rollups'!$A:$A,0)),INDEX('Org functional rollups'!$D:$D,MATCH($B694,'Org functional rollups'!$A:$A,0)),0)","v":"Production"}]
[{"$f":"'12.2018 Data'!A675","v":"926100"},{"$f":"'12.2018 Data'!B675","v":"C08"},{"$f":"'12.2018 Data'!C675","v":"CD"},{"$f":"'12.2018 Data'!D675","v":"AA"},{"$f":"'12.2018 Data'!E675","v":"OPER"},{"$f":"'12.2018 Data'!F675","v":14236.32},{"$f":"'12.2018 Data'!G675","v":9984.61},{"$f":"'12.2018 Data'!H675","v":2925.4},{"$f":"'12.2018 Data'!I675","v":1326.31},{"$f":"'12.2018 Data'!J675","v":0},"926",14236.32,9984.61,2925.4,1326.31,0,{"$f":"IF(ISNUMBER(MATCH($B695,'Org functional rollups'!$A:$A,0)),INDEX('Org functional rollups'!$D:$D,MATCH($B695,'Org functional rollups'!$A:$A,0)),0)","v":"Distribution"}]
[{"$f":"'12.2018 Data'!A676","v":"926100"},{"$f":"'12.2018 Data'!B676","v":"C08"},{"$f":"'12.2018 Data'!C676","v":"ED"},{"$f":"'12.2018 Data'!D676","v":"AN"},{"$f":"'12.2018 Data'!E676","v":"OPER"},{"$f":"'12.2018 Data'!F676","v":2436.36},{"$f":"'12.2018 Data'!G676","v":2436.36},{"$f":"'12.2018 Data'!H676","v":0},{"$f":"'12.2018 Data'!I676","v":0},{"$f":"'12.2018 Data'!J676","v":0},"926",2436.36,2436.36,0,0,0,{"$f":"IF(ISNUMBER(MATCH($B696,'Org functional rollups'!$A:$A,0)),INDEX('Org functional rollups'!$D:$D,MATCH($B696,'Org functional rollups'!$A:$A,0)),0)","v":"Distribution"}]
[{"$f":"'12.2018 Data'!A677","v":"926100"},{"$f":"'12.2018 Data'!B677","v":"C09"},{"$f":"'12.2018 Data'!C677","v":"CD"},{"$f":"'12.2018 Data'!D677","v":"AA"},{"$f":"'12.2018 Data'!E677","v":"OPER"},{"$f":"'12.2018 Data'!F677","v":10542.35},{"$f":"'12.2018 Data'!G677","v":7393.87},{"$f":"'12.2018 Data'!H677","v":2166.36},{"$f":"'12.2018 Data'!I677","v":982.12},{"$f":"'12.2018 Data'!J677","v":0},"926",10542.35,7393.87,2166.36,982.12,0,{"$f":"IF(ISNUMBER(MATCH($B697,'Org functional rollups'!$A:$A,0)),INDEX('Org functional rollups'!$D:$D,MATCH($B697,'Org functional rollups'!$A:$A,0)),0)","v":"Common"}]
[{"$f":"'12.2018 Data'!A678","v":"926100"},{"$f":"'12.2018 Data'!B678","v":"C09"},{"$f":"'12.2018 Data'!C678","v":"CD"},{"$f":"'12.2018 Data'!D678","v":"AN"},{"$f":"'12.2018 Data'!E678","v":"OPER"},{"$f":"'12.2018 Data'!F678","v":2396.4899999999998},{"$f":"'12.2018 Data'!G678","v":1862.42},{"$f":"'12.2018 Data'!H678","v":534.07000000000005},{"$f":"'12.2018 Data'!I678","v":0},{"$f":"'12.2018 Data'!J678","v":0},"926",2396.4899999999998,1862.42,534.07000000000005,0,0,{"$f":"IF(ISNUMBER(MATCH($B698,'Org functional rollups'!$A:$A,0)),INDEX('Org functional rollups'!$D:$D,MATCH($B698,'Org functional rollups'!$A:$A,0)),0)","v":"Common"}]
[{"$f":"'12.2018 Data'!A679","v":"926100"},{"$f":"'12.2018 Data'!B679","v":"C11"},{"$f":"'12.2018 Data'!C679","v":"CD"},{"$f":"'12.2018 Data'!D679","v":"AA"},{"$f":"'12.2018 Data'!E679","v":"OPER"},{"$f":"'12.2018 Data'!F679","v":10068.77},{"$f":"'12.2018 Data'!G679","v":7061.71},{"$f":"'12.2018 Data'!H679","v":2069.0300000000002},{"$f":"'12.2018 Data'!I679","v":938.03},{"$f":"'12.2018 Data'!J679","v":0},"926",10068.77,7061.71,2069.0300000000002,938.03,0,{"$f":"IF(ISNUMBER(MATCH($B699,'Org functional rollups'!$A:$A,0)),INDEX('Org functional rollups'!$D:$D,MATCH($B699,'Org functional rollups'!$A:$A,0)),0)","v":"Common"}]
[{"$f":"'12.2018 Data'!A680","v":"926100"},{"$f":"'12.2018 Data'!B680","v":"C19"},{"$f":"'12.2018 Data'!C680","v":"CD"},{"$f":"'12.2018 Data'!D680","v":"AN"},{"$f":"'12.2018 Data'!E680","v":"OPER"},{"$f":"'12.2018 Data'!F680","v":192.31},{"$f":"'12.2018 Data'!G680","v":149.44999999999999},{"$f":"'12.2018 Data'!H680","v":42.86},{"$f":"'12.2018 Data'!I680","v":0},{"$f":"'12.2018 Data'!J680","v":0},"926",192.31,149.44999999999999,42.86,0,0,{"$f":"IF(ISNUMBER(MATCH($B700,'Org functional rollups'!$A:$A,0)),INDEX('Org functional rollups'!$D:$D,MATCH($B700,'Org functional rollups'!$A:$A,0)),0)","v":"Common"}]
[{"$f":"'12.2018 Data'!A681","v":"926100"},{"$f":"'12.2018 Data'!B681","v":"C19"},{"$f":"'12.2018 Data'!C681","v":"CD"},{"$f":"'12.2018 Data'!D681","v":"AA"},{"$f":"'12.2018 Data'!E681","v":"OPER"},{"$f":"'12.2018 Data'!F681","v":27235.200000000001},{"$f":"'12.2018 Data'!G681","v":19101.400000000001},{"$f":"'12.2018 Data'!H681","v":5596.57},{"$f":"'12.2018 Data'!I681","v":2537.23},{"$f":"'12.2018 Data'!J681","v":0},"926",27235.200000000001,19101.400000000001,5596.57,2537.23,0,{"$f":"IF(ISNUMBER(MATCH($B701,'Org functional rollups'!$A:$A,0)),INDEX('Org functional rollups'!$D:$D,MATCH($B701,'Org functional rollups'!$A:$A,0)),0)","v":"Common"}]
[{"$f":"'12.2018 Data'!A682","v":"926100"},{"$f":"'12.2018 Data'!B682","v":"C50"},{"$f":"'12.2018 Data'!C682","v":"CD"},{"$f":"'12.2018 Data'!D682","v":"AA"},{"$f":"'12.2018 Data'!E682","v":"OPER"},{"$f":"'12.2018 Data'!F682","v":5046.2299999999996},{"$f":"'12.2018 Data'!G682","v":3539.15},{"$f":"'12.2018 Data'!H682","v":1036.95},{"$f":"'12.2018 Data'!I682","v":470.13},{"$f":"'12.2018 Data'!J682","v":0},"926",5046.2299999999996,3539.15,1036.95,470.13,0,{"$f":"IF(ISNUMBER(MATCH($B702,'Org functional rollups'!$A:$A,0)),INDEX('Org functional rollups'!$D:$D,MATCH($B702,'Org functional rollups'!$A:$A,0)),0)","v":"Customer"}]
[{"$f":"'12.2018 Data'!A683","v":"926100"},{"$f":"'12.2018 Data'!B683","v":"C51"},{"$f":"'12.2018 Data'!C683","v":"ED"},{"$f":"'12.2018 Data'!D683","v":"AN"},{"$f":"'12.2018 Data'!E683","v":"OPER"},{"$f":"'12.2018 Data'!F683","v":12.84},{"$f":"'12.2018 Data'!G683","v":12.84},{"$f":"'12.2018 Data'!H683","v":0},{"$f":"'12.2018 Data'!I683","v":0},{"$f":"'12.2018 Data'!J683","v":0},"926",12.84,12.84,0,0,0,{"$f":"IF(ISNUMBER(MATCH($B703,'Org functional rollups'!$A:$A,0)),INDEX('Org functional rollups'!$D:$D,MATCH($B703,'Org functional rollups'!$A:$A,0)),0)","v":"Distribution"}]
[{"$f":"'12.2018 Data'!A684","v":"926100"},{"$f":"'12.2018 Data'!B684","v":"C53"},{"$f":"'12.2018 Data'!C684","v":"ED"},{"$f":"'12.2018 Data'!D684","v":"AN"},{"$f":"'12.2018 Data'!E684","v":"OPER"},{"$f":"'12.2018 Data'!F684","v":4325.3999999999996},{"$f":"'12.2018 Data'!G684","v":4325.3999999999996},{"$f":"'12.2018 Data'!H684","v":0},{"$f":"'12.2018 Data'!I684","v":0},{"$f":"'12.2018 Data'!J684","v":0},"926",4325.3999999999996,4325.3999999999996,0,0,0,{"$f":"IF(ISNUMBER(MATCH($B704,'Org functional rollups'!$A:$A,0)),INDEX('Org functional rollups'!$D:$D,MATCH($B704,'Org functional rollups'!$A:$A,0)),0)","v":"Distribution"}]
[{"$f":"'12.2018 Data'!A685","v":"926100"},{"$f":"'12.2018 Data'!B685","v":"C54"},{"$f":"'12.2018 Data'!C685","v":"CD"},{"$f":"'12.2018 Data'!D685","v":"AA"},{"$f":"'12.2018 Data'!E685","v":"OPER"},{"$f":"'12.2018 Data'!F685","v":3571.71},{"$f":"'12.2018 Data'!G685","v":2505.02},{"$f":"'12.2018 Data'!H685","v":733.95},{"$f":"'12.2018 Data'!I685","v":332.74},{"$f":"'12.2018 Data'!J685","v":0},"926",3571.71,2505.02,733.95,332.74,0,{"$f":"IF(ISNUMBER(MATCH($B705,'Org functional rollups'!$A:$A,0)),INDEX('Org functional rollups'!$D:$D,MATCH($B705,'Org functional rollups'!$A:$A,0)),0)","v":"Common"}]
[{"$f":"'12.2018 Data'!A686","v":"926100"},{"$f":"'12.2018 Data'!B686","v":"C57"},{"$f":"'12.2018 Data'!C686","v":"ED"},{"$f":"'12.2018 Data'!D686","v":"AN"},{"$f":"'12.2018 Data'!E686","v":"OPER"},{"$f":"'12.2018 Data'!F686","v":1680.48},{"$f":"'12.2018 Data'!G686","v":1680.48},{"$f":"'12.2018 Data'!H686","v":0},{"$f":"'12.2018 Data'!I686","v":0},{"$f":"'12.2018 Data'!J686","v":0},"926",1680.48,1680.48,0,0,0,{"$f":"IF(ISNUMBER(MATCH($B706,'Org functional rollups'!$A:$A,0)),INDEX('Org functional rollups'!$D:$D,MATCH($B706,'Org functional rollups'!$A:$A,0)),0)","v":"Distribution"}]
[{"$f":"'12.2018 Data'!A687","v":"926100"},{"$f":"'12.2018 Data'!B687","v":"C59"},{"$f":"'12.2018 Data'!C687","v":"CD"},{"$f":"'12.2018 Data'!D687","v":"AA"},{"$f":"'12.2018 Data'!E687","v":"OPER"},{"$f":"'12.2018 Data'!F687","v":11160.32},{"$f":"'12.2018 Data'!G687","v":7827.25},{"$f":"'12.2018 Data'!H687","v":2293.35},{"$f":"'12.2018 Data'!I687","v":1039.72},{"$f":"'12.2018 Data'!J687","v":0},"926",11160.32,7827.25,2293.35,1039.72,0,{"$f":"IF(ISNUMBER(MATCH($B707,'Org functional rollups'!$A:$A,0)),INDEX('Org functional rollups'!$D:$D,MATCH($B707,'Org functional rollups'!$A:$A,0)),0)","v":"Common"}]
[{"$f":"'12.2018 Data'!A688","v":"926100"},{"$f":"'12.2018 Data'!B688","v":"C83"},{"$f":"'12.2018 Data'!C688","v":"CD"},{"$f":"'12.2018 Data'!D688","v":"AA"},{"$f":"'12.2018 Data'!E688","v":"OPER"},{"$f":"'12.2018 Data'!F688","v":797.76},{"$f":"'12.2018 Data'!G688","v":559.51},{"$f":"'12.2018 Data'!H688","v":163.93},{"$f":"'12.2018 Data'!I688","v":74.319999999999993},{"$f":"'12.2018 Data'!J688","v":0},"926",797.76,559.51,163.93,74.319999999999993,0,{"$f":"IF(ISNUMBER(MATCH($B708,'Org functional rollups'!$A:$A,0)),INDEX('Org functional rollups'!$D:$D,MATCH($B708,'Org functional rollups'!$A:$A,0)),0)","v":"Distribution"}]
[{"$f":"'12.2018 Data'!A689","v":"926100"},{"$f":"'12.2018 Data'!B689","v":"D02"},{"$f":"'12.2018 Data'!C689","v":"CD"},{"$f":"'12.2018 Data'!D689","v":"AA"},{"$f":"'12.2018 Data'!E689","v":"OPER"},{"$f":"'12.2018 Data'!F689","v":2082.85},{"$f":"'12.2018 Data'!G689","v":1460.81},{"$f":"'12.2018 Data'!H689","v":428.01},{"$f":"'12.2018 Data'!I689","v":194.03},{"$f":"'12.2018 Data'!J689","v":0},"926",2082.85,1460.81,428.01,194.03,0,{"$f":"IF(ISNUMBER(MATCH($B709,'Org functional rollups'!$A:$A,0)),INDEX('Org functional rollups'!$D:$D,MATCH($B709,'Org functional rollups'!$A:$A,0)),0)","v":"Common"}]
[{"$f":"'12.2018 Data'!A690","v":"926100"},{"$f":"'12.2018 Data'!B690","v":"D08"},{"$f":"'12.2018 Data'!C690","v":"CD"},{"$f":"'12.2018 Data'!D690","v":"AA"},{"$f":"'12.2018 Data'!E690","v":"OPER"},{"$f":"'12.2018 Data'!F690","v":79746.23},{"$f":"'12.2018 Data'!G690","v":55930.01},{"$f":"'12.2018 Data'!H690","v":16387.060000000001},{"$f":"'12.2018 Data'!I690","v":7429.16},{"$f":"'12.2018 Data'!J690","v":0},{"$f":"LEFT(A710,3)","v":"926"},{"$f":"IF(ISNUMBER(F710),F710,0)","v":79746.23},{"$f":"IF(ISNUMBER(G710),G710,0)","v":55930.01},{"$f":"IF(ISNUMBER(H710),H710,0)","v":16387.060000000001},{"$f":"IF(ISNUMBER(I710),I710,0)","v":7429.16},{"$f":"IF(ISNUMBER(J710),J710,0)","v":0},{"$f":"IF(ISNUMBER(MATCH($B710,'Org functional rollups'!$A:$A,0)),INDEX('Org functional rollups'!$D:$D,MATCH($B710,'Org functional rollups'!$A:$A,0)),0)","v":"Distribution"}]
[{"$f":"'12.2018 Data'!A691","v":"926100"},{"$f":"'12.2018 Data'!B691","v":"D09"},{"$f":"'12.2018 Data'!C691","v":"ED"},{"$f":"'12.2018 Data'!D691","v":"AN"},{"$f":"'12.2018 Data'!E691","v":"OPER"},{"$f":"'12.2018 Data'!F691","v":833.72},{"$f":"'12.2018 Data'!G691","v":833.72},{"$f":"'12.2018 Data'!H691","v":0},{"$f":"'12.2018 Data'!I691","v":0},{"$f":"'12.2018 Data'!J691","v":0},"926",833.72,833.72,0,0,0,{"$f":"IF(ISNUMBER(MATCH($B711,'Org functional rollups'!$A:$A,0)),INDEX('Org functional rollups'!$D:$D,MATCH($B711,'Org functional rollups'!$A:$A,0)),0)","v":"Transmission"}]
[{"$f":"'12.2018 Data'!A692","v":"926100"},{"$f":"'12.2018 Data'!B692","v":"D09"},{"$f":"'12.2018 Data'!C692","v":"CD"},{"$f":"'12.2018 Data'!D692","v":"AA"},{"$f":"'12.2018 Data'!E692","v":"OPER"},{"$f":"'12.2018 Data'!F692","v":1742.88},{"$f":"'12.2018 Data'!G692","v":1222.4000000000001},{"$f":"'12.2018 Data'!H692","v":358.14},{"$f":"'12.2018 Data'!I692","v":162.34},{"$f":"'12.2018 Data'!J692","v":0},"926",1742.88,1222.4000000000001,358.14,162.34,0,{"$f":"IF(ISNUMBER(MATCH($B712,'Org functional rollups'!$A:$A,0)),INDEX('Org functional rollups'!$D:$D,MATCH($B712,'Org functional rollups'!$A:$A,0)),0)","v":"Transmission"}]
[{"$f":"'12.2018 Data'!A693","v":"926100"},{"$f":"'12.2018 Data'!B693","v":"D53"},{"$f":"'12.2018 Data'!C693","v":"CD"},{"$f":"'12.2018 Data'!D693","v":"AA"},{"$f":"'12.2018 Data'!E693","v":"OPER"},{"$f":"'12.2018 Data'!F693","v":2356.13},{"$f":"'12.2018 Data'!G693","v":1652.47},{"$f":"'12.2018 Data'!H693","v":484.17},{"$f":"'12.2018 Data'!I693","v":219.49},{"$f":"'12.2018 Data'!J693","v":0},"926",2356.13,1652.47,484.17,219.49,0,{"$f":"IF(ISNUMBER(MATCH($B713,'Org functional rollups'!$A:$A,0)),INDEX('Org functional rollups'!$D:$D,MATCH($B713,'Org functional rollups'!$A:$A,0)),0)","v":"Distribution"}]
[{"$f":"'12.2018 Data'!A694","v":"926100"},{"$f":"'12.2018 Data'!B694","v":"D53"},{"$f":"'12.2018 Data'!C694","v":"ED"},{"$f":"'12.2018 Data'!D694","v":"AN"},{"$f":"'12.2018 Data'!E694","v":"OPER"},{"$f":"'12.2018 Data'!F694","v":311.56},{"$f":"'12.2018 Data'!G694","v":311.56},{"$f":"'12.2018 Data'!H694","v":0},{"$f":"'12.2018 Data'!I694","v":0},{"$f":"'12.2018 Data'!J694","v":0},"926",311.56,311.56,0,0,0,{"$f":"IF(ISNUMBER(MATCH($B714,'Org functional rollups'!$A:$A,0)),INDEX('Org functional rollups'!$D:$D,MATCH($B714,'Org functional rollups'!$A:$A,0)),0)","v":"Distribution"}]
[{"$f":"'12.2018 Data'!A695","v":"926100"},{"$f":"'12.2018 Data'!B695","v":"D54"},{"$f":"'12.2018 Data'!C695","v":"CD"},{"$f":"'12.2018 Data'!D695","v":"AA"},{"$f":"'12.2018 Data'!E695","v":"OPER"},{"$f":"'12.2018 Data'!F695","v":22196.14},{"$f":"'12.2018 Data'!G695","v":15567.2},{"$f":"'12.2018 Data'!H695","v":4561.05},{"$f":"'12.2018 Data'!I695","v":2067.89},{"$f":"'12.2018 Data'!J695","v":0},"926",22196.14,15567.2,4561.05,2067.89,0,{"$f":"IF(ISNUMBER(MATCH($B715,'Org functional rollups'!$A:$A,0)),INDEX('Org functional rollups'!$D:$D,MATCH($B715,'Org functional rollups'!$A:$A,0)),0)","v":"Common"}]
[{"$f":"'12.2018 Data'!A696","v":"926100"},{"$f":"'12.2018 Data'!B696","v":"E01"},{"$f":"'12.2018 Data'!C696","v":"CD"},{"$f":"'12.2018 Data'!D696","v":"AA"},{"$f":"'12.2018 Data'!E696","v":"OPER"},{"$f":"'12.2018 Data'!F696","v":45116.98},{"$f":"'12.2018 Data'!G696","v":31642.84},{"$f":"'12.2018 Data'!H696","v":9271.0400000000009},{"$f":"'12.2018 Data'!I696","v":4203.1000000000004},{"$f":"'12.2018 Data'!J696","v":0},"926",45116.98,31642.84,9271.0400000000009,4203.1000000000004,0,{"$f":"IF(ISNUMBER(MATCH($B716,'Org functional rollups'!$A:$A,0)),INDEX('Org functional rollups'!$D:$D,MATCH($B716,'Org functional rollups'!$A:$A,0)),0)","v":"Common"}]
[{"$f":"'12.2018 Data'!A697","v":"926100"},{"$f":"'12.2018 Data'!B697","v":"E02"},{"$f":"'12.2018 Data'!C697","v":"CD"},{"$f":"'12.2018 Data'!D697","v":"AA"},{"$f":"'12.2018 Data'!E697","v":"OPER"},{"$f":"'12.2018 Data'!F697","v":83907.57},{"$f":"'12.2018 Data'!G697","v":58848.56},{"$f":"'12.2018 Data'!H697","v":17242.07},{"$f":"'12.2018 Data'!I697","v":7816.94},{"$f":"'12.2018 Data'!J697","v":0},"926",83907.57,58848.56,17242.07,7816.94,0,{"$f":"IF(ISNUMBER(MATCH($B717,'Org functional rollups'!$A:$A,0)),INDEX('Org functional rollups'!$D:$D,MATCH($B717,'Org functional rollups'!$A:$A,0)),0)","v":"Common"}]
[{"$f":"'12.2018 Data'!A698","v":"926100"},{"$f":"'12.2018 Data'!B698","v":"E09"},{"$f":"'12.2018 Data'!C698","v":"CD"},{"$f":"'12.2018 Data'!D698","v":"AA"},{"$f":"'12.2018 Data'!E698","v":"OPER"},{"$f":"'12.2018 Data'!F698","v":5565.66},{"$f":"'12.2018 Data'!G698","v":3903.48},{"$f":"'12.2018 Data'!H698","v":1143.7},{"$f":"'12.2018 Data'!I698","v":518.48},{"$f":"'12.2018 Data'!J698","v":0},"926",5565.66,3903.48,1143.7,518.48,0,{"$f":"IF(ISNUMBER(MATCH($B718,'Org functional rollups'!$A:$A,0)),INDEX('Org functional rollups'!$D:$D,MATCH($B718,'Org functional rollups'!$A:$A,0)),0)","v":"Common"}]
[{"$f":"'12.2018 Data'!A699","v":"926100"},{"$f":"'12.2018 Data'!B699","v":"E14"},{"$f":"'12.2018 Data'!C699","v":"CD"},{"$f":"'12.2018 Data'!D699","v":"AA"},{"$f":"'12.2018 Data'!E699","v":"OPER"},{"$f":"'12.2018 Data'!F699","v":21117.55},{"$f":"'12.2018 Data'!G699","v":14810.77},{"$f":"'12.2018 Data'!H699","v":4339.42},{"$f":"'12.2018 Data'!I699","v":1967.36},{"$f":"'12.2018 Data'!J699","v":0},"926",21117.55,14810.77,4339.42,1967.36,0,{"$f":"IF(ISNUMBER(MATCH($B719,'Org functional rollups'!$A:$A,0)),INDEX('Org functional rollups'!$D:$D,MATCH($B719,'Org functional rollups'!$A:$A,0)),0)","v":"Production"}]
[{"$f":"'12.2018 Data'!A700","v":"926100"},{"$f":"'12.2018 Data'!B700","v":"E19"},{"$f":"'12.2018 Data'!C700","v":"CD"},{"$f":"'12.2018 Data'!D700","v":"AA"},{"$f":"'12.2018 Data'!E700","v":"OPER"},{"$f":"'12.2018 Data'!F700","v":5000},{"$f":"'12.2018 Data'!G700","v":3506.75},{"$f":"'12.2018 Data'!H700","v":1027.45},{"$f":"'12.2018 Data'!I700","v":465.8},{"$f":"'12.2018 Data'!J700","v":0},"926",5000,3506.75,1027.45,465.8,0,{"$f":"IF(ISNUMBER(MATCH($B720,'Org functional rollups'!$A:$A,0)),INDEX('Org functional rollups'!$D:$D,MATCH($B720,'Org functional rollups'!$A:$A,0)),0)","v":"Common"}]
[{"$f":"'12.2018 Data'!A701","v":"926100"},{"$f":"'12.2018 Data'!B701","v":"E29"},{"$f":"'12.2018 Data'!C701","v":"CD"},{"$f":"'12.2018 Data'!D701","v":"AA"},{"$f":"'12.2018 Data'!E701","v":"OPER"},{"$f":"'12.2018 Data'!F701","v":571.98},{"$f":"'12.2018 Data'!G701","v":401.15},{"$f":"'12.2018 Data'!H701","v":117.53},{"$f":"'12.2018 Data'!I701","v":53.3},{"$f":"'12.2018 Data'!J701","v":0},"926",571.98,401.15,117.53,53.3,0,{"$f":"IF(ISNUMBER(MATCH($B721,'Org functional rollups'!$A:$A,0)),INDEX('Org functional rollups'!$D:$D,MATCH($B721,'Org functional rollups'!$A:$A,0)),0)","v":"Common"}]
[{"$f":"'12.2018 Data'!A702","v":"926100"},{"$f":"'12.2018 Data'!B702","v":"E50"},{"$f":"'12.2018 Data'!C702","v":"CD"},{"$f":"'12.2018 Data'!D702","v":"AA"},{"$f":"'12.2018 Data'!E702","v":"OPER"},{"$f":"'12.2018 Data'!F702","v":15827.19},{"$f":"'12.2018 Data'!G702","v":11100.55},{"$f":"'12.2018 Data'!H702","v":3252.34},{"$f":"'12.2018 Data'!I702","v":1474.3},{"$f":"'12.2018 Data'!J702","v":0},"926",15827.19,11100.55,3252.34,1474.3,0,{"$f":"IF(ISNUMBER(MATCH($B722,'Org functional rollups'!$A:$A,0)),INDEX('Org functional rollups'!$D:$D,MATCH($B722,'Org functional rollups'!$A:$A,0)),0)","v":"Customer"}]
[{"$f":"'12.2018 Data'!A703","v":"926100"},{"$f":"'12.2018 Data'!B703","v":"E53"},{"$f":"'12.2018 Data'!C703","v":"CD"},{"$f":"'12.2018 Data'!D703","v":"AA"},{"$f":"'12.2018 Data'!E703","v":"OPER"},{"$f":"'12.2018 Data'!F703","v":10199.94},{"$f":"'12.2018 Data'!G703","v":7153.77},{"$f":"'12.2018 Data'!H703","v":2095.98},{"$f":"'12.2018 Data'!I703","v":950.19},{"$f":"'12.2018 Data'!J703","v":0},{"$f":"LEFT(A723,3)","v":"926"},{"$f":"IF(ISNUMBER(F723),F723,0)","v":10199.94},{"$f":"IF(ISNUMBER(G723),G723,0)","v":7153.77},{"$f":"IF(ISNUMBER(H723),H723,0)","v":2095.98},{"$f":"IF(ISNUMBER(I723),I723,0)","v":950.19},{"$f":"IF(ISNUMBER(J723),J723,0)","v":0},{"$f":"IF(ISNUMBER(MATCH($B723,'Org functional rollups'!$A:$A,0)),INDEX('Org functional rollups'!$D:$D,MATCH($B723,'Org functional rollups'!$A:$A,0)),0)","v":"Customer"}]
[{"$f":"'12.2018 Data'!A704","v":"926100"},{"$f":"'12.2018 Data'!B704","v":"F02"},{"$f":"'12.2018 Data'!C704","v":"CD"},{"$f":"'12.2018 Data'!D704","v":"AA"},{"$f":"'12.2018 Data'!E704","v":"OPER"},{"$f":"'12.2018 Data'!F704","v":7221.37},{"$f":"'12.2018 Data'!G704","v":5064.74},{"$f":"'12.2018 Data'!H704","v":1483.91},{"$f":"'12.2018 Data'!I704","v":672.72},{"$f":"'12.2018 Data'!J704","v":0},"926",7221.37,5064.74,1483.91,672.72,0,{"$f":"IF(ISNUMBER(MATCH($B724,'Org functional rollups'!$A:$A,0)),INDEX('Org functional rollups'!$D:$D,MATCH($B724,'Org functional rollups'!$A:$A,0)),0)","v":"Common"}]
[{"$f":"'12.2018 Data'!A705","v":"926100"},{"$f":"'12.2018 Data'!B705","v":"F08"},{"$f":"'12.2018 Data'!C705","v":"ED"},{"$f":"'12.2018 Data'!D705","v":"AN"},{"$f":"'12.2018 Data'!E705","v":"OPER"},{"$f":"'12.2018 Data'!F705","v":5104.9399999999996},{"$f":"'12.2018 Data'!G705","v":5104.9399999999996},{"$f":"'12.2018 Data'!H705","v":0},{"$f":"'12.2018 Data'!I705","v":0},{"$f":"'12.2018 Data'!J705","v":0},"926",5104.9399999999996,5104.9399999999996,0,0,0,{"$f":"IF(ISNUMBER(MATCH($B725,'Org functional rollups'!$A:$A,0)),INDEX('Org functional rollups'!$D:$D,MATCH($B725,'Org functional rollups'!$A:$A,0)),0)","v":"Transmission"}]
[{"$f":"'12.2018 Data'!A706","v":"926100"},{"$f":"'12.2018 Data'!B706","v":"F39"},{"$f":"'12.2018 Data'!C706","v":"CD"},{"$f":"'12.2018 Data'!D706","v":"AA"},{"$f":"'12.2018 Data'!E706","v":"OPER"},{"$f":"'12.2018 Data'!F706","v":9872.48},{"$f":"'12.2018 Data'!G706","v":6924.05},{"$f":"'12.2018 Data'!H706","v":2028.7},{"$f":"'12.2018 Data'!I706","v":919.73},{"$f":"'12.2018 Data'!J706","v":0},"926",9872.48,6924.05,2028.7,919.73,0,{"$f":"IF(ISNUMBER(MATCH($B726,'Org functional rollups'!$A:$A,0)),INDEX('Org functional rollups'!$D:$D,MATCH($B726,'Org functional rollups'!$A:$A,0)),0)","v":"Common"}]
[{"$f":"'12.2018 Data'!A707","v":"926100"},{"$f":"'12.2018 Data'!B707","v":"F50"},{"$f":"'12.2018 Data'!C707","v":"CD"},{"$f":"'12.2018 Data'!D707","v":"AA"},{"$f":"'12.2018 Data'!E707","v":"OPER"},{"$f":"'12.2018 Data'!F707","v":4820.42},{"$f":"'12.2018 Data'!G707","v":3380.87},{"$f":"'12.2018 Data'!H707","v":990.65},{"$f":"'12.2018 Data'!I707","v":448.9},{"$f":"'12.2018 Data'!J707","v":0},"926",4820.42,3380.87,990.65,448.9,0,{"$f":"IF(ISNUMBER(MATCH($B727,'Org functional rollups'!$A:$A,0)),INDEX('Org functional rollups'!$D:$D,MATCH($B727,'Org functional rollups'!$A:$A,0)),0)","v":"Customer"}]
[{"$f":"'12.2018 Data'!A708","v":"926100"},{"$f":"'12.2018 Data'!B708","v":"F54"},{"$f":"'12.2018 Data'!C708","v":"CD"},{"$f":"'12.2018 Data'!D708","v":"AA"},{"$f":"'12.2018 Data'!E708","v":"OPER"},{"$f":"'12.2018 Data'!F708","v":10616.06},{"$f":"'12.2018 Data'!G708","v":7445.57},{"$f":"'12.2018 Data'!H708","v":2181.5100000000002},{"$f":"'12.2018 Data'!I708","v":988.98},{"$f":"'12.2018 Data'!J708","v":0},"926",10616.06,7445.57,2181.5100000000002,988.98,0,{"$f":"IF(ISNUMBER(MATCH($B728,'Org functional rollups'!$A:$A,0)),INDEX('Org functional rollups'!$D:$D,MATCH($B728,'Org functional rollups'!$A:$A,0)),0)","v":"Common"}]
[{"$f":"'12.2018 Data'!A709","v":"926100"},{"$f":"'12.2018 Data'!B709","v":"F55"},{"$f":"'12.2018 Data'!C709","v":"ED"},{"$f":"'12.2018 Data'!D709","v":"AN"},{"$f":"'12.2018 Data'!E709","v":"OPER"},{"$f":"'12.2018 Data'!F709","v":122.63},{"$f":"'12.2018 Data'!G709","v":122.63},{"$f":"'12.2018 Data'!H709","v":0},{"$f":"'12.2018 Data'!I709","v":0},{"$f":"'12.2018 Data'!J709","v":0},"926",122.63,122.63,0,0,0,{"$f":"IF(ISNUMBER(MATCH($B729,'Org functional rollups'!$A:$A,0)),INDEX('Org functional rollups'!$D:$D,MATCH($B729,'Org functional rollups'!$A:$A,0)),0)","v":"Common"}]
[{"$f":"'12.2018 Data'!A710","v":"926100"},{"$f":"'12.2018 Data'!B710","v":"F55"},{"$f":"'12.2018 Data'!C710","v":"CD"},{"$f":"'12.2018 Data'!D710","v":"AA"},{"$f":"'12.2018 Data'!E710","v":"OPER"},{"$f":"'12.2018 Data'!F710","v":6196.45},{"$f":"'12.2018 Data'!G710","v":4345.87},{"$f":"'12.2018 Data'!H710","v":1273.31},{"$f":"'12.2018 Data'!I710","v":577.27},{"$f":"'12.2018 Data'!J710","v":0},"926",6196.45,4345.87,1273.31,577.27,0,{"$f":"IF(ISNUMBER(MATCH($B730,'Org functional rollups'!$A:$A,0)),INDEX('Org functional rollups'!$D:$D,MATCH($B730,'Org functional rollups'!$A:$A,0)),0)","v":"Common"}]
[{"$f":"'12.2018 Data'!A711","v":"926100"},{"$f":"'12.2018 Data'!B711","v":"G02"},{"$f":"'12.2018 Data'!C711","v":"ED"},{"$f":"'12.2018 Data'!D711","v":"AN"},{"$f":"'12.2018 Data'!E711","v":"OPER"},{"$f":"'12.2018 Data'!F711","v":528.9},{"$f":"'12.2018 Data'!G711","v":528.9},{"$f":"'12.2018 Data'!H711","v":0},{"$f":"'12.2018 Data'!I711","v":0},{"$f":"'12.2018 Data'!J711","v":0},"926",528.9,528.9,0,0,0,{"$f":"IF(ISNUMBER(MATCH($B731,'Org functional rollups'!$A:$A,0)),INDEX('Org functional rollups'!$D:$D,MATCH($B731,'Org functional rollups'!$A:$A,0)),0)","v":"Distribution"}]
[{"$f":"'12.2018 Data'!A712","v":"926100"},{"$f":"'12.2018 Data'!B712","v":"G02"},{"$f":"'12.2018 Data'!C712","v":"CD"},{"$f":"'12.2018 Data'!D712","v":"AA"},{"$f":"'12.2018 Data'!E712","v":"OPER"},{"$f":"'12.2018 Data'!F712","v":0},{"$f":"'12.2018 Data'!G712","v":0},{"$f":"'12.2018 Data'!H712","v":0},{"$f":"'12.2018 Data'!I712","v":0},{"$f":"'12.2018 Data'!J712","v":0},"926",0,0,0,0,0,{"$f":"IF(ISNUMBER(MATCH($B732,'Org functional rollups'!$A:$A,0)),INDEX('Org functional rollups'!$D:$D,MATCH($B732,'Org functional rollups'!$A:$A,0)),0)","v":"Distribution"}]
[{"$f":"'12.2018 Data'!A713","v":"926100"},{"$f":"'12.2018 Data'!B713","v":"G08"},{"$f":"'12.2018 Data'!C713","v":"CD"},{"$f":"'12.2018 Data'!D713","v":"AA"},{"$f":"'12.2018 Data'!E713","v":"OPER"},{"$f":"'12.2018 Data'!F713","v":24086.81},{"$f":"'12.2018 Data'!G713","v":16893.310000000001},{"$f":"'12.2018 Data'!H713","v":4949.59},{"$f":"'12.2018 Data'!I713","v":2243.91},{"$f":"'12.2018 Data'!J713","v":0},"926",24086.81,16893.310000000001,4949.59,2243.91,0,{"$f":"IF(ISNUMBER(MATCH($B733,'Org functional rollups'!$A:$A,0)),INDEX('Org functional rollups'!$D:$D,MATCH($B733,'Org functional rollups'!$A:$A,0)),0)","v":"Distribution"}]
[{"$f":"'12.2018 Data'!A714","v":"926100"},{"$f":"'12.2018 Data'!B714","v":"G08"},{"$f":"'12.2018 Data'!C714","v":"GD"},{"$f":"'12.2018 Data'!D714","v":"AS"},{"$f":"'12.2018 Data'!E714","v":"OPER"},{"$f":"'12.2018 Data'!F714","v":241.82},{"$f":"'12.2018 Data'!G714","v":0},{"$f":"'12.2018 Data'!H714","v":0},{"$f":"'12.2018 Data'!I714","v":241.82},{"$f":"'12.2018 Data'!J714","v":0},"926",241.82,0,0,241.82,0,{"$f":"IF(ISNUMBER(MATCH($B734,'Org functional rollups'!$A:$A,0)),INDEX('Org functional rollups'!$D:$D,MATCH($B734,'Org functional rollups'!$A:$A,0)),0)","v":"Distribution"}]
[{"$f":"'12.2018 Data'!A715","v":"926100"},{"$f":"'12.2018 Data'!B715","v":"G39"},{"$f":"'12.2018 Data'!C715","v":"CD"},{"$f":"'12.2018 Data'!D715","v":"AA"},{"$f":"'12.2018 Data'!E715","v":"OPER"},{"$f":"'12.2018 Data'!F715","v":2766.74},{"$f":"'12.2018 Data'!G715","v":1940.46},{"$f":"'12.2018 Data'!H715","v":568.51},{"$f":"'12.2018 Data'!I715","v":257.77},{"$f":"'12.2018 Data'!J715","v":0},"926",2766.74,1940.46,568.51,257.77,0,{"$f":"IF(ISNUMBER(MATCH($B735,'Org functional rollups'!$A:$A,0)),INDEX('Org functional rollups'!$D:$D,MATCH($B735,'Org functional rollups'!$A:$A,0)),0)","v":"Common"}]
[{"$f":"'12.2018 Data'!A716","v":"926100"},{"$f":"'12.2018 Data'!B716","v":"G50"},{"$f":"'12.2018 Data'!C716","v":"CD"},{"$f":"'12.2018 Data'!D716","v":"AA"},{"$f":"'12.2018 Data'!E716","v":"OPER"},{"$f":"'12.2018 Data'!F716","v":3915.81},{"$f":"'12.2018 Data'!G716","v":2746.36},{"$f":"'12.2018 Data'!H716","v":804.67},{"$f":"'12.2018 Data'!I716","v":364.78},{"$f":"'12.2018 Data'!J716","v":0},"926",3915.81,2746.36,804.67,364.78,0,{"$f":"IF(ISNUMBER(MATCH($B736,'Org functional rollups'!$A:$A,0)),INDEX('Org functional rollups'!$D:$D,MATCH($B736,'Org functional rollups'!$A:$A,0)),0)","v":"Distribution"}]
[{"$f":"'12.2018 Data'!A717","v":"926100"},{"$f":"'12.2018 Data'!B717","v":"G50"},{"$f":"'12.2018 Data'!C717","v":"ED"},{"$f":"'12.2018 Data'!D717","v":"AN"},{"$f":"'12.2018 Data'!E717","v":"OPER"},{"$f":"'12.2018 Data'!F717","v":788.45},{"$f":"'12.2018 Data'!G717","v":788.45},{"$f":"'12.2018 Data'!H717","v":0},{"$f":"'12.2018 Data'!I717","v":0},{"$f":"'12.2018 Data'!J717","v":0},"926",788.45,788.45,0,0,0,{"$f":"IF(ISNUMBER(MATCH($B737,'Org functional rollups'!$A:$A,0)),INDEX('Org functional rollups'!$D:$D,MATCH($B737,'Org functional rollups'!$A:$A,0)),0)","v":"Distribution"}]
[{"$f":"'12.2018 Data'!A718","v":"926100"},{"$f":"'12.2018 Data'!B718","v":"G51"},{"$f":"'12.2018 Data'!C718","v":"GD"},{"$f":"'12.2018 Data'!D718","v":"AS"},{"$f":"'12.2018 Data'!E718","v":"OPER"},{"$f":"'12.2018 Data'!F718","v":502.65},{"$f":"'12.2018 Data'!G718","v":0},{"$f":"'12.2018 Data'!H718","v":0},{"$f":"'12.2018 Data'!I718","v":502.65},{"$f":"'12.2018 Data'!J718","v":0},"926",502.65,0,0,502.65,0,{"$f":"IF(ISNUMBER(MATCH($B738,'Org functional rollups'!$A:$A,0)),INDEX('Org functional rollups'!$D:$D,MATCH($B738,'Org functional rollups'!$A:$A,0)),0)","v":"Production"}]
[{"$f":"'12.2018 Data'!A719","v":"926100"},{"$f":"'12.2018 Data'!B719","v":"G51"},{"$f":"'12.2018 Data'!C719","v":"GD"},{"$f":"'12.2018 Data'!D719","v":"OR"},{"$f":"'12.2018 Data'!E719","v":"OPER"},{"$f":"'12.2018 Data'!F719","v":681.29},{"$f":"'12.2018 Data'!G719","v":0},{"$f":"'12.2018 Data'!H719","v":0},{"$f":"'12.2018 Data'!I719","v":681.29},{"$f":"'12.2018 Data'!J719","v":0},"926",681.29,0,0,681.29,0,{"$f":"IF(ISNUMBER(MATCH($B739,'Org functional rollups'!$A:$A,0)),INDEX('Org functional rollups'!$D:$D,MATCH($B739,'Org functional rollups'!$A:$A,0)),0)","v":"Production"}]
[{"$f":"'12.2018 Data'!A720","v":"926100"},{"$f":"'12.2018 Data'!B720","v":"G51"},{"$f":"'12.2018 Data'!C720","v":"CD"},{"$f":"'12.2018 Data'!D720","v":"AA"},{"$f":"'12.2018 Data'!E720","v":"OPER"},{"$f":"'12.2018 Data'!F720","v":1191.71},{"$f":"'12.2018 Data'!G720","v":835.81},{"$f":"'12.2018 Data'!H720","v":244.88},{"$f":"'12.2018 Data'!I720","v":111.02},{"$f":"'12.2018 Data'!J720","v":0},"926",1191.71,835.81,244.88,111.02,0,{"$f":"IF(ISNUMBER(MATCH($B740,'Org functional rollups'!$A:$A,0)),INDEX('Org functional rollups'!$D:$D,MATCH($B740,'Org functional rollups'!$A:$A,0)),0)","v":"Production"}]
[{"$f":"'12.2018 Data'!A721","v":"926100"},{"$f":"'12.2018 Data'!B721","v":"G51"},{"$f":"'12.2018 Data'!C721","v":"ED"},{"$f":"'12.2018 Data'!D721","v":"AN"},{"$f":"'12.2018 Data'!E721","v":"OPER"},{"$f":"'12.2018 Data'!F721","v":332.3},{"$f":"'12.2018 Data'!G721","v":332.3},{"$f":"'12.2018 Data'!H721","v":0},{"$f":"'12.2018 Data'!I721","v":0},{"$f":"'12.2018 Data'!J721","v":0},"926",332.3,332.3,0,0,0,{"$f":"IF(ISNUMBER(MATCH($B741,'Org functional rollups'!$A:$A,0)),INDEX('Org functional rollups'!$D:$D,MATCH($B741,'Org functional rollups'!$A:$A,0)),0)","v":"Production"}]
[{"$f":"'12.2018 Data'!A722","v":"926100"},{"$f":"'12.2018 Data'!B722","v":"G53"},{"$f":"'12.2018 Data'!C722","v":"CD"},{"$f":"'12.2018 Data'!D722","v":"AA"},{"$f":"'12.2018 Data'!E722","v":"OPER"},{"$f":"'12.2018 Data'!F722","v":500},{"$f":"'12.2018 Data'!G722","v":350.68},{"$f":"'12.2018 Data'!H722","v":102.75},{"$f":"'12.2018 Data'!I722","v":46.57},{"$f":"'12.2018 Data'!J722","v":0},"926",500,350.68,102.75,46.57,0,{"$f":"IF(ISNUMBER(MATCH($B742,'Org functional rollups'!$A:$A,0)),INDEX('Org functional rollups'!$D:$D,MATCH($B742,'Org functional rollups'!$A:$A,0)),0)","v":"Distribution"}]
[{"$f":"'12.2018 Data'!A723","v":"926100"},{"$f":"'12.2018 Data'!B723","v":"G54"},{"$f":"'12.2018 Data'!C723","v":"GD"},{"$f":"'12.2018 Data'!D723","v":"AA"},{"$f":"'12.2018 Data'!E723","v":"OPER"},{"$f":"'12.2018 Data'!F723","v":16156.3},{"$f":"'12.2018 Data'!G723","v":0},{"$f":"'12.2018 Data'!H723","v":11077.01},{"$f":"'12.2018 Data'!I723","v":5079.29},{"$f":"'12.2018 Data'!J723","v":0},"926",16156.3,0,11077.01,5079.29,0,{"$f":"IF(ISNUMBER(MATCH($B743,'Org functional rollups'!$A:$A,0)),INDEX('Org functional rollups'!$D:$D,MATCH($B743,'Org functional rollups'!$A:$A,0)),0)","v":"Common"}]
[{"$f":"'12.2018 Data'!A724","v":"926100"},{"$f":"'12.2018 Data'!B724","v":"G54"},{"$f":"'12.2018 Data'!C724","v":"CD"},{"$f":"'12.2018 Data'!D724","v":"AA"},{"$f":"'12.2018 Data'!E724","v":"OPER"},{"$f":"'12.2018 Data'!F724","v":987.64},{"$f":"'12.2018 Data'!G724","v":692.7},{"$f":"'12.2018 Data'!H724","v":202.97},{"$f":"'12.2018 Data'!I724","v":91.97},{"$f":"'12.2018 Data'!J724","v":0},"926",987.64,692.7,202.97,91.97,0,{"$f":"IF(ISNUMBER(MATCH($B744,'Org functional rollups'!$A:$A,0)),INDEX('Org functional rollups'!$D:$D,MATCH($B744,'Org functional rollups'!$A:$A,0)),0)","v":"Common"}]
[{"$f":"'12.2018 Data'!A725","v":"926100"},{"$f":"'12.2018 Data'!B725","v":"H07"},{"$f":"'12.2018 Data'!C725","v":"CD"},{"$f":"'12.2018 Data'!D725","v":"AA"},{"$f":"'12.2018 Data'!E725","v":"OPER"},{"$f":"'12.2018 Data'!F725","v":34904.36},{"$f":"'12.2018 Data'!G725","v":24480.16},{"$f":"'12.2018 Data'!H725","v":7172.55},{"$f":"'12.2018 Data'!I725","v":3251.65},{"$f":"'12.2018 Data'!J725","v":0},"926",34904.36,24480.16,7172.55,3251.65,0,{"$f":"IF(ISNUMBER(MATCH($B745,'Org functional rollups'!$A:$A,0)),INDEX('Org functional rollups'!$D:$D,MATCH($B745,'Org functional rollups'!$A:$A,0)),0)","v":"Common"}]
[{"$f":"'12.2018 Data'!A726","v":"926100"},{"$f":"'12.2018 Data'!B726","v":"H14"},{"$f":"'12.2018 Data'!C726","v":"CD"},{"$f":"'12.2018 Data'!D726","v":"AA"},{"$f":"'12.2018 Data'!E726","v":"OPER"},{"$f":"'12.2018 Data'!F726","v":2871.66},{"$f":"'12.2018 Data'!G726","v":2014.06},{"$f":"'12.2018 Data'!H726","v":590.09},{"$f":"'12.2018 Data'!I726","v":267.51},{"$f":"'12.2018 Data'!J726","v":0},"926",2871.66,2014.06,590.09,267.51,0,{"$f":"IF(ISNUMBER(MATCH($B746,'Org functional rollups'!$A:$A,0)),INDEX('Org functional rollups'!$D:$D,MATCH($B746,'Org functional rollups'!$A:$A,0)),0)","v":"Customer"}]
[{"$f":"'12.2018 Data'!A727","v":"926100"},{"$f":"'12.2018 Data'!B727","v":"H50"},{"$f":"'12.2018 Data'!C727","v":"ED"},{"$f":"'12.2018 Data'!D727","v":"AN"},{"$f":"'12.2018 Data'!E727","v":"OPER"},{"$f":"'12.2018 Data'!F727","v":16.25},{"$f":"'12.2018 Data'!G727","v":16.25},{"$f":"'12.2018 Data'!H727","v":0},{"$f":"'12.2018 Data'!I727","v":0},{"$f":"'12.2018 Data'!J727","v":0},"926",16.25,16.25,0,0,0,{"$f":"IF(ISNUMBER(MATCH($B747,'Org functional rollups'!$A:$A,0)),INDEX('Org functional rollups'!$D:$D,MATCH($B747,'Org functional rollups'!$A:$A,0)),0)","v":"Distribution"}]
[{"$f":"'12.2018 Data'!A728","v":"926100"},{"$f":"'12.2018 Data'!B728","v":"H51"},{"$f":"'12.2018 Data'!C728","v":"CD"},{"$f":"'12.2018 Data'!D728","v":"AA"},{"$f":"'12.2018 Data'!E728","v":"OPER"},{"$f":"'12.2018 Data'!F728","v":2760.25},{"$f":"'12.2018 Data'!G728","v":1935.89},{"$f":"'12.2018 Data'!H728","v":567.21},{"$f":"'12.2018 Data'!I728","v":257.14999999999998},{"$f":"'12.2018 Data'!J728","v":0},"926",2760.25,1935.89,567.21,257.14999999999998,0,{"$f":"IF(ISNUMBER(MATCH($B748,'Org functional rollups'!$A:$A,0)),INDEX('Org functional rollups'!$D:$D,MATCH($B748,'Org functional rollups'!$A:$A,0)),0)","v":"Common"}]
[{"$f":"'12.2018 Data'!A729","v":"926100"},{"$f":"'12.2018 Data'!B729","v":"H53"},{"$f":"'12.2018 Data'!C729","v":"CD"},{"$f":"'12.2018 Data'!D729","v":"AA"},{"$f":"'12.2018 Data'!E729","v":"OPER"},{"$f":"'12.2018 Data'!F729","v":1000},{"$f":"'12.2018 Data'!G729","v":701.36},{"$f":"'12.2018 Data'!H729","v":205.5},{"$f":"'12.2018 Data'!I729","v":93.14},{"$f":"'12.2018 Data'!J729","v":0},{"$f":"LEFT(A749,3)","v":"926"},{"$f":"IF(ISNUMBER(F749),F749,0)","v":1000},{"$f":"IF(ISNUMBER(G749),G749,0)","v":701.36},{"$f":"IF(ISNUMBER(H749),H749,0)","v":205.5},{"$f":"IF(ISNUMBER(I749),I749,0)","v":93.14},{"$f":"IF(ISNUMBER(J749),J749,0)","v":0},{"$f":"IF(ISNUMBER(MATCH($B749,'Org functional rollups'!$A:$A,0)),INDEX('Org functional rollups'!$D:$D,MATCH($B749,'Org functional rollups'!$A:$A,0)),0)","v":"Distribution"}]
[{"$f":"'12.2018 Data'!A730","v":"926100"},{"$f":"'12.2018 Data'!B730","v":"H54"},{"$f":"'12.2018 Data'!C730","v":"CD"},{"$f":"'12.2018 Data'!D730","v":"AA"},{"$f":"'12.2018 Data'!E730","v":"OPER"},{"$f":"'12.2018 Data'!F730","v":5618.06},{"$f":"'12.2018 Data'!G730","v":3940.21},{"$f":"'12.2018 Data'!H730","v":1154.42},{"$f":"'12.2018 Data'!I730","v":523.42999999999995},{"$f":"'12.2018 Data'!J730","v":0},"926",5618.06,3940.21,1154.42,523.42999999999995,0,{"$f":"IF(ISNUMBER(MATCH($B750,'Org functional rollups'!$A:$A,0)),INDEX('Org functional rollups'!$D:$D,MATCH($B750,'Org functional rollups'!$A:$A,0)),0)","v":"Customer"}]
[{"$f":"'12.2018 Data'!A731","v":"926100"},{"$f":"'12.2018 Data'!B731","v":"I02"},{"$f":"'12.2018 Data'!C731","v":"CD"},{"$f":"'12.2018 Data'!D731","v":"AA"},{"$f":"'12.2018 Data'!E731","v":"OPER"},{"$f":"'12.2018 Data'!F731","v":2.66},{"$f":"'12.2018 Data'!G731","v":1.87},{"$f":"'12.2018 Data'!H731","v":0.55000000000000004},{"$f":"'12.2018 Data'!I731","v":0.24},{"$f":"'12.2018 Data'!J731","v":0},"926",2.66,1.87,0.55000000000000004,0.24,0,{"$f":"IF(ISNUMBER(MATCH($B751,'Org functional rollups'!$A:$A,0)),INDEX('Org functional rollups'!$D:$D,MATCH($B751,'Org functional rollups'!$A:$A,0)),0)","v":"Distribution"}]
[{"$f":"'12.2018 Data'!A732","v":"926100"},{"$f":"'12.2018 Data'!B732","v":"I02"},{"$f":"'12.2018 Data'!C732","v":"ED"},{"$f":"'12.2018 Data'!D732","v":"AN"},{"$f":"'12.2018 Data'!E732","v":"OPER"},{"$f":"'12.2018 Data'!F732","v":57180.55},{"$f":"'12.2018 Data'!G732","v":57180.55},{"$f":"'12.2018 Data'!H732","v":0},{"$f":"'12.2018 Data'!I732","v":0},{"$f":"'12.2018 Data'!J732","v":0},"926",57180.55,57180.55,0,0,0,{"$f":"IF(ISNUMBER(MATCH($B752,'Org functional rollups'!$A:$A,0)),INDEX('Org functional rollups'!$D:$D,MATCH($B752,'Org functional rollups'!$A:$A,0)),0)","v":"Distribution"}]
[{"$f":"'12.2018 Data'!A733","v":"926100"},{"$f":"'12.2018 Data'!B733","v":"I02"},{"$f":"'12.2018 Data'!C733","v":"GD"},{"$f":"'12.2018 Data'!D733","v":"AA"},{"$f":"'12.2018 Data'!E733","v":"OPER"},{"$f":"'12.2018 Data'!F733","v":69050.47},{"$f":"'12.2018 Data'!G733","v":0},{"$f":"'12.2018 Data'!H733","v":47342.34},{"$f":"'12.2018 Data'!I733","v":21708.13},{"$f":"'12.2018 Data'!J733","v":0},"926",69050.47,0,47342.34,21708.13,0,{"$f":"IF(ISNUMBER(MATCH($B753,'Org functional rollups'!$A:$A,0)),INDEX('Org functional rollups'!$D:$D,MATCH($B753,'Org functional rollups'!$A:$A,0)),0)","v":"Distribution"}]
[{"$f":"'12.2018 Data'!A734","v":"926100"},{"$f":"'12.2018 Data'!B734","v":"I08"},{"$f":"'12.2018 Data'!C734","v":"CD"},{"$f":"'12.2018 Data'!D734","v":"AA"},{"$f":"'12.2018 Data'!E734","v":"OPER"},{"$f":"'12.2018 Data'!F734","v":1318.17},{"$f":"'12.2018 Data'!G734","v":924.51},{"$f":"'12.2018 Data'!H734","v":270.87},{"$f":"'12.2018 Data'!I734","v":122.79},{"$f":"'12.2018 Data'!J734","v":0},"926",1318.17,924.51,270.87,122.79,0,{"$f":"IF(ISNUMBER(MATCH($B754,'Org functional rollups'!$A:$A,0)),INDEX('Org functional rollups'!$D:$D,MATCH($B754,'Org functional rollups'!$A:$A,0)),0)","v":"Distribution"}]
[{"$f":"'12.2018 Data'!A735","v":"926100"},{"$f":"'12.2018 Data'!B735","v":"I50"},{"$f":"'12.2018 Data'!C735","v":"CD"},{"$f":"'12.2018 Data'!D735","v":"AA"},{"$f":"'12.2018 Data'!E735","v":"OPER"},{"$f":"'12.2018 Data'!F735","v":8530.2800000000007},{"$f":"'12.2018 Data'!G735","v":5982.78},{"$f":"'12.2018 Data'!H735","v":1752.96},{"$f":"'12.2018 Data'!I735","v":794.54},{"$f":"'12.2018 Data'!J735","v":0},"926",8530.2800000000007,5982.78,1752.96,794.54,0,{"$f":"IF(ISNUMBER(MATCH($B755,'Org functional rollups'!$A:$A,0)),INDEX('Org functional rollups'!$D:$D,MATCH($B755,'Org functional rollups'!$A:$A,0)),0)","v":"Customer"}]
[{"$f":"'12.2018 Data'!A736","v":"926100"},{"$f":"'12.2018 Data'!B736","v":"J09"},{"$f":"'12.2018 Data'!C736","v":"CD"},{"$f":"'12.2018 Data'!D736","v":"AA"},{"$f":"'12.2018 Data'!E736","v":"OPER"},{"$f":"'12.2018 Data'!F736","v":34923.769999999997},{"$f":"'12.2018 Data'!G736","v":24493.77},{"$f":"'12.2018 Data'!H736","v":7176.5},{"$f":"'12.2018 Data'!I736","v":3253.5},{"$f":"'12.2018 Data'!J736","v":0},"926",34923.769999999997,24493.77,7176.5,3253.5,0,{"$f":"IF(ISNUMBER(MATCH($B756,'Org functional rollups'!$A:$A,0)),INDEX('Org functional rollups'!$D:$D,MATCH($B756,'Org functional rollups'!$A:$A,0)),0)","v":"Common"}]
[{"$f":"'12.2018 Data'!A737","v":"926100"},{"$f":"'12.2018 Data'!B737","v":"J50"},{"$f":"'12.2018 Data'!C737","v":"CD"},{"$f":"'12.2018 Data'!D737","v":"AA"},{"$f":"'12.2018 Data'!E737","v":"OPER"},{"$f":"'12.2018 Data'!F737","v":1310.84},{"$f":"'12.2018 Data'!G737","v":919.34},{"$f":"'12.2018 Data'!H737","v":269.37},{"$f":"'12.2018 Data'!I737","v":122.13},{"$f":"'12.2018 Data'!J737","v":0},"926",1310.84,919.34,269.37,122.13,0,{"$f":"IF(ISNUMBER(MATCH($B757,'Org functional rollups'!$A:$A,0)),INDEX('Org functional rollups'!$D:$D,MATCH($B757,'Org functional rollups'!$A:$A,0)),0)","v":"Distribution"}]
[{"$f":"'12.2018 Data'!A738","v":"926100"},{"$f":"'12.2018 Data'!B738","v":"J51"},{"$f":"'12.2018 Data'!C738","v":"CD"},{"$f":"'12.2018 Data'!D738","v":"AA"},{"$f":"'12.2018 Data'!E738","v":"OPER"},{"$f":"'12.2018 Data'!F738","v":4212.7700000000004},{"$f":"'12.2018 Data'!G738","v":2954.63},{"$f":"'12.2018 Data'!H738","v":865.67},{"$f":"'12.2018 Data'!I738","v":392.47},{"$f":"'12.2018 Data'!J738","v":0},"926",4212.7700000000004,2954.63,865.67,392.47,0,{"$f":"IF(ISNUMBER(MATCH($B758,'Org functional rollups'!$A:$A,0)),INDEX('Org functional rollups'!$D:$D,MATCH($B758,'Org functional rollups'!$A:$A,0)),0)","v":"Common"}]
[{"$f":"'12.2018 Data'!A739","v":"926100"},{"$f":"'12.2018 Data'!B739","v":"J53"},{"$f":"'12.2018 Data'!C739","v":"ED"},{"$f":"'12.2018 Data'!D739","v":"AN"},{"$f":"'12.2018 Data'!E739","v":"OPER"},{"$f":"'12.2018 Data'!F739","v":1536.19},{"$f":"'12.2018 Data'!G739","v":1536.19},{"$f":"'12.2018 Data'!H739","v":0},{"$f":"'12.2018 Data'!I739","v":0},{"$f":"'12.2018 Data'!J739","v":0},"926",1536.19,1536.19,0,0,0,{"$f":"IF(ISNUMBER(MATCH($B759,'Org functional rollups'!$A:$A,0)),INDEX('Org functional rollups'!$D:$D,MATCH($B759,'Org functional rollups'!$A:$A,0)),0)","v":"Distribution"}]
[{"$f":"'12.2018 Data'!A740","v":"926100"},{"$f":"'12.2018 Data'!B740","v":"J53"},{"$f":"'12.2018 Data'!C740","v":"CD"},{"$f":"'12.2018 Data'!D740","v":"AA"},{"$f":"'12.2018 Data'!E740","v":"OPER"},{"$f":"'12.2018 Data'!F740","v":944.04},{"$f":"'12.2018 Data'!G740","v":662.1},{"$f":"'12.2018 Data'!H740","v":193.99},{"$f":"'12.2018 Data'!I740","v":87.95},{"$f":"'12.2018 Data'!J740","v":0},"926",944.04,662.1,193.99,87.95,0,{"$f":"IF(ISNUMBER(MATCH($B760,'Org functional rollups'!$A:$A,0)),INDEX('Org functional rollups'!$D:$D,MATCH($B760,'Org functional rollups'!$A:$A,0)),0)","v":"Distribution"}]
[{"$f":"'12.2018 Data'!A741","v":"926100"},{"$f":"'12.2018 Data'!B741","v":"J54"},{"$f":"'12.2018 Data'!C741","v":"CD"},{"$f":"'12.2018 Data'!D741","v":"AA"},{"$f":"'12.2018 Data'!E741","v":"OPER"},{"$f":"'12.2018 Data'!F741","v":23755},{"$f":"'12.2018 Data'!G741","v":16660.52},{"$f":"'12.2018 Data'!H741","v":4881.3999999999996},{"$f":"'12.2018 Data'!I741","v":2213.08},{"$f":"'12.2018 Data'!J741","v":0},"926",23755,16660.52,4881.3999999999996,2213.08,0,{"$f":"IF(ISNUMBER(MATCH($B761,'Org functional rollups'!$A:$A,0)),INDEX('Org functional rollups'!$D:$D,MATCH($B761,'Org functional rollups'!$A:$A,0)),0)","v":"Common"}]
[{"$f":"'12.2018 Data'!A742","v":"926100"},{"$f":"'12.2018 Data'!B742","v":"K02"},{"$f":"'12.2018 Data'!C742","v":"CD"},{"$f":"'12.2018 Data'!D742","v":"AA"},{"$f":"'12.2018 Data'!E742","v":"OPER"},{"$f":"'12.2018 Data'!F742","v":5852.45},{"$f":"'12.2018 Data'!G742","v":4104.63},{"$f":"'12.2018 Data'!H742","v":1202.6300000000001},{"$f":"'12.2018 Data'!I742","v":545.19000000000005},{"$f":"'12.2018 Data'!J742","v":0},"926",5852.45,4104.63,1202.6300000000001,545.19000000000005,0,{"$f":"IF(ISNUMBER(MATCH($B762,'Org functional rollups'!$A:$A,0)),INDEX('Org functional rollups'!$D:$D,MATCH($B762,'Org functional rollups'!$A:$A,0)),0)","v":"Common"}]
[{"$f":"'12.2018 Data'!A743","v":"926100"},{"$f":"'12.2018 Data'!B743","v":"K07"},{"$f":"'12.2018 Data'!C743","v":"ED"},{"$f":"'12.2018 Data'!D743","v":"AN"},{"$f":"'12.2018 Data'!E743","v":"OPER"},{"$f":"'12.2018 Data'!F743","v":2381.67},{"$f":"'12.2018 Data'!G743","v":2381.67},{"$f":"'12.2018 Data'!H743","v":0},{"$f":"'12.2018 Data'!I743","v":0},{"$f":"'12.2018 Data'!J743","v":0},"926",2381.67,2381.67,0,0,0,{"$f":"IF(ISNUMBER(MATCH($B763,'Org functional rollups'!$A:$A,0)),INDEX('Org functional rollups'!$D:$D,MATCH($B763,'Org functional rollups'!$A:$A,0)),0)","v":"Production"}]
[{"$f":"'12.2018 Data'!A744","v":"926100"},{"$f":"'12.2018 Data'!B744","v":"K08"},{"$f":"'12.2018 Data'!C744","v":"CD"},{"$f":"'12.2018 Data'!D744","v":"AA"},{"$f":"'12.2018 Data'!E744","v":"OPER"},{"$f":"'12.2018 Data'!F744","v":5487.27},{"$f":"'12.2018 Data'!G744","v":3848.47},{"$f":"'12.2018 Data'!H744","v":1127.57},{"$f":"'12.2018 Data'!I744","v":511.23},{"$f":"'12.2018 Data'!J744","v":0},"926",5487.27,3848.47,1127.57,511.23,0,{"$f":"IF(ISNUMBER(MATCH($B764,'Org functional rollups'!$A:$A,0)),INDEX('Org functional rollups'!$D:$D,MATCH($B764,'Org functional rollups'!$A:$A,0)),0)","v":"Distribution"}]
[{"$f":"'12.2018 Data'!A745","v":"926100"},{"$f":"'12.2018 Data'!B745","v":"K50"},{"$f":"'12.2018 Data'!C745","v":"CD"},{"$f":"'12.2018 Data'!D745","v":"AA"},{"$f":"'12.2018 Data'!E745","v":"OPER"},{"$f":"'12.2018 Data'!F745","v":3359.63},{"$f":"'12.2018 Data'!G745","v":2356.2800000000002},{"$f":"'12.2018 Data'!H745","v":690.36},{"$f":"'12.2018 Data'!I745","v":312.99},{"$f":"'12.2018 Data'!J745","v":0},"926",3359.63,2356.2800000000002,690.36,312.99,0,{"$f":"IF(ISNUMBER(MATCH($B765,'Org functional rollups'!$A:$A,0)),INDEX('Org functional rollups'!$D:$D,MATCH($B765,'Org functional rollups'!$A:$A,0)),0)","v":"Distribution"}]
[{"$f":"'12.2018 Data'!A746","v":"926100"},{"$f":"'12.2018 Data'!B746","v":"K51"},{"$f":"'12.2018 Data'!C746","v":"CD"},{"$f":"'12.2018 Data'!D746","v":"AA"},{"$f":"'12.2018 Data'!E746","v":"OPER"},{"$f":"'12.2018 Data'!F746","v":118158.75},{"$f":"'12.2018 Data'!G746","v":82869.87},{"$f":"'12.2018 Data'!H746","v":24280.27},{"$f":"'12.2018 Data'!I746","v":11008.61},{"$f":"'12.2018 Data'!J746","v":0},"926",118158.75,82869.87,24280.27,11008.61,0,{"$f":"IF(ISNUMBER(MATCH($B766,'Org functional rollups'!$A:$A,0)),INDEX('Org functional rollups'!$D:$D,MATCH($B766,'Org functional rollups'!$A:$A,0)),0)","v":"Distribution"}]
[{"$f":"'12.2018 Data'!A747","v":"926100"},{"$f":"'12.2018 Data'!B747","v":"K53"},{"$f":"'12.2018 Data'!C747","v":"CD"},{"$f":"'12.2018 Data'!D747","v":"AA"},{"$f":"'12.2018 Data'!E747","v":"OPER"},{"$f":"'12.2018 Data'!F747","v":8632.1200000000008},{"$f":"'12.2018 Data'!G747","v":6054.21},{"$f":"'12.2018 Data'!H747","v":1773.89},{"$f":"'12.2018 Data'!I747","v":804.02},{"$f":"'12.2018 Data'!J747","v":0},"926",8632.1200000000008,6054.21,1773.89,804.02,0,{"$f":"IF(ISNUMBER(MATCH($B767,'Org functional rollups'!$A:$A,0)),INDEX('Org functional rollups'!$D:$D,MATCH($B767,'Org functional rollups'!$A:$A,0)),0)","v":"Customer"}]
[{"$f":"'12.2018 Data'!A748","v":"926100"},{"$f":"'12.2018 Data'!B748","v":"L07"},{"$f":"'12.2018 Data'!C748","v":"ED"},{"$f":"'12.2018 Data'!D748","v":"AN"},{"$f":"'12.2018 Data'!E748","v":"OPER"},{"$f":"'12.2018 Data'!F748","v":973.11},{"$f":"'12.2018 Data'!G748","v":973.11},{"$f":"'12.2018 Data'!H748","v":0},{"$f":"'12.2018 Data'!I748","v":0},{"$f":"'12.2018 Data'!J748","v":0},"926",973.11,973.11,0,0,0,{"$f":"IF(ISNUMBER(MATCH($B768,'Org functional rollups'!$A:$A,0)),INDEX('Org functional rollups'!$D:$D,MATCH($B768,'Org functional rollups'!$A:$A,0)),0)","v":"Production"}]
[{"$f":"'12.2018 Data'!A749","v":"926100"},{"$f":"'12.2018 Data'!B749","v":"L08"},{"$f":"'12.2018 Data'!C749","v":"CD"},{"$f":"'12.2018 Data'!D749","v":"AA"},{"$f":"'12.2018 Data'!E749","v":"OPER"},{"$f":"'12.2018 Data'!F749","v":665.39},{"$f":"'12.2018 Data'!G749","v":466.68},{"$f":"'12.2018 Data'!H749","v":136.72999999999999},{"$f":"'12.2018 Data'!I749","v":61.98},{"$f":"'12.2018 Data'!J749","v":0},"926",665.39,466.68,136.72999999999999,61.98,0,{"$f":"IF(ISNUMBER(MATCH($B769,'Org functional rollups'!$A:$A,0)),INDEX('Org functional rollups'!$D:$D,MATCH($B769,'Org functional rollups'!$A:$A,0)),0)","v":"Transmission"}]
[{"$f":"'12.2018 Data'!A750","v":"926100"},{"$f":"'12.2018 Data'!B750","v":"L11"},{"$f":"'12.2018 Data'!C750","v":"CD"},{"$f":"'12.2018 Data'!D750","v":"AA"},{"$f":"'12.2018 Data'!E750","v":"OPER"},{"$f":"'12.2018 Data'!F750","v":500},{"$f":"'12.2018 Data'!G750","v":350.68},{"$f":"'12.2018 Data'!H750","v":102.75},{"$f":"'12.2018 Data'!I750","v":46.57},{"$f":"'12.2018 Data'!J750","v":0},"926",500,350.68,102.75,46.57,0,{"$f":"IF(ISNUMBER(MATCH($B770,'Org functional rollups'!$A:$A,0)),INDEX('Org functional rollups'!$D:$D,MATCH($B770,'Org functional rollups'!$A:$A,0)),0)","v":"Transmission"}]
[{"$f":"'12.2018 Data'!A751","v":"926100"},{"$f":"'12.2018 Data'!B751","v":"L39"},{"$f":"'12.2018 Data'!C751","v":"CD"},{"$f":"'12.2018 Data'!D751","v":"AA"},{"$f":"'12.2018 Data'!E751","v":"OPER"},{"$f":"'12.2018 Data'!F751","v":22393.9},{"$f":"'12.2018 Data'!G751","v":15705.96},{"$f":"'12.2018 Data'!H751","v":4601.71},{"$f":"'12.2018 Data'!I751","v":2086.23},{"$f":"'12.2018 Data'!J751","v":0},"926",22393.9,15705.96,4601.71,2086.23,0,{"$f":"IF(ISNUMBER(MATCH($B771,'Org functional rollups'!$A:$A,0)),INDEX('Org functional rollups'!$D:$D,MATCH($B771,'Org functional rollups'!$A:$A,0)),0)","v":"Common"}]
[{"$f":"'12.2018 Data'!A752","v":"926100"},{"$f":"'12.2018 Data'!B752","v":"L50"},{"$f":"'12.2018 Data'!C752","v":"ED"},{"$f":"'12.2018 Data'!D752","v":"AN"},{"$f":"'12.2018 Data'!E752","v":"OPER"},{"$f":"'12.2018 Data'!F752","v":5874.74},{"$f":"'12.2018 Data'!G752","v":5874.74},{"$f":"'12.2018 Data'!H752","v":0},{"$f":"'12.2018 Data'!I752","v":0},{"$f":"'12.2018 Data'!J752","v":0},"926",5874.74,5874.74,0,0,0,{"$f":"IF(ISNUMBER(MATCH($B772,'Org functional rollups'!$A:$A,0)),INDEX('Org functional rollups'!$D:$D,MATCH($B772,'Org functional rollups'!$A:$A,0)),0)","v":"Distribution"}]
[{"$f":"'12.2018 Data'!A753","v":"926100"},{"$f":"'12.2018 Data'!B753","v":"L50"},{"$f":"'12.2018 Data'!C753","v":"GD"},{"$f":"'12.2018 Data'!D753","v":"AA"},{"$f":"'12.2018 Data'!E753","v":"OPER"},{"$f":"'12.2018 Data'!F753","v":3538.43},{"$f":"'12.2018 Data'!G753","v":0},{"$f":"'12.2018 Data'!H753","v":2426.0300000000002},{"$f":"'12.2018 Data'!I753","v":1112.4000000000001},{"$f":"'12.2018 Data'!J753","v":0},"926",3538.43,0,2426.0300000000002,1112.4000000000001,0,{"$f":"IF(ISNUMBER(MATCH($B773,'Org functional rollups'!$A:$A,0)),INDEX('Org functional rollups'!$D:$D,MATCH($B773,'Org functional rollups'!$A:$A,0)),0)","v":"Distribution"}]
[{"$f":"'12.2018 Data'!A754","v":"926100"},{"$f":"'12.2018 Data'!B754","v":"L51"},{"$f":"'12.2018 Data'!C754","v":"CD"},{"$f":"'12.2018 Data'!D754","v":"AA"},{"$f":"'12.2018 Data'!E754","v":"OPER"},{"$f":"'12.2018 Data'!F754","v":1607.16},{"$f":"'12.2018 Data'!G754","v":1127.19},{"$f":"'12.2018 Data'!H754","v":330.24},{"$f":"'12.2018 Data'!I754","v":149.72999999999999},{"$f":"'12.2018 Data'!J754","v":0},"926",1607.16,1127.19,330.24,149.72999999999999,0,{"$f":"IF(ISNUMBER(MATCH($B774,'Org functional rollups'!$A:$A,0)),INDEX('Org functional rollups'!$D:$D,MATCH($B774,'Org functional rollups'!$A:$A,0)),0)","v":"Common"}]
[{"$f":"'12.2018 Data'!A755","v":"926100"},{"$f":"'12.2018 Data'!B755","v":"L53"},{"$f":"'12.2018 Data'!C755","v":"ED"},{"$f":"'12.2018 Data'!D755","v":"AN"},{"$f":"'12.2018 Data'!E755","v":"OPER"},{"$f":"'12.2018 Data'!F755","v":10916.76},{"$f":"'12.2018 Data'!G755","v":10916.76},{"$f":"'12.2018 Data'!H755","v":0},{"$f":"'12.2018 Data'!I755","v":0},{"$f":"'12.2018 Data'!J755","v":0},"926",10916.76,10916.76,0,0,0,{"$f":"IF(ISNUMBER(MATCH($B775,'Org functional rollups'!$A:$A,0)),INDEX('Org functional rollups'!$D:$D,MATCH($B775,'Org functional rollups'!$A:$A,0)),0)","v":"Distribution"}]
[{"$f":"'12.2018 Data'!A756","v":"926100"},{"$f":"'12.2018 Data'!B756","v":"L53"},{"$f":"'12.2018 Data'!C756","v":"CD"},{"$f":"'12.2018 Data'!D756","v":"AA"},{"$f":"'12.2018 Data'!E756","v":"OPER"},{"$f":"'12.2018 Data'!F756","v":4217.2299999999996},{"$f":"'12.2018 Data'!G756","v":2957.75},{"$f":"'12.2018 Data'!H756","v":866.6},{"$f":"'12.2018 Data'!I756","v":392.88},{"$f":"'12.2018 Data'!J756","v":0},"926",4217.2299999999996,2957.75,866.6,392.88,0,{"$f":"IF(ISNUMBER(MATCH($B776,'Org functional rollups'!$A:$A,0)),INDEX('Org functional rollups'!$D:$D,MATCH($B776,'Org functional rollups'!$A:$A,0)),0)","v":"Distribution"}]
[{"$f":"'12.2018 Data'!A757","v":"926100"},{"$f":"'12.2018 Data'!B757","v":"L54"},{"$f":"'12.2018 Data'!C757","v":"CD"},{"$f":"'12.2018 Data'!D757","v":"AA"},{"$f":"'12.2018 Data'!E757","v":"OPER"},{"$f":"'12.2018 Data'!F757","v":50573.83},{"$f":"'12.2018 Data'!G757","v":35469.980000000003},{"$f":"'12.2018 Data'!H757","v":10392.43},{"$f":"'12.2018 Data'!I757","v":4711.42},{"$f":"'12.2018 Data'!J757","v":0},"926",50573.83,35469.980000000003,10392.43,4711.42,0,{"$f":"IF(ISNUMBER(MATCH($B777,'Org functional rollups'!$A:$A,0)),INDEX('Org functional rollups'!$D:$D,MATCH($B777,'Org functional rollups'!$A:$A,0)),0)","v":"Common"}]
[{"$f":"'12.2018 Data'!A758","v":"926100"},{"$f":"'12.2018 Data'!B758","v":"M02"},{"$f":"'12.2018 Data'!C758","v":"CD"},{"$f":"'12.2018 Data'!D758","v":"AA"},{"$f":"'12.2018 Data'!E758","v":"OPER"},{"$f":"'12.2018 Data'!F758","v":17937.36},{"$f":"'12.2018 Data'!G758","v":12580.36},{"$f":"'12.2018 Data'!H758","v":3685.91},{"$f":"'12.2018 Data'!I758","v":1671.09},{"$f":"'12.2018 Data'!J758","v":0},"926",17937.36,12580.36,3685.91,1671.09,0,{"$f":"IF(ISNUMBER(MATCH($B778,'Org functional rollups'!$A:$A,0)),INDEX('Org functional rollups'!$D:$D,MATCH($B778,'Org functional rollups'!$A:$A,0)),0)","v":"Common"}]
[{"$f":"'12.2018 Data'!A759","v":"926100"},{"$f":"'12.2018 Data'!B759","v":"M08"},{"$f":"'12.2018 Data'!C759","v":"CD"},{"$f":"'12.2018 Data'!D759","v":"AA"},{"$f":"'12.2018 Data'!E759","v":"OPER"},{"$f":"'12.2018 Data'!F759","v":5888.86},{"$f":"'12.2018 Data'!G759","v":4130.13},{"$f":"'12.2018 Data'!H759","v":1210.0899999999999},{"$f":"'12.2018 Data'!I759","v":548.64},{"$f":"'12.2018 Data'!J759","v":0},"926",5888.86,4130.13,1210.0899999999999,548.64,0,{"$f":"IF(ISNUMBER(MATCH($B779,'Org functional rollups'!$A:$A,0)),INDEX('Org functional rollups'!$D:$D,MATCH($B779,'Org functional rollups'!$A:$A,0)),0)","v":"Distribution"}]
[{"$f":"'12.2018 Data'!A760","v":"926100"},{"$f":"'12.2018 Data'!B760","v":"M09"},{"$f":"'12.2018 Data'!C760","v":"CD"},{"$f":"'12.2018 Data'!D760","v":"AA"},{"$f":"'12.2018 Data'!E760","v":"OPER"},{"$f":"'12.2018 Data'!F760","v":9695.26},{"$f":"'12.2018 Data'!G760","v":6799.77},{"$f":"'12.2018 Data'!H760","v":1992.29},{"$f":"'12.2018 Data'!I760","v":903.2},{"$f":"'12.2018 Data'!J760","v":0},"926",9695.26,6799.77,1992.29,903.2,0,{"$f":"IF(ISNUMBER(MATCH($B780,'Org functional rollups'!$A:$A,0)),INDEX('Org functional rollups'!$D:$D,MATCH($B780,'Org functional rollups'!$A:$A,0)),0)","v":"Common"}]
[{"$f":"'12.2018 Data'!A761","v":"926100"},{"$f":"'12.2018 Data'!B761","v":"M11"},{"$f":"'12.2018 Data'!C761","v":"CD"},{"$f":"'12.2018 Data'!D761","v":"AA"},{"$f":"'12.2018 Data'!E761","v":"OPER"},{"$f":"'12.2018 Data'!F761","v":38936.86},{"$f":"'12.2018 Data'!G761","v":27308.37},{"$f":"'12.2018 Data'!H761","v":8001.14},{"$f":"'12.2018 Data'!I761","v":3627.35},{"$f":"'12.2018 Data'!J761","v":0},"926",38936.86,27308.37,8001.14,3627.35,0,{"$f":"IF(ISNUMBER(MATCH($B781,'Org functional rollups'!$A:$A,0)),INDEX('Org functional rollups'!$D:$D,MATCH($B781,'Org functional rollups'!$A:$A,0)),0)","v":"Common"}]
[{"$f":"'12.2018 Data'!A762","v":"926100"},{"$f":"'12.2018 Data'!B762","v":"M19"},{"$f":"'12.2018 Data'!C762","v":"CD"},{"$f":"'12.2018 Data'!D762","v":"AA"},{"$f":"'12.2018 Data'!E762","v":"OPER"},{"$f":"'12.2018 Data'!F762","v":250},{"$f":"'12.2018 Data'!G762","v":175.34},{"$f":"'12.2018 Data'!H762","v":51.37},{"$f":"'12.2018 Data'!I762","v":23.29},{"$f":"'12.2018 Data'!J762","v":0},"926",250,175.34,51.37,23.29,0,{"$f":"IF(ISNUMBER(MATCH($B782,'Org functional rollups'!$A:$A,0)),INDEX('Org functional rollups'!$D:$D,MATCH($B782,'Org functional rollups'!$A:$A,0)),0)","v":"Common"}]
[{"$f":"'12.2018 Data'!A763","v":"926100"},{"$f":"'12.2018 Data'!B763","v":"M50"},{"$f":"'12.2018 Data'!C763","v":"ED"},{"$f":"'12.2018 Data'!D763","v":"AN"},{"$f":"'12.2018 Data'!E763","v":"OPER"},{"$f":"'12.2018 Data'!F763","v":4204.92},{"$f":"'12.2018 Data'!G763","v":4204.92},{"$f":"'12.2018 Data'!H763","v":0},{"$f":"'12.2018 Data'!I763","v":0},{"$f":"'12.2018 Data'!J763","v":0},"926",4204.92,4204.92,0,0,0,{"$f":"IF(ISNUMBER(MATCH($B783,'Org functional rollups'!$A:$A,0)),INDEX('Org functional rollups'!$D:$D,MATCH($B783,'Org functional rollups'!$A:$A,0)),0)","v":"Distribution"}]
[{"$f":"'12.2018 Data'!A764","v":"926100"},{"$f":"'12.2018 Data'!B764","v":"N02"},{"$f":"'12.2018 Data'!C764","v":"CD"},{"$f":"'12.2018 Data'!D764","v":"AA"},{"$f":"'12.2018 Data'!E764","v":"OPER"},{"$f":"'12.2018 Data'!F764","v":45.48},{"$f":"'12.2018 Data'!G764","v":31.9},{"$f":"'12.2018 Data'!H764","v":9.35},{"$f":"'12.2018 Data'!I764","v":4.2300000000000004},{"$f":"'12.2018 Data'!J764","v":0},"926",45.48,31.9,9.35,4.2300000000000004,0,{"$f":"IF(ISNUMBER(MATCH($B784,'Org functional rollups'!$A:$A,0)),INDEX('Org functional rollups'!$D:$D,MATCH($B784,'Org functional rollups'!$A:$A,0)),0)","v":"Common"}]
[{"$f":"'12.2018 Data'!A765","v":"926100"},{"$f":"'12.2018 Data'!B765","v":"N08"},{"$f":"'12.2018 Data'!C765","v":"ED"},{"$f":"'12.2018 Data'!D765","v":"AN"},{"$f":"'12.2018 Data'!E765","v":"OPER"},{"$f":"'12.2018 Data'!F765","v":38.26},{"$f":"'12.2018 Data'!G765","v":38.26},{"$f":"'12.2018 Data'!H765","v":0},{"$f":"'12.2018 Data'!I765","v":0},{"$f":"'12.2018 Data'!J765","v":0},"926",38.26,38.26,0,0,0,{"$f":"IF(ISNUMBER(MATCH($B785,'Org functional rollups'!$A:$A,0)),INDEX('Org functional rollups'!$D:$D,MATCH($B785,'Org functional rollups'!$A:$A,0)),0)","v":"Distribution"}]
[{"$f":"'12.2018 Data'!A766","v":"926100"},{"$f":"'12.2018 Data'!B766","v":"N08"},{"$f":"'12.2018 Data'!C766","v":"CD"},{"$f":"'12.2018 Data'!D766","v":"AN"},{"$f":"'12.2018 Data'!E766","v":"OPER"},{"$f":"'12.2018 Data'!F766","v":299.37},{"$f":"'12.2018 Data'!G766","v":232.66},{"$f":"'12.2018 Data'!H766","v":66.709999999999994},{"$f":"'12.2018 Data'!I766","v":0},{"$f":"'12.2018 Data'!J766","v":0},"926",299.37,232.66,66.709999999999994,0,0,{"$f":"IF(ISNUMBER(MATCH($B786,'Org functional rollups'!$A:$A,0)),INDEX('Org functional rollups'!$D:$D,MATCH($B786,'Org functional rollups'!$A:$A,0)),0)","v":"Distribution"}]
[{"$f":"'12.2018 Data'!A767","v":"926100"},{"$f":"'12.2018 Data'!B767","v":"N09"},{"$f":"'12.2018 Data'!C767","v":"CD"},{"$f":"'12.2018 Data'!D767","v":"AA"},{"$f":"'12.2018 Data'!E767","v":"OPER"},{"$f":"'12.2018 Data'!F767","v":8031.49},{"$f":"'12.2018 Data'!G767","v":5632.87},{"$f":"'12.2018 Data'!H767","v":1650.34},{"$f":"'12.2018 Data'!I767","v":748.28},{"$f":"'12.2018 Data'!J767","v":0},"926",8031.49,5632.87,1650.34,748.28,0,{"$f":"IF(ISNUMBER(MATCH($B787,'Org functional rollups'!$A:$A,0)),INDEX('Org functional rollups'!$D:$D,MATCH($B787,'Org functional rollups'!$A:$A,0)),0)","v":"Common"}]
[{"$f":"'12.2018 Data'!A768","v":"926100"},{"$f":"'12.2018 Data'!B768","v":"P03"},{"$f":"'12.2018 Data'!C768","v":"CD"},{"$f":"'12.2018 Data'!D768","v":"AA"},{"$f":"'12.2018 Data'!E768","v":"OPER"},{"$f":"'12.2018 Data'!F768","v":20666.240000000002},{"$f":"'12.2018 Data'!G768","v":14494.32},{"$f":"'12.2018 Data'!H768","v":4246.6899999999996},{"$f":"'12.2018 Data'!I768","v":1925.23},{"$f":"'12.2018 Data'!J768","v":0},"926",20666.240000000002,14494.32,4246.6899999999996,1925.23,0,{"$f":"IF(ISNUMBER(MATCH($B788,'Org functional rollups'!$A:$A,0)),INDEX('Org functional rollups'!$D:$D,MATCH($B788,'Org functional rollups'!$A:$A,0)),0)","v":"Distribution"}]
[{"$f":"'12.2018 Data'!A769","v":"926100"},{"$f":"'12.2018 Data'!B769","v":"P03"},{"$f":"'12.2018 Data'!C769","v":"CD"},{"$f":"'12.2018 Data'!D769","v":"WA"},{"$f":"'12.2018 Data'!E769","v":"OPER"},{"$f":"'12.2018 Data'!F769","v":716.19},{"$f":"'12.2018 Data'!G769","v":556.59},{"$f":"'12.2018 Data'!H769","v":159.6},{"$f":"'12.2018 Data'!I769","v":0},{"$f":"'12.2018 Data'!J769","v":0},"926",716.19,556.59,159.6,0,0,{"$f":"IF(ISNUMBER(MATCH($B789,'Org functional rollups'!$A:$A,0)),INDEX('Org functional rollups'!$D:$D,MATCH($B789,'Org functional rollups'!$A:$A,0)),0)","v":"Distribution"}]
[{"$f":"'12.2018 Data'!A770","v":"926100"},{"$f":"'12.2018 Data'!B770","v":"P03"},{"$f":"'12.2018 Data'!C770","v":"ED"},{"$f":"'12.2018 Data'!D770","v":"AN"},{"$f":"'12.2018 Data'!E770","v":"OPER"},{"$f":"'12.2018 Data'!F770","v":102.91},{"$f":"'12.2018 Data'!G770","v":102.91},{"$f":"'12.2018 Data'!H770","v":0},{"$f":"'12.2018 Data'!I770","v":0},{"$f":"'12.2018 Data'!J770","v":0},"926",102.91,102.91,0,0,0,{"$f":"IF(ISNUMBER(MATCH($B790,'Org functional rollups'!$A:$A,0)),INDEX('Org functional rollups'!$D:$D,MATCH($B790,'Org functional rollups'!$A:$A,0)),0)","v":"Distribution"}]
[{"$f":"'12.2018 Data'!A771","v":"926100"},{"$f":"'12.2018 Data'!B771","v":"P07"},{"$f":"'12.2018 Data'!C771","v":"CD"},{"$f":"'12.2018 Data'!D771","v":"AA"},{"$f":"'12.2018 Data'!E771","v":"OPER"},{"$f":"'12.2018 Data'!F771","v":3742.37},{"$f":"'12.2018 Data'!G771","v":2624.71},{"$f":"'12.2018 Data'!H771","v":769.03},{"$f":"'12.2018 Data'!I771","v":348.63},{"$f":"'12.2018 Data'!J771","v":0},"926",3742.37,2624.71,769.03,348.63,0,{"$f":"IF(ISNUMBER(MATCH($B791,'Org functional rollups'!$A:$A,0)),INDEX('Org functional rollups'!$D:$D,MATCH($B791,'Org functional rollups'!$A:$A,0)),0)","v":"Production"}]
[{"$f":"'12.2018 Data'!A772","v":"926100"},{"$f":"'12.2018 Data'!B772","v":"P08"},{"$f":"'12.2018 Data'!C772","v":"CD"},{"$f":"'12.2018 Data'!D772","v":"AN"},{"$f":"'12.2018 Data'!E772","v":"OPER"},{"$f":"'12.2018 Data'!F772","v":3340.09},{"$f":"'12.2018 Data'!G772","v":2595.7399999999998},{"$f":"'12.2018 Data'!H772","v":744.35},{"$f":"'12.2018 Data'!I772","v":0},{"$f":"'12.2018 Data'!J772","v":0},"926",3340.09,2595.7399999999998,744.35,0,0,{"$f":"IF(ISNUMBER(MATCH($B792,'Org functional rollups'!$A:$A,0)),INDEX('Org functional rollups'!$D:$D,MATCH($B792,'Org functional rollups'!$A:$A,0)),0)","v":"Distribution"}]
[{"$f":"'12.2018 Data'!A773","v":"926100"},{"$f":"'12.2018 Data'!B773","v":"P08"},{"$f":"'12.2018 Data'!C773","v":"CD"},{"$f":"'12.2018 Data'!D773","v":"AA"},{"$f":"'12.2018 Data'!E773","v":"OPER"},{"$f":"'12.2018 Data'!F773","v":1022.6},{"$f":"'12.2018 Data'!G773","v":717.2},{"$f":"'12.2018 Data'!H773","v":210.12},{"$f":"'12.2018 Data'!I773","v":95.28},{"$f":"'12.2018 Data'!J773","v":0},"926",1022.6,717.2,210.12,95.28,0,{"$f":"IF(ISNUMBER(MATCH($B793,'Org functional rollups'!$A:$A,0)),INDEX('Org functional rollups'!$D:$D,MATCH($B793,'Org functional rollups'!$A:$A,0)),0)","v":"Distribution"}]
[{"$f":"'12.2018 Data'!A774","v":"926100"},{"$f":"'12.2018 Data'!B774","v":"P08"},{"$f":"'12.2018 Data'!C774","v":"ED"},{"$f":"'12.2018 Data'!D774","v":"AN"},{"$f":"'12.2018 Data'!E774","v":"OPER"},{"$f":"'12.2018 Data'!F774","v":831.93},{"$f":"'12.2018 Data'!G774","v":831.93},{"$f":"'12.2018 Data'!H774","v":0},{"$f":"'12.2018 Data'!I774","v":0},{"$f":"'12.2018 Data'!J774","v":0},"926",831.93,831.93,0,0,0,{"$f":"IF(ISNUMBER(MATCH($B794,'Org functional rollups'!$A:$A,0)),INDEX('Org functional rollups'!$D:$D,MATCH($B794,'Org functional rollups'!$A:$A,0)),0)","v":"Distribution"}]
[{"$f":"'12.2018 Data'!A775","v":"926100"},{"$f":"'12.2018 Data'!B775","v":"P09"},{"$f":"'12.2018 Data'!C775","v":"CD"},{"$f":"'12.2018 Data'!D775","v":"AA"},{"$f":"'12.2018 Data'!E775","v":"OPER"},{"$f":"'12.2018 Data'!F775","v":92035.57},{"$f":"'12.2018 Data'!G775","v":64549.11},{"$f":"'12.2018 Data'!H775","v":18912.36},{"$f":"'12.2018 Data'!I775","v":8574.1},{"$f":"'12.2018 Data'!J775","v":0},"926",92035.57,64549.11,18912.36,8574.1,0,{"$f":"IF(ISNUMBER(MATCH($B795,'Org functional rollups'!$A:$A,0)),INDEX('Org functional rollups'!$D:$D,MATCH($B795,'Org functional rollups'!$A:$A,0)),0)","v":"Common"}]
[{"$f":"'12.2018 Data'!A776","v":"926100"},{"$f":"'12.2018 Data'!B776","v":"P51"},{"$f":"'12.2018 Data'!C776","v":"CD"},{"$f":"'12.2018 Data'!D776","v":"AA"},{"$f":"'12.2018 Data'!E776","v":"OPER"},{"$f":"'12.2018 Data'!F776","v":10145.84},{"$f":"'12.2018 Data'!G776","v":7115.79},{"$f":"'12.2018 Data'!H776","v":2084.85},{"$f":"'12.2018 Data'!I776","v":945.2},{"$f":"'12.2018 Data'!J776","v":0},"926",10145.84,7115.79,2084.85,945.2,0,{"$f":"IF(ISNUMBER(MATCH($B796,'Org functional rollups'!$A:$A,0)),INDEX('Org functional rollups'!$D:$D,MATCH($B796,'Org functional rollups'!$A:$A,0)),0)","v":"Distribution"}]
[{"$f":"'12.2018 Data'!A777","v":"926100"},{"$f":"'12.2018 Data'!B777","v":"P59"},{"$f":"'12.2018 Data'!C777","v":"CD"},{"$f":"'12.2018 Data'!D777","v":"AA"},{"$f":"'12.2018 Data'!E777","v":"OPER"},{"$f":"'12.2018 Data'!F777","v":6299.94},{"$f":"'12.2018 Data'!G777","v":4418.46},{"$f":"'12.2018 Data'!H777","v":1294.55},{"$f":"'12.2018 Data'!I777","v":586.92999999999995},{"$f":"'12.2018 Data'!J777","v":0},"926",6299.94,4418.46,1294.55,586.92999999999995,0,{"$f":"IF(ISNUMBER(MATCH($B797,'Org functional rollups'!$A:$A,0)),INDEX('Org functional rollups'!$D:$D,MATCH($B797,'Org functional rollups'!$A:$A,0)),0)","v":"Common"}]
[{"$f":"'12.2018 Data'!A778","v":"926100"},{"$f":"'12.2018 Data'!B778","v":"P99"},{"$f":"'12.2018 Data'!C778","v":"CD"},{"$f":"'12.2018 Data'!D778","v":"AA"},{"$f":"'12.2018 Data'!E778","v":"OPER"},{"$f":"'12.2018 Data'!F778","v":21567.77},{"$f":"'12.2018 Data'!G778","v":15126.53},{"$f":"'12.2018 Data'!H778","v":4431.8599999999997},{"$f":"'12.2018 Data'!I778","v":2009.38},{"$f":"'12.2018 Data'!J778","v":0},"926",21567.77,15126.53,4431.8599999999997,2009.38,0,{"$f":"IF(ISNUMBER(MATCH($B798,'Org functional rollups'!$A:$A,0)),INDEX('Org functional rollups'!$D:$D,MATCH($B798,'Org functional rollups'!$A:$A,0)),0)","v":"Common"}]
[{"$f":"'12.2018 Data'!A779","v":"926100"},{"$f":"'12.2018 Data'!B779","v":"Q19"},{"$f":"'12.2018 Data'!C779","v":"CD"},{"$f":"'12.2018 Data'!D779","v":"AA"},{"$f":"'12.2018 Data'!E779","v":"OPER"},{"$f":"'12.2018 Data'!F779","v":21311.759999999998},{"$f":"'12.2018 Data'!G779","v":14946.98},{"$f":"'12.2018 Data'!H779","v":4379.3},{"$f":"'12.2018 Data'!I779","v":1985.48},{"$f":"'12.2018 Data'!J779","v":0},"926",21311.759999999998,14946.98,4379.3,1985.48,0,{"$f":"IF(ISNUMBER(MATCH($B799,'Org functional rollups'!$A:$A,0)),INDEX('Org functional rollups'!$D:$D,MATCH($B799,'Org functional rollups'!$A:$A,0)),0)","v":"Common"}]
[{"$f":"'12.2018 Data'!A780","v":"926100"},{"$f":"'12.2018 Data'!B780","v":"R07"},{"$f":"'12.2018 Data'!C780","v":"CD"},{"$f":"'12.2018 Data'!D780","v":"AA"},{"$f":"'12.2018 Data'!E780","v":"OPER"},{"$f":"'12.2018 Data'!F780","v":508.74},{"$f":"'12.2018 Data'!G780","v":356.8},{"$f":"'12.2018 Data'!H780","v":104.54},{"$f":"'12.2018 Data'!I780","v":47.4},{"$f":"'12.2018 Data'!J780","v":0},"926",508.74,356.8,104.54,47.4,0,{"$f":"IF(ISNUMBER(MATCH($B800,'Org functional rollups'!$A:$A,0)),INDEX('Org functional rollups'!$D:$D,MATCH($B800,'Org functional rollups'!$A:$A,0)),0)","v":"Production"}]
[{"$f":"'12.2018 Data'!A781","v":"926100"},{"$f":"'12.2018 Data'!B781","v":"R09"},{"$f":"'12.2018 Data'!C781","v":"CD"},{"$f":"'12.2018 Data'!D781","v":"AA"},{"$f":"'12.2018 Data'!E781","v":"OPER"},{"$f":"'12.2018 Data'!F781","v":1648.31},{"$f":"'12.2018 Data'!G781","v":1156.03},{"$f":"'12.2018 Data'!H781","v":338.72},{"$f":"'12.2018 Data'!I781","v":153.56},{"$f":"'12.2018 Data'!J781","v":0},"926",1648.31,1156.03,338.72,153.56,0,{"$f":"IF(ISNUMBER(MATCH($B801,'Org functional rollups'!$A:$A,0)),INDEX('Org functional rollups'!$D:$D,MATCH($B801,'Org functional rollups'!$A:$A,0)),0)","v":"Common"}]
[{"$f":"'12.2018 Data'!A782","v":"926100"},{"$f":"'12.2018 Data'!B782","v":"R11"},{"$f":"'12.2018 Data'!C782","v":"ED"},{"$f":"'12.2018 Data'!D782","v":"AN"},{"$f":"'12.2018 Data'!E782","v":"OPER"},{"$f":"'12.2018 Data'!F782","v":1219.67},{"$f":"'12.2018 Data'!G782","v":1219.67},{"$f":"'12.2018 Data'!H782","v":0},{"$f":"'12.2018 Data'!I782","v":0},{"$f":"'12.2018 Data'!J782","v":0},"926",1219.67,1219.67,0,0,0,{"$f":"IF(ISNUMBER(MATCH($B802,'Org functional rollups'!$A:$A,0)),INDEX('Org functional rollups'!$D:$D,MATCH($B802,'Org functional rollups'!$A:$A,0)),0)","v":"Common"}]
[{"$f":"'12.2018 Data'!A783","v":"926100"},{"$f":"'12.2018 Data'!B783","v":"R11"},{"$f":"'12.2018 Data'!C783","v":"CD"},{"$f":"'12.2018 Data'!D783","v":"AA"},{"$f":"'12.2018 Data'!E783","v":"OPER"},{"$f":"'12.2018 Data'!F783","v":11423.17},{"$f":"'12.2018 Data'!G783","v":8011.63},{"$f":"'12.2018 Data'!H783","v":2347.3200000000002},{"$f":"'12.2018 Data'!I783","v":1064.22},{"$f":"'12.2018 Data'!J783","v":0},"926",11423.17,8011.63,2347.3200000000002,1064.22,0,{"$f":"IF(ISNUMBER(MATCH($B803,'Org functional rollups'!$A:$A,0)),INDEX('Org functional rollups'!$D:$D,MATCH($B803,'Org functional rollups'!$A:$A,0)),0)","v":"Common"}]
[{"$f":"'12.2018 Data'!A784","v":"926100"},{"$f":"'12.2018 Data'!B784","v":"R19"},{"$f":"'12.2018 Data'!C784","v":"CD"},{"$f":"'12.2018 Data'!D784","v":"AA"},{"$f":"'12.2018 Data'!E784","v":"OPER"},{"$f":"'12.2018 Data'!F784","v":0},{"$f":"'12.2018 Data'!G784","v":0},{"$f":"'12.2018 Data'!H784","v":0},{"$f":"'12.2018 Data'!I784","v":0},{"$f":"'12.2018 Data'!J784","v":0},"926",0,0,0,0,0,{"$f":"IF(ISNUMBER(MATCH($B804,'Org functional rollups'!$A:$A,0)),INDEX('Org functional rollups'!$D:$D,MATCH($B804,'Org functional rollups'!$A:$A,0)),0)","v":"Common"}]
[{"$f":"'12.2018 Data'!A785","v":"926100"},{"$f":"'12.2018 Data'!B785","v":"R29"},{"$f":"'12.2018 Data'!C785","v":"CD"},{"$f":"'12.2018 Data'!D785","v":"AA"},{"$f":"'12.2018 Data'!E785","v":"OPER"},{"$f":"'12.2018 Data'!F785","v":1706.68},{"$f":"'12.2018 Data'!G785","v":1196.99},{"$f":"'12.2018 Data'!H785","v":350.7},{"$f":"'12.2018 Data'!I785","v":158.99},{"$f":"'12.2018 Data'!J785","v":0},"926",1706.68,1196.99,350.7,158.99,0,{"$f":"IF(ISNUMBER(MATCH($B805,'Org functional rollups'!$A:$A,0)),INDEX('Org functional rollups'!$D:$D,MATCH($B805,'Org functional rollups'!$A:$A,0)),0)","v":"Common"}]
[{"$f":"'12.2018 Data'!A786","v":"926100"},{"$f":"'12.2018 Data'!B786","v":"R51"},{"$f":"'12.2018 Data'!C786","v":"ED"},{"$f":"'12.2018 Data'!D786","v":"AN"},{"$f":"'12.2018 Data'!E786","v":"OPER"},{"$f":"'12.2018 Data'!F786","v":8956.39},{"$f":"'12.2018 Data'!G786","v":8956.39},{"$f":"'12.2018 Data'!H786","v":0},{"$f":"'12.2018 Data'!I786","v":0},{"$f":"'12.2018 Data'!J786","v":0},"926",8956.39,8956.39,0,0,0,{"$f":"IF(ISNUMBER(MATCH($B806,'Org functional rollups'!$A:$A,0)),INDEX('Org functional rollups'!$D:$D,MATCH($B806,'Org functional rollups'!$A:$A,0)),0)","v":"Distribution"}]
[{"$f":"'12.2018 Data'!A787","v":"926100"},{"$f":"'12.2018 Data'!B787","v":"R51"},{"$f":"'12.2018 Data'!C787","v":"CD"},{"$f":"'12.2018 Data'!D787","v":"AA"},{"$f":"'12.2018 Data'!E787","v":"OPER"},{"$f":"'12.2018 Data'!F787","v":1921.38},{"$f":"'12.2018 Data'!G787","v":1347.56},{"$f":"'12.2018 Data'!H787","v":394.82},{"$f":"'12.2018 Data'!I787","v":179},{"$f":"'12.2018 Data'!J787","v":0},"926",1921.38,1347.56,394.82,179,0,{"$f":"IF(ISNUMBER(MATCH($B807,'Org functional rollups'!$A:$A,0)),INDEX('Org functional rollups'!$D:$D,MATCH($B807,'Org functional rollups'!$A:$A,0)),0)","v":"Distribution"}]
[{"$f":"'12.2018 Data'!A788","v":"926100"},{"$f":"'12.2018 Data'!B788","v":"R53"},{"$f":"'12.2018 Data'!C788","v":"CD"},{"$f":"'12.2018 Data'!D788","v":"AA"},{"$f":"'12.2018 Data'!E788","v":"OPER"},{"$f":"'12.2018 Data'!F788","v":1305.96},{"$f":"'12.2018 Data'!G788","v":915.95},{"$f":"'12.2018 Data'!H788","v":268.37},{"$f":"'12.2018 Data'!I788","v":121.64},{"$f":"'12.2018 Data'!J788","v":0},"926",1305.96,915.95,268.37,121.64,0,{"$f":"IF(ISNUMBER(MATCH($B808,'Org functional rollups'!$A:$A,0)),INDEX('Org functional rollups'!$D:$D,MATCH($B808,'Org functional rollups'!$A:$A,0)),0)","v":"Distribution"}]
[{"$f":"'12.2018 Data'!A789","v":"926100"},{"$f":"'12.2018 Data'!B789","v":"R54"},{"$f":"'12.2018 Data'!C789","v":"CD"},{"$f":"'12.2018 Data'!D789","v":"AA"},{"$f":"'12.2018 Data'!E789","v":"OPER"},{"$f":"'12.2018 Data'!F789","v":30257.02},{"$f":"'12.2018 Data'!G789","v":21220.81},{"$f":"'12.2018 Data'!H789","v":6217.48},{"$f":"'12.2018 Data'!I789","v":2818.73},{"$f":"'12.2018 Data'!J789","v":0},"926",30257.02,21220.81,6217.48,2818.73,0,{"$f":"IF(ISNUMBER(MATCH($B809,'Org functional rollups'!$A:$A,0)),INDEX('Org functional rollups'!$D:$D,MATCH($B809,'Org functional rollups'!$A:$A,0)),0)","v":"Common"}]
[{"$f":"'12.2018 Data'!A790","v":"926100"},{"$f":"'12.2018 Data'!B790","v":"S09"},{"$f":"'12.2018 Data'!C790","v":"CD"},{"$f":"'12.2018 Data'!D790","v":"AA"},{"$f":"'12.2018 Data'!E790","v":"OPER"},{"$f":"'12.2018 Data'!F790","v":16800},{"$f":"'12.2018 Data'!G790","v":11782.68},{"$f":"'12.2018 Data'!H790","v":3452.23},{"$f":"'12.2018 Data'!I790","v":1565.09},{"$f":"'12.2018 Data'!J790","v":0},"926",16800,11782.68,3452.23,1565.09,0,{"$f":"IF(ISNUMBER(MATCH($B810,'Org functional rollups'!$A:$A,0)),INDEX('Org functional rollups'!$D:$D,MATCH($B810,'Org functional rollups'!$A:$A,0)),0)","v":"Common"}]
[{"$f":"'12.2018 Data'!A791","v":"926100"},{"$f":"'12.2018 Data'!B791","v":"S19"},{"$f":"'12.2018 Data'!C791","v":"CD"},{"$f":"'12.2018 Data'!D791","v":"AA"},{"$f":"'12.2018 Data'!E791","v":"OPER"},{"$f":"'12.2018 Data'!F791","v":1518.66},{"$f":"'12.2018 Data'!G791","v":1065.1099999999999},{"$f":"'12.2018 Data'!H791","v":312.07},{"$f":"'12.2018 Data'!I791","v":141.47999999999999},{"$f":"'12.2018 Data'!J791","v":0},"926",1518.66,1065.1099999999999,312.07,141.47999999999999,0,{"$f":"IF(ISNUMBER(MATCH($B811,'Org functional rollups'!$A:$A,0)),INDEX('Org functional rollups'!$D:$D,MATCH($B811,'Org functional rollups'!$A:$A,0)),0)","v":"Common"}]
[{"$f":"'12.2018 Data'!A792","v":"926100"},{"$f":"'12.2018 Data'!B792","v":"S39"},{"$f":"'12.2018 Data'!C792","v":"CD"},{"$f":"'12.2018 Data'!D792","v":"AA"},{"$f":"'12.2018 Data'!E792","v":"OPER"},{"$f":"'12.2018 Data'!F792","v":98},{"$f":"'12.2018 Data'!G792","v":68.739999999999995},{"$f":"'12.2018 Data'!H792","v":20.14},{"$f":"'12.2018 Data'!I792","v":9.1199999999999992},{"$f":"'12.2018 Data'!J792","v":0},"926",98,68.739999999999995,20.14,9.1199999999999992,0,{"$f":"IF(ISNUMBER(MATCH($B812,'Org functional rollups'!$A:$A,0)),INDEX('Org functional rollups'!$D:$D,MATCH($B812,'Org functional rollups'!$A:$A,0)),0)","v":"Common"}]
[{"$f":"'12.2018 Data'!A793","v":"926100"},{"$f":"'12.2018 Data'!B793","v":"S50"},{"$f":"'12.2018 Data'!C793","v":"CD"},{"$f":"'12.2018 Data'!D793","v":"AA"},{"$f":"'12.2018 Data'!E793","v":"OPER"},{"$f":"'12.2018 Data'!F793","v":19918.740000000002},{"$f":"'12.2018 Data'!G793","v":13970.02},{"$f":"'12.2018 Data'!H793","v":4093.12},{"$f":"'12.2018 Data'!I793","v":1855.6},{"$f":"'12.2018 Data'!J793","v":0},{"$f":"LEFT(A813,3)","v":"926"},{"$f":"IF(ISNUMBER(F813),F813,0)","v":19918.740000000002},{"$f":"IF(ISNUMBER(G813),G813,0)","v":13970.02},{"$f":"IF(ISNUMBER(H813),H813,0)","v":4093.12},{"$f":"IF(ISNUMBER(I813),I813,0)","v":1855.6},{"$f":"IF(ISNUMBER(J813),J813,0)","v":0},{"$f":"IF(ISNUMBER(MATCH($B813,'Org functional rollups'!$A:$A,0)),INDEX('Org functional rollups'!$D:$D,MATCH($B813,'Org functional rollups'!$A:$A,0)),0)","v":"Distribution"}]
[{"$f":"'12.2018 Data'!A794","v":"926100"},{"$f":"'12.2018 Data'!B794","v":"S50"},{"$f":"'12.2018 Data'!C794","v":"ED"},{"$f":"'12.2018 Data'!D794","v":"AN"},{"$f":"'12.2018 Data'!E794","v":"OPER"},{"$f":"'12.2018 Data'!F794","v":904.69},{"$f":"'12.2018 Data'!G794","v":904.69},{"$f":"'12.2018 Data'!H794","v":0},{"$f":"'12.2018 Data'!I794","v":0},{"$f":"'12.2018 Data'!J794","v":0},"926",904.69,904.69,0,0,0,{"$f":"IF(ISNUMBER(MATCH($B814,'Org functional rollups'!$A:$A,0)),INDEX('Org functional rollups'!$D:$D,MATCH($B814,'Org functional rollups'!$A:$A,0)),0)","v":"Distribution"}]
[{"$f":"'12.2018 Data'!A795","v":"926100"},{"$f":"'12.2018 Data'!B795","v":"S51"},{"$f":"'12.2018 Data'!C795","v":"CD"},{"$f":"'12.2018 Data'!D795","v":"AA"},{"$f":"'12.2018 Data'!E795","v":"OPER"},{"$f":"'12.2018 Data'!F795","v":9066.98},{"$f":"'12.2018 Data'!G795","v":6359.11},{"$f":"'12.2018 Data'!H795","v":1863.19},{"$f":"'12.2018 Data'!I795","v":844.68},{"$f":"'12.2018 Data'!J795","v":0},"926",9066.98,6359.11,1863.19,844.68,0,{"$f":"IF(ISNUMBER(MATCH($B815,'Org functional rollups'!$A:$A,0)),INDEX('Org functional rollups'!$D:$D,MATCH($B815,'Org functional rollups'!$A:$A,0)),0)","v":"Common"}]
[{"$f":"'12.2018 Data'!A796","v":"926100"},{"$f":"'12.2018 Data'!B796","v":"S51"},{"$f":"'12.2018 Data'!C796","v":"ED"},{"$f":"'12.2018 Data'!D796","v":"AN"},{"$f":"'12.2018 Data'!E796","v":"OPER"},{"$f":"'12.2018 Data'!F796","v":4291.25},{"$f":"'12.2018 Data'!G796","v":4291.25},{"$f":"'12.2018 Data'!H796","v":0},{"$f":"'12.2018 Data'!I796","v":0},{"$f":"'12.2018 Data'!J796","v":0},"926",4291.25,4291.25,0,0,0,{"$f":"IF(ISNUMBER(MATCH($B816,'Org functional rollups'!$A:$A,0)),INDEX('Org functional rollups'!$D:$D,MATCH($B816,'Org functional rollups'!$A:$A,0)),0)","v":"Common"}]
[{"$f":"'12.2018 Data'!A797","v":"926100"},{"$f":"'12.2018 Data'!B797","v":"S51"},{"$f":"'12.2018 Data'!C797","v":"GD"},{"$f":"'12.2018 Data'!D797","v":"AA"},{"$f":"'12.2018 Data'!E797","v":"OPER"},{"$f":"'12.2018 Data'!F797","v":3208.42},{"$f":"'12.2018 Data'!G797","v":0},{"$f":"'12.2018 Data'!H797","v":2199.8000000000002},{"$f":"'12.2018 Data'!I797","v":1008.62},{"$f":"'12.2018 Data'!J797","v":0},"926",3208.42,0,2199.8000000000002,1008.62,0,{"$f":"IF(ISNUMBER(MATCH($B817,'Org functional rollups'!$A:$A,0)),INDEX('Org functional rollups'!$D:$D,MATCH($B817,'Org functional rollups'!$A:$A,0)),0)","v":"Common"}]
[{"$f":"'12.2018 Data'!A798","v":"926100"},{"$f":"'12.2018 Data'!B798","v":"S51"},{"$f":"'12.2018 Data'!C798","v":"CD"},{"$f":"'12.2018 Data'!D798","v":"AN"},{"$f":"'12.2018 Data'!E798","v":"OPER"},{"$f":"'12.2018 Data'!F798","v":615.98},{"$f":"'12.2018 Data'!G798","v":478.71},{"$f":"'12.2018 Data'!H798","v":137.27000000000001},{"$f":"'12.2018 Data'!I798","v":0},{"$f":"'12.2018 Data'!J798","v":0},"926",615.98,478.71,137.27000000000001,0,0,{"$f":"IF(ISNUMBER(MATCH($B818,'Org functional rollups'!$A:$A,0)),INDEX('Org functional rollups'!$D:$D,MATCH($B818,'Org functional rollups'!$A:$A,0)),0)","v":"Common"}]
[{"$f":"'12.2018 Data'!A799","v":"926100"},{"$f":"'12.2018 Data'!B799","v":"S52"},{"$f":"'12.2018 Data'!C799","v":"CD"},{"$f":"'12.2018 Data'!D799","v":"AA"},{"$f":"'12.2018 Data'!E799","v":"OPER"},{"$f":"'12.2018 Data'!F799","v":3000},{"$f":"'12.2018 Data'!G799","v":2104.0500000000002},{"$f":"'12.2018 Data'!H799","v":616.47},{"$f":"'12.2018 Data'!I799","v":279.48},{"$f":"'12.2018 Data'!J799","v":0},"926",3000,2104.0500000000002,616.47,279.48,0,{"$f":"IF(ISNUMBER(MATCH($B819,'Org functional rollups'!$A:$A,0)),INDEX('Org functional rollups'!$D:$D,MATCH($B819,'Org functional rollups'!$A:$A,0)),0)","v":"Common"}]
[{"$f":"'12.2018 Data'!A800","v":"926100"},{"$f":"'12.2018 Data'!B800","v":"S54"},{"$f":"'12.2018 Data'!C800","v":"CD"},{"$f":"'12.2018 Data'!D800","v":"AA"},{"$f":"'12.2018 Data'!E800","v":"OPER"},{"$f":"'12.2018 Data'!F800","v":16638.18},{"$f":"'12.2018 Data'!G800","v":11669.18},{"$f":"'12.2018 Data'!H800","v":3418.99},{"$f":"'12.2018 Data'!I800","v":1550.01},{"$f":"'12.2018 Data'!J800","v":0},"926",16638.18,11669.18,3418.99,1550.01,0,{"$f":"IF(ISNUMBER(MATCH($B820,'Org functional rollups'!$A:$A,0)),INDEX('Org functional rollups'!$D:$D,MATCH($B820,'Org functional rollups'!$A:$A,0)),0)","v":"Common"}]
[{"$f":"'12.2018 Data'!A801","v":"926100"},{"$f":"'12.2018 Data'!B801","v":"T08"},{"$f":"'12.2018 Data'!C801","v":"CD"},{"$f":"'12.2018 Data'!D801","v":"AA"},{"$f":"'12.2018 Data'!E801","v":"OPER"},{"$f":"'12.2018 Data'!F801","v":28060.14},{"$f":"'12.2018 Data'!G801","v":19679.97},{"$f":"'12.2018 Data'!H801","v":5766.08},{"$f":"'12.2018 Data'!I801","v":2614.09},{"$f":"'12.2018 Data'!J801","v":0},"926",28060.14,19679.97,5766.08,2614.09,0,{"$f":"IF(ISNUMBER(MATCH($B821,'Org functional rollups'!$A:$A,0)),INDEX('Org functional rollups'!$D:$D,MATCH($B821,'Org functional rollups'!$A:$A,0)),0)","v":"Distribution"}]
[{"$f":"'12.2018 Data'!A802","v":"926100"},{"$f":"'12.2018 Data'!B802","v":"T19"},{"$f":"'12.2018 Data'!C802","v":"CD"},{"$f":"'12.2018 Data'!D802","v":"AA"},{"$f":"'12.2018 Data'!E802","v":"OPER"},{"$f":"'12.2018 Data'!F802","v":1423.3},{"$f":"'12.2018 Data'!G802","v":998.23},{"$f":"'12.2018 Data'!H802","v":292.48},{"$f":"'12.2018 Data'!I802","v":132.59},{"$f":"'12.2018 Data'!J802","v":0},"926",1423.3,998.23,292.48,132.59,0,{"$f":"IF(ISNUMBER(MATCH($B822,'Org functional rollups'!$A:$A,0)),INDEX('Org functional rollups'!$D:$D,MATCH($B822,'Org functional rollups'!$A:$A,0)),0)","v":"Common"}]
[{"$f":"'12.2018 Data'!A803","v":"926100"},{"$f":"'12.2018 Data'!B803","v":"T39"},{"$f":"'12.2018 Data'!C803","v":"CD"},{"$f":"'12.2018 Data'!D803","v":"AA"},{"$f":"'12.2018 Data'!E803","v":"OPER"},{"$f":"'12.2018 Data'!F803","v":13654.73},{"$f":"'12.2018 Data'!G803","v":9576.76},{"$f":"'12.2018 Data'!H803","v":2805.9},{"$f":"'12.2018 Data'!I803","v":1272.07},{"$f":"'12.2018 Data'!J803","v":0},"926",13654.73,9576.76,2805.9,1272.07,0,{"$f":"IF(ISNUMBER(MATCH($B823,'Org functional rollups'!$A:$A,0)),INDEX('Org functional rollups'!$D:$D,MATCH($B823,'Org functional rollups'!$A:$A,0)),0)","v":"Common"}]
[{"$f":"'12.2018 Data'!A804","v":"926100"},{"$f":"'12.2018 Data'!B804","v":"T51"},{"$f":"'12.2018 Data'!C804","v":"CD"},{"$f":"'12.2018 Data'!D804","v":"AN"},{"$f":"'12.2018 Data'!E804","v":"OPER"},{"$f":"'12.2018 Data'!F804","v":499},{"$f":"'12.2018 Data'!G804","v":387.8},{"$f":"'12.2018 Data'!H804","v":111.2},{"$f":"'12.2018 Data'!I804","v":0},{"$f":"'12.2018 Data'!J804","v":0},"926",499,387.8,111.2,0,0,{"$f":"IF(ISNUMBER(MATCH($B824,'Org functional rollups'!$A:$A,0)),INDEX('Org functional rollups'!$D:$D,MATCH($B824,'Org functional rollups'!$A:$A,0)),0)","v":"Distribution"}]
[{"$f":"'12.2018 Data'!A805","v":"926100"},{"$f":"'12.2018 Data'!B805","v":"T51"},{"$f":"'12.2018 Data'!C805","v":"CD"},{"$f":"'12.2018 Data'!D805","v":"AA"},{"$f":"'12.2018 Data'!E805","v":"OPER"},{"$f":"'12.2018 Data'!F805","v":10290.4},{"$f":"'12.2018 Data'!G805","v":7217.18},{"$f":"'12.2018 Data'!H805","v":2114.5500000000002},{"$f":"'12.2018 Data'!I805","v":958.67},{"$f":"'12.2018 Data'!J805","v":0},"926",10290.4,7217.18,2114.5500000000002,958.67,0,{"$f":"IF(ISNUMBER(MATCH($B825,'Org functional rollups'!$A:$A,0)),INDEX('Org functional rollups'!$D:$D,MATCH($B825,'Org functional rollups'!$A:$A,0)),0)","v":"Distribution"}]
[{"$f":"'12.2018 Data'!A806","v":"926100"},{"$f":"'12.2018 Data'!B806","v":"T51"},{"$f":"'12.2018 Data'!C806","v":"CD"},{"$f":"'12.2018 Data'!D806","v":"WA"},{"$f":"'12.2018 Data'!E806","v":"OPER"},{"$f":"'12.2018 Data'!F806","v":2595.6999999999998},{"$f":"'12.2018 Data'!G806","v":2017.25},{"$f":"'12.2018 Data'!H806","v":578.45000000000005},{"$f":"'12.2018 Data'!I806","v":0},{"$f":"'12.2018 Data'!J806","v":0},"926",2595.6999999999998,2017.25,578.45000000000005,0,0,{"$f":"IF(ISNUMBER(MATCH($B826,'Org functional rollups'!$A:$A,0)),INDEX('Org functional rollups'!$D:$D,MATCH($B826,'Org functional rollups'!$A:$A,0)),0)","v":"Distribution"}]
[{"$f":"'12.2018 Data'!A807","v":"926100"},{"$f":"'12.2018 Data'!B807","v":"T54"},{"$f":"'12.2018 Data'!C807","v":"CD"},{"$f":"'12.2018 Data'!D807","v":"AA"},{"$f":"'12.2018 Data'!E807","v":"OPER"},{"$f":"'12.2018 Data'!F807","v":22154.86},{"$f":"'12.2018 Data'!G807","v":15538.31},{"$f":"'12.2018 Data'!H807","v":4552.58},{"$f":"'12.2018 Data'!I807","v":2063.9699999999998},{"$f":"'12.2018 Data'!J807","v":0},"926",22154.86,15538.31,4552.58,2063.9699999999998,0,{"$f":"IF(ISNUMBER(MATCH($B827,'Org functional rollups'!$A:$A,0)),INDEX('Org functional rollups'!$D:$D,MATCH($B827,'Org functional rollups'!$A:$A,0)),0)","v":"Common"}]
[{"$f":"'12.2018 Data'!A808","v":"926100"},{"$f":"'12.2018 Data'!B808","v":"V08"},{"$f":"'12.2018 Data'!C808","v":"ED"},{"$f":"'12.2018 Data'!D808","v":"AN"},{"$f":"'12.2018 Data'!E808","v":"OPER"},{"$f":"'12.2018 Data'!F808","v":400.73},{"$f":"'12.2018 Data'!G808","v":400.73},{"$f":"'12.2018 Data'!H808","v":0},{"$f":"'12.2018 Data'!I808","v":0},{"$f":"'12.2018 Data'!J808","v":0},"926",400.73,400.73,0,0,0,{"$f":"IF(ISNUMBER(MATCH($B828,'Org functional rollups'!$A:$A,0)),INDEX('Org functional rollups'!$D:$D,MATCH($B828,'Org functional rollups'!$A:$A,0)),0)","v":"Common"}]
[{"$f":"'12.2018 Data'!A809","v":"926100"},{"$f":"'12.2018 Data'!B809","v":"V08"},{"$f":"'12.2018 Data'!C809","v":"CD"},{"$f":"'12.2018 Data'!D809","v":"AA"},{"$f":"'12.2018 Data'!E809","v":"OPER"},{"$f":"'12.2018 Data'!F809","v":500},{"$f":"'12.2018 Data'!G809","v":350.68},{"$f":"'12.2018 Data'!H809","v":102.75},{"$f":"'12.2018 Data'!I809","v":46.57},{"$f":"'12.2018 Data'!J809","v":0},"926",500,350.68,102.75,46.57,0,{"$f":"IF(ISNUMBER(MATCH($B829,'Org functional rollups'!$A:$A,0)),INDEX('Org functional rollups'!$D:$D,MATCH($B829,'Org functional rollups'!$A:$A,0)),0)","v":"Common"}]
[{"$f":"'12.2018 Data'!A810","v":"926100"},{"$f":"'12.2018 Data'!B810","v":"V19"},{"$f":"'12.2018 Data'!C810","v":"CD"},{"$f":"'12.2018 Data'!D810","v":"AA"},{"$f":"'12.2018 Data'!E810","v":"OPER"},{"$f":"'12.2018 Data'!F810","v":459.9},{"$f":"'12.2018 Data'!G810","v":322.55},{"$f":"'12.2018 Data'!H810","v":94.5},{"$f":"'12.2018 Data'!I810","v":42.85},{"$f":"'12.2018 Data'!J810","v":0},"926",459.9,322.55,94.5,42.85,0,{"$f":"IF(ISNUMBER(MATCH($B830,'Org functional rollups'!$A:$A,0)),INDEX('Org functional rollups'!$D:$D,MATCH($B830,'Org functional rollups'!$A:$A,0)),0)","v":"Common"}]
[{"$f":"'12.2018 Data'!A811","v":"926100"},{"$f":"'12.2018 Data'!B811","v":"V39"},{"$f":"'12.2018 Data'!C811","v":"CD"},{"$f":"'12.2018 Data'!D811","v":"AA"},{"$f":"'12.2018 Data'!E811","v":"OPER"},{"$f":"'12.2018 Data'!F811","v":1869.45},{"$f":"'12.2018 Data'!G811","v":1311.15},{"$f":"'12.2018 Data'!H811","v":384.15},{"$f":"'12.2018 Data'!I811","v":174.15},{"$f":"'12.2018 Data'!J811","v":0},"926",1869.45,1311.15,384.15,174.15,0,{"$f":"IF(ISNUMBER(MATCH($B831,'Org functional rollups'!$A:$A,0)),INDEX('Org functional rollups'!$D:$D,MATCH($B831,'Org functional rollups'!$A:$A,0)),0)","v":"Common"}]
[{"$f":"'12.2018 Data'!A812","v":"926100"},{"$f":"'12.2018 Data'!B812","v":"W01"},{"$f":"'12.2018 Data'!C812","v":"CD"},{"$f":"'12.2018 Data'!D812","v":"AA"},{"$f":"'12.2018 Data'!E812","v":"OPER"},{"$f":"'12.2018 Data'!F812","v":575},{"$f":"'12.2018 Data'!G812","v":403.28},{"$f":"'12.2018 Data'!H812","v":118.16},{"$f":"'12.2018 Data'!I812","v":53.56},{"$f":"'12.2018 Data'!J812","v":0},"926",575,403.28,118.16,53.56,0,{"$f":"IF(ISNUMBER(MATCH($B832,'Org functional rollups'!$A:$A,0)),INDEX('Org functional rollups'!$D:$D,MATCH($B832,'Org functional rollups'!$A:$A,0)),0)","v":"Common"}]
[{"$f":"'12.2018 Data'!A813","v":"926100"},{"$f":"'12.2018 Data'!B813","v":"W09"},{"$f":"'12.2018 Data'!C813","v":"CD"},{"$f":"'12.2018 Data'!D813","v":"AA"},{"$f":"'12.2018 Data'!E813","v":"OPER"},{"$f":"'12.2018 Data'!F813","v":24487.51},{"$f":"'12.2018 Data'!G813","v":17174.32},{"$f":"'12.2018 Data'!H813","v":5031.97},{"$f":"'12.2018 Data'!I813","v":2281.2199999999998},{"$f":"'12.2018 Data'!J813","v":0},"926",{"$f":"IF(ISNUMBER(F833),F833,0)","v":24487.51},{"$f":"IF(ISNUMBER(G833),G833,0)","v":17174.32},{"$f":"IF(ISNUMBER(H833),H833,0)","v":5031.97},{"$f":"IF(ISNUMBER(I833),I833,0)","v":2281.2199999999998},{"$f":"IF(ISNUMBER(J833),J833,0)","v":0},{"$f":"IF(ISNUMBER(MATCH($B833,'Org functional rollups'!$A:$A,0)),INDEX('Org functional rollups'!$D:$D,MATCH($B833,'Org functional rollups'!$A:$A,0)),0)","v":"Common"}]
[{"$f":"'12.2018 Data'!A814","v":"926100"},{"$f":"'12.2018 Data'!B814","v":"W39"},{"$f":"'12.2018 Data'!C814","v":"CD"},{"$f":"'12.2018 Data'!D814","v":"AA"},{"$f":"'12.2018 Data'!E814","v":"OPER"},{"$f":"'12.2018 Data'!F814","v":12714.3},{"$f":"'12.2018 Data'!G814","v":8917.16},{"$f":"'12.2018 Data'!H814","v":2612.66},{"$f":"'12.2018 Data'!I814","v":1184.48},{"$f":"'12.2018 Data'!J814","v":0},"926",12714.3,8917.16,2612.66,1184.48,0,{"$f":"IF(ISNUMBER(MATCH($B834,'Org functional rollups'!$A:$A,0)),INDEX('Org functional rollups'!$D:$D,MATCH($B834,'Org functional rollups'!$A:$A,0)),0)","v":"Common"}]
[{"$f":"'12.2018 Data'!A815","v":"926100"},{"$f":"'12.2018 Data'!B815","v":"X02"},{"$f":"'12.2018 Data'!C815","v":"CD"},{"$f":"'12.2018 Data'!D815","v":"AA"},{"$f":"'12.2018 Data'!E815","v":"OPER"},{"$f":"'12.2018 Data'!F815","v":22732.9},{"$f":"'12.2018 Data'!G815","v":15943.78},{"$f":"'12.2018 Data'!H815","v":4671.29},{"$f":"'12.2018 Data'!I815","v":2117.83},{"$f":"'12.2018 Data'!J815","v":0},"926",22732.9,15943.78,4671.29,2117.83,0,{"$f":"IF(ISNUMBER(MATCH($B835,'Org functional rollups'!$A:$A,0)),INDEX('Org functional rollups'!$D:$D,MATCH($B835,'Org functional rollups'!$A:$A,0)),0)","v":"Common"}]
[{"$f":"'12.2018 Data'!A816","v":"926100"},{"$f":"'12.2018 Data'!B816","v":"X08"},{"$f":"'12.2018 Data'!C816","v":"ED"},{"$f":"'12.2018 Data'!D816","v":"AN"},{"$f":"'12.2018 Data'!E816","v":"OPER"},{"$f":"'12.2018 Data'!F816","v":158.66999999999999},{"$f":"'12.2018 Data'!G816","v":158.66999999999999},{"$f":"'12.2018 Data'!H816","v":0},{"$f":"'12.2018 Data'!I816","v":0},{"$f":"'12.2018 Data'!J816","v":0},"926",158.66999999999999,158.66999999999999,0,0,0,{"$f":"IF(ISNUMBER(MATCH($B836,'Org functional rollups'!$A:$A,0)),INDEX('Org functional rollups'!$D:$D,MATCH($B836,'Org functional rollups'!$A:$A,0)),0)","v":"Production"}]
[{"$f":"'12.2018 Data'!A817","v":"926100"},{"$f":"'12.2018 Data'!B817","v":"X09"},{"$f":"'12.2018 Data'!C817","v":"CD"},{"$f":"'12.2018 Data'!D817","v":"AA"},{"$f":"'12.2018 Data'!E817","v":"OPER"},{"$f":"'12.2018 Data'!F817","v":3636.09},{"$f":"'12.2018 Data'!G817","v":2550.16},{"$f":"'12.2018 Data'!H817","v":747.17},{"$f":"'12.2018 Data'!I817","v":338.76},{"$f":"'12.2018 Data'!J817","v":0},"926",3636.09,2550.16,747.17,338.76,0,{"$f":"IF(ISNUMBER(MATCH($B837,'Org functional rollups'!$A:$A,0)),INDEX('Org functional rollups'!$D:$D,MATCH($B837,'Org functional rollups'!$A:$A,0)),0)","v":"Common"}]
[{"$f":"'12.2018 Data'!A818","v":"926100"},{"$f":"'12.2018 Data'!B818","v":"X39"},{"$f":"'12.2018 Data'!C818","v":"CD"},{"$f":"'12.2018 Data'!D818","v":"AA"},{"$f":"'12.2018 Data'!E818","v":"OPER"},{"$f":"'12.2018 Data'!F818","v":13403.03},{"$f":"'12.2018 Data'!G818","v":9400.2099999999991},{"$f":"'12.2018 Data'!H818","v":2754.17},{"$f":"'12.2018 Data'!I818","v":1248.6500000000001},{"$f":"'12.2018 Data'!J818","v":0},"926",13403.03,9400.2099999999991,2754.17,1248.6500000000001,0,{"$f":"IF(ISNUMBER(MATCH($B838,'Org functional rollups'!$A:$A,0)),INDEX('Org functional rollups'!$D:$D,MATCH($B838,'Org functional rollups'!$A:$A,0)),0)","v":"Common"}]
[{"$f":"'12.2018 Data'!A819","v":"926100"},{"$f":"'12.2018 Data'!B819","v":"Y01"},{"$f":"'12.2018 Data'!C819","v":"CD"},{"$f":"'12.2018 Data'!D819","v":"AA"},{"$f":"'12.2018 Data'!E819","v":"OPER"},{"$f":"'12.2018 Data'!F819","v":29814.35},{"$f":"'12.2018 Data'!G819","v":20910.3},{"$f":"'12.2018 Data'!H819","v":6126.58},{"$f":"'12.2018 Data'!I819","v":2777.47},{"$f":"'12.2018 Data'!J819","v":0},"926",29814.35,20910.3,6126.58,2777.47,0,{"$f":"IF(ISNUMBER(MATCH($B839,'Org functional rollups'!$A:$A,0)),INDEX('Org functional rollups'!$D:$D,MATCH($B839,'Org functional rollups'!$A:$A,0)),0)","v":"Common"}]
[{"$f":"'12.2018 Data'!A820","v":"926100"},{"$f":"'12.2018 Data'!B820","v":"Y39"},{"$f":"'12.2018 Data'!C820","v":"CD"},{"$f":"'12.2018 Data'!D820","v":"AA"},{"$f":"'12.2018 Data'!E820","v":"OPER"},{"$f":"'12.2018 Data'!F820","v":15680.52},{"$f":"'12.2018 Data'!G820","v":10997.51},{"$f":"'12.2018 Data'!H820","v":3222.2},{"$f":"'12.2018 Data'!I820","v":1460.81},{"$f":"'12.2018 Data'!J820","v":0},"926",15680.52,10997.51,3222.2,1460.81,0,{"$f":"IF(ISNUMBER(MATCH($B840,'Org functional rollups'!$A:$A,0)),INDEX('Org functional rollups'!$D:$D,MATCH($B840,'Org functional rollups'!$A:$A,0)),0)","v":"Common"}]
[{"$f":"'12.2018 Data'!A821","v":"926100"},{"$f":"'12.2018 Data'!B821","v":"Y54"},{"$f":"'12.2018 Data'!C821","v":"CD"},{"$f":"'12.2018 Data'!D821","v":"AA"},{"$f":"'12.2018 Data'!E821","v":"OPER"},{"$f":"'12.2018 Data'!F821","v":1773.78},{"$f":"'12.2018 Data'!G821","v":1244.04},{"$f":"'12.2018 Data'!H821","v":364.5},{"$f":"'12.2018 Data'!I821","v":165.24},{"$f":"'12.2018 Data'!J821","v":0},"926",1773.78,1244.04,364.5,165.24,0,{"$f":"IF(ISNUMBER(MATCH($B841,'Org functional rollups'!$A:$A,0)),INDEX('Org functional rollups'!$D:$D,MATCH($B841,'Org functional rollups'!$A:$A,0)),0)","v":"Common"}]
[{"$f":"'12.2018 Data'!A822","v":"926100"},{"$f":"'12.2018 Data'!B822","v":"Y55"},{"$f":"'12.2018 Data'!C822","v":"CD"},{"$f":"'12.2018 Data'!D822","v":"AA"},{"$f":"'12.2018 Data'!E822","v":"OPER"},{"$f":"'12.2018 Data'!F822","v":9277.4599999999991},{"$f":"'12.2018 Data'!G822","v":6506.76},{"$f":"'12.2018 Data'!H822","v":1906.41},{"$f":"'12.2018 Data'!I822","v":864.29},{"$f":"'12.2018 Data'!J822","v":0},"926",9277.4599999999991,6506.76,1906.41,864.29,0,{"$f":"IF(ISNUMBER(MATCH($B842,'Org functional rollups'!$A:$A,0)),INDEX('Org functional rollups'!$D:$D,MATCH($B842,'Org functional rollups'!$A:$A,0)),0)","v":"Production"}]
[{"$f":"'12.2018 Data'!A823","v":"926100"},{"$f":"'12.2018 Data'!B823","v":"Y55"},{"$f":"'12.2018 Data'!C823","v":"ED"},{"$f":"'12.2018 Data'!D823","v":"AN"},{"$f":"'12.2018 Data'!E823","v":"OPER"},{"$f":"'12.2018 Data'!F823","v":1954.31},{"$f":"'12.2018 Data'!G823","v":1954.31},{"$f":"'12.2018 Data'!H823","v":0},{"$f":"'12.2018 Data'!I823","v":0},{"$f":"'12.2018 Data'!J823","v":0},"926",1954.31,1954.31,0,0,0,{"$f":"IF(ISNUMBER(MATCH($B843,'Org functional rollups'!$A:$A,0)),INDEX('Org functional rollups'!$D:$D,MATCH($B843,'Org functional rollups'!$A:$A,0)),0)","v":"Production"}]
[{"$f":"'12.2018 Data'!A824","v":"926100"},{"$f":"'12.2018 Data'!B824","v":"Z08"},{"$f":"'12.2018 Data'!C824","v":"CD"},{"$f":"'12.2018 Data'!D824","v":"AA"},{"$f":"'12.2018 Data'!E824","v":"OPER"},{"$f":"'12.2018 Data'!F824","v":9204.32},{"$f":"'12.2018 Data'!G824","v":6455.44},{"$f":"'12.2018 Data'!H824","v":1891.44},{"$f":"'12.2018 Data'!I824","v":857.44},{"$f":"'12.2018 Data'!J824","v":0},"926",9204.32,6455.44,1891.44,857.44,0,{"$f":"IF(ISNUMBER(MATCH($B844,'Org functional rollups'!$A:$A,0)),INDEX('Org functional rollups'!$D:$D,MATCH($B844,'Org functional rollups'!$A:$A,0)),0)","v":"Distribution"}]
[{"$f":"'12.2018 Data'!A825","v":"926100"},{"$f":"'12.2018 Data'!B825","v":"Z57"},{"$f":"'12.2018 Data'!C825","v":"ED"},{"$f":"'12.2018 Data'!D825","v":"AN"},{"$f":"'12.2018 Data'!E825","v":"OPER"},{"$f":"'12.2018 Data'!F825","v":-252.15},{"$f":"'12.2018 Data'!G825","v":-252.15},{"$f":"'12.2018 Data'!H825","v":0},{"$f":"'12.2018 Data'!I825","v":0},{"$f":"'12.2018 Data'!J825","v":0},"926",-252.15,-252.15,0,0,0,{"$f":"IF(ISNUMBER(MATCH($B845,'Org functional rollups'!$A:$A,0)),INDEX('Org functional rollups'!$D:$D,MATCH($B845,'Org functional rollups'!$A:$A,0)),0)","v":"Common"}]
[{"$f":"'12.2018 Data'!A826","v":"926100"},{"$f":"'12.2018 Data'!B826","v":"Z87"},{"$f":"'12.2018 Data'!C826","v":"CD"},{"$f":"'12.2018 Data'!D826","v":"AN"},{"$f":"'12.2018 Data'!E826","v":"OPER"},{"$f":"'12.2018 Data'!F826","v":6336.45},{"$f":"'12.2018 Data'!G826","v":4924.34},{"$f":"'12.2018 Data'!H826","v":1412.11},{"$f":"'12.2018 Data'!I826","v":0},{"$f":"'12.2018 Data'!J826","v":0},"926",6336.45,4924.34,1412.11,0,0,{"$f":"IF(ISNUMBER(MATCH($B846,'Org functional rollups'!$A:$A,0)),INDEX('Org functional rollups'!$D:$D,MATCH($B846,'Org functional rollups'!$A:$A,0)),0)","v":"Common"}]
[{"$f":"'12.2018 Data'!A827","v":"926100"},{"$f":"'12.2018 Data'!B827","v":"Z87"},{"$f":"'12.2018 Data'!C827","v":"CD"},{"$f":"'12.2018 Data'!D827","v":"WA"},{"$f":"'12.2018 Data'!E827","v":"OPER"},{"$f":"'12.2018 Data'!F827","v":2315.4299999999998},{"$f":"'12.2018 Data'!G827","v":1799.44},{"$f":"'12.2018 Data'!H827","v":515.99},{"$f":"'12.2018 Data'!I827","v":0},{"$f":"'12.2018 Data'!J827","v":0},"926",2315.4299999999998,1799.44,515.99,0,0,{"$f":"IF(ISNUMBER(MATCH($B847,'Org functional rollups'!$A:$A,0)),INDEX('Org functional rollups'!$D:$D,MATCH($B847,'Org functional rollups'!$A:$A,0)),0)","v":"Common"}]
[{"$f":"'12.2018 Data'!A828","v":"926100"},{"$f":"'12.2018 Data'!B828","v":"Z87"},{"$f":"'12.2018 Data'!C828","v":"ED"},{"$f":"'12.2018 Data'!D828","v":"AN"},{"$f":"'12.2018 Data'!E828","v":"OPER"},{"$f":"'12.2018 Data'!F828","v":43198.05},{"$f":"'12.2018 Data'!G828","v":43198.05},{"$f":"'12.2018 Data'!H828","v":0},{"$f":"'12.2018 Data'!I828","v":0},{"$f":"'12.2018 Data'!J828","v":0},"926",43198.05,43198.05,0,0,0,{"$f":"IF(ISNUMBER(MATCH($B848,'Org functional rollups'!$A:$A,0)),INDEX('Org functional rollups'!$D:$D,MATCH($B848,'Org functional rollups'!$A:$A,0)),0)","v":"Common"}]
[{"$f":"'12.2018 Data'!A829","v":"926100"},{"$f":"'12.2018 Data'!B829","v":"Z87"},{"$f":"'12.2018 Data'!C829","v":"CD"},{"$f":"'12.2018 Data'!D829","v":"AA"},{"$f":"'12.2018 Data'!E829","v":"OPER"},{"$f":"'12.2018 Data'!F829","v":278195.84999999998},{"$f":"'12.2018 Data'!G829","v":195112.75},{"$f":"'12.2018 Data'!H829","v":57166.27},{"$f":"'12.2018 Data'!I829","v":25916.83},{"$f":"'12.2018 Data'!J829","v":0},"926",278195.84999999998,195112.75,57166.27,25916.83,0,{"$f":"IF(ISNUMBER(MATCH($B849,'Org functional rollups'!$A:$A,0)),INDEX('Org functional rollups'!$D:$D,MATCH($B849,'Org functional rollups'!$A:$A,0)),0)","v":"Common"}]
[{"$f":"'12.2018 Data'!A830","v":"926100"},{"$f":"'12.2018 Data'!B830","v":"Z88"},{"$f":"'12.2018 Data'!C830","v":"CD"},{"$f":"'12.2018 Data'!D830","v":"AN"},{"$f":"'12.2018 Data'!E830","v":"OPER"},{"$f":"'12.2018 Data'!F830","v":210},{"$f":"'12.2018 Data'!G830","v":163.19999999999999},{"$f":"'12.2018 Data'!H830","v":46.8},{"$f":"'12.2018 Data'!I830","v":0},{"$f":"'12.2018 Data'!J830","v":0},"926",210,163.19999999999999,46.8,0,0,{"$f":"IF(ISNUMBER(MATCH($B850,'Org functional rollups'!$A:$A,0)),INDEX('Org functional rollups'!$D:$D,MATCH($B850,'Org functional rollups'!$A:$A,0)),0)","v":"Distribution"}]
[{"$f":"'12.2018 Data'!A831","v":"926100"},{"$f":"'12.2018 Data'!B831","v":"Z88"},{"$f":"'12.2018 Data'!C831","v":"ED"},{"$f":"'12.2018 Data'!D831","v":"AN"},{"$f":"'12.2018 Data'!E831","v":"OPER"},{"$f":"'12.2018 Data'!F831","v":1224.25},{"$f":"'12.2018 Data'!G831","v":1224.25},{"$f":"'12.2018 Data'!H831","v":0},{"$f":"'12.2018 Data'!I831","v":0},{"$f":"'12.2018 Data'!J831","v":0},"926",1224.25,1224.25,0,0,0,{"$f":"IF(ISNUMBER(MATCH($B851,'Org functional rollups'!$A:$A,0)),INDEX('Org functional rollups'!$D:$D,MATCH($B851,'Org functional rollups'!$A:$A,0)),0)","v":"Distribution"}]
[{"$f":"'12.2018 Data'!A832","v":"926100"},{"$f":"'12.2018 Data'!B832","v":"Z88"},{"$f":"'12.2018 Data'!C832","v":"CD"},{"$f":"'12.2018 Data'!D832","v":"AA"},{"$f":"'12.2018 Data'!E832","v":"OPER"},{"$f":"'12.2018 Data'!F832","v":26687.200000000001},{"$f":"'12.2018 Data'!G832","v":18717.060000000001},{"$f":"'12.2018 Data'!H832","v":5483.96},{"$f":"'12.2018 Data'!I832","v":2486.1799999999998},{"$f":"'12.2018 Data'!J832","v":0},"926",26687.200000000001,18717.060000000001,5483.96,2486.1799999999998,0,{"$f":"IF(ISNUMBER(MATCH($B852,'Org functional rollups'!$A:$A,0)),INDEX('Org functional rollups'!$D:$D,MATCH($B852,'Org functional rollups'!$A:$A,0)),0)","v":"Distribution"}]
[{"$f":"'12.2018 Data'!A833","v":"926100"},{"$f":"'12.2018 Data'!B833","v":"Z89"},{"$f":"'12.2018 Data'!C833","v":"ED"},{"$f":"'12.2018 Data'!D833","v":"AN"},{"$f":"'12.2018 Data'!E833","v":"OPER"},{"$f":"'12.2018 Data'!F833","v":-5887.24},{"$f":"'12.2018 Data'!G833","v":-5887.24},{"$f":"'12.2018 Data'!H833","v":0},{"$f":"'12.2018 Data'!I833","v":0},{"$f":"'12.2018 Data'!J833","v":0},"926",-5887.24,-5887.24,0,0,0,{"$f":"IF(ISNUMBER(MATCH($B853,'Org functional rollups'!$A:$A,0)),INDEX('Org functional rollups'!$D:$D,MATCH($B853,'Org functional rollups'!$A:$A,0)),0)","v":"Common"}]
[{"$f":"'12.2018 Data'!A834","v":"926100"},{"$f":"'12.2018 Data'!B834","v":"Z89"},{"$f":"'12.2018 Data'!C834","v":"CD"},{"$f":"'12.2018 Data'!D834","v":"AN"},{"$f":"'12.2018 Data'!E834","v":"OPER"},{"$f":"'12.2018 Data'!F834","v":0},{"$f":"'12.2018 Data'!G834","v":0},{"$f":"'12.2018 Data'!H834","v":0},{"$f":"'12.2018 Data'!I834","v":0},{"$f":"'12.2018 Data'!J834","v":0},"926",0,0,0,0,0,{"$f":"IF(ISNUMBER(MATCH($B854,'Org functional rollups'!$A:$A,0)),INDEX('Org functional rollups'!$D:$D,MATCH($B854,'Org functional rollups'!$A:$A,0)),0)","v":"Common"}]
[{"$f":"'12.2018 Data'!A835","v":"926100"},{"$f":"'12.2018 Data'!B835","v":"Z89"},{"$f":"'12.2018 Data'!C835","v":"CD"},{"$f":"'12.2018 Data'!D835","v":"WA"},{"$f":"'12.2018 Data'!E835","v":"OPER"},{"$f":"'12.2018 Data'!F835","v":0},{"$f":"'12.2018 Data'!G835","v":0},{"$f":"'12.2018 Data'!H835","v":0},{"$f":"'12.2018 Data'!I835","v":0},{"$f":"'12.2018 Data'!J835","v":0},"926",0,0,0,0,0,{"$f":"IF(ISNUMBER(MATCH($B855,'Org functional rollups'!$A:$A,0)),INDEX('Org functional rollups'!$D:$D,MATCH($B855,'Org functional rollups'!$A:$A,0)),0)","v":"Common"}]
[{"$f":"'12.2018 Data'!A836","v":"926100"},{"$f":"'12.2018 Data'!B836","v":"Z89"},{"$f":"'12.2018 Data'!C836","v":"CD"},{"$f":"'12.2018 Data'!D836","v":"AA"},{"$f":"'12.2018 Data'!E836","v":"OPER"},{"$f":"'12.2018 Data'!F836","v":-3903.08},{"$f":"'12.2018 Data'!G836","v":-2737.43},{"$f":"'12.2018 Data'!H836","v":-802.06},{"$f":"'12.2018 Data'!I836","v":-363.59},{"$f":"'12.2018 Data'!J836","v":0},"926",-3903.08,-2737.43,-802.06,-363.59,0,{"$f":"IF(ISNUMBER(MATCH($B856,'Org functional rollups'!$A:$A,0)),INDEX('Org functional rollups'!$D:$D,MATCH($B856,'Org functional rollups'!$A:$A,0)),0)","v":"Common"}]
[{"$f":"'12.2018 Data'!A837","v":"926100"},{"$f":"'12.2018 Data'!B837","v":"Z90"},{"$f":"'12.2018 Data'!C837","v":"CD"},{"$f":"'12.2018 Data'!D837","v":"AA"},{"$f":"'12.2018 Data'!E837","v":"OPER"},{"$f":"'12.2018 Data'!F837","v":37515.32},{"$f":"'12.2018 Data'!G837","v":26311.41},{"$f":"'12.2018 Data'!H837","v":7709.03},{"$f":"'12.2018 Data'!I837","v":3494.88},{"$f":"'12.2018 Data'!J837","v":0},"926",37515.32,26311.41,7709.03,3494.88,0,{"$f":"IF(ISNUMBER(MATCH($B857,'Org functional rollups'!$A:$A,0)),INDEX('Org functional rollups'!$D:$D,MATCH($B857,'Org functional rollups'!$A:$A,0)),0)","v":"Common"}]
[{"$f":"'12.2018 Data'!A838","v":"926100"},{"$f":"'12.2018 Data'!B838","v":"Z90"},{"$f":"'12.2018 Data'!C838","v":"CD"},{"$f":"'12.2018 Data'!D838","v":"AN"},{"$f":"'12.2018 Data'!E838","v":"OPER"},{"$f":"'12.2018 Data'!F838","v":219.79},{"$f":"'12.2018 Data'!G838","v":170.82},{"$f":"'12.2018 Data'!H838","v":48.97},{"$f":"'12.2018 Data'!I838","v":0},{"$f":"'12.2018 Data'!J838","v":0},"926",219.79,170.82,48.97,0,0,{"$f":"IF(ISNUMBER(MATCH($B858,'Org functional rollups'!$A:$A,0)),INDEX('Org functional rollups'!$D:$D,MATCH($B858,'Org functional rollups'!$A:$A,0)),0)","v":"Common"}]
[{"$f":"'12.2018 Data'!A839","v":"926100"},{"$f":"'12.2018 Data'!B839","v":"Z90"},{"$f":"'12.2018 Data'!C839","v":"CD"},{"$f":"'12.2018 Data'!D839","v":"WA"},{"$f":"'12.2018 Data'!E839","v":"OPER"},{"$f":"'12.2018 Data'!F839","v":499.73},{"$f":"'12.2018 Data'!G839","v":388.37},{"$f":"'12.2018 Data'!H839","v":111.36},{"$f":"'12.2018 Data'!I839","v":0},{"$f":"'12.2018 Data'!J839","v":0},"926",499.73,388.37,111.36,0,0,{"$f":"IF(ISNUMBER(MATCH($B859,'Org functional rollups'!$A:$A,0)),INDEX('Org functional rollups'!$D:$D,MATCH($B859,'Org functional rollups'!$A:$A,0)),0)","v":"Common"}]
[{"$f":"'12.2018 Data'!A840","v":"926100"},{"$f":"'12.2018 Data'!B840","v":"Z90"},{"$f":"'12.2018 Data'!C840","v":"ED"},{"$f":"'12.2018 Data'!D840","v":"AN"},{"$f":"'12.2018 Data'!E840","v":"OPER"},{"$f":"'12.2018 Data'!F840","v":2689.78},{"$f":"'12.2018 Data'!G840","v":2689.78},{"$f":"'12.2018 Data'!H840","v":0},{"$f":"'12.2018 Data'!I840","v":0},{"$f":"'12.2018 Data'!J840","v":0},"926",2689.78,2689.78,0,0,0,{"$f":"IF(ISNUMBER(MATCH($B860,'Org functional rollups'!$A:$A,0)),INDEX('Org functional rollups'!$D:$D,MATCH($B860,'Org functional rollups'!$A:$A,0)),0)","v":"Common"}]
[{"$f":"'12.2018 Data'!A841","v":"927000"},{"$f":"'12.2018 Data'!B841","v":"J53"},{"$f":"'12.2018 Data'!C841","v":"ED"},{"$f":"'12.2018 Data'!D841","v":"ID"},{"$f":"'12.2018 Data'!E841","v":"OPER"},{"$f":"'12.2018 Data'!F841","v":1200},{"$f":"'12.2018 Data'!G841","v":1200},{"$f":"'12.2018 Data'!H841","v":0},{"$f":"'12.2018 Data'!I841","v":0},{"$f":"'12.2018 Data'!J841","v":0},"927",1200,1200,0,0,0,{"$f":"IF(ISNUMBER(MATCH($B861,'Org functional rollups'!$A:$A,0)),INDEX('Org functional rollups'!$D:$D,MATCH($B861,'Org functional rollups'!$A:$A,0)),0)","v":"Distribution"}]
[{"$f":"'12.2018 Data'!A842","v":"928000"},{"$f":"'12.2018 Data'!B842","v":"000"},{"$f":"'12.2018 Data'!C842","v":"CD"},{"$f":"'12.2018 Data'!D842","v":"AN"},{"$f":"'12.2018 Data'!E842","v":"OPER"},{"$f":"'12.2018 Data'!F842","v":0},{"$f":"'12.2018 Data'!G842","v":0},{"$f":"'12.2018 Data'!H842","v":0},{"$f":"'12.2018 Data'!I842","v":0},{"$f":"'12.2018 Data'!J842","v":0},"928",0,0,0,0,0,{"$f":"IF(ISNUMBER(MATCH($B862,'Org functional rollups'!$A:$A,0)),INDEX('Org functional rollups'!$D:$D,MATCH($B862,'Org functional rollups'!$A:$A,0)),0)","v":"Common"}]
[{"$f":"'12.2018 Data'!A843","v":"928000"},{"$f":"'12.2018 Data'!B843","v":"000"},{"$f":"'12.2018 Data'!C843","v":"ED"},{"$f":"'12.2018 Data'!D843","v":"WA"},{"$f":"'12.2018 Data'!E843","v":"OPER"},{"$f":"'12.2018 Data'!F843","v":12.25},{"$f":"'12.2018 Data'!G843","v":12.25},{"$f":"'12.2018 Data'!H843","v":0},{"$f":"'12.2018 Data'!I843","v":0},{"$f":"'12.2018 Data'!J843","v":0},"928",12.25,12.25,0,0,0,{"$f":"IF(ISNUMBER(MATCH($B863,'Org functional rollups'!$A:$A,0)),INDEX('Org functional rollups'!$D:$D,MATCH($B863,'Org functional rollups'!$A:$A,0)),0)","v":"Common"}]
[{"$f":"'12.2018 Data'!A844","v":"928000"},{"$f":"'12.2018 Data'!B844","v":"000"},{"$f":"'12.2018 Data'!C844","v":"ED"},{"$f":"'12.2018 Data'!D844","v":"AN"},{"$f":"'12.2018 Data'!E844","v":"OPER"},{"$f":"'12.2018 Data'!F844","v":0},{"$f":"'12.2018 Data'!G844","v":0},{"$f":"'12.2018 Data'!H844","v":0},{"$f":"'12.2018 Data'!I844","v":0},{"$f":"'12.2018 Data'!J844","v":0},"928",0,0,0,0,0,{"$f":"IF(ISNUMBER(MATCH($B864,'Org functional rollups'!$A:$A,0)),INDEX('Org functional rollups'!$D:$D,MATCH($B864,'Org functional rollups'!$A:$A,0)),0)","v":"Common"}]
[{"$f":"'12.2018 Data'!A845","v":"928000"},{"$f":"'12.2018 Data'!B845","v":"000"},{"$f":"'12.2018 Data'!C845","v":"GD"},{"$f":"'12.2018 Data'!D845","v":"WA"},{"$f":"'12.2018 Data'!E845","v":"OPER"},{"$f":"'12.2018 Data'!F845","v":3.55},{"$f":"'12.2018 Data'!G845","v":0},{"$f":"'12.2018 Data'!H845","v":3.55},{"$f":"'12.2018 Data'!I845","v":0},{"$f":"'12.2018 Data'!J845","v":0},"928",3.55,0,3.55,0,0,{"$f":"IF(ISNUMBER(MATCH($B865,'Org functional rollups'!$A:$A,0)),INDEX('Org functional rollups'!$D:$D,MATCH($B865,'Org functional rollups'!$A:$A,0)),0)","v":"Common"}]
[{"$f":"'12.2018 Data'!A846","v":"928000"},{"$f":"'12.2018 Data'!B846","v":"000"},{"$f":"'12.2018 Data'!C846","v":"CD"},{"$f":"'12.2018 Data'!D846","v":"ID"},{"$f":"'12.2018 Data'!E846","v":"OPER"},{"$f":"'12.2018 Data'!F846","v":2.66},{"$f":"'12.2018 Data'!G846","v":2.0699999999999998},{"$f":"'12.2018 Data'!H846","v":0.59},{"$f":"'12.2018 Data'!I846","v":0},{"$f":"'12.2018 Data'!J846","v":0},"928",2.66,2.0699999999999998,0.59,0,0,{"$f":"IF(ISNUMBER(MATCH($B866,'Org functional rollups'!$A:$A,0)),INDEX('Org functional rollups'!$D:$D,MATCH($B866,'Org functional rollups'!$A:$A,0)),0)","v":"Common"}]
[{"$f":"'12.2018 Data'!A847","v":"928000"},{"$f":"'12.2018 Data'!B847","v":"000"},{"$f":"'12.2018 Data'!C847","v":"GD"},{"$f":"'12.2018 Data'!D847","v":"OR"},{"$f":"'12.2018 Data'!E847","v":"OPER"},{"$f":"'12.2018 Data'!F847","v":11.6},{"$f":"'12.2018 Data'!G847","v":0},{"$f":"'12.2018 Data'!H847","v":0},{"$f":"'12.2018 Data'!I847","v":11.6},{"$f":"'12.2018 Data'!J847","v":0},"928",11.6,0,0,11.6,0,{"$f":"IF(ISNUMBER(MATCH($B867,'Org functional rollups'!$A:$A,0)),INDEX('Org functional rollups'!$D:$D,MATCH($B867,'Org functional rollups'!$A:$A,0)),0)","v":"Common"}]
[{"$f":"'12.2018 Data'!A848","v":"928000"},{"$f":"'12.2018 Data'!B848","v":"000"},{"$f":"'12.2018 Data'!C848","v":"CD"},{"$f":"'12.2018 Data'!D848","v":"AA"},{"$f":"'12.2018 Data'!E848","v":"OPER"},{"$f":"'12.2018 Data'!F848","v":6.29},{"$f":"'12.2018 Data'!G848","v":4.41},{"$f":"'12.2018 Data'!H848","v":1.29},{"$f":"'12.2018 Data'!I848","v":0.59},{"$f":"'12.2018 Data'!J848","v":0},"928",6.29,4.41,1.29,0.59,0,{"$f":"IF(ISNUMBER(MATCH($B868,'Org functional rollups'!$A:$A,0)),INDEX('Org functional rollups'!$D:$D,MATCH($B868,'Org functional rollups'!$A:$A,0)),0)","v":"Common"}]
[{"$f":"'12.2018 Data'!A849","v":"928000"},{"$f":"'12.2018 Data'!B849","v":"000"},{"$f":"'12.2018 Data'!C849","v":"CD"},{"$f":"'12.2018 Data'!D849","v":"WA"},{"$f":"'12.2018 Data'!E849","v":"OPER"},{"$f":"'12.2018 Data'!F849","v":21.97},{"$f":"'12.2018 Data'!G849","v":17.07},{"$f":"'12.2018 Data'!H849","v":4.9000000000000004},{"$f":"'12.2018 Data'!I849","v":0},{"$f":"'12.2018 Data'!J849","v":0},"928",21.97,17.07,4.9000000000000004,0,0,{"$f":"IF(ISNUMBER(MATCH($B869,'Org functional rollups'!$A:$A,0)),INDEX('Org functional rollups'!$D:$D,MATCH($B869,'Org functional rollups'!$A:$A,0)),0)","v":"Common"}]
[{"$f":"'12.2018 Data'!A850","v":"928000"},{"$f":"'12.2018 Data'!B850","v":"A07"},{"$f":"'12.2018 Data'!C850","v":"CD"},{"$f":"'12.2018 Data'!D850","v":"ID"},{"$f":"'12.2018 Data'!E850","v":"OPER"},{"$f":"'12.2018 Data'!F850","v":1294.04},{"$f":"'12.2018 Data'!G850","v":1005.66},{"$f":"'12.2018 Data'!H850","v":288.38},{"$f":"'12.2018 Data'!I850","v":0},{"$f":"'12.2018 Data'!J850","v":0},"928",1294.04,1005.66,288.38,0,0,{"$f":"IF(ISNUMBER(MATCH($B870,'Org functional rollups'!$A:$A,0)),INDEX('Org functional rollups'!$D:$D,MATCH($B870,'Org functional rollups'!$A:$A,0)),0)","v":"Production"}]
[{"$f":"'12.2018 Data'!A851","v":"928000"},{"$f":"'12.2018 Data'!B851","v":"A50"},{"$f":"'12.2018 Data'!C851","v":"ED"},{"$f":"'12.2018 Data'!D851","v":"WA"},{"$f":"'12.2018 Data'!E851","v":"OPER"},{"$f":"'12.2018 Data'!F851","v":248.08},{"$f":"'12.2018 Data'!G851","v":248.08},{"$f":"'12.2018 Data'!H851","v":0},{"$f":"'12.2018 Data'!I851","v":0},{"$f":"'12.2018 Data'!J851","v":0},"928",248.08,248.08,0,0,0,{"$f":"IF(ISNUMBER(MATCH($B871,'Org functional rollups'!$A:$A,0)),INDEX('Org functional rollups'!$D:$D,MATCH($B871,'Org functional rollups'!$A:$A,0)),0)","v":"Common"}]
[{"$f":"'12.2018 Data'!A852","v":"928000"},{"$f":"'12.2018 Data'!B852","v":"A56"},{"$f":"'12.2018 Data'!C852","v":"ED"},{"$f":"'12.2018 Data'!D852","v":"WA"},{"$f":"'12.2018 Data'!E852","v":"OPER"},{"$f":"'12.2018 Data'!F852","v":1107.8800000000001},{"$f":"'12.2018 Data'!G852","v":1107.8800000000001},{"$f":"'12.2018 Data'!H852","v":0},{"$f":"'12.2018 Data'!I852","v":0},{"$f":"'12.2018 Data'!J852","v":0},"928",1107.8800000000001,1107.8800000000001,0,0,0,{"$f":"IF(ISNUMBER(MATCH($B872,'Org functional rollups'!$A:$A,0)),INDEX('Org functional rollups'!$D:$D,MATCH($B872,'Org functional rollups'!$A:$A,0)),0)","v":"Transmission"}]
[{"$f":"'12.2018 Data'!A853","v":"928000"},{"$f":"'12.2018 Data'!B853","v":"A57"},{"$f":"'12.2018 Data'!C853","v":"CD"},{"$f":"'12.2018 Data'!D853","v":"WA"},{"$f":"'12.2018 Data'!E853","v":"OPER"},{"$f":"'12.2018 Data'!F853","v":348.63},{"$f":"'12.2018 Data'!G853","v":270.94},{"$f":"'12.2018 Data'!H853","v":77.69},{"$f":"'12.2018 Data'!I853","v":0},{"$f":"'12.2018 Data'!J853","v":0},"928",348.63,270.94,77.69,0,0,{"$f":"IF(ISNUMBER(MATCH($B873,'Org functional rollups'!$A:$A,0)),INDEX('Org functional rollups'!$D:$D,MATCH($B873,'Org functional rollups'!$A:$A,0)),0)","v":"Common"}]
[{"$f":"'12.2018 Data'!A854","v":"928000"},{"$f":"'12.2018 Data'!B854","v":"A57"},{"$f":"'12.2018 Data'!C854","v":"GD"},{"$f":"'12.2018 Data'!D854","v":"OR"},{"$f":"'12.2018 Data'!E854","v":"OPER"},{"$f":"'12.2018 Data'!F854","v":242.14},{"$f":"'12.2018 Data'!G854","v":0},{"$f":"'12.2018 Data'!H854","v":0},{"$f":"'12.2018 Data'!I854","v":242.14},{"$f":"'12.2018 Data'!J854","v":0},"928",242.14,0,0,242.14,0,{"$f":"IF(ISNUMBER(MATCH($B874,'Org functional rollups'!$A:$A,0)),INDEX('Org functional rollups'!$D:$D,MATCH($B874,'Org functional rollups'!$A:$A,0)),0)","v":"Common"}]
[{"$f":"'12.2018 Data'!A855","v":"928000"},{"$f":"'12.2018 Data'!B855","v":"B09"},{"$f":"'12.2018 Data'!C855","v":"ED"},{"$f":"'12.2018 Data'!D855","v":"WA"},{"$f":"'12.2018 Data'!E855","v":"OPER"},{"$f":"'12.2018 Data'!F855","v":257.85000000000002},{"$f":"'12.2018 Data'!G855","v":257.85000000000002},{"$f":"'12.2018 Data'!H855","v":0},{"$f":"'12.2018 Data'!I855","v":0},{"$f":"'12.2018 Data'!J855","v":0},"928",257.85000000000002,257.85000000000002,0,0,0,{"$f":"IF(ISNUMBER(MATCH($B875,'Org functional rollups'!$A:$A,0)),INDEX('Org functional rollups'!$D:$D,MATCH($B875,'Org functional rollups'!$A:$A,0)),0)","v":"Common"}]
[{"$f":"'12.2018 Data'!A856","v":"928000"},{"$f":"'12.2018 Data'!B856","v":"B56"},{"$f":"'12.2018 Data'!C856","v":"ED"},{"$f":"'12.2018 Data'!D856","v":"AN"},{"$f":"'12.2018 Data'!E856","v":"OPER"},{"$f":"'12.2018 Data'!F856","v":445257.46},{"$f":"'12.2018 Data'!G856","v":445257.46},{"$f":"'12.2018 Data'!H856","v":0},{"$f":"'12.2018 Data'!I856","v":0},{"$f":"'12.2018 Data'!J856","v":0},"928",445257.46,445257.46,0,0,0,{"$f":"IF(ISNUMBER(MATCH($B876,'Org functional rollups'!$A:$A,0)),INDEX('Org functional rollups'!$D:$D,MATCH($B876,'Org functional rollups'!$A:$A,0)),0)","v":"Transmission"}]
[{"$f":"'12.2018 Data'!A857","v":"928000"},{"$f":"'12.2018 Data'!B857","v":"C08"},{"$f":"'12.2018 Data'!C857","v":"ED"},{"$f":"'12.2018 Data'!D857","v":"WA"},{"$f":"'12.2018 Data'!E857","v":"OPER"},{"$f":"'12.2018 Data'!F857","v":952.99},{"$f":"'12.2018 Data'!G857","v":952.99},{"$f":"'12.2018 Data'!H857","v":0},{"$f":"'12.2018 Data'!I857","v":0},{"$f":"'12.2018 Data'!J857","v":0},{"$f":"LEFT(A877,3)","v":"928"},952.99,952.99,0,0,0,{"$f":"IF(ISNUMBER(MATCH($B877,'Org functional rollups'!$A:$A,0)),INDEX('Org functional rollups'!$D:$D,MATCH($B877,'Org functional rollups'!$A:$A,0)),0)","v":"Distribution"}]
[{"$f":"'12.2018 Data'!A858","v":"928000"},{"$f":"'12.2018 Data'!B858","v":"C19"},{"$f":"'12.2018 Data'!C858","v":"GD"},{"$f":"'12.2018 Data'!D858","v":"OR"},{"$f":"'12.2018 Data'!E858","v":"OPER"},{"$f":"'12.2018 Data'!F858","v":20},{"$f":"'12.2018 Data'!G858","v":0},{"$f":"'12.2018 Data'!H858","v":0},{"$f":"'12.2018 Data'!I858","v":20},{"$f":"'12.2018 Data'!J858","v":0},"928",20,0,0,20,0,{"$f":"IF(ISNUMBER(MATCH($B878,'Org functional rollups'!$A:$A,0)),INDEX('Org functional rollups'!$D:$D,MATCH($B878,'Org functional rollups'!$A:$A,0)),0)","v":"Common"}]
[{"$f":"'12.2018 Data'!A859","v":"928000"},{"$f":"'12.2018 Data'!B859","v":"C51"},{"$f":"'12.2018 Data'!C859","v":"CD"},{"$f":"'12.2018 Data'!D859","v":"AA"},{"$f":"'12.2018 Data'!E859","v":"OPER"},{"$f":"'12.2018 Data'!F859","v":823.49},{"$f":"'12.2018 Data'!G859","v":577.54999999999995},{"$f":"'12.2018 Data'!H859","v":169.22},{"$f":"'12.2018 Data'!I859","v":76.72},{"$f":"'12.2018 Data'!J859","v":0},"928",823.49,577.54999999999995,169.22,76.72,0,{"$f":"IF(ISNUMBER(MATCH($B879,'Org functional rollups'!$A:$A,0)),INDEX('Org functional rollups'!$D:$D,MATCH($B879,'Org functional rollups'!$A:$A,0)),0)","v":"Distribution"}]
[{"$f":"'12.2018 Data'!A860","v":"928000"},{"$f":"'12.2018 Data'!B860","v":"C54"},{"$f":"'12.2018 Data'!C860","v":"GD"},{"$f":"'12.2018 Data'!D860","v":"OR"},{"$f":"'12.2018 Data'!E860","v":"OPER"},{"$f":"'12.2018 Data'!F860","v":443.22},{"$f":"'12.2018 Data'!G860","v":0},{"$f":"'12.2018 Data'!H860","v":0},{"$f":"'12.2018 Data'!I860","v":443.22},{"$f":"'12.2018 Data'!J860","v":0},"928",443.22,0,0,443.22,0,{"$f":"IF(ISNUMBER(MATCH($B880,'Org functional rollups'!$A:$A,0)),INDEX('Org functional rollups'!$D:$D,MATCH($B880,'Org functional rollups'!$A:$A,0)),0)","v":"Common"}]
[{"$f":"'12.2018 Data'!A861","v":"928000"},{"$f":"'12.2018 Data'!B861","v":"D08"},{"$f":"'12.2018 Data'!C861","v":"CD"},{"$f":"'12.2018 Data'!D861","v":"WA"},{"$f":"'12.2018 Data'!E861","v":"OPER"},{"$f":"'12.2018 Data'!F861","v":205.11},{"$f":"'12.2018 Data'!G861","v":159.4},{"$f":"'12.2018 Data'!H861","v":45.71},{"$f":"'12.2018 Data'!I861","v":0},{"$f":"'12.2018 Data'!J861","v":0},"928",205.11,159.4,45.71,0,0,{"$f":"IF(ISNUMBER(MATCH($B881,'Org functional rollups'!$A:$A,0)),INDEX('Org functional rollups'!$D:$D,MATCH($B881,'Org functional rollups'!$A:$A,0)),0)","v":"Distribution"}]
[{"$f":"'12.2018 Data'!A862","v":"928000"},{"$f":"'12.2018 Data'!B862","v":"D09"},{"$f":"'12.2018 Data'!C862","v":"ED"},{"$f":"'12.2018 Data'!D862","v":"WA"},{"$f":"'12.2018 Data'!E862","v":"OPER"},{"$f":"'12.2018 Data'!F862","v":1097.18},{"$f":"'12.2018 Data'!G862","v":1097.18},{"$f":"'12.2018 Data'!H862","v":0},{"$f":"'12.2018 Data'!I862","v":0},{"$f":"'12.2018 Data'!J862","v":0},"928",1097.18,1097.18,0,0,0,{"$f":"IF(ISNUMBER(MATCH($B882,'Org functional rollups'!$A:$A,0)),INDEX('Org functional rollups'!$D:$D,MATCH($B882,'Org functional rollups'!$A:$A,0)),0)","v":"Transmission"}]
[{"$f":"'12.2018 Data'!A863","v":"928000"},{"$f":"'12.2018 Data'!B863","v":"D55"},{"$f":"'12.2018 Data'!C863","v":"GD"},{"$f":"'12.2018 Data'!D863","v":"ID"},{"$f":"'12.2018 Data'!E863","v":"OPER"},{"$f":"'12.2018 Data'!F863","v":1136.05},{"$f":"'12.2018 Data'!G863","v":0},{"$f":"'12.2018 Data'!H863","v":1136.05},{"$f":"'12.2018 Data'!I863","v":0},{"$f":"'12.2018 Data'!J863","v":0},"928",1136.05,0,1136.05,0,0,{"$f":"IF(ISNUMBER(MATCH($B883,'Org functional rollups'!$A:$A,0)),INDEX('Org functional rollups'!$D:$D,MATCH($B883,'Org functional rollups'!$A:$A,0)),0)","v":"Production"}]
[{"$f":"'12.2018 Data'!A864","v":"928000"},{"$f":"'12.2018 Data'!B864","v":"D55"},{"$f":"'12.2018 Data'!C864","v":"GD"},{"$f":"'12.2018 Data'!D864","v":"OR"},{"$f":"'12.2018 Data'!E864","v":"OPER"},{"$f":"'12.2018 Data'!F864","v":4725.6000000000004},{"$f":"'12.2018 Data'!G864","v":0},{"$f":"'12.2018 Data'!H864","v":0},{"$f":"'12.2018 Data'!I864","v":4725.6000000000004},{"$f":"'12.2018 Data'!J864","v":0},"928",4725.6000000000004,0,0,4725.6000000000004,0,{"$f":"IF(ISNUMBER(MATCH($B884,'Org functional rollups'!$A:$A,0)),INDEX('Org functional rollups'!$D:$D,MATCH($B884,'Org functional rollups'!$A:$A,0)),0)","v":"Production"}]
[{"$f":"'12.2018 Data'!A865","v":"928000"},{"$f":"'12.2018 Data'!B865","v":"D55"},{"$f":"'12.2018 Data'!C865","v":"CD"},{"$f":"'12.2018 Data'!D865","v":"WA"},{"$f":"'12.2018 Data'!E865","v":"OPER"},{"$f":"'12.2018 Data'!F865","v":71.8},{"$f":"'12.2018 Data'!G865","v":55.8},{"$f":"'12.2018 Data'!H865","v":16},{"$f":"'12.2018 Data'!I865","v":0},{"$f":"'12.2018 Data'!J865","v":0},"928",71.8,55.8,16,0,0,{"$f":"IF(ISNUMBER(MATCH($B885,'Org functional rollups'!$A:$A,0)),INDEX('Org functional rollups'!$D:$D,MATCH($B885,'Org functional rollups'!$A:$A,0)),0)","v":"Production"}]
[{"$f":"'12.2018 Data'!A866","v":"928000"},{"$f":"'12.2018 Data'!B866","v":"D55"},{"$f":"'12.2018 Data'!C866","v":"GD"},{"$f":"'12.2018 Data'!D866","v":"WA"},{"$f":"'12.2018 Data'!E866","v":"OPER"},{"$f":"'12.2018 Data'!F866","v":957.21},{"$f":"'12.2018 Data'!G866","v":0},{"$f":"'12.2018 Data'!H866","v":957.21},{"$f":"'12.2018 Data'!I866","v":0},{"$f":"'12.2018 Data'!J866","v":0},"928",957.21,0,957.21,0,0,{"$f":"IF(ISNUMBER(MATCH($B886,'Org functional rollups'!$A:$A,0)),INDEX('Org functional rollups'!$D:$D,MATCH($B886,'Org functional rollups'!$A:$A,0)),0)","v":"Production"}]
[{"$f":"'12.2018 Data'!A867","v":"928000"},{"$f":"'12.2018 Data'!B867","v":"D56"},{"$f":"'12.2018 Data'!C867","v":"CD"},{"$f":"'12.2018 Data'!D867","v":"AA"},{"$f":"'12.2018 Data'!E867","v":"OPER"},{"$f":"'12.2018 Data'!F867","v":1386.43},{"$f":"'12.2018 Data'!G867","v":972.37},{"$f":"'12.2018 Data'!H867","v":284.89999999999998},{"$f":"'12.2018 Data'!I867","v":129.16},{"$f":"'12.2018 Data'!J867","v":0},"928",1386.43,972.37,284.89999999999998,129.16,0,{"$f":"IF(ISNUMBER(MATCH($B887,'Org functional rollups'!$A:$A,0)),INDEX('Org functional rollups'!$D:$D,MATCH($B887,'Org functional rollups'!$A:$A,0)),0)","v":"Transmission"}]
[{"$f":"'12.2018 Data'!A868","v":"928000"},{"$f":"'12.2018 Data'!B868","v":"D56"},{"$f":"'12.2018 Data'!C868","v":"ED"},{"$f":"'12.2018 Data'!D868","v":"ID"},{"$f":"'12.2018 Data'!E868","v":"OPER"},{"$f":"'12.2018 Data'!F868","v":1970.19},{"$f":"'12.2018 Data'!G868","v":1970.19},{"$f":"'12.2018 Data'!H868","v":0},{"$f":"'12.2018 Data'!I868","v":0},{"$f":"'12.2018 Data'!J868","v":0},"928",1970.19,1970.19,0,0,0,{"$f":"IF(ISNUMBER(MATCH($B888,'Org functional rollups'!$A:$A,0)),INDEX('Org functional rollups'!$D:$D,MATCH($B888,'Org functional rollups'!$A:$A,0)),0)","v":"Transmission"}]
[{"$f":"'12.2018 Data'!A869","v":"928000"},{"$f":"'12.2018 Data'!B869","v":"D56"},{"$f":"'12.2018 Data'!C869","v":"ED"},{"$f":"'12.2018 Data'!D869","v":"WA"},{"$f":"'12.2018 Data'!E869","v":"OPER"},{"$f":"'12.2018 Data'!F869","v":2892.4},{"$f":"'12.2018 Data'!G869","v":2892.4},{"$f":"'12.2018 Data'!H869","v":0},{"$f":"'12.2018 Data'!I869","v":0},{"$f":"'12.2018 Data'!J869","v":0},"928",2892.4,2892.4,0,0,0,{"$f":"IF(ISNUMBER(MATCH($B889,'Org functional rollups'!$A:$A,0)),INDEX('Org functional rollups'!$D:$D,MATCH($B889,'Org functional rollups'!$A:$A,0)),0)","v":"Transmission"}]
[{"$f":"'12.2018 Data'!A870","v":"928000"},{"$f":"'12.2018 Data'!B870","v":"E01"},{"$f":"'12.2018 Data'!C870","v":"ED"},{"$f":"'12.2018 Data'!D870","v":"WA"},{"$f":"'12.2018 Data'!E870","v":"OPER"},{"$f":"'12.2018 Data'!F870","v":1317.2},{"$f":"'12.2018 Data'!G870","v":1317.2},{"$f":"'12.2018 Data'!H870","v":0},{"$f":"'12.2018 Data'!I870","v":0},{"$f":"'12.2018 Data'!J870","v":0},"928",1317.2,1317.2,0,0,0,{"$f":"IF(ISNUMBER(MATCH($B890,'Org functional rollups'!$A:$A,0)),INDEX('Org functional rollups'!$D:$D,MATCH($B890,'Org functional rollups'!$A:$A,0)),0)","v":"Common"}]
[{"$f":"'12.2018 Data'!A871","v":"928000"},{"$f":"'12.2018 Data'!B871","v":"E01"},{"$f":"'12.2018 Data'!C871","v":"CD"},{"$f":"'12.2018 Data'!D871","v":"ID"},{"$f":"'12.2018 Data'!E871","v":"OPER"},{"$f":"'12.2018 Data'!F871","v":4.2300000000000004},{"$f":"'12.2018 Data'!G871","v":3.29},{"$f":"'12.2018 Data'!H871","v":0.94},{"$f":"'12.2018 Data'!I871","v":0},{"$f":"'12.2018 Data'!J871","v":0},"928",4.2300000000000004,3.29,0.94,0,0,{"$f":"IF(ISNUMBER(MATCH($B891,'Org functional rollups'!$A:$A,0)),INDEX('Org functional rollups'!$D:$D,MATCH($B891,'Org functional rollups'!$A:$A,0)),0)","v":"Common"}]
[{"$f":"'12.2018 Data'!A872","v":"928000"},{"$f":"'12.2018 Data'!B872","v":"E01"},{"$f":"'12.2018 Data'!C872","v":"CD"},{"$f":"'12.2018 Data'!D872","v":"WA"},{"$f":"'12.2018 Data'!E872","v":"OPER"},{"$f":"'12.2018 Data'!F872","v":30892.02},{"$f":"'12.2018 Data'!G872","v":24007.75},{"$f":"'12.2018 Data'!H872","v":6884.27},{"$f":"'12.2018 Data'!I872","v":0},{"$f":"'12.2018 Data'!J872","v":0},"928",30892.02,24007.75,6884.27,0,0,{"$f":"IF(ISNUMBER(MATCH($B892,'Org functional rollups'!$A:$A,0)),INDEX('Org functional rollups'!$D:$D,MATCH($B892,'Org functional rollups'!$A:$A,0)),0)","v":"Common"}]
[{"$f":"'12.2018 Data'!A873","v":"928000"},{"$f":"'12.2018 Data'!B873","v":"E01"},{"$f":"'12.2018 Data'!C873","v":"GD"},{"$f":"'12.2018 Data'!D873","v":"OR"},{"$f":"'12.2018 Data'!E873","v":"OPER"},{"$f":"'12.2018 Data'!F873","v":398},{"$f":"'12.2018 Data'!G873","v":0},{"$f":"'12.2018 Data'!H873","v":0},{"$f":"'12.2018 Data'!I873","v":398},{"$f":"'12.2018 Data'!J873","v":0},"928",398,0,0,398,0,{"$f":"IF(ISNUMBER(MATCH($B893,'Org functional rollups'!$A:$A,0)),INDEX('Org functional rollups'!$D:$D,MATCH($B893,'Org functional rollups'!$A:$A,0)),0)","v":"Common"}]
[{"$f":"'12.2018 Data'!A874","v":"928000"},{"$f":"'12.2018 Data'!B874","v":"E14"},{"$f":"'12.2018 Data'!C874","v":"GD"},{"$f":"'12.2018 Data'!D874","v":"OR"},{"$f":"'12.2018 Data'!E874","v":"OPER"},{"$f":"'12.2018 Data'!F874","v":550},{"$f":"'12.2018 Data'!G874","v":0},{"$f":"'12.2018 Data'!H874","v":0},{"$f":"'12.2018 Data'!I874","v":550},{"$f":"'12.2018 Data'!J874","v":0},"928",550,0,0,550,0,{"$f":"IF(ISNUMBER(MATCH($B894,'Org functional rollups'!$A:$A,0)),INDEX('Org functional rollups'!$D:$D,MATCH($B894,'Org functional rollups'!$A:$A,0)),0)","v":"Production"}]
[{"$f":"'12.2018 Data'!A875","v":"928000"},{"$f":"'12.2018 Data'!B875","v":"E14"},{"$f":"'12.2018 Data'!C875","v":"CD"},{"$f":"'12.2018 Data'!D875","v":"AN"},{"$f":"'12.2018 Data'!E875","v":"OPER"},{"$f":"'12.2018 Data'!F875","v":2160.09},{"$f":"'12.2018 Data'!G875","v":1678.71},{"$f":"'12.2018 Data'!H875","v":481.38},{"$f":"'12.2018 Data'!I875","v":0},{"$f":"'12.2018 Data'!J875","v":0},"928",2160.09,1678.71,481.38,0,0,{"$f":"IF(ISNUMBER(MATCH($B895,'Org functional rollups'!$A:$A,0)),INDEX('Org functional rollups'!$D:$D,MATCH($B895,'Org functional rollups'!$A:$A,0)),0)","v":"Production"}]
[{"$f":"'12.2018 Data'!A876","v":"928000"},{"$f":"'12.2018 Data'!B876","v":"E51"},{"$f":"'12.2018 Data'!C876","v":"ED"},{"$f":"'12.2018 Data'!D876","v":"AN"},{"$f":"'12.2018 Data'!E876","v":"OPER"},{"$f":"'12.2018 Data'!F876","v":305.89},{"$f":"'12.2018 Data'!G876","v":305.89},{"$f":"'12.2018 Data'!H876","v":0},{"$f":"'12.2018 Data'!I876","v":0},{"$f":"'12.2018 Data'!J876","v":0},"928",305.89,305.89,0,0,0,{"$f":"IF(ISNUMBER(MATCH($B896,'Org functional rollups'!$A:$A,0)),INDEX('Org functional rollups'!$D:$D,MATCH($B896,'Org functional rollups'!$A:$A,0)),0)","v":"Distribution"}]
[{"$f":"'12.2018 Data'!A877","v":"928000"},{"$f":"'12.2018 Data'!B877","v":"E52"},{"$f":"'12.2018 Data'!C877","v":"GD"},{"$f":"'12.2018 Data'!D877","v":"OR"},{"$f":"'12.2018 Data'!E877","v":"OPER"},{"$f":"'12.2018 Data'!F877","v":121.41},{"$f":"'12.2018 Data'!G877","v":0},{"$f":"'12.2018 Data'!H877","v":0},{"$f":"'12.2018 Data'!I877","v":121.41},{"$f":"'12.2018 Data'!J877","v":0},"928",{"$f":"IF(ISNUMBER(F897),F897,0)","v":121.41},{"$f":"IF(ISNUMBER(G897),G897,0)","v":0},{"$f":"IF(ISNUMBER(H897),H897,0)","v":0},{"$f":"IF(ISNUMBER(I897),I897,0)","v":121.41},{"$f":"IF(ISNUMBER(J897),J897,0)","v":0},{"$f":"IF(ISNUMBER(MATCH($B897,'Org functional rollups'!$A:$A,0)),INDEX('Org functional rollups'!$D:$D,MATCH($B897,'Org functional rollups'!$A:$A,0)),0)","v":"Customer"}]
[{"$f":"'12.2018 Data'!A878","v":"928000"},{"$f":"'12.2018 Data'!B878","v":"E55"},{"$f":"'12.2018 Data'!C878","v":"CD"},{"$f":"'12.2018 Data'!D878","v":"WA"},{"$f":"'12.2018 Data'!E878","v":"OPER"},{"$f":"'12.2018 Data'!F878","v":1320.7},{"$f":"'12.2018 Data'!G878","v":1026.3900000000001},{"$f":"'12.2018 Data'!H878","v":294.31},{"$f":"'12.2018 Data'!I878","v":0},{"$f":"'12.2018 Data'!J878","v":0},"928",1320.7,1026.3900000000001,294.31,0,0,{"$f":"IF(ISNUMBER(MATCH($B898,'Org functional rollups'!$A:$A,0)),INDEX('Org functional rollups'!$D:$D,MATCH($B898,'Org functional rollups'!$A:$A,0)),0)","v":"Production"}]
[{"$f":"'12.2018 Data'!A879","v":"928000"},{"$f":"'12.2018 Data'!B879","v":"E55"},{"$f":"'12.2018 Data'!C879","v":"GD"},{"$f":"'12.2018 Data'!D879","v":"ID"},{"$f":"'12.2018 Data'!E879","v":"OPER"},{"$f":"'12.2018 Data'!F879","v":21.38},{"$f":"'12.2018 Data'!G879","v":0},{"$f":"'12.2018 Data'!H879","v":21.38},{"$f":"'12.2018 Data'!I879","v":0},{"$f":"'12.2018 Data'!J879","v":0},"928",21.38,0,21.38,0,0,{"$f":"IF(ISNUMBER(MATCH($B899,'Org functional rollups'!$A:$A,0)),INDEX('Org functional rollups'!$D:$D,MATCH($B899,'Org functional rollups'!$A:$A,0)),0)","v":"Production"}]
[{"$f":"'12.2018 Data'!A880","v":"928000"},{"$f":"'12.2018 Data'!B880","v":"E55"},{"$f":"'12.2018 Data'!C880","v":"CD"},{"$f":"'12.2018 Data'!D880","v":"ID"},{"$f":"'12.2018 Data'!E880","v":"OPER"},{"$f":"'12.2018 Data'!F880","v":367.8},{"$f":"'12.2018 Data'!G880","v":285.83},{"$f":"'12.2018 Data'!H880","v":81.97},{"$f":"'12.2018 Data'!I880","v":0},{"$f":"'12.2018 Data'!J880","v":0},"928",367.8,285.83,81.97,0,0,{"$f":"IF(ISNUMBER(MATCH($B900,'Org functional rollups'!$A:$A,0)),INDEX('Org functional rollups'!$D:$D,MATCH($B900,'Org functional rollups'!$A:$A,0)),0)","v":"Production"}]
[{"$f":"'12.2018 Data'!A881","v":"928000"},{"$f":"'12.2018 Data'!B881","v":"E55"},{"$f":"'12.2018 Data'!C881","v":"ED"},{"$f":"'12.2018 Data'!D881","v":"WA"},{"$f":"'12.2018 Data'!E881","v":"OPER"},{"$f":"'12.2018 Data'!F881","v":12809.03},{"$f":"'12.2018 Data'!G881","v":12809.03},{"$f":"'12.2018 Data'!H881","v":0},{"$f":"'12.2018 Data'!I881","v":0},{"$f":"'12.2018 Data'!J881","v":0},"928",12809.03,12809.03,0,0,0,{"$f":"IF(ISNUMBER(MATCH($B901,'Org functional rollups'!$A:$A,0)),INDEX('Org functional rollups'!$D:$D,MATCH($B901,'Org functional rollups'!$A:$A,0)),0)","v":"Production"}]
[{"$f":"'12.2018 Data'!A882","v":"928000"},{"$f":"'12.2018 Data'!B882","v":"E55"},{"$f":"'12.2018 Data'!C882","v":"ED"},{"$f":"'12.2018 Data'!D882","v":"ID"},{"$f":"'12.2018 Data'!E882","v":"OPER"},{"$f":"'12.2018 Data'!F882","v":521.72},{"$f":"'12.2018 Data'!G882","v":521.72},{"$f":"'12.2018 Data'!H882","v":0},{"$f":"'12.2018 Data'!I882","v":0},{"$f":"'12.2018 Data'!J882","v":0},"928",521.72,521.72,0,0,0,{"$f":"IF(ISNUMBER(MATCH($B902,'Org functional rollups'!$A:$A,0)),INDEX('Org functional rollups'!$D:$D,MATCH($B902,'Org functional rollups'!$A:$A,0)),0)","v":"Production"}]
[{"$f":"'12.2018 Data'!A883","v":"928000"},{"$f":"'12.2018 Data'!B883","v":"E56"},{"$f":"'12.2018 Data'!C883","v":"ED"},{"$f":"'12.2018 Data'!D883","v":"ID"},{"$f":"'12.2018 Data'!E883","v":"OPER"},{"$f":"'12.2018 Data'!F883","v":646.54},{"$f":"'12.2018 Data'!G883","v":646.54},{"$f":"'12.2018 Data'!H883","v":0},{"$f":"'12.2018 Data'!I883","v":0},{"$f":"'12.2018 Data'!J883","v":0},"928",646.54,646.54,0,0,0,{"$f":"IF(ISNUMBER(MATCH($B903,'Org functional rollups'!$A:$A,0)),INDEX('Org functional rollups'!$D:$D,MATCH($B903,'Org functional rollups'!$A:$A,0)),0)","v":"Transmission"}]
[{"$f":"'12.2018 Data'!A884","v":"928000"},{"$f":"'12.2018 Data'!B884","v":"F52"},{"$f":"'12.2018 Data'!C884","v":"ED"},{"$f":"'12.2018 Data'!D884","v":"WA"},{"$f":"'12.2018 Data'!E884","v":"OPER"},{"$f":"'12.2018 Data'!F884","v":834.6},{"$f":"'12.2018 Data'!G884","v":834.6},{"$f":"'12.2018 Data'!H884","v":0},{"$f":"'12.2018 Data'!I884","v":0},{"$f":"'12.2018 Data'!J884","v":0},"928",834.6,834.6,0,0,0,{"$f":"IF(ISNUMBER(MATCH($B904,'Org functional rollups'!$A:$A,0)),INDEX('Org functional rollups'!$D:$D,MATCH($B904,'Org functional rollups'!$A:$A,0)),0)","v":"Customer"}]
[{"$f":"'12.2018 Data'!A885","v":"928000"},{"$f":"'12.2018 Data'!B885","v":"F52"},{"$f":"'12.2018 Data'!C885","v":"CD"},{"$f":"'12.2018 Data'!D885","v":"AA"},{"$f":"'12.2018 Data'!E885","v":"OPER"},{"$f":"'12.2018 Data'!F885","v":800},{"$f":"'12.2018 Data'!G885","v":561.08000000000004},{"$f":"'12.2018 Data'!H885","v":164.39},{"$f":"'12.2018 Data'!I885","v":74.53},{"$f":"'12.2018 Data'!J885","v":0},"928",800,561.08000000000004,164.39,74.53,0,{"$f":"IF(ISNUMBER(MATCH($B905,'Org functional rollups'!$A:$A,0)),INDEX('Org functional rollups'!$D:$D,MATCH($B905,'Org functional rollups'!$A:$A,0)),0)","v":"Customer"}]
[{"$f":"'12.2018 Data'!A886","v":"928000"},{"$f":"'12.2018 Data'!B886","v":"F52"},{"$f":"'12.2018 Data'!C886","v":"CD"},{"$f":"'12.2018 Data'!D886","v":"WA"},{"$f":"'12.2018 Data'!E886","v":"OPER"},{"$f":"'12.2018 Data'!F886","v":12.34},{"$f":"'12.2018 Data'!G886","v":9.59},{"$f":"'12.2018 Data'!H886","v":2.75},{"$f":"'12.2018 Data'!I886","v":0},{"$f":"'12.2018 Data'!J886","v":0},"928",12.34,9.59,2.75,0,0,{"$f":"IF(ISNUMBER(MATCH($B906,'Org functional rollups'!$A:$A,0)),INDEX('Org functional rollups'!$D:$D,MATCH($B906,'Org functional rollups'!$A:$A,0)),0)","v":"Customer"}]
[{"$f":"'12.2018 Data'!A887","v":"928000"},{"$f":"'12.2018 Data'!B887","v":"F54"},{"$f":"'12.2018 Data'!C887","v":"GD"},{"$f":"'12.2018 Data'!D887","v":"ID"},{"$f":"'12.2018 Data'!E887","v":"OPER"},{"$f":"'12.2018 Data'!F887","v":42.76},{"$f":"'12.2018 Data'!G887","v":0},{"$f":"'12.2018 Data'!H887","v":42.76},{"$f":"'12.2018 Data'!I887","v":0},{"$f":"'12.2018 Data'!J887","v":0},"928",42.76,0,42.76,0,0,{"$f":"IF(ISNUMBER(MATCH($B907,'Org functional rollups'!$A:$A,0)),INDEX('Org functional rollups'!$D:$D,MATCH($B907,'Org functional rollups'!$A:$A,0)),0)","v":"Common"}]
[{"$f":"'12.2018 Data'!A888","v":"928000"},{"$f":"'12.2018 Data'!B888","v":"H04"},{"$f":"'12.2018 Data'!C888","v":"ED"},{"$f":"'12.2018 Data'!D888","v":"AN"},{"$f":"'12.2018 Data'!E888","v":"OPER"},{"$f":"'12.2018 Data'!F888","v":2212803.7799999998},{"$f":"'12.2018 Data'!G888","v":2212803.7799999998},{"$f":"'12.2018 Data'!H888","v":0},{"$f":"'12.2018 Data'!I888","v":0},{"$f":"'12.2018 Data'!J888","v":0},"928",2212803.7799999998,2212803.7799999998,0,0,0,{"$f":"IF(ISNUMBER(MATCH($B908,'Org functional rollups'!$A:$A,0)),INDEX('Org functional rollups'!$D:$D,MATCH($B908,'Org functional rollups'!$A:$A,0)),0)","v":"Production"}]
[{"$f":"'12.2018 Data'!A889","v":"928000"},{"$f":"'12.2018 Data'!B889","v":"J29"},{"$f":"'12.2018 Data'!C889","v":"ED"},{"$f":"'12.2018 Data'!D889","v":"AN"},{"$f":"'12.2018 Data'!E889","v":"OPER"},{"$f":"'12.2018 Data'!F889","v":19813.73},{"$f":"'12.2018 Data'!G889","v":19813.73},{"$f":"'12.2018 Data'!H889","v":0},{"$f":"'12.2018 Data'!I889","v":0},{"$f":"'12.2018 Data'!J889","v":0},"928",19813.73,19813.73,0,0,0,{"$f":"IF(ISNUMBER(MATCH($B909,'Org functional rollups'!$A:$A,0)),INDEX('Org functional rollups'!$D:$D,MATCH($B909,'Org functional rollups'!$A:$A,0)),0)","v":"Common"}]
[{"$f":"'12.2018 Data'!A890","v":"928000"},{"$f":"'12.2018 Data'!B890","v":"J51"},{"$f":"'12.2018 Data'!C890","v":"ED"},{"$f":"'12.2018 Data'!D890","v":"WA"},{"$f":"'12.2018 Data'!E890","v":"OPER"},{"$f":"'12.2018 Data'!F890","v":378.39},{"$f":"'12.2018 Data'!G890","v":378.39},{"$f":"'12.2018 Data'!H890","v":0},{"$f":"'12.2018 Data'!I890","v":0},{"$f":"'12.2018 Data'!J890","v":0},"928",378.39,378.39,0,0,0,{"$f":"IF(ISNUMBER(MATCH($B910,'Org functional rollups'!$A:$A,0)),INDEX('Org functional rollups'!$D:$D,MATCH($B910,'Org functional rollups'!$A:$A,0)),0)","v":"Common"}]
[{"$f":"'12.2018 Data'!A891","v":"928000"},{"$f":"'12.2018 Data'!B891","v":"J54"},{"$f":"'12.2018 Data'!C891","v":"ED"},{"$f":"'12.2018 Data'!D891","v":"ID"},{"$f":"'12.2018 Data'!E891","v":"OPER"},{"$f":"'12.2018 Data'!F891","v":250.95},{"$f":"'12.2018 Data'!G891","v":250.95},{"$f":"'12.2018 Data'!H891","v":0},{"$f":"'12.2018 Data'!I891","v":0},{"$f":"'12.2018 Data'!J891","v":0},"928",250.95,250.95,0,0,0,{"$f":"IF(ISNUMBER(MATCH($B911,'Org functional rollups'!$A:$A,0)),INDEX('Org functional rollups'!$D:$D,MATCH($B911,'Org functional rollups'!$A:$A,0)),0)","v":"Common"}]
[{"$f":"'12.2018 Data'!A892","v":"928000"},{"$f":"'12.2018 Data'!B892","v":"M08"},{"$f":"'12.2018 Data'!C892","v":"ED"},{"$f":"'12.2018 Data'!D892","v":"WA"},{"$f":"'12.2018 Data'!E892","v":"OPER"},{"$f":"'12.2018 Data'!F892","v":676.22},{"$f":"'12.2018 Data'!G892","v":676.22},{"$f":"'12.2018 Data'!H892","v":0},{"$f":"'12.2018 Data'!I892","v":0},{"$f":"'12.2018 Data'!J892","v":0},"928",676.22,676.22,0,0,0,{"$f":"IF(ISNUMBER(MATCH($B912,'Org functional rollups'!$A:$A,0)),INDEX('Org functional rollups'!$D:$D,MATCH($B912,'Org functional rollups'!$A:$A,0)),0)","v":"Distribution"}]
[{"$f":"'12.2018 Data'!A893","v":"928000"},{"$f":"'12.2018 Data'!B893","v":"P99"},{"$f":"'12.2018 Data'!C893","v":"CD"},{"$f":"'12.2018 Data'!D893","v":"WA"},{"$f":"'12.2018 Data'!E893","v":"OPER"},{"$f":"'12.2018 Data'!F893","v":555.49},{"$f":"'12.2018 Data'!G893","v":431.7},{"$f":"'12.2018 Data'!H893","v":123.79},{"$f":"'12.2018 Data'!I893","v":0},{"$f":"'12.2018 Data'!J893","v":0},"928",555.49,431.7,123.79,0,0,{"$f":"IF(ISNUMBER(MATCH($B913,'Org functional rollups'!$A:$A,0)),INDEX('Org functional rollups'!$D:$D,MATCH($B913,'Org functional rollups'!$A:$A,0)),0)","v":"Common"}]
[{"$f":"'12.2018 Data'!A894","v":"928000"},{"$f":"'12.2018 Data'!B894","v":"P99"},{"$f":"'12.2018 Data'!C894","v":"GD"},{"$f":"'12.2018 Data'!D894","v":"OR"},{"$f":"'12.2018 Data'!E894","v":"OPER"},{"$f":"'12.2018 Data'!F894","v":20},{"$f":"'12.2018 Data'!G894","v":0},{"$f":"'12.2018 Data'!H894","v":0},{"$f":"'12.2018 Data'!I894","v":20},{"$f":"'12.2018 Data'!J894","v":0},"928",20,0,0,20,0,{"$f":"IF(ISNUMBER(MATCH($B914,'Org functional rollups'!$A:$A,0)),INDEX('Org functional rollups'!$D:$D,MATCH($B914,'Org functional rollups'!$A:$A,0)),0)","v":"Common"}]
[{"$f":"'12.2018 Data'!A895","v":"928000"},{"$f":"'12.2018 Data'!B895","v":"R11"},{"$f":"'12.2018 Data'!C895","v":"ED"},{"$f":"'12.2018 Data'!D895","v":"ID"},{"$f":"'12.2018 Data'!E895","v":"OPER"},{"$f":"'12.2018 Data'!F895","v":644142.35},{"$f":"'12.2018 Data'!G895","v":644142.35},{"$f":"'12.2018 Data'!H895","v":0},{"$f":"'12.2018 Data'!I895","v":0},{"$f":"'12.2018 Data'!J895","v":0},"928",644142.35,644142.35,0,0,0,{"$f":"IF(ISNUMBER(MATCH($B915,'Org functional rollups'!$A:$A,0)),INDEX('Org functional rollups'!$D:$D,MATCH($B915,'Org functional rollups'!$A:$A,0)),0)","v":"Common"}]
[{"$f":"'12.2018 Data'!A896","v":"928000"},{"$f":"'12.2018 Data'!B896","v":"R11"},{"$f":"'12.2018 Data'!C896","v":"CD"},{"$f":"'12.2018 Data'!D896","v":"AN"},{"$f":"'12.2018 Data'!E896","v":"OPER"},{"$f":"'12.2018 Data'!F896","v":811.89},{"$f":"'12.2018 Data'!G896","v":630.96},{"$f":"'12.2018 Data'!H896","v":180.93},{"$f":"'12.2018 Data'!I896","v":0},{"$f":"'12.2018 Data'!J896","v":0},"928",811.89,630.96,180.93,0,0,{"$f":"IF(ISNUMBER(MATCH($B916,'Org functional rollups'!$A:$A,0)),INDEX('Org functional rollups'!$D:$D,MATCH($B916,'Org functional rollups'!$A:$A,0)),0)","v":"Common"}]
[{"$f":"'12.2018 Data'!A897","v":"928000"},{"$f":"'12.2018 Data'!B897","v":"R11"},{"$f":"'12.2018 Data'!C897","v":"GD"},{"$f":"'12.2018 Data'!D897","v":"AN"},{"$f":"'12.2018 Data'!E897","v":"OPER"},{"$f":"'12.2018 Data'!F897","v":1050.67},{"$f":"'12.2018 Data'!G897","v":0},{"$f":"'12.2018 Data'!H897","v":1050.67},{"$f":"'12.2018 Data'!I897","v":0},{"$f":"'12.2018 Data'!J897","v":0},"928",1050.67,0,1050.67,0,0,{"$f":"IF(ISNUMBER(MATCH($B917,'Org functional rollups'!$A:$A,0)),INDEX('Org functional rollups'!$D:$D,MATCH($B917,'Org functional rollups'!$A:$A,0)),0)","v":"Common"}]
[{"$f":"'12.2018 Data'!A898","v":"928000"},{"$f":"'12.2018 Data'!B898","v":"R11"},{"$f":"'12.2018 Data'!C898","v":"GD"},{"$f":"'12.2018 Data'!D898","v":"AA"},{"$f":"'12.2018 Data'!E898","v":"OPER"},{"$f":"'12.2018 Data'!F898","v":6910.91},{"$f":"'12.2018 Data'!G898","v":0},{"$f":"'12.2018 Data'!H898","v":4738.25},{"$f":"'12.2018 Data'!I898","v":2172.66},{"$f":"'12.2018 Data'!J898","v":0},"928",6910.91,0,4738.25,2172.66,0,{"$f":"IF(ISNUMBER(MATCH($B918,'Org functional rollups'!$A:$A,0)),INDEX('Org functional rollups'!$D:$D,MATCH($B918,'Org functional rollups'!$A:$A,0)),0)","v":"Common"}]
[{"$f":"'12.2018 Data'!A899","v":"928000"},{"$f":"'12.2018 Data'!B899","v":"R11"},{"$f":"'12.2018 Data'!C899","v":"CD"},{"$f":"'12.2018 Data'!D899","v":"AA"},{"$f":"'12.2018 Data'!E899","v":"OPER"},{"$f":"'12.2018 Data'!F899","v":817117.63},{"$f":"'12.2018 Data'!G899","v":573085.4},{"$f":"'12.2018 Data'!H899","v":167909.58},{"$f":"'12.2018 Data'!I899","v":76122.649999999994},{"$f":"'12.2018 Data'!J899","v":0},"928",817117.63,573085.4,167909.58,76122.649999999994,0,{"$f":"IF(ISNUMBER(MATCH($B919,'Org functional rollups'!$A:$A,0)),INDEX('Org functional rollups'!$D:$D,MATCH($B919,'Org functional rollups'!$A:$A,0)),0)","v":"Common"}]
[{"$f":"'12.2018 Data'!A900","v":"928000"},{"$f":"'12.2018 Data'!B900","v":"R11"},{"$f":"'12.2018 Data'!C900","v":"GD"},{"$f":"'12.2018 Data'!D900","v":"ID"},{"$f":"'12.2018 Data'!E900","v":"OPER"},{"$f":"'12.2018 Data'!F900","v":159666.29},{"$f":"'12.2018 Data'!G900","v":0},{"$f":"'12.2018 Data'!H900","v":159666.29},{"$f":"'12.2018 Data'!I900","v":0},{"$f":"'12.2018 Data'!J900","v":0},"928",159666.29,0,159666.29,0,0,{"$f":"IF(ISNUMBER(MATCH($B920,'Org functional rollups'!$A:$A,0)),INDEX('Org functional rollups'!$D:$D,MATCH($B920,'Org functional rollups'!$A:$A,0)),0)","v":"Common"}]
[{"$f":"'12.2018 Data'!A901","v":"928000"},{"$f":"'12.2018 Data'!B901","v":"R11"},{"$f":"'12.2018 Data'!C901","v":"GD"},{"$f":"'12.2018 Data'!D901","v":"OR"},{"$f":"'12.2018 Data'!E901","v":"OPER"},{"$f":"'12.2018 Data'!F901","v":684031.35},{"$f":"'12.2018 Data'!G901","v":0},{"$f":"'12.2018 Data'!H901","v":0},{"$f":"'12.2018 Data'!I901","v":684031.35},{"$f":"'12.2018 Data'!J901","v":0},"928",684031.35,0,0,684031.35,0,{"$f":"IF(ISNUMBER(MATCH($B921,'Org functional rollups'!$A:$A,0)),INDEX('Org functional rollups'!$D:$D,MATCH($B921,'Org functional rollups'!$A:$A,0)),0)","v":"Common"}]
[{"$f":"'12.2018 Data'!A902","v":"928000"},{"$f":"'12.2018 Data'!B902","v":"R11"},{"$f":"'12.2018 Data'!C902","v":"GD"},{"$f":"'12.2018 Data'!D902","v":"WA"},{"$f":"'12.2018 Data'!E902","v":"OPER"},{"$f":"'12.2018 Data'!F902","v":376455.41},{"$f":"'12.2018 Data'!G902","v":0},{"$f":"'12.2018 Data'!H902","v":376455.41},{"$f":"'12.2018 Data'!I902","v":0},{"$f":"'12.2018 Data'!J902","v":0},"928",376455.41,0,376455.41,0,0,{"$f":"IF(ISNUMBER(MATCH($B922,'Org functional rollups'!$A:$A,0)),INDEX('Org functional rollups'!$D:$D,MATCH($B922,'Org functional rollups'!$A:$A,0)),0)","v":"Common"}]
[{"$f":"'12.2018 Data'!A903","v":"928000"},{"$f":"'12.2018 Data'!B903","v":"R11"},{"$f":"'12.2018 Data'!C903","v":"CD"},{"$f":"'12.2018 Data'!D903","v":"WA"},{"$f":"'12.2018 Data'!E903","v":"OPER"},{"$f":"'12.2018 Data'!F903","v":125992.75},{"$f":"'12.2018 Data'!G903","v":97915.28},{"$f":"'12.2018 Data'!H903","v":28077.47},{"$f":"'12.2018 Data'!I903","v":0},{"$f":"'12.2018 Data'!J903","v":0},"928",125992.75,97915.28,28077.47,0,0,{"$f":"IF(ISNUMBER(MATCH($B923,'Org functional rollups'!$A:$A,0)),INDEX('Org functional rollups'!$D:$D,MATCH($B923,'Org functional rollups'!$A:$A,0)),0)","v":"Common"}]
[{"$f":"'12.2018 Data'!A904","v":"928000"},{"$f":"'12.2018 Data'!B904","v":"R11"},{"$f":"'12.2018 Data'!C904","v":"CD"},{"$f":"'12.2018 Data'!D904","v":"ID"},{"$f":"'12.2018 Data'!E904","v":"OPER"},{"$f":"'12.2018 Data'!F904","v":49479.38},{"$f":"'12.2018 Data'!G904","v":38452.910000000003},{"$f":"'12.2018 Data'!H904","v":11026.47},{"$f":"'12.2018 Data'!I904","v":0},{"$f":"'12.2018 Data'!J904","v":0},"928",49479.38,38452.910000000003,11026.47,0,0,{"$f":"IF(ISNUMBER(MATCH($B924,'Org functional rollups'!$A:$A,0)),INDEX('Org functional rollups'!$D:$D,MATCH($B924,'Org functional rollups'!$A:$A,0)),0)","v":"Common"}]
[{"$f":"'12.2018 Data'!A905","v":"928000"},{"$f":"'12.2018 Data'!B905","v":"R11"},{"$f":"'12.2018 Data'!C905","v":"ED"},{"$f":"'12.2018 Data'!D905","v":"AN"},{"$f":"'12.2018 Data'!E905","v":"OPER"},{"$f":"'12.2018 Data'!F905","v":17333.53},{"$f":"'12.2018 Data'!G905","v":17333.53},{"$f":"'12.2018 Data'!H905","v":0},{"$f":"'12.2018 Data'!I905","v":0},{"$f":"'12.2018 Data'!J905","v":0},"928",17333.53,17333.53,0,0,0,{"$f":"IF(ISNUMBER(MATCH($B925,'Org functional rollups'!$A:$A,0)),INDEX('Org functional rollups'!$D:$D,MATCH($B925,'Org functional rollups'!$A:$A,0)),0)","v":"Common"}]
[{"$f":"'12.2018 Data'!A906","v":"928000"},{"$f":"'12.2018 Data'!B906","v":"R11"},{"$f":"'12.2018 Data'!C906","v":"ED"},{"$f":"'12.2018 Data'!D906","v":"WA"},{"$f":"'12.2018 Data'!E906","v":"OPER"},{"$f":"'12.2018 Data'!F906","v":1231269.54},{"$f":"'12.2018 Data'!G906","v":1231269.54},{"$f":"'12.2018 Data'!H906","v":0},{"$f":"'12.2018 Data'!I906","v":0},{"$f":"'12.2018 Data'!J906","v":0},"928",1231269.54,1231269.54,0,0,0,{"$f":"IF(ISNUMBER(MATCH($B926,'Org functional rollups'!$A:$A,0)),INDEX('Org functional rollups'!$D:$D,MATCH($B926,'Org functional rollups'!$A:$A,0)),0)","v":"Common"}]
[{"$f":"'12.2018 Data'!A907","v":"928000"},{"$f":"'12.2018 Data'!B907","v":"S01"},{"$f":"'12.2018 Data'!C907","v":"CD"},{"$f":"'12.2018 Data'!D907","v":"ID"},{"$f":"'12.2018 Data'!E907","v":"OPER"},{"$f":"'12.2018 Data'!F907","v":312.98},{"$f":"'12.2018 Data'!G907","v":243.23},{"$f":"'12.2018 Data'!H907","v":69.75},{"$f":"'12.2018 Data'!I907","v":0},{"$f":"'12.2018 Data'!J907","v":0},"928",312.98,243.23,69.75,0,0,{"$f":"IF(ISNUMBER(MATCH($B927,'Org functional rollups'!$A:$A,0)),INDEX('Org functional rollups'!$D:$D,MATCH($B927,'Org functional rollups'!$A:$A,0)),0)","v":"Common"}]
[{"$f":"'12.2018 Data'!A908","v":"928000"},{"$f":"'12.2018 Data'!B908","v":"S51"},{"$f":"'12.2018 Data'!C908","v":"ED"},{"$f":"'12.2018 Data'!D908","v":"WA"},{"$f":"'12.2018 Data'!E908","v":"OPER"},{"$f":"'12.2018 Data'!F908","v":19.34},{"$f":"'12.2018 Data'!G908","v":19.34},{"$f":"'12.2018 Data'!H908","v":0},{"$f":"'12.2018 Data'!I908","v":0},{"$f":"'12.2018 Data'!J908","v":0},"928",19.34,19.34,0,0,0,{"$f":"IF(ISNUMBER(MATCH($B928,'Org functional rollups'!$A:$A,0)),INDEX('Org functional rollups'!$D:$D,MATCH($B928,'Org functional rollups'!$A:$A,0)),0)","v":"Common"}]
[{"$f":"'12.2018 Data'!A909","v":"928000"},{"$f":"'12.2018 Data'!B909","v":"S51"},{"$f":"'12.2018 Data'!C909","v":"CD"},{"$f":"'12.2018 Data'!D909","v":"WA"},{"$f":"'12.2018 Data'!E909","v":"OPER"},{"$f":"'12.2018 Data'!F909","v":0.96},{"$f":"'12.2018 Data'!G909","v":0.74},{"$f":"'12.2018 Data'!H909","v":0.22},{"$f":"'12.2018 Data'!I909","v":0},{"$f":"'12.2018 Data'!J909","v":0},"928",0.96,0.74,0.22,0,0,{"$f":"IF(ISNUMBER(MATCH($B929,'Org functional rollups'!$A:$A,0)),INDEX('Org functional rollups'!$D:$D,MATCH($B929,'Org functional rollups'!$A:$A,0)),0)","v":"Common"}]
[{"$f":"'12.2018 Data'!A910","v":"928000"},{"$f":"'12.2018 Data'!B910","v":"S51"},{"$f":"'12.2018 Data'!C910","v":"CD"},{"$f":"'12.2018 Data'!D910","v":"AA"},{"$f":"'12.2018 Data'!E910","v":"OPER"},{"$f":"'12.2018 Data'!F910","v":430.16},{"$f":"'12.2018 Data'!G910","v":301.69},{"$f":"'12.2018 Data'!H910","v":88.4},{"$f":"'12.2018 Data'!I910","v":40.07},{"$f":"'12.2018 Data'!J910","v":0},"928",430.16,301.69,88.4,40.07,0,{"$f":"IF(ISNUMBER(MATCH($B930,'Org functional rollups'!$A:$A,0)),INDEX('Org functional rollups'!$D:$D,MATCH($B930,'Org functional rollups'!$A:$A,0)),0)","v":"Common"}]
[{"$f":"'12.2018 Data'!A911","v":"928000"},{"$f":"'12.2018 Data'!B911","v":"S51"},{"$f":"'12.2018 Data'!C911","v":"ED"},{"$f":"'12.2018 Data'!D911","v":"AN"},{"$f":"'12.2018 Data'!E911","v":"OPER"},{"$f":"'12.2018 Data'!F911","v":4.42},{"$f":"'12.2018 Data'!G911","v":4.42},{"$f":"'12.2018 Data'!H911","v":0},{"$f":"'12.2018 Data'!I911","v":0},{"$f":"'12.2018 Data'!J911","v":0},"928",4.42,4.42,0,0,0,{"$f":"IF(ISNUMBER(MATCH($B931,'Org functional rollups'!$A:$A,0)),INDEX('Org functional rollups'!$D:$D,MATCH($B931,'Org functional rollups'!$A:$A,0)),0)","v":"Common"}]
[{"$f":"'12.2018 Data'!A912","v":"928000"},{"$f":"'12.2018 Data'!B912","v":"T07"},{"$f":"'12.2018 Data'!C912","v":"CD"},{"$f":"'12.2018 Data'!D912","v":"ID"},{"$f":"'12.2018 Data'!E912","v":"OPER"},{"$f":"'12.2018 Data'!F912","v":490.8},{"$f":"'12.2018 Data'!G912","v":381.42},{"$f":"'12.2018 Data'!H912","v":109.38},{"$f":"'12.2018 Data'!I912","v":0},{"$f":"'12.2018 Data'!J912","v":0},"928",490.8,381.42,109.38,0,0,{"$f":"IF(ISNUMBER(MATCH($B932,'Org functional rollups'!$A:$A,0)),INDEX('Org functional rollups'!$D:$D,MATCH($B932,'Org functional rollups'!$A:$A,0)),0)","v":"Production"}]
[{"$f":"'12.2018 Data'!A913","v":"928000"},{"$f":"'12.2018 Data'!B913","v":"T08"},{"$f":"'12.2018 Data'!C913","v":"ED"},{"$f":"'12.2018 Data'!D913","v":"WA"},{"$f":"'12.2018 Data'!E913","v":"OPER"},{"$f":"'12.2018 Data'!F913","v":688.51},{"$f":"'12.2018 Data'!G913","v":688.51},{"$f":"'12.2018 Data'!H913","v":0},{"$f":"'12.2018 Data'!I913","v":0},{"$f":"'12.2018 Data'!J913","v":0},"928",688.51,688.51,0,0,0,{"$f":"IF(ISNUMBER(MATCH($B933,'Org functional rollups'!$A:$A,0)),INDEX('Org functional rollups'!$D:$D,MATCH($B933,'Org functional rollups'!$A:$A,0)),0)","v":"Distribution"}]
[{"$f":"'12.2018 Data'!A914","v":"928000"},{"$f":"'12.2018 Data'!B914","v":"T51"},{"$f":"'12.2018 Data'!C914","v":"ED"},{"$f":"'12.2018 Data'!D914","v":"WA"},{"$f":"'12.2018 Data'!E914","v":"OPER"},{"$f":"'12.2018 Data'!F914","v":968.04},{"$f":"'12.2018 Data'!G914","v":968.04},{"$f":"'12.2018 Data'!H914","v":0},{"$f":"'12.2018 Data'!I914","v":0},{"$f":"'12.2018 Data'!J914","v":0},"928",968.04,968.04,0,0,0,{"$f":"IF(ISNUMBER(MATCH($B934,'Org functional rollups'!$A:$A,0)),INDEX('Org functional rollups'!$D:$D,MATCH($B934,'Org functional rollups'!$A:$A,0)),0)","v":"Distribution"}]
[{"$f":"'12.2018 Data'!A915","v":"928000"},{"$f":"'12.2018 Data'!B915","v":"T52"},{"$f":"'12.2018 Data'!C915","v":"GD"},{"$f":"'12.2018 Data'!D915","v":"ID"},{"$f":"'12.2018 Data'!E915","v":"OPER"},{"$f":"'12.2018 Data'!F915","v":623.75},{"$f":"'12.2018 Data'!G915","v":0},{"$f":"'12.2018 Data'!H915","v":623.75},{"$f":"'12.2018 Data'!I915","v":0},{"$f":"'12.2018 Data'!J915","v":0},"928",623.75,0,623.75,0,0,{"$f":"IF(ISNUMBER(MATCH($B935,'Org functional rollups'!$A:$A,0)),INDEX('Org functional rollups'!$D:$D,MATCH($B935,'Org functional rollups'!$A:$A,0)),0)","v":"Customer"}]
[{"$f":"'12.2018 Data'!A916","v":"928000"},{"$f":"'12.2018 Data'!B916","v":"T52"},{"$f":"'12.2018 Data'!C916","v":"ED"},{"$f":"'12.2018 Data'!D916","v":"ID"},{"$f":"'12.2018 Data'!E916","v":"OPER"},{"$f":"'12.2018 Data'!F916","v":623.75},{"$f":"'12.2018 Data'!G916","v":623.75},{"$f":"'12.2018 Data'!H916","v":0},{"$f":"'12.2018 Data'!I916","v":0},{"$f":"'12.2018 Data'!J916","v":0},"928",623.75,623.75,0,0,0,{"$f":"IF(ISNUMBER(MATCH($B936,'Org functional rollups'!$A:$A,0)),INDEX('Org functional rollups'!$D:$D,MATCH($B936,'Org functional rollups'!$A:$A,0)),0)","v":"Customer"}]
[{"$f":"'12.2018 Data'!A917","v":"928000"},{"$f":"'12.2018 Data'!B917","v":"X09"},{"$f":"'12.2018 Data'!C917","v":"GD"},{"$f":"'12.2018 Data'!D917","v":"OR"},{"$f":"'12.2018 Data'!E917","v":"OPER"},{"$f":"'12.2018 Data'!F917","v":430.97},{"$f":"'12.2018 Data'!G917","v":0},{"$f":"'12.2018 Data'!H917","v":0},{"$f":"'12.2018 Data'!I917","v":430.97},{"$f":"'12.2018 Data'!J917","v":0},"928",430.97,0,0,430.97,0,{"$f":"IF(ISNUMBER(MATCH($B937,'Org functional rollups'!$A:$A,0)),INDEX('Org functional rollups'!$D:$D,MATCH($B937,'Org functional rollups'!$A:$A,0)),0)","v":"Common"}]
[{"$f":"'12.2018 Data'!A918","v":"928000"},{"$f":"'12.2018 Data'!B918","v":"Z87"},{"$f":"'12.2018 Data'!C918","v":"GD"},{"$f":"'12.2018 Data'!D918","v":"OR"},{"$f":"'12.2018 Data'!E918","v":"OPER"},{"$f":"'12.2018 Data'!F918","v":47006.94},{"$f":"'12.2018 Data'!G918","v":0},{"$f":"'12.2018 Data'!H918","v":0},{"$f":"'12.2018 Data'!I918","v":47006.94},{"$f":"'12.2018 Data'!J918","v":0},"928",47006.94,0,0,47006.94,0,{"$f":"IF(ISNUMBER(MATCH($B938,'Org functional rollups'!$A:$A,0)),INDEX('Org functional rollups'!$D:$D,MATCH($B938,'Org functional rollups'!$A:$A,0)),0)","v":"Common"}]
[{"$f":"'12.2018 Data'!A919","v":"928000"},{"$f":"'12.2018 Data'!B919","v":"Z87"},{"$f":"'12.2018 Data'!C919","v":"ED"},{"$f":"'12.2018 Data'!D919","v":"ID"},{"$f":"'12.2018 Data'!E919","v":"OPER"},{"$f":"'12.2018 Data'!F919","v":17661.490000000002},{"$f":"'12.2018 Data'!G919","v":17661.490000000002},{"$f":"'12.2018 Data'!H919","v":0},{"$f":"'12.2018 Data'!I919","v":0},{"$f":"'12.2018 Data'!J919","v":0},"928",17661.490000000002,17661.490000000002,0,0,0,{"$f":"IF(ISNUMBER(MATCH($B939,'Org functional rollups'!$A:$A,0)),INDEX('Org functional rollups'!$D:$D,MATCH($B939,'Org functional rollups'!$A:$A,0)),0)","v":"Common"}]
[{"$f":"'12.2018 Data'!A920","v":"928000"},{"$f":"'12.2018 Data'!B920","v":"Z87"},{"$f":"'12.2018 Data'!C920","v":"CD"},{"$f":"'12.2018 Data'!D920","v":"AN"},{"$f":"'12.2018 Data'!E920","v":"OPER"},{"$f":"'12.2018 Data'!F920","v":2137.38},{"$f":"'12.2018 Data'!G920","v":1661.05},{"$f":"'12.2018 Data'!H920","v":476.33},{"$f":"'12.2018 Data'!I920","v":0},{"$f":"'12.2018 Data'!J920","v":0},"928",2137.38,1661.05,476.33,0,0,{"$f":"IF(ISNUMBER(MATCH($B940,'Org functional rollups'!$A:$A,0)),INDEX('Org functional rollups'!$D:$D,MATCH($B940,'Org functional rollups'!$A:$A,0)),0)","v":"Common"}]
[{"$f":"'12.2018 Data'!A921","v":"928000"},{"$f":"'12.2018 Data'!B921","v":"Z87"},{"$f":"'12.2018 Data'!C921","v":"GD"},{"$f":"'12.2018 Data'!D921","v":"WA"},{"$f":"'12.2018 Data'!E921","v":"OPER"},{"$f":"'12.2018 Data'!F921","v":22915.43},{"$f":"'12.2018 Data'!G921","v":0},{"$f":"'12.2018 Data'!H921","v":22915.43},{"$f":"'12.2018 Data'!I921","v":0},{"$f":"'12.2018 Data'!J921","v":0},{"$f":"LEFT(A941,3)","v":"928"},22915.43,0,22915.43,0,0,{"$f":"IF(ISNUMBER(MATCH($B941,'Org functional rollups'!$A:$A,0)),INDEX('Org functional rollups'!$D:$D,MATCH($B941,'Org functional rollups'!$A:$A,0)),0)","v":"Common"}]
[{"$f":"'12.2018 Data'!A922","v":"928000"},{"$f":"'12.2018 Data'!B922","v":"Z87"},{"$f":"'12.2018 Data'!C922","v":"CD"},{"$f":"'12.2018 Data'!D922","v":"ID"},{"$f":"'12.2018 Data'!E922","v":"OPER"},{"$f":"'12.2018 Data'!F922","v":34366.35},{"$f":"'12.2018 Data'!G922","v":26707.87},{"$f":"'12.2018 Data'!H922","v":7658.48},{"$f":"'12.2018 Data'!I922","v":0},{"$f":"'12.2018 Data'!J922","v":0},"928",34366.35,26707.87,7658.48,0,0,{"$f":"IF(ISNUMBER(MATCH($B942,'Org functional rollups'!$A:$A,0)),INDEX('Org functional rollups'!$D:$D,MATCH($B942,'Org functional rollups'!$A:$A,0)),0)","v":"Common"}]
[{"$f":"'12.2018 Data'!A923","v":"928000"},{"$f":"'12.2018 Data'!B923","v":"Z87"},{"$f":"'12.2018 Data'!C923","v":"CD"},{"$f":"'12.2018 Data'!D923","v":"AA"},{"$f":"'12.2018 Data'!E923","v":"OPER"},{"$f":"'12.2018 Data'!F923","v":555258.30000000005},{"$f":"'12.2018 Data'!G923","v":389430.42},{"$f":"'12.2018 Data'!H923","v":114100.01},{"$f":"'12.2018 Data'!I923","v":51727.87},{"$f":"'12.2018 Data'!J923","v":0},"928",555258.30000000005,389430.42,114100.01,51727.87,0,{"$f":"IF(ISNUMBER(MATCH($B943,'Org functional rollups'!$A:$A,0)),INDEX('Org functional rollups'!$D:$D,MATCH($B943,'Org functional rollups'!$A:$A,0)),0)","v":"Common"}]
[{"$f":"'12.2018 Data'!A924","v":"928000"},{"$f":"'12.2018 Data'!B924","v":"Z87"},{"$f":"'12.2018 Data'!C924","v":"CD"},{"$f":"'12.2018 Data'!D924","v":"WA"},{"$f":"'12.2018 Data'!E924","v":"OPER"},{"$f":"'12.2018 Data'!F924","v":95798.56},{"$f":"'12.2018 Data'!G924","v":74449.87},{"$f":"'12.2018 Data'!H924","v":21348.69},{"$f":"'12.2018 Data'!I924","v":0},{"$f":"'12.2018 Data'!J924","v":0},"928",95798.56,74449.87,21348.69,0,0,{"$f":"IF(ISNUMBER(MATCH($B944,'Org functional rollups'!$A:$A,0)),INDEX('Org functional rollups'!$D:$D,MATCH($B944,'Org functional rollups'!$A:$A,0)),0)","v":"Common"}]
[{"$f":"'12.2018 Data'!A925","v":"928000"},{"$f":"'12.2018 Data'!B925","v":"Z87"},{"$f":"'12.2018 Data'!C925","v":"ED"},{"$f":"'12.2018 Data'!D925","v":"WA"},{"$f":"'12.2018 Data'!E925","v":"OPER"},{"$f":"'12.2018 Data'!F925","v":105362.82},{"$f":"'12.2018 Data'!G925","v":105362.82},{"$f":"'12.2018 Data'!H925","v":0},{"$f":"'12.2018 Data'!I925","v":0},{"$f":"'12.2018 Data'!J925","v":0},"928",105362.82,105362.82,0,0,0,{"$f":"IF(ISNUMBER(MATCH($B945,'Org functional rollups'!$A:$A,0)),INDEX('Org functional rollups'!$D:$D,MATCH($B945,'Org functional rollups'!$A:$A,0)),0)","v":"Common"}]
[{"$f":"'12.2018 Data'!A926","v":"928000"},{"$f":"'12.2018 Data'!B926","v":"Z87"},{"$f":"'12.2018 Data'!C926","v":"GD"},{"$f":"'12.2018 Data'!D926","v":"ID"},{"$f":"'12.2018 Data'!E926","v":"OPER"},{"$f":"'12.2018 Data'!F926","v":9003.2000000000007},{"$f":"'12.2018 Data'!G926","v":0},{"$f":"'12.2018 Data'!H926","v":9003.2000000000007},{"$f":"'12.2018 Data'!I926","v":0},{"$f":"'12.2018 Data'!J926","v":0},"928",9003.2000000000007,0,9003.2000000000007,0,0,{"$f":"IF(ISNUMBER(MATCH($B946,'Org functional rollups'!$A:$A,0)),INDEX('Org functional rollups'!$D:$D,MATCH($B946,'Org functional rollups'!$A:$A,0)),0)","v":"Common"}]
[{"$f":"'12.2018 Data'!A927","v":"928000"},{"$f":"'12.2018 Data'!B927","v":"Z87"},{"$f":"'12.2018 Data'!C927","v":"GD"},{"$f":"'12.2018 Data'!D927","v":"AN"},{"$f":"'12.2018 Data'!E927","v":"OPER"},{"$f":"'12.2018 Data'!F927","v":805.86},{"$f":"'12.2018 Data'!G927","v":0},{"$f":"'12.2018 Data'!H927","v":805.86},{"$f":"'12.2018 Data'!I927","v":0},{"$f":"'12.2018 Data'!J927","v":0},"928",805.86,0,805.86,0,0,{"$f":"IF(ISNUMBER(MATCH($B947,'Org functional rollups'!$A:$A,0)),INDEX('Org functional rollups'!$D:$D,MATCH($B947,'Org functional rollups'!$A:$A,0)),0)","v":"Common"}]
[{"$f":"'12.2018 Data'!A928","v":"928000"},{"$f":"'12.2018 Data'!B928","v":"Z87"},{"$f":"'12.2018 Data'!C928","v":"ED"},{"$f":"'12.2018 Data'!D928","v":"AN"},{"$f":"'12.2018 Data'!E928","v":"OPER"},{"$f":"'12.2018 Data'!F928","v":9937.83},{"$f":"'12.2018 Data'!G928","v":9937.83},{"$f":"'12.2018 Data'!H928","v":0},{"$f":"'12.2018 Data'!I928","v":0},{"$f":"'12.2018 Data'!J928","v":0},"928",9937.83,9937.83,0,0,0,{"$f":"IF(ISNUMBER(MATCH($B948,'Org functional rollups'!$A:$A,0)),INDEX('Org functional rollups'!$D:$D,MATCH($B948,'Org functional rollups'!$A:$A,0)),0)","v":"Common"}]
[{"$f":"'12.2018 Data'!A929","v":"928000"},{"$f":"'12.2018 Data'!B929","v":"Z87"},{"$f":"'12.2018 Data'!C929","v":"GD"},{"$f":"'12.2018 Data'!D929","v":"AA"},{"$f":"'12.2018 Data'!E929","v":"OPER"},{"$f":"'12.2018 Data'!F929","v":3083.29},{"$f":"'12.2018 Data'!G929","v":0},{"$f":"'12.2018 Data'!H929","v":2113.98},{"$f":"'12.2018 Data'!I929","v":969.31},{"$f":"'12.2018 Data'!J929","v":0},"928",3083.29,0,2113.98,969.31,0,{"$f":"IF(ISNUMBER(MATCH($B949,'Org functional rollups'!$A:$A,0)),INDEX('Org functional rollups'!$D:$D,MATCH($B949,'Org functional rollups'!$A:$A,0)),0)","v":"Common"}]
[{"$f":"'12.2018 Data'!A930","v":"928000"},{"$f":"'12.2018 Data'!B930","v":"Z88"},{"$f":"'12.2018 Data'!C930","v":"CD"},{"$f":"'12.2018 Data'!D930","v":"ID"},{"$f":"'12.2018 Data'!E930","v":"OPER"},{"$f":"'12.2018 Data'!F930","v":7810},{"$f":"'12.2018 Data'!G930","v":6069.54},{"$f":"'12.2018 Data'!H930","v":1740.46},{"$f":"'12.2018 Data'!I930","v":0},{"$f":"'12.2018 Data'!J930","v":0},"928",7810,6069.54,1740.46,0,0,{"$f":"IF(ISNUMBER(MATCH($B950,'Org functional rollups'!$A:$A,0)),INDEX('Org functional rollups'!$D:$D,MATCH($B950,'Org functional rollups'!$A:$A,0)),0)","v":"Distribution"}]
[{"$f":"'12.2018 Data'!A931","v":"928000"},{"$f":"'12.2018 Data'!B931","v":"Z88"},{"$f":"'12.2018 Data'!C931","v":"CD"},{"$f":"'12.2018 Data'!D931","v":"WA"},{"$f":"'12.2018 Data'!E931","v":"OPER"},{"$f":"'12.2018 Data'!F931","v":74998},{"$f":"'12.2018 Data'!G931","v":58284.71},{"$f":"'12.2018 Data'!H931","v":16713.29},{"$f":"'12.2018 Data'!I931","v":0},{"$f":"'12.2018 Data'!J931","v":0},"928",74998,58284.71,16713.29,0,0,{"$f":"IF(ISNUMBER(MATCH($B951,'Org functional rollups'!$A:$A,0)),INDEX('Org functional rollups'!$D:$D,MATCH($B951,'Org functional rollups'!$A:$A,0)),0)","v":"Distribution"}]
[{"$f":"'12.2018 Data'!A932","v":"928000"},{"$f":"'12.2018 Data'!B932","v":"Z88"},{"$f":"'12.2018 Data'!C932","v":"GD"},{"$f":"'12.2018 Data'!D932","v":"OR"},{"$f":"'12.2018 Data'!E932","v":"OPER"},{"$f":"'12.2018 Data'!F932","v":44198},{"$f":"'12.2018 Data'!G932","v":0},{"$f":"'12.2018 Data'!H932","v":0},{"$f":"'12.2018 Data'!I932","v":44198},{"$f":"'12.2018 Data'!J932","v":0},"928",44198,0,0,44198,0,{"$f":"IF(ISNUMBER(MATCH($B952,'Org functional rollups'!$A:$A,0)),INDEX('Org functional rollups'!$D:$D,MATCH($B952,'Org functional rollups'!$A:$A,0)),0)","v":"Distribution"}]
[{"$f":"'12.2018 Data'!A933","v":"928000"},{"$f":"'12.2018 Data'!B933","v":"Z88"},{"$f":"'12.2018 Data'!C933","v":"ED"},{"$f":"'12.2018 Data'!D933","v":"WA"},{"$f":"'12.2018 Data'!E933","v":"OPER"},{"$f":"'12.2018 Data'!F933","v":25685},{"$f":"'12.2018 Data'!G933","v":25685},{"$f":"'12.2018 Data'!H933","v":0},{"$f":"'12.2018 Data'!I933","v":0},{"$f":"'12.2018 Data'!J933","v":0},"928",25685,25685,0,0,0,{"$f":"IF(ISNUMBER(MATCH($B953,'Org functional rollups'!$A:$A,0)),INDEX('Org functional rollups'!$D:$D,MATCH($B953,'Org functional rollups'!$A:$A,0)),0)","v":"Distribution"}]
[{"$f":"'12.2018 Data'!A934","v":"928000"},{"$f":"'12.2018 Data'!B934","v":"Z88"},{"$f":"'12.2018 Data'!C934","v":"GD"},{"$f":"'12.2018 Data'!D934","v":"WA"},{"$f":"'12.2018 Data'!E934","v":"OPER"},{"$f":"'12.2018 Data'!F934","v":20350},{"$f":"'12.2018 Data'!G934","v":0},{"$f":"'12.2018 Data'!H934","v":20350},{"$f":"'12.2018 Data'!I934","v":0},{"$f":"'12.2018 Data'!J934","v":0},"928",20350,0,20350,0,0,{"$f":"IF(ISNUMBER(MATCH($B954,'Org functional rollups'!$A:$A,0)),INDEX('Org functional rollups'!$D:$D,MATCH($B954,'Org functional rollups'!$A:$A,0)),0)","v":"Distribution"}]
[{"$f":"'12.2018 Data'!A935","v":"928000"},{"$f":"'12.2018 Data'!B935","v":"Z89"},{"$f":"'12.2018 Data'!C935","v":"GD"},{"$f":"'12.2018 Data'!D935","v":"WA"},{"$f":"'12.2018 Data'!E935","v":"OPER"},{"$f":"'12.2018 Data'!F935","v":351.33},{"$f":"'12.2018 Data'!G935","v":0},{"$f":"'12.2018 Data'!H935","v":351.33},{"$f":"'12.2018 Data'!I935","v":0},{"$f":"'12.2018 Data'!J935","v":0},"928",351.33,0,351.33,0,0,{"$f":"IF(ISNUMBER(MATCH($B955,'Org functional rollups'!$A:$A,0)),INDEX('Org functional rollups'!$D:$D,MATCH($B955,'Org functional rollups'!$A:$A,0)),0)","v":"Common"}]
[{"$f":"'12.2018 Data'!A936","v":"928000"},{"$f":"'12.2018 Data'!B936","v":"Z89"},{"$f":"'12.2018 Data'!C936","v":"ED"},{"$f":"'12.2018 Data'!D936","v":"WA"},{"$f":"'12.2018 Data'!E936","v":"OPER"},{"$f":"'12.2018 Data'!F936","v":2177.81},{"$f":"'12.2018 Data'!G936","v":2177.81},{"$f":"'12.2018 Data'!H936","v":0},{"$f":"'12.2018 Data'!I936","v":0},{"$f":"'12.2018 Data'!J936","v":0},"928",2177.81,2177.81,0,0,0,{"$f":"IF(ISNUMBER(MATCH($B956,'Org functional rollups'!$A:$A,0)),INDEX('Org functional rollups'!$D:$D,MATCH($B956,'Org functional rollups'!$A:$A,0)),0)","v":"Common"}]
[{"$f":"'12.2018 Data'!A937","v":"928000"},{"$f":"'12.2018 Data'!B937","v":"Z89"},{"$f":"'12.2018 Data'!C937","v":"CD"},{"$f":"'12.2018 Data'!D937","v":"ID"},{"$f":"'12.2018 Data'!E937","v":"OPER"},{"$f":"'12.2018 Data'!F937","v":-215.94},{"$f":"'12.2018 Data'!G937","v":-167.81},{"$f":"'12.2018 Data'!H937","v":-48.13},{"$f":"'12.2018 Data'!I937","v":0},{"$f":"'12.2018 Data'!J937","v":0},"928",-215.94,-167.81,-48.13,0,0,{"$f":"IF(ISNUMBER(MATCH($B957,'Org functional rollups'!$A:$A,0)),INDEX('Org functional rollups'!$D:$D,MATCH($B957,'Org functional rollups'!$A:$A,0)),0)","v":"Common"}]
[{"$f":"'12.2018 Data'!A938","v":"928000"},{"$f":"'12.2018 Data'!B938","v":"Z89"},{"$f":"'12.2018 Data'!C938","v":"ED"},{"$f":"'12.2018 Data'!D938","v":"ID"},{"$f":"'12.2018 Data'!E938","v":"OPER"},{"$f":"'12.2018 Data'!F938","v":1174.82},{"$f":"'12.2018 Data'!G938","v":1174.82},{"$f":"'12.2018 Data'!H938","v":0},{"$f":"'12.2018 Data'!I938","v":0},{"$f":"'12.2018 Data'!J938","v":0},"928",1174.82,1174.82,0,0,0,{"$f":"IF(ISNUMBER(MATCH($B958,'Org functional rollups'!$A:$A,0)),INDEX('Org functional rollups'!$D:$D,MATCH($B958,'Org functional rollups'!$A:$A,0)),0)","v":"Common"}]
[{"$f":"'12.2018 Data'!A939","v":"928000"},{"$f":"'12.2018 Data'!B939","v":"Z89"},{"$f":"'12.2018 Data'!C939","v":"GD"},{"$f":"'12.2018 Data'!D939","v":"AN"},{"$f":"'12.2018 Data'!E939","v":"OPER"},{"$f":"'12.2018 Data'!F939","v":0},{"$f":"'12.2018 Data'!G939","v":0},{"$f":"'12.2018 Data'!H939","v":0},{"$f":"'12.2018 Data'!I939","v":0},{"$f":"'12.2018 Data'!J939","v":0},"928",0,0,0,0,0,{"$f":"IF(ISNUMBER(MATCH($B959,'Org functional rollups'!$A:$A,0)),INDEX('Org functional rollups'!$D:$D,MATCH($B959,'Org functional rollups'!$A:$A,0)),0)","v":"Common"}]
[{"$f":"'12.2018 Data'!A940","v":"928000"},{"$f":"'12.2018 Data'!B940","v":"Z89"},{"$f":"'12.2018 Data'!C940","v":"GD"},{"$f":"'12.2018 Data'!D940","v":"ID"},{"$f":"'12.2018 Data'!E940","v":"OPER"},{"$f":"'12.2018 Data'!F940","v":99.86},{"$f":"'12.2018 Data'!G940","v":0},{"$f":"'12.2018 Data'!H940","v":99.86},{"$f":"'12.2018 Data'!I940","v":0},{"$f":"'12.2018 Data'!J940","v":0},"928",99.86,0,99.86,0,0,{"$f":"IF(ISNUMBER(MATCH($B960,'Org functional rollups'!$A:$A,0)),INDEX('Org functional rollups'!$D:$D,MATCH($B960,'Org functional rollups'!$A:$A,0)),0)","v":"Common"}]
[{"$f":"'12.2018 Data'!A941","v":"928000"},{"$f":"'12.2018 Data'!B941","v":"Z89"},{"$f":"'12.2018 Data'!C941","v":"CD"},{"$f":"'12.2018 Data'!D941","v":"WA"},{"$f":"'12.2018 Data'!E941","v":"OPER"},{"$f":"'12.2018 Data'!F941","v":-3251.63},{"$f":"'12.2018 Data'!G941","v":-2527},{"$f":"'12.2018 Data'!H941","v":-724.63},{"$f":"'12.2018 Data'!I941","v":0},{"$f":"'12.2018 Data'!J941","v":0},"928",{"$f":"IF(ISNUMBER(F961),F961,0)","v":-3251.63},{"$f":"IF(ISNUMBER(G961),G961,0)","v":-2527},{"$f":"IF(ISNUMBER(H961),H961,0)","v":-724.63},{"$f":"IF(ISNUMBER(I961),I961,0)","v":0},{"$f":"IF(ISNUMBER(J961),J961,0)","v":0},{"$f":"IF(ISNUMBER(MATCH($B961,'Org functional rollups'!$A:$A,0)),INDEX('Org functional rollups'!$D:$D,MATCH($B961,'Org functional rollups'!$A:$A,0)),0)","v":"Common"}]
[{"$f":"'12.2018 Data'!A942","v":"928000"},{"$f":"'12.2018 Data'!B942","v":"Z89"},{"$f":"'12.2018 Data'!C942","v":"CD"},{"$f":"'12.2018 Data'!D942","v":"AN"},{"$f":"'12.2018 Data'!E942","v":"OPER"},{"$f":"'12.2018 Data'!F942","v":0},{"$f":"'12.2018 Data'!G942","v":0},{"$f":"'12.2018 Data'!H942","v":0},{"$f":"'12.2018 Data'!I942","v":0},{"$f":"'12.2018 Data'!J942","v":0},"928",0,0,0,0,0,{"$f":"IF(ISNUMBER(MATCH($B962,'Org functional rollups'!$A:$A,0)),INDEX('Org functional rollups'!$D:$D,MATCH($B962,'Org functional rollups'!$A:$A,0)),0)","v":"Common"}]
[{"$f":"'12.2018 Data'!A943","v":"928000"},{"$f":"'12.2018 Data'!B943","v":"Z89"},{"$f":"'12.2018 Data'!C943","v":"GD"},{"$f":"'12.2018 Data'!D943","v":"AA"},{"$f":"'12.2018 Data'!E943","v":"OPER"},{"$f":"'12.2018 Data'!F943","v":0},{"$f":"'12.2018 Data'!G943","v":0},{"$f":"'12.2018 Data'!H943","v":0},{"$f":"'12.2018 Data'!I943","v":0},{"$f":"'12.2018 Data'!J943","v":0},"928",0,0,0,0,0,{"$f":"IF(ISNUMBER(MATCH($B963,'Org functional rollups'!$A:$A,0)),INDEX('Org functional rollups'!$D:$D,MATCH($B963,'Org functional rollups'!$A:$A,0)),0)","v":"Common"}]
[{"$f":"'12.2018 Data'!A944","v":"928000"},{"$f":"'12.2018 Data'!B944","v":"Z89"},{"$f":"'12.2018 Data'!C944","v":"GD"},{"$f":"'12.2018 Data'!D944","v":"OR"},{"$f":"'12.2018 Data'!E944","v":"OPER"},{"$f":"'12.2018 Data'!F944","v":-226.81},{"$f":"'12.2018 Data'!G944","v":0},{"$f":"'12.2018 Data'!H944","v":0},{"$f":"'12.2018 Data'!I944","v":-226.81},{"$f":"'12.2018 Data'!J944","v":0},"928",-226.81,0,0,-226.81,0,{"$f":"IF(ISNUMBER(MATCH($B964,'Org functional rollups'!$A:$A,0)),INDEX('Org functional rollups'!$D:$D,MATCH($B964,'Org functional rollups'!$A:$A,0)),0)","v":"Common"}]
[{"$f":"'12.2018 Data'!A945","v":"928000"},{"$f":"'12.2018 Data'!B945","v":"Z89"},{"$f":"'12.2018 Data'!C945","v":"CD"},{"$f":"'12.2018 Data'!D945","v":"AA"},{"$f":"'12.2018 Data'!E945","v":"OPER"},{"$f":"'12.2018 Data'!F945","v":3131.14},{"$f":"'12.2018 Data'!G945","v":2196.0300000000002},{"$f":"'12.2018 Data'!H945","v":643.41},{"$f":"'12.2018 Data'!I945","v":291.7},{"$f":"'12.2018 Data'!J945","v":0},"928",3131.14,2196.0300000000002,643.41,291.7,0,{"$f":"IF(ISNUMBER(MATCH($B965,'Org functional rollups'!$A:$A,0)),INDEX('Org functional rollups'!$D:$D,MATCH($B965,'Org functional rollups'!$A:$A,0)),0)","v":"Common"}]
[{"$f":"'12.2018 Data'!A946","v":"928000"},{"$f":"'12.2018 Data'!B946","v":"Z89"},{"$f":"'12.2018 Data'!C946","v":"ED"},{"$f":"'12.2018 Data'!D946","v":"AN"},{"$f":"'12.2018 Data'!E946","v":"OPER"},{"$f":"'12.2018 Data'!F946","v":0},{"$f":"'12.2018 Data'!G946","v":0},{"$f":"'12.2018 Data'!H946","v":0},{"$f":"'12.2018 Data'!I946","v":0},{"$f":"'12.2018 Data'!J946","v":0},"928",0,0,0,0,0,{"$f":"IF(ISNUMBER(MATCH($B966,'Org functional rollups'!$A:$A,0)),INDEX('Org functional rollups'!$D:$D,MATCH($B966,'Org functional rollups'!$A:$A,0)),0)","v":"Common"}]
[{"$f":"'12.2018 Data'!A947","v":"928000"},{"$f":"'12.2018 Data'!B947","v":"Z90"},{"$f":"'12.2018 Data'!C947","v":"ED"},{"$f":"'12.2018 Data'!D947","v":"AN"},{"$f":"'12.2018 Data'!E947","v":"OPER"},{"$f":"'12.2018 Data'!F947","v":1602.71},{"$f":"'12.2018 Data'!G947","v":1602.71},{"$f":"'12.2018 Data'!H947","v":0},{"$f":"'12.2018 Data'!I947","v":0},{"$f":"'12.2018 Data'!J947","v":0},"928",1602.71,1602.71,0,0,0,{"$f":"IF(ISNUMBER(MATCH($B967,'Org functional rollups'!$A:$A,0)),INDEX('Org functional rollups'!$D:$D,MATCH($B967,'Org functional rollups'!$A:$A,0)),0)","v":"Common"}]
[{"$f":"'12.2018 Data'!A948","v":"928000"},{"$f":"'12.2018 Data'!B948","v":"Z90"},{"$f":"'12.2018 Data'!C948","v":"GD"},{"$f":"'12.2018 Data'!D948","v":"WA"},{"$f":"'12.2018 Data'!E948","v":"OPER"},{"$f":"'12.2018 Data'!F948","v":4121.49},{"$f":"'12.2018 Data'!G948","v":0},{"$f":"'12.2018 Data'!H948","v":4121.49},{"$f":"'12.2018 Data'!I948","v":0},{"$f":"'12.2018 Data'!J948","v":0},"928",4121.49,0,4121.49,0,0,{"$f":"IF(ISNUMBER(MATCH($B968,'Org functional rollups'!$A:$A,0)),INDEX('Org functional rollups'!$D:$D,MATCH($B968,'Org functional rollups'!$A:$A,0)),0)","v":"Common"}]
[{"$f":"'12.2018 Data'!A949","v":"928000"},{"$f":"'12.2018 Data'!B949","v":"Z90"},{"$f":"'12.2018 Data'!C949","v":"CD"},{"$f":"'12.2018 Data'!D949","v":"WA"},{"$f":"'12.2018 Data'!E949","v":"OPER"},{"$f":"'12.2018 Data'!F949","v":13508.22},{"$f":"'12.2018 Data'!G949","v":10497.93},{"$f":"'12.2018 Data'!H949","v":3010.29},{"$f":"'12.2018 Data'!I949","v":0},{"$f":"'12.2018 Data'!J949","v":0},"928",13508.22,10497.93,3010.29,0,0,{"$f":"IF(ISNUMBER(MATCH($B969,'Org functional rollups'!$A:$A,0)),INDEX('Org functional rollups'!$D:$D,MATCH($B969,'Org functional rollups'!$A:$A,0)),0)","v":"Common"}]
[{"$f":"'12.2018 Data'!A950","v":"928000"},{"$f":"'12.2018 Data'!B950","v":"Z90"},{"$f":"'12.2018 Data'!C950","v":"ED"},{"$f":"'12.2018 Data'!D950","v":"ID"},{"$f":"'12.2018 Data'!E950","v":"OPER"},{"$f":"'12.2018 Data'!F950","v":3616.99},{"$f":"'12.2018 Data'!G950","v":3616.99},{"$f":"'12.2018 Data'!H950","v":0},{"$f":"'12.2018 Data'!I950","v":0},{"$f":"'12.2018 Data'!J950","v":0},"928",3616.99,3616.99,0,0,0,{"$f":"IF(ISNUMBER(MATCH($B970,'Org functional rollups'!$A:$A,0)),INDEX('Org functional rollups'!$D:$D,MATCH($B970,'Org functional rollups'!$A:$A,0)),0)","v":"Common"}]
[{"$f":"'12.2018 Data'!A951","v":"928000"},{"$f":"'12.2018 Data'!B951","v":"Z90"},{"$f":"'12.2018 Data'!C951","v":"CD"},{"$f":"'12.2018 Data'!D951","v":"AA"},{"$f":"'12.2018 Data'!E951","v":"OPER"},{"$f":"'12.2018 Data'!F951","v":104530.69},{"$f":"'12.2018 Data'!G951","v":73312.58},{"$f":"'12.2018 Data'!H951","v":21480},{"$f":"'12.2018 Data'!I951","v":9738.11},{"$f":"'12.2018 Data'!J951","v":0},"928",104530.69,73312.58,21480,9738.11,0,{"$f":"IF(ISNUMBER(MATCH($B971,'Org functional rollups'!$A:$A,0)),INDEX('Org functional rollups'!$D:$D,MATCH($B971,'Org functional rollups'!$A:$A,0)),0)","v":"Common"}]
[{"$f":"'12.2018 Data'!A952","v":"928000"},{"$f":"'12.2018 Data'!B952","v":"Z90"},{"$f":"'12.2018 Data'!C952","v":"CD"},{"$f":"'12.2018 Data'!D952","v":"ID"},{"$f":"'12.2018 Data'!E952","v":"OPER"},{"$f":"'12.2018 Data'!F952","v":6939.58},{"$f":"'12.2018 Data'!G952","v":5393.08},{"$f":"'12.2018 Data'!H952","v":1546.5},{"$f":"'12.2018 Data'!I952","v":0},{"$f":"'12.2018 Data'!J952","v":0},"928",6939.58,5393.08,1546.5,0,0,{"$f":"IF(ISNUMBER(MATCH($B972,'Org functional rollups'!$A:$A,0)),INDEX('Org functional rollups'!$D:$D,MATCH($B972,'Org functional rollups'!$A:$A,0)),0)","v":"Common"}]
[{"$f":"'12.2018 Data'!A953","v":"928000"},{"$f":"'12.2018 Data'!B953","v":"Z90"},{"$f":"'12.2018 Data'!C953","v":"GD"},{"$f":"'12.2018 Data'!D953","v":"AN"},{"$f":"'12.2018 Data'!E953","v":"OPER"},{"$f":"'12.2018 Data'!F953","v":125.03},{"$f":"'12.2018 Data'!G953","v":0},{"$f":"'12.2018 Data'!H953","v":125.03},{"$f":"'12.2018 Data'!I953","v":0},{"$f":"'12.2018 Data'!J953","v":0},"928",125.03,0,125.03,0,0,{"$f":"IF(ISNUMBER(MATCH($B973,'Org functional rollups'!$A:$A,0)),INDEX('Org functional rollups'!$D:$D,MATCH($B973,'Org functional rollups'!$A:$A,0)),0)","v":"Common"}]
[{"$f":"'12.2018 Data'!A954","v":"928000"},{"$f":"'12.2018 Data'!B954","v":"Z90"},{"$f":"'12.2018 Data'!C954","v":"GD"},{"$f":"'12.2018 Data'!D954","v":"OR"},{"$f":"'12.2018 Data'!E954","v":"OPER"},{"$f":"'12.2018 Data'!F954","v":8752.9699999999993},{"$f":"'12.2018 Data'!G954","v":0},{"$f":"'12.2018 Data'!H954","v":0},{"$f":"'12.2018 Data'!I954","v":8752.9699999999993},{"$f":"'12.2018 Data'!J954","v":0},"928",8752.9699999999993,0,0,8752.9699999999993,0,{"$f":"IF(ISNUMBER(MATCH($B974,'Org functional rollups'!$A:$A,0)),INDEX('Org functional rollups'!$D:$D,MATCH($B974,'Org functional rollups'!$A:$A,0)),0)","v":"Common"}]
[{"$f":"'12.2018 Data'!A955","v":"928000"},{"$f":"'12.2018 Data'!B955","v":"Z90"},{"$f":"'12.2018 Data'!C955","v":"CD"},{"$f":"'12.2018 Data'!D955","v":"AN"},{"$f":"'12.2018 Data'!E955","v":"OPER"},{"$f":"'12.2018 Data'!F955","v":341.01},{"$f":"'12.2018 Data'!G955","v":265.02},{"$f":"'12.2018 Data'!H955","v":75.989999999999995},{"$f":"'12.2018 Data'!I955","v":0},{"$f":"'12.2018 Data'!J955","v":0},"928",341.01,265.02,75.989999999999995,0,0,{"$f":"IF(ISNUMBER(MATCH($B975,'Org functional rollups'!$A:$A,0)),INDEX('Org functional rollups'!$D:$D,MATCH($B975,'Org functional rollups'!$A:$A,0)),0)","v":"Common"}]
[{"$f":"'12.2018 Data'!A956","v":"928000"},{"$f":"'12.2018 Data'!B956","v":"Z90"},{"$f":"'12.2018 Data'!C956","v":"ED"},{"$f":"'12.2018 Data'!D956","v":"WA"},{"$f":"'12.2018 Data'!E956","v":"OPER"},{"$f":"'12.2018 Data'!F956","v":18582.310000000001},{"$f":"'12.2018 Data'!G956","v":18582.310000000001},{"$f":"'12.2018 Data'!H956","v":0},{"$f":"'12.2018 Data'!I956","v":0},{"$f":"'12.2018 Data'!J956","v":0},"928",18582.310000000001,18582.310000000001,0,0,0,{"$f":"IF(ISNUMBER(MATCH($B976,'Org functional rollups'!$A:$A,0)),INDEX('Org functional rollups'!$D:$D,MATCH($B976,'Org functional rollups'!$A:$A,0)),0)","v":"Common"}]
[{"$f":"'12.2018 Data'!A957","v":"928000"},{"$f":"'12.2018 Data'!B957","v":"Z90"},{"$f":"'12.2018 Data'!C957","v":"GD"},{"$f":"'12.2018 Data'!D957","v":"AA"},{"$f":"'12.2018 Data'!E957","v":"OPER"},{"$f":"'12.2018 Data'!F957","v":706.65},{"$f":"'12.2018 Data'!G957","v":0},{"$f":"'12.2018 Data'!H957","v":484.5},{"$f":"'12.2018 Data'!I957","v":222.15},{"$f":"'12.2018 Data'!J957","v":0},"928",706.65,0,484.5,222.15,0,{"$f":"IF(ISNUMBER(MATCH($B977,'Org functional rollups'!$A:$A,0)),INDEX('Org functional rollups'!$D:$D,MATCH($B977,'Org functional rollups'!$A:$A,0)),0)","v":"Common"}]
[{"$f":"'12.2018 Data'!A958","v":"928000"},{"$f":"'12.2018 Data'!B958","v":"Z90"},{"$f":"'12.2018 Data'!C958","v":"GD"},{"$f":"'12.2018 Data'!D958","v":"ID"},{"$f":"'12.2018 Data'!E958","v":"OPER"},{"$f":"'12.2018 Data'!F958","v":1737.57},{"$f":"'12.2018 Data'!G958","v":0},{"$f":"'12.2018 Data'!H958","v":1737.57},{"$f":"'12.2018 Data'!I958","v":0},{"$f":"'12.2018 Data'!J958","v":0},"928",1737.57,0,1737.57,0,0,{"$f":"IF(ISNUMBER(MATCH($B978,'Org functional rollups'!$A:$A,0)),INDEX('Org functional rollups'!$D:$D,MATCH($B978,'Org functional rollups'!$A:$A,0)),0)","v":"Common"}]
[{"$f":"'12.2018 Data'!A959","v":"930200"},{"$f":"'12.2018 Data'!B959","v":"000"},{"$f":"'12.2018 Data'!C959","v":"CD"},{"$f":"'12.2018 Data'!D959","v":"AA"},{"$f":"'12.2018 Data'!E959","v":"OPER"},{"$f":"'12.2018 Data'!F959","v":4142.5},{"$f":"'12.2018 Data'!G959","v":2905.34},{"$f":"'12.2018 Data'!H959","v":851.24},{"$f":"'12.2018 Data'!I959","v":385.92},{"$f":"'12.2018 Data'!J959","v":0},"930",4142.5,2905.34,851.24,385.92,0,{"$f":"IF(ISNUMBER(MATCH($B979,'Org functional rollups'!$A:$A,0)),INDEX('Org functional rollups'!$D:$D,MATCH($B979,'Org functional rollups'!$A:$A,0)),0)","v":"Common"}]
[{"$f":"'12.2018 Data'!A960","v":"930200"},{"$f":"'12.2018 Data'!B960","v":"000"},{"$f":"'12.2018 Data'!C960","v":"ED"},{"$f":"'12.2018 Data'!D960","v":"AN"},{"$f":"'12.2018 Data'!E960","v":"OPER"},{"$f":"'12.2018 Data'!F960","v":642.42999999999995},{"$f":"'12.2018 Data'!G960","v":642.42999999999995},{"$f":"'12.2018 Data'!H960","v":0},{"$f":"'12.2018 Data'!I960","v":0},{"$f":"'12.2018 Data'!J960","v":0},"930",642.42999999999995,642.42999999999995,0,0,0,{"$f":"IF(ISNUMBER(MATCH($B980,'Org functional rollups'!$A:$A,0)),INDEX('Org functional rollups'!$D:$D,MATCH($B980,'Org functional rollups'!$A:$A,0)),0)","v":"Common"}]
[{"$f":"'12.2018 Data'!A961","v":"930200"},{"$f":"'12.2018 Data'!B961","v":"000"},{"$f":"'12.2018 Data'!C961","v":"ED"},{"$f":"'12.2018 Data'!D961","v":"WA"},{"$f":"'12.2018 Data'!E961","v":"OPER"},{"$f":"'12.2018 Data'!F961","v":0},{"$f":"'12.2018 Data'!G961","v":0},{"$f":"'12.2018 Data'!H961","v":0},{"$f":"'12.2018 Data'!I961","v":0},{"$f":"'12.2018 Data'!J961","v":0},"930",0,0,0,0,0,{"$f":"IF(ISNUMBER(MATCH($B981,'Org functional rollups'!$A:$A,0)),INDEX('Org functional rollups'!$D:$D,MATCH($B981,'Org functional rollups'!$A:$A,0)),0)","v":"Common"}]
[{"$f":"'12.2018 Data'!A962","v":"930200"},{"$f":"'12.2018 Data'!B962","v":"000"},{"$f":"'12.2018 Data'!C962","v":"CD"},{"$f":"'12.2018 Data'!D962","v":"AN"},{"$f":"'12.2018 Data'!E962","v":"OPER"},{"$f":"'12.2018 Data'!F962","v":1797.54},{"$f":"'12.2018 Data'!G962","v":1396.96},{"$f":"'12.2018 Data'!H962","v":400.58},{"$f":"'12.2018 Data'!I962","v":0},{"$f":"'12.2018 Data'!J962","v":0},"930",1797.54,1396.96,400.58,0,0,{"$f":"IF(ISNUMBER(MATCH($B982,'Org functional rollups'!$A:$A,0)),INDEX('Org functional rollups'!$D:$D,MATCH($B982,'Org functional rollups'!$A:$A,0)),0)","v":"Common"}]
[{"$f":"'12.2018 Data'!A963","v":"930200"},{"$f":"'12.2018 Data'!B963","v":"000"},{"$f":"'12.2018 Data'!C963","v":"CD"},{"$f":"'12.2018 Data'!D963","v":"ID"},{"$f":"'12.2018 Data'!E963","v":"OPER"},{"$f":"'12.2018 Data'!F963","v":505.16},{"$f":"'12.2018 Data'!G963","v":392.59},{"$f":"'12.2018 Data'!H963","v":112.57},{"$f":"'12.2018 Data'!I963","v":0},{"$f":"'12.2018 Data'!J963","v":0},"930",505.16,392.59,112.57,0,0,{"$f":"IF(ISNUMBER(MATCH($B983,'Org functional rollups'!$A:$A,0)),INDEX('Org functional rollups'!$D:$D,MATCH($B983,'Org functional rollups'!$A:$A,0)),0)","v":"Common"}]
[{"$f":"'12.2018 Data'!A964","v":"930200"},{"$f":"'12.2018 Data'!B964","v":"000"},{"$f":"'12.2018 Data'!C964","v":"GD"},{"$f":"'12.2018 Data'!D964","v":"OR"},{"$f":"'12.2018 Data'!E964","v":"OPER"},{"$f":"'12.2018 Data'!F964","v":7.39},{"$f":"'12.2018 Data'!G964","v":0},{"$f":"'12.2018 Data'!H964","v":0},{"$f":"'12.2018 Data'!I964","v":7.39},{"$f":"'12.2018 Data'!J964","v":0},"930",7.39,0,0,7.39,0,{"$f":"IF(ISNUMBER(MATCH($B984,'Org functional rollups'!$A:$A,0)),INDEX('Org functional rollups'!$D:$D,MATCH($B984,'Org functional rollups'!$A:$A,0)),0)","v":"Common"}]
[{"$f":"'12.2018 Data'!A965","v":"930200"},{"$f":"'12.2018 Data'!B965","v":"000"},{"$f":"'12.2018 Data'!C965","v":"GD"},{"$f":"'12.2018 Data'!D965","v":"AA"},{"$f":"'12.2018 Data'!E965","v":"OPER"},{"$f":"'12.2018 Data'!F965","v":20.83},{"$f":"'12.2018 Data'!G965","v":0},{"$f":"'12.2018 Data'!H965","v":14.28},{"$f":"'12.2018 Data'!I965","v":6.55},{"$f":"'12.2018 Data'!J965","v":0},"930",20.83,0,14.28,6.55,0,{"$f":"IF(ISNUMBER(MATCH($B985,'Org functional rollups'!$A:$A,0)),INDEX('Org functional rollups'!$D:$D,MATCH($B985,'Org functional rollups'!$A:$A,0)),0)","v":"Common"}]
[{"$f":"'12.2018 Data'!A966","v":"930200"},{"$f":"'12.2018 Data'!B966","v":"000"},{"$f":"'12.2018 Data'!C966","v":"CD"},{"$f":"'12.2018 Data'!D966","v":"WA"},{"$f":"'12.2018 Data'!E966","v":"OPER"},{"$f":"'12.2018 Data'!F966","v":13.5},{"$f":"'12.2018 Data'!G966","v":10.49},{"$f":"'12.2018 Data'!H966","v":3.01},{"$f":"'12.2018 Data'!I966","v":0},{"$f":"'12.2018 Data'!J966","v":0},"930",13.5,10.49,3.01,0,0,{"$f":"IF(ISNUMBER(MATCH($B986,'Org functional rollups'!$A:$A,0)),INDEX('Org functional rollups'!$D:$D,MATCH($B986,'Org functional rollups'!$A:$A,0)),0)","v":"Common"}]
[{"$f":"'12.2018 Data'!A967","v":"930200"},{"$f":"'12.2018 Data'!B967","v":"A04"},{"$f":"'12.2018 Data'!C967","v":"ED"},{"$f":"'12.2018 Data'!D967","v":"AN"},{"$f":"'12.2018 Data'!E967","v":"OPER"},{"$f":"'12.2018 Data'!F967","v":29870.69},{"$f":"'12.2018 Data'!G967","v":29870.69},{"$f":"'12.2018 Data'!H967","v":0},{"$f":"'12.2018 Data'!I967","v":0},{"$f":"'12.2018 Data'!J967","v":0},"930",29870.69,29870.69,0,0,0,{"$f":"IF(ISNUMBER(MATCH($B987,'Org functional rollups'!$A:$A,0)),INDEX('Org functional rollups'!$D:$D,MATCH($B987,'Org functional rollups'!$A:$A,0)),0)","v":"Production"}]
[{"$f":"'12.2018 Data'!A968","v":"930200"},{"$f":"'12.2018 Data'!B968","v":"A07"},{"$f":"'12.2018 Data'!C968","v":"ED"},{"$f":"'12.2018 Data'!D968","v":"AN"},{"$f":"'12.2018 Data'!E968","v":"OPER"},{"$f":"'12.2018 Data'!F968","v":43120},{"$f":"'12.2018 Data'!G968","v":43120},{"$f":"'12.2018 Data'!H968","v":0},{"$f":"'12.2018 Data'!I968","v":0},{"$f":"'12.2018 Data'!J968","v":0},"930",43120,43120,0,0,0,{"$f":"IF(ISNUMBER(MATCH($B988,'Org functional rollups'!$A:$A,0)),INDEX('Org functional rollups'!$D:$D,MATCH($B988,'Org functional rollups'!$A:$A,0)),0)","v":"Production"}]
[{"$f":"'12.2018 Data'!A969","v":"930200"},{"$f":"'12.2018 Data'!B969","v":"A08"},{"$f":"'12.2018 Data'!C969","v":"ED"},{"$f":"'12.2018 Data'!D969","v":"AN"},{"$f":"'12.2018 Data'!E969","v":"OPER"},{"$f":"'12.2018 Data'!F969","v":389},{"$f":"'12.2018 Data'!G969","v":389},{"$f":"'12.2018 Data'!H969","v":0},{"$f":"'12.2018 Data'!I969","v":0},{"$f":"'12.2018 Data'!J969","v":0},"930",389,389,0,0,0,{"$f":"IF(ISNUMBER(MATCH($B989,'Org functional rollups'!$A:$A,0)),INDEX('Org functional rollups'!$D:$D,MATCH($B989,'Org functional rollups'!$A:$A,0)),0)","v":"Distribution"}]
[{"$f":"'12.2018 Data'!A970","v":"930200"},{"$f":"'12.2018 Data'!B970","v":"A50"},{"$f":"'12.2018 Data'!C970","v":"ED"},{"$f":"'12.2018 Data'!D970","v":"AN"},{"$f":"'12.2018 Data'!E970","v":"OPER"},{"$f":"'12.2018 Data'!F970","v":4571.67},{"$f":"'12.2018 Data'!G970","v":4571.67},{"$f":"'12.2018 Data'!H970","v":0},{"$f":"'12.2018 Data'!I970","v":0},{"$f":"'12.2018 Data'!J970","v":0},"930",4571.67,4571.67,0,0,0,{"$f":"IF(ISNUMBER(MATCH($B990,'Org functional rollups'!$A:$A,0)),INDEX('Org functional rollups'!$D:$D,MATCH($B990,'Org functional rollups'!$A:$A,0)),0)","v":"Common"}]
[{"$f":"'12.2018 Data'!A971","v":"930200"},{"$f":"'12.2018 Data'!B971","v":"A50"},{"$f":"'12.2018 Data'!C971","v":"GD"},{"$f":"'12.2018 Data'!D971","v":"AA"},{"$f":"'12.2018 Data'!E971","v":"OPER"},{"$f":"'12.2018 Data'!F971","v":267.68},{"$f":"'12.2018 Data'!G971","v":0},{"$f":"'12.2018 Data'!H971","v":183.53},{"$f":"'12.2018 Data'!I971","v":84.15},{"$f":"'12.2018 Data'!J971","v":0},"930",267.68,0,183.53,84.15,0,{"$f":"IF(ISNUMBER(MATCH($B991,'Org functional rollups'!$A:$A,0)),INDEX('Org functional rollups'!$D:$D,MATCH($B991,'Org functional rollups'!$A:$A,0)),0)","v":"Common"}]
[{"$f":"'12.2018 Data'!A972","v":"930200"},{"$f":"'12.2018 Data'!B972","v":"A50"},{"$f":"'12.2018 Data'!C972","v":"CD"},{"$f":"'12.2018 Data'!D972","v":"AA"},{"$f":"'12.2018 Data'!E972","v":"OPER"},{"$f":"'12.2018 Data'!F972","v":0},{"$f":"'12.2018 Data'!G972","v":0},{"$f":"'12.2018 Data'!H972","v":0},{"$f":"'12.2018 Data'!I972","v":0},{"$f":"'12.2018 Data'!J972","v":0},"930",0,0,0,0,0,{"$f":"IF(ISNUMBER(MATCH($B992,'Org functional rollups'!$A:$A,0)),INDEX('Org functional rollups'!$D:$D,MATCH($B992,'Org functional rollups'!$A:$A,0)),0)","v":"Common"}]
[{"$f":"'12.2018 Data'!A973","v":"930200"},{"$f":"'12.2018 Data'!B973","v":"A53"},{"$f":"'12.2018 Data'!C973","v":"CD"},{"$f":"'12.2018 Data'!D973","v":"AA"},{"$f":"'12.2018 Data'!E973","v":"OPER"},{"$f":"'12.2018 Data'!F973","v":82.64},{"$f":"'12.2018 Data'!G973","v":57.96},{"$f":"'12.2018 Data'!H973","v":16.98},{"$f":"'12.2018 Data'!I973","v":7.7},{"$f":"'12.2018 Data'!J973","v":0},"930",82.64,57.96,16.98,7.7,0,{"$f":"IF(ISNUMBER(MATCH($B993,'Org functional rollups'!$A:$A,0)),INDEX('Org functional rollups'!$D:$D,MATCH($B993,'Org functional rollups'!$A:$A,0)),0)","v":"Common"}]
[{"$f":"'12.2018 Data'!A974","v":"930200"},{"$f":"'12.2018 Data'!B974","v":"A54"},{"$f":"'12.2018 Data'!C974","v":"ED"},{"$f":"'12.2018 Data'!D974","v":"WA"},{"$f":"'12.2018 Data'!E974","v":"OPER"},{"$f":"'12.2018 Data'!F974","v":4834.49},{"$f":"'12.2018 Data'!G974","v":4834.49},{"$f":"'12.2018 Data'!H974","v":0},{"$f":"'12.2018 Data'!I974","v":0},{"$f":"'12.2018 Data'!J974","v":0},"930",4834.49,4834.49,0,0,0,{"$f":"IF(ISNUMBER(MATCH($B994,'Org functional rollups'!$A:$A,0)),INDEX('Org functional rollups'!$D:$D,MATCH($B994,'Org functional rollups'!$A:$A,0)),0)","v":"Customer"}]
[{"$f":"'12.2018 Data'!A975","v":"930200"},{"$f":"'12.2018 Data'!B975","v":"A54"},{"$f":"'12.2018 Data'!C975","v":"CD"},{"$f":"'12.2018 Data'!D975","v":"AA"},{"$f":"'12.2018 Data'!E975","v":"OPER"},{"$f":"'12.2018 Data'!F975","v":10000},{"$f":"'12.2018 Data'!G975","v":7013.5},{"$f":"'12.2018 Data'!H975","v":2054.9},{"$f":"'12.2018 Data'!I975","v":931.6},{"$f":"'12.2018 Data'!J975","v":0},{"$f":"LEFT(A995,3)","v":"930"},{"$f":"IF(ISNUMBER(F995),F995,0)","v":10000},{"$f":"IF(ISNUMBER(G995),G995,0)","v":7013.5},{"$f":"IF(ISNUMBER(H995),H995,0)","v":2054.9},{"$f":"IF(ISNUMBER(I995),I995,0)","v":931.6},{"$f":"IF(ISNUMBER(J995),J995,0)","v":0},{"$f":"IF(ISNUMBER(MATCH($B995,'Org functional rollups'!$A:$A,0)),INDEX('Org functional rollups'!$D:$D,MATCH($B995,'Org functional rollups'!$A:$A,0)),0)","v":"Customer"}]
[{"$f":"'12.2018 Data'!A976","v":"930200"},{"$f":"'12.2018 Data'!B976","v":"A57"},{"$f":"'12.2018 Data'!C976","v":"CD"},{"$f":"'12.2018 Data'!D976","v":"AA"},{"$f":"'12.2018 Data'!E976","v":"OPER"},{"$f":"'12.2018 Data'!F976","v":2542.02},{"$f":"'12.2018 Data'!G976","v":1782.81},{"$f":"'12.2018 Data'!H976","v":522.35},{"$f":"'12.2018 Data'!I976","v":236.86},{"$f":"'12.2018 Data'!J976","v":0},"930",2542.02,1782.81,522.35,236.86,0,{"$f":"IF(ISNUMBER(MATCH($B996,'Org functional rollups'!$A:$A,0)),INDEX('Org functional rollups'!$D:$D,MATCH($B996,'Org functional rollups'!$A:$A,0)),0)","v":"Common"}]
[{"$f":"'12.2018 Data'!A977","v":"930200"},{"$f":"'12.2018 Data'!B977","v":"A81"},{"$f":"'12.2018 Data'!C977","v":"CD"},{"$f":"'12.2018 Data'!D977","v":"AA"},{"$f":"'12.2018 Data'!E977","v":"OPER"},{"$f":"'12.2018 Data'!F977","v":1710},{"$f":"'12.2018 Data'!G977","v":1199.3},{"$f":"'12.2018 Data'!H977","v":351.39},{"$f":"'12.2018 Data'!I977","v":159.31},{"$f":"'12.2018 Data'!J977","v":0},"930",1710,1199.3,351.39,159.31,0,{"$f":"IF(ISNUMBER(MATCH($B997,'Org functional rollups'!$A:$A,0)),INDEX('Org functional rollups'!$D:$D,MATCH($B997,'Org functional rollups'!$A:$A,0)),0)","v":"Distribution"}]
[{"$f":"'12.2018 Data'!A978","v":"930200"},{"$f":"'12.2018 Data'!B978","v":"A81"},{"$f":"'12.2018 Data'!C978","v":"GD"},{"$f":"'12.2018 Data'!D978","v":"AA"},{"$f":"'12.2018 Data'!E978","v":"OPER"},{"$f":"'12.2018 Data'!F978","v":14803.99},{"$f":"'12.2018 Data'!G978","v":0},{"$f":"'12.2018 Data'!H978","v":10149.950000000001},{"$f":"'12.2018 Data'!I978","v":4654.04},{"$f":"'12.2018 Data'!J978","v":0},"930",14803.99,0,10149.950000000001,4654.04,0,{"$f":"IF(ISNUMBER(MATCH($B998,'Org functional rollups'!$A:$A,0)),INDEX('Org functional rollups'!$D:$D,MATCH($B998,'Org functional rollups'!$A:$A,0)),0)","v":"Distribution"}]
[{"$f":"'12.2018 Data'!A979","v":"930200"},{"$f":"'12.2018 Data'!B979","v":"A81"},{"$f":"'12.2018 Data'!C979","v":"GD"},{"$f":"'12.2018 Data'!D979","v":"OR"},{"$f":"'12.2018 Data'!E979","v":"OPER"},{"$f":"'12.2018 Data'!F979","v":4003.62},{"$f":"'12.2018 Data'!G979","v":0},{"$f":"'12.2018 Data'!H979","v":0},{"$f":"'12.2018 Data'!I979","v":4003.62},{"$f":"'12.2018 Data'!J979","v":0},"930",4003.62,0,0,4003.62,0,{"$f":"IF(ISNUMBER(MATCH($B999,'Org functional rollups'!$A:$A,0)),INDEX('Org functional rollups'!$D:$D,MATCH($B999,'Org functional rollups'!$A:$A,0)),0)","v":"Distribution"}]
[{"$f":"'12.2018 Data'!A980","v":"930200"},{"$f":"'12.2018 Data'!B980","v":"A82"},{"$f":"'12.2018 Data'!C980","v":"GD"},{"$f":"'12.2018 Data'!D980","v":"AA"},{"$f":"'12.2018 Data'!E980","v":"OPER"},{"$f":"'12.2018 Data'!F980","v":2308.0700000000002},{"$f":"'12.2018 Data'!G980","v":0},{"$f":"'12.2018 Data'!H980","v":1582.47},{"$f":"'12.2018 Data'!I980","v":725.6},{"$f":"'12.2018 Data'!J980","v":0},"930",2308.0700000000002,0,1582.47,725.6,0,{"$f":"IF(ISNUMBER(MATCH($B1000,'Org functional rollups'!$A:$A,0)),INDEX('Org functional rollups'!$D:$D,MATCH($B1000,'Org functional rollups'!$A:$A,0)),0)","v":"Distribution"}]
[{"$f":"'12.2018 Data'!A981","v":"930200"},{"$f":"'12.2018 Data'!B981","v":"A83"},{"$f":"'12.2018 Data'!C981","v":"GD"},{"$f":"'12.2018 Data'!D981","v":"AA"},{"$f":"'12.2018 Data'!E981","v":"OPER"},{"$f":"'12.2018 Data'!F981","v":3240.55},{"$f":"'12.2018 Data'!G981","v":0},{"$f":"'12.2018 Data'!H981","v":2221.79},{"$f":"'12.2018 Data'!I981","v":1018.76},{"$f":"'12.2018 Data'!J981","v":0},"930",3240.55,0,2221.79,1018.76,0,{"$f":"IF(ISNUMBER(MATCH($B1001,'Org functional rollups'!$A:$A,0)),INDEX('Org functional rollups'!$D:$D,MATCH($B1001,'Org functional rollups'!$A:$A,0)),0)","v":"Distribution"}]
[{"$f":"'12.2018 Data'!A982","v":"930200"},{"$f":"'12.2018 Data'!B982","v":"A83"},{"$f":"'12.2018 Data'!C982","v":"GD"},{"$f":"'12.2018 Data'!D982","v":"OR"},{"$f":"'12.2018 Data'!E982","v":"OPER"},{"$f":"'12.2018 Data'!F982","v":1874.18},{"$f":"'12.2018 Data'!G982","v":0},{"$f":"'12.2018 Data'!H982","v":0},{"$f":"'12.2018 Data'!I982","v":1874.18},{"$f":"'12.2018 Data'!J982","v":0},"930",1874.18,0,0,1874.18,0,{"$f":"IF(ISNUMBER(MATCH($B1002,'Org functional rollups'!$A:$A,0)),INDEX('Org functional rollups'!$D:$D,MATCH($B1002,'Org functional rollups'!$A:$A,0)),0)","v":"Distribution"}]
[{"$f":"'12.2018 Data'!A983","v":"930200"},{"$f":"'12.2018 Data'!B983","v":"B02"},{"$f":"'12.2018 Data'!C983","v":"CD"},{"$f":"'12.2018 Data'!D983","v":"AA"},{"$f":"'12.2018 Data'!E983","v":"OPER"},{"$f":"'12.2018 Data'!F983","v":30509.87},{"$f":"'12.2018 Data'!G983","v":21398.080000000002},{"$f":"'12.2018 Data'!H983","v":6269.47},{"$f":"'12.2018 Data'!I983","v":2842.32},{"$f":"'12.2018 Data'!J983","v":0},"930",30509.87,21398.080000000002,6269.47,2842.32,0,{"$f":"IF(ISNUMBER(MATCH($B1003,'Org functional rollups'!$A:$A,0)),INDEX('Org functional rollups'!$D:$D,MATCH($B1003,'Org functional rollups'!$A:$A,0)),0)","v":"Common"}]
[{"$f":"'12.2018 Data'!A984","v":"930200"},{"$f":"'12.2018 Data'!B984","v":"B04"},{"$f":"'12.2018 Data'!C984","v":"ED"},{"$f":"'12.2018 Data'!D984","v":"AN"},{"$f":"'12.2018 Data'!E984","v":"OPER"},{"$f":"'12.2018 Data'!F984","v":3833.59},{"$f":"'12.2018 Data'!G984","v":3833.59},{"$f":"'12.2018 Data'!H984","v":0},{"$f":"'12.2018 Data'!I984","v":0},{"$f":"'12.2018 Data'!J984","v":0},"930",3833.59,3833.59,0,0,0,{"$f":"IF(ISNUMBER(MATCH($B1004,'Org functional rollups'!$A:$A,0)),INDEX('Org functional rollups'!$D:$D,MATCH($B1004,'Org functional rollups'!$A:$A,0)),0)","v":"Production"}]
[{"$f":"'12.2018 Data'!A985","v":"930200"},{"$f":"'12.2018 Data'!B985","v":"B07"},{"$f":"'12.2018 Data'!C985","v":"ED"},{"$f":"'12.2018 Data'!D985","v":"AN"},{"$f":"'12.2018 Data'!E985","v":"OPER"},{"$f":"'12.2018 Data'!F985","v":16497.52},{"$f":"'12.2018 Data'!G985","v":16497.52},{"$f":"'12.2018 Data'!H985","v":0},{"$f":"'12.2018 Data'!I985","v":0},{"$f":"'12.2018 Data'!J985","v":0},"930",16497.52,16497.52,0,0,0,{"$f":"IF(ISNUMBER(MATCH($B1005,'Org functional rollups'!$A:$A,0)),INDEX('Org functional rollups'!$D:$D,MATCH($B1005,'Org functional rollups'!$A:$A,0)),0)","v":"Production"}]
[{"$f":"'12.2018 Data'!A986","v":"930200"},{"$f":"'12.2018 Data'!B986","v":"B08"},{"$f":"'12.2018 Data'!C986","v":"CD"},{"$f":"'12.2018 Data'!D986","v":"AA"},{"$f":"'12.2018 Data'!E986","v":"OPER"},{"$f":"'12.2018 Data'!F986","v":112131.64},{"$f":"'12.2018 Data'!G986","v":78643.59},{"$f":"'12.2018 Data'!H986","v":23041.99},{"$f":"'12.2018 Data'!I986","v":10446.06},{"$f":"'12.2018 Data'!J986","v":0},"930",112131.64,78643.59,23041.99,10446.06,0,{"$f":"IF(ISNUMBER(MATCH($B1006,'Org functional rollups'!$A:$A,0)),INDEX('Org functional rollups'!$D:$D,MATCH($B1006,'Org functional rollups'!$A:$A,0)),0)","v":"Customer"}]
[{"$f":"'12.2018 Data'!A987","v":"930200"},{"$f":"'12.2018 Data'!B987","v":"B09"},{"$f":"'12.2018 Data'!C987","v":"ED"},{"$f":"'12.2018 Data'!D987","v":"AN"},{"$f":"'12.2018 Data'!E987","v":"OPER"},{"$f":"'12.2018 Data'!F987","v":125.18},{"$f":"'12.2018 Data'!G987","v":125.18},{"$f":"'12.2018 Data'!H987","v":0},{"$f":"'12.2018 Data'!I987","v":0},{"$f":"'12.2018 Data'!J987","v":0},"930",125.18,125.18,0,0,0,{"$f":"IF(ISNUMBER(MATCH($B1007,'Org functional rollups'!$A:$A,0)),INDEX('Org functional rollups'!$D:$D,MATCH($B1007,'Org functional rollups'!$A:$A,0)),0)","v":"Common"}]
[{"$f":"'12.2018 Data'!A988","v":"930200"},{"$f":"'12.2018 Data'!B988","v":"B16"},{"$f":"'12.2018 Data'!C988","v":"CD"},{"$f":"'12.2018 Data'!D988","v":"AN"},{"$f":"'12.2018 Data'!E988","v":"OPER"},{"$f":"'12.2018 Data'!F988","v":8650},{"$f":"'12.2018 Data'!G988","v":6722.35},{"$f":"'12.2018 Data'!H988","v":1927.65},{"$f":"'12.2018 Data'!I988","v":0},{"$f":"'12.2018 Data'!J988","v":0},"930",8650,6722.35,1927.65,0,0,{"$f":"IF(ISNUMBER(MATCH($B1008,'Org functional rollups'!$A:$A,0)),INDEX('Org functional rollups'!$D:$D,MATCH($B1008,'Org functional rollups'!$A:$A,0)),0)","v":"Common"}]
[{"$f":"'12.2018 Data'!A989","v":"930200"},{"$f":"'12.2018 Data'!B989","v":"B16"},{"$f":"'12.2018 Data'!C989","v":"CD"},{"$f":"'12.2018 Data'!D989","v":"ID"},{"$f":"'12.2018 Data'!E989","v":"OPER"},{"$f":"'12.2018 Data'!F989","v":11441.32},{"$f":"'12.2018 Data'!G989","v":8891.6200000000008},{"$f":"'12.2018 Data'!H989","v":2549.6999999999998},{"$f":"'12.2018 Data'!I989","v":0},{"$f":"'12.2018 Data'!J989","v":0},"930",11441.32,8891.6200000000008,2549.6999999999998,0,0,{"$f":"IF(ISNUMBER(MATCH($B1009,'Org functional rollups'!$A:$A,0)),INDEX('Org functional rollups'!$D:$D,MATCH($B1009,'Org functional rollups'!$A:$A,0)),0)","v":"Common"}]
[{"$f":"'12.2018 Data'!A990","v":"930200"},{"$f":"'12.2018 Data'!B990","v":"B16"},{"$f":"'12.2018 Data'!C990","v":"CD"},{"$f":"'12.2018 Data'!D990","v":"WA"},{"$f":"'12.2018 Data'!E990","v":"OPER"},{"$f":"'12.2018 Data'!F990","v":8927.1200000000008},{"$f":"'12.2018 Data'!G990","v":6937.71},{"$f":"'12.2018 Data'!H990","v":1989.41},{"$f":"'12.2018 Data'!I990","v":0},{"$f":"'12.2018 Data'!J990","v":0},"930",8927.1200000000008,6937.71,1989.41,0,0,{"$f":"IF(ISNUMBER(MATCH($B1010,'Org functional rollups'!$A:$A,0)),INDEX('Org functional rollups'!$D:$D,MATCH($B1010,'Org functional rollups'!$A:$A,0)),0)","v":"Common"}]
[{"$f":"'12.2018 Data'!A991","v":"930200"},{"$f":"'12.2018 Data'!B991","v":"B16"},{"$f":"'12.2018 Data'!C991","v":"CD"},{"$f":"'12.2018 Data'!D991","v":"AA"},{"$f":"'12.2018 Data'!E991","v":"OPER"},{"$f":"'12.2018 Data'!F991","v":8108.79},{"$f":"'12.2018 Data'!G991","v":5687.08},{"$f":"'12.2018 Data'!H991","v":1666.26},{"$f":"'12.2018 Data'!I991","v":755.45},{"$f":"'12.2018 Data'!J991","v":0},"930",8108.79,5687.08,1666.26,755.45,0,{"$f":"IF(ISNUMBER(MATCH($B1011,'Org functional rollups'!$A:$A,0)),INDEX('Org functional rollups'!$D:$D,MATCH($B1011,'Org functional rollups'!$A:$A,0)),0)","v":"Common"}]
[{"$f":"'12.2018 Data'!A992","v":"930200"},{"$f":"'12.2018 Data'!B992","v":"B50"},{"$f":"'12.2018 Data'!C992","v":"ED"},{"$f":"'12.2018 Data'!D992","v":"AN"},{"$f":"'12.2018 Data'!E992","v":"OPER"},{"$f":"'12.2018 Data'!F992","v":6884.65},{"$f":"'12.2018 Data'!G992","v":6884.65},{"$f":"'12.2018 Data'!H992","v":0},{"$f":"'12.2018 Data'!I992","v":0},{"$f":"'12.2018 Data'!J992","v":0},"930",6884.65,6884.65,0,0,0,{"$f":"IF(ISNUMBER(MATCH($B1012,'Org functional rollups'!$A:$A,0)),INDEX('Org functional rollups'!$D:$D,MATCH($B1012,'Org functional rollups'!$A:$A,0)),0)","v":"Distribution"}]
[{"$f":"'12.2018 Data'!A993","v":"930200"},{"$f":"'12.2018 Data'!B993","v":"B50"},{"$f":"'12.2018 Data'!C993","v":"CD"},{"$f":"'12.2018 Data'!D993","v":"AN"},{"$f":"'12.2018 Data'!E993","v":"OPER"},{"$f":"'12.2018 Data'!F993","v":11401.9},{"$f":"'12.2018 Data'!G993","v":8861.0499999999993},{"$f":"'12.2018 Data'!H993","v":2540.85},{"$f":"'12.2018 Data'!I993","v":0},{"$f":"'12.2018 Data'!J993","v":0},{"$f":"LEFT(A1013,3)","v":"930"},{"$f":"IF(ISNUMBER(F1013),F1013,0)","v":11401.9},{"$f":"IF(ISNUMBER(G1013),G1013,0)","v":8861.0499999999993},{"$f":"IF(ISNUMBER(H1013),H1013,0)","v":2540.85},{"$f":"IF(ISNUMBER(I1013),I1013,0)","v":0},{"$f":"IF(ISNUMBER(J1013),J1013,0)","v":0},{"$f":"IF(ISNUMBER(MATCH($B1013,'Org functional rollups'!$A:$A,0)),INDEX('Org functional rollups'!$D:$D,MATCH($B1013,'Org functional rollups'!$A:$A,0)),0)","v":"Distribution"}]
[{"$f":"'12.2018 Data'!A994","v":"930200"},{"$f":"'12.2018 Data'!B994","v":"B50"},{"$f":"'12.2018 Data'!C994","v":"CD"},{"$f":"'12.2018 Data'!D994","v":"AA"},{"$f":"'12.2018 Data'!E994","v":"OPER"},{"$f":"'12.2018 Data'!F994","v":66.34},{"$f":"'12.2018 Data'!G994","v":46.53},{"$f":"'12.2018 Data'!H994","v":13.63},{"$f":"'12.2018 Data'!I994","v":6.18},{"$f":"'12.2018 Data'!J994","v":0},"930",66.34,46.53,13.63,6.18,0,{"$f":"IF(ISNUMBER(MATCH($B1014,'Org functional rollups'!$A:$A,0)),INDEX('Org functional rollups'!$D:$D,MATCH($B1014,'Org functional rollups'!$A:$A,0)),0)","v":"Distribution"}]
[{"$f":"'12.2018 Data'!A995","v":"930200"},{"$f":"'12.2018 Data'!B995","v":"B51"},{"$f":"'12.2018 Data'!C995","v":"GD"},{"$f":"'12.2018 Data'!D995","v":"AA"},{"$f":"'12.2018 Data'!E995","v":"OPER"},{"$f":"'12.2018 Data'!F995","v":10095.6},{"$f":"'12.2018 Data'!G995","v":0},{"$f":"'12.2018 Data'!H995","v":6921.75},{"$f":"'12.2018 Data'!I995","v":3173.85},{"$f":"'12.2018 Data'!J995","v":0},"930",10095.6,0,6921.75,3173.85,0,{"$f":"IF(ISNUMBER(MATCH($B1015,'Org functional rollups'!$A:$A,0)),INDEX('Org functional rollups'!$D:$D,MATCH($B1015,'Org functional rollups'!$A:$A,0)),0)","v":"Distribution"}]
[{"$f":"'12.2018 Data'!A996","v":"930200"},{"$f":"'12.2018 Data'!B996","v":"B51"},{"$f":"'12.2018 Data'!C996","v":"CD"},{"$f":"'12.2018 Data'!D996","v":"AA"},{"$f":"'12.2018 Data'!E996","v":"OPER"},{"$f":"'12.2018 Data'!F996","v":70},{"$f":"'12.2018 Data'!G996","v":49.09},{"$f":"'12.2018 Data'!H996","v":14.38},{"$f":"'12.2018 Data'!I996","v":6.53},{"$f":"'12.2018 Data'!J996","v":0},"930",70,49.09,14.38,6.53,0,{"$f":"IF(ISNUMBER(MATCH($B1016,'Org functional rollups'!$A:$A,0)),INDEX('Org functional rollups'!$D:$D,MATCH($B1016,'Org functional rollups'!$A:$A,0)),0)","v":"Distribution"}]
[{"$f":"'12.2018 Data'!A997","v":"930200"},{"$f":"'12.2018 Data'!B997","v":"B52"},{"$f":"'12.2018 Data'!C997","v":"GD"},{"$f":"'12.2018 Data'!D997","v":"AA"},{"$f":"'12.2018 Data'!E997","v":"OPER"},{"$f":"'12.2018 Data'!F997","v":2580.64},{"$f":"'12.2018 Data'!G997","v":0},{"$f":"'12.2018 Data'!H997","v":1769.33},{"$f":"'12.2018 Data'!I997","v":811.31},{"$f":"'12.2018 Data'!J997","v":0},"930",2580.64,0,1769.33,811.31,0,{"$f":"IF(ISNUMBER(MATCH($B1017,'Org functional rollups'!$A:$A,0)),INDEX('Org functional rollups'!$D:$D,MATCH($B1017,'Org functional rollups'!$A:$A,0)),0)","v":"Distribution"}]
[{"$f":"'12.2018 Data'!A998","v":"930200"},{"$f":"'12.2018 Data'!B998","v":"B53"},{"$f":"'12.2018 Data'!C998","v":"CD"},{"$f":"'12.2018 Data'!D998","v":"AN"},{"$f":"'12.2018 Data'!E998","v":"OPER"},{"$f":"'12.2018 Data'!F998","v":3175.87},{"$f":"'12.2018 Data'!G998","v":2468.12},{"$f":"'12.2018 Data'!H998","v":707.75},{"$f":"'12.2018 Data'!I998","v":0},{"$f":"'12.2018 Data'!J998","v":0},"930",3175.87,2468.12,707.75,0,0,{"$f":"IF(ISNUMBER(MATCH($B1018,'Org functional rollups'!$A:$A,0)),INDEX('Org functional rollups'!$D:$D,MATCH($B1018,'Org functional rollups'!$A:$A,0)),0)","v":"Distribution"}]
[{"$f":"'12.2018 Data'!A999","v":"930200"},{"$f":"'12.2018 Data'!B999","v":"B53"},{"$f":"'12.2018 Data'!C999","v":"ED"},{"$f":"'12.2018 Data'!D999","v":"AN"},{"$f":"'12.2018 Data'!E999","v":"OPER"},{"$f":"'12.2018 Data'!F999","v":11734.49},{"$f":"'12.2018 Data'!G999","v":11734.49},{"$f":"'12.2018 Data'!H999","v":0},{"$f":"'12.2018 Data'!I999","v":0},{"$f":"'12.2018 Data'!J999","v":0},"930",11734.49,11734.49,0,0,0,{"$f":"IF(ISNUMBER(MATCH($B1019,'Org functional rollups'!$A:$A,0)),INDEX('Org functional rollups'!$D:$D,MATCH($B1019,'Org functional rollups'!$A:$A,0)),0)","v":"Distribution"}]
[{"$f":"'12.2018 Data'!A1000","v":"930200"},{"$f":"'12.2018 Data'!B1000","v":"B53"},{"$f":"'12.2018 Data'!C1000","v":"GD"},{"$f":"'12.2018 Data'!D1000","v":"AA"},{"$f":"'12.2018 Data'!E1000","v":"OPER"},{"$f":"'12.2018 Data'!F1000","v":2647.85},{"$f":"'12.2018 Data'!G1000","v":0},{"$f":"'12.2018 Data'!H1000","v":1815.42},{"$f":"'12.2018 Data'!I1000","v":832.43},{"$f":"'12.2018 Data'!J1000","v":0},"930",2647.85,0,1815.42,832.43,0,{"$f":"IF(ISNUMBER(MATCH($B1020,'Org functional rollups'!$A:$A,0)),INDEX('Org functional rollups'!$D:$D,MATCH($B1020,'Org functional rollups'!$A:$A,0)),0)","v":"Distribution"}]
[{"$f":"'12.2018 Data'!A1001","v":"930200"},{"$f":"'12.2018 Data'!B1001","v":"B54"},{"$f":"'12.2018 Data'!C1001","v":"GD"},{"$f":"'12.2018 Data'!D1001","v":"OR"},{"$f":"'12.2018 Data'!E1001","v":"OPER"},{"$f":"'12.2018 Data'!F1001","v":1074.6099999999999},{"$f":"'12.2018 Data'!G1001","v":0},{"$f":"'12.2018 Data'!H1001","v":0},{"$f":"'12.2018 Data'!I1001","v":1074.6099999999999},{"$f":"'12.2018 Data'!J1001","v":0},"930",1074.6099999999999,0,0,1074.6099999999999,0,{"$f":"IF(ISNUMBER(MATCH($B1021,'Org functional rollups'!$A:$A,0)),INDEX('Org functional rollups'!$D:$D,MATCH($B1021,'Org functional rollups'!$A:$A,0)),0)","v":"Distribution"}]
[{"$f":"'12.2018 Data'!A1002","v":"930200"},{"$f":"'12.2018 Data'!B1002","v":"B54"},{"$f":"'12.2018 Data'!C1002","v":"CD"},{"$f":"'12.2018 Data'!D1002","v":"AA"},{"$f":"'12.2018 Data'!E1002","v":"OPER"},{"$f":"'12.2018 Data'!F1002","v":2177.27},{"$f":"'12.2018 Data'!G1002","v":1527.03},{"$f":"'12.2018 Data'!H1002","v":447.4},{"$f":"'12.2018 Data'!I1002","v":202.84},{"$f":"'12.2018 Data'!J1002","v":0},"930",2177.27,1527.03,447.4,202.84,0,{"$f":"IF(ISNUMBER(MATCH($B1022,'Org functional rollups'!$A:$A,0)),INDEX('Org functional rollups'!$D:$D,MATCH($B1022,'Org functional rollups'!$A:$A,0)),0)","v":"Distribution"}]
[{"$f":"'12.2018 Data'!A1003","v":"930200"},{"$f":"'12.2018 Data'!B1003","v":"B54"},{"$f":"'12.2018 Data'!C1003","v":"GD"},{"$f":"'12.2018 Data'!D1003","v":"AA"},{"$f":"'12.2018 Data'!E1003","v":"OPER"},{"$f":"'12.2018 Data'!F1003","v":24946.89},{"$f":"'12.2018 Data'!G1003","v":0},{"$f":"'12.2018 Data'!H1003","v":17104.080000000002},{"$f":"'12.2018 Data'!I1003","v":7842.81},{"$f":"'12.2018 Data'!J1003","v":0},"930",24946.89,0,17104.080000000002,7842.81,0,{"$f":"IF(ISNUMBER(MATCH($B1023,'Org functional rollups'!$A:$A,0)),INDEX('Org functional rollups'!$D:$D,MATCH($B1023,'Org functional rollups'!$A:$A,0)),0)","v":"Distribution"}]
[{"$f":"'12.2018 Data'!A1004","v":"930200"},{"$f":"'12.2018 Data'!B1004","v":"C08"},{"$f":"'12.2018 Data'!C1004","v":"CD"},{"$f":"'12.2018 Data'!D1004","v":"AA"},{"$f":"'12.2018 Data'!E1004","v":"OPER"},{"$f":"'12.2018 Data'!F1004","v":2195.1},{"$f":"'12.2018 Data'!G1004","v":1539.52},{"$f":"'12.2018 Data'!H1004","v":451.09},{"$f":"'12.2018 Data'!I1004","v":204.49},{"$f":"'12.2018 Data'!J1004","v":0},"930",2195.1,1539.52,451.09,204.49,0,{"$f":"IF(ISNUMBER(MATCH($B1024,'Org functional rollups'!$A:$A,0)),INDEX('Org functional rollups'!$D:$D,MATCH($B1024,'Org functional rollups'!$A:$A,0)),0)","v":"Distribution"}]
[{"$f":"'12.2018 Data'!A1005","v":"930200"},{"$f":"'12.2018 Data'!B1005","v":"C08"},{"$f":"'12.2018 Data'!C1005","v":"GD"},{"$f":"'12.2018 Data'!D1005","v":"AA"},{"$f":"'12.2018 Data'!E1005","v":"OPER"},{"$f":"'12.2018 Data'!F1005","v":86.8},{"$f":"'12.2018 Data'!G1005","v":0},{"$f":"'12.2018 Data'!H1005","v":59.51},{"$f":"'12.2018 Data'!I1005","v":27.29},{"$f":"'12.2018 Data'!J1005","v":0},"930",86.8,0,59.51,27.29,0,{"$f":"IF(ISNUMBER(MATCH($B1025,'Org functional rollups'!$A:$A,0)),INDEX('Org functional rollups'!$D:$D,MATCH($B1025,'Org functional rollups'!$A:$A,0)),0)","v":"Distribution"}]
[{"$f":"'12.2018 Data'!A1006","v":"930200"},{"$f":"'12.2018 Data'!B1006","v":"C09"},{"$f":"'12.2018 Data'!C1006","v":"CD"},{"$f":"'12.2018 Data'!D1006","v":"AA"},{"$f":"'12.2018 Data'!E1006","v":"OPER"},{"$f":"'12.2018 Data'!F1006","v":27.92},{"$f":"'12.2018 Data'!G1006","v":19.579999999999998},{"$f":"'12.2018 Data'!H1006","v":5.74},{"$f":"'12.2018 Data'!I1006","v":2.6},{"$f":"'12.2018 Data'!J1006","v":0},"930",27.92,19.579999999999998,5.74,2.6,0,{"$f":"IF(ISNUMBER(MATCH($B1026,'Org functional rollups'!$A:$A,0)),INDEX('Org functional rollups'!$D:$D,MATCH($B1026,'Org functional rollups'!$A:$A,0)),0)","v":"Common"}]
[{"$f":"'12.2018 Data'!A1007","v":"930200"},{"$f":"'12.2018 Data'!B1007","v":"C11"},{"$f":"'12.2018 Data'!C1007","v":"CD"},{"$f":"'12.2018 Data'!D1007","v":"AA"},{"$f":"'12.2018 Data'!E1007","v":"OPER"},{"$f":"'12.2018 Data'!F1007","v":2334.87},{"$f":"'12.2018 Data'!G1007","v":1637.57},{"$f":"'12.2018 Data'!H1007","v":479.79},{"$f":"'12.2018 Data'!I1007","v":217.51},{"$f":"'12.2018 Data'!J1007","v":0},"930",2334.87,1637.57,479.79,217.51,0,{"$f":"IF(ISNUMBER(MATCH($B1027,'Org functional rollups'!$A:$A,0)),INDEX('Org functional rollups'!$D:$D,MATCH($B1027,'Org functional rollups'!$A:$A,0)),0)","v":"Common"}]
[{"$f":"'12.2018 Data'!A1008","v":"930200"},{"$f":"'12.2018 Data'!B1008","v":"C11"},{"$f":"'12.2018 Data'!C1008","v":"ED"},{"$f":"'12.2018 Data'!D1008","v":"AN"},{"$f":"'12.2018 Data'!E1008","v":"OPER"},{"$f":"'12.2018 Data'!F1008","v":9730.39},{"$f":"'12.2018 Data'!G1008","v":9730.39},{"$f":"'12.2018 Data'!H1008","v":0},{"$f":"'12.2018 Data'!I1008","v":0},{"$f":"'12.2018 Data'!J1008","v":0},"930",9730.39,9730.39,0,0,0,{"$f":"IF(ISNUMBER(MATCH($B1028,'Org functional rollups'!$A:$A,0)),INDEX('Org functional rollups'!$D:$D,MATCH($B1028,'Org functional rollups'!$A:$A,0)),0)","v":"Common"}]
[{"$f":"'12.2018 Data'!A1009","v":"930200"},{"$f":"'12.2018 Data'!B1009","v":"C50"},{"$f":"'12.2018 Data'!C1009","v":"CD"},{"$f":"'12.2018 Data'!D1009","v":"AA"},{"$f":"'12.2018 Data'!E1009","v":"OPER"},{"$f":"'12.2018 Data'!F1009","v":2770.24},{"$f":"'12.2018 Data'!G1009","v":1942.91},{"$f":"'12.2018 Data'!H1009","v":569.26},{"$f":"'12.2018 Data'!I1009","v":258.07},{"$f":"'12.2018 Data'!J1009","v":0},"930",2770.24,1942.91,569.26,258.07,0,{"$f":"IF(ISNUMBER(MATCH($B1029,'Org functional rollups'!$A:$A,0)),INDEX('Org functional rollups'!$D:$D,MATCH($B1029,'Org functional rollups'!$A:$A,0)),0)","v":"Customer"}]
[{"$f":"'12.2018 Data'!A1010","v":"930200"},{"$f":"'12.2018 Data'!B1010","v":"C51"},{"$f":"'12.2018 Data'!C1010","v":"ED"},{"$f":"'12.2018 Data'!D1010","v":"AN"},{"$f":"'12.2018 Data'!E1010","v":"OPER"},{"$f":"'12.2018 Data'!F1010","v":5359.89},{"$f":"'12.2018 Data'!G1010","v":5359.89},{"$f":"'12.2018 Data'!H1010","v":0},{"$f":"'12.2018 Data'!I1010","v":0},{"$f":"'12.2018 Data'!J1010","v":0},"930",5359.89,5359.89,0,0,0,{"$f":"IF(ISNUMBER(MATCH($B1030,'Org functional rollups'!$A:$A,0)),INDEX('Org functional rollups'!$D:$D,MATCH($B1030,'Org functional rollups'!$A:$A,0)),0)","v":"Distribution"}]
[{"$f":"'12.2018 Data'!A1011","v":"930200"},{"$f":"'12.2018 Data'!B1011","v":"C51"},{"$f":"'12.2018 Data'!C1011","v":"CD"},{"$f":"'12.2018 Data'!D1011","v":"AN"},{"$f":"'12.2018 Data'!E1011","v":"OPER"},{"$f":"'12.2018 Data'!F1011","v":4851.97},{"$f":"'12.2018 Data'!G1011","v":3770.72},{"$f":"'12.2018 Data'!H1011","v":1081.25},{"$f":"'12.2018 Data'!I1011","v":0},{"$f":"'12.2018 Data'!J1011","v":0},"930",4851.97,3770.72,1081.25,0,0,{"$f":"IF(ISNUMBER(MATCH($B1031,'Org functional rollups'!$A:$A,0)),INDEX('Org functional rollups'!$D:$D,MATCH($B1031,'Org functional rollups'!$A:$A,0)),0)","v":"Distribution"}]
[{"$f":"'12.2018 Data'!A1012","v":"930200"},{"$f":"'12.2018 Data'!B1012","v":"C53"},{"$f":"'12.2018 Data'!C1012","v":"CD"},{"$f":"'12.2018 Data'!D1012","v":"AA"},{"$f":"'12.2018 Data'!E1012","v":"OPER"},{"$f":"'12.2018 Data'!F1012","v":159.13999999999999},{"$f":"'12.2018 Data'!G1012","v":111.61},{"$f":"'12.2018 Data'!H1012","v":32.71},{"$f":"'12.2018 Data'!I1012","v":14.82},{"$f":"'12.2018 Data'!J1012","v":0},"930",159.13999999999999,111.61,32.71,14.82,0,{"$f":"IF(ISNUMBER(MATCH($B1032,'Org functional rollups'!$A:$A,0)),INDEX('Org functional rollups'!$D:$D,MATCH($B1032,'Org functional rollups'!$A:$A,0)),0)","v":"Distribution"}]
[{"$f":"'12.2018 Data'!A1013","v":"930200"},{"$f":"'12.2018 Data'!B1013","v":"C53"},{"$f":"'12.2018 Data'!C1013","v":"CD"},{"$f":"'12.2018 Data'!D1013","v":"AN"},{"$f":"'12.2018 Data'!E1013","v":"OPER"},{"$f":"'12.2018 Data'!F1013","v":465.12},{"$f":"'12.2018 Data'!G1013","v":361.45},{"$f":"'12.2018 Data'!H1013","v":103.67},{"$f":"'12.2018 Data'!I1013","v":0},{"$f":"'12.2018 Data'!J1013","v":0},"930",465.12,361.45,103.67,0,0,{"$f":"IF(ISNUMBER(MATCH($B1033,'Org functional rollups'!$A:$A,0)),INDEX('Org functional rollups'!$D:$D,MATCH($B1033,'Org functional rollups'!$A:$A,0)),0)","v":"Distribution"}]
[{"$f":"'12.2018 Data'!A1014","v":"930200"},{"$f":"'12.2018 Data'!B1014","v":"C53"},{"$f":"'12.2018 Data'!C1014","v":"GD"},{"$f":"'12.2018 Data'!D1014","v":"AA"},{"$f":"'12.2018 Data'!E1014","v":"OPER"},{"$f":"'12.2018 Data'!F1014","v":9291.2099999999991},{"$f":"'12.2018 Data'!G1014","v":0},{"$f":"'12.2018 Data'!H1014","v":6370.23},{"$f":"'12.2018 Data'!I1014","v":2920.98},{"$f":"'12.2018 Data'!J1014","v":0},"930",9291.2099999999991,0,6370.23,2920.98,0,{"$f":"IF(ISNUMBER(MATCH($B1034,'Org functional rollups'!$A:$A,0)),INDEX('Org functional rollups'!$D:$D,MATCH($B1034,'Org functional rollups'!$A:$A,0)),0)","v":"Distribution"}]
[{"$f":"'12.2018 Data'!A1015","v":"930200"},{"$f":"'12.2018 Data'!B1015","v":"C54"},{"$f":"'12.2018 Data'!C1015","v":"CD"},{"$f":"'12.2018 Data'!D1015","v":"AA"},{"$f":"'12.2018 Data'!E1015","v":"OPER"},{"$f":"'12.2018 Data'!F1015","v":2509.31},{"$f":"'12.2018 Data'!G1015","v":1759.9},{"$f":"'12.2018 Data'!H1015","v":515.62},{"$f":"'12.2018 Data'!I1015","v":233.79},{"$f":"'12.2018 Data'!J1015","v":0},"930",2509.31,1759.9,515.62,233.79,0,{"$f":"IF(ISNUMBER(MATCH($B1035,'Org functional rollups'!$A:$A,0)),INDEX('Org functional rollups'!$D:$D,MATCH($B1035,'Org functional rollups'!$A:$A,0)),0)","v":"Common"}]
[{"$f":"'12.2018 Data'!A1016","v":"930200"},{"$f":"'12.2018 Data'!B1016","v":"C57"},{"$f":"'12.2018 Data'!C1016","v":"ED"},{"$f":"'12.2018 Data'!D1016","v":"AN"},{"$f":"'12.2018 Data'!E1016","v":"OPER"},{"$f":"'12.2018 Data'!F1016","v":1493.73},{"$f":"'12.2018 Data'!G1016","v":1493.73},{"$f":"'12.2018 Data'!H1016","v":0},{"$f":"'12.2018 Data'!I1016","v":0},{"$f":"'12.2018 Data'!J1016","v":0},"930",1493.73,1493.73,0,0,0,{"$f":"IF(ISNUMBER(MATCH($B1036,'Org functional rollups'!$A:$A,0)),INDEX('Org functional rollups'!$D:$D,MATCH($B1036,'Org functional rollups'!$A:$A,0)),0)","v":"Distribution"}]
[{"$f":"'12.2018 Data'!A1017","v":"930200"},{"$f":"'12.2018 Data'!B1017","v":"C57"},{"$f":"'12.2018 Data'!C1017","v":"CD"},{"$f":"'12.2018 Data'!D1017","v":"AN"},{"$f":"'12.2018 Data'!E1017","v":"OPER"},{"$f":"'12.2018 Data'!F1017","v":2441.52},{"$f":"'12.2018 Data'!G1017","v":1897.41},{"$f":"'12.2018 Data'!H1017","v":544.11},{"$f":"'12.2018 Data'!I1017","v":0},{"$f":"'12.2018 Data'!J1017","v":0},"930",2441.52,1897.41,544.11,0,0,{"$f":"IF(ISNUMBER(MATCH($B1037,'Org functional rollups'!$A:$A,0)),INDEX('Org functional rollups'!$D:$D,MATCH($B1037,'Org functional rollups'!$A:$A,0)),0)","v":"Distribution"}]
[{"$f":"'12.2018 Data'!A1018","v":"930200"},{"$f":"'12.2018 Data'!B1018","v":"C83"},{"$f":"'12.2018 Data'!C1018","v":"GD"},{"$f":"'12.2018 Data'!D1018","v":"OR"},{"$f":"'12.2018 Data'!E1018","v":"OPER"},{"$f":"'12.2018 Data'!F1018","v":880.77},{"$f":"'12.2018 Data'!G1018","v":0},{"$f":"'12.2018 Data'!H1018","v":0},{"$f":"'12.2018 Data'!I1018","v":880.77},{"$f":"'12.2018 Data'!J1018","v":0},"930",880.77,0,0,880.77,0,{"$f":"IF(ISNUMBER(MATCH($B1038,'Org functional rollups'!$A:$A,0)),INDEX('Org functional rollups'!$D:$D,MATCH($B1038,'Org functional rollups'!$A:$A,0)),0)","v":"Distribution"}]
[{"$f":"'12.2018 Data'!A1019","v":"930200"},{"$f":"'12.2018 Data'!B1019","v":"C83"},{"$f":"'12.2018 Data'!C1019","v":"GD"},{"$f":"'12.2018 Data'!D1019","v":"AA"},{"$f":"'12.2018 Data'!E1019","v":"OPER"},{"$f":"'12.2018 Data'!F1019","v":2704.15},{"$f":"'12.2018 Data'!G1019","v":0},{"$f":"'12.2018 Data'!H1019","v":1854.03},{"$f":"'12.2018 Data'!I1019","v":850.12},{"$f":"'12.2018 Data'!J1019","v":0},"930",2704.15,0,1854.03,850.12,0,{"$f":"IF(ISNUMBER(MATCH($B1039,'Org functional rollups'!$A:$A,0)),INDEX('Org functional rollups'!$D:$D,MATCH($B1039,'Org functional rollups'!$A:$A,0)),0)","v":"Distribution"}]
[{"$f":"'12.2018 Data'!A1020","v":"930200"},{"$f":"'12.2018 Data'!B1020","v":"D02"},{"$f":"'12.2018 Data'!C1020","v":"CD"},{"$f":"'12.2018 Data'!D1020","v":"AA"},{"$f":"'12.2018 Data'!E1020","v":"OPER"},{"$f":"'12.2018 Data'!F1020","v":93576},{"$f":"'12.2018 Data'!G1020","v":65629.539999999994},{"$f":"'12.2018 Data'!H1020","v":19228.919999999998},{"$f":"'12.2018 Data'!I1020","v":8717.5400000000009},{"$f":"'12.2018 Data'!J1020","v":0},"930",93576,65629.539999999994,19228.919999999998,8717.5400000000009,0,{"$f":"IF(ISNUMBER(MATCH($B1040,'Org functional rollups'!$A:$A,0)),INDEX('Org functional rollups'!$D:$D,MATCH($B1040,'Org functional rollups'!$A:$A,0)),0)","v":"Common"}]
[{"$f":"'12.2018 Data'!A1021","v":"930200"},{"$f":"'12.2018 Data'!B1021","v":"D08"},{"$f":"'12.2018 Data'!C1021","v":"CD"},{"$f":"'12.2018 Data'!D1021","v":"AA"},{"$f":"'12.2018 Data'!E1021","v":"OPER"},{"$f":"'12.2018 Data'!F1021","v":6287.98},{"$f":"'12.2018 Data'!G1021","v":4410.1000000000004},{"$f":"'12.2018 Data'!H1021","v":1292.06},{"$f":"'12.2018 Data'!I1021","v":585.82000000000005},{"$f":"'12.2018 Data'!J1021","v":0},"930",6287.98,4410.1000000000004,1292.06,585.82000000000005,0,{"$f":"IF(ISNUMBER(MATCH($B1041,'Org functional rollups'!$A:$A,0)),INDEX('Org functional rollups'!$D:$D,MATCH($B1041,'Org functional rollups'!$A:$A,0)),0)","v":"Distribution"}]
[{"$f":"'12.2018 Data'!A1022","v":"930200"},{"$f":"'12.2018 Data'!B1022","v":"D08"},{"$f":"'12.2018 Data'!C1022","v":"ED"},{"$f":"'12.2018 Data'!D1022","v":"AN"},{"$f":"'12.2018 Data'!E1022","v":"OPER"},{"$f":"'12.2018 Data'!F1022","v":37625},{"$f":"'12.2018 Data'!G1022","v":37625},{"$f":"'12.2018 Data'!H1022","v":0},{"$f":"'12.2018 Data'!I1022","v":0},{"$f":"'12.2018 Data'!J1022","v":0},"930",37625,37625,0,0,0,{"$f":"IF(ISNUMBER(MATCH($B1042,'Org functional rollups'!$A:$A,0)),INDEX('Org functional rollups'!$D:$D,MATCH($B1042,'Org functional rollups'!$A:$A,0)),0)","v":"Distribution"}]
[{"$f":"'12.2018 Data'!A1023","v":"930200"},{"$f":"'12.2018 Data'!B1023","v":"D08"},{"$f":"'12.2018 Data'!C1023","v":"GD"},{"$f":"'12.2018 Data'!D1023","v":"AA"},{"$f":"'12.2018 Data'!E1023","v":"OPER"},{"$f":"'12.2018 Data'!F1023","v":3579.12},{"$f":"'12.2018 Data'!G1023","v":0},{"$f":"'12.2018 Data'!H1023","v":2453.91},{"$f":"'12.2018 Data'!I1023","v":1125.21},{"$f":"'12.2018 Data'!J1023","v":0},"930",3579.12,0,2453.91,1125.21,0,{"$f":"IF(ISNUMBER(MATCH($B1043,'Org functional rollups'!$A:$A,0)),INDEX('Org functional rollups'!$D:$D,MATCH($B1043,'Org functional rollups'!$A:$A,0)),0)","v":"Distribution"}]
[{"$f":"'12.2018 Data'!A1024","v":"930200"},{"$f":"'12.2018 Data'!B1024","v":"D09"},{"$f":"'12.2018 Data'!C1024","v":"CD"},{"$f":"'12.2018 Data'!D1024","v":"AN"},{"$f":"'12.2018 Data'!E1024","v":"OPER"},{"$f":"'12.2018 Data'!F1024","v":112.77},{"$f":"'12.2018 Data'!G1024","v":87.64},{"$f":"'12.2018 Data'!H1024","v":25.13},{"$f":"'12.2018 Data'!I1024","v":0},{"$f":"'12.2018 Data'!J1024","v":0},"930",112.77,87.64,25.13,0,0,{"$f":"IF(ISNUMBER(MATCH($B1044,'Org functional rollups'!$A:$A,0)),INDEX('Org functional rollups'!$D:$D,MATCH($B1044,'Org functional rollups'!$A:$A,0)),0)","v":"Transmission"}]
[{"$f":"'12.2018 Data'!A1025","v":"930200"},{"$f":"'12.2018 Data'!B1025","v":"D50"},{"$f":"'12.2018 Data'!C1025","v":"CD"},{"$f":"'12.2018 Data'!D1025","v":"AA"},{"$f":"'12.2018 Data'!E1025","v":"OPER"},{"$f":"'12.2018 Data'!F1025","v":403.77},{"$f":"'12.2018 Data'!G1025","v":283.18},{"$f":"'12.2018 Data'!H1025","v":82.98},{"$f":"'12.2018 Data'!I1025","v":37.61},{"$f":"'12.2018 Data'!J1025","v":0},"930",403.77,283.18,82.98,37.61,0,{"$f":"IF(ISNUMBER(MATCH($B1045,'Org functional rollups'!$A:$A,0)),INDEX('Org functional rollups'!$D:$D,MATCH($B1045,'Org functional rollups'!$A:$A,0)),0)","v":"Customer"}]
[{"$f":"'12.2018 Data'!A1026","v":"930200"},{"$f":"'12.2018 Data'!B1026","v":"D51"},{"$f":"'12.2018 Data'!C1026","v":"ED"},{"$f":"'12.2018 Data'!D1026","v":"AN"},{"$f":"'12.2018 Data'!E1026","v":"OPER"},{"$f":"'12.2018 Data'!F1026","v":332.79},{"$f":"'12.2018 Data'!G1026","v":332.79},{"$f":"'12.2018 Data'!H1026","v":0},{"$f":"'12.2018 Data'!I1026","v":0},{"$f":"'12.2018 Data'!J1026","v":0},"930",332.79,332.79,0,0,0,{"$f":"IF(ISNUMBER(MATCH($B1046,'Org functional rollups'!$A:$A,0)),INDEX('Org functional rollups'!$D:$D,MATCH($B1046,'Org functional rollups'!$A:$A,0)),0)","v":"Distribution"}]
[{"$f":"'12.2018 Data'!A1027","v":"930200"},{"$f":"'12.2018 Data'!B1027","v":"D51"},{"$f":"'12.2018 Data'!C1027","v":"CD"},{"$f":"'12.2018 Data'!D1027","v":"AN"},{"$f":"'12.2018 Data'!E1027","v":"OPER"},{"$f":"'12.2018 Data'!F1027","v":35.229999999999997},{"$f":"'12.2018 Data'!G1027","v":27.38},{"$f":"'12.2018 Data'!H1027","v":7.85},{"$f":"'12.2018 Data'!I1027","v":0},{"$f":"'12.2018 Data'!J1027","v":0},"930",35.229999999999997,27.38,7.85,0,0,{"$f":"IF(ISNUMBER(MATCH($B1047,'Org functional rollups'!$A:$A,0)),INDEX('Org functional rollups'!$D:$D,MATCH($B1047,'Org functional rollups'!$A:$A,0)),0)","v":"Distribution"}]
[{"$f":"'12.2018 Data'!A1028","v":"930200"},{"$f":"'12.2018 Data'!B1028","v":"D51"},{"$f":"'12.2018 Data'!C1028","v":"CD"},{"$f":"'12.2018 Data'!D1028","v":"AA"},{"$f":"'12.2018 Data'!E1028","v":"OPER"},{"$f":"'12.2018 Data'!F1028","v":8933},{"$f":"'12.2018 Data'!G1028","v":6265.16},{"$f":"'12.2018 Data'!H1028","v":1835.64},{"$f":"'12.2018 Data'!I1028","v":832.2},{"$f":"'12.2018 Data'!J1028","v":0},"930",8933,6265.16,1835.64,832.2,0,{"$f":"IF(ISNUMBER(MATCH($B1048,'Org functional rollups'!$A:$A,0)),INDEX('Org functional rollups'!$D:$D,MATCH($B1048,'Org functional rollups'!$A:$A,0)),0)","v":"Distribution"}]
[{"$f":"'12.2018 Data'!A1029","v":"930200"},{"$f":"'12.2018 Data'!B1029","v":"D53"},{"$f":"'12.2018 Data'!C1029","v":"CD"},{"$f":"'12.2018 Data'!D1029","v":"AN"},{"$f":"'12.2018 Data'!E1029","v":"OPER"},{"$f":"'12.2018 Data'!F1029","v":3433.6},{"$f":"'12.2018 Data'!G1029","v":2668.41},{"$f":"'12.2018 Data'!H1029","v":765.19},{"$f":"'12.2018 Data'!I1029","v":0},{"$f":"'12.2018 Data'!J1029","v":0},"930",3433.6,2668.41,765.19,0,0,{"$f":"IF(ISNUMBER(MATCH($B1049,'Org functional rollups'!$A:$A,0)),INDEX('Org functional rollups'!$D:$D,MATCH($B1049,'Org functional rollups'!$A:$A,0)),0)","v":"Distribution"}]
[{"$f":"'12.2018 Data'!A1030","v":"930200"},{"$f":"'12.2018 Data'!B1030","v":"D53"},{"$f":"'12.2018 Data'!C1030","v":"ED"},{"$f":"'12.2018 Data'!D1030","v":"AN"},{"$f":"'12.2018 Data'!E1030","v":"OPER"},{"$f":"'12.2018 Data'!F1030","v":8259.98},{"$f":"'12.2018 Data'!G1030","v":8259.98},{"$f":"'12.2018 Data'!H1030","v":0},{"$f":"'12.2018 Data'!I1030","v":0},{"$f":"'12.2018 Data'!J1030","v":0},"930",8259.98,8259.98,0,0,0,{"$f":"IF(ISNUMBER(MATCH($B1050,'Org functional rollups'!$A:$A,0)),INDEX('Org functional rollups'!$D:$D,MATCH($B1050,'Org functional rollups'!$A:$A,0)),0)","v":"Distribution"}]
[{"$f":"'12.2018 Data'!A1031","v":"930200"},{"$f":"'12.2018 Data'!B1031","v":"D53"},{"$f":"'12.2018 Data'!C1031","v":"GD"},{"$f":"'12.2018 Data'!D1031","v":"AA"},{"$f":"'12.2018 Data'!E1031","v":"OPER"},{"$f":"'12.2018 Data'!F1031","v":600.47},{"$f":"'12.2018 Data'!G1031","v":0},{"$f":"'12.2018 Data'!H1031","v":411.7},{"$f":"'12.2018 Data'!I1031","v":188.77},{"$f":"'12.2018 Data'!J1031","v":0},"930",600.47,0,411.7,188.77,0,{"$f":"IF(ISNUMBER(MATCH($B1051,'Org functional rollups'!$A:$A,0)),INDEX('Org functional rollups'!$D:$D,MATCH($B1051,'Org functional rollups'!$A:$A,0)),0)","v":"Distribution"}]
[{"$f":"'12.2018 Data'!A1032","v":"930200"},{"$f":"'12.2018 Data'!B1032","v":"D54"},{"$f":"'12.2018 Data'!C1032","v":"CD"},{"$f":"'12.2018 Data'!D1032","v":"AA"},{"$f":"'12.2018 Data'!E1032","v":"OPER"},{"$f":"'12.2018 Data'!F1032","v":4476.05},{"$f":"'12.2018 Data'!G1032","v":3139.28},{"$f":"'12.2018 Data'!H1032","v":919.78},{"$f":"'12.2018 Data'!I1032","v":416.99},{"$f":"'12.2018 Data'!J1032","v":0},"930",4476.05,3139.28,919.78,416.99,0,{"$f":"IF(ISNUMBER(MATCH($B1052,'Org functional rollups'!$A:$A,0)),INDEX('Org functional rollups'!$D:$D,MATCH($B1052,'Org functional rollups'!$A:$A,0)),0)","v":"Common"}]
[{"$f":"'12.2018 Data'!A1033","v":"930200"},{"$f":"'12.2018 Data'!B1033","v":"D56"},{"$f":"'12.2018 Data'!C1033","v":"ED"},{"$f":"'12.2018 Data'!D1033","v":"AN"},{"$f":"'12.2018 Data'!E1033","v":"OPER"},{"$f":"'12.2018 Data'!F1033","v":232},{"$f":"'12.2018 Data'!G1033","v":232},{"$f":"'12.2018 Data'!H1033","v":0},{"$f":"'12.2018 Data'!I1033","v":0},{"$f":"'12.2018 Data'!J1033","v":0},"930",232,232,0,0,0,{"$f":"IF(ISNUMBER(MATCH($B1053,'Org functional rollups'!$A:$A,0)),INDEX('Org functional rollups'!$D:$D,MATCH($B1053,'Org functional rollups'!$A:$A,0)),0)","v":"Transmission"}]
[{"$f":"'12.2018 Data'!A1034","v":"930200"},{"$f":"'12.2018 Data'!B1034","v":"E01"},{"$f":"'12.2018 Data'!C1034","v":"GD"},{"$f":"'12.2018 Data'!D1034","v":"AA"},{"$f":"'12.2018 Data'!E1034","v":"OPER"},{"$f":"'12.2018 Data'!F1034","v":4634.1499999999996},{"$f":"'12.2018 Data'!G1034","v":0},{"$f":"'12.2018 Data'!H1034","v":3177.25},{"$f":"'12.2018 Data'!I1034","v":1456.9},{"$f":"'12.2018 Data'!J1034","v":0},"930",4634.1499999999996,0,3177.25,1456.9,0,{"$f":"IF(ISNUMBER(MATCH($B1054,'Org functional rollups'!$A:$A,0)),INDEX('Org functional rollups'!$D:$D,MATCH($B1054,'Org functional rollups'!$A:$A,0)),0)","v":"Common"}]
[{"$f":"'12.2018 Data'!A1035","v":"930200"},{"$f":"'12.2018 Data'!B1035","v":"E01"},{"$f":"'12.2018 Data'!C1035","v":"ED"},{"$f":"'12.2018 Data'!D1035","v":"AN"},{"$f":"'12.2018 Data'!E1035","v":"OPER"},{"$f":"'12.2018 Data'!F1035","v":337602.65},{"$f":"'12.2018 Data'!G1035","v":337602.65},{"$f":"'12.2018 Data'!H1035","v":0},{"$f":"'12.2018 Data'!I1035","v":0},{"$f":"'12.2018 Data'!J1035","v":0},"930",337602.65,337602.65,0,0,0,{"$f":"IF(ISNUMBER(MATCH($B1055,'Org functional rollups'!$A:$A,0)),INDEX('Org functional rollups'!$D:$D,MATCH($B1055,'Org functional rollups'!$A:$A,0)),0)","v":"Common"}]
[{"$f":"'12.2018 Data'!A1036","v":"930200"},{"$f":"'12.2018 Data'!B1036","v":"E01"},{"$f":"'12.2018 Data'!C1036","v":"CD"},{"$f":"'12.2018 Data'!D1036","v":"AA"},{"$f":"'12.2018 Data'!E1036","v":"OPER"},{"$f":"'12.2018 Data'!F1036","v":517959.25},{"$f":"'12.2018 Data'!G1036","v":363270.66},{"$f":"'12.2018 Data'!H1036","v":106435.45},{"$f":"'12.2018 Data'!I1036","v":48253.14},{"$f":"'12.2018 Data'!J1036","v":0},"930",517959.25,363270.66,106435.45,48253.14,0,{"$f":"IF(ISNUMBER(MATCH($B1056,'Org functional rollups'!$A:$A,0)),INDEX('Org functional rollups'!$D:$D,MATCH($B1056,'Org functional rollups'!$A:$A,0)),0)","v":"Common"}]
[{"$f":"'12.2018 Data'!A1037","v":"930200"},{"$f":"'12.2018 Data'!B1037","v":"E01"},{"$f":"'12.2018 Data'!C1037","v":"GD"},{"$f":"'12.2018 Data'!D1037","v":"OR"},{"$f":"'12.2018 Data'!E1037","v":"OPER"},{"$f":"'12.2018 Data'!F1037","v":21.62},{"$f":"'12.2018 Data'!G1037","v":0},{"$f":"'12.2018 Data'!H1037","v":0},{"$f":"'12.2018 Data'!I1037","v":21.62},{"$f":"'12.2018 Data'!J1037","v":0},"930",21.62,0,0,21.62,0,{"$f":"IF(ISNUMBER(MATCH($B1057,'Org functional rollups'!$A:$A,0)),INDEX('Org functional rollups'!$D:$D,MATCH($B1057,'Org functional rollups'!$A:$A,0)),0)","v":"Common"}]
[{"$f":"'12.2018 Data'!A1038","v":"930200"},{"$f":"'12.2018 Data'!B1038","v":"E01"},{"$f":"'12.2018 Data'!C1038","v":"CD"},{"$f":"'12.2018 Data'!D1038","v":"ID"},{"$f":"'12.2018 Data'!E1038","v":"OPER"},{"$f":"'12.2018 Data'!F1038","v":346.8},{"$f":"'12.2018 Data'!G1038","v":269.52},{"$f":"'12.2018 Data'!H1038","v":77.28},{"$f":"'12.2018 Data'!I1038","v":0},{"$f":"'12.2018 Data'!J1038","v":0},"930",346.8,269.52,77.28,0,0,{"$f":"IF(ISNUMBER(MATCH($B1058,'Org functional rollups'!$A:$A,0)),INDEX('Org functional rollups'!$D:$D,MATCH($B1058,'Org functional rollups'!$A:$A,0)),0)","v":"Common"}]
[{"$f":"'12.2018 Data'!A1039","v":"930200"},{"$f":"'12.2018 Data'!B1039","v":"E01"},{"$f":"'12.2018 Data'!C1039","v":"CD"},{"$f":"'12.2018 Data'!D1039","v":"WA"},{"$f":"'12.2018 Data'!E1039","v":"OPER"},{"$f":"'12.2018 Data'!F1039","v":2361.6},{"$f":"'12.2018 Data'!G1039","v":1835.32},{"$f":"'12.2018 Data'!H1039","v":526.28},{"$f":"'12.2018 Data'!I1039","v":0},{"$f":"'12.2018 Data'!J1039","v":0},"930",2361.6,1835.32,526.28,0,0,{"$f":"IF(ISNUMBER(MATCH($B1059,'Org functional rollups'!$A:$A,0)),INDEX('Org functional rollups'!$D:$D,MATCH($B1059,'Org functional rollups'!$A:$A,0)),0)","v":"Common"}]
[{"$f":"'12.2018 Data'!A1040","v":"930200"},{"$f":"'12.2018 Data'!B1040","v":"E02"},{"$f":"'12.2018 Data'!C1040","v":"CD"},{"$f":"'12.2018 Data'!D1040","v":"AA"},{"$f":"'12.2018 Data'!E1040","v":"OPER"},{"$f":"'12.2018 Data'!F1040","v":52.24},{"$f":"'12.2018 Data'!G1040","v":36.630000000000003},{"$f":"'12.2018 Data'!H1040","v":10.73},{"$f":"'12.2018 Data'!I1040","v":4.88},{"$f":"'12.2018 Data'!J1040","v":0},"930",52.24,36.630000000000003,10.73,4.88,0,{"$f":"IF(ISNUMBER(MATCH($B1060,'Org functional rollups'!$A:$A,0)),INDEX('Org functional rollups'!$D:$D,MATCH($B1060,'Org functional rollups'!$A:$A,0)),0)","v":"Common"}]
[{"$f":"'12.2018 Data'!A1041","v":"930200"},{"$f":"'12.2018 Data'!B1041","v":"E07"},{"$f":"'12.2018 Data'!C1041","v":"ED"},{"$f":"'12.2018 Data'!D1041","v":"AN"},{"$f":"'12.2018 Data'!E1041","v":"OPER"},{"$f":"'12.2018 Data'!F1041","v":2284.0300000000002},{"$f":"'12.2018 Data'!G1041","v":2284.0300000000002},{"$f":"'12.2018 Data'!H1041","v":0},{"$f":"'12.2018 Data'!I1041","v":0},{"$f":"'12.2018 Data'!J1041","v":0},"930",2284.0300000000002,2284.0300000000002,0,0,0,{"$f":"IF(ISNUMBER(MATCH($B1061,'Org functional rollups'!$A:$A,0)),INDEX('Org functional rollups'!$D:$D,MATCH($B1061,'Org functional rollups'!$A:$A,0)),0)","v":"Production"}]
[{"$f":"'12.2018 Data'!A1042","v":"930200"},{"$f":"'12.2018 Data'!B1042","v":"E51"},{"$f":"'12.2018 Data'!C1042","v":"ED"},{"$f":"'12.2018 Data'!D1042","v":"AN"},{"$f":"'12.2018 Data'!E1042","v":"OPER"},{"$f":"'12.2018 Data'!F1042","v":51329.03},{"$f":"'12.2018 Data'!G1042","v":51329.03},{"$f":"'12.2018 Data'!H1042","v":0},{"$f":"'12.2018 Data'!I1042","v":0},{"$f":"'12.2018 Data'!J1042","v":0},"930",51329.03,51329.03,0,0,0,{"$f":"IF(ISNUMBER(MATCH($B1062,'Org functional rollups'!$A:$A,0)),INDEX('Org functional rollups'!$D:$D,MATCH($B1062,'Org functional rollups'!$A:$A,0)),0)","v":"Distribution"}]
[{"$f":"'12.2018 Data'!A1043","v":"930200"},{"$f":"'12.2018 Data'!B1043","v":"F08"},{"$f":"'12.2018 Data'!C1043","v":"CD"},{"$f":"'12.2018 Data'!D1043","v":"AA"},{"$f":"'12.2018 Data'!E1043","v":"OPER"},{"$f":"'12.2018 Data'!F1043","v":43.19},{"$f":"'12.2018 Data'!G1043","v":30.29},{"$f":"'12.2018 Data'!H1043","v":8.8800000000000008},{"$f":"'12.2018 Data'!I1043","v":4.0199999999999996},{"$f":"'12.2018 Data'!J1043","v":0},"930",43.19,30.29,8.8800000000000008,4.0199999999999996,0,{"$f":"IF(ISNUMBER(MATCH($B1063,'Org functional rollups'!$A:$A,0)),INDEX('Org functional rollups'!$D:$D,MATCH($B1063,'Org functional rollups'!$A:$A,0)),0)","v":"Transmission"}]
[{"$f":"'12.2018 Data'!A1044","v":"930200"},{"$f":"'12.2018 Data'!B1044","v":"F50"},{"$f":"'12.2018 Data'!C1044","v":"CD"},{"$f":"'12.2018 Data'!D1044","v":"AA"},{"$f":"'12.2018 Data'!E1044","v":"OPER"},{"$f":"'12.2018 Data'!F1044","v":2402.56},{"$f":"'12.2018 Data'!G1044","v":1685.04},{"$f":"'12.2018 Data'!H1044","v":493.71},{"$f":"'12.2018 Data'!I1044","v":223.81},{"$f":"'12.2018 Data'!J1044","v":0},"930",2402.56,1685.04,493.71,223.81,0,{"$f":"IF(ISNUMBER(MATCH($B1064,'Org functional rollups'!$A:$A,0)),INDEX('Org functional rollups'!$D:$D,MATCH($B1064,'Org functional rollups'!$A:$A,0)),0)","v":"Customer"}]
[{"$f":"'12.2018 Data'!A1045","v":"930200"},{"$f":"'12.2018 Data'!B1045","v":"F50"},{"$f":"'12.2018 Data'!C1045","v":"GD"},{"$f":"'12.2018 Data'!D1045","v":"OR"},{"$f":"'12.2018 Data'!E1045","v":"OPER"},{"$f":"'12.2018 Data'!F1045","v":0},{"$f":"'12.2018 Data'!G1045","v":0},{"$f":"'12.2018 Data'!H1045","v":0},{"$f":"'12.2018 Data'!I1045","v":0},{"$f":"'12.2018 Data'!J1045","v":0},"930",0,0,0,0,0,{"$f":"IF(ISNUMBER(MATCH($B1065,'Org functional rollups'!$A:$A,0)),INDEX('Org functional rollups'!$D:$D,MATCH($B1065,'Org functional rollups'!$A:$A,0)),0)","v":"Customer"}]
[{"$f":"'12.2018 Data'!A1046","v":"930200"},{"$f":"'12.2018 Data'!B1046","v":"F52"},{"$f":"'12.2018 Data'!C1046","v":"ED"},{"$f":"'12.2018 Data'!D1046","v":"AN"},{"$f":"'12.2018 Data'!E1046","v":"OPER"},{"$f":"'12.2018 Data'!F1046","v":17091.8},{"$f":"'12.2018 Data'!G1046","v":17091.8},{"$f":"'12.2018 Data'!H1046","v":0},{"$f":"'12.2018 Data'!I1046","v":0},{"$f":"'12.2018 Data'!J1046","v":0},"930",17091.8,17091.8,0,0,0,{"$f":"IF(ISNUMBER(MATCH($B1066,'Org functional rollups'!$A:$A,0)),INDEX('Org functional rollups'!$D:$D,MATCH($B1066,'Org functional rollups'!$A:$A,0)),0)","v":"Customer"}]
[{"$f":"'12.2018 Data'!A1047","v":"930200"},{"$f":"'12.2018 Data'!B1047","v":"F52"},{"$f":"'12.2018 Data'!C1047","v":"GD"},{"$f":"'12.2018 Data'!D1047","v":"AA"},{"$f":"'12.2018 Data'!E1047","v":"OPER"},{"$f":"'12.2018 Data'!F1047","v":19260.73},{"$f":"'12.2018 Data'!G1047","v":0},{"$f":"'12.2018 Data'!H1047","v":13205.56},{"$f":"'12.2018 Data'!I1047","v":6055.17},{"$f":"'12.2018 Data'!J1047","v":0},"930",19260.73,0,13205.56,6055.17,0,{"$f":"IF(ISNUMBER(MATCH($B1067,'Org functional rollups'!$A:$A,0)),INDEX('Org functional rollups'!$D:$D,MATCH($B1067,'Org functional rollups'!$A:$A,0)),0)","v":"Customer"}]
[{"$f":"'12.2018 Data'!A1048","v":"930200"},{"$f":"'12.2018 Data'!B1048","v":"F52"},{"$f":"'12.2018 Data'!C1048","v":"CD"},{"$f":"'12.2018 Data'!D1048","v":"AA"},{"$f":"'12.2018 Data'!E1048","v":"OPER"},{"$f":"'12.2018 Data'!F1048","v":23877.52},{"$f":"'12.2018 Data'!G1048","v":16746.5},{"$f":"'12.2018 Data'!H1048","v":4906.6000000000004},{"$f":"'12.2018 Data'!I1048","v":2224.42},{"$f":"'12.2018 Data'!J1048","v":0},"930",23877.52,16746.5,4906.6000000000004,2224.42,0,{"$f":"IF(ISNUMBER(MATCH($B1068,'Org functional rollups'!$A:$A,0)),INDEX('Org functional rollups'!$D:$D,MATCH($B1068,'Org functional rollups'!$A:$A,0)),0)","v":"Customer"}]
[{"$f":"'12.2018 Data'!A1049","v":"930200"},{"$f":"'12.2018 Data'!B1049","v":"F53"},{"$f":"'12.2018 Data'!C1049","v":"CD"},{"$f":"'12.2018 Data'!D1049","v":"WA"},{"$f":"'12.2018 Data'!E1049","v":"OPER"},{"$f":"'12.2018 Data'!F1049","v":225.86},{"$f":"'12.2018 Data'!G1049","v":175.51},{"$f":"'12.2018 Data'!H1049","v":50.35},{"$f":"'12.2018 Data'!I1049","v":0},{"$f":"'12.2018 Data'!J1049","v":0},"930",225.86,175.51,50.35,0,0,{"$f":"IF(ISNUMBER(MATCH($B1069,'Org functional rollups'!$A:$A,0)),INDEX('Org functional rollups'!$D:$D,MATCH($B1069,'Org functional rollups'!$A:$A,0)),0)","v":"Customer"}]
[{"$f":"'12.2018 Data'!A1050","v":"930200"},{"$f":"'12.2018 Data'!B1050","v":"F53"},{"$f":"'12.2018 Data'!C1050","v":"CD"},{"$f":"'12.2018 Data'!D1050","v":"AN"},{"$f":"'12.2018 Data'!E1050","v":"OPER"},{"$f":"'12.2018 Data'!F1050","v":7775},{"$f":"'12.2018 Data'!G1050","v":6042.35},{"$f":"'12.2018 Data'!H1050","v":1732.65},{"$f":"'12.2018 Data'!I1050","v":0},{"$f":"'12.2018 Data'!J1050","v":0},"930",7775,6042.35,1732.65,0,0,{"$f":"IF(ISNUMBER(MATCH($B1070,'Org functional rollups'!$A:$A,0)),INDEX('Org functional rollups'!$D:$D,MATCH($B1070,'Org functional rollups'!$A:$A,0)),0)","v":"Customer"}]
[{"$f":"'12.2018 Data'!A1051","v":"930200"},{"$f":"'12.2018 Data'!B1051","v":"F53"},{"$f":"'12.2018 Data'!C1051","v":"CD"},{"$f":"'12.2018 Data'!D1051","v":"ID"},{"$f":"'12.2018 Data'!E1051","v":"OPER"},{"$f":"'12.2018 Data'!F1051","v":3239.13},{"$f":"'12.2018 Data'!G1051","v":2517.29},{"$f":"'12.2018 Data'!H1051","v":721.84},{"$f":"'12.2018 Data'!I1051","v":0},{"$f":"'12.2018 Data'!J1051","v":0},"930",3239.13,2517.29,721.84,0,0,{"$f":"IF(ISNUMBER(MATCH($B1071,'Org functional rollups'!$A:$A,0)),INDEX('Org functional rollups'!$D:$D,MATCH($B1071,'Org functional rollups'!$A:$A,0)),0)","v":"Customer"}]
[{"$f":"'12.2018 Data'!A1052","v":"930200"},{"$f":"'12.2018 Data'!B1052","v":"F54"},{"$f":"'12.2018 Data'!C1052","v":"ED"},{"$f":"'12.2018 Data'!D1052","v":"AN"},{"$f":"'12.2018 Data'!E1052","v":"OPER"},{"$f":"'12.2018 Data'!F1052","v":333.05},{"$f":"'12.2018 Data'!G1052","v":333.05},{"$f":"'12.2018 Data'!H1052","v":0},{"$f":"'12.2018 Data'!I1052","v":0},{"$f":"'12.2018 Data'!J1052","v":0},"930",333.05,333.05,0,0,0,{"$f":"IF(ISNUMBER(MATCH($B1072,'Org functional rollups'!$A:$A,0)),INDEX('Org functional rollups'!$D:$D,MATCH($B1072,'Org functional rollups'!$A:$A,0)),0)","v":"Common"}]
[{"$f":"'12.2018 Data'!A1053","v":"930200"},{"$f":"'12.2018 Data'!B1053","v":"F54"},{"$f":"'12.2018 Data'!C1053","v":"CD"},{"$f":"'12.2018 Data'!D1053","v":"AA"},{"$f":"'12.2018 Data'!E1053","v":"OPER"},{"$f":"'12.2018 Data'!F1053","v":472978.84},{"$f":"'12.2018 Data'!G1053","v":331723.71000000002},{"$f":"'12.2018 Data'!H1053","v":97192.42},{"$f":"'12.2018 Data'!I1053","v":44062.71},{"$f":"'12.2018 Data'!J1053","v":0},"930",472978.84,331723.71000000002,97192.42,44062.71,0,{"$f":"IF(ISNUMBER(MATCH($B1073,'Org functional rollups'!$A:$A,0)),INDEX('Org functional rollups'!$D:$D,MATCH($B1073,'Org functional rollups'!$A:$A,0)),0)","v":"Common"}]
[{"$f":"'12.2018 Data'!A1054","v":"930200"},{"$f":"'12.2018 Data'!B1054","v":"F55"},{"$f":"'12.2018 Data'!C1054","v":"ED"},{"$f":"'12.2018 Data'!D1054","v":"AN"},{"$f":"'12.2018 Data'!E1054","v":"OPER"},{"$f":"'12.2018 Data'!F1054","v":212.78},{"$f":"'12.2018 Data'!G1054","v":212.78},{"$f":"'12.2018 Data'!H1054","v":0},{"$f":"'12.2018 Data'!I1054","v":0},{"$f":"'12.2018 Data'!J1054","v":0},"930",212.78,212.78,0,0,0,{"$f":"IF(ISNUMBER(MATCH($B1074,'Org functional rollups'!$A:$A,0)),INDEX('Org functional rollups'!$D:$D,MATCH($B1074,'Org functional rollups'!$A:$A,0)),0)","v":"Common"}]
[{"$f":"'12.2018 Data'!A1055","v":"930200"},{"$f":"'12.2018 Data'!B1055","v":"G02"},{"$f":"'12.2018 Data'!C1055","v":"CD"},{"$f":"'12.2018 Data'!D1055","v":"AA"},{"$f":"'12.2018 Data'!E1055","v":"OPER"},{"$f":"'12.2018 Data'!F1055","v":4873.18},{"$f":"'12.2018 Data'!G1055","v":3417.82},{"$f":"'12.2018 Data'!H1055","v":1001.34},{"$f":"'12.2018 Data'!I1055","v":454.02},{"$f":"'12.2018 Data'!J1055","v":0},"930",4873.18,3417.82,1001.34,454.02,0,{"$f":"IF(ISNUMBER(MATCH($B1075,'Org functional rollups'!$A:$A,0)),INDEX('Org functional rollups'!$D:$D,MATCH($B1075,'Org functional rollups'!$A:$A,0)),0)","v":"Distribution"}]
[{"$f":"'12.2018 Data'!A1056","v":"930200"},{"$f":"'12.2018 Data'!B1056","v":"G07"},{"$f":"'12.2018 Data'!C1056","v":"CD"},{"$f":"'12.2018 Data'!D1056","v":"WA"},{"$f":"'12.2018 Data'!E1056","v":"OPER"},{"$f":"'12.2018 Data'!F1056","v":99.04},{"$f":"'12.2018 Data'!G1056","v":76.97},{"$f":"'12.2018 Data'!H1056","v":22.07},{"$f":"'12.2018 Data'!I1056","v":0},{"$f":"'12.2018 Data'!J1056","v":0},"930",99.04,76.97,22.07,0,0,{"$f":"IF(ISNUMBER(MATCH($B1076,'Org functional rollups'!$A:$A,0)),INDEX('Org functional rollups'!$D:$D,MATCH($B1076,'Org functional rollups'!$A:$A,0)),0)","v":"Production"}]
[{"$f":"'12.2018 Data'!A1057","v":"930200"},{"$f":"'12.2018 Data'!B1057","v":"G08"},{"$f":"'12.2018 Data'!C1057","v":"CD"},{"$f":"'12.2018 Data'!D1057","v":"AN"},{"$f":"'12.2018 Data'!E1057","v":"OPER"},{"$f":"'12.2018 Data'!F1057","v":131.25},{"$f":"'12.2018 Data'!G1057","v":102},{"$f":"'12.2018 Data'!H1057","v":29.25},{"$f":"'12.2018 Data'!I1057","v":0},{"$f":"'12.2018 Data'!J1057","v":0},{"$f":"LEFT(A1077,3)","v":"930"},{"$f":"IF(ISNUMBER(F1077),F1077,0)","v":131.25},{"$f":"IF(ISNUMBER(G1077),G1077,0)","v":102},{"$f":"IF(ISNUMBER(H1077),H1077,0)","v":29.25},{"$f":"IF(ISNUMBER(I1077),I1077,0)","v":0},{"$f":"IF(ISNUMBER(J1077),J1077,0)","v":0},{"$f":"IF(ISNUMBER(MATCH($B1077,'Org functional rollups'!$A:$A,0)),INDEX('Org functional rollups'!$D:$D,MATCH($B1077,'Org functional rollups'!$A:$A,0)),0)","v":"Distribution"}]
[{"$f":"'12.2018 Data'!A1058","v":"930200"},{"$f":"'12.2018 Data'!B1058","v":"G39"},{"$f":"'12.2018 Data'!C1058","v":"CD"},{"$f":"'12.2018 Data'!D1058","v":"AA"},{"$f":"'12.2018 Data'!E1058","v":"OPER"},{"$f":"'12.2018 Data'!F1058","v":3054.72},{"$f":"'12.2018 Data'!G1058","v":2142.42},{"$f":"'12.2018 Data'!H1058","v":627.70000000000005},{"$f":"'12.2018 Data'!I1058","v":284.60000000000002},{"$f":"'12.2018 Data'!J1058","v":0},"930",3054.72,2142.42,627.70000000000005,284.60000000000002,0,{"$f":"IF(ISNUMBER(MATCH($B1078,'Org functional rollups'!$A:$A,0)),INDEX('Org functional rollups'!$D:$D,MATCH($B1078,'Org functional rollups'!$A:$A,0)),0)","v":"Common"}]
[{"$f":"'12.2018 Data'!A1059","v":"930200"},{"$f":"'12.2018 Data'!B1059","v":"G50"},{"$f":"'12.2018 Data'!C1059","v":"GD"},{"$f":"'12.2018 Data'!D1059","v":"AA"},{"$f":"'12.2018 Data'!E1059","v":"OPER"},{"$f":"'12.2018 Data'!F1059","v":1234.06},{"$f":"'12.2018 Data'!G1059","v":0},{"$f":"'12.2018 Data'!H1059","v":846.1},{"$f":"'12.2018 Data'!I1059","v":387.96},{"$f":"'12.2018 Data'!J1059","v":0},"930",1234.06,0,846.1,387.96,0,{"$f":"IF(ISNUMBER(MATCH($B1079,'Org functional rollups'!$A:$A,0)),INDEX('Org functional rollups'!$D:$D,MATCH($B1079,'Org functional rollups'!$A:$A,0)),0)","v":"Distribution"}]
[{"$f":"'12.2018 Data'!A1060","v":"930200"},{"$f":"'12.2018 Data'!B1060","v":"G50"},{"$f":"'12.2018 Data'!C1060","v":"ED"},{"$f":"'12.2018 Data'!D1060","v":"AN"},{"$f":"'12.2018 Data'!E1060","v":"OPER"},{"$f":"'12.2018 Data'!F1060","v":8909.57},{"$f":"'12.2018 Data'!G1060","v":8909.57},{"$f":"'12.2018 Data'!H1060","v":0},{"$f":"'12.2018 Data'!I1060","v":0},{"$f":"'12.2018 Data'!J1060","v":0},"930",8909.57,8909.57,0,0,0,{"$f":"IF(ISNUMBER(MATCH($B1080,'Org functional rollups'!$A:$A,0)),INDEX('Org functional rollups'!$D:$D,MATCH($B1080,'Org functional rollups'!$A:$A,0)),0)","v":"Distribution"}]
[{"$f":"'12.2018 Data'!A1061","v":"930200"},{"$f":"'12.2018 Data'!B1061","v":"G50"},{"$f":"'12.2018 Data'!C1061","v":"CD"},{"$f":"'12.2018 Data'!D1061","v":"AN"},{"$f":"'12.2018 Data'!E1061","v":"OPER"},{"$f":"'12.2018 Data'!F1061","v":2361.92},{"$f":"'12.2018 Data'!G1061","v":1835.47},{"$f":"'12.2018 Data'!H1061","v":526.45000000000005},{"$f":"'12.2018 Data'!I1061","v":0},{"$f":"'12.2018 Data'!J1061","v":0},"930",2361.92,1835.47,526.45000000000005,0,0,{"$f":"IF(ISNUMBER(MATCH($B1081,'Org functional rollups'!$A:$A,0)),INDEX('Org functional rollups'!$D:$D,MATCH($B1081,'Org functional rollups'!$A:$A,0)),0)","v":"Distribution"}]
[{"$f":"'12.2018 Data'!A1062","v":"930200"},{"$f":"'12.2018 Data'!B1062","v":"G51"},{"$f":"'12.2018 Data'!C1062","v":"GD"},{"$f":"'12.2018 Data'!D1062","v":"AA"},{"$f":"'12.2018 Data'!E1062","v":"OPER"},{"$f":"'12.2018 Data'!F1062","v":17444.79},{"$f":"'12.2018 Data'!G1062","v":0},{"$f":"'12.2018 Data'!H1062","v":11960.48},{"$f":"'12.2018 Data'!I1062","v":5484.31},{"$f":"'12.2018 Data'!J1062","v":0},"930",17444.79,0,11960.48,5484.31,0,{"$f":"IF(ISNUMBER(MATCH($B1082,'Org functional rollups'!$A:$A,0)),INDEX('Org functional rollups'!$D:$D,MATCH($B1082,'Org functional rollups'!$A:$A,0)),0)","v":"Production"}]
[{"$f":"'12.2018 Data'!A1063","v":"930200"},{"$f":"'12.2018 Data'!B1063","v":"G53"},{"$f":"'12.2018 Data'!C1063","v":"CD"},{"$f":"'12.2018 Data'!D1063","v":"ID"},{"$f":"'12.2018 Data'!E1063","v":"OPER"},{"$f":"'12.2018 Data'!F1063","v":27023.279999999999},{"$f":"'12.2018 Data'!G1063","v":21001.15},{"$f":"'12.2018 Data'!H1063","v":6022.13},{"$f":"'12.2018 Data'!I1063","v":0},{"$f":"'12.2018 Data'!J1063","v":0},"930",27023.279999999999,21001.15,6022.13,0,0,{"$f":"IF(ISNUMBER(MATCH($B1083,'Org functional rollups'!$A:$A,0)),INDEX('Org functional rollups'!$D:$D,MATCH($B1083,'Org functional rollups'!$A:$A,0)),0)","v":"Distribution"}]
[{"$f":"'12.2018 Data'!A1064","v":"930200"},{"$f":"'12.2018 Data'!B1064","v":"G54"},{"$f":"'12.2018 Data'!C1064","v":"CD"},{"$f":"'12.2018 Data'!D1064","v":"AA"},{"$f":"'12.2018 Data'!E1064","v":"OPER"},{"$f":"'12.2018 Data'!F1064","v":21928},{"$f":"'12.2018 Data'!G1064","v":15379.2},{"$f":"'12.2018 Data'!H1064","v":4505.9799999999996},{"$f":"'12.2018 Data'!I1064","v":2042.82},{"$f":"'12.2018 Data'!J1064","v":0},"930",21928,15379.2,4505.9799999999996,2042.82,0,{"$f":"IF(ISNUMBER(MATCH($B1084,'Org functional rollups'!$A:$A,0)),INDEX('Org functional rollups'!$D:$D,MATCH($B1084,'Org functional rollups'!$A:$A,0)),0)","v":"Common"}]
[{"$f":"'12.2018 Data'!A1065","v":"930200"},{"$f":"'12.2018 Data'!B1065","v":"H02"},{"$f":"'12.2018 Data'!C1065","v":"CD"},{"$f":"'12.2018 Data'!D1065","v":"AA"},{"$f":"'12.2018 Data'!E1065","v":"OPER"},{"$f":"'12.2018 Data'!F1065","v":2012.57},{"$f":"'12.2018 Data'!G1065","v":1411.52},{"$f":"'12.2018 Data'!H1065","v":413.56},{"$f":"'12.2018 Data'!I1065","v":187.49},{"$f":"'12.2018 Data'!J1065","v":0},"930",2012.57,1411.52,413.56,187.49,0,{"$f":"IF(ISNUMBER(MATCH($B1085,'Org functional rollups'!$A:$A,0)),INDEX('Org functional rollups'!$D:$D,MATCH($B1085,'Org functional rollups'!$A:$A,0)),0)","v":"Common"}]
[{"$f":"'12.2018 Data'!A1066","v":"930200"},{"$f":"'12.2018 Data'!B1066","v":"H04"},{"$f":"'12.2018 Data'!C1066","v":"ED"},{"$f":"'12.2018 Data'!D1066","v":"AN"},{"$f":"'12.2018 Data'!E1066","v":"OPER"},{"$f":"'12.2018 Data'!F1066","v":265},{"$f":"'12.2018 Data'!G1066","v":265},{"$f":"'12.2018 Data'!H1066","v":0},{"$f":"'12.2018 Data'!I1066","v":0},{"$f":"'12.2018 Data'!J1066","v":0},"930",265,265,0,0,0,{"$f":"IF(ISNUMBER(MATCH($B1086,'Org functional rollups'!$A:$A,0)),INDEX('Org functional rollups'!$D:$D,MATCH($B1086,'Org functional rollups'!$A:$A,0)),0)","v":"Production"}]
[{"$f":"'12.2018 Data'!A1067","v":"930200"},{"$f":"'12.2018 Data'!B1067","v":"H14"},{"$f":"'12.2018 Data'!C1067","v":"CD"},{"$f":"'12.2018 Data'!D1067","v":"AA"},{"$f":"'12.2018 Data'!E1067","v":"OPER"},{"$f":"'12.2018 Data'!F1067","v":3737.89},{"$f":"'12.2018 Data'!G1067","v":2621.58},{"$f":"'12.2018 Data'!H1067","v":768.08},{"$f":"'12.2018 Data'!I1067","v":348.23},{"$f":"'12.2018 Data'!J1067","v":0},"930",3737.89,2621.58,768.08,348.23,0,{"$f":"IF(ISNUMBER(MATCH($B1087,'Org functional rollups'!$A:$A,0)),INDEX('Org functional rollups'!$D:$D,MATCH($B1087,'Org functional rollups'!$A:$A,0)),0)","v":"Customer"}]
[{"$f":"'12.2018 Data'!A1068","v":"930200"},{"$f":"'12.2018 Data'!B1068","v":"H14"},{"$f":"'12.2018 Data'!C1068","v":"CD"},{"$f":"'12.2018 Data'!D1068","v":"WA"},{"$f":"'12.2018 Data'!E1068","v":"OPER"},{"$f":"'12.2018 Data'!F1068","v":575},{"$f":"'12.2018 Data'!G1068","v":446.86},{"$f":"'12.2018 Data'!H1068","v":128.13999999999999},{"$f":"'12.2018 Data'!I1068","v":0},{"$f":"'12.2018 Data'!J1068","v":0},"930",575,446.86,128.13999999999999,0,0,{"$f":"IF(ISNUMBER(MATCH($B1088,'Org functional rollups'!$A:$A,0)),INDEX('Org functional rollups'!$D:$D,MATCH($B1088,'Org functional rollups'!$A:$A,0)),0)","v":"Customer"}]
[{"$f":"'12.2018 Data'!A1069","v":"930200"},{"$f":"'12.2018 Data'!B1069","v":"H14"},{"$f":"'12.2018 Data'!C1069","v":"ED"},{"$f":"'12.2018 Data'!D1069","v":"AN"},{"$f":"'12.2018 Data'!E1069","v":"OPER"},{"$f":"'12.2018 Data'!F1069","v":1431.79},{"$f":"'12.2018 Data'!G1069","v":1431.79},{"$f":"'12.2018 Data'!H1069","v":0},{"$f":"'12.2018 Data'!I1069","v":0},{"$f":"'12.2018 Data'!J1069","v":0},"930",1431.79,1431.79,0,0,0,{"$f":"IF(ISNUMBER(MATCH($B1089,'Org functional rollups'!$A:$A,0)),INDEX('Org functional rollups'!$D:$D,MATCH($B1089,'Org functional rollups'!$A:$A,0)),0)","v":"Customer"}]
[{"$f":"'12.2018 Data'!A1070","v":"930200"},{"$f":"'12.2018 Data'!B1070","v":"H14"},{"$f":"'12.2018 Data'!C1070","v":"CD"},{"$f":"'12.2018 Data'!D1070","v":"AN"},{"$f":"'12.2018 Data'!E1070","v":"OPER"},{"$f":"'12.2018 Data'!F1070","v":9434.18},{"$f":"'12.2018 Data'!G1070","v":7331.76},{"$f":"'12.2018 Data'!H1070","v":2102.42},{"$f":"'12.2018 Data'!I1070","v":0},{"$f":"'12.2018 Data'!J1070","v":0},"930",9434.18,7331.76,2102.42,0,0,{"$f":"IF(ISNUMBER(MATCH($B1090,'Org functional rollups'!$A:$A,0)),INDEX('Org functional rollups'!$D:$D,MATCH($B1090,'Org functional rollups'!$A:$A,0)),0)","v":"Customer"}]
[{"$f":"'12.2018 Data'!A1071","v":"930200"},{"$f":"'12.2018 Data'!B1071","v":"H50"},{"$f":"'12.2018 Data'!C1071","v":"CD"},{"$f":"'12.2018 Data'!D1071","v":"AN"},{"$f":"'12.2018 Data'!E1071","v":"OPER"},{"$f":"'12.2018 Data'!F1071","v":1053.75},{"$f":"'12.2018 Data'!G1071","v":818.95},{"$f":"'12.2018 Data'!H1071","v":234.8},{"$f":"'12.2018 Data'!I1071","v":0},{"$f":"'12.2018 Data'!J1071","v":0},"930",1053.75,818.95,234.8,0,0,{"$f":"IF(ISNUMBER(MATCH($B1091,'Org functional rollups'!$A:$A,0)),INDEX('Org functional rollups'!$D:$D,MATCH($B1091,'Org functional rollups'!$A:$A,0)),0)","v":"Distribution"}]
[{"$f":"'12.2018 Data'!A1072","v":"930200"},{"$f":"'12.2018 Data'!B1072","v":"H50"},{"$f":"'12.2018 Data'!C1072","v":"ED"},{"$f":"'12.2018 Data'!D1072","v":"AN"},{"$f":"'12.2018 Data'!E1072","v":"OPER"},{"$f":"'12.2018 Data'!F1072","v":2755.84},{"$f":"'12.2018 Data'!G1072","v":2755.84},{"$f":"'12.2018 Data'!H1072","v":0},{"$f":"'12.2018 Data'!I1072","v":0},{"$f":"'12.2018 Data'!J1072","v":0},"930",2755.84,2755.84,0,0,0,{"$f":"IF(ISNUMBER(MATCH($B1092,'Org functional rollups'!$A:$A,0)),INDEX('Org functional rollups'!$D:$D,MATCH($B1092,'Org functional rollups'!$A:$A,0)),0)","v":"Distribution"}]
[{"$f":"'12.2018 Data'!A1073","v":"930200"},{"$f":"'12.2018 Data'!B1073","v":"H51"},{"$f":"'12.2018 Data'!C1073","v":"CD"},{"$f":"'12.2018 Data'!D1073","v":"AA"},{"$f":"'12.2018 Data'!E1073","v":"OPER"},{"$f":"'12.2018 Data'!F1073","v":746.55},{"$f":"'12.2018 Data'!G1073","v":523.61},{"$f":"'12.2018 Data'!H1073","v":153.41},{"$f":"'12.2018 Data'!I1073","v":69.53},{"$f":"'12.2018 Data'!J1073","v":0},"930",746.55,523.61,153.41,69.53,0,{"$f":"IF(ISNUMBER(MATCH($B1093,'Org functional rollups'!$A:$A,0)),INDEX('Org functional rollups'!$D:$D,MATCH($B1093,'Org functional rollups'!$A:$A,0)),0)","v":"Common"}]
[{"$f":"'12.2018 Data'!A1074","v":"930200"},{"$f":"'12.2018 Data'!B1074","v":"H53"},{"$f":"'12.2018 Data'!C1074","v":"GD"},{"$f":"'12.2018 Data'!D1074","v":"AA"},{"$f":"'12.2018 Data'!E1074","v":"OPER"},{"$f":"'12.2018 Data'!F1074","v":2643.97},{"$f":"'12.2018 Data'!G1074","v":0},{"$f":"'12.2018 Data'!H1074","v":1812.77},{"$f":"'12.2018 Data'!I1074","v":831.2},{"$f":"'12.2018 Data'!J1074","v":0},"930",2643.97,0,1812.77,831.2,0,{"$f":"IF(ISNUMBER(MATCH($B1094,'Org functional rollups'!$A:$A,0)),INDEX('Org functional rollups'!$D:$D,MATCH($B1094,'Org functional rollups'!$A:$A,0)),0)","v":"Distribution"}]
[{"$f":"'12.2018 Data'!A1075","v":"930200"},{"$f":"'12.2018 Data'!B1075","v":"H53"},{"$f":"'12.2018 Data'!C1075","v":"CD"},{"$f":"'12.2018 Data'!D1075","v":"AN"},{"$f":"'12.2018 Data'!E1075","v":"OPER"},{"$f":"'12.2018 Data'!F1075","v":1780.62},{"$f":"'12.2018 Data'!G1075","v":1383.82},{"$f":"'12.2018 Data'!H1075","v":396.8},{"$f":"'12.2018 Data'!I1075","v":0},{"$f":"'12.2018 Data'!J1075","v":0},"930",1780.62,1383.82,396.8,0,0,{"$f":"IF(ISNUMBER(MATCH($B1095,'Org functional rollups'!$A:$A,0)),INDEX('Org functional rollups'!$D:$D,MATCH($B1095,'Org functional rollups'!$A:$A,0)),0)","v":"Distribution"}]
[{"$f":"'12.2018 Data'!A1076","v":"930200"},{"$f":"'12.2018 Data'!B1076","v":"H53"},{"$f":"'12.2018 Data'!C1076","v":"ED"},{"$f":"'12.2018 Data'!D1076","v":"AN"},{"$f":"'12.2018 Data'!E1076","v":"OPER"},{"$f":"'12.2018 Data'!F1076","v":5825.1},{"$f":"'12.2018 Data'!G1076","v":5825.1},{"$f":"'12.2018 Data'!H1076","v":0},{"$f":"'12.2018 Data'!I1076","v":0},{"$f":"'12.2018 Data'!J1076","v":0},"930",5825.1,5825.1,0,0,0,{"$f":"IF(ISNUMBER(MATCH($B1096,'Org functional rollups'!$A:$A,0)),INDEX('Org functional rollups'!$D:$D,MATCH($B1096,'Org functional rollups'!$A:$A,0)),0)","v":"Distribution"}]
[{"$f":"'12.2018 Data'!A1077","v":"930200"},{"$f":"'12.2018 Data'!B1077","v":"H54"},{"$f":"'12.2018 Data'!C1077","v":"CD"},{"$f":"'12.2018 Data'!D1077","v":"AA"},{"$f":"'12.2018 Data'!E1077","v":"OPER"},{"$f":"'12.2018 Data'!F1077","v":10570.1},{"$f":"'12.2018 Data'!G1077","v":7413.32},{"$f":"'12.2018 Data'!H1077","v":2172},{"$f":"'12.2018 Data'!I1077","v":984.78},{"$f":"'12.2018 Data'!J1077","v":0},"930",10570.1,7413.32,2172,984.78,0,{"$f":"IF(ISNUMBER(MATCH($B1097,'Org functional rollups'!$A:$A,0)),INDEX('Org functional rollups'!$D:$D,MATCH($B1097,'Org functional rollups'!$A:$A,0)),0)","v":"Customer"}]
[{"$f":"'12.2018 Data'!A1078","v":"930200"},{"$f":"'12.2018 Data'!B1078","v":"I02"},{"$f":"'12.2018 Data'!C1078","v":"CD"},{"$f":"'12.2018 Data'!D1078","v":"AA"},{"$f":"'12.2018 Data'!E1078","v":"OPER"},{"$f":"'12.2018 Data'!F1078","v":82125.98},{"$f":"'12.2018 Data'!G1078","v":57598.69},{"$f":"'12.2018 Data'!H1078","v":16875.97},{"$f":"'12.2018 Data'!I1078","v":7651.32},{"$f":"'12.2018 Data'!J1078","v":0},"930",82125.98,57598.69,16875.97,7651.32,0,{"$f":"IF(ISNUMBER(MATCH($B1098,'Org functional rollups'!$A:$A,0)),INDEX('Org functional rollups'!$D:$D,MATCH($B1098,'Org functional rollups'!$A:$A,0)),0)","v":"Distribution"}]
[{"$f":"'12.2018 Data'!A1079","v":"930200"},{"$f":"'12.2018 Data'!B1079","v":"I02"},{"$f":"'12.2018 Data'!C1079","v":"CD"},{"$f":"'12.2018 Data'!D1079","v":"AN"},{"$f":"'12.2018 Data'!E1079","v":"OPER"},{"$f":"'12.2018 Data'!F1079","v":854.05},{"$f":"'12.2018 Data'!G1079","v":663.73},{"$f":"'12.2018 Data'!H1079","v":190.32},{"$f":"'12.2018 Data'!I1079","v":0},{"$f":"'12.2018 Data'!J1079","v":0},"930",854.05,663.73,190.32,0,0,{"$f":"IF(ISNUMBER(MATCH($B1099,'Org functional rollups'!$A:$A,0)),INDEX('Org functional rollups'!$D:$D,MATCH($B1099,'Org functional rollups'!$A:$A,0)),0)","v":"Distribution"}]
[{"$f":"'12.2018 Data'!A1080","v":"930200"},{"$f":"'12.2018 Data'!B1080","v":"I08"},{"$f":"'12.2018 Data'!C1080","v":"GD"},{"$f":"'12.2018 Data'!D1080","v":"AA"},{"$f":"'12.2018 Data'!E1080","v":"OPER"},{"$f":"'12.2018 Data'!F1080","v":494.01},{"$f":"'12.2018 Data'!G1080","v":0},{"$f":"'12.2018 Data'!H1080","v":338.7},{"$f":"'12.2018 Data'!I1080","v":155.31},{"$f":"'12.2018 Data'!J1080","v":0},"930",494.01,0,338.7,155.31,0,{"$f":"IF(ISNUMBER(MATCH($B1100,'Org functional rollups'!$A:$A,0)),INDEX('Org functional rollups'!$D:$D,MATCH($B1100,'Org functional rollups'!$A:$A,0)),0)","v":"Distribution"}]
[{"$f":"'12.2018 Data'!A1081","v":"930200"},{"$f":"'12.2018 Data'!B1081","v":"I08"},{"$f":"'12.2018 Data'!C1081","v":"CD"},{"$f":"'12.2018 Data'!D1081","v":"AA"},{"$f":"'12.2018 Data'!E1081","v":"OPER"},{"$f":"'12.2018 Data'!F1081","v":855.56},{"$f":"'12.2018 Data'!G1081","v":600.04999999999995},{"$f":"'12.2018 Data'!H1081","v":175.81},{"$f":"'12.2018 Data'!I1081","v":79.7},{"$f":"'12.2018 Data'!J1081","v":0},"930",855.56,600.04999999999995,175.81,79.7,0,{"$f":"IF(ISNUMBER(MATCH($B1101,'Org functional rollups'!$A:$A,0)),INDEX('Org functional rollups'!$D:$D,MATCH($B1101,'Org functional rollups'!$A:$A,0)),0)","v":"Distribution"}]
[{"$f":"'12.2018 Data'!A1082","v":"930200"},{"$f":"'12.2018 Data'!B1082","v":"J01"},{"$f":"'12.2018 Data'!C1082","v":"CD"},{"$f":"'12.2018 Data'!D1082","v":"AA"},{"$f":"'12.2018 Data'!E1082","v":"OPER"},{"$f":"'12.2018 Data'!F1082","v":300.70999999999998},{"$f":"'12.2018 Data'!G1082","v":210.9},{"$f":"'12.2018 Data'!H1082","v":61.79},{"$f":"'12.2018 Data'!I1082","v":28.02},{"$f":"'12.2018 Data'!J1082","v":0},"930",300.70999999999998,210.9,61.79,28.02,0,{"$f":"IF(ISNUMBER(MATCH($B1102,'Org functional rollups'!$A:$A,0)),INDEX('Org functional rollups'!$D:$D,MATCH($B1102,'Org functional rollups'!$A:$A,0)),0)","v":"Common"}]
[{"$f":"'12.2018 Data'!A1083","v":"930200"},{"$f":"'12.2018 Data'!B1083","v":"J07"},{"$f":"'12.2018 Data'!C1083","v":"ED"},{"$f":"'12.2018 Data'!D1083","v":"AN"},{"$f":"'12.2018 Data'!E1083","v":"OPER"},{"$f":"'12.2018 Data'!F1083","v":1296.3},{"$f":"'12.2018 Data'!G1083","v":1296.3},{"$f":"'12.2018 Data'!H1083","v":0},{"$f":"'12.2018 Data'!I1083","v":0},{"$f":"'12.2018 Data'!J1083","v":0},"930",1296.3,1296.3,0,0,0,{"$f":"IF(ISNUMBER(MATCH($B1103,'Org functional rollups'!$A:$A,0)),INDEX('Org functional rollups'!$D:$D,MATCH($B1103,'Org functional rollups'!$A:$A,0)),0)","v":"Production"}]
[{"$f":"'12.2018 Data'!A1084","v":"930200"},{"$f":"'12.2018 Data'!B1084","v":"J08"},{"$f":"'12.2018 Data'!C1084","v":"GD"},{"$f":"'12.2018 Data'!D1084","v":"AA"},{"$f":"'12.2018 Data'!E1084","v":"OPER"},{"$f":"'12.2018 Data'!F1084","v":799},{"$f":"'12.2018 Data'!G1084","v":0},{"$f":"'12.2018 Data'!H1084","v":547.80999999999995},{"$f":"'12.2018 Data'!I1084","v":251.19},{"$f":"'12.2018 Data'!J1084","v":0},"930",799,0,547.80999999999995,251.19,0,{"$f":"IF(ISNUMBER(MATCH($B1104,'Org functional rollups'!$A:$A,0)),INDEX('Org functional rollups'!$D:$D,MATCH($B1104,'Org functional rollups'!$A:$A,0)),0)","v":"Distribution"}]
[{"$f":"'12.2018 Data'!A1085","v":"930200"},{"$f":"'12.2018 Data'!B1085","v":"J08"},{"$f":"'12.2018 Data'!C1085","v":"GD"},{"$f":"'12.2018 Data'!D1085","v":"OR"},{"$f":"'12.2018 Data'!E1085","v":"OPER"},{"$f":"'12.2018 Data'!F1085","v":598.66999999999996},{"$f":"'12.2018 Data'!G1085","v":0},{"$f":"'12.2018 Data'!H1085","v":0},{"$f":"'12.2018 Data'!I1085","v":598.66999999999996},{"$f":"'12.2018 Data'!J1085","v":0},"930",598.66999999999996,0,0,598.66999999999996,0,{"$f":"IF(ISNUMBER(MATCH($B1105,'Org functional rollups'!$A:$A,0)),INDEX('Org functional rollups'!$D:$D,MATCH($B1105,'Org functional rollups'!$A:$A,0)),0)","v":"Distribution"}]
[{"$f":"'12.2018 Data'!A1086","v":"930200"},{"$f":"'12.2018 Data'!B1086","v":"J09"},{"$f":"'12.2018 Data'!C1086","v":"CD"},{"$f":"'12.2018 Data'!D1086","v":"AA"},{"$f":"'12.2018 Data'!E1086","v":"OPER"},{"$f":"'12.2018 Data'!F1086","v":15058.67},{"$f":"'12.2018 Data'!G1086","v":10561.4},{"$f":"'12.2018 Data'!H1086","v":3094.41},{"$f":"'12.2018 Data'!I1086","v":1402.86},{"$f":"'12.2018 Data'!J1086","v":0},"930",15058.67,10561.4,3094.41,1402.86,0,{"$f":"IF(ISNUMBER(MATCH($B1106,'Org functional rollups'!$A:$A,0)),INDEX('Org functional rollups'!$D:$D,MATCH($B1106,'Org functional rollups'!$A:$A,0)),0)","v":"Common"}]
[{"$f":"'12.2018 Data'!A1087","v":"930200"},{"$f":"'12.2018 Data'!B1087","v":"J29"},{"$f":"'12.2018 Data'!C1087","v":"CD"},{"$f":"'12.2018 Data'!D1087","v":"AA"},{"$f":"'12.2018 Data'!E1087","v":"OPER"},{"$f":"'12.2018 Data'!F1087","v":0},{"$f":"'12.2018 Data'!G1087","v":0},{"$f":"'12.2018 Data'!H1087","v":0},{"$f":"'12.2018 Data'!I1087","v":0},{"$f":"'12.2018 Data'!J1087","v":0},"930",0,0,0,0,0,{"$f":"IF(ISNUMBER(MATCH($B1107,'Org functional rollups'!$A:$A,0)),INDEX('Org functional rollups'!$D:$D,MATCH($B1107,'Org functional rollups'!$A:$A,0)),0)","v":"Common"}]
[{"$f":"'12.2018 Data'!A1088","v":"930200"},{"$f":"'12.2018 Data'!B1088","v":"J50"},{"$f":"'12.2018 Data'!C1088","v":"CD"},{"$f":"'12.2018 Data'!D1088","v":"WA"},{"$f":"'12.2018 Data'!E1088","v":"OPER"},{"$f":"'12.2018 Data'!F1088","v":88967.76},{"$f":"'12.2018 Data'!G1088","v":69141.279999999999},{"$f":"'12.2018 Data'!H1088","v":19826.48},{"$f":"'12.2018 Data'!I1088","v":0},{"$f":"'12.2018 Data'!J1088","v":0},"930",88967.76,69141.279999999999,19826.48,0,0,{"$f":"IF(ISNUMBER(MATCH($B1108,'Org functional rollups'!$A:$A,0)),INDEX('Org functional rollups'!$D:$D,MATCH($B1108,'Org functional rollups'!$A:$A,0)),0)","v":"Distribution"}]
[{"$f":"'12.2018 Data'!A1089","v":"930200"},{"$f":"'12.2018 Data'!B1089","v":"J50"},{"$f":"'12.2018 Data'!C1089","v":"CD"},{"$f":"'12.2018 Data'!D1089","v":"AA"},{"$f":"'12.2018 Data'!E1089","v":"OPER"},{"$f":"'12.2018 Data'!F1089","v":1031.48},{"$f":"'12.2018 Data'!G1089","v":723.4},{"$f":"'12.2018 Data'!H1089","v":211.98},{"$f":"'12.2018 Data'!I1089","v":96.1},{"$f":"'12.2018 Data'!J1089","v":0},"930",1031.48,723.4,211.98,96.1,0,{"$f":"IF(ISNUMBER(MATCH($B1109,'Org functional rollups'!$A:$A,0)),INDEX('Org functional rollups'!$D:$D,MATCH($B1109,'Org functional rollups'!$A:$A,0)),0)","v":"Distribution"}]
[{"$f":"'12.2018 Data'!A1090","v":"930200"},{"$f":"'12.2018 Data'!B1090","v":"J50"},{"$f":"'12.2018 Data'!C1090","v":"CD"},{"$f":"'12.2018 Data'!D1090","v":"ID"},{"$f":"'12.2018 Data'!E1090","v":"OPER"},{"$f":"'12.2018 Data'!F1090","v":3812.5},{"$f":"'12.2018 Data'!G1090","v":2962.88},{"$f":"'12.2018 Data'!H1090","v":849.62},{"$f":"'12.2018 Data'!I1090","v":0},{"$f":"'12.2018 Data'!J1090","v":0},"930",3812.5,2962.88,849.62,0,0,{"$f":"IF(ISNUMBER(MATCH($B1110,'Org functional rollups'!$A:$A,0)),INDEX('Org functional rollups'!$D:$D,MATCH($B1110,'Org functional rollups'!$A:$A,0)),0)","v":"Distribution"}]
[{"$f":"'12.2018 Data'!A1091","v":"930200"},{"$f":"'12.2018 Data'!B1091","v":"J50"},{"$f":"'12.2018 Data'!C1091","v":"CD"},{"$f":"'12.2018 Data'!D1091","v":"AN"},{"$f":"'12.2018 Data'!E1091","v":"OPER"},{"$f":"'12.2018 Data'!F1091","v":19500},{"$f":"'12.2018 Data'!G1091","v":15154.43},{"$f":"'12.2018 Data'!H1091","v":4345.57},{"$f":"'12.2018 Data'!I1091","v":0},{"$f":"'12.2018 Data'!J1091","v":0},"930",19500,15154.43,4345.57,0,0,{"$f":"IF(ISNUMBER(MATCH($B1111,'Org functional rollups'!$A:$A,0)),INDEX('Org functional rollups'!$D:$D,MATCH($B1111,'Org functional rollups'!$A:$A,0)),0)","v":"Distribution"}]
[{"$f":"'12.2018 Data'!A1092","v":"930200"},{"$f":"'12.2018 Data'!B1092","v":"J51"},{"$f":"'12.2018 Data'!C1092","v":"ED"},{"$f":"'12.2018 Data'!D1092","v":"AN"},{"$f":"'12.2018 Data'!E1092","v":"OPER"},{"$f":"'12.2018 Data'!F1092","v":73.34},{"$f":"'12.2018 Data'!G1092","v":73.34},{"$f":"'12.2018 Data'!H1092","v":0},{"$f":"'12.2018 Data'!I1092","v":0},{"$f":"'12.2018 Data'!J1092","v":0},"930",73.34,73.34,0,0,0,{"$f":"IF(ISNUMBER(MATCH($B1112,'Org functional rollups'!$A:$A,0)),INDEX('Org functional rollups'!$D:$D,MATCH($B1112,'Org functional rollups'!$A:$A,0)),0)","v":"Common"}]
[{"$f":"'12.2018 Data'!A1093","v":"930200"},{"$f":"'12.2018 Data'!B1093","v":"J51"},{"$f":"'12.2018 Data'!C1093","v":"CD"},{"$f":"'12.2018 Data'!D1093","v":"AA"},{"$f":"'12.2018 Data'!E1093","v":"OPER"},{"$f":"'12.2018 Data'!F1093","v":172.99},{"$f":"'12.2018 Data'!G1093","v":121.33},{"$f":"'12.2018 Data'!H1093","v":35.549999999999997},{"$f":"'12.2018 Data'!I1093","v":16.11},{"$f":"'12.2018 Data'!J1093","v":0},"930",172.99,121.33,35.549999999999997,16.11,0,{"$f":"IF(ISNUMBER(MATCH($B1113,'Org functional rollups'!$A:$A,0)),INDEX('Org functional rollups'!$D:$D,MATCH($B1113,'Org functional rollups'!$A:$A,0)),0)","v":"Common"}]
[{"$f":"'12.2018 Data'!A1094","v":"930200"},{"$f":"'12.2018 Data'!B1094","v":"J51"},{"$f":"'12.2018 Data'!C1094","v":"CD"},{"$f":"'12.2018 Data'!D1094","v":"AN"},{"$f":"'12.2018 Data'!E1094","v":"OPER"},{"$f":"'12.2018 Data'!F1094","v":183.35},{"$f":"'12.2018 Data'!G1094","v":142.49},{"$f":"'12.2018 Data'!H1094","v":40.86},{"$f":"'12.2018 Data'!I1094","v":0},{"$f":"'12.2018 Data'!J1094","v":0},"930",183.35,142.49,40.86,0,0,{"$f":"IF(ISNUMBER(MATCH($B1114,'Org functional rollups'!$A:$A,0)),INDEX('Org functional rollups'!$D:$D,MATCH($B1114,'Org functional rollups'!$A:$A,0)),0)","v":"Common"}]
[{"$f":"'12.2018 Data'!A1095","v":"930200"},{"$f":"'12.2018 Data'!B1095","v":"J53"},{"$f":"'12.2018 Data'!C1095","v":"CD"},{"$f":"'12.2018 Data'!D1095","v":"AN"},{"$f":"'12.2018 Data'!E1095","v":"OPER"},{"$f":"'12.2018 Data'!F1095","v":3422.45},{"$f":"'12.2018 Data'!G1095","v":2659.77},{"$f":"'12.2018 Data'!H1095","v":762.68},{"$f":"'12.2018 Data'!I1095","v":0},{"$f":"'12.2018 Data'!J1095","v":0},"930",3422.45,2659.77,762.68,0,0,{"$f":"IF(ISNUMBER(MATCH($B1115,'Org functional rollups'!$A:$A,0)),INDEX('Org functional rollups'!$D:$D,MATCH($B1115,'Org functional rollups'!$A:$A,0)),0)","v":"Distribution"}]
[{"$f":"'12.2018 Data'!A1096","v":"930200"},{"$f":"'12.2018 Data'!B1096","v":"J53"},{"$f":"'12.2018 Data'!C1096","v":"GD"},{"$f":"'12.2018 Data'!D1096","v":"AA"},{"$f":"'12.2018 Data'!E1096","v":"OPER"},{"$f":"'12.2018 Data'!F1096","v":168.36},{"$f":"'12.2018 Data'!G1096","v":0},{"$f":"'12.2018 Data'!H1096","v":115.44},{"$f":"'12.2018 Data'!I1096","v":52.92},{"$f":"'12.2018 Data'!J1096","v":0},"930",168.36,0,115.44,52.92,0,{"$f":"IF(ISNUMBER(MATCH($B1116,'Org functional rollups'!$A:$A,0)),INDEX('Org functional rollups'!$D:$D,MATCH($B1116,'Org functional rollups'!$A:$A,0)),0)","v":"Distribution"}]
[{"$f":"'12.2018 Data'!A1097","v":"930200"},{"$f":"'12.2018 Data'!B1097","v":"J53"},{"$f":"'12.2018 Data'!C1097","v":"ED"},{"$f":"'12.2018 Data'!D1097","v":"AN"},{"$f":"'12.2018 Data'!E1097","v":"OPER"},{"$f":"'12.2018 Data'!F1097","v":9664.9599999999991},{"$f":"'12.2018 Data'!G1097","v":9664.9599999999991},{"$f":"'12.2018 Data'!H1097","v":0},{"$f":"'12.2018 Data'!I1097","v":0},{"$f":"'12.2018 Data'!J1097","v":0},"930",9664.9599999999991,9664.9599999999991,0,0,0,{"$f":"IF(ISNUMBER(MATCH($B1117,'Org functional rollups'!$A:$A,0)),INDEX('Org functional rollups'!$D:$D,MATCH($B1117,'Org functional rollups'!$A:$A,0)),0)","v":"Distribution"}]
[{"$f":"'12.2018 Data'!A1098","v":"930200"},{"$f":"'12.2018 Data'!B1098","v":"K07"},{"$f":"'12.2018 Data'!C1098","v":"ED"},{"$f":"'12.2018 Data'!D1098","v":"AN"},{"$f":"'12.2018 Data'!E1098","v":"OPER"},{"$f":"'12.2018 Data'!F1098","v":1000},{"$f":"'12.2018 Data'!G1098","v":1000},{"$f":"'12.2018 Data'!H1098","v":0},{"$f":"'12.2018 Data'!I1098","v":0},{"$f":"'12.2018 Data'!J1098","v":0},"930",1000,1000,0,0,0,{"$f":"IF(ISNUMBER(MATCH($B1118,'Org functional rollups'!$A:$A,0)),INDEX('Org functional rollups'!$D:$D,MATCH($B1118,'Org functional rollups'!$A:$A,0)),0)","v":"Production"}]
[{"$f":"'12.2018 Data'!A1099","v":"930200"},{"$f":"'12.2018 Data'!B1099","v":"K08"},{"$f":"'12.2018 Data'!C1099","v":"ED"},{"$f":"'12.2018 Data'!D1099","v":"AN"},{"$f":"'12.2018 Data'!E1099","v":"OPER"},{"$f":"'12.2018 Data'!F1099","v":242.07},{"$f":"'12.2018 Data'!G1099","v":242.07},{"$f":"'12.2018 Data'!H1099","v":0},{"$f":"'12.2018 Data'!I1099","v":0},{"$f":"'12.2018 Data'!J1099","v":0},"930",242.07,242.07,0,0,0,{"$f":"IF(ISNUMBER(MATCH($B1119,'Org functional rollups'!$A:$A,0)),INDEX('Org functional rollups'!$D:$D,MATCH($B1119,'Org functional rollups'!$A:$A,0)),0)","v":"Distribution"}]
[{"$f":"'12.2018 Data'!A1100","v":"930200"},{"$f":"'12.2018 Data'!B1100","v":"K08"},{"$f":"'12.2018 Data'!C1100","v":"GD"},{"$f":"'12.2018 Data'!D1100","v":"AA"},{"$f":"'12.2018 Data'!E1100","v":"OPER"},{"$f":"'12.2018 Data'!F1100","v":57.34},{"$f":"'12.2018 Data'!G1100","v":0},{"$f":"'12.2018 Data'!H1100","v":39.31},{"$f":"'12.2018 Data'!I1100","v":18.03},{"$f":"'12.2018 Data'!J1100","v":0},"930",57.34,0,39.31,18.03,0,{"$f":"IF(ISNUMBER(MATCH($B1120,'Org functional rollups'!$A:$A,0)),INDEX('Org functional rollups'!$D:$D,MATCH($B1120,'Org functional rollups'!$A:$A,0)),0)","v":"Distribution"}]
[{"$f":"'12.2018 Data'!A1101","v":"930200"},{"$f":"'12.2018 Data'!B1101","v":"K50"},{"$f":"'12.2018 Data'!C1101","v":"CD"},{"$f":"'12.2018 Data'!D1101","v":"AA"},{"$f":"'12.2018 Data'!E1101","v":"OPER"},{"$f":"'12.2018 Data'!F1101","v":10704.77},{"$f":"'12.2018 Data'!G1101","v":7507.81},{"$f":"'12.2018 Data'!H1101","v":2199.73},{"$f":"'12.2018 Data'!I1101","v":997.23},{"$f":"'12.2018 Data'!J1101","v":0},"930",10704.77,7507.81,2199.73,997.23,0,{"$f":"IF(ISNUMBER(MATCH($B1121,'Org functional rollups'!$A:$A,0)),INDEX('Org functional rollups'!$D:$D,MATCH($B1121,'Org functional rollups'!$A:$A,0)),0)","v":"Distribution"}]
[{"$f":"'12.2018 Data'!A1102","v":"930200"},{"$f":"'12.2018 Data'!B1102","v":"K53"},{"$f":"'12.2018 Data'!C1102","v":"CD"},{"$f":"'12.2018 Data'!D1102","v":"AA"},{"$f":"'12.2018 Data'!E1102","v":"OPER"},{"$f":"'12.2018 Data'!F1102","v":1246.5999999999999},{"$f":"'12.2018 Data'!G1102","v":874.3},{"$f":"'12.2018 Data'!H1102","v":256.17},{"$f":"'12.2018 Data'!I1102","v":116.13},{"$f":"'12.2018 Data'!J1102","v":0},"930",1246.5999999999999,874.3,256.17,116.13,0,{"$f":"IF(ISNUMBER(MATCH($B1122,'Org functional rollups'!$A:$A,0)),INDEX('Org functional rollups'!$D:$D,MATCH($B1122,'Org functional rollups'!$A:$A,0)),0)","v":"Customer"}]
[{"$f":"'12.2018 Data'!A1103","v":"930200"},{"$f":"'12.2018 Data'!B1103","v":"L08"},{"$f":"'12.2018 Data'!C1103","v":"ED"},{"$f":"'12.2018 Data'!D1103","v":"AN"},{"$f":"'12.2018 Data'!E1103","v":"OPER"},{"$f":"'12.2018 Data'!F1103","v":582},{"$f":"'12.2018 Data'!G1103","v":582},{"$f":"'12.2018 Data'!H1103","v":0},{"$f":"'12.2018 Data'!I1103","v":0},{"$f":"'12.2018 Data'!J1103","v":0},"930",582,582,0,0,0,{"$f":"IF(ISNUMBER(MATCH($B1123,'Org functional rollups'!$A:$A,0)),INDEX('Org functional rollups'!$D:$D,MATCH($B1123,'Org functional rollups'!$A:$A,0)),0)","v":"Transmission"}]
[{"$f":"'12.2018 Data'!A1104","v":"930200"},{"$f":"'12.2018 Data'!B1104","v":"L50"},{"$f":"'12.2018 Data'!C1104","v":"GD"},{"$f":"'12.2018 Data'!D1104","v":"AA"},{"$f":"'12.2018 Data'!E1104","v":"OPER"},{"$f":"'12.2018 Data'!F1104","v":6630.97},{"$f":"'12.2018 Data'!G1104","v":0},{"$f":"'12.2018 Data'!H1104","v":4546.3500000000004},{"$f":"'12.2018 Data'!I1104","v":2084.62},{"$f":"'12.2018 Data'!J1104","v":0},"930",6630.97,0,4546.3500000000004,2084.62,0,{"$f":"IF(ISNUMBER(MATCH($B1124,'Org functional rollups'!$A:$A,0)),INDEX('Org functional rollups'!$D:$D,MATCH($B1124,'Org functional rollups'!$A:$A,0)),0)","v":"Distribution"}]
[{"$f":"'12.2018 Data'!A1105","v":"930200"},{"$f":"'12.2018 Data'!B1105","v":"L50"},{"$f":"'12.2018 Data'!C1105","v":"CD"},{"$f":"'12.2018 Data'!D1105","v":"AA"},{"$f":"'12.2018 Data'!E1105","v":"OPER"},{"$f":"'12.2018 Data'!F1105","v":363.84},{"$f":"'12.2018 Data'!G1105","v":255.18},{"$f":"'12.2018 Data'!H1105","v":74.760000000000005},{"$f":"'12.2018 Data'!I1105","v":33.9},{"$f":"'12.2018 Data'!J1105","v":0},"930",363.84,255.18,74.760000000000005,33.9,0,{"$f":"IF(ISNUMBER(MATCH($B1125,'Org functional rollups'!$A:$A,0)),INDEX('Org functional rollups'!$D:$D,MATCH($B1125,'Org functional rollups'!$A:$A,0)),0)","v":"Distribution"}]
[{"$f":"'12.2018 Data'!A1106","v":"930200"},{"$f":"'12.2018 Data'!B1106","v":"L50"},{"$f":"'12.2018 Data'!C1106","v":"CD"},{"$f":"'12.2018 Data'!D1106","v":"AN"},{"$f":"'12.2018 Data'!E1106","v":"OPER"},{"$f":"'12.2018 Data'!F1106","v":941.1},{"$f":"'12.2018 Data'!G1106","v":731.37},{"$f":"'12.2018 Data'!H1106","v":209.73},{"$f":"'12.2018 Data'!I1106","v":0},{"$f":"'12.2018 Data'!J1106","v":0},"930",941.1,731.37,209.73,0,0,{"$f":"IF(ISNUMBER(MATCH($B1126,'Org functional rollups'!$A:$A,0)),INDEX('Org functional rollups'!$D:$D,MATCH($B1126,'Org functional rollups'!$A:$A,0)),0)","v":"Distribution"}]
[{"$f":"'12.2018 Data'!A1107","v":"930200"},{"$f":"'12.2018 Data'!B1107","v":"L50"},{"$f":"'12.2018 Data'!C1107","v":"ED"},{"$f":"'12.2018 Data'!D1107","v":"AN"},{"$f":"'12.2018 Data'!E1107","v":"OPER"},{"$f":"'12.2018 Data'!F1107","v":101.06},{"$f":"'12.2018 Data'!G1107","v":101.06},{"$f":"'12.2018 Data'!H1107","v":0},{"$f":"'12.2018 Data'!I1107","v":0},{"$f":"'12.2018 Data'!J1107","v":0},"930",101.06,101.06,0,0,0,{"$f":"IF(ISNUMBER(MATCH($B1127,'Org functional rollups'!$A:$A,0)),INDEX('Org functional rollups'!$D:$D,MATCH($B1127,'Org functional rollups'!$A:$A,0)),0)","v":"Distribution"}]
[{"$f":"'12.2018 Data'!A1108","v":"930200"},{"$f":"'12.2018 Data'!B1108","v":"L51"},{"$f":"'12.2018 Data'!C1108","v":"CD"},{"$f":"'12.2018 Data'!D1108","v":"AA"},{"$f":"'12.2018 Data'!E1108","v":"OPER"},{"$f":"'12.2018 Data'!F1108","v":1409.8},{"$f":"'12.2018 Data'!G1108","v":988.77},{"$f":"'12.2018 Data'!H1108","v":289.7},{"$f":"'12.2018 Data'!I1108","v":131.33000000000001},{"$f":"'12.2018 Data'!J1108","v":0},"930",1409.8,988.77,289.7,131.33000000000001,0,{"$f":"IF(ISNUMBER(MATCH($B1128,'Org functional rollups'!$A:$A,0)),INDEX('Org functional rollups'!$D:$D,MATCH($B1128,'Org functional rollups'!$A:$A,0)),0)","v":"Common"}]
[{"$f":"'12.2018 Data'!A1109","v":"930200"},{"$f":"'12.2018 Data'!B1109","v":"L51"},{"$f":"'12.2018 Data'!C1109","v":"ED"},{"$f":"'12.2018 Data'!D1109","v":"AN"},{"$f":"'12.2018 Data'!E1109","v":"OPER"},{"$f":"'12.2018 Data'!F1109","v":1580.51},{"$f":"'12.2018 Data'!G1109","v":1580.51},{"$f":"'12.2018 Data'!H1109","v":0},{"$f":"'12.2018 Data'!I1109","v":0},{"$f":"'12.2018 Data'!J1109","v":0},"930",1580.51,1580.51,0,0,0,{"$f":"IF(ISNUMBER(MATCH($B1129,'Org functional rollups'!$A:$A,0)),INDEX('Org functional rollups'!$D:$D,MATCH($B1129,'Org functional rollups'!$A:$A,0)),0)","v":"Common"}]
[{"$f":"'12.2018 Data'!A1110","v":"930200"},{"$f":"'12.2018 Data'!B1110","v":"L53"},{"$f":"'12.2018 Data'!C1110","v":"CD"},{"$f":"'12.2018 Data'!D1110","v":"AA"},{"$f":"'12.2018 Data'!E1110","v":"OPER"},{"$f":"'12.2018 Data'!F1110","v":4032.21},{"$f":"'12.2018 Data'!G1110","v":2828.05},{"$f":"'12.2018 Data'!H1110","v":828.5},{"$f":"'12.2018 Data'!I1110","v":375.66},{"$f":"'12.2018 Data'!J1110","v":0},"930",4032.21,2828.05,828.5,375.66,0,{"$f":"IF(ISNUMBER(MATCH($B1130,'Org functional rollups'!$A:$A,0)),INDEX('Org functional rollups'!$D:$D,MATCH($B1130,'Org functional rollups'!$A:$A,0)),0)","v":"Distribution"}]
[{"$f":"'12.2018 Data'!A1111","v":"930200"},{"$f":"'12.2018 Data'!B1111","v":"L53"},{"$f":"'12.2018 Data'!C1111","v":"CD"},{"$f":"'12.2018 Data'!D1111","v":"AN"},{"$f":"'12.2018 Data'!E1111","v":"OPER"},{"$f":"'12.2018 Data'!F1111","v":11265.51},{"$f":"'12.2018 Data'!G1111","v":8755.0300000000007},{"$f":"'12.2018 Data'!H1111","v":2510.48},{"$f":"'12.2018 Data'!I1111","v":0},{"$f":"'12.2018 Data'!J1111","v":0},"930",11265.51,8755.0300000000007,2510.48,0,0,{"$f":"IF(ISNUMBER(MATCH($B1131,'Org functional rollups'!$A:$A,0)),INDEX('Org functional rollups'!$D:$D,MATCH($B1131,'Org functional rollups'!$A:$A,0)),0)","v":"Distribution"}]
[{"$f":"'12.2018 Data'!A1112","v":"930200"},{"$f":"'12.2018 Data'!B1112","v":"L53"},{"$f":"'12.2018 Data'!C1112","v":"ED"},{"$f":"'12.2018 Data'!D1112","v":"AN"},{"$f":"'12.2018 Data'!E1112","v":"OPER"},{"$f":"'12.2018 Data'!F1112","v":3390.5},{"$f":"'12.2018 Data'!G1112","v":3390.5},{"$f":"'12.2018 Data'!H1112","v":0},{"$f":"'12.2018 Data'!I1112","v":0},{"$f":"'12.2018 Data'!J1112","v":0},"930",3390.5,3390.5,0,0,0,{"$f":"IF(ISNUMBER(MATCH($B1132,'Org functional rollups'!$A:$A,0)),INDEX('Org functional rollups'!$D:$D,MATCH($B1132,'Org functional rollups'!$A:$A,0)),0)","v":"Distribution"}]
[{"$f":"'12.2018 Data'!A1113","v":"930200"},{"$f":"'12.2018 Data'!B1113","v":"M02"},{"$f":"'12.2018 Data'!C1113","v":"CD"},{"$f":"'12.2018 Data'!D1113","v":"AA"},{"$f":"'12.2018 Data'!E1113","v":"OPER"},{"$f":"'12.2018 Data'!F1113","v":180.93},{"$f":"'12.2018 Data'!G1113","v":126.89},{"$f":"'12.2018 Data'!H1113","v":37.18},{"$f":"'12.2018 Data'!I1113","v":16.86},{"$f":"'12.2018 Data'!J1113","v":0},"930",180.93,126.89,37.18,16.86,0,{"$f":"IF(ISNUMBER(MATCH($B1133,'Org functional rollups'!$A:$A,0)),INDEX('Org functional rollups'!$D:$D,MATCH($B1133,'Org functional rollups'!$A:$A,0)),0)","v":"Common"}]
[{"$f":"'12.2018 Data'!A1114","v":"930200"},{"$f":"'12.2018 Data'!B1114","v":"M08"},{"$f":"'12.2018 Data'!C1114","v":"ED"},{"$f":"'12.2018 Data'!D1114","v":"AN"},{"$f":"'12.2018 Data'!E1114","v":"OPER"},{"$f":"'12.2018 Data'!F1114","v":27275.08},{"$f":"'12.2018 Data'!G1114","v":27275.08},{"$f":"'12.2018 Data'!H1114","v":0},{"$f":"'12.2018 Data'!I1114","v":0},{"$f":"'12.2018 Data'!J1114","v":0},"930",27275.08,27275.08,0,0,0,{"$f":"IF(ISNUMBER(MATCH($B1134,'Org functional rollups'!$A:$A,0)),INDEX('Org functional rollups'!$D:$D,MATCH($B1134,'Org functional rollups'!$A:$A,0)),0)","v":"Distribution"}]
[{"$f":"'12.2018 Data'!A1115","v":"930200"},{"$f":"'12.2018 Data'!B1115","v":"M11"},{"$f":"'12.2018 Data'!C1115","v":"CD"},{"$f":"'12.2018 Data'!D1115","v":"AA"},{"$f":"'12.2018 Data'!E1115","v":"OPER"},{"$f":"'12.2018 Data'!F1115","v":4070.54},{"$f":"'12.2018 Data'!G1115","v":2854.87},{"$f":"'12.2018 Data'!H1115","v":836.47},{"$f":"'12.2018 Data'!I1115","v":379.2},{"$f":"'12.2018 Data'!J1115","v":0},"930",4070.54,2854.87,836.47,379.2,0,{"$f":"IF(ISNUMBER(MATCH($B1135,'Org functional rollups'!$A:$A,0)),INDEX('Org functional rollups'!$D:$D,MATCH($B1135,'Org functional rollups'!$A:$A,0)),0)","v":"Common"}]
[{"$f":"'12.2018 Data'!A1116","v":"930200"},{"$f":"'12.2018 Data'!B1116","v":"M11"},{"$f":"'12.2018 Data'!C1116","v":"GD"},{"$f":"'12.2018 Data'!D1116","v":"AA"},{"$f":"'12.2018 Data'!E1116","v":"OPER"},{"$f":"'12.2018 Data'!F1116","v":31.34},{"$f":"'12.2018 Data'!G1116","v":0},{"$f":"'12.2018 Data'!H1116","v":21.49},{"$f":"'12.2018 Data'!I1116","v":9.85},{"$f":"'12.2018 Data'!J1116","v":0},"930",31.34,0,21.49,9.85,0,{"$f":"IF(ISNUMBER(MATCH($B1136,'Org functional rollups'!$A:$A,0)),INDEX('Org functional rollups'!$D:$D,MATCH($B1136,'Org functional rollups'!$A:$A,0)),0)","v":"Common"}]
[{"$f":"'12.2018 Data'!A1117","v":"930200"},{"$f":"'12.2018 Data'!B1117","v":"M11"},{"$f":"'12.2018 Data'!C1117","v":"CD"},{"$f":"'12.2018 Data'!D1117","v":"AN"},{"$f":"'12.2018 Data'!E1117","v":"OPER"},{"$f":"'12.2018 Data'!F1117","v":174.47},{"$f":"'12.2018 Data'!G1117","v":135.59},{"$f":"'12.2018 Data'!H1117","v":38.880000000000003},{"$f":"'12.2018 Data'!I1117","v":0},{"$f":"'12.2018 Data'!J1117","v":0},"930",174.47,135.59,38.880000000000003,0,0,{"$f":"IF(ISNUMBER(MATCH($B1137,'Org functional rollups'!$A:$A,0)),INDEX('Org functional rollups'!$D:$D,MATCH($B1137,'Org functional rollups'!$A:$A,0)),0)","v":"Common"}]
[{"$f":"'12.2018 Data'!A1118","v":"930200"},{"$f":"'12.2018 Data'!B1118","v":"M50"},{"$f":"'12.2018 Data'!C1118","v":"ED"},{"$f":"'12.2018 Data'!D1118","v":"AN"},{"$f":"'12.2018 Data'!E1118","v":"OPER"},{"$f":"'12.2018 Data'!F1118","v":757.98},{"$f":"'12.2018 Data'!G1118","v":757.98},{"$f":"'12.2018 Data'!H1118","v":0},{"$f":"'12.2018 Data'!I1118","v":0},{"$f":"'12.2018 Data'!J1118","v":0},"930",757.98,757.98,0,0,0,{"$f":"IF(ISNUMBER(MATCH($B1138,'Org functional rollups'!$A:$A,0)),INDEX('Org functional rollups'!$D:$D,MATCH($B1138,'Org functional rollups'!$A:$A,0)),0)","v":"Distribution"}]
[{"$f":"'12.2018 Data'!A1119","v":"930200"},{"$f":"'12.2018 Data'!B1119","v":"M50"},{"$f":"'12.2018 Data'!C1119","v":"CD"},{"$f":"'12.2018 Data'!D1119","v":"AN"},{"$f":"'12.2018 Data'!E1119","v":"OPER"},{"$f":"'12.2018 Data'!F1119","v":747.05},{"$f":"'12.2018 Data'!G1119","v":580.58000000000004},{"$f":"'12.2018 Data'!H1119","v":166.47},{"$f":"'12.2018 Data'!I1119","v":0},{"$f":"'12.2018 Data'!J1119","v":0},"930",747.05,580.58000000000004,166.47,0,0,{"$f":"IF(ISNUMBER(MATCH($B1139,'Org functional rollups'!$A:$A,0)),INDEX('Org functional rollups'!$D:$D,MATCH($B1139,'Org functional rollups'!$A:$A,0)),0)","v":"Distribution"}]
[{"$f":"'12.2018 Data'!A1120","v":"930200"},{"$f":"'12.2018 Data'!B1120","v":"M54"},{"$f":"'12.2018 Data'!C1120","v":"CD"},{"$f":"'12.2018 Data'!D1120","v":"WA"},{"$f":"'12.2018 Data'!E1120","v":"OPER"},{"$f":"'12.2018 Data'!F1120","v":64.209999999999994},{"$f":"'12.2018 Data'!G1120","v":49.9},{"$f":"'12.2018 Data'!H1120","v":14.31},{"$f":"'12.2018 Data'!I1120","v":0},{"$f":"'12.2018 Data'!J1120","v":0},"930",64.209999999999994,49.9,14.31,0,0,{"$f":"IF(ISNUMBER(MATCH($B1140,'Org functional rollups'!$A:$A,0)),INDEX('Org functional rollups'!$D:$D,MATCH($B1140,'Org functional rollups'!$A:$A,0)),0)","v":"Common"}]
[{"$f":"'12.2018 Data'!A1121","v":"930200"},{"$f":"'12.2018 Data'!B1121","v":"M54"},{"$f":"'12.2018 Data'!C1121","v":"CD"},{"$f":"'12.2018 Data'!D1121","v":"AA"},{"$f":"'12.2018 Data'!E1121","v":"OPER"},{"$f":"'12.2018 Data'!F1121","v":35937.65},{"$f":"'12.2018 Data'!G1121","v":25204.82},{"$f":"'12.2018 Data'!H1121","v":7384.82},{"$f":"'12.2018 Data'!I1121","v":3348.01},{"$f":"'12.2018 Data'!J1121","v":0},{"$f":"LEFT(A1141,3)","v":"930"},{"$f":"IF(ISNUMBER(F1141),F1141,0)","v":35937.65},{"$f":"IF(ISNUMBER(G1141),G1141,0)","v":25204.82},{"$f":"IF(ISNUMBER(H1141),H1141,0)","v":7384.82},{"$f":"IF(ISNUMBER(I1141),I1141,0)","v":3348.01},{"$f":"IF(ISNUMBER(J1141),J1141,0)","v":0},{"$f":"IF(ISNUMBER(MATCH($B1141,'Org functional rollups'!$A:$A,0)),INDEX('Org functional rollups'!$D:$D,MATCH($B1141,'Org functional rollups'!$A:$A,0)),0)","v":"Common"}]
[{"$f":"'12.2018 Data'!A1122","v":"930200"},{"$f":"'12.2018 Data'!B1122","v":"M54"},{"$f":"'12.2018 Data'!C1122","v":"ED"},{"$f":"'12.2018 Data'!D1122","v":"AN"},{"$f":"'12.2018 Data'!E1122","v":"OPER"},{"$f":"'12.2018 Data'!F1122","v":152.97999999999999},{"$f":"'12.2018 Data'!G1122","v":152.97999999999999},{"$f":"'12.2018 Data'!H1122","v":0},{"$f":"'12.2018 Data'!I1122","v":0},{"$f":"'12.2018 Data'!J1122","v":0},"930",152.97999999999999,152.97999999999999,0,0,0,{"$f":"IF(ISNUMBER(MATCH($B1142,'Org functional rollups'!$A:$A,0)),INDEX('Org functional rollups'!$D:$D,MATCH($B1142,'Org functional rollups'!$A:$A,0)),0)","v":"Common"}]
[{"$f":"'12.2018 Data'!A1123","v":"930200"},{"$f":"'12.2018 Data'!B1123","v":"N02"},{"$f":"'12.2018 Data'!C1123","v":"CD"},{"$f":"'12.2018 Data'!D1123","v":"AA"},{"$f":"'12.2018 Data'!E1123","v":"OPER"},{"$f":"'12.2018 Data'!F1123","v":1209},{"$f":"'12.2018 Data'!G1123","v":847.93},{"$f":"'12.2018 Data'!H1123","v":248.44},{"$f":"'12.2018 Data'!I1123","v":112.63},{"$f":"'12.2018 Data'!J1123","v":0},"930",1209,847.93,248.44,112.63,0,{"$f":"IF(ISNUMBER(MATCH($B1143,'Org functional rollups'!$A:$A,0)),INDEX('Org functional rollups'!$D:$D,MATCH($B1143,'Org functional rollups'!$A:$A,0)),0)","v":"Common"}]
[{"$f":"'12.2018 Data'!A1124","v":"930200"},{"$f":"'12.2018 Data'!B1124","v":"N08"},{"$f":"'12.2018 Data'!C1124","v":"CD"},{"$f":"'12.2018 Data'!D1124","v":"AA"},{"$f":"'12.2018 Data'!E1124","v":"OPER"},{"$f":"'12.2018 Data'!F1124","v":420.86},{"$f":"'12.2018 Data'!G1124","v":295.17},{"$f":"'12.2018 Data'!H1124","v":86.48},{"$f":"'12.2018 Data'!I1124","v":39.21},{"$f":"'12.2018 Data'!J1124","v":0},"930",420.86,295.17,86.48,39.21,0,{"$f":"IF(ISNUMBER(MATCH($B1144,'Org functional rollups'!$A:$A,0)),INDEX('Org functional rollups'!$D:$D,MATCH($B1144,'Org functional rollups'!$A:$A,0)),0)","v":"Distribution"}]
[{"$f":"'12.2018 Data'!A1125","v":"930200"},{"$f":"'12.2018 Data'!B1125","v":"N08"},{"$f":"'12.2018 Data'!C1125","v":"CD"},{"$f":"'12.2018 Data'!D1125","v":"WA"},{"$f":"'12.2018 Data'!E1125","v":"OPER"},{"$f":"'12.2018 Data'!F1125","v":36.590000000000003},{"$f":"'12.2018 Data'!G1125","v":28.44},{"$f":"'12.2018 Data'!H1125","v":8.15},{"$f":"'12.2018 Data'!I1125","v":0},{"$f":"'12.2018 Data'!J1125","v":0},"930",36.590000000000003,28.44,8.15,0,0,{"$f":"IF(ISNUMBER(MATCH($B1145,'Org functional rollups'!$A:$A,0)),INDEX('Org functional rollups'!$D:$D,MATCH($B1145,'Org functional rollups'!$A:$A,0)),0)","v":"Distribution"}]
[{"$f":"'12.2018 Data'!A1126","v":"930200"},{"$f":"'12.2018 Data'!B1126","v":"N09"},{"$f":"'12.2018 Data'!C1126","v":"GD"},{"$f":"'12.2018 Data'!D1126","v":"AA"},{"$f":"'12.2018 Data'!E1126","v":"OPER"},{"$f":"'12.2018 Data'!F1126","v":46.58},{"$f":"'12.2018 Data'!G1126","v":0},{"$f":"'12.2018 Data'!H1126","v":31.94},{"$f":"'12.2018 Data'!I1126","v":14.64},{"$f":"'12.2018 Data'!J1126","v":0},"930",46.58,0,31.94,14.64,0,{"$f":"IF(ISNUMBER(MATCH($B1146,'Org functional rollups'!$A:$A,0)),INDEX('Org functional rollups'!$D:$D,MATCH($B1146,'Org functional rollups'!$A:$A,0)),0)","v":"Common"}]
[{"$f":"'12.2018 Data'!A1127","v":"930200"},{"$f":"'12.2018 Data'!B1127","v":"P07"},{"$f":"'12.2018 Data'!C1127","v":"CD"},{"$f":"'12.2018 Data'!D1127","v":"AA"},{"$f":"'12.2018 Data'!E1127","v":"OPER"},{"$f":"'12.2018 Data'!F1127","v":3086.2},{"$f":"'12.2018 Data'!G1127","v":2164.5},{"$f":"'12.2018 Data'!H1127","v":634.17999999999995},{"$f":"'12.2018 Data'!I1127","v":287.52},{"$f":"'12.2018 Data'!J1127","v":0},"930",3086.2,2164.5,634.17999999999995,287.52,0,{"$f":"IF(ISNUMBER(MATCH($B1147,'Org functional rollups'!$A:$A,0)),INDEX('Org functional rollups'!$D:$D,MATCH($B1147,'Org functional rollups'!$A:$A,0)),0)","v":"Production"}]
[{"$f":"'12.2018 Data'!A1128","v":"930200"},{"$f":"'12.2018 Data'!B1128","v":"P07"},{"$f":"'12.2018 Data'!C1128","v":"ED"},{"$f":"'12.2018 Data'!D1128","v":"AN"},{"$f":"'12.2018 Data'!E1128","v":"OPER"},{"$f":"'12.2018 Data'!F1128","v":5479.64},{"$f":"'12.2018 Data'!G1128","v":5479.64},{"$f":"'12.2018 Data'!H1128","v":0},{"$f":"'12.2018 Data'!I1128","v":0},{"$f":"'12.2018 Data'!J1128","v":0},"930",5479.64,5479.64,0,0,0,{"$f":"IF(ISNUMBER(MATCH($B1148,'Org functional rollups'!$A:$A,0)),INDEX('Org functional rollups'!$D:$D,MATCH($B1148,'Org functional rollups'!$A:$A,0)),0)","v":"Production"}]
[{"$f":"'12.2018 Data'!A1129","v":"930200"},{"$f":"'12.2018 Data'!B1129","v":"P08"},{"$f":"'12.2018 Data'!C1129","v":"GD"},{"$f":"'12.2018 Data'!D1129","v":"AA"},{"$f":"'12.2018 Data'!E1129","v":"OPER"},{"$f":"'12.2018 Data'!F1129","v":1503},{"$f":"'12.2018 Data'!G1129","v":0},{"$f":"'12.2018 Data'!H1129","v":1030.49},{"$f":"'12.2018 Data'!I1129","v":472.51},{"$f":"'12.2018 Data'!J1129","v":0},"930",1503,0,1030.49,472.51,0,{"$f":"IF(ISNUMBER(MATCH($B1149,'Org functional rollups'!$A:$A,0)),INDEX('Org functional rollups'!$D:$D,MATCH($B1149,'Org functional rollups'!$A:$A,0)),0)","v":"Distribution"}]
[{"$f":"'12.2018 Data'!A1130","v":"930200"},{"$f":"'12.2018 Data'!B1130","v":"P08"},{"$f":"'12.2018 Data'!C1130","v":"ED"},{"$f":"'12.2018 Data'!D1130","v":"AN"},{"$f":"'12.2018 Data'!E1130","v":"OPER"},{"$f":"'12.2018 Data'!F1130","v":3804.72},{"$f":"'12.2018 Data'!G1130","v":3804.72},{"$f":"'12.2018 Data'!H1130","v":0},{"$f":"'12.2018 Data'!I1130","v":0},{"$f":"'12.2018 Data'!J1130","v":0},"930",3804.72,3804.72,0,0,0,{"$f":"IF(ISNUMBER(MATCH($B1150,'Org functional rollups'!$A:$A,0)),INDEX('Org functional rollups'!$D:$D,MATCH($B1150,'Org functional rollups'!$A:$A,0)),0)","v":"Distribution"}]
[{"$f":"'12.2018 Data'!A1131","v":"930200"},{"$f":"'12.2018 Data'!B1131","v":"P09"},{"$f":"'12.2018 Data'!C1131","v":"CD"},{"$f":"'12.2018 Data'!D1131","v":"AA"},{"$f":"'12.2018 Data'!E1131","v":"OPER"},{"$f":"'12.2018 Data'!F1131","v":445.68},{"$f":"'12.2018 Data'!G1131","v":312.58},{"$f":"'12.2018 Data'!H1131","v":91.58},{"$f":"'12.2018 Data'!I1131","v":41.52},{"$f":"'12.2018 Data'!J1131","v":0},"930",445.68,312.58,91.58,41.52,0,{"$f":"IF(ISNUMBER(MATCH($B1151,'Org functional rollups'!$A:$A,0)),INDEX('Org functional rollups'!$D:$D,MATCH($B1151,'Org functional rollups'!$A:$A,0)),0)","v":"Common"}]
[{"$f":"'12.2018 Data'!A1132","v":"930200"},{"$f":"'12.2018 Data'!B1132","v":"P09"},{"$f":"'12.2018 Data'!C1132","v":"CD"},{"$f":"'12.2018 Data'!D1132","v":"WA"},{"$f":"'12.2018 Data'!E1132","v":"OPER"},{"$f":"'12.2018 Data'!F1132","v":2943.39},{"$f":"'12.2018 Data'!G1132","v":2287.44},{"$f":"'12.2018 Data'!H1132","v":655.95},{"$f":"'12.2018 Data'!I1132","v":0},{"$f":"'12.2018 Data'!J1132","v":0},"930",2943.39,2287.44,655.95,0,0,{"$f":"IF(ISNUMBER(MATCH($B1152,'Org functional rollups'!$A:$A,0)),INDEX('Org functional rollups'!$D:$D,MATCH($B1152,'Org functional rollups'!$A:$A,0)),0)","v":"Common"}]
[{"$f":"'12.2018 Data'!A1133","v":"930200"},{"$f":"'12.2018 Data'!B1133","v":"P09"},{"$f":"'12.2018 Data'!C1133","v":"CD"},{"$f":"'12.2018 Data'!D1133","v":"ID"},{"$f":"'12.2018 Data'!E1133","v":"OPER"},{"$f":"'12.2018 Data'!F1133","v":1162.4100000000001},{"$f":"'12.2018 Data'!G1133","v":903.36},{"$f":"'12.2018 Data'!H1133","v":259.05},{"$f":"'12.2018 Data'!I1133","v":0},{"$f":"'12.2018 Data'!J1133","v":0},"930",1162.4100000000001,903.36,259.05,0,0,{"$f":"IF(ISNUMBER(MATCH($B1153,'Org functional rollups'!$A:$A,0)),INDEX('Org functional rollups'!$D:$D,MATCH($B1153,'Org functional rollups'!$A:$A,0)),0)","v":"Common"}]
[{"$f":"'12.2018 Data'!A1134","v":"930200"},{"$f":"'12.2018 Data'!B1134","v":"P50"},{"$f":"'12.2018 Data'!C1134","v":"CD"},{"$f":"'12.2018 Data'!D1134","v":"AN"},{"$f":"'12.2018 Data'!E1134","v":"OPER"},{"$f":"'12.2018 Data'!F1134","v":54.5},{"$f":"'12.2018 Data'!G1134","v":42.35},{"$f":"'12.2018 Data'!H1134","v":12.15},{"$f":"'12.2018 Data'!I1134","v":0},{"$f":"'12.2018 Data'!J1134","v":0},"930",54.5,42.35,12.15,0,0,{"$f":"IF(ISNUMBER(MATCH($B1154,'Org functional rollups'!$A:$A,0)),INDEX('Org functional rollups'!$D:$D,MATCH($B1154,'Org functional rollups'!$A:$A,0)),0)","v":"Distribution"}]
[{"$f":"'12.2018 Data'!A1135","v":"930200"},{"$f":"'12.2018 Data'!B1135","v":"P50"},{"$f":"'12.2018 Data'!C1135","v":"ED"},{"$f":"'12.2018 Data'!D1135","v":"AN"},{"$f":"'12.2018 Data'!E1135","v":"OPER"},{"$f":"'12.2018 Data'!F1135","v":5018.32},{"$f":"'12.2018 Data'!G1135","v":5018.32},{"$f":"'12.2018 Data'!H1135","v":0},{"$f":"'12.2018 Data'!I1135","v":0},{"$f":"'12.2018 Data'!J1135","v":0},"930",5018.32,5018.32,0,0,0,{"$f":"IF(ISNUMBER(MATCH($B1155,'Org functional rollups'!$A:$A,0)),INDEX('Org functional rollups'!$D:$D,MATCH($B1155,'Org functional rollups'!$A:$A,0)),0)","v":"Distribution"}]
[{"$f":"'12.2018 Data'!A1136","v":"930200"},{"$f":"'12.2018 Data'!B1136","v":"P51"},{"$f":"'12.2018 Data'!C1136","v":"ED"},{"$f":"'12.2018 Data'!D1136","v":"AN"},{"$f":"'12.2018 Data'!E1136","v":"OPER"},{"$f":"'12.2018 Data'!F1136","v":503.5},{"$f":"'12.2018 Data'!G1136","v":503.5},{"$f":"'12.2018 Data'!H1136","v":0},{"$f":"'12.2018 Data'!I1136","v":0},{"$f":"'12.2018 Data'!J1136","v":0},"930",503.5,503.5,0,0,0,{"$f":"IF(ISNUMBER(MATCH($B1156,'Org functional rollups'!$A:$A,0)),INDEX('Org functional rollups'!$D:$D,MATCH($B1156,'Org functional rollups'!$A:$A,0)),0)","v":"Distribution"}]
[{"$f":"'12.2018 Data'!A1137","v":"930200"},{"$f":"'12.2018 Data'!B1137","v":"P53"},{"$f":"'12.2018 Data'!C1137","v":"CD"},{"$f":"'12.2018 Data'!D1137","v":"WA"},{"$f":"'12.2018 Data'!E1137","v":"OPER"},{"$f":"'12.2018 Data'!F1137","v":6320.94},{"$f":"'12.2018 Data'!G1137","v":4912.28},{"$f":"'12.2018 Data'!H1137","v":1408.66},{"$f":"'12.2018 Data'!I1137","v":0},{"$f":"'12.2018 Data'!J1137","v":0},"930",6320.94,4912.28,1408.66,0,0,{"$f":"IF(ISNUMBER(MATCH($B1157,'Org functional rollups'!$A:$A,0)),INDEX('Org functional rollups'!$D:$D,MATCH($B1157,'Org functional rollups'!$A:$A,0)),0)","v":"Distribution"}]
[{"$f":"'12.2018 Data'!A1138","v":"930200"},{"$f":"'12.2018 Data'!B1138","v":"P53"},{"$f":"'12.2018 Data'!C1138","v":"CD"},{"$f":"'12.2018 Data'!D1138","v":"ID"},{"$f":"'12.2018 Data'!E1138","v":"OPER"},{"$f":"'12.2018 Data'!F1138","v":4988.63},{"$f":"'12.2018 Data'!G1138","v":3876.9},{"$f":"'12.2018 Data'!H1138","v":1111.73},{"$f":"'12.2018 Data'!I1138","v":0},{"$f":"'12.2018 Data'!J1138","v":0},"930",4988.63,3876.9,1111.73,0,0,{"$f":"IF(ISNUMBER(MATCH($B1158,'Org functional rollups'!$A:$A,0)),INDEX('Org functional rollups'!$D:$D,MATCH($B1158,'Org functional rollups'!$A:$A,0)),0)","v":"Distribution"}]
[{"$f":"'12.2018 Data'!A1139","v":"930200"},{"$f":"'12.2018 Data'!B1139","v":"P53"},{"$f":"'12.2018 Data'!C1139","v":"CD"},{"$f":"'12.2018 Data'!D1139","v":"AN"},{"$f":"'12.2018 Data'!E1139","v":"OPER"},{"$f":"'12.2018 Data'!F1139","v":1224.5},{"$f":"'12.2018 Data'!G1139","v":951.63},{"$f":"'12.2018 Data'!H1139","v":272.87},{"$f":"'12.2018 Data'!I1139","v":0},{"$f":"'12.2018 Data'!J1139","v":0},"930",1224.5,951.63,272.87,0,0,{"$f":"IF(ISNUMBER(MATCH($B1159,'Org functional rollups'!$A:$A,0)),INDEX('Org functional rollups'!$D:$D,MATCH($B1159,'Org functional rollups'!$A:$A,0)),0)","v":"Distribution"}]
[{"$f":"'12.2018 Data'!A1140","v":"930200"},{"$f":"'12.2018 Data'!B1140","v":"R07"},{"$f":"'12.2018 Data'!C1140","v":"ED"},{"$f":"'12.2018 Data'!D1140","v":"AN"},{"$f":"'12.2018 Data'!E1140","v":"OPER"},{"$f":"'12.2018 Data'!F1140","v":769.99},{"$f":"'12.2018 Data'!G1140","v":769.99},{"$f":"'12.2018 Data'!H1140","v":0},{"$f":"'12.2018 Data'!I1140","v":0},{"$f":"'12.2018 Data'!J1140","v":0},"930",769.99,769.99,0,0,0,{"$f":"IF(ISNUMBER(MATCH($B1160,'Org functional rollups'!$A:$A,0)),INDEX('Org functional rollups'!$D:$D,MATCH($B1160,'Org functional rollups'!$A:$A,0)),0)","v":"Production"}]
[{"$f":"'12.2018 Data'!A1141","v":"930200"},{"$f":"'12.2018 Data'!B1141","v":"R08"},{"$f":"'12.2018 Data'!C1141","v":"CD"},{"$f":"'12.2018 Data'!D1141","v":"AA"},{"$f":"'12.2018 Data'!E1141","v":"OPER"},{"$f":"'12.2018 Data'!F1141","v":440.43},{"$f":"'12.2018 Data'!G1141","v":308.89999999999998},{"$f":"'12.2018 Data'!H1141","v":90.5},{"$f":"'12.2018 Data'!I1141","v":41.03},{"$f":"'12.2018 Data'!J1141","v":0},"930",440.43,308.89999999999998,90.5,41.03,0,{"$f":"IF(ISNUMBER(MATCH($B1161,'Org functional rollups'!$A:$A,0)),INDEX('Org functional rollups'!$D:$D,MATCH($B1161,'Org functional rollups'!$A:$A,0)),0)","v":"Distribution"}]
[{"$f":"'12.2018 Data'!A1142","v":"930200"},{"$f":"'12.2018 Data'!B1142","v":"R08"},{"$f":"'12.2018 Data'!C1142","v":"GD"},{"$f":"'12.2018 Data'!D1142","v":"AA"},{"$f":"'12.2018 Data'!E1142","v":"OPER"},{"$f":"'12.2018 Data'!F1142","v":3829.53},{"$f":"'12.2018 Data'!G1142","v":0},{"$f":"'12.2018 Data'!H1142","v":2625.61},{"$f":"'12.2018 Data'!I1142","v":1203.92},{"$f":"'12.2018 Data'!J1142","v":0},"930",3829.53,0,2625.61,1203.92,0,{"$f":"IF(ISNUMBER(MATCH($B1162,'Org functional rollups'!$A:$A,0)),INDEX('Org functional rollups'!$D:$D,MATCH($B1162,'Org functional rollups'!$A:$A,0)),0)","v":"Distribution"}]
[{"$f":"'12.2018 Data'!A1143","v":"930200"},{"$f":"'12.2018 Data'!B1143","v":"R51"},{"$f":"'12.2018 Data'!C1143","v":"CD"},{"$f":"'12.2018 Data'!D1143","v":"AA"},{"$f":"'12.2018 Data'!E1143","v":"OPER"},{"$f":"'12.2018 Data'!F1143","v":276},{"$f":"'12.2018 Data'!G1143","v":193.57},{"$f":"'12.2018 Data'!H1143","v":56.72},{"$f":"'12.2018 Data'!I1143","v":25.71},{"$f":"'12.2018 Data'!J1143","v":0},"930",276,193.57,56.72,25.71,0,{"$f":"IF(ISNUMBER(MATCH($B1163,'Org functional rollups'!$A:$A,0)),INDEX('Org functional rollups'!$D:$D,MATCH($B1163,'Org functional rollups'!$A:$A,0)),0)","v":"Distribution"}]
[{"$f":"'12.2018 Data'!A1144","v":"930200"},{"$f":"'12.2018 Data'!B1144","v":"R53"},{"$f":"'12.2018 Data'!C1144","v":"CD"},{"$f":"'12.2018 Data'!D1144","v":"AN"},{"$f":"'12.2018 Data'!E1144","v":"OPER"},{"$f":"'12.2018 Data'!F1144","v":544.9},{"$f":"'12.2018 Data'!G1144","v":423.47},{"$f":"'12.2018 Data'!H1144","v":121.43},{"$f":"'12.2018 Data'!I1144","v":0},{"$f":"'12.2018 Data'!J1144","v":0},"930",544.9,423.47,121.43,0,0,{"$f":"IF(ISNUMBER(MATCH($B1164,'Org functional rollups'!$A:$A,0)),INDEX('Org functional rollups'!$D:$D,MATCH($B1164,'Org functional rollups'!$A:$A,0)),0)","v":"Distribution"}]
[{"$f":"'12.2018 Data'!A1145","v":"930200"},{"$f":"'12.2018 Data'!B1145","v":"R53"},{"$f":"'12.2018 Data'!C1145","v":"ED"},{"$f":"'12.2018 Data'!D1145","v":"AN"},{"$f":"'12.2018 Data'!E1145","v":"OPER"},{"$f":"'12.2018 Data'!F1145","v":18163.75},{"$f":"'12.2018 Data'!G1145","v":18163.75},{"$f":"'12.2018 Data'!H1145","v":0},{"$f":"'12.2018 Data'!I1145","v":0},{"$f":"'12.2018 Data'!J1145","v":0},"930",18163.75,18163.75,0,0,0,{"$f":"IF(ISNUMBER(MATCH($B1165,'Org functional rollups'!$A:$A,0)),INDEX('Org functional rollups'!$D:$D,MATCH($B1165,'Org functional rollups'!$A:$A,0)),0)","v":"Distribution"}]
[{"$f":"'12.2018 Data'!A1146","v":"930200"},{"$f":"'12.2018 Data'!B1146","v":"R54"},{"$f":"'12.2018 Data'!C1146","v":"ED"},{"$f":"'12.2018 Data'!D1146","v":"AN"},{"$f":"'12.2018 Data'!E1146","v":"OPER"},{"$f":"'12.2018 Data'!F1146","v":1748.19},{"$f":"'12.2018 Data'!G1146","v":1748.19},{"$f":"'12.2018 Data'!H1146","v":0},{"$f":"'12.2018 Data'!I1146","v":0},{"$f":"'12.2018 Data'!J1146","v":0},"930",1748.19,1748.19,0,0,0,{"$f":"IF(ISNUMBER(MATCH($B1166,'Org functional rollups'!$A:$A,0)),INDEX('Org functional rollups'!$D:$D,MATCH($B1166,'Org functional rollups'!$A:$A,0)),0)","v":"Common"}]
[{"$f":"'12.2018 Data'!A1147","v":"930200"},{"$f":"'12.2018 Data'!B1147","v":"R54"},{"$f":"'12.2018 Data'!C1147","v":"CD"},{"$f":"'12.2018 Data'!D1147","v":"AA"},{"$f":"'12.2018 Data'!E1147","v":"OPER"},{"$f":"'12.2018 Data'!F1147","v":32012.14},{"$f":"'12.2018 Data'!G1147","v":22451.7},{"$f":"'12.2018 Data'!H1147","v":6578.2},{"$f":"'12.2018 Data'!I1147","v":2982.24},{"$f":"'12.2018 Data'!J1147","v":0},"930",32012.14,22451.7,6578.2,2982.24,0,{"$f":"IF(ISNUMBER(MATCH($B1167,'Org functional rollups'!$A:$A,0)),INDEX('Org functional rollups'!$D:$D,MATCH($B1167,'Org functional rollups'!$A:$A,0)),0)","v":"Common"}]
[{"$f":"'12.2018 Data'!A1148","v":"930200"},{"$f":"'12.2018 Data'!B1148","v":"S01"},{"$f":"'12.2018 Data'!C1148","v":"CD"},{"$f":"'12.2018 Data'!D1148","v":"AA"},{"$f":"'12.2018 Data'!E1148","v":"OPER"},{"$f":"'12.2018 Data'!F1148","v":3804.39},{"$f":"'12.2018 Data'!G1148","v":2668.22},{"$f":"'12.2018 Data'!H1148","v":781.77},{"$f":"'12.2018 Data'!I1148","v":354.4},{"$f":"'12.2018 Data'!J1148","v":0},"930",3804.39,2668.22,781.77,354.4,0,{"$f":"IF(ISNUMBER(MATCH($B1168,'Org functional rollups'!$A:$A,0)),INDEX('Org functional rollups'!$D:$D,MATCH($B1168,'Org functional rollups'!$A:$A,0)),0)","v":"Common"}]
[{"$f":"'12.2018 Data'!A1149","v":"930200"},{"$f":"'12.2018 Data'!B1149","v":"S50"},{"$f":"'12.2018 Data'!C1149","v":"CD"},{"$f":"'12.2018 Data'!D1149","v":"AA"},{"$f":"'12.2018 Data'!E1149","v":"OPER"},{"$f":"'12.2018 Data'!F1149","v":4574.66},{"$f":"'12.2018 Data'!G1149","v":3208.44},{"$f":"'12.2018 Data'!H1149","v":940.06},{"$f":"'12.2018 Data'!I1149","v":426.16},{"$f":"'12.2018 Data'!J1149","v":0},"930",4574.66,3208.44,940.06,426.16,0,{"$f":"IF(ISNUMBER(MATCH($B1169,'Org functional rollups'!$A:$A,0)),INDEX('Org functional rollups'!$D:$D,MATCH($B1169,'Org functional rollups'!$A:$A,0)),0)","v":"Distribution"}]
[{"$f":"'12.2018 Data'!A1150","v":"930200"},{"$f":"'12.2018 Data'!B1150","v":"S50"},{"$f":"'12.2018 Data'!C1150","v":"ED"},{"$f":"'12.2018 Data'!D1150","v":"AN"},{"$f":"'12.2018 Data'!E1150","v":"OPER"},{"$f":"'12.2018 Data'!F1150","v":957.66},{"$f":"'12.2018 Data'!G1150","v":957.66},{"$f":"'12.2018 Data'!H1150","v":0},{"$f":"'12.2018 Data'!I1150","v":0},{"$f":"'12.2018 Data'!J1150","v":0},"930",957.66,957.66,0,0,0,{"$f":"IF(ISNUMBER(MATCH($B1170,'Org functional rollups'!$A:$A,0)),INDEX('Org functional rollups'!$D:$D,MATCH($B1170,'Org functional rollups'!$A:$A,0)),0)","v":"Distribution"}]
[{"$f":"'12.2018 Data'!A1151","v":"930200"},{"$f":"'12.2018 Data'!B1151","v":"S51"},{"$f":"'12.2018 Data'!C1151","v":"CD"},{"$f":"'12.2018 Data'!D1151","v":"AA"},{"$f":"'12.2018 Data'!E1151","v":"OPER"},{"$f":"'12.2018 Data'!F1151","v":466.31},{"$f":"'12.2018 Data'!G1151","v":327.06},{"$f":"'12.2018 Data'!H1151","v":95.85},{"$f":"'12.2018 Data'!I1151","v":43.4},{"$f":"'12.2018 Data'!J1151","v":0},"930",466.31,327.06,95.85,43.4,0,{"$f":"IF(ISNUMBER(MATCH($B1171,'Org functional rollups'!$A:$A,0)),INDEX('Org functional rollups'!$D:$D,MATCH($B1171,'Org functional rollups'!$A:$A,0)),0)","v":"Common"}]
[{"$f":"'12.2018 Data'!A1152","v":"930200"},{"$f":"'12.2018 Data'!B1152","v":"S51"},{"$f":"'12.2018 Data'!C1152","v":"ED"},{"$f":"'12.2018 Data'!D1152","v":"AN"},{"$f":"'12.2018 Data'!E1152","v":"OPER"},{"$f":"'12.2018 Data'!F1152","v":6138.6},{"$f":"'12.2018 Data'!G1152","v":6138.6},{"$f":"'12.2018 Data'!H1152","v":0},{"$f":"'12.2018 Data'!I1152","v":0},{"$f":"'12.2018 Data'!J1152","v":0},"930",6138.6,6138.6,0,0,0,{"$f":"IF(ISNUMBER(MATCH($B1172,'Org functional rollups'!$A:$A,0)),INDEX('Org functional rollups'!$D:$D,MATCH($B1172,'Org functional rollups'!$A:$A,0)),0)","v":"Common"}]
[{"$f":"'12.2018 Data'!A1153","v":"930200"},{"$f":"'12.2018 Data'!B1153","v":"S51"},{"$f":"'12.2018 Data'!C1153","v":"CD"},{"$f":"'12.2018 Data'!D1153","v":"WA"},{"$f":"'12.2018 Data'!E1153","v":"OPER"},{"$f":"'12.2018 Data'!F1153","v":13.41},{"$f":"'12.2018 Data'!G1153","v":10.43},{"$f":"'12.2018 Data'!H1153","v":2.98},{"$f":"'12.2018 Data'!I1153","v":0},{"$f":"'12.2018 Data'!J1153","v":0},"930",13.41,10.43,2.98,0,0,{"$f":"IF(ISNUMBER(MATCH($B1173,'Org functional rollups'!$A:$A,0)),INDEX('Org functional rollups'!$D:$D,MATCH($B1173,'Org functional rollups'!$A:$A,0)),0)","v":"Common"}]
[{"$f":"'12.2018 Data'!A1154","v":"930200"},{"$f":"'12.2018 Data'!B1154","v":"S51"},{"$f":"'12.2018 Data'!C1154","v":"CD"},{"$f":"'12.2018 Data'!D1154","v":"AN"},{"$f":"'12.2018 Data'!E1154","v":"OPER"},{"$f":"'12.2018 Data'!F1154","v":2457.4299999999998},{"$f":"'12.2018 Data'!G1154","v":1909.8},{"$f":"'12.2018 Data'!H1154","v":547.63},{"$f":"'12.2018 Data'!I1154","v":0},{"$f":"'12.2018 Data'!J1154","v":0},"930",2457.4299999999998,1909.8,547.63,0,0,{"$f":"IF(ISNUMBER(MATCH($B1174,'Org functional rollups'!$A:$A,0)),INDEX('Org functional rollups'!$D:$D,MATCH($B1174,'Org functional rollups'!$A:$A,0)),0)","v":"Common"}]
[{"$f":"'12.2018 Data'!A1155","v":"930200"},{"$f":"'12.2018 Data'!B1155","v":"S51"},{"$f":"'12.2018 Data'!C1155","v":"GD"},{"$f":"'12.2018 Data'!D1155","v":"AA"},{"$f":"'12.2018 Data'!E1155","v":"OPER"},{"$f":"'12.2018 Data'!F1155","v":1739.76},{"$f":"'12.2018 Data'!G1155","v":0},{"$f":"'12.2018 Data'!H1155","v":1192.81},{"$f":"'12.2018 Data'!I1155","v":546.95000000000005},{"$f":"'12.2018 Data'!J1155","v":0},"930",1739.76,0,1192.81,546.95000000000005,0,{"$f":"IF(ISNUMBER(MATCH($B1175,'Org functional rollups'!$A:$A,0)),INDEX('Org functional rollups'!$D:$D,MATCH($B1175,'Org functional rollups'!$A:$A,0)),0)","v":"Common"}]
[{"$f":"'12.2018 Data'!A1156","v":"930200"},{"$f":"'12.2018 Data'!B1156","v":"S51"},{"$f":"'12.2018 Data'!C1156","v":"GD"},{"$f":"'12.2018 Data'!D1156","v":"OR"},{"$f":"'12.2018 Data'!E1156","v":"OPER"},{"$f":"'12.2018 Data'!F1156","v":215.43},{"$f":"'12.2018 Data'!G1156","v":0},{"$f":"'12.2018 Data'!H1156","v":0},{"$f":"'12.2018 Data'!I1156","v":215.43},{"$f":"'12.2018 Data'!J1156","v":0},"930",215.43,0,0,215.43,0,{"$f":"IF(ISNUMBER(MATCH($B1176,'Org functional rollups'!$A:$A,0)),INDEX('Org functional rollups'!$D:$D,MATCH($B1176,'Org functional rollups'!$A:$A,0)),0)","v":"Common"}]
[{"$f":"'12.2018 Data'!A1157","v":"930200"},{"$f":"'12.2018 Data'!B1157","v":"S52"},{"$f":"'12.2018 Data'!C1157","v":"CD"},{"$f":"'12.2018 Data'!D1157","v":"AA"},{"$f":"'12.2018 Data'!E1157","v":"OPER"},{"$f":"'12.2018 Data'!F1157","v":1951.44},{"$f":"'12.2018 Data'!G1157","v":1368.61},{"$f":"'12.2018 Data'!H1157","v":401.01},{"$f":"'12.2018 Data'!I1157","v":181.82},{"$f":"'12.2018 Data'!J1157","v":0},"930",1951.44,1368.61,401.01,181.82,0,{"$f":"IF(ISNUMBER(MATCH($B1177,'Org functional rollups'!$A:$A,0)),INDEX('Org functional rollups'!$D:$D,MATCH($B1177,'Org functional rollups'!$A:$A,0)),0)","v":"Common"}]
[{"$f":"'12.2018 Data'!A1158","v":"930200"},{"$f":"'12.2018 Data'!B1158","v":"S53"},{"$f":"'12.2018 Data'!C1158","v":"ED"},{"$f":"'12.2018 Data'!D1158","v":"AN"},{"$f":"'12.2018 Data'!E1158","v":"OPER"},{"$f":"'12.2018 Data'!F1158","v":2936.89},{"$f":"'12.2018 Data'!G1158","v":2936.89},{"$f":"'12.2018 Data'!H1158","v":0},{"$f":"'12.2018 Data'!I1158","v":0},{"$f":"'12.2018 Data'!J1158","v":0},"930",2936.89,2936.89,0,0,0,{"$f":"IF(ISNUMBER(MATCH($B1178,'Org functional rollups'!$A:$A,0)),INDEX('Org functional rollups'!$D:$D,MATCH($B1178,'Org functional rollups'!$A:$A,0)),0)","v":"Distribution"}]
[{"$f":"'12.2018 Data'!A1159","v":"930200"},{"$f":"'12.2018 Data'!B1159","v":"S53"},{"$f":"'12.2018 Data'!C1159","v":"CD"},{"$f":"'12.2018 Data'!D1159","v":"AN"},{"$f":"'12.2018 Data'!E1159","v":"OPER"},{"$f":"'12.2018 Data'!F1159","v":37.67},{"$f":"'12.2018 Data'!G1159","v":29.27},{"$f":"'12.2018 Data'!H1159","v":8.4},{"$f":"'12.2018 Data'!I1159","v":0},{"$f":"'12.2018 Data'!J1159","v":0},"930",37.67,29.27,8.4,0,0,{"$f":"IF(ISNUMBER(MATCH($B1179,'Org functional rollups'!$A:$A,0)),INDEX('Org functional rollups'!$D:$D,MATCH($B1179,'Org functional rollups'!$A:$A,0)),0)","v":"Distribution"}]
[{"$f":"'12.2018 Data'!A1160","v":"930200"},{"$f":"'12.2018 Data'!B1160","v":"S54"},{"$f":"'12.2018 Data'!C1160","v":"CD"},{"$f":"'12.2018 Data'!D1160","v":"AA"},{"$f":"'12.2018 Data'!E1160","v":"OPER"},{"$f":"'12.2018 Data'!F1160","v":218753.93},{"$f":"'12.2018 Data'!G1160","v":153422.98000000001},{"$f":"'12.2018 Data'!H1160","v":44951.65},{"$f":"'12.2018 Data'!I1160","v":20379.3},{"$f":"'12.2018 Data'!J1160","v":0},"930",218753.93,153422.98000000001,44951.65,20379.3,0,{"$f":"IF(ISNUMBER(MATCH($B1180,'Org functional rollups'!$A:$A,0)),INDEX('Org functional rollups'!$D:$D,MATCH($B1180,'Org functional rollups'!$A:$A,0)),0)","v":"Common"}]
[{"$f":"'12.2018 Data'!A1161","v":"930200"},{"$f":"'12.2018 Data'!B1161","v":"S54"},{"$f":"'12.2018 Data'!C1161","v":"ED"},{"$f":"'12.2018 Data'!D1161","v":"AN"},{"$f":"'12.2018 Data'!E1161","v":"OPER"},{"$f":"'12.2018 Data'!F1161","v":16836.560000000001},{"$f":"'12.2018 Data'!G1161","v":16836.560000000001},{"$f":"'12.2018 Data'!H1161","v":0},{"$f":"'12.2018 Data'!I1161","v":0},{"$f":"'12.2018 Data'!J1161","v":0},"930",16836.560000000001,16836.560000000001,0,0,0,{"$f":"IF(ISNUMBER(MATCH($B1181,'Org functional rollups'!$A:$A,0)),INDEX('Org functional rollups'!$D:$D,MATCH($B1181,'Org functional rollups'!$A:$A,0)),0)","v":"Common"}]
[{"$f":"'12.2018 Data'!A1162","v":"930200"},{"$f":"'12.2018 Data'!B1162","v":"T01"},{"$f":"'12.2018 Data'!C1162","v":"CD"},{"$f":"'12.2018 Data'!D1162","v":"AA"},{"$f":"'12.2018 Data'!E1162","v":"OPER"},{"$f":"'12.2018 Data'!F1162","v":7281.4},{"$f":"'12.2018 Data'!G1162","v":5106.82},{"$f":"'12.2018 Data'!H1162","v":1496.24},{"$f":"'12.2018 Data'!I1162","v":678.34},{"$f":"'12.2018 Data'!J1162","v":0},"930",7281.4,5106.82,1496.24,678.34,0,{"$f":"IF(ISNUMBER(MATCH($B1182,'Org functional rollups'!$A:$A,0)),INDEX('Org functional rollups'!$D:$D,MATCH($B1182,'Org functional rollups'!$A:$A,0)),0)","v":"Common"}]
[{"$f":"'12.2018 Data'!A1163","v":"930200"},{"$f":"'12.2018 Data'!B1163","v":"T08"},{"$f":"'12.2018 Data'!C1163","v":"ED"},{"$f":"'12.2018 Data'!D1163","v":"AN"},{"$f":"'12.2018 Data'!E1163","v":"OPER"},{"$f":"'12.2018 Data'!F1163","v":3024.63},{"$f":"'12.2018 Data'!G1163","v":3024.63},{"$f":"'12.2018 Data'!H1163","v":0},{"$f":"'12.2018 Data'!I1163","v":0},{"$f":"'12.2018 Data'!J1163","v":0},"930",3024.63,3024.63,0,0,0,{"$f":"IF(ISNUMBER(MATCH($B1183,'Org functional rollups'!$A:$A,0)),INDEX('Org functional rollups'!$D:$D,MATCH($B1183,'Org functional rollups'!$A:$A,0)),0)","v":"Distribution"}]
[{"$f":"'12.2018 Data'!A1164","v":"930200"},{"$f":"'12.2018 Data'!B1164","v":"T08"},{"$f":"'12.2018 Data'!C1164","v":"CD"},{"$f":"'12.2018 Data'!D1164","v":"AA"},{"$f":"'12.2018 Data'!E1164","v":"OPER"},{"$f":"'12.2018 Data'!F1164","v":1547.87},{"$f":"'12.2018 Data'!G1164","v":1085.6099999999999},{"$f":"'12.2018 Data'!H1164","v":318.06},{"$f":"'12.2018 Data'!I1164","v":144.19999999999999},{"$f":"'12.2018 Data'!J1164","v":0},"930",1547.87,1085.6099999999999,318.06,144.19999999999999,0,{"$f":"IF(ISNUMBER(MATCH($B1184,'Org functional rollups'!$A:$A,0)),INDEX('Org functional rollups'!$D:$D,MATCH($B1184,'Org functional rollups'!$A:$A,0)),0)","v":"Distribution"}]
[{"$f":"'12.2018 Data'!A1165","v":"930200"},{"$f":"'12.2018 Data'!B1165","v":"T51"},{"$f":"'12.2018 Data'!C1165","v":"CD"},{"$f":"'12.2018 Data'!D1165","v":"AA"},{"$f":"'12.2018 Data'!E1165","v":"OPER"},{"$f":"'12.2018 Data'!F1165","v":8504.69},{"$f":"'12.2018 Data'!G1165","v":5964.79},{"$f":"'12.2018 Data'!H1165","v":1747.61},{"$f":"'12.2018 Data'!I1165","v":792.29},{"$f":"'12.2018 Data'!J1165","v":0},"930",8504.69,5964.79,1747.61,792.29,0,{"$f":"IF(ISNUMBER(MATCH($B1185,'Org functional rollups'!$A:$A,0)),INDEX('Org functional rollups'!$D:$D,MATCH($B1185,'Org functional rollups'!$A:$A,0)),0)","v":"Distribution"}]
[{"$f":"'12.2018 Data'!A1166","v":"930200"},{"$f":"'12.2018 Data'!B1166","v":"T51"},{"$f":"'12.2018 Data'!C1166","v":"ED"},{"$f":"'12.2018 Data'!D1166","v":"AN"},{"$f":"'12.2018 Data'!E1166","v":"OPER"},{"$f":"'12.2018 Data'!F1166","v":117.3},{"$f":"'12.2018 Data'!G1166","v":117.3},{"$f":"'12.2018 Data'!H1166","v":0},{"$f":"'12.2018 Data'!I1166","v":0},{"$f":"'12.2018 Data'!J1166","v":0},"930",117.3,117.3,0,0,0,{"$f":"IF(ISNUMBER(MATCH($B1186,'Org functional rollups'!$A:$A,0)),INDEX('Org functional rollups'!$D:$D,MATCH($B1186,'Org functional rollups'!$A:$A,0)),0)","v":"Distribution"}]
[{"$f":"'12.2018 Data'!A1167","v":"930200"},{"$f":"'12.2018 Data'!B1167","v":"U01"},{"$f":"'12.2018 Data'!C1167","v":"ED"},{"$f":"'12.2018 Data'!D1167","v":"AN"},{"$f":"'12.2018 Data'!E1167","v":"OPER"},{"$f":"'12.2018 Data'!F1167","v":26045.53},{"$f":"'12.2018 Data'!G1167","v":26045.53},{"$f":"'12.2018 Data'!H1167","v":0},{"$f":"'12.2018 Data'!I1167","v":0},{"$f":"'12.2018 Data'!J1167","v":0},"930",26045.53,26045.53,0,0,0,{"$f":"IF(ISNUMBER(MATCH($B1187,'Org functional rollups'!$A:$A,0)),INDEX('Org functional rollups'!$D:$D,MATCH($B1187,'Org functional rollups'!$A:$A,0)),0)","v":"Common"}]
[{"$f":"'12.2018 Data'!A1168","v":"930200"},{"$f":"'12.2018 Data'!B1168","v":"U01"},{"$f":"'12.2018 Data'!C1168","v":"CD"},{"$f":"'12.2018 Data'!D1168","v":"AA"},{"$f":"'12.2018 Data'!E1168","v":"OPER"},{"$f":"'12.2018 Data'!F1168","v":40074.94},{"$f":"'12.2018 Data'!G1168","v":28106.48},{"$f":"'12.2018 Data'!H1168","v":8234.9599999999991},{"$f":"'12.2018 Data'!I1168","v":3733.5},{"$f":"'12.2018 Data'!J1168","v":0},"930",40074.94,28106.48,8234.9599999999991,3733.5,0,{"$f":"IF(ISNUMBER(MATCH($B1188,'Org functional rollups'!$A:$A,0)),INDEX('Org functional rollups'!$D:$D,MATCH($B1188,'Org functional rollups'!$A:$A,0)),0)","v":"Common"}]
[{"$f":"'12.2018 Data'!A1169","v":"930200"},{"$f":"'12.2018 Data'!B1169","v":"V01"},{"$f":"'12.2018 Data'!C1169","v":"CD"},{"$f":"'12.2018 Data'!D1169","v":"AA"},{"$f":"'12.2018 Data'!E1169","v":"OPER"},{"$f":"'12.2018 Data'!F1169","v":-6020.7},{"$f":"'12.2018 Data'!G1169","v":-4222.62},{"$f":"'12.2018 Data'!H1169","v":-1237.21},{"$f":"'12.2018 Data'!I1169","v":-560.87},{"$f":"'12.2018 Data'!J1169","v":0},"930",-6020.7,-4222.62,-1237.21,-560.87,0,{"$f":"IF(ISNUMBER(MATCH($B1189,'Org functional rollups'!$A:$A,0)),INDEX('Org functional rollups'!$D:$D,MATCH($B1189,'Org functional rollups'!$A:$A,0)),0)","v":"Common"}]
[{"$f":"'12.2018 Data'!A1170","v":"930200"},{"$f":"'12.2018 Data'!B1170","v":"V01"},{"$f":"'12.2018 Data'!C1170","v":"ED"},{"$f":"'12.2018 Data'!D1170","v":"AN"},{"$f":"'12.2018 Data'!E1170","v":"OPER"},{"$f":"'12.2018 Data'!F1170","v":0},{"$f":"'12.2018 Data'!G1170","v":0},{"$f":"'12.2018 Data'!H1170","v":0},{"$f":"'12.2018 Data'!I1170","v":0},{"$f":"'12.2018 Data'!J1170","v":0},"930",0,0,0,0,0,{"$f":"IF(ISNUMBER(MATCH($B1190,'Org functional rollups'!$A:$A,0)),INDEX('Org functional rollups'!$D:$D,MATCH($B1190,'Org functional rollups'!$A:$A,0)),0)","v":"Common"}]
[{"$f":"'12.2018 Data'!A1171","v":"930200"},{"$f":"'12.2018 Data'!B1171","v":"V08"},{"$f":"'12.2018 Data'!C1171","v":"CD"},{"$f":"'12.2018 Data'!D1171","v":"AA"},{"$f":"'12.2018 Data'!E1171","v":"OPER"},{"$f":"'12.2018 Data'!F1171","v":34020.33},{"$f":"'12.2018 Data'!G1171","v":23860.1},{"$f":"'12.2018 Data'!H1171","v":6990.85},{"$f":"'12.2018 Data'!I1171","v":3169.38},{"$f":"'12.2018 Data'!J1171","v":0},"930",34020.33,23860.1,6990.85,3169.38,0,{"$f":"IF(ISNUMBER(MATCH($B1191,'Org functional rollups'!$A:$A,0)),INDEX('Org functional rollups'!$D:$D,MATCH($B1191,'Org functional rollups'!$A:$A,0)),0)","v":"Common"}]
[{"$f":"'12.2018 Data'!A1172","v":"930200"},{"$f":"'12.2018 Data'!B1172","v":"V08"},{"$f":"'12.2018 Data'!C1172","v":"CD"},{"$f":"'12.2018 Data'!D1172","v":"AN"},{"$f":"'12.2018 Data'!E1172","v":"OPER"},{"$f":"'12.2018 Data'!F1172","v":205.38},{"$f":"'12.2018 Data'!G1172","v":159.61000000000001},{"$f":"'12.2018 Data'!H1172","v":45.77},{"$f":"'12.2018 Data'!I1172","v":0},{"$f":"'12.2018 Data'!J1172","v":0},"930",205.38,159.61000000000001,45.77,0,0,{"$f":"IF(ISNUMBER(MATCH($B1192,'Org functional rollups'!$A:$A,0)),INDEX('Org functional rollups'!$D:$D,MATCH($B1192,'Org functional rollups'!$A:$A,0)),0)","v":"Common"}]
[{"$f":"'12.2018 Data'!A1173","v":"930200"},{"$f":"'12.2018 Data'!B1173","v":"V19"},{"$f":"'12.2018 Data'!C1173","v":"CD"},{"$f":"'12.2018 Data'!D1173","v":"AA"},{"$f":"'12.2018 Data'!E1173","v":"OPER"},{"$f":"'12.2018 Data'!F1173","v":1241.73},{"$f":"'12.2018 Data'!G1173","v":870.89},{"$f":"'12.2018 Data'!H1173","v":255.16},{"$f":"'12.2018 Data'!I1173","v":115.68},{"$f":"'12.2018 Data'!J1173","v":0},"930",1241.73,870.89,255.16,115.68,0,{"$f":"IF(ISNUMBER(MATCH($B1193,'Org functional rollups'!$A:$A,0)),INDEX('Org functional rollups'!$D:$D,MATCH($B1193,'Org functional rollups'!$A:$A,0)),0)","v":"Common"}]
[{"$f":"'12.2018 Data'!A1174","v":"930200"},{"$f":"'12.2018 Data'!B1174","v":"V50"},{"$f":"'12.2018 Data'!C1174","v":"GD"},{"$f":"'12.2018 Data'!D1174","v":"OR"},{"$f":"'12.2018 Data'!E1174","v":"OPER"},{"$f":"'12.2018 Data'!F1174","v":23880.49},{"$f":"'12.2018 Data'!G1174","v":0},{"$f":"'12.2018 Data'!H1174","v":0},{"$f":"'12.2018 Data'!I1174","v":23880.49},{"$f":"'12.2018 Data'!J1174","v":0},"930",23880.49,0,0,23880.49,0,{"$f":"IF(ISNUMBER(MATCH($B1194,'Org functional rollups'!$A:$A,0)),INDEX('Org functional rollups'!$D:$D,MATCH($B1194,'Org functional rollups'!$A:$A,0)),0)","v":"Distribution"}]
[{"$f":"'12.2018 Data'!A1175","v":"930200"},{"$f":"'12.2018 Data'!B1175","v":"W01"},{"$f":"'12.2018 Data'!C1175","v":"ED"},{"$f":"'12.2018 Data'!D1175","v":"AN"},{"$f":"'12.2018 Data'!E1175","v":"OPER"},{"$f":"'12.2018 Data'!F1175","v":8991.5400000000009},{"$f":"'12.2018 Data'!G1175","v":8991.5400000000009},{"$f":"'12.2018 Data'!H1175","v":0},{"$f":"'12.2018 Data'!I1175","v":0},{"$f":"'12.2018 Data'!J1175","v":0},"930",8991.5400000000009,8991.5400000000009,0,0,0,{"$f":"IF(ISNUMBER(MATCH($B1195,'Org functional rollups'!$A:$A,0)),INDEX('Org functional rollups'!$D:$D,MATCH($B1195,'Org functional rollups'!$A:$A,0)),0)","v":"Common"}]
[{"$f":"'12.2018 Data'!A1176","v":"930200"},{"$f":"'12.2018 Data'!B1176","v":"W01"},{"$f":"'12.2018 Data'!C1176","v":"CD"},{"$f":"'12.2018 Data'!D1176","v":"AA"},{"$f":"'12.2018 Data'!E1176","v":"OPER"},{"$f":"'12.2018 Data'!F1176","v":143.34},{"$f":"'12.2018 Data'!G1176","v":100.53},{"$f":"'12.2018 Data'!H1176","v":29.45},{"$f":"'12.2018 Data'!I1176","v":13.36},{"$f":"'12.2018 Data'!J1176","v":0},"930",143.34,100.53,29.45,13.36,0,{"$f":"IF(ISNUMBER(MATCH($B1196,'Org functional rollups'!$A:$A,0)),INDEX('Org functional rollups'!$D:$D,MATCH($B1196,'Org functional rollups'!$A:$A,0)),0)","v":"Common"}]
[{"$f":"'12.2018 Data'!A1177","v":"930200"},{"$f":"'12.2018 Data'!B1177","v":"W09"},{"$f":"'12.2018 Data'!C1177","v":"CD"},{"$f":"'12.2018 Data'!D1177","v":"AA"},{"$f":"'12.2018 Data'!E1177","v":"OPER"},{"$f":"'12.2018 Data'!F1177","v":456.61},{"$f":"'12.2018 Data'!G1177","v":320.25},{"$f":"'12.2018 Data'!H1177","v":93.83},{"$f":"'12.2018 Data'!I1177","v":42.53},{"$f":"'12.2018 Data'!J1177","v":0},"930",456.61,320.25,93.83,42.53,0,{"$f":"IF(ISNUMBER(MATCH($B1197,'Org functional rollups'!$A:$A,0)),INDEX('Org functional rollups'!$D:$D,MATCH($B1197,'Org functional rollups'!$A:$A,0)),0)","v":"Common"}]
[{"$f":"'12.2018 Data'!A1178","v":"930200"},{"$f":"'12.2018 Data'!B1178","v":"W39"},{"$f":"'12.2018 Data'!C1178","v":"CD"},{"$f":"'12.2018 Data'!D1178","v":"WA"},{"$f":"'12.2018 Data'!E1178","v":"OPER"},{"$f":"'12.2018 Data'!F1178","v":205.28},{"$f":"'12.2018 Data'!G1178","v":159.53},{"$f":"'12.2018 Data'!H1178","v":45.75},{"$f":"'12.2018 Data'!I1178","v":0},{"$f":"'12.2018 Data'!J1178","v":0},"930",205.28,159.53,45.75,0,0,{"$f":"IF(ISNUMBER(MATCH($B1198,'Org functional rollups'!$A:$A,0)),INDEX('Org functional rollups'!$D:$D,MATCH($B1198,'Org functional rollups'!$A:$A,0)),0)","v":"Common"}]
[{"$f":"'12.2018 Data'!A1179","v":"930200"},{"$f":"'12.2018 Data'!B1179","v":"X01"},{"$f":"'12.2018 Data'!C1179","v":"CD"},{"$f":"'12.2018 Data'!D1179","v":"AA"},{"$f":"'12.2018 Data'!E1179","v":"OPER"},{"$f":"'12.2018 Data'!F1179","v":1650},{"$f":"'12.2018 Data'!G1179","v":1157.23},{"$f":"'12.2018 Data'!H1179","v":339.06},{"$f":"'12.2018 Data'!I1179","v":153.71},{"$f":"'12.2018 Data'!J1179","v":0},"930",1650,1157.23,339.06,153.71,0,{"$f":"IF(ISNUMBER(MATCH($B1199,'Org functional rollups'!$A:$A,0)),INDEX('Org functional rollups'!$D:$D,MATCH($B1199,'Org functional rollups'!$A:$A,0)),0)","v":"Common"}]
[{"$f":"'12.2018 Data'!A1180","v":"930200"},{"$f":"'12.2018 Data'!B1180","v":"X02"},{"$f":"'12.2018 Data'!C1180","v":"CD"},{"$f":"'12.2018 Data'!D1180","v":"AA"},{"$f":"'12.2018 Data'!E1180","v":"OPER"},{"$f":"'12.2018 Data'!F1180","v":3146.17},{"$f":"'12.2018 Data'!G1180","v":2206.58},{"$f":"'12.2018 Data'!H1180","v":646.49},{"$f":"'12.2018 Data'!I1180","v":293.10000000000002},{"$f":"'12.2018 Data'!J1180","v":0},"930",3146.17,2206.58,646.49,293.10000000000002,0,{"$f":"IF(ISNUMBER(MATCH($B1200,'Org functional rollups'!$A:$A,0)),INDEX('Org functional rollups'!$D:$D,MATCH($B1200,'Org functional rollups'!$A:$A,0)),0)","v":"Common"}]
[{"$f":"'12.2018 Data'!A1181","v":"930200"},{"$f":"'12.2018 Data'!B1181","v":"X08"},{"$f":"'12.2018 Data'!C1181","v":"CD"},{"$f":"'12.2018 Data'!D1181","v":"AA"},{"$f":"'12.2018 Data'!E1181","v":"OPER"},{"$f":"'12.2018 Data'!F1181","v":199.95},{"$f":"'12.2018 Data'!G1181","v":140.24},{"$f":"'12.2018 Data'!H1181","v":41.09},{"$f":"'12.2018 Data'!I1181","v":18.62},{"$f":"'12.2018 Data'!J1181","v":0},"930",199.95,140.24,41.09,18.62,0,{"$f":"IF(ISNUMBER(MATCH($B1201,'Org functional rollups'!$A:$A,0)),INDEX('Org functional rollups'!$D:$D,MATCH($B1201,'Org functional rollups'!$A:$A,0)),0)","v":"Production"}]
[{"$f":"'12.2018 Data'!A1182","v":"930200"},{"$f":"'12.2018 Data'!B1182","v":"Y01"},{"$f":"'12.2018 Data'!C1182","v":"CD"},{"$f":"'12.2018 Data'!D1182","v":"AA"},{"$f":"'12.2018 Data'!E1182","v":"OPER"},{"$f":"'12.2018 Data'!F1182","v":1645687.39},{"$f":"'12.2018 Data'!G1182","v":1154202.75},{"$f":"'12.2018 Data'!H1182","v":338172.32},{"$f":"'12.2018 Data'!I1182","v":153312.32000000001},{"$f":"'12.2018 Data'!J1182","v":0},"930",1645687.39,1154202.75,338172.32,153312.32000000001,0,{"$f":"IF(ISNUMBER(MATCH($B1202,'Org functional rollups'!$A:$A,0)),INDEX('Org functional rollups'!$D:$D,MATCH($B1202,'Org functional rollups'!$A:$A,0)),0)","v":"Common"}]
[{"$f":"'12.2018 Data'!A1183","v":"930200"},{"$f":"'12.2018 Data'!B1183","v":"Y54"},{"$f":"'12.2018 Data'!C1183","v":"CD"},{"$f":"'12.2018 Data'!D1183","v":"AA"},{"$f":"'12.2018 Data'!E1183","v":"OPER"},{"$f":"'12.2018 Data'!F1183","v":296141.51},{"$f":"'12.2018 Data'!G1183","v":207698.84},{"$f":"'12.2018 Data'!H1183","v":60854.12},{"$f":"'12.2018 Data'!I1183","v":27588.55},{"$f":"'12.2018 Data'!J1183","v":0},"930",296141.51,207698.84,60854.12,27588.55,0,{"$f":"IF(ISNUMBER(MATCH($B1203,'Org functional rollups'!$A:$A,0)),INDEX('Org functional rollups'!$D:$D,MATCH($B1203,'Org functional rollups'!$A:$A,0)),0)","v":"Common"}]
[{"$f":"'12.2018 Data'!A1184","v":"930200"},{"$f":"'12.2018 Data'!B1184","v":"Y54"},{"$f":"'12.2018 Data'!C1184","v":"ED"},{"$f":"'12.2018 Data'!D1184","v":"AN"},{"$f":"'12.2018 Data'!E1184","v":"OPER"},{"$f":"'12.2018 Data'!F1184","v":1400},{"$f":"'12.2018 Data'!G1184","v":1400},{"$f":"'12.2018 Data'!H1184","v":0},{"$f":"'12.2018 Data'!I1184","v":0},{"$f":"'12.2018 Data'!J1184","v":0},"930",1400,1400,0,0,0,{"$f":"IF(ISNUMBER(MATCH($B1204,'Org functional rollups'!$A:$A,0)),INDEX('Org functional rollups'!$D:$D,MATCH($B1204,'Org functional rollups'!$A:$A,0)),0)","v":"Common"}]
[{"$f":"'12.2018 Data'!A1185","v":"930200"},{"$f":"'12.2018 Data'!B1185","v":"Y54"},{"$f":"'12.2018 Data'!C1185","v":"GD"},{"$f":"'12.2018 Data'!D1185","v":"AA"},{"$f":"'12.2018 Data'!E1185","v":"OPER"},{"$f":"'12.2018 Data'!F1185","v":895},{"$f":"'12.2018 Data'!G1185","v":0},{"$f":"'12.2018 Data'!H1185","v":613.63},{"$f":"'12.2018 Data'!I1185","v":281.37},{"$f":"'12.2018 Data'!J1185","v":0},{"$f":"LEFT(A1205,3)","v":"930"},{"$f":"IF(ISNUMBER(F1205),F1205,0)","v":895},{"$f":"IF(ISNUMBER(G1205),G1205,0)","v":0},{"$f":"IF(ISNUMBER(H1205),H1205,0)","v":613.63},{"$f":"IF(ISNUMBER(I1205),I1205,0)","v":281.37},{"$f":"IF(ISNUMBER(J1205),J1205,0)","v":0},{"$f":"IF(ISNUMBER(MATCH($B1205,'Org functional rollups'!$A:$A,0)),INDEX('Org functional rollups'!$D:$D,MATCH($B1205,'Org functional rollups'!$A:$A,0)),0)","v":"Common"}]
[{"$f":"'12.2018 Data'!A1186","v":"930200"},{"$f":"'12.2018 Data'!B1186","v":"Y55"},{"$f":"'12.2018 Data'!C1186","v":"CD"},{"$f":"'12.2018 Data'!D1186","v":"AA"},{"$f":"'12.2018 Data'!E1186","v":"OPER"},{"$f":"'12.2018 Data'!F1186","v":505},{"$f":"'12.2018 Data'!G1186","v":354.18},{"$f":"'12.2018 Data'!H1186","v":103.77},{"$f":"'12.2018 Data'!I1186","v":47.05},{"$f":"'12.2018 Data'!J1186","v":0},"930",505,354.18,103.77,47.05,0,{"$f":"IF(ISNUMBER(MATCH($B1206,'Org functional rollups'!$A:$A,0)),INDEX('Org functional rollups'!$D:$D,MATCH($B1206,'Org functional rollups'!$A:$A,0)),0)","v":"Production"}]
[{"$f":"'12.2018 Data'!A1187","v":"930200"},{"$f":"'12.2018 Data'!B1187","v":"Z08"},{"$f":"'12.2018 Data'!C1187","v":"CD"},{"$f":"'12.2018 Data'!D1187","v":"AA"},{"$f":"'12.2018 Data'!E1187","v":"OPER"},{"$f":"'12.2018 Data'!F1187","v":1127.0899999999999},{"$f":"'12.2018 Data'!G1187","v":790.49},{"$f":"'12.2018 Data'!H1187","v":231.6},{"$f":"'12.2018 Data'!I1187","v":105},{"$f":"'12.2018 Data'!J1187","v":0},"930",1127.0899999999999,790.49,231.6,105,0,{"$f":"IF(ISNUMBER(MATCH($B1207,'Org functional rollups'!$A:$A,0)),INDEX('Org functional rollups'!$D:$D,MATCH($B1207,'Org functional rollups'!$A:$A,0)),0)","v":"Distribution"}]
[{"$f":"'12.2018 Data'!A1188","v":"930200"},{"$f":"'12.2018 Data'!B1188","v":"Z87"},{"$f":"'12.2018 Data'!C1188","v":"CD"},{"$f":"'12.2018 Data'!D1188","v":"ID"},{"$f":"'12.2018 Data'!E1188","v":"OPER"},{"$f":"'12.2018 Data'!F1188","v":8491.66},{"$f":"'12.2018 Data'!G1188","v":6599.34},{"$f":"'12.2018 Data'!H1188","v":1892.32},{"$f":"'12.2018 Data'!I1188","v":0},{"$f":"'12.2018 Data'!J1188","v":0},"930",8491.66,6599.34,1892.32,0,0,{"$f":"IF(ISNUMBER(MATCH($B1208,'Org functional rollups'!$A:$A,0)),INDEX('Org functional rollups'!$D:$D,MATCH($B1208,'Org functional rollups'!$A:$A,0)),0)","v":"Common"}]
[{"$f":"'12.2018 Data'!A1189","v":"930200"},{"$f":"'12.2018 Data'!B1189","v":"Z87"},{"$f":"'12.2018 Data'!C1189","v":"CD"},{"$f":"'12.2018 Data'!D1189","v":"WA"},{"$f":"'12.2018 Data'!E1189","v":"OPER"},{"$f":"'12.2018 Data'!F1189","v":6646.92},{"$f":"'12.2018 Data'!G1189","v":5165.67},{"$f":"'12.2018 Data'!H1189","v":1481.25},{"$f":"'12.2018 Data'!I1189","v":0},{"$f":"'12.2018 Data'!J1189","v":0},"930",6646.92,5165.67,1481.25,0,0,{"$f":"IF(ISNUMBER(MATCH($B1209,'Org functional rollups'!$A:$A,0)),INDEX('Org functional rollups'!$D:$D,MATCH($B1209,'Org functional rollups'!$A:$A,0)),0)","v":"Common"}]
[{"$f":"'12.2018 Data'!A1190","v":"930200"},{"$f":"'12.2018 Data'!B1190","v":"Z87"},{"$f":"'12.2018 Data'!C1190","v":"GD"},{"$f":"'12.2018 Data'!D1190","v":"OR"},{"$f":"'12.2018 Data'!E1190","v":"OPER"},{"$f":"'12.2018 Data'!F1190","v":554.69000000000005},{"$f":"'12.2018 Data'!G1190","v":0},{"$f":"'12.2018 Data'!H1190","v":0},{"$f":"'12.2018 Data'!I1190","v":554.69000000000005},{"$f":"'12.2018 Data'!J1190","v":0},"930",554.69000000000005,0,0,554.69000000000005,0,{"$f":"IF(ISNUMBER(MATCH($B1210,'Org functional rollups'!$A:$A,0)),INDEX('Org functional rollups'!$D:$D,MATCH($B1210,'Org functional rollups'!$A:$A,0)),0)","v":"Common"}]
[{"$f":"'12.2018 Data'!A1191","v":"930200"},{"$f":"'12.2018 Data'!B1191","v":"Z87"},{"$f":"'12.2018 Data'!C1191","v":"ED"},{"$f":"'12.2018 Data'!D1191","v":"AN"},{"$f":"'12.2018 Data'!E1191","v":"OPER"},{"$f":"'12.2018 Data'!F1191","v":85803.27},{"$f":"'12.2018 Data'!G1191","v":85803.27},{"$f":"'12.2018 Data'!H1191","v":0},{"$f":"'12.2018 Data'!I1191","v":0},{"$f":"'12.2018 Data'!J1191","v":0},"930",85803.27,85803.27,0,0,0,{"$f":"IF(ISNUMBER(MATCH($B1211,'Org functional rollups'!$A:$A,0)),INDEX('Org functional rollups'!$D:$D,MATCH($B1211,'Org functional rollups'!$A:$A,0)),0)","v":"Common"}]
[{"$f":"'12.2018 Data'!A1192","v":"930200"},{"$f":"'12.2018 Data'!B1192","v":"Z87"},{"$f":"'12.2018 Data'!C1192","v":"CD"},{"$f":"'12.2018 Data'!D1192","v":"AN"},{"$f":"'12.2018 Data'!E1192","v":"OPER"},{"$f":"'12.2018 Data'!F1192","v":24101.58},{"$f":"'12.2018 Data'!G1192","v":18730.54},{"$f":"'12.2018 Data'!H1192","v":5371.04},{"$f":"'12.2018 Data'!I1192","v":0},{"$f":"'12.2018 Data'!J1192","v":0},"930",24101.58,18730.54,5371.04,0,0,{"$f":"IF(ISNUMBER(MATCH($B1212,'Org functional rollups'!$A:$A,0)),INDEX('Org functional rollups'!$D:$D,MATCH($B1212,'Org functional rollups'!$A:$A,0)),0)","v":"Common"}]
[{"$f":"'12.2018 Data'!A1193","v":"930200"},{"$f":"'12.2018 Data'!B1193","v":"Z87"},{"$f":"'12.2018 Data'!C1193","v":"GD"},{"$f":"'12.2018 Data'!D1193","v":"AA"},{"$f":"'12.2018 Data'!E1193","v":"OPER"},{"$f":"'12.2018 Data'!F1193","v":40815.32},{"$f":"'12.2018 Data'!G1193","v":0},{"$f":"'12.2018 Data'!H1193","v":27983.95},{"$f":"'12.2018 Data'!I1193","v":12831.37},{"$f":"'12.2018 Data'!J1193","v":0},"930",40815.32,0,27983.95,12831.37,0,{"$f":"IF(ISNUMBER(MATCH($B1213,'Org functional rollups'!$A:$A,0)),INDEX('Org functional rollups'!$D:$D,MATCH($B1213,'Org functional rollups'!$A:$A,0)),0)","v":"Common"}]
[{"$f":"'12.2018 Data'!A1194","v":"930200"},{"$f":"'12.2018 Data'!B1194","v":"Z87"},{"$f":"'12.2018 Data'!C1194","v":"CD"},{"$f":"'12.2018 Data'!D1194","v":"AA"},{"$f":"'12.2018 Data'!E1194","v":"OPER"},{"$f":"'12.2018 Data'!F1194","v":134601.45000000001},{"$f":"'12.2018 Data'!G1194","v":94402.68},{"$f":"'12.2018 Data'!H1194","v":27659.25},{"$f":"'12.2018 Data'!I1194","v":12539.52},{"$f":"'12.2018 Data'!J1194","v":0},"930",134601.45000000001,94402.68,27659.25,12539.52,0,{"$f":"IF(ISNUMBER(MATCH($B1214,'Org functional rollups'!$A:$A,0)),INDEX('Org functional rollups'!$D:$D,MATCH($B1214,'Org functional rollups'!$A:$A,0)),0)","v":"Common"}]
[{"$f":"'12.2018 Data'!A1195","v":"930200"},{"$f":"'12.2018 Data'!B1195","v":"Z88"},{"$f":"'12.2018 Data'!C1195","v":"GD"},{"$f":"'12.2018 Data'!D1195","v":"AA"},{"$f":"'12.2018 Data'!E1195","v":"OPER"},{"$f":"'12.2018 Data'!F1195","v":96168.1},{"$f":"'12.2018 Data'!G1195","v":0},{"$f":"'12.2018 Data'!H1195","v":65934.89},{"$f":"'12.2018 Data'!I1195","v":30233.21},{"$f":"'12.2018 Data'!J1195","v":0},"930",96168.1,0,65934.89,30233.21,0,{"$f":"IF(ISNUMBER(MATCH($B1215,'Org functional rollups'!$A:$A,0)),INDEX('Org functional rollups'!$D:$D,MATCH($B1215,'Org functional rollups'!$A:$A,0)),0)","v":"Distribution"}]
[{"$f":"'12.2018 Data'!A1196","v":"930200"},{"$f":"'12.2018 Data'!B1196","v":"Z88"},{"$f":"'12.2018 Data'!C1196","v":"CD"},{"$f":"'12.2018 Data'!D1196","v":"AN"},{"$f":"'12.2018 Data'!E1196","v":"OPER"},{"$f":"'12.2018 Data'!F1196","v":4716.7},{"$f":"'12.2018 Data'!G1196","v":3665.6},{"$f":"'12.2018 Data'!H1196","v":1051.0999999999999},{"$f":"'12.2018 Data'!I1196","v":0},{"$f":"'12.2018 Data'!J1196","v":0},"930",4716.7,3665.6,1051.0999999999999,0,0,{"$f":"IF(ISNUMBER(MATCH($B1216,'Org functional rollups'!$A:$A,0)),INDEX('Org functional rollups'!$D:$D,MATCH($B1216,'Org functional rollups'!$A:$A,0)),0)","v":"Distribution"}]
[{"$f":"'12.2018 Data'!A1197","v":"930200"},{"$f":"'12.2018 Data'!B1197","v":"Z88"},{"$f":"'12.2018 Data'!C1197","v":"ED"},{"$f":"'12.2018 Data'!D1197","v":"AN"},{"$f":"'12.2018 Data'!E1197","v":"OPER"},{"$f":"'12.2018 Data'!F1197","v":189669.45},{"$f":"'12.2018 Data'!G1197","v":189669.45},{"$f":"'12.2018 Data'!H1197","v":0},{"$f":"'12.2018 Data'!I1197","v":0},{"$f":"'12.2018 Data'!J1197","v":0},"930",189669.45,189669.45,0,0,0,{"$f":"IF(ISNUMBER(MATCH($B1217,'Org functional rollups'!$A:$A,0)),INDEX('Org functional rollups'!$D:$D,MATCH($B1217,'Org functional rollups'!$A:$A,0)),0)","v":"Distribution"}]
[{"$f":"'12.2018 Data'!A1198","v":"930200"},{"$f":"'12.2018 Data'!B1198","v":"Z88"},{"$f":"'12.2018 Data'!C1198","v":"CD"},{"$f":"'12.2018 Data'!D1198","v":"AA"},{"$f":"'12.2018 Data'!E1198","v":"OPER"},{"$f":"'12.2018 Data'!F1198","v":144586.20000000001},{"$f":"'12.2018 Data'!G1198","v":101405.54},{"$f":"'12.2018 Data'!H1198","v":29711},{"$f":"'12.2018 Data'!I1198","v":13469.66},{"$f":"'12.2018 Data'!J1198","v":0},"930",144586.20000000001,101405.54,29711,13469.66,0,{"$f":"IF(ISNUMBER(MATCH($B1218,'Org functional rollups'!$A:$A,0)),INDEX('Org functional rollups'!$D:$D,MATCH($B1218,'Org functional rollups'!$A:$A,0)),0)","v":"Distribution"}]
[{"$f":"'12.2018 Data'!A1199","v":"930200"},{"$f":"'12.2018 Data'!B1199","v":"Z89"},{"$f":"'12.2018 Data'!C1199","v":"GD"},{"$f":"'12.2018 Data'!D1199","v":"OR"},{"$f":"'12.2018 Data'!E1199","v":"OPER"},{"$f":"'12.2018 Data'!F1199","v":-31.78},{"$f":"'12.2018 Data'!G1199","v":0},{"$f":"'12.2018 Data'!H1199","v":0},{"$f":"'12.2018 Data'!I1199","v":-31.78},{"$f":"'12.2018 Data'!J1199","v":0},"930",-31.78,0,0,-31.78,0,{"$f":"IF(ISNUMBER(MATCH($B1219,'Org functional rollups'!$A:$A,0)),INDEX('Org functional rollups'!$D:$D,MATCH($B1219,'Org functional rollups'!$A:$A,0)),0)","v":"Common"}]
[{"$f":"'12.2018 Data'!A1200","v":"930200"},{"$f":"'12.2018 Data'!B1200","v":"Z89"},{"$f":"'12.2018 Data'!C1200","v":"CD"},{"$f":"'12.2018 Data'!D1200","v":"AA"},{"$f":"'12.2018 Data'!E1200","v":"OPER"},{"$f":"'12.2018 Data'!F1200","v":8011.48},{"$f":"'12.2018 Data'!G1200","v":5618.85},{"$f":"'12.2018 Data'!H1200","v":1646.29},{"$f":"'12.2018 Data'!I1200","v":746.34},{"$f":"'12.2018 Data'!J1200","v":0},"930",8011.48,5618.85,1646.29,746.34,0,{"$f":"IF(ISNUMBER(MATCH($B1220,'Org functional rollups'!$A:$A,0)),INDEX('Org functional rollups'!$D:$D,MATCH($B1220,'Org functional rollups'!$A:$A,0)),0)","v":"Common"}]
[{"$f":"'12.2018 Data'!A1201","v":"930200"},{"$f":"'12.2018 Data'!B1201","v":"Z89"},{"$f":"'12.2018 Data'!C1201","v":"CD"},{"$f":"'12.2018 Data'!D1201","v":"AN"},{"$f":"'12.2018 Data'!E1201","v":"OPER"},{"$f":"'12.2018 Data'!F1201","v":486},{"$f":"'12.2018 Data'!G1201","v":377.7},{"$f":"'12.2018 Data'!H1201","v":108.3},{"$f":"'12.2018 Data'!I1201","v":0},{"$f":"'12.2018 Data'!J1201","v":0},"930",486,377.7,108.3,0,0,{"$f":"IF(ISNUMBER(MATCH($B1221,'Org functional rollups'!$A:$A,0)),INDEX('Org functional rollups'!$D:$D,MATCH($B1221,'Org functional rollups'!$A:$A,0)),0)","v":"Common"}]
[{"$f":"'12.2018 Data'!A1202","v":"930200"},{"$f":"'12.2018 Data'!B1202","v":"Z89"},{"$f":"'12.2018 Data'!C1202","v":"CD"},{"$f":"'12.2018 Data'!D1202","v":"WA"},{"$f":"'12.2018 Data'!E1202","v":"OPER"},{"$f":"'12.2018 Data'!F1202","v":418.98},{"$f":"'12.2018 Data'!G1202","v":325.61},{"$f":"'12.2018 Data'!H1202","v":93.37},{"$f":"'12.2018 Data'!I1202","v":0},{"$f":"'12.2018 Data'!J1202","v":0},"930",418.98,325.61,93.37,0,0,{"$f":"IF(ISNUMBER(MATCH($B1222,'Org functional rollups'!$A:$A,0)),INDEX('Org functional rollups'!$D:$D,MATCH($B1222,'Org functional rollups'!$A:$A,0)),0)","v":"Common"}]
[{"$f":"'12.2018 Data'!A1203","v":"930200"},{"$f":"'12.2018 Data'!B1203","v":"Z89"},{"$f":"'12.2018 Data'!C1203","v":"ED"},{"$f":"'12.2018 Data'!D1203","v":"AN"},{"$f":"'12.2018 Data'!E1203","v":"OPER"},{"$f":"'12.2018 Data'!F1203","v":-1548.18},{"$f":"'12.2018 Data'!G1203","v":-1548.18},{"$f":"'12.2018 Data'!H1203","v":0},{"$f":"'12.2018 Data'!I1203","v":0},{"$f":"'12.2018 Data'!J1203","v":0},"930",-1548.18,-1548.18,0,0,0,{"$f":"IF(ISNUMBER(MATCH($B1223,'Org functional rollups'!$A:$A,0)),INDEX('Org functional rollups'!$D:$D,MATCH($B1223,'Org functional rollups'!$A:$A,0)),0)","v":"Common"}]
[{"$f":"'12.2018 Data'!A1204","v":"930200"},{"$f":"'12.2018 Data'!B1204","v":"Z89"},{"$f":"'12.2018 Data'!C1204","v":"GD"},{"$f":"'12.2018 Data'!D1204","v":"AA"},{"$f":"'12.2018 Data'!E1204","v":"OPER"},{"$f":"'12.2018 Data'!F1204","v":-1447.3},{"$f":"'12.2018 Data'!G1204","v":0},{"$f":"'12.2018 Data'!H1204","v":-992.31},{"$f":"'12.2018 Data'!I1204","v":-454.99},{"$f":"'12.2018 Data'!J1204","v":0},"930",-1447.3,0,-992.31,-454.99,0,{"$f":"IF(ISNUMBER(MATCH($B1224,'Org functional rollups'!$A:$A,0)),INDEX('Org functional rollups'!$D:$D,MATCH($B1224,'Org functional rollups'!$A:$A,0)),0)","v":"Common"}]
[{"$f":"'12.2018 Data'!A1205","v":"930200"},{"$f":"'12.2018 Data'!B1205","v":"Z89"},{"$f":"'12.2018 Data'!C1205","v":"CD"},{"$f":"'12.2018 Data'!D1205","v":"ID"},{"$f":"'12.2018 Data'!E1205","v":"OPER"},{"$f":"'12.2018 Data'!F1205","v":0},{"$f":"'12.2018 Data'!G1205","v":0},{"$f":"'12.2018 Data'!H1205","v":0},{"$f":"'12.2018 Data'!I1205","v":0},{"$f":"'12.2018 Data'!J1205","v":0},"930",0,0,0,0,0,{"$f":"IF(ISNUMBER(MATCH($B1225,'Org functional rollups'!$A:$A,0)),INDEX('Org functional rollups'!$D:$D,MATCH($B1225,'Org functional rollups'!$A:$A,0)),0)","v":"Common"}]
[{"$f":"'12.2018 Data'!A1206","v":"930200"},{"$f":"'12.2018 Data'!B1206","v":"Z90"},{"$f":"'12.2018 Data'!C1206","v":"CD"},{"$f":"'12.2018 Data'!D1206","v":"ID"},{"$f":"'12.2018 Data'!E1206","v":"OPER"},{"$f":"'12.2018 Data'!F1206","v":1433.93},{"$f":"'12.2018 Data'!G1206","v":1114.3599999999999},{"$f":"'12.2018 Data'!H1206","v":319.57},{"$f":"'12.2018 Data'!I1206","v":0},{"$f":"'12.2018 Data'!J1206","v":0},"930",1433.93,1114.3599999999999,319.57,0,0,{"$f":"IF(ISNUMBER(MATCH($B1226,'Org functional rollups'!$A:$A,0)),INDEX('Org functional rollups'!$D:$D,MATCH($B1226,'Org functional rollups'!$A:$A,0)),0)","v":"Common"}]
[{"$f":"'12.2018 Data'!A1207","v":"930200"},{"$f":"'12.2018 Data'!B1207","v":"Z90"},{"$f":"'12.2018 Data'!C1207","v":"GD"},{"$f":"'12.2018 Data'!D1207","v":"AA"},{"$f":"'12.2018 Data'!E1207","v":"OPER"},{"$f":"'12.2018 Data'!F1207","v":3880.37},{"$f":"'12.2018 Data'!G1207","v":0},{"$f":"'12.2018 Data'!H1207","v":2660.35},{"$f":"'12.2018 Data'!I1207","v":1220.02},{"$f":"'12.2018 Data'!J1207","v":0},"930",3880.37,0,2660.35,1220.02,0,{"$f":"IF(ISNUMBER(MATCH($B1227,'Org functional rollups'!$A:$A,0)),INDEX('Org functional rollups'!$D:$D,MATCH($B1227,'Org functional rollups'!$A:$A,0)),0)","v":"Common"}]
[{"$f":"'12.2018 Data'!A1208","v":"930200"},{"$f":"'12.2018 Data'!B1208","v":"Z90"},{"$f":"'12.2018 Data'!C1208","v":"GD"},{"$f":"'12.2018 Data'!D1208","v":"OR"},{"$f":"'12.2018 Data'!E1208","v":"OPER"},{"$f":"'12.2018 Data'!F1208","v":91.84},{"$f":"'12.2018 Data'!G1208","v":0},{"$f":"'12.2018 Data'!H1208","v":0},{"$f":"'12.2018 Data'!I1208","v":91.84},{"$f":"'12.2018 Data'!J1208","v":0},"930",91.84,0,0,91.84,0,{"$f":"IF(ISNUMBER(MATCH($B1228,'Org functional rollups'!$A:$A,0)),INDEX('Org functional rollups'!$D:$D,MATCH($B1228,'Org functional rollups'!$A:$A,0)),0)","v":"Common"}]
[{"$f":"'12.2018 Data'!A1209","v":"930200"},{"$f":"'12.2018 Data'!B1209","v":"Z90"},{"$f":"'12.2018 Data'!C1209","v":"CD"},{"$f":"'12.2018 Data'!D1209","v":"AA"},{"$f":"'12.2018 Data'!E1209","v":"OPER"},{"$f":"'12.2018 Data'!F1209","v":9680.34},{"$f":"'12.2018 Data'!G1209","v":6789.3},{"$f":"'12.2018 Data'!H1209","v":1989.24},{"$f":"'12.2018 Data'!I1209","v":901.8},{"$f":"'12.2018 Data'!J1209","v":0},"930",9680.34,6789.3,1989.24,901.8,0,{"$f":"IF(ISNUMBER(MATCH($B1229,'Org functional rollups'!$A:$A,0)),INDEX('Org functional rollups'!$D:$D,MATCH($B1229,'Org functional rollups'!$A:$A,0)),0)","v":"Common"}]
[{"$f":"'12.2018 Data'!A1210","v":"930200"},{"$f":"'12.2018 Data'!B1210","v":"Z90"},{"$f":"'12.2018 Data'!C1210","v":"CD"},{"$f":"'12.2018 Data'!D1210","v":"AN"},{"$f":"'12.2018 Data'!E1210","v":"OPER"},{"$f":"'12.2018 Data'!F1210","v":1770.4},{"$f":"'12.2018 Data'!G1210","v":1375.93},{"$f":"'12.2018 Data'!H1210","v":394.47},{"$f":"'12.2018 Data'!I1210","v":0},{"$f":"'12.2018 Data'!J1210","v":0},"930",1770.4,1375.93,394.47,0,0,{"$f":"IF(ISNUMBER(MATCH($B1230,'Org functional rollups'!$A:$A,0)),INDEX('Org functional rollups'!$D:$D,MATCH($B1230,'Org functional rollups'!$A:$A,0)),0)","v":"Common"}]
[{"$f":"'12.2018 Data'!A1211","v":"930200"},{"$f":"'12.2018 Data'!B1211","v":"Z90"},{"$f":"'12.2018 Data'!C1211","v":"CD"},{"$f":"'12.2018 Data'!D1211","v":"WA"},{"$f":"'12.2018 Data'!E1211","v":"OPER"},{"$f":"'12.2018 Data'!F1211","v":1183.9000000000001},{"$f":"'12.2018 Data'!G1211","v":920.06},{"$f":"'12.2018 Data'!H1211","v":263.83999999999997},{"$f":"'12.2018 Data'!I1211","v":0},{"$f":"'12.2018 Data'!J1211","v":0},"930",1183.9000000000001,920.06,263.83999999999997,0,0,{"$f":"IF(ISNUMBER(MATCH($B1231,'Org functional rollups'!$A:$A,0)),INDEX('Org functional rollups'!$D:$D,MATCH($B1231,'Org functional rollups'!$A:$A,0)),0)","v":"Common"}]
[{"$f":"'12.2018 Data'!A1212","v":"930200"},{"$f":"'12.2018 Data'!B1212","v":"Z90"},{"$f":"'12.2018 Data'!C1212","v":"ED"},{"$f":"'12.2018 Data'!D1212","v":"AN"},{"$f":"'12.2018 Data'!E1212","v":"OPER"},{"$f":"'12.2018 Data'!F1212","v":6621.93},{"$f":"'12.2018 Data'!G1212","v":6621.93},{"$f":"'12.2018 Data'!H1212","v":0},{"$f":"'12.2018 Data'!I1212","v":0},{"$f":"'12.2018 Data'!J1212","v":0},"930",6621.93,6621.93,0,0,0,{"$f":"IF(ISNUMBER(MATCH($B1232,'Org functional rollups'!$A:$A,0)),INDEX('Org functional rollups'!$D:$D,MATCH($B1232,'Org functional rollups'!$A:$A,0)),0)","v":"Common"}]
[{"$f":"'12.2018 Data'!A1213","v":"931000"},{"$f":"'12.2018 Data'!B1213","v":"000"},{"$f":"'12.2018 Data'!C1213","v":"CD"},{"$f":"'12.2018 Data'!D1213","v":"AA"},{"$f":"'12.2018 Data'!E1213","v":"OPER"},{"$f":"'12.2018 Data'!F1213","v":0},{"$f":"'12.2018 Data'!G1213","v":0},{"$f":"'12.2018 Data'!H1213","v":0},{"$f":"'12.2018 Data'!I1213","v":0},{"$f":"'12.2018 Data'!J1213","v":0},"931",0,0,0,0,0,{"$f":"IF(ISNUMBER(MATCH($B1233,'Org functional rollups'!$A:$A,0)),INDEX('Org functional rollups'!$D:$D,MATCH($B1233,'Org functional rollups'!$A:$A,0)),0)","v":"Common"}]
[{"$f":"'12.2018 Data'!A1214","v":"931000"},{"$f":"'12.2018 Data'!B1214","v":"000"},{"$f":"'12.2018 Data'!C1214","v":"ED"},{"$f":"'12.2018 Data'!D1214","v":"AN"},{"$f":"'12.2018 Data'!E1214","v":"OPER"},{"$f":"'12.2018 Data'!F1214","v":-43432.89},{"$f":"'12.2018 Data'!G1214","v":-43432.89},{"$f":"'12.2018 Data'!H1214","v":0},{"$f":"'12.2018 Data'!I1214","v":0},{"$f":"'12.2018 Data'!J1214","v":0},"931",-43432.89,-43432.89,0,0,0,{"$f":"IF(ISNUMBER(MATCH($B1234,'Org functional rollups'!$A:$A,0)),INDEX('Org functional rollups'!$D:$D,MATCH($B1234,'Org functional rollups'!$A:$A,0)),0)","v":"Common"}]
[{"$f":"'12.2018 Data'!A1215","v":"931000"},{"$f":"'12.2018 Data'!B1215","v":"000"},{"$f":"'12.2018 Data'!C1215","v":"CD"},{"$f":"'12.2018 Data'!D1215","v":"AN"},{"$f":"'12.2018 Data'!E1215","v":"OPER"},{"$f":"'12.2018 Data'!F1215","v":212.15},{"$f":"'12.2018 Data'!G1215","v":164.87},{"$f":"'12.2018 Data'!H1215","v":47.28},{"$f":"'12.2018 Data'!I1215","v":0},{"$f":"'12.2018 Data'!J1215","v":0},"931",212.15,164.87,47.28,0,0,{"$f":"IF(ISNUMBER(MATCH($B1235,'Org functional rollups'!$A:$A,0)),INDEX('Org functional rollups'!$D:$D,MATCH($B1235,'Org functional rollups'!$A:$A,0)),0)","v":"Common"}]
[{"$f":"'12.2018 Data'!A1216","v":"931000"},{"$f":"'12.2018 Data'!B1216","v":"A09"},{"$f":"'12.2018 Data'!C1216","v":"CD"},{"$f":"'12.2018 Data'!D1216","v":"AN"},{"$f":"'12.2018 Data'!E1216","v":"OPER"},{"$f":"'12.2018 Data'!F1216","v":211040.38},{"$f":"'12.2018 Data'!G1216","v":164010.04999999999},{"$f":"'12.2018 Data'!H1216","v":47030.33},{"$f":"'12.2018 Data'!I1216","v":0},{"$f":"'12.2018 Data'!J1216","v":0},"931",211040.38,164010.04999999999,47030.33,0,0,{"$f":"IF(ISNUMBER(MATCH($B1236,'Org functional rollups'!$A:$A,0)),INDEX('Org functional rollups'!$D:$D,MATCH($B1236,'Org functional rollups'!$A:$A,0)),0)","v":"Common"}]
[{"$f":"'12.2018 Data'!A1217","v":"931000"},{"$f":"'12.2018 Data'!B1217","v":"F54"},{"$f":"'12.2018 Data'!C1217","v":"CD"},{"$f":"'12.2018 Data'!D1217","v":"AA"},{"$f":"'12.2018 Data'!E1217","v":"OPER"},{"$f":"'12.2018 Data'!F1217","v":213855.55},{"$f":"'12.2018 Data'!G1217","v":149987.57},{"$f":"'12.2018 Data'!H1217","v":43945.17},{"$f":"'12.2018 Data'!I1217","v":19922.810000000001},{"$f":"'12.2018 Data'!J1217","v":0},"931",213855.55,149987.57,43945.17,19922.810000000001,0,{"$f":"IF(ISNUMBER(MATCH($B1237,'Org functional rollups'!$A:$A,0)),INDEX('Org functional rollups'!$D:$D,MATCH($B1237,'Org functional rollups'!$A:$A,0)),0)","v":"Common"}]
[{"$f":"'12.2018 Data'!A1218","v":"931000"},{"$f":"'12.2018 Data'!B1218","v":"H07"},{"$f":"'12.2018 Data'!C1218","v":"CD"},{"$f":"'12.2018 Data'!D1218","v":"AA"},{"$f":"'12.2018 Data'!E1218","v":"OPER"},{"$f":"'12.2018 Data'!F1218","v":67925},{"$f":"'12.2018 Data'!G1218","v":47639.24},{"$f":"'12.2018 Data'!H1218","v":13957.9},{"$f":"'12.2018 Data'!I1218","v":6327.86},{"$f":"'12.2018 Data'!J1218","v":0},"931",67925,47639.24,13957.9,6327.86,0,{"$f":"IF(ISNUMBER(MATCH($B1238,'Org functional rollups'!$A:$A,0)),INDEX('Org functional rollups'!$D:$D,MATCH($B1238,'Org functional rollups'!$A:$A,0)),0)","v":"Common"}]
[{"$f":"'12.2018 Data'!A1219","v":"931000"},{"$f":"'12.2018 Data'!B1219","v":"H07"},{"$f":"'12.2018 Data'!C1219","v":"CD"},{"$f":"'12.2018 Data'!D1219","v":"AN"},{"$f":"'12.2018 Data'!E1219","v":"OPER"},{"$f":"'12.2018 Data'!F1219","v":14420},{"$f":"'12.2018 Data'!G1219","v":11206.51},{"$f":"'12.2018 Data'!H1219","v":3213.49},{"$f":"'12.2018 Data'!I1219","v":0},{"$f":"'12.2018 Data'!J1219","v":0},"931",14420,11206.51,3213.49,0,0,{"$f":"IF(ISNUMBER(MATCH($B1239,'Org functional rollups'!$A:$A,0)),INDEX('Org functional rollups'!$D:$D,MATCH($B1239,'Org functional rollups'!$A:$A,0)),0)","v":"Common"}]
[{"$f":"'12.2018 Data'!A1220","v":"931000"},{"$f":"'12.2018 Data'!B1220","v":"H07"},{"$f":"'12.2018 Data'!C1220","v":"GD"},{"$f":"'12.2018 Data'!D1220","v":"WA"},{"$f":"'12.2018 Data'!E1220","v":"OPER"},{"$f":"'12.2018 Data'!F1220","v":6820},{"$f":"'12.2018 Data'!G1220","v":0},{"$f":"'12.2018 Data'!H1220","v":6820},{"$f":"'12.2018 Data'!I1220","v":0},{"$f":"'12.2018 Data'!J1220","v":0},"931",6820,0,6820,0,0,{"$f":"IF(ISNUMBER(MATCH($B1240,'Org functional rollups'!$A:$A,0)),INDEX('Org functional rollups'!$D:$D,MATCH($B1240,'Org functional rollups'!$A:$A,0)),0)","v":"Common"}]
[{"$f":"'12.2018 Data'!A1221","v":"931000"},{"$f":"'12.2018 Data'!B1221","v":"H07"},{"$f":"'12.2018 Data'!C1221","v":"ED"},{"$f":"'12.2018 Data'!D1221","v":"ID"},{"$f":"'12.2018 Data'!E1221","v":"OPER"},{"$f":"'12.2018 Data'!F1221","v":3500},{"$f":"'12.2018 Data'!G1221","v":3500},{"$f":"'12.2018 Data'!H1221","v":0},{"$f":"'12.2018 Data'!I1221","v":0},{"$f":"'12.2018 Data'!J1221","v":0},"931",3500,3500,0,0,0,{"$f":"IF(ISNUMBER(MATCH($B1241,'Org functional rollups'!$A:$A,0)),INDEX('Org functional rollups'!$D:$D,MATCH($B1241,'Org functional rollups'!$A:$A,0)),0)","v":"Common"}]
[{"$f":"'12.2018 Data'!A1222","v":"931000"},{"$f":"'12.2018 Data'!B1222","v":"J29"},{"$f":"'12.2018 Data'!C1222","v":"CD"},{"$f":"'12.2018 Data'!D1222","v":"AN"},{"$f":"'12.2018 Data'!E1222","v":"OPER"},{"$f":"'12.2018 Data'!F1222","v":104300.37},{"$f":"'12.2018 Data'!G1222","v":81056.990000000005},{"$f":"'12.2018 Data'!H1222","v":23243.38},{"$f":"'12.2018 Data'!I1222","v":0},{"$f":"'12.2018 Data'!J1222","v":0},"931",104300.37,81056.990000000005,23243.38,0,0,{"$f":"IF(ISNUMBER(MATCH($B1242,'Org functional rollups'!$A:$A,0)),INDEX('Org functional rollups'!$D:$D,MATCH($B1242,'Org functional rollups'!$A:$A,0)),0)","v":"Common"}]
[{"$f":"'12.2018 Data'!A1223","v":"931000"},{"$f":"'12.2018 Data'!B1223","v":"V08"},{"$f":"'12.2018 Data'!C1223","v":"CD"},{"$f":"'12.2018 Data'!D1223","v":"AA"},{"$f":"'12.2018 Data'!E1223","v":"OPER"},{"$f":"'12.2018 Data'!F1223","v":4907.54},{"$f":"'12.2018 Data'!G1223","v":3441.92},{"$f":"'12.2018 Data'!H1223","v":1008.45},{"$f":"'12.2018 Data'!I1223","v":457.17},{"$f":"'12.2018 Data'!J1223","v":0},"931",4907.54,3441.92,1008.45,457.17,0,{"$f":"IF(ISNUMBER(MATCH($B1243,'Org functional rollups'!$A:$A,0)),INDEX('Org functional rollups'!$D:$D,MATCH($B1243,'Org functional rollups'!$A:$A,0)),0)","v":"Common"}]
[{"$f":"'12.2018 Data'!A1224","v":"935000"},{"$f":"'12.2018 Data'!B1224","v":"000"},{"$f":"'12.2018 Data'!C1224","v":"ED"},{"$f":"'12.2018 Data'!D1224","v":"ID"},{"$f":"'12.2018 Data'!E1224","v":"OPER"},{"$f":"'12.2018 Data'!F1224","v":350.72},{"$f":"'12.2018 Data'!G1224","v":350.72},{"$f":"'12.2018 Data'!H1224","v":0},{"$f":"'12.2018 Data'!I1224","v":0},{"$f":"'12.2018 Data'!J1224","v":0},"935",350.72,350.72,0,0,0,{"$f":"IF(ISNUMBER(MATCH($B1244,'Org functional rollups'!$A:$A,0)),INDEX('Org functional rollups'!$D:$D,MATCH($B1244,'Org functional rollups'!$A:$A,0)),0)","v":"Common"}]
[{"$f":"'12.2018 Data'!A1225","v":"935000"},{"$f":"'12.2018 Data'!B1225","v":"000"},{"$f":"'12.2018 Data'!C1225","v":"GD"},{"$f":"'12.2018 Data'!D1225","v":"WA"},{"$f":"'12.2018 Data'!E1225","v":"OPER"},{"$f":"'12.2018 Data'!F1225","v":1516.25},{"$f":"'12.2018 Data'!G1225","v":0},{"$f":"'12.2018 Data'!H1225","v":1516.25},{"$f":"'12.2018 Data'!I1225","v":0},{"$f":"'12.2018 Data'!J1225","v":0},"935",1516.25,0,1516.25,0,0,{"$f":"IF(ISNUMBER(MATCH($B1245,'Org functional rollups'!$A:$A,0)),INDEX('Org functional rollups'!$D:$D,MATCH($B1245,'Org functional rollups'!$A:$A,0)),0)","v":"Common"}]
[{"$f":"'12.2018 Data'!A1226","v":"935000"},{"$f":"'12.2018 Data'!B1226","v":"000"},{"$f":"'12.2018 Data'!C1226","v":"CD"},{"$f":"'12.2018 Data'!D1226","v":"ID"},{"$f":"'12.2018 Data'!E1226","v":"OPER"},{"$f":"'12.2018 Data'!F1226","v":1945},{"$f":"'12.2018 Data'!G1226","v":1511.56},{"$f":"'12.2018 Data'!H1226","v":433.44},{"$f":"'12.2018 Data'!I1226","v":0},{"$f":"'12.2018 Data'!J1226","v":0},"935",1945,1511.56,433.44,0,0,{"$f":"IF(ISNUMBER(MATCH($B1246,'Org functional rollups'!$A:$A,0)),INDEX('Org functional rollups'!$D:$D,MATCH($B1246,'Org functional rollups'!$A:$A,0)),0)","v":"Common"}]
[{"$f":"'12.2018 Data'!A1227","v":"935000"},{"$f":"'12.2018 Data'!B1227","v":"000"},{"$f":"'12.2018 Data'!C1227","v":"CD"},{"$f":"'12.2018 Data'!D1227","v":"AN"},{"$f":"'12.2018 Data'!E1227","v":"OPER"},{"$f":"'12.2018 Data'!F1227","v":995.95},{"$f":"'12.2018 Data'!G1227","v":774},{"$f":"'12.2018 Data'!H1227","v":221.95},{"$f":"'12.2018 Data'!I1227","v":0},{"$f":"'12.2018 Data'!J1227","v":0},"935",995.95,774,221.95,0,0,{"$f":"IF(ISNUMBER(MATCH($B1247,'Org functional rollups'!$A:$A,0)),INDEX('Org functional rollups'!$D:$D,MATCH($B1247,'Org functional rollups'!$A:$A,0)),0)","v":"Common"}]
[{"$f":"'12.2018 Data'!A1228","v":"935000"},{"$f":"'12.2018 Data'!B1228","v":"000"},{"$f":"'12.2018 Data'!C1228","v":"CD"},{"$f":"'12.2018 Data'!D1228","v":"WA"},{"$f":"'12.2018 Data'!E1228","v":"OPER"},{"$f":"'12.2018 Data'!F1228","v":2026.86},{"$f":"'12.2018 Data'!G1228","v":1575.17},{"$f":"'12.2018 Data'!H1228","v":451.69},{"$f":"'12.2018 Data'!I1228","v":0},{"$f":"'12.2018 Data'!J1228","v":0},"935",2026.86,1575.17,451.69,0,0,{"$f":"IF(ISNUMBER(MATCH($B1248,'Org functional rollups'!$A:$A,0)),INDEX('Org functional rollups'!$D:$D,MATCH($B1248,'Org functional rollups'!$A:$A,0)),0)","v":"Common"}]
[{"$f":"'12.2018 Data'!A1229","v":"935000"},{"$f":"'12.2018 Data'!B1229","v":"000"},{"$f":"'12.2018 Data'!C1229","v":"ED"},{"$f":"'12.2018 Data'!D1229","v":"WA"},{"$f":"'12.2018 Data'!E1229","v":"OPER"},{"$f":"'12.2018 Data'!F1229","v":104.65},{"$f":"'12.2018 Data'!G1229","v":104.65},{"$f":"'12.2018 Data'!H1229","v":0},{"$f":"'12.2018 Data'!I1229","v":0},{"$f":"'12.2018 Data'!J1229","v":0},"935",104.65,104.65,0,0,0,{"$f":"IF(ISNUMBER(MATCH($B1249,'Org functional rollups'!$A:$A,0)),INDEX('Org functional rollups'!$D:$D,MATCH($B1249,'Org functional rollups'!$A:$A,0)),0)","v":"Common"}]
[{"$f":"'12.2018 Data'!A1230","v":"935000"},{"$f":"'12.2018 Data'!B1230","v":"000"},{"$f":"'12.2018 Data'!C1230","v":"CD"},{"$f":"'12.2018 Data'!D1230","v":"AA"},{"$f":"'12.2018 Data'!E1230","v":"OPER"},{"$f":"'12.2018 Data'!F1230","v":65685.679999999993},{"$f":"'12.2018 Data'!G1230","v":46068.65},{"$f":"'12.2018 Data'!H1230","v":13497.75},{"$f":"'12.2018 Data'!I1230","v":6119.28},{"$f":"'12.2018 Data'!J1230","v":0},"935",65685.679999999993,46068.65,13497.75,6119.28,0,{"$f":"IF(ISNUMBER(MATCH($B1250,'Org functional rollups'!$A:$A,0)),INDEX('Org functional rollups'!$D:$D,MATCH($B1250,'Org functional rollups'!$A:$A,0)),0)","v":"Common"}]
[{"$f":"'12.2018 Data'!A1231","v":"935000"},{"$f":"'12.2018 Data'!B1231","v":"000"},{"$f":"'12.2018 Data'!C1231","v":"GD"},{"$f":"'12.2018 Data'!D1231","v":"AS"},{"$f":"'12.2018 Data'!E1231","v":"OPER"},{"$f":"'12.2018 Data'!F1231","v":44.98},{"$f":"'12.2018 Data'!G1231","v":0},{"$f":"'12.2018 Data'!H1231","v":0},{"$f":"'12.2018 Data'!I1231","v":44.98},{"$f":"'12.2018 Data'!J1231","v":0},"935",44.98,0,0,44.98,0,{"$f":"IF(ISNUMBER(MATCH($B1251,'Org functional rollups'!$A:$A,0)),INDEX('Org functional rollups'!$D:$D,MATCH($B1251,'Org functional rollups'!$A:$A,0)),0)","v":"Common"}]
[{"$f":"'12.2018 Data'!A1232","v":"935000"},{"$f":"'12.2018 Data'!B1232","v":"000"},{"$f":"'12.2018 Data'!C1232","v":"GD"},{"$f":"'12.2018 Data'!D1232","v":"OR"},{"$f":"'12.2018 Data'!E1232","v":"OPER"},{"$f":"'12.2018 Data'!F1232","v":367.26},{"$f":"'12.2018 Data'!G1232","v":0},{"$f":"'12.2018 Data'!H1232","v":0},{"$f":"'12.2018 Data'!I1232","v":367.26},{"$f":"'12.2018 Data'!J1232","v":0},{"$f":"LEFT(A1252,3)","v":"935"},{"$f":"IF(ISNUMBER(F1252),F1252,0)","v":367.26},{"$f":"IF(ISNUMBER(G1252),G1252,0)","v":0},{"$f":"IF(ISNUMBER(H1252),H1252,0)","v":0},{"$f":"IF(ISNUMBER(I1252),I1252,0)","v":367.26},{"$f":"IF(ISNUMBER(J1252),J1252,0)","v":0},{"$f":"IF(ISNUMBER(MATCH($B1252,'Org functional rollups'!$A:$A,0)),INDEX('Org functional rollups'!$D:$D,MATCH($B1252,'Org functional rollups'!$A:$A,0)),0)","v":"Common"}]
[{"$f":"'12.2018 Data'!A1233","v":"935000"},{"$f":"'12.2018 Data'!B1233","v":"000"},{"$f":"'12.2018 Data'!C1233","v":"ED"},{"$f":"'12.2018 Data'!D1233","v":"AN"},{"$f":"'12.2018 Data'!E1233","v":"OPER"},{"$f":"'12.2018 Data'!F1233","v":83.05},{"$f":"'12.2018 Data'!G1233","v":83.05},{"$f":"'12.2018 Data'!H1233","v":0},{"$f":"'12.2018 Data'!I1233","v":0},{"$f":"'12.2018 Data'!J1233","v":0},"935",83.05,83.05,0,0,0,{"$f":"IF(ISNUMBER(MATCH($B1253,'Org functional rollups'!$A:$A,0)),INDEX('Org functional rollups'!$D:$D,MATCH($B1253,'Org functional rollups'!$A:$A,0)),0)","v":"Common"}]
[{"$f":"'12.2018 Data'!A1234","v":"935000"},{"$f":"'12.2018 Data'!B1234","v":"099"},{"$f":"'12.2018 Data'!C1234","v":"CD"},{"$f":"'12.2018 Data'!D1234","v":"AA"},{"$f":"'12.2018 Data'!E1234","v":"OPER"},{"$f":"'12.2018 Data'!F1234","v":-19},{"$f":"'12.2018 Data'!G1234","v":-13.33},{"$f":"'12.2018 Data'!H1234","v":-3.9},{"$f":"'12.2018 Data'!I1234","v":-1.77},{"$f":"'12.2018 Data'!J1234","v":0},"935",-19,-13.33,-3.9,-1.77,0,{"$f":"IF(ISNUMBER(MATCH($B1254,'Org functional rollups'!$A:$A,0)),INDEX('Org functional rollups'!$D:$D,MATCH($B1254,'Org functional rollups'!$A:$A,0)),0)","v":"Common"}]
[{"$f":"'12.2018 Data'!A1235","v":"935000"},{"$f":"'12.2018 Data'!B1235","v":"A09"},{"$f":"'12.2018 Data'!C1235","v":"CD"},{"$f":"'12.2018 Data'!D1235","v":"AA"},{"$f":"'12.2018 Data'!E1235","v":"OPER"},{"$f":"'12.2018 Data'!F1235","v":8135215.21},{"$f":"'12.2018 Data'!G1235","v":5705633.2400000002},{"$f":"'12.2018 Data'!H1235","v":1671705.44},{"$f":"'12.2018 Data'!I1235","v":757876.53},{"$f":"'12.2018 Data'!J1235","v":0},{"$f":"LEFT(A1255,3)","v":"935"},{"$f":"IF(ISNUMBER(F1255),F1255,0)","v":8135215.21},{"$f":"IF(ISNUMBER(G1255),G1255,0)","v":5705633.2400000002},{"$f":"IF(ISNUMBER(H1255),H1255,0)","v":1671705.44},{"$f":"IF(ISNUMBER(I1255),I1255,0)","v":757876.53},{"$f":"IF(ISNUMBER(J1255),J1255,0)","v":0},{"$f":"IF(ISNUMBER(MATCH($B1255,'Org functional rollups'!$A:$A,0)),INDEX('Org functional rollups'!$D:$D,MATCH($B1255,'Org functional rollups'!$A:$A,0)),0)","v":"Common"}]
[{"$f":"'12.2018 Data'!A1236","v":"935000"},{"$f":"'12.2018 Data'!B1236","v":"A09"},{"$f":"'12.2018 Data'!C1236","v":"CD"},{"$f":"'12.2018 Data'!D1236","v":"AN"},{"$f":"'12.2018 Data'!E1236","v":"OPER"},{"$f":"'12.2018 Data'!F1236","v":81263},{"$f":"'12.2018 Data'!G1236","v":63153.54},{"$f":"'12.2018 Data'!H1236","v":18109.46},{"$f":"'12.2018 Data'!I1236","v":0},{"$f":"'12.2018 Data'!J1236","v":0},"935",81263,63153.54,18109.46,0,0,{"$f":"IF(ISNUMBER(MATCH($B1256,'Org functional rollups'!$A:$A,0)),INDEX('Org functional rollups'!$D:$D,MATCH($B1256,'Org functional rollups'!$A:$A,0)),0)","v":"Common"}]
[{"$f":"'12.2018 Data'!A1237","v":"935000"},{"$f":"'12.2018 Data'!B1237","v":"A09"},{"$f":"'12.2018 Data'!C1237","v":"ED"},{"$f":"'12.2018 Data'!D1237","v":"WA"},{"$f":"'12.2018 Data'!E1237","v":"OPER"},{"$f":"'12.2018 Data'!F1237","v":175879.3},{"$f":"'12.2018 Data'!G1237","v":175879.3},{"$f":"'12.2018 Data'!H1237","v":0},{"$f":"'12.2018 Data'!I1237","v":0},{"$f":"'12.2018 Data'!J1237","v":0},"935",175879.3,175879.3,0,0,0,{"$f":"IF(ISNUMBER(MATCH($B1257,'Org functional rollups'!$A:$A,0)),INDEX('Org functional rollups'!$D:$D,MATCH($B1257,'Org functional rollups'!$A:$A,0)),0)","v":"Common"}]
[{"$f":"'12.2018 Data'!A1238","v":"935000"},{"$f":"'12.2018 Data'!B1238","v":"A19"},{"$f":"'12.2018 Data'!C1238","v":"CD"},{"$f":"'12.2018 Data'!D1238","v":"AA"},{"$f":"'12.2018 Data'!E1238","v":"OPER"},{"$f":"'12.2018 Data'!F1238","v":9.68},{"$f":"'12.2018 Data'!G1238","v":6.79},{"$f":"'12.2018 Data'!H1238","v":1.99},{"$f":"'12.2018 Data'!I1238","v":0.9},{"$f":"'12.2018 Data'!J1238","v":0},"935",9.68,6.79,1.99,0.9,0,{"$f":"IF(ISNUMBER(MATCH($B1258,'Org functional rollups'!$A:$A,0)),INDEX('Org functional rollups'!$D:$D,MATCH($B1258,'Org functional rollups'!$A:$A,0)),0)","v":"Common"}]
[{"$f":"'12.2018 Data'!A1239","v":"935000"},{"$f":"'12.2018 Data'!B1239","v":"A39"},{"$f":"'12.2018 Data'!C1239","v":"CD"},{"$f":"'12.2018 Data'!D1239","v":"AA"},{"$f":"'12.2018 Data'!E1239","v":"OPER"},{"$f":"'12.2018 Data'!F1239","v":872.46},{"$f":"'12.2018 Data'!G1239","v":611.91},{"$f":"'12.2018 Data'!H1239","v":179.29},{"$f":"'12.2018 Data'!I1239","v":81.260000000000005},{"$f":"'12.2018 Data'!J1239","v":0},"935",872.46,611.91,179.29,81.260000000000005,0,{"$f":"IF(ISNUMBER(MATCH($B1259,'Org functional rollups'!$A:$A,0)),INDEX('Org functional rollups'!$D:$D,MATCH($B1259,'Org functional rollups'!$A:$A,0)),0)","v":"Common"}]
[{"$f":"'12.2018 Data'!A1240","v":"935000"},{"$f":"'12.2018 Data'!B1240","v":"A50"},{"$f":"'12.2018 Data'!C1240","v":"CD"},{"$f":"'12.2018 Data'!D1240","v":"ID"},{"$f":"'12.2018 Data'!E1240","v":"OPER"},{"$f":"'12.2018 Data'!F1240","v":2226.5700000000002},{"$f":"'12.2018 Data'!G1240","v":1730.38},{"$f":"'12.2018 Data'!H1240","v":496.19},{"$f":"'12.2018 Data'!I1240","v":0},{"$f":"'12.2018 Data'!J1240","v":0},"935",2226.5700000000002,1730.38,496.19,0,0,{"$f":"IF(ISNUMBER(MATCH($B1260,'Org functional rollups'!$A:$A,0)),INDEX('Org functional rollups'!$D:$D,MATCH($B1260,'Org functional rollups'!$A:$A,0)),0)","v":"Common"}]
[{"$f":"'12.2018 Data'!A1241","v":"935000"},{"$f":"'12.2018 Data'!B1241","v":"A50"},{"$f":"'12.2018 Data'!C1241","v":"CD"},{"$f":"'12.2018 Data'!D1241","v":"AN"},{"$f":"'12.2018 Data'!E1241","v":"OPER"},{"$f":"'12.2018 Data'!F1241","v":899.24},{"$f":"'12.2018 Data'!G1241","v":698.85},{"$f":"'12.2018 Data'!H1241","v":200.39},{"$f":"'12.2018 Data'!I1241","v":0},{"$f":"'12.2018 Data'!J1241","v":0},"935",899.24,698.85,200.39,0,0,{"$f":"IF(ISNUMBER(MATCH($B1261,'Org functional rollups'!$A:$A,0)),INDEX('Org functional rollups'!$D:$D,MATCH($B1261,'Org functional rollups'!$A:$A,0)),0)","v":"Common"}]
[{"$f":"'12.2018 Data'!A1242","v":"935000"},{"$f":"'12.2018 Data'!B1242","v":"A50"},{"$f":"'12.2018 Data'!C1242","v":"CD"},{"$f":"'12.2018 Data'!D1242","v":"AA"},{"$f":"'12.2018 Data'!E1242","v":"OPER"},{"$f":"'12.2018 Data'!F1242","v":68.75},{"$f":"'12.2018 Data'!G1242","v":48.22},{"$f":"'12.2018 Data'!H1242","v":14.13},{"$f":"'12.2018 Data'!I1242","v":6.4},{"$f":"'12.2018 Data'!J1242","v":0},"935",68.75,48.22,14.13,6.4,0,{"$f":"IF(ISNUMBER(MATCH($B1262,'Org functional rollups'!$A:$A,0)),INDEX('Org functional rollups'!$D:$D,MATCH($B1262,'Org functional rollups'!$A:$A,0)),0)","v":"Common"}]
[{"$f":"'12.2018 Data'!A1243","v":"935000"},{"$f":"'12.2018 Data'!B1243","v":"A81"},{"$f":"'12.2018 Data'!C1243","v":"CD"},{"$f":"'12.2018 Data'!D1243","v":"AA"},{"$f":"'12.2018 Data'!E1243","v":"OPER"},{"$f":"'12.2018 Data'!F1243","v":116.85},{"$f":"'12.2018 Data'!G1243","v":81.95},{"$f":"'12.2018 Data'!H1243","v":24.01},{"$f":"'12.2018 Data'!I1243","v":10.89},{"$f":"'12.2018 Data'!J1243","v":0},"935",116.85,81.95,24.01,10.89,0,{"$f":"IF(ISNUMBER(MATCH($B1263,'Org functional rollups'!$A:$A,0)),INDEX('Org functional rollups'!$D:$D,MATCH($B1263,'Org functional rollups'!$A:$A,0)),0)","v":"Distribution"}]
[{"$f":"'12.2018 Data'!A1244","v":"935000"},{"$f":"'12.2018 Data'!B1244","v":"A83"},{"$f":"'12.2018 Data'!C1244","v":"CD"},{"$f":"'12.2018 Data'!D1244","v":"AA"},{"$f":"'12.2018 Data'!E1244","v":"OPER"},{"$f":"'12.2018 Data'!F1244","v":116.85},{"$f":"'12.2018 Data'!G1244","v":81.95},{"$f":"'12.2018 Data'!H1244","v":24.01},{"$f":"'12.2018 Data'!I1244","v":10.89},{"$f":"'12.2018 Data'!J1244","v":0},{"$f":"LEFT(A1264,3)","v":"935"},{"$f":"IF(ISNUMBER(F1264),F1264,0)","v":116.85},{"$f":"IF(ISNUMBER(G1264),G1264,0)","v":81.95},{"$f":"IF(ISNUMBER(H1264),H1264,0)","v":24.01},{"$f":"IF(ISNUMBER(I1264),I1264,0)","v":10.89},{"$f":"IF(ISNUMBER(J1264),J1264,0)","v":0},{"$f":"IF(ISNUMBER(MATCH($B1264,'Org functional rollups'!$A:$A,0)),INDEX('Org functional rollups'!$D:$D,MATCH($B1264,'Org functional rollups'!$A:$A,0)),0)","v":"Distribution"}]
[{"$f":"'12.2018 Data'!A1245","v":"935000"},{"$f":"'12.2018 Data'!B1245","v":"A83"},{"$f":"'12.2018 Data'!C1245","v":"GD"},{"$f":"'12.2018 Data'!D1245","v":"OR"},{"$f":"'12.2018 Data'!E1245","v":"OPER"},{"$f":"'12.2018 Data'!F1245","v":101.26},{"$f":"'12.2018 Data'!G1245","v":0},{"$f":"'12.2018 Data'!H1245","v":0},{"$f":"'12.2018 Data'!I1245","v":101.26},{"$f":"'12.2018 Data'!J1245","v":0},"935",101.26,0,0,101.26,0,{"$f":"IF(ISNUMBER(MATCH($B1265,'Org functional rollups'!$A:$A,0)),INDEX('Org functional rollups'!$D:$D,MATCH($B1265,'Org functional rollups'!$A:$A,0)),0)","v":"Distribution"}]
[{"$f":"'12.2018 Data'!A1246","v":"935000"},{"$f":"'12.2018 Data'!B1246","v":"B02"},{"$f":"'12.2018 Data'!C1246","v":"CD"},{"$f":"'12.2018 Data'!D1246","v":"AA"},{"$f":"'12.2018 Data'!E1246","v":"OPER"},{"$f":"'12.2018 Data'!F1246","v":-8.51},{"$f":"'12.2018 Data'!G1246","v":-5.97},{"$f":"'12.2018 Data'!H1246","v":-1.75},{"$f":"'12.2018 Data'!I1246","v":-0.79},{"$f":"'12.2018 Data'!J1246","v":0},"935",-8.51,-5.97,-1.75,-0.79,0,{"$f":"IF(ISNUMBER(MATCH($B1266,'Org functional rollups'!$A:$A,0)),INDEX('Org functional rollups'!$D:$D,MATCH($B1266,'Org functional rollups'!$A:$A,0)),0)","v":"Common"}]
[{"$f":"'12.2018 Data'!A1247","v":"935000"},{"$f":"'12.2018 Data'!B1247","v":"B07"},{"$f":"'12.2018 Data'!C1247","v":"CD"},{"$f":"'12.2018 Data'!D1247","v":"AA"},{"$f":"'12.2018 Data'!E1247","v":"OPER"},{"$f":"'12.2018 Data'!F1247","v":56.33},{"$f":"'12.2018 Data'!G1247","v":39.51},{"$f":"'12.2018 Data'!H1247","v":11.57},{"$f":"'12.2018 Data'!I1247","v":5.25},{"$f":"'12.2018 Data'!J1247","v":0},"935",56.33,39.51,11.57,5.25,0,{"$f":"IF(ISNUMBER(MATCH($B1267,'Org functional rollups'!$A:$A,0)),INDEX('Org functional rollups'!$D:$D,MATCH($B1267,'Org functional rollups'!$A:$A,0)),0)","v":"Production"}]
[{"$f":"'12.2018 Data'!A1248","v":"935000"},{"$f":"'12.2018 Data'!B1248","v":"B09"},{"$f":"'12.2018 Data'!C1248","v":"CD"},{"$f":"'12.2018 Data'!D1248","v":"AA"},{"$f":"'12.2018 Data'!E1248","v":"OPER"},{"$f":"'12.2018 Data'!F1248","v":139924.6},{"$f":"'12.2018 Data'!G1248","v":98136.12},{"$f":"'12.2018 Data'!H1248","v":28753.05},{"$f":"'12.2018 Data'!I1248","v":13035.43},{"$f":"'12.2018 Data'!J1248","v":0},"935",139924.6,98136.12,28753.05,13035.43,0,{"$f":"IF(ISNUMBER(MATCH($B1268,'Org functional rollups'!$A:$A,0)),INDEX('Org functional rollups'!$D:$D,MATCH($B1268,'Org functional rollups'!$A:$A,0)),0)","v":"Common"}]
[{"$f":"'12.2018 Data'!A1249","v":"935000"},{"$f":"'12.2018 Data'!B1249","v":"B09"},{"$f":"'12.2018 Data'!C1249","v":"CD"},{"$f":"'12.2018 Data'!D1249","v":"AN"},{"$f":"'12.2018 Data'!E1249","v":"OPER"},{"$f":"'12.2018 Data'!F1249","v":527725.84},{"$f":"'12.2018 Data'!G1249","v":410122.17},{"$f":"'12.2018 Data'!H1249","v":117603.67},{"$f":"'12.2018 Data'!I1249","v":0},{"$f":"'12.2018 Data'!J1249","v":0},"935",527725.84,410122.17,117603.67,0,0,{"$f":"IF(ISNUMBER(MATCH($B1269,'Org functional rollups'!$A:$A,0)),INDEX('Org functional rollups'!$D:$D,MATCH($B1269,'Org functional rollups'!$A:$A,0)),0)","v":"Common"}]
[{"$f":"'12.2018 Data'!A1250","v":"935000"},{"$f":"'12.2018 Data'!B1250","v":"B50"},{"$f":"'12.2018 Data'!C1250","v":"CD"},{"$f":"'12.2018 Data'!D1250","v":"AN"},{"$f":"'12.2018 Data'!E1250","v":"OPER"},{"$f":"'12.2018 Data'!F1250","v":2400.7800000000002},{"$f":"'12.2018 Data'!G1250","v":1865.77},{"$f":"'12.2018 Data'!H1250","v":535.01},{"$f":"'12.2018 Data'!I1250","v":0},{"$f":"'12.2018 Data'!J1250","v":0},"935",2400.7800000000002,1865.77,535.01,0,0,{"$f":"IF(ISNUMBER(MATCH($B1270,'Org functional rollups'!$A:$A,0)),INDEX('Org functional rollups'!$D:$D,MATCH($B1270,'Org functional rollups'!$A:$A,0)),0)","v":"Distribution"}]
[{"$f":"'12.2018 Data'!A1251","v":"935000"},{"$f":"'12.2018 Data'!B1251","v":"B50"},{"$f":"'12.2018 Data'!C1251","v":"CD"},{"$f":"'12.2018 Data'!D1251","v":"AA"},{"$f":"'12.2018 Data'!E1251","v":"OPER"},{"$f":"'12.2018 Data'!F1251","v":2830},{"$f":"'12.2018 Data'!G1251","v":1984.8},{"$f":"'12.2018 Data'!H1251","v":581.57000000000005},{"$f":"'12.2018 Data'!I1251","v":263.63},{"$f":"'12.2018 Data'!J1251","v":0},"935",2830,1984.8,581.57000000000005,263.63,0,{"$f":"IF(ISNUMBER(MATCH($B1271,'Org functional rollups'!$A:$A,0)),INDEX('Org functional rollups'!$D:$D,MATCH($B1271,'Org functional rollups'!$A:$A,0)),0)","v":"Distribution"}]
[{"$f":"'12.2018 Data'!A1252","v":"935000"},{"$f":"'12.2018 Data'!B1252","v":"B53"},{"$f":"'12.2018 Data'!C1252","v":"CD"},{"$f":"'12.2018 Data'!D1252","v":"AA"},{"$f":"'12.2018 Data'!E1252","v":"OPER"},{"$f":"'12.2018 Data'!F1252","v":1067.1300000000001},{"$f":"'12.2018 Data'!G1252","v":748.43},{"$f":"'12.2018 Data'!H1252","v":219.29},{"$f":"'12.2018 Data'!I1252","v":99.41},{"$f":"'12.2018 Data'!J1252","v":0},"935",1067.1300000000001,748.43,219.29,99.41,0,{"$f":"IF(ISNUMBER(MATCH($B1272,'Org functional rollups'!$A:$A,0)),INDEX('Org functional rollups'!$D:$D,MATCH($B1272,'Org functional rollups'!$A:$A,0)),0)","v":"Distribution"}]
[{"$f":"'12.2018 Data'!A1253","v":"935000"},{"$f":"'12.2018 Data'!B1253","v":"B53"},{"$f":"'12.2018 Data'!C1253","v":"CD"},{"$f":"'12.2018 Data'!D1253","v":"AN"},{"$f":"'12.2018 Data'!E1253","v":"OPER"},{"$f":"'12.2018 Data'!F1253","v":18577.310000000001},{"$f":"'12.2018 Data'!G1253","v":14437.38},{"$f":"'12.2018 Data'!H1253","v":4139.93},{"$f":"'12.2018 Data'!I1253","v":0},{"$f":"'12.2018 Data'!J1253","v":0},"935",18577.310000000001,14437.38,4139.93,0,0,{"$f":"IF(ISNUMBER(MATCH($B1273,'Org functional rollups'!$A:$A,0)),INDEX('Org functional rollups'!$D:$D,MATCH($B1273,'Org functional rollups'!$A:$A,0)),0)","v":"Distribution"}]
[{"$f":"'12.2018 Data'!A1254","v":"935000"},{"$f":"'12.2018 Data'!B1254","v":"B53"},{"$f":"'12.2018 Data'!C1254","v":"ED"},{"$f":"'12.2018 Data'!D1254","v":"ID"},{"$f":"'12.2018 Data'!E1254","v":"OPER"},{"$f":"'12.2018 Data'!F1254","v":1600},{"$f":"'12.2018 Data'!G1254","v":1600},{"$f":"'12.2018 Data'!H1254","v":0},{"$f":"'12.2018 Data'!I1254","v":0},{"$f":"'12.2018 Data'!J1254","v":0},"935",1600,1600,0,0,0,{"$f":"IF(ISNUMBER(MATCH($B1274,'Org functional rollups'!$A:$A,0)),INDEX('Org functional rollups'!$D:$D,MATCH($B1274,'Org functional rollups'!$A:$A,0)),0)","v":"Distribution"}]
[{"$f":"'12.2018 Data'!A1255","v":"935000"},{"$f":"'12.2018 Data'!B1255","v":"B53"},{"$f":"'12.2018 Data'!C1255","v":"ED"},{"$f":"'12.2018 Data'!D1255","v":"WA"},{"$f":"'12.2018 Data'!E1255","v":"OPER"},{"$f":"'12.2018 Data'!F1255","v":854.99},{"$f":"'12.2018 Data'!G1255","v":854.99},{"$f":"'12.2018 Data'!H1255","v":0},{"$f":"'12.2018 Data'!I1255","v":0},{"$f":"'12.2018 Data'!J1255","v":0},"935",854.99,854.99,0,0,0,{"$f":"IF(ISNUMBER(MATCH($B1275,'Org functional rollups'!$A:$A,0)),INDEX('Org functional rollups'!$D:$D,MATCH($B1275,'Org functional rollups'!$A:$A,0)),0)","v":"Distribution"}]
[{"$f":"'12.2018 Data'!A1256","v":"935000"},{"$f":"'12.2018 Data'!B1256","v":"B56"},{"$f":"'12.2018 Data'!C1256","v":"ED"},{"$f":"'12.2018 Data'!D1256","v":"AN"},{"$f":"'12.2018 Data'!E1256","v":"OPER"},{"$f":"'12.2018 Data'!F1256","v":10937.41},{"$f":"'12.2018 Data'!G1256","v":10937.41},{"$f":"'12.2018 Data'!H1256","v":0},{"$f":"'12.2018 Data'!I1256","v":0},{"$f":"'12.2018 Data'!J1256","v":0},"935",10937.41,10937.41,0,0,0,{"$f":"IF(ISNUMBER(MATCH($B1276,'Org functional rollups'!$A:$A,0)),INDEX('Org functional rollups'!$D:$D,MATCH($B1276,'Org functional rollups'!$A:$A,0)),0)","v":"Transmission"}]
[{"$f":"'12.2018 Data'!A1257","v":"935000"},{"$f":"'12.2018 Data'!B1257","v":"C09"},{"$f":"'12.2018 Data'!C1257","v":"CD"},{"$f":"'12.2018 Data'!D1257","v":"AA"},{"$f":"'12.2018 Data'!E1257","v":"OPER"},{"$f":"'12.2018 Data'!F1257","v":1547.37},{"$f":"'12.2018 Data'!G1257","v":1085.25},{"$f":"'12.2018 Data'!H1257","v":317.97000000000003},{"$f":"'12.2018 Data'!I1257","v":144.15},{"$f":"'12.2018 Data'!J1257","v":0},"935",1547.37,1085.25,317.97000000000003,144.15,0,{"$f":"IF(ISNUMBER(MATCH($B1277,'Org functional rollups'!$A:$A,0)),INDEX('Org functional rollups'!$D:$D,MATCH($B1277,'Org functional rollups'!$A:$A,0)),0)","v":"Common"}]
[{"$f":"'12.2018 Data'!A1258","v":"935000"},{"$f":"'12.2018 Data'!B1258","v":"C09"},{"$f":"'12.2018 Data'!C1258","v":"ED"},{"$f":"'12.2018 Data'!D1258","v":"AN"},{"$f":"'12.2018 Data'!E1258","v":"OPER"},{"$f":"'12.2018 Data'!F1258","v":108.72},{"$f":"'12.2018 Data'!G1258","v":108.72},{"$f":"'12.2018 Data'!H1258","v":0},{"$f":"'12.2018 Data'!I1258","v":0},{"$f":"'12.2018 Data'!J1258","v":0},"935",108.72,108.72,0,0,0,{"$f":"IF(ISNUMBER(MATCH($B1278,'Org functional rollups'!$A:$A,0)),INDEX('Org functional rollups'!$D:$D,MATCH($B1278,'Org functional rollups'!$A:$A,0)),0)","v":"Common"}]
[{"$f":"'12.2018 Data'!A1259","v":"935000"},{"$f":"'12.2018 Data'!B1259","v":"C29"},{"$f":"'12.2018 Data'!C1259","v":"CD"},{"$f":"'12.2018 Data'!D1259","v":"AA"},{"$f":"'12.2018 Data'!E1259","v":"OPER"},{"$f":"'12.2018 Data'!F1259","v":41386.980000000003},{"$f":"'12.2018 Data'!G1259","v":29026.75},{"$f":"'12.2018 Data'!H1259","v":8504.6},{"$f":"'12.2018 Data'!I1259","v":3855.63},{"$f":"'12.2018 Data'!J1259","v":0},"935",41386.980000000003,29026.75,8504.6,3855.63,0,{"$f":"IF(ISNUMBER(MATCH($B1279,'Org functional rollups'!$A:$A,0)),INDEX('Org functional rollups'!$D:$D,MATCH($B1279,'Org functional rollups'!$A:$A,0)),0)","v":"Common"}]
[{"$f":"'12.2018 Data'!A1260","v":"935000"},{"$f":"'12.2018 Data'!B1260","v":"C53"},{"$f":"'12.2018 Data'!C1260","v":"CD"},{"$f":"'12.2018 Data'!D1260","v":"ID"},{"$f":"'12.2018 Data'!E1260","v":"OPER"},{"$f":"'12.2018 Data'!F1260","v":5115.8900000000003},{"$f":"'12.2018 Data'!G1260","v":3975.77},{"$f":"'12.2018 Data'!H1260","v":1140.1199999999999},{"$f":"'12.2018 Data'!I1260","v":0},{"$f":"'12.2018 Data'!J1260","v":0},"935",5115.8900000000003,3975.77,1140.1199999999999,0,0,{"$f":"IF(ISNUMBER(MATCH($B1280,'Org functional rollups'!$A:$A,0)),INDEX('Org functional rollups'!$D:$D,MATCH($B1280,'Org functional rollups'!$A:$A,0)),0)","v":"Distribution"}]
[{"$f":"'12.2018 Data'!A1261","v":"935000"},{"$f":"'12.2018 Data'!B1261","v":"C53"},{"$f":"'12.2018 Data'!C1261","v":"CD"},{"$f":"'12.2018 Data'!D1261","v":"AA"},{"$f":"'12.2018 Data'!E1261","v":"OPER"},{"$f":"'12.2018 Data'!F1261","v":9182.31},{"$f":"'12.2018 Data'!G1261","v":6439.93},{"$f":"'12.2018 Data'!H1261","v":1886.91},{"$f":"'12.2018 Data'!I1261","v":855.47},{"$f":"'12.2018 Data'!J1261","v":0},"935",9182.31,6439.93,1886.91,855.47,0,{"$f":"IF(ISNUMBER(MATCH($B1281,'Org functional rollups'!$A:$A,0)),INDEX('Org functional rollups'!$D:$D,MATCH($B1281,'Org functional rollups'!$A:$A,0)),0)","v":"Distribution"}]
[{"$f":"'12.2018 Data'!A1262","v":"935000"},{"$f":"'12.2018 Data'!B1262","v":"C57"},{"$f":"'12.2018 Data'!C1262","v":"CD"},{"$f":"'12.2018 Data'!D1262","v":"AA"},{"$f":"'12.2018 Data'!E1262","v":"OPER"},{"$f":"'12.2018 Data'!F1262","v":2683.99},{"$f":"'12.2018 Data'!G1262","v":1882.42},{"$f":"'12.2018 Data'!H1262","v":551.54},{"$f":"'12.2018 Data'!I1262","v":250.03},{"$f":"'12.2018 Data'!J1262","v":0},"935",2683.99,1882.42,551.54,250.03,0,{"$f":"IF(ISNUMBER(MATCH($B1282,'Org functional rollups'!$A:$A,0)),INDEX('Org functional rollups'!$D:$D,MATCH($B1282,'Org functional rollups'!$A:$A,0)),0)","v":"Distribution"}]
[{"$f":"'12.2018 Data'!A1263","v":"935000"},{"$f":"'12.2018 Data'!B1263","v":"D09"},{"$f":"'12.2018 Data'!C1263","v":"CD"},{"$f":"'12.2018 Data'!D1263","v":"AN"},{"$f":"'12.2018 Data'!E1263","v":"OPER"},{"$f":"'12.2018 Data'!F1263","v":811.91},{"$f":"'12.2018 Data'!G1263","v":630.98},{"$f":"'12.2018 Data'!H1263","v":180.93},{"$f":"'12.2018 Data'!I1263","v":0},{"$f":"'12.2018 Data'!J1263","v":0},"935",811.91,630.98,180.93,0,0,{"$f":"IF(ISNUMBER(MATCH($B1283,'Org functional rollups'!$A:$A,0)),INDEX('Org functional rollups'!$D:$D,MATCH($B1283,'Org functional rollups'!$A:$A,0)),0)","v":"Transmission"}]
[{"$f":"'12.2018 Data'!A1264","v":"935000"},{"$f":"'12.2018 Data'!B1264","v":"D09"},{"$f":"'12.2018 Data'!C1264","v":"CD"},{"$f":"'12.2018 Data'!D1264","v":"AA"},{"$f":"'12.2018 Data'!E1264","v":"OPER"},{"$f":"'12.2018 Data'!F1264","v":0},{"$f":"'12.2018 Data'!G1264","v":0},{"$f":"'12.2018 Data'!H1264","v":0},{"$f":"'12.2018 Data'!I1264","v":0},{"$f":"'12.2018 Data'!J1264","v":0},"935",0,0,0,0,0,{"$f":"IF(ISNUMBER(MATCH($B1284,'Org functional rollups'!$A:$A,0)),INDEX('Org functional rollups'!$D:$D,MATCH($B1284,'Org functional rollups'!$A:$A,0)),0)","v":"Transmission"}]
[{"$f":"'12.2018 Data'!A1265","v":"935000"},{"$f":"'12.2018 Data'!B1265","v":"D09"},{"$f":"'12.2018 Data'!C1265","v":"ED"},{"$f":"'12.2018 Data'!D1265","v":"AN"},{"$f":"'12.2018 Data'!E1265","v":"OPER"},{"$f":"'12.2018 Data'!F1265","v":784415.93},{"$f":"'12.2018 Data'!G1265","v":784415.93},{"$f":"'12.2018 Data'!H1265","v":0},{"$f":"'12.2018 Data'!I1265","v":0},{"$f":"'12.2018 Data'!J1265","v":0},"935",784415.93,784415.93,0,0,0,{"$f":"IF(ISNUMBER(MATCH($B1285,'Org functional rollups'!$A:$A,0)),INDEX('Org functional rollups'!$D:$D,MATCH($B1285,'Org functional rollups'!$A:$A,0)),0)","v":"Transmission"}]
[{"$f":"'12.2018 Data'!A1266","v":"935000"},{"$f":"'12.2018 Data'!B1266","v":"D50"},{"$f":"'12.2018 Data'!C1266","v":"ED"},{"$f":"'12.2018 Data'!D1266","v":"WA"},{"$f":"'12.2018 Data'!E1266","v":"OPER"},{"$f":"'12.2018 Data'!F1266","v":607.9},{"$f":"'12.2018 Data'!G1266","v":607.9},{"$f":"'12.2018 Data'!H1266","v":0},{"$f":"'12.2018 Data'!I1266","v":0},{"$f":"'12.2018 Data'!J1266","v":0},"935",607.9,607.9,0,0,0,{"$f":"IF(ISNUMBER(MATCH($B1286,'Org functional rollups'!$A:$A,0)),INDEX('Org functional rollups'!$D:$D,MATCH($B1286,'Org functional rollups'!$A:$A,0)),0)","v":"Customer"}]
[{"$f":"'12.2018 Data'!A1267","v":"935000"},{"$f":"'12.2018 Data'!B1267","v":"D53"},{"$f":"'12.2018 Data'!C1267","v":"CD"},{"$f":"'12.2018 Data'!D1267","v":"AA"},{"$f":"'12.2018 Data'!E1267","v":"OPER"},{"$f":"'12.2018 Data'!F1267","v":1518.43},{"$f":"'12.2018 Data'!G1267","v":1064.96},{"$f":"'12.2018 Data'!H1267","v":312.02},{"$f":"'12.2018 Data'!I1267","v":141.44999999999999},{"$f":"'12.2018 Data'!J1267","v":0},"935",1518.43,1064.96,312.02,141.44999999999999,0,{"$f":"IF(ISNUMBER(MATCH($B1287,'Org functional rollups'!$A:$A,0)),INDEX('Org functional rollups'!$D:$D,MATCH($B1287,'Org functional rollups'!$A:$A,0)),0)","v":"Distribution"}]
[{"$f":"'12.2018 Data'!A1268","v":"935000"},{"$f":"'12.2018 Data'!B1268","v":"D53"},{"$f":"'12.2018 Data'!C1268","v":"CD"},{"$f":"'12.2018 Data'!D1268","v":"AN"},{"$f":"'12.2018 Data'!E1268","v":"OPER"},{"$f":"'12.2018 Data'!F1268","v":76.19},{"$f":"'12.2018 Data'!G1268","v":59.21},{"$f":"'12.2018 Data'!H1268","v":16.98},{"$f":"'12.2018 Data'!I1268","v":0},{"$f":"'12.2018 Data'!J1268","v":0},"935",76.19,59.21,16.98,0,0,{"$f":"IF(ISNUMBER(MATCH($B1288,'Org functional rollups'!$A:$A,0)),INDEX('Org functional rollups'!$D:$D,MATCH($B1288,'Org functional rollups'!$A:$A,0)),0)","v":"Distribution"}]
[{"$f":"'12.2018 Data'!A1269","v":"935000"},{"$f":"'12.2018 Data'!B1269","v":"E09"},{"$f":"'12.2018 Data'!C1269","v":"CD"},{"$f":"'12.2018 Data'!D1269","v":"AA"},{"$f":"'12.2018 Data'!E1269","v":"OPER"},{"$f":"'12.2018 Data'!F1269","v":3322.69},{"$f":"'12.2018 Data'!G1269","v":2330.35},{"$f":"'12.2018 Data'!H1269","v":682.8},{"$f":"'12.2018 Data'!I1269","v":309.54000000000002},{"$f":"'12.2018 Data'!J1269","v":0},"935",3322.69,2330.35,682.8,309.54000000000002,0,{"$f":"IF(ISNUMBER(MATCH($B1289,'Org functional rollups'!$A:$A,0)),INDEX('Org functional rollups'!$D:$D,MATCH($B1289,'Org functional rollups'!$A:$A,0)),0)","v":"Common"}]
[{"$f":"'12.2018 Data'!A1270","v":"935000"},{"$f":"'12.2018 Data'!B1270","v":"E14"},{"$f":"'12.2018 Data'!C1270","v":"ED"},{"$f":"'12.2018 Data'!D1270","v":"AN"},{"$f":"'12.2018 Data'!E1270","v":"OPER"},{"$f":"'12.2018 Data'!F1270","v":8974.7000000000007},{"$f":"'12.2018 Data'!G1270","v":8974.7000000000007},{"$f":"'12.2018 Data'!H1270","v":0},{"$f":"'12.2018 Data'!I1270","v":0},{"$f":"'12.2018 Data'!J1270","v":0},"935",8974.7000000000007,8974.7000000000007,0,0,0,{"$f":"IF(ISNUMBER(MATCH($B1290,'Org functional rollups'!$A:$A,0)),INDEX('Org functional rollups'!$D:$D,MATCH($B1290,'Org functional rollups'!$A:$A,0)),0)","v":"Production"}]
[{"$f":"'12.2018 Data'!A1271","v":"935000"},{"$f":"'12.2018 Data'!B1271","v":"E19"},{"$f":"'12.2018 Data'!C1271","v":"CD"},{"$f":"'12.2018 Data'!D1271","v":"AA"},{"$f":"'12.2018 Data'!E1271","v":"OPER"},{"$f":"'12.2018 Data'!F1271","v":72410.16},{"$f":"'12.2018 Data'!G1271","v":50784.88},{"$f":"'12.2018 Data'!H1271","v":14879.56},{"$f":"'12.2018 Data'!I1271","v":6745.72},{"$f":"'12.2018 Data'!J1271","v":0},"935",72410.16,50784.88,14879.56,6745.72,0,{"$f":"IF(ISNUMBER(MATCH($B1291,'Org functional rollups'!$A:$A,0)),INDEX('Org functional rollups'!$D:$D,MATCH($B1291,'Org functional rollups'!$A:$A,0)),0)","v":"Common"}]
[{"$f":"'12.2018 Data'!A1272","v":"935000"},{"$f":"'12.2018 Data'!B1272","v":"E19"},{"$f":"'12.2018 Data'!C1272","v":"CD"},{"$f":"'12.2018 Data'!D1272","v":"AN"},{"$f":"'12.2018 Data'!E1272","v":"OPER"},{"$f":"'12.2018 Data'!F1272","v":10865.16},{"$f":"'12.2018 Data'!G1272","v":8443.86},{"$f":"'12.2018 Data'!H1272","v":2421.3000000000002},{"$f":"'12.2018 Data'!I1272","v":0},{"$f":"'12.2018 Data'!J1272","v":0},"935",10865.16,8443.86,2421.3000000000002,0,0,{"$f":"IF(ISNUMBER(MATCH($B1292,'Org functional rollups'!$A:$A,0)),INDEX('Org functional rollups'!$D:$D,MATCH($B1292,'Org functional rollups'!$A:$A,0)),0)","v":"Common"}]
[{"$f":"'12.2018 Data'!A1273","v":"935000"},{"$f":"'12.2018 Data'!B1273","v":"E29"},{"$f":"'12.2018 Data'!C1273","v":"CD"},{"$f":"'12.2018 Data'!D1273","v":"AA"},{"$f":"'12.2018 Data'!E1273","v":"OPER"},{"$f":"'12.2018 Data'!F1273","v":22657.94},{"$f":"'12.2018 Data'!G1273","v":15891.16},{"$f":"'12.2018 Data'!H1273","v":4655.99},{"$f":"'12.2018 Data'!I1273","v":2110.79},{"$f":"'12.2018 Data'!J1273","v":0},"935",22657.94,15891.16,4655.99,2110.79,0,{"$f":"IF(ISNUMBER(MATCH($B1293,'Org functional rollups'!$A:$A,0)),INDEX('Org functional rollups'!$D:$D,MATCH($B1293,'Org functional rollups'!$A:$A,0)),0)","v":"Common"}]
[{"$f":"'12.2018 Data'!A1274","v":"935000"},{"$f":"'12.2018 Data'!B1274","v":"E51"},{"$f":"'12.2018 Data'!C1274","v":"CD"},{"$f":"'12.2018 Data'!D1274","v":"AA"},{"$f":"'12.2018 Data'!E1274","v":"OPER"},{"$f":"'12.2018 Data'!F1274","v":61240.36},{"$f":"'12.2018 Data'!G1274","v":42950.92},{"$f":"'12.2018 Data'!H1274","v":12584.29},{"$f":"'12.2018 Data'!I1274","v":5705.15},{"$f":"'12.2018 Data'!J1274","v":0},"935",61240.36,42950.92,12584.29,5705.15,0,{"$f":"IF(ISNUMBER(MATCH($B1294,'Org functional rollups'!$A:$A,0)),INDEX('Org functional rollups'!$D:$D,MATCH($B1294,'Org functional rollups'!$A:$A,0)),0)","v":"Distribution"}]
[{"$f":"'12.2018 Data'!A1275","v":"935000"},{"$f":"'12.2018 Data'!B1275","v":"F39"},{"$f":"'12.2018 Data'!C1275","v":"CD"},{"$f":"'12.2018 Data'!D1275","v":"AA"},{"$f":"'12.2018 Data'!E1275","v":"OPER"},{"$f":"'12.2018 Data'!F1275","v":659.89},{"$f":"'12.2018 Data'!G1275","v":462.81},{"$f":"'12.2018 Data'!H1275","v":135.6},{"$f":"'12.2018 Data'!I1275","v":61.48},{"$f":"'12.2018 Data'!J1275","v":0},"935",659.89,462.81,135.6,61.48,0,{"$f":"IF(ISNUMBER(MATCH($B1295,'Org functional rollups'!$A:$A,0)),INDEX('Org functional rollups'!$D:$D,MATCH($B1295,'Org functional rollups'!$A:$A,0)),0)","v":"Common"}]
[{"$f":"'12.2018 Data'!A1276","v":"935000"},{"$f":"'12.2018 Data'!B1276","v":"G39"},{"$f":"'12.2018 Data'!C1276","v":"CD"},{"$f":"'12.2018 Data'!D1276","v":"AA"},{"$f":"'12.2018 Data'!E1276","v":"OPER"},{"$f":"'12.2018 Data'!F1276","v":5771.72},{"$f":"'12.2018 Data'!G1276","v":4047.99},{"$f":"'12.2018 Data'!H1276","v":1186.03},{"$f":"'12.2018 Data'!I1276","v":537.70000000000005},{"$f":"'12.2018 Data'!J1276","v":0},"935",5771.72,4047.99,1186.03,537.70000000000005,0,{"$f":"IF(ISNUMBER(MATCH($B1296,'Org functional rollups'!$A:$A,0)),INDEX('Org functional rollups'!$D:$D,MATCH($B1296,'Org functional rollups'!$A:$A,0)),0)","v":"Common"}]
[{"$f":"'12.2018 Data'!A1277","v":"935000"},{"$f":"'12.2018 Data'!B1277","v":"G50"},{"$f":"'12.2018 Data'!C1277","v":"CD"},{"$f":"'12.2018 Data'!D1277","v":"WA"},{"$f":"'12.2018 Data'!E1277","v":"OPER"},{"$f":"'12.2018 Data'!F1277","v":4541.95},{"$f":"'12.2018 Data'!G1277","v":3529.76},{"$f":"'12.2018 Data'!H1277","v":1012.19},{"$f":"'12.2018 Data'!I1277","v":0},{"$f":"'12.2018 Data'!J1277","v":0},"935",4541.95,3529.76,1012.19,0,0,{"$f":"IF(ISNUMBER(MATCH($B1297,'Org functional rollups'!$A:$A,0)),INDEX('Org functional rollups'!$D:$D,MATCH($B1297,'Org functional rollups'!$A:$A,0)),0)","v":"Distribution"}]
[{"$f":"'12.2018 Data'!A1278","v":"935000"},{"$f":"'12.2018 Data'!B1278","v":"H04"},{"$f":"'12.2018 Data'!C1278","v":"ED"},{"$f":"'12.2018 Data'!D1278","v":"AN"},{"$f":"'12.2018 Data'!E1278","v":"OPER"},{"$f":"'12.2018 Data'!F1278","v":1537.75},{"$f":"'12.2018 Data'!G1278","v":1537.75},{"$f":"'12.2018 Data'!H1278","v":0},{"$f":"'12.2018 Data'!I1278","v":0},{"$f":"'12.2018 Data'!J1278","v":0},"935",1537.75,1537.75,0,0,0,{"$f":"IF(ISNUMBER(MATCH($B1298,'Org functional rollups'!$A:$A,0)),INDEX('Org functional rollups'!$D:$D,MATCH($B1298,'Org functional rollups'!$A:$A,0)),0)","v":"Production"}]
[{"$f":"'12.2018 Data'!A1279","v":"935000"},{"$f":"'12.2018 Data'!B1279","v":"H07"},{"$f":"'12.2018 Data'!C1279","v":"CD"},{"$f":"'12.2018 Data'!D1279","v":"AA"},{"$f":"'12.2018 Data'!E1279","v":"OPER"},{"$f":"'12.2018 Data'!F1279","v":3119634.76},{"$f":"'12.2018 Data'!G1279","v":2187956.12},{"$f":"'12.2018 Data'!H1279","v":641053.64},{"$f":"'12.2018 Data'!I1279","v":290625},{"$f":"'12.2018 Data'!J1279","v":0},"935",3119634.76,2187956.12,641053.64,290625,0,{"$f":"IF(ISNUMBER(MATCH($B1299,'Org functional rollups'!$A:$A,0)),INDEX('Org functional rollups'!$D:$D,MATCH($B1299,'Org functional rollups'!$A:$A,0)),0)","v":"Common"}]
[{"$f":"'12.2018 Data'!A1280","v":"935000"},{"$f":"'12.2018 Data'!B1280","v":"H07"},{"$f":"'12.2018 Data'!C1280","v":"CD"},{"$f":"'12.2018 Data'!D1280","v":"WA"},{"$f":"'12.2018 Data'!E1280","v":"OPER"},{"$f":"'12.2018 Data'!F1280","v":262371.67},{"$f":"'12.2018 Data'!G1280","v":203902.07},{"$f":"'12.2018 Data'!H1280","v":58469.599999999999},{"$f":"'12.2018 Data'!I1280","v":0},{"$f":"'12.2018 Data'!J1280","v":0},"935",262371.67,203902.07,58469.599999999999,0,0,{"$f":"IF(ISNUMBER(MATCH($B1300,'Org functional rollups'!$A:$A,0)),INDEX('Org functional rollups'!$D:$D,MATCH($B1300,'Org functional rollups'!$A:$A,0)),0)","v":"Common"}]
[{"$f":"'12.2018 Data'!A1281","v":"935000"},{"$f":"'12.2018 Data'!B1281","v":"H07"},{"$f":"'12.2018 Data'!C1281","v":"ED"},{"$f":"'12.2018 Data'!D1281","v":"AN"},{"$f":"'12.2018 Data'!E1281","v":"OPER"},{"$f":"'12.2018 Data'!F1281","v":10147.799999999999},{"$f":"'12.2018 Data'!G1281","v":10147.799999999999},{"$f":"'12.2018 Data'!H1281","v":0},{"$f":"'12.2018 Data'!I1281","v":0},{"$f":"'12.2018 Data'!J1281","v":0},"935",10147.799999999999,10147.799999999999,0,0,0,{"$f":"IF(ISNUMBER(MATCH($B1301,'Org functional rollups'!$A:$A,0)),INDEX('Org functional rollups'!$D:$D,MATCH($B1301,'Org functional rollups'!$A:$A,0)),0)","v":"Common"}]
[{"$f":"'12.2018 Data'!A1282","v":"935000"},{"$f":"'12.2018 Data'!B1282","v":"H07"},{"$f":"'12.2018 Data'!C1282","v":"GD"},{"$f":"'12.2018 Data'!D1282","v":"OR"},{"$f":"'12.2018 Data'!E1282","v":"OPER"},{"$f":"'12.2018 Data'!F1282","v":158168.9},{"$f":"'12.2018 Data'!G1282","v":0},{"$f":"'12.2018 Data'!H1282","v":0},{"$f":"'12.2018 Data'!I1282","v":158168.9},{"$f":"'12.2018 Data'!J1282","v":0},"935",158168.9,0,0,158168.9,0,{"$f":"IF(ISNUMBER(MATCH($B1302,'Org functional rollups'!$A:$A,0)),INDEX('Org functional rollups'!$D:$D,MATCH($B1302,'Org functional rollups'!$A:$A,0)),0)","v":"Common"}]
[{"$f":"'12.2018 Data'!A1283","v":"935000"},{"$f":"'12.2018 Data'!B1283","v":"H07"},{"$f":"'12.2018 Data'!C1283","v":"ED"},{"$f":"'12.2018 Data'!D1283","v":"ID"},{"$f":"'12.2018 Data'!E1283","v":"OPER"},{"$f":"'12.2018 Data'!F1283","v":137620.45000000001},{"$f":"'12.2018 Data'!G1283","v":137620.45000000001},{"$f":"'12.2018 Data'!H1283","v":0},{"$f":"'12.2018 Data'!I1283","v":0},{"$f":"'12.2018 Data'!J1283","v":0},"935",137620.45000000001,137620.45000000001,0,0,0,{"$f":"IF(ISNUMBER(MATCH($B1303,'Org functional rollups'!$A:$A,0)),INDEX('Org functional rollups'!$D:$D,MATCH($B1303,'Org functional rollups'!$A:$A,0)),0)","v":"Common"}]
[{"$f":"'12.2018 Data'!A1284","v":"935000"},{"$f":"'12.2018 Data'!B1284","v":"H07"},{"$f":"'12.2018 Data'!C1284","v":"GD"},{"$f":"'12.2018 Data'!D1284","v":"WA"},{"$f":"'12.2018 Data'!E1284","v":"OPER"},{"$f":"'12.2018 Data'!F1284","v":157630.21},{"$f":"'12.2018 Data'!G1284","v":0},{"$f":"'12.2018 Data'!H1284","v":157630.21},{"$f":"'12.2018 Data'!I1284","v":0},{"$f":"'12.2018 Data'!J1284","v":0},"935",157630.21,0,157630.21,0,0,{"$f":"IF(ISNUMBER(MATCH($B1304,'Org functional rollups'!$A:$A,0)),INDEX('Org functional rollups'!$D:$D,MATCH($B1304,'Org functional rollups'!$A:$A,0)),0)","v":"Common"}]
[{"$f":"'12.2018 Data'!A1285","v":"935000"},{"$f":"'12.2018 Data'!B1285","v":"H07"},{"$f":"'12.2018 Data'!C1285","v":"CD"},{"$f":"'12.2018 Data'!D1285","v":"AN"},{"$f":"'12.2018 Data'!E1285","v":"OPER"},{"$f":"'12.2018 Data'!F1285","v":242918.26},{"$f":"'12.2018 Data'!G1285","v":188783.92},{"$f":"'12.2018 Data'!H1285","v":54134.34},{"$f":"'12.2018 Data'!I1285","v":0},{"$f":"'12.2018 Data'!J1285","v":0},"935",242918.26,188783.92,54134.34,0,0,{"$f":"IF(ISNUMBER(MATCH($B1305,'Org functional rollups'!$A:$A,0)),INDEX('Org functional rollups'!$D:$D,MATCH($B1305,'Org functional rollups'!$A:$A,0)),0)","v":"Common"}]
[{"$f":"'12.2018 Data'!A1286","v":"935000"},{"$f":"'12.2018 Data'!B1286","v":"H07"},{"$f":"'12.2018 Data'!C1286","v":"CD"},{"$f":"'12.2018 Data'!D1286","v":"ID"},{"$f":"'12.2018 Data'!E1286","v":"OPER"},{"$f":"'12.2018 Data'!F1286","v":292898.09999999998},{"$f":"'12.2018 Data'!G1286","v":227625.60000000001},{"$f":"'12.2018 Data'!H1286","v":65272.5},{"$f":"'12.2018 Data'!I1286","v":0},{"$f":"'12.2018 Data'!J1286","v":0},"935",292898.09999999998,227625.60000000001,65272.5,0,0,{"$f":"IF(ISNUMBER(MATCH($B1306,'Org functional rollups'!$A:$A,0)),INDEX('Org functional rollups'!$D:$D,MATCH($B1306,'Org functional rollups'!$A:$A,0)),0)","v":"Common"}]
[{"$f":"'12.2018 Data'!A1287","v":"935000"},{"$f":"'12.2018 Data'!B1287","v":"H07"},{"$f":"'12.2018 Data'!C1287","v":"ED"},{"$f":"'12.2018 Data'!D1287","v":"WA"},{"$f":"'12.2018 Data'!E1287","v":"OPER"},{"$f":"'12.2018 Data'!F1287","v":48992.3},{"$f":"'12.2018 Data'!G1287","v":48992.3},{"$f":"'12.2018 Data'!H1287","v":0},{"$f":"'12.2018 Data'!I1287","v":0},{"$f":"'12.2018 Data'!J1287","v":0},"935",48992.3,48992.3,0,0,0,{"$f":"IF(ISNUMBER(MATCH($B1307,'Org functional rollups'!$A:$A,0)),INDEX('Org functional rollups'!$D:$D,MATCH($B1307,'Org functional rollups'!$A:$A,0)),0)","v":"Common"}]
[{"$f":"'12.2018 Data'!A1288","v":"935000"},{"$f":"'12.2018 Data'!B1288","v":"H07"},{"$f":"'12.2018 Data'!C1288","v":"GD"},{"$f":"'12.2018 Data'!D1288","v":"AS"},{"$f":"'12.2018 Data'!E1288","v":"OPER"},{"$f":"'12.2018 Data'!F1288","v":27803.09},{"$f":"'12.2018 Data'!G1288","v":0},{"$f":"'12.2018 Data'!H1288","v":0},{"$f":"'12.2018 Data'!I1288","v":27803.09},{"$f":"'12.2018 Data'!J1288","v":0},"935",27803.09,0,0,27803.09,0,{"$f":"IF(ISNUMBER(MATCH($B1308,'Org functional rollups'!$A:$A,0)),INDEX('Org functional rollups'!$D:$D,MATCH($B1308,'Org functional rollups'!$A:$A,0)),0)","v":"Common"}]
[{"$f":"'12.2018 Data'!A1289","v":"935000"},{"$f":"'12.2018 Data'!B1289","v":"H08"},{"$f":"'12.2018 Data'!C1289","v":"CD"},{"$f":"'12.2018 Data'!D1289","v":"ID"},{"$f":"'12.2018 Data'!E1289","v":"OPER"},{"$f":"'12.2018 Data'!F1289","v":0},{"$f":"'12.2018 Data'!G1289","v":0},{"$f":"'12.2018 Data'!H1289","v":0},{"$f":"'12.2018 Data'!I1289","v":0},{"$f":"'12.2018 Data'!J1289","v":0},"935",0,0,0,0,0,{"$f":"IF(ISNUMBER(MATCH($B1309,'Org functional rollups'!$A:$A,0)),INDEX('Org functional rollups'!$D:$D,MATCH($B1309,'Org functional rollups'!$A:$A,0)),0)","v":"Distribution"}]
[{"$f":"'12.2018 Data'!A1290","v":"935000"},{"$f":"'12.2018 Data'!B1290","v":"H50"},{"$f":"'12.2018 Data'!C1290","v":"CD"},{"$f":"'12.2018 Data'!D1290","v":"WA"},{"$f":"'12.2018 Data'!E1290","v":"OPER"},{"$f":"'12.2018 Data'!F1290","v":143.83000000000001},{"$f":"'12.2018 Data'!G1290","v":111.78},{"$f":"'12.2018 Data'!H1290","v":32.049999999999997},{"$f":"'12.2018 Data'!I1290","v":0},{"$f":"'12.2018 Data'!J1290","v":0},"935",143.83000000000001,111.78,32.049999999999997,0,0,{"$f":"IF(ISNUMBER(MATCH($B1310,'Org functional rollups'!$A:$A,0)),INDEX('Org functional rollups'!$D:$D,MATCH($B1310,'Org functional rollups'!$A:$A,0)),0)","v":"Distribution"}]
[{"$f":"'12.2018 Data'!A1291","v":"935000"},{"$f":"'12.2018 Data'!B1291","v":"H50"},{"$f":"'12.2018 Data'!C1291","v":"ED"},{"$f":"'12.2018 Data'!D1291","v":"WA"},{"$f":"'12.2018 Data'!E1291","v":"OPER"},{"$f":"'12.2018 Data'!F1291","v":8583.48},{"$f":"'12.2018 Data'!G1291","v":8583.48},{"$f":"'12.2018 Data'!H1291","v":0},{"$f":"'12.2018 Data'!I1291","v":0},{"$f":"'12.2018 Data'!J1291","v":0},"935",8583.48,8583.48,0,0,0,{"$f":"IF(ISNUMBER(MATCH($B1311,'Org functional rollups'!$A:$A,0)),INDEX('Org functional rollups'!$D:$D,MATCH($B1311,'Org functional rollups'!$A:$A,0)),0)","v":"Distribution"}]
[{"$f":"'12.2018 Data'!A1292","v":"935000"},{"$f":"'12.2018 Data'!B1292","v":"H51"},{"$f":"'12.2018 Data'!C1292","v":"CD"},{"$f":"'12.2018 Data'!D1292","v":"AA"},{"$f":"'12.2018 Data'!E1292","v":"OPER"},{"$f":"'12.2018 Data'!F1292","v":15134.44},{"$f":"'12.2018 Data'!G1292","v":10614.55},{"$f":"'12.2018 Data'!H1292","v":3109.98},{"$f":"'12.2018 Data'!I1292","v":1409.91},{"$f":"'12.2018 Data'!J1292","v":0},"935",15134.44,10614.55,3109.98,1409.91,0,{"$f":"IF(ISNUMBER(MATCH($B1312,'Org functional rollups'!$A:$A,0)),INDEX('Org functional rollups'!$D:$D,MATCH($B1312,'Org functional rollups'!$A:$A,0)),0)","v":"Common"}]
[{"$f":"'12.2018 Data'!A1293","v":"935000"},{"$f":"'12.2018 Data'!B1293","v":"H53"},{"$f":"'12.2018 Data'!C1293","v":"CD"},{"$f":"'12.2018 Data'!D1293","v":"ID"},{"$f":"'12.2018 Data'!E1293","v":"OPER"},{"$f":"'12.2018 Data'!F1293","v":21023.61},{"$f":"'12.2018 Data'!G1293","v":16338.49},{"$f":"'12.2018 Data'!H1293","v":4685.12},{"$f":"'12.2018 Data'!I1293","v":0},{"$f":"'12.2018 Data'!J1293","v":0},{"$f":"LEFT(A1313,3)","v":"935"},{"$f":"IF(ISNUMBER(F1313),F1313,0)","v":21023.61},{"$f":"IF(ISNUMBER(G1313),G1313,0)","v":16338.49},{"$f":"IF(ISNUMBER(H1313),H1313,0)","v":4685.12},{"$f":"IF(ISNUMBER(I1313),I1313,0)","v":0},{"$f":"IF(ISNUMBER(J1313),J1313,0)","v":0},{"$f":"IF(ISNUMBER(MATCH($B1313,'Org functional rollups'!$A:$A,0)),INDEX('Org functional rollups'!$D:$D,MATCH($B1313,'Org functional rollups'!$A:$A,0)),0)","v":"Distribution"}]
[{"$f":"'12.2018 Data'!A1294","v":"935000"},{"$f":"'12.2018 Data'!B1294","v":"J09"},{"$f":"'12.2018 Data'!C1294","v":"CD"},{"$f":"'12.2018 Data'!D1294","v":"AA"},{"$f":"'12.2018 Data'!E1294","v":"OPER"},{"$f":"'12.2018 Data'!F1294","v":67.91},{"$f":"'12.2018 Data'!G1294","v":47.63},{"$f":"'12.2018 Data'!H1294","v":13.95},{"$f":"'12.2018 Data'!I1294","v":6.33},{"$f":"'12.2018 Data'!J1294","v":0},"935",67.91,47.63,13.95,6.33,0,{"$f":"IF(ISNUMBER(MATCH($B1314,'Org functional rollups'!$A:$A,0)),INDEX('Org functional rollups'!$D:$D,MATCH($B1314,'Org functional rollups'!$A:$A,0)),0)","v":"Common"}]
[{"$f":"'12.2018 Data'!A1295","v":"935000"},{"$f":"'12.2018 Data'!B1295","v":"J29"},{"$f":"'12.2018 Data'!C1295","v":"ED"},{"$f":"'12.2018 Data'!D1295","v":"AN"},{"$f":"'12.2018 Data'!E1295","v":"OPER"},{"$f":"'12.2018 Data'!F1295","v":138.18},{"$f":"'12.2018 Data'!G1295","v":138.18},{"$f":"'12.2018 Data'!H1295","v":0},{"$f":"'12.2018 Data'!I1295","v":0},{"$f":"'12.2018 Data'!J1295","v":0},"935",138.18,138.18,0,0,0,{"$f":"IF(ISNUMBER(MATCH($B1315,'Org functional rollups'!$A:$A,0)),INDEX('Org functional rollups'!$D:$D,MATCH($B1315,'Org functional rollups'!$A:$A,0)),0)","v":"Common"}]
[{"$f":"'12.2018 Data'!A1296","v":"935000"},{"$f":"'12.2018 Data'!B1296","v":"J29"},{"$f":"'12.2018 Data'!C1296","v":"CD"},{"$f":"'12.2018 Data'!D1296","v":"AN"},{"$f":"'12.2018 Data'!E1296","v":"OPER"},{"$f":"'12.2018 Data'!F1296","v":1271.24},{"$f":"'12.2018 Data'!G1296","v":987.94},{"$f":"'12.2018 Data'!H1296","v":283.3},{"$f":"'12.2018 Data'!I1296","v":0},{"$f":"'12.2018 Data'!J1296","v":0},"935",1271.24,987.94,283.3,0,0,{"$f":"IF(ISNUMBER(MATCH($B1316,'Org functional rollups'!$A:$A,0)),INDEX('Org functional rollups'!$D:$D,MATCH($B1316,'Org functional rollups'!$A:$A,0)),0)","v":"Common"}]
[{"$f":"'12.2018 Data'!A1297","v":"935000"},{"$f":"'12.2018 Data'!B1297","v":"J29"},{"$f":"'12.2018 Data'!C1297","v":"CD"},{"$f":"'12.2018 Data'!D1297","v":"AA"},{"$f":"'12.2018 Data'!E1297","v":"OPER"},{"$f":"'12.2018 Data'!F1297","v":107441.3},{"$f":"'12.2018 Data'!G1297","v":75353.98},{"$f":"'12.2018 Data'!H1297","v":22078.09},{"$f":"'12.2018 Data'!I1297","v":10009.23},{"$f":"'12.2018 Data'!J1297","v":0},"935",107441.3,75353.98,22078.09,10009.23,0,{"$f":"IF(ISNUMBER(MATCH($B1317,'Org functional rollups'!$A:$A,0)),INDEX('Org functional rollups'!$D:$D,MATCH($B1317,'Org functional rollups'!$A:$A,0)),0)","v":"Common"}]
[{"$f":"'12.2018 Data'!A1298","v":"935000"},{"$f":"'12.2018 Data'!B1298","v":"J51"},{"$f":"'12.2018 Data'!C1298","v":"CD"},{"$f":"'12.2018 Data'!D1298","v":"ID"},{"$f":"'12.2018 Data'!E1298","v":"OPER"},{"$f":"'12.2018 Data'!F1298","v":6648.84},{"$f":"'12.2018 Data'!G1298","v":5167.18},{"$f":"'12.2018 Data'!H1298","v":1481.66},{"$f":"'12.2018 Data'!I1298","v":0},{"$f":"'12.2018 Data'!J1298","v":0},"935",6648.84,5167.18,1481.66,0,0,{"$f":"IF(ISNUMBER(MATCH($B1318,'Org functional rollups'!$A:$A,0)),INDEX('Org functional rollups'!$D:$D,MATCH($B1318,'Org functional rollups'!$A:$A,0)),0)","v":"Common"}]
[{"$f":"'12.2018 Data'!A1299","v":"935000"},{"$f":"'12.2018 Data'!B1299","v":"J51"},{"$f":"'12.2018 Data'!C1299","v":"CD"},{"$f":"'12.2018 Data'!D1299","v":"WA"},{"$f":"'12.2018 Data'!E1299","v":"OPER"},{"$f":"'12.2018 Data'!F1299","v":3361.74},{"$f":"'12.2018 Data'!G1299","v":2612.59},{"$f":"'12.2018 Data'!H1299","v":749.15},{"$f":"'12.2018 Data'!I1299","v":0},{"$f":"'12.2018 Data'!J1299","v":0},"935",3361.74,2612.59,749.15,0,0,{"$f":"IF(ISNUMBER(MATCH($B1319,'Org functional rollups'!$A:$A,0)),INDEX('Org functional rollups'!$D:$D,MATCH($B1319,'Org functional rollups'!$A:$A,0)),0)","v":"Common"}]
[{"$f":"'12.2018 Data'!A1300","v":"935000"},{"$f":"'12.2018 Data'!B1300","v":"J51"},{"$f":"'12.2018 Data'!C1300","v":"CD"},{"$f":"'12.2018 Data'!D1300","v":"AA"},{"$f":"'12.2018 Data'!E1300","v":"OPER"},{"$f":"'12.2018 Data'!F1300","v":1702.04},{"$f":"'12.2018 Data'!G1300","v":1193.73},{"$f":"'12.2018 Data'!H1300","v":349.75},{"$f":"'12.2018 Data'!I1300","v":158.56},{"$f":"'12.2018 Data'!J1300","v":0},"935",1702.04,1193.73,349.75,158.56,0,{"$f":"IF(ISNUMBER(MATCH($B1320,'Org functional rollups'!$A:$A,0)),INDEX('Org functional rollups'!$D:$D,MATCH($B1320,'Org functional rollups'!$A:$A,0)),0)","v":"Common"}]
[{"$f":"'12.2018 Data'!A1301","v":"935000"},{"$f":"'12.2018 Data'!B1301","v":"J53"},{"$f":"'12.2018 Data'!C1301","v":"CD"},{"$f":"'12.2018 Data'!D1301","v":"ID"},{"$f":"'12.2018 Data'!E1301","v":"OPER"},{"$f":"'12.2018 Data'!F1301","v":13082.66},{"$f":"'12.2018 Data'!G1301","v":10167.24},{"$f":"'12.2018 Data'!H1301","v":2915.42},{"$f":"'12.2018 Data'!I1301","v":0},{"$f":"'12.2018 Data'!J1301","v":0},"935",13082.66,10167.24,2915.42,0,0,{"$f":"IF(ISNUMBER(MATCH($B1321,'Org functional rollups'!$A:$A,0)),INDEX('Org functional rollups'!$D:$D,MATCH($B1321,'Org functional rollups'!$A:$A,0)),0)","v":"Distribution"}]
[{"$f":"'12.2018 Data'!A1302","v":"935000"},{"$f":"'12.2018 Data'!B1302","v":"K19"},{"$f":"'12.2018 Data'!C1302","v":"CD"},{"$f":"'12.2018 Data'!D1302","v":"AA"},{"$f":"'12.2018 Data'!E1302","v":"OPER"},{"$f":"'12.2018 Data'!F1302","v":180.63},{"$f":"'12.2018 Data'!G1302","v":126.7},{"$f":"'12.2018 Data'!H1302","v":37.11},{"$f":"'12.2018 Data'!I1302","v":16.82},{"$f":"'12.2018 Data'!J1302","v":0},"935",180.63,126.7,37.11,16.82,0,{"$f":"IF(ISNUMBER(MATCH($B1322,'Org functional rollups'!$A:$A,0)),INDEX('Org functional rollups'!$D:$D,MATCH($B1322,'Org functional rollups'!$A:$A,0)),0)","v":"Common"}]
[{"$f":"'12.2018 Data'!A1303","v":"935000"},{"$f":"'12.2018 Data'!B1303","v":"K51"},{"$f":"'12.2018 Data'!C1303","v":"CD"},{"$f":"'12.2018 Data'!D1303","v":"AN"},{"$f":"'12.2018 Data'!E1303","v":"OPER"},{"$f":"'12.2018 Data'!F1303","v":53.35},{"$f":"'12.2018 Data'!G1303","v":41.46},{"$f":"'12.2018 Data'!H1303","v":11.89},{"$f":"'12.2018 Data'!I1303","v":0},{"$f":"'12.2018 Data'!J1303","v":0},"935",53.35,41.46,11.89,0,0,{"$f":"IF(ISNUMBER(MATCH($B1323,'Org functional rollups'!$A:$A,0)),INDEX('Org functional rollups'!$D:$D,MATCH($B1323,'Org functional rollups'!$A:$A,0)),0)","v":"Distribution"}]
[{"$f":"'12.2018 Data'!A1304","v":"935000"},{"$f":"'12.2018 Data'!B1304","v":"K51"},{"$f":"'12.2018 Data'!C1304","v":"GD"},{"$f":"'12.2018 Data'!D1304","v":"WA"},{"$f":"'12.2018 Data'!E1304","v":"OPER"},{"$f":"'12.2018 Data'!F1304","v":1823.36},{"$f":"'12.2018 Data'!G1304","v":0},{"$f":"'12.2018 Data'!H1304","v":1823.36},{"$f":"'12.2018 Data'!I1304","v":0},{"$f":"'12.2018 Data'!J1304","v":0},"935",1823.36,0,1823.36,0,0,{"$f":"IF(ISNUMBER(MATCH($B1324,'Org functional rollups'!$A:$A,0)),INDEX('Org functional rollups'!$D:$D,MATCH($B1324,'Org functional rollups'!$A:$A,0)),0)","v":"Distribution"}]
[{"$f":"'12.2018 Data'!A1305","v":"935000"},{"$f":"'12.2018 Data'!B1305","v":"K51"},{"$f":"'12.2018 Data'!C1305","v":"CD"},{"$f":"'12.2018 Data'!D1305","v":"ID"},{"$f":"'12.2018 Data'!E1305","v":"OPER"},{"$f":"'12.2018 Data'!F1305","v":458.81},{"$f":"'12.2018 Data'!G1305","v":356.56},{"$f":"'12.2018 Data'!H1305","v":102.25},{"$f":"'12.2018 Data'!I1305","v":0},{"$f":"'12.2018 Data'!J1305","v":0},"935",458.81,356.56,102.25,0,0,{"$f":"IF(ISNUMBER(MATCH($B1325,'Org functional rollups'!$A:$A,0)),INDEX('Org functional rollups'!$D:$D,MATCH($B1325,'Org functional rollups'!$A:$A,0)),0)","v":"Distribution"}]
[{"$f":"'12.2018 Data'!A1306","v":"935000"},{"$f":"'12.2018 Data'!B1306","v":"K53"},{"$f":"'12.2018 Data'!C1306","v":"CD"},{"$f":"'12.2018 Data'!D1306","v":"AA"},{"$f":"'12.2018 Data'!E1306","v":"OPER"},{"$f":"'12.2018 Data'!F1306","v":2850.5},{"$f":"'12.2018 Data'!G1306","v":1999.21},{"$f":"'12.2018 Data'!H1306","v":585.74},{"$f":"'12.2018 Data'!I1306","v":265.55},{"$f":"'12.2018 Data'!J1306","v":0},"935",2850.5,1999.21,585.74,265.55,0,{"$f":"IF(ISNUMBER(MATCH($B1326,'Org functional rollups'!$A:$A,0)),INDEX('Org functional rollups'!$D:$D,MATCH($B1326,'Org functional rollups'!$A:$A,0)),0)","v":"Customer"}]
[{"$f":"'12.2018 Data'!A1307","v":"935000"},{"$f":"'12.2018 Data'!B1307","v":"K53"},{"$f":"'12.2018 Data'!C1307","v":"CD"},{"$f":"'12.2018 Data'!D1307","v":"ID"},{"$f":"'12.2018 Data'!E1307","v":"OPER"},{"$f":"'12.2018 Data'!F1307","v":135.68},{"$f":"'12.2018 Data'!G1307","v":105.44},{"$f":"'12.2018 Data'!H1307","v":30.24},{"$f":"'12.2018 Data'!I1307","v":0},{"$f":"'12.2018 Data'!J1307","v":0},"935",135.68,105.44,30.24,0,0,{"$f":"IF(ISNUMBER(MATCH($B1327,'Org functional rollups'!$A:$A,0)),INDEX('Org functional rollups'!$D:$D,MATCH($B1327,'Org functional rollups'!$A:$A,0)),0)","v":"Customer"}]
[{"$f":"'12.2018 Data'!A1308","v":"935000"},{"$f":"'12.2018 Data'!B1308","v":"L07"},{"$f":"'12.2018 Data'!C1308","v":"CD"},{"$f":"'12.2018 Data'!D1308","v":"AN"},{"$f":"'12.2018 Data'!E1308","v":"OPER"},{"$f":"'12.2018 Data'!F1308","v":284.45999999999998},{"$f":"'12.2018 Data'!G1308","v":221.07},{"$f":"'12.2018 Data'!H1308","v":63.39},{"$f":"'12.2018 Data'!I1308","v":0},{"$f":"'12.2018 Data'!J1308","v":0},"935",284.45999999999998,221.07,63.39,0,0,{"$f":"IF(ISNUMBER(MATCH($B1328,'Org functional rollups'!$A:$A,0)),INDEX('Org functional rollups'!$D:$D,MATCH($B1328,'Org functional rollups'!$A:$A,0)),0)","v":"Production"}]
[{"$f":"'12.2018 Data'!A1309","v":"935000"},{"$f":"'12.2018 Data'!B1309","v":"L39"},{"$f":"'12.2018 Data'!C1309","v":"CD"},{"$f":"'12.2018 Data'!D1309","v":"AA"},{"$f":"'12.2018 Data'!E1309","v":"OPER"},{"$f":"'12.2018 Data'!F1309","v":382.41},{"$f":"'12.2018 Data'!G1309","v":268.2},{"$f":"'12.2018 Data'!H1309","v":78.58},{"$f":"'12.2018 Data'!I1309","v":35.630000000000003},{"$f":"'12.2018 Data'!J1309","v":0},"935",382.41,268.2,78.58,35.630000000000003,0,{"$f":"IF(ISNUMBER(MATCH($B1329,'Org functional rollups'!$A:$A,0)),INDEX('Org functional rollups'!$D:$D,MATCH($B1329,'Org functional rollups'!$A:$A,0)),0)","v":"Common"}]
[{"$f":"'12.2018 Data'!A1310","v":"935000"},{"$f":"'12.2018 Data'!B1310","v":"L50"},{"$f":"'12.2018 Data'!C1310","v":"CD"},{"$f":"'12.2018 Data'!D1310","v":"WA"},{"$f":"'12.2018 Data'!E1310","v":"OPER"},{"$f":"'12.2018 Data'!F1310","v":371.26},{"$f":"'12.2018 Data'!G1310","v":288.52},{"$f":"'12.2018 Data'!H1310","v":82.74},{"$f":"'12.2018 Data'!I1310","v":0},{"$f":"'12.2018 Data'!J1310","v":0},"935",371.26,288.52,82.74,0,0,{"$f":"IF(ISNUMBER(MATCH($B1330,'Org functional rollups'!$A:$A,0)),INDEX('Org functional rollups'!$D:$D,MATCH($B1330,'Org functional rollups'!$A:$A,0)),0)","v":"Distribution"}]
[{"$f":"'12.2018 Data'!A1311","v":"935000"},{"$f":"'12.2018 Data'!B1311","v":"L50"},{"$f":"'12.2018 Data'!C1311","v":"CD"},{"$f":"'12.2018 Data'!D1311","v":"AA"},{"$f":"'12.2018 Data'!E1311","v":"OPER"},{"$f":"'12.2018 Data'!F1311","v":3273.51},{"$f":"'12.2018 Data'!G1311","v":2295.88},{"$f":"'12.2018 Data'!H1311","v":672.67},{"$f":"'12.2018 Data'!I1311","v":304.95999999999998},{"$f":"'12.2018 Data'!J1311","v":0},"935",3273.51,2295.88,672.67,304.95999999999998,0,{"$f":"IF(ISNUMBER(MATCH($B1331,'Org functional rollups'!$A:$A,0)),INDEX('Org functional rollups'!$D:$D,MATCH($B1331,'Org functional rollups'!$A:$A,0)),0)","v":"Distribution"}]
[{"$f":"'12.2018 Data'!A1312","v":"935000"},{"$f":"'12.2018 Data'!B1312","v":"L50"},{"$f":"'12.2018 Data'!C1312","v":"GD"},{"$f":"'12.2018 Data'!D1312","v":"WA"},{"$f":"'12.2018 Data'!E1312","v":"OPER"},{"$f":"'12.2018 Data'!F1312","v":578.27},{"$f":"'12.2018 Data'!G1312","v":0},{"$f":"'12.2018 Data'!H1312","v":578.27},{"$f":"'12.2018 Data'!I1312","v":0},{"$f":"'12.2018 Data'!J1312","v":0},"935",578.27,0,578.27,0,0,{"$f":"IF(ISNUMBER(MATCH($B1332,'Org functional rollups'!$A:$A,0)),INDEX('Org functional rollups'!$D:$D,MATCH($B1332,'Org functional rollups'!$A:$A,0)),0)","v":"Distribution"}]
[{"$f":"'12.2018 Data'!A1313","v":"935000"},{"$f":"'12.2018 Data'!B1313","v":"L53"},{"$f":"'12.2018 Data'!C1313","v":"CD"},{"$f":"'12.2018 Data'!D1313","v":"AN"},{"$f":"'12.2018 Data'!E1313","v":"OPER"},{"$f":"'12.2018 Data'!F1313","v":623},{"$f":"'12.2018 Data'!G1313","v":484.17},{"$f":"'12.2018 Data'!H1313","v":138.83000000000001},{"$f":"'12.2018 Data'!I1313","v":0},{"$f":"'12.2018 Data'!J1313","v":0},"935",623,484.17,138.83000000000001,0,0,{"$f":"IF(ISNUMBER(MATCH($B1333,'Org functional rollups'!$A:$A,0)),INDEX('Org functional rollups'!$D:$D,MATCH($B1333,'Org functional rollups'!$A:$A,0)),0)","v":"Distribution"}]
[{"$f":"'12.2018 Data'!A1314","v":"935000"},{"$f":"'12.2018 Data'!B1314","v":"L53"},{"$f":"'12.2018 Data'!C1314","v":"CD"},{"$f":"'12.2018 Data'!D1314","v":"ID"},{"$f":"'12.2018 Data'!E1314","v":"OPER"},{"$f":"'12.2018 Data'!F1314","v":24734.07},{"$f":"'12.2018 Data'!G1314","v":19222.07},{"$f":"'12.2018 Data'!H1314","v":5512},{"$f":"'12.2018 Data'!I1314","v":0},{"$f":"'12.2018 Data'!J1314","v":0},"935",24734.07,19222.07,5512,0,0,{"$f":"IF(ISNUMBER(MATCH($B1334,'Org functional rollups'!$A:$A,0)),INDEX('Org functional rollups'!$D:$D,MATCH($B1334,'Org functional rollups'!$A:$A,0)),0)","v":"Distribution"}]
[{"$f":"'12.2018 Data'!A1315","v":"935000"},{"$f":"'12.2018 Data'!B1315","v":"L53"},{"$f":"'12.2018 Data'!C1315","v":"CD"},{"$f":"'12.2018 Data'!D1315","v":"AA"},{"$f":"'12.2018 Data'!E1315","v":"OPER"},{"$f":"'12.2018 Data'!F1315","v":16238.24},{"$f":"'12.2018 Data'!G1315","v":11388.7},{"$f":"'12.2018 Data'!H1315","v":3336.75},{"$f":"'12.2018 Data'!I1315","v":1512.79},{"$f":"'12.2018 Data'!J1315","v":0},"935",16238.24,11388.7,3336.75,1512.79,0,{"$f":"IF(ISNUMBER(MATCH($B1335,'Org functional rollups'!$A:$A,0)),INDEX('Org functional rollups'!$D:$D,MATCH($B1335,'Org functional rollups'!$A:$A,0)),0)","v":"Distribution"}]
[{"$f":"'12.2018 Data'!A1316","v":"935000"},{"$f":"'12.2018 Data'!B1316","v":"M07"},{"$f":"'12.2018 Data'!C1316","v":"CD"},{"$f":"'12.2018 Data'!D1316","v":"AA"},{"$f":"'12.2018 Data'!E1316","v":"OPER"},{"$f":"'12.2018 Data'!F1316","v":2089.8000000000002},{"$f":"'12.2018 Data'!G1316","v":1465.67},{"$f":"'12.2018 Data'!H1316","v":429.44},{"$f":"'12.2018 Data'!I1316","v":194.69},{"$f":"'12.2018 Data'!J1316","v":0},"935",2089.8000000000002,1465.67,429.44,194.69,0,{"$f":"IF(ISNUMBER(MATCH($B1336,'Org functional rollups'!$A:$A,0)),INDEX('Org functional rollups'!$D:$D,MATCH($B1336,'Org functional rollups'!$A:$A,0)),0)","v":"Production"}]
[{"$f":"'12.2018 Data'!A1317","v":"935000"},{"$f":"'12.2018 Data'!B1317","v":"M09"},{"$f":"'12.2018 Data'!C1317","v":"CD"},{"$f":"'12.2018 Data'!D1317","v":"AA"},{"$f":"'12.2018 Data'!E1317","v":"OPER"},{"$f":"'12.2018 Data'!F1317","v":2862.82},{"$f":"'12.2018 Data'!G1317","v":2007.83},{"$f":"'12.2018 Data'!H1317","v":588.29},{"$f":"'12.2018 Data'!I1317","v":266.7},{"$f":"'12.2018 Data'!J1317","v":0},"935",2862.82,2007.83,588.29,266.7,0,{"$f":"IF(ISNUMBER(MATCH($B1337,'Org functional rollups'!$A:$A,0)),INDEX('Org functional rollups'!$D:$D,MATCH($B1337,'Org functional rollups'!$A:$A,0)),0)","v":"Common"}]
[{"$f":"'12.2018 Data'!A1318","v":"935000"},{"$f":"'12.2018 Data'!B1318","v":"M19"},{"$f":"'12.2018 Data'!C1318","v":"CD"},{"$f":"'12.2018 Data'!D1318","v":"AA"},{"$f":"'12.2018 Data'!E1318","v":"OPER"},{"$f":"'12.2018 Data'!F1318","v":149308.32999999999},{"$f":"'12.2018 Data'!G1318","v":104717.37},{"$f":"'12.2018 Data'!H1318","v":30681.35},{"$f":"'12.2018 Data'!I1318","v":13909.61},{"$f":"'12.2018 Data'!J1318","v":0},"935",149308.32999999999,104717.37,30681.35,13909.61,0,{"$f":"IF(ISNUMBER(MATCH($B1338,'Org functional rollups'!$A:$A,0)),INDEX('Org functional rollups'!$D:$D,MATCH($B1338,'Org functional rollups'!$A:$A,0)),0)","v":"Common"}]
[{"$f":"'12.2018 Data'!A1319","v":"935000"},{"$f":"'12.2018 Data'!B1319","v":"M19"},{"$f":"'12.2018 Data'!C1319","v":"ED"},{"$f":"'12.2018 Data'!D1319","v":"AN"},{"$f":"'12.2018 Data'!E1319","v":"OPER"},{"$f":"'12.2018 Data'!F1319","v":2078.5700000000002},{"$f":"'12.2018 Data'!G1319","v":2078.5700000000002},{"$f":"'12.2018 Data'!H1319","v":0},{"$f":"'12.2018 Data'!I1319","v":0},{"$f":"'12.2018 Data'!J1319","v":0},"935",2078.5700000000002,2078.5700000000002,0,0,0,{"$f":"IF(ISNUMBER(MATCH($B1339,'Org functional rollups'!$A:$A,0)),INDEX('Org functional rollups'!$D:$D,MATCH($B1339,'Org functional rollups'!$A:$A,0)),0)","v":"Common"}]
[{"$f":"'12.2018 Data'!A1320","v":"935000"},{"$f":"'12.2018 Data'!B1320","v":"M19"},{"$f":"'12.2018 Data'!C1320","v":"CD"},{"$f":"'12.2018 Data'!D1320","v":"AN"},{"$f":"'12.2018 Data'!E1320","v":"OPER"},{"$f":"'12.2018 Data'!F1320","v":21.05},{"$f":"'12.2018 Data'!G1320","v":16.36},{"$f":"'12.2018 Data'!H1320","v":4.6900000000000004},{"$f":"'12.2018 Data'!I1320","v":0},{"$f":"'12.2018 Data'!J1320","v":0},"935",21.05,16.36,4.6900000000000004,0,0,{"$f":"IF(ISNUMBER(MATCH($B1340,'Org functional rollups'!$A:$A,0)),INDEX('Org functional rollups'!$D:$D,MATCH($B1340,'Org functional rollups'!$A:$A,0)),0)","v":"Common"}]
[{"$f":"'12.2018 Data'!A1321","v":"935000"},{"$f":"'12.2018 Data'!B1321","v":"M29"},{"$f":"'12.2018 Data'!C1321","v":"CD"},{"$f":"'12.2018 Data'!D1321","v":"AA"},{"$f":"'12.2018 Data'!E1321","v":"OPER"},{"$f":"'12.2018 Data'!F1321","v":29721.49},{"$f":"'12.2018 Data'!G1321","v":20845.14},{"$f":"'12.2018 Data'!H1321","v":6107.47},{"$f":"'12.2018 Data'!I1321","v":2768.88},{"$f":"'12.2018 Data'!J1321","v":0},"935",29721.49,20845.14,6107.47,2768.88,0,{"$f":"IF(ISNUMBER(MATCH($B1341,'Org functional rollups'!$A:$A,0)),INDEX('Org functional rollups'!$D:$D,MATCH($B1341,'Org functional rollups'!$A:$A,0)),0)","v":"Common"}]
[{"$f":"'12.2018 Data'!A1322","v":"935000"},{"$f":"'12.2018 Data'!B1322","v":"M50"},{"$f":"'12.2018 Data'!C1322","v":"CD"},{"$f":"'12.2018 Data'!D1322","v":"WA"},{"$f":"'12.2018 Data'!E1322","v":"OPER"},{"$f":"'12.2018 Data'!F1322","v":12620.08},{"$f":"'12.2018 Data'!G1322","v":9807.76},{"$f":"'12.2018 Data'!H1322","v":2812.32},{"$f":"'12.2018 Data'!I1322","v":0},{"$f":"'12.2018 Data'!J1322","v":0},"935",12620.08,9807.76,2812.32,0,0,{"$f":"IF(ISNUMBER(MATCH($B1342,'Org functional rollups'!$A:$A,0)),INDEX('Org functional rollups'!$D:$D,MATCH($B1342,'Org functional rollups'!$A:$A,0)),0)","v":"Distribution"}]
[{"$f":"'12.2018 Data'!A1323","v":"935000"},{"$f":"'12.2018 Data'!B1323","v":"P03"},{"$f":"'12.2018 Data'!C1323","v":"CD"},{"$f":"'12.2018 Data'!D1323","v":"AA"},{"$f":"'12.2018 Data'!E1323","v":"OPER"},{"$f":"'12.2018 Data'!F1323","v":2676.99},{"$f":"'12.2018 Data'!G1323","v":1877.51},{"$f":"'12.2018 Data'!H1323","v":550.1},{"$f":"'12.2018 Data'!I1323","v":249.38},{"$f":"'12.2018 Data'!J1323","v":0},"935",2676.99,1877.51,550.1,249.38,0,{"$f":"IF(ISNUMBER(MATCH($B1343,'Org functional rollups'!$A:$A,0)),INDEX('Org functional rollups'!$D:$D,MATCH($B1343,'Org functional rollups'!$A:$A,0)),0)","v":"Distribution"}]
[{"$f":"'12.2018 Data'!A1324","v":"935000"},{"$f":"'12.2018 Data'!B1324","v":"P09"},{"$f":"'12.2018 Data'!C1324","v":"CD"},{"$f":"'12.2018 Data'!D1324","v":"AA"},{"$f":"'12.2018 Data'!E1324","v":"OPER"},{"$f":"'12.2018 Data'!F1324","v":32919.660000000003},{"$f":"'12.2018 Data'!G1324","v":23088.21},{"$f":"'12.2018 Data'!H1324","v":6764.64},{"$f":"'12.2018 Data'!I1324","v":3066.81},{"$f":"'12.2018 Data'!J1324","v":0},"935",32919.660000000003,23088.21,6764.64,3066.81,0,{"$f":"IF(ISNUMBER(MATCH($B1344,'Org functional rollups'!$A:$A,0)),INDEX('Org functional rollups'!$D:$D,MATCH($B1344,'Org functional rollups'!$A:$A,0)),0)","v":"Common"}]
[{"$f":"'12.2018 Data'!A1325","v":"935000"},{"$f":"'12.2018 Data'!B1325","v":"P50"},{"$f":"'12.2018 Data'!C1325","v":"CD"},{"$f":"'12.2018 Data'!D1325","v":"AA"},{"$f":"'12.2018 Data'!E1325","v":"OPER"},{"$f":"'12.2018 Data'!F1325","v":313.86},{"$f":"'12.2018 Data'!G1325","v":220.13},{"$f":"'12.2018 Data'!H1325","v":64.5},{"$f":"'12.2018 Data'!I1325","v":29.23},{"$f":"'12.2018 Data'!J1325","v":0},"935",313.86,220.13,64.5,29.23,0,{"$f":"IF(ISNUMBER(MATCH($B1345,'Org functional rollups'!$A:$A,0)),INDEX('Org functional rollups'!$D:$D,MATCH($B1345,'Org functional rollups'!$A:$A,0)),0)","v":"Distribution"}]
[{"$f":"'12.2018 Data'!A1326","v":"935000"},{"$f":"'12.2018 Data'!B1326","v":"P50"},{"$f":"'12.2018 Data'!C1326","v":"CD"},{"$f":"'12.2018 Data'!D1326","v":"WA"},{"$f":"'12.2018 Data'!E1326","v":"OPER"},{"$f":"'12.2018 Data'!F1326","v":3066.66},{"$f":"'12.2018 Data'!G1326","v":2383.25},{"$f":"'12.2018 Data'!H1326","v":683.41},{"$f":"'12.2018 Data'!I1326","v":0},{"$f":"'12.2018 Data'!J1326","v":0},"935",3066.66,2383.25,683.41,0,0,{"$f":"IF(ISNUMBER(MATCH($B1346,'Org functional rollups'!$A:$A,0)),INDEX('Org functional rollups'!$D:$D,MATCH($B1346,'Org functional rollups'!$A:$A,0)),0)","v":"Distribution"}]
[{"$f":"'12.2018 Data'!A1327","v":"935000"},{"$f":"'12.2018 Data'!B1327","v":"P50"},{"$f":"'12.2018 Data'!C1327","v":"ED"},{"$f":"'12.2018 Data'!D1327","v":"WA"},{"$f":"'12.2018 Data'!E1327","v":"OPER"},{"$f":"'12.2018 Data'!F1327","v":613.9},{"$f":"'12.2018 Data'!G1327","v":613.9},{"$f":"'12.2018 Data'!H1327","v":0},{"$f":"'12.2018 Data'!I1327","v":0},{"$f":"'12.2018 Data'!J1327","v":0},"935",613.9,613.9,0,0,0,{"$f":"IF(ISNUMBER(MATCH($B1347,'Org functional rollups'!$A:$A,0)),INDEX('Org functional rollups'!$D:$D,MATCH($B1347,'Org functional rollups'!$A:$A,0)),0)","v":"Distribution"}]
[{"$f":"'12.2018 Data'!A1328","v":"935000"},{"$f":"'12.2018 Data'!B1328","v":"R09"},{"$f":"'12.2018 Data'!C1328","v":"CD"},{"$f":"'12.2018 Data'!D1328","v":"AA"},{"$f":"'12.2018 Data'!E1328","v":"OPER"},{"$f":"'12.2018 Data'!F1328","v":1393.42},{"$f":"'12.2018 Data'!G1328","v":977.28},{"$f":"'12.2018 Data'!H1328","v":286.33999999999997},{"$f":"'12.2018 Data'!I1328","v":129.80000000000001},{"$f":"'12.2018 Data'!J1328","v":0},"935",1393.42,977.28,286.33999999999997,129.80000000000001,0,{"$f":"IF(ISNUMBER(MATCH($B1348,'Org functional rollups'!$A:$A,0)),INDEX('Org functional rollups'!$D:$D,MATCH($B1348,'Org functional rollups'!$A:$A,0)),0)","v":"Common"}]
[{"$f":"'12.2018 Data'!A1329","v":"935000"},{"$f":"'12.2018 Data'!B1329","v":"R29"},{"$f":"'12.2018 Data'!C1329","v":"CD"},{"$f":"'12.2018 Data'!D1329","v":"AA"},{"$f":"'12.2018 Data'!E1329","v":"OPER"},{"$f":"'12.2018 Data'!F1329","v":53859.09},{"$f":"'12.2018 Data'!G1329","v":37774.06},{"$f":"'12.2018 Data'!H1329","v":11067.46},{"$f":"'12.2018 Data'!I1329","v":5017.57},{"$f":"'12.2018 Data'!J1329","v":0},"935",53859.09,37774.06,11067.46,5017.57,0,{"$f":"IF(ISNUMBER(MATCH($B1349,'Org functional rollups'!$A:$A,0)),INDEX('Org functional rollups'!$D:$D,MATCH($B1349,'Org functional rollups'!$A:$A,0)),0)","v":"Common"}]
[{"$f":"'12.2018 Data'!A1330","v":"935000"},{"$f":"'12.2018 Data'!B1330","v":"R53"},{"$f":"'12.2018 Data'!C1330","v":"CD"},{"$f":"'12.2018 Data'!D1330","v":"AA"},{"$f":"'12.2018 Data'!E1330","v":"OPER"},{"$f":"'12.2018 Data'!F1330","v":1241.9100000000001},{"$f":"'12.2018 Data'!G1330","v":871.01},{"$f":"'12.2018 Data'!H1330","v":255.2},{"$f":"'12.2018 Data'!I1330","v":115.7},{"$f":"'12.2018 Data'!J1330","v":0},"935",1241.9100000000001,871.01,255.2,115.7,0,{"$f":"IF(ISNUMBER(MATCH($B1350,'Org functional rollups'!$A:$A,0)),INDEX('Org functional rollups'!$D:$D,MATCH($B1350,'Org functional rollups'!$A:$A,0)),0)","v":"Distribution"}]
[{"$f":"'12.2018 Data'!A1331","v":"935000"},{"$f":"'12.2018 Data'!B1331","v":"R53"},{"$f":"'12.2018 Data'!C1331","v":"ED"},{"$f":"'12.2018 Data'!D1331","v":"ID"},{"$f":"'12.2018 Data'!E1331","v":"OPER"},{"$f":"'12.2018 Data'!F1331","v":100},{"$f":"'12.2018 Data'!G1331","v":100},{"$f":"'12.2018 Data'!H1331","v":0},{"$f":"'12.2018 Data'!I1331","v":0},{"$f":"'12.2018 Data'!J1331","v":0},"935",100,100,0,0,0,{"$f":"IF(ISNUMBER(MATCH($B1351,'Org functional rollups'!$A:$A,0)),INDEX('Org functional rollups'!$D:$D,MATCH($B1351,'Org functional rollups'!$A:$A,0)),0)","v":"Distribution"}]
[{"$f":"'12.2018 Data'!A1332","v":"935000"},{"$f":"'12.2018 Data'!B1332","v":"S09"},{"$f":"'12.2018 Data'!C1332","v":"CD"},{"$f":"'12.2018 Data'!D1332","v":"AA"},{"$f":"'12.2018 Data'!E1332","v":"OPER"},{"$f":"'12.2018 Data'!F1332","v":162320.78},{"$f":"'12.2018 Data'!G1332","v":113843.67},{"$f":"'12.2018 Data'!H1332","v":33355.339999999997},{"$f":"'12.2018 Data'!I1332","v":15121.77},{"$f":"'12.2018 Data'!J1332","v":0},"935",162320.78,113843.67,33355.339999999997,15121.77,0,{"$f":"IF(ISNUMBER(MATCH($B1352,'Org functional rollups'!$A:$A,0)),INDEX('Org functional rollups'!$D:$D,MATCH($B1352,'Org functional rollups'!$A:$A,0)),0)","v":"Common"}]
[{"$f":"'12.2018 Data'!A1333","v":"935000"},{"$f":"'12.2018 Data'!B1333","v":"S51"},{"$f":"'12.2018 Data'!C1333","v":"CD"},{"$f":"'12.2018 Data'!D1333","v":"ID"},{"$f":"'12.2018 Data'!E1333","v":"OPER"},{"$f":"'12.2018 Data'!F1333","v":4284.24},{"$f":"'12.2018 Data'!G1333","v":3329.56},{"$f":"'12.2018 Data'!H1333","v":954.68},{"$f":"'12.2018 Data'!I1333","v":0},{"$f":"'12.2018 Data'!J1333","v":0},"935",4284.24,3329.56,954.68,0,0,{"$f":"IF(ISNUMBER(MATCH($B1353,'Org functional rollups'!$A:$A,0)),INDEX('Org functional rollups'!$D:$D,MATCH($B1353,'Org functional rollups'!$A:$A,0)),0)","v":"Common"}]
[{"$f":"'12.2018 Data'!A1334","v":"935000"},{"$f":"'12.2018 Data'!B1334","v":"S51"},{"$f":"'12.2018 Data'!C1334","v":"ED"},{"$f":"'12.2018 Data'!D1334","v":"AN"},{"$f":"'12.2018 Data'!E1334","v":"OPER"},{"$f":"'12.2018 Data'!F1334","v":31789.84},{"$f":"'12.2018 Data'!G1334","v":31789.84},{"$f":"'12.2018 Data'!H1334","v":0},{"$f":"'12.2018 Data'!I1334","v":0},{"$f":"'12.2018 Data'!J1334","v":0},"935",31789.84,31789.84,0,0,0,{"$f":"IF(ISNUMBER(MATCH($B1354,'Org functional rollups'!$A:$A,0)),INDEX('Org functional rollups'!$D:$D,MATCH($B1354,'Org functional rollups'!$A:$A,0)),0)","v":"Common"}]
[{"$f":"'12.2018 Data'!A1335","v":"935000"},{"$f":"'12.2018 Data'!B1335","v":"S51"},{"$f":"'12.2018 Data'!C1335","v":"GD"},{"$f":"'12.2018 Data'!D1335","v":"OR"},{"$f":"'12.2018 Data'!E1335","v":"OPER"},{"$f":"'12.2018 Data'!F1335","v":74.569999999999993},{"$f":"'12.2018 Data'!G1335","v":0},{"$f":"'12.2018 Data'!H1335","v":0},{"$f":"'12.2018 Data'!I1335","v":74.569999999999993},{"$f":"'12.2018 Data'!J1335","v":0},"935",74.569999999999993,0,0,74.569999999999993,0,{"$f":"IF(ISNUMBER(MATCH($B1355,'Org functional rollups'!$A:$A,0)),INDEX('Org functional rollups'!$D:$D,MATCH($B1355,'Org functional rollups'!$A:$A,0)),0)","v":"Common"}]
[{"$f":"'12.2018 Data'!A1336","v":"935000"},{"$f":"'12.2018 Data'!B1336","v":"S51"},{"$f":"'12.2018 Data'!C1336","v":"CD"},{"$f":"'12.2018 Data'!D1336","v":"AN"},{"$f":"'12.2018 Data'!E1336","v":"OPER"},{"$f":"'12.2018 Data'!F1336","v":34933.15},{"$f":"'12.2018 Data'!G1336","v":27148.34},{"$f":"'12.2018 Data'!H1336","v":7784.81},{"$f":"'12.2018 Data'!I1336","v":0},{"$f":"'12.2018 Data'!J1336","v":0},"935",34933.15,27148.34,7784.81,0,0,{"$f":"IF(ISNUMBER(MATCH($B1356,'Org functional rollups'!$A:$A,0)),INDEX('Org functional rollups'!$D:$D,MATCH($B1356,'Org functional rollups'!$A:$A,0)),0)","v":"Common"}]
[{"$f":"'12.2018 Data'!A1337","v":"935000"},{"$f":"'12.2018 Data'!B1337","v":"S51"},{"$f":"'12.2018 Data'!C1337","v":"ED"},{"$f":"'12.2018 Data'!D1337","v":"ID"},{"$f":"'12.2018 Data'!E1337","v":"OPER"},{"$f":"'12.2018 Data'!F1337","v":1162.3900000000001},{"$f":"'12.2018 Data'!G1337","v":1162.3900000000001},{"$f":"'12.2018 Data'!H1337","v":0},{"$f":"'12.2018 Data'!I1337","v":0},{"$f":"'12.2018 Data'!J1337","v":0},"935",1162.3900000000001,1162.3900000000001,0,0,0,{"$f":"IF(ISNUMBER(MATCH($B1357,'Org functional rollups'!$A:$A,0)),INDEX('Org functional rollups'!$D:$D,MATCH($B1357,'Org functional rollups'!$A:$A,0)),0)","v":"Common"}]
[{"$f":"'12.2018 Data'!A1338","v":"935000"},{"$f":"'12.2018 Data'!B1338","v":"S51"},{"$f":"'12.2018 Data'!C1338","v":"CD"},{"$f":"'12.2018 Data'!D1338","v":"WA"},{"$f":"'12.2018 Data'!E1338","v":"OPER"},{"$f":"'12.2018 Data'!F1338","v":1154.6199999999999},{"$f":"'12.2018 Data'!G1338","v":897.34},{"$f":"'12.2018 Data'!H1338","v":257.27999999999997},{"$f":"'12.2018 Data'!I1338","v":0},{"$f":"'12.2018 Data'!J1338","v":0},"935",1154.6199999999999,897.34,257.27999999999997,0,0,{"$f":"IF(ISNUMBER(MATCH($B1358,'Org functional rollups'!$A:$A,0)),INDEX('Org functional rollups'!$D:$D,MATCH($B1358,'Org functional rollups'!$A:$A,0)),0)","v":"Common"}]
[{"$f":"'12.2018 Data'!A1339","v":"935000"},{"$f":"'12.2018 Data'!B1339","v":"S51"},{"$f":"'12.2018 Data'!C1339","v":"CD"},{"$f":"'12.2018 Data'!D1339","v":"AA"},{"$f":"'12.2018 Data'!E1339","v":"OPER"},{"$f":"'12.2018 Data'!F1339","v":61226.3},{"$f":"'12.2018 Data'!G1339","v":42941.120000000003},{"$f":"'12.2018 Data'!H1339","v":12581.3},{"$f":"'12.2018 Data'!I1339","v":5703.88},{"$f":"'12.2018 Data'!J1339","v":0},"935",61226.3,42941.120000000003,12581.3,5703.88,0,{"$f":"IF(ISNUMBER(MATCH($B1359,'Org functional rollups'!$A:$A,0)),INDEX('Org functional rollups'!$D:$D,MATCH($B1359,'Org functional rollups'!$A:$A,0)),0)","v":"Common"}]
[{"$f":"'12.2018 Data'!A1340","v":"935000"},{"$f":"'12.2018 Data'!B1340","v":"S51"},{"$f":"'12.2018 Data'!C1340","v":"GD"},{"$f":"'12.2018 Data'!D1340","v":"WA"},{"$f":"'12.2018 Data'!E1340","v":"OPER"},{"$f":"'12.2018 Data'!F1340","v":1367.81},{"$f":"'12.2018 Data'!G1340","v":0},{"$f":"'12.2018 Data'!H1340","v":1367.81},{"$f":"'12.2018 Data'!I1340","v":0},{"$f":"'12.2018 Data'!J1340","v":0},"935",1367.81,0,1367.81,0,0,{"$f":"IF(ISNUMBER(MATCH($B1360,'Org functional rollups'!$A:$A,0)),INDEX('Org functional rollups'!$D:$D,MATCH($B1360,'Org functional rollups'!$A:$A,0)),0)","v":"Common"}]
[{"$f":"'12.2018 Data'!A1341","v":"935000"},{"$f":"'12.2018 Data'!B1341","v":"S51"},{"$f":"'12.2018 Data'!C1341","v":"ED"},{"$f":"'12.2018 Data'!D1341","v":"WA"},{"$f":"'12.2018 Data'!E1341","v":"OPER"},{"$f":"'12.2018 Data'!F1341","v":454.2},{"$f":"'12.2018 Data'!G1341","v":454.2},{"$f":"'12.2018 Data'!H1341","v":0},{"$f":"'12.2018 Data'!I1341","v":0},{"$f":"'12.2018 Data'!J1341","v":0},"935",454.2,454.2,0,0,0,{"$f":"IF(ISNUMBER(MATCH($B1361,'Org functional rollups'!$A:$A,0)),INDEX('Org functional rollups'!$D:$D,MATCH($B1361,'Org functional rollups'!$A:$A,0)),0)","v":"Common"}]
[{"$f":"'12.2018 Data'!A1342","v":"935000"},{"$f":"'12.2018 Data'!B1342","v":"S53"},{"$f":"'12.2018 Data'!C1342","v":"CD"},{"$f":"'12.2018 Data'!D1342","v":"ID"},{"$f":"'12.2018 Data'!E1342","v":"OPER"},{"$f":"'12.2018 Data'!F1342","v":2022.33},{"$f":"'12.2018 Data'!G1342","v":1571.66},{"$f":"'12.2018 Data'!H1342","v":450.67},{"$f":"'12.2018 Data'!I1342","v":0},{"$f":"'12.2018 Data'!J1342","v":0},"935",2022.33,1571.66,450.67,0,0,{"$f":"IF(ISNUMBER(MATCH($B1362,'Org functional rollups'!$A:$A,0)),INDEX('Org functional rollups'!$D:$D,MATCH($B1362,'Org functional rollups'!$A:$A,0)),0)","v":"Distribution"}]
[{"$f":"'12.2018 Data'!A1343","v":"935000"},{"$f":"'12.2018 Data'!B1343","v":"S53"},{"$f":"'12.2018 Data'!C1343","v":"ED"},{"$f":"'12.2018 Data'!D1343","v":"ID"},{"$f":"'12.2018 Data'!E1343","v":"OPER"},{"$f":"'12.2018 Data'!F1343","v":8898.6200000000008},{"$f":"'12.2018 Data'!G1343","v":8898.6200000000008},{"$f":"'12.2018 Data'!H1343","v":0},{"$f":"'12.2018 Data'!I1343","v":0},{"$f":"'12.2018 Data'!J1343","v":0},"935",8898.6200000000008,8898.6200000000008,0,0,0,{"$f":"IF(ISNUMBER(MATCH($B1363,'Org functional rollups'!$A:$A,0)),INDEX('Org functional rollups'!$D:$D,MATCH($B1363,'Org functional rollups'!$A:$A,0)),0)","v":"Distribution"}]
[{"$f":"'12.2018 Data'!A1344","v":"935000"},{"$f":"'12.2018 Data'!B1344","v":"T08"},{"$f":"'12.2018 Data'!C1344","v":"CD"},{"$f":"'12.2018 Data'!D1344","v":"AA"},{"$f":"'12.2018 Data'!E1344","v":"OPER"},{"$f":"'12.2018 Data'!F1344","v":6638.27},{"$f":"'12.2018 Data'!G1344","v":4655.76},{"$f":"'12.2018 Data'!H1344","v":1364.1},{"$f":"'12.2018 Data'!I1344","v":618.41},{"$f":"'12.2018 Data'!J1344","v":0},"935",6638.27,4655.76,1364.1,618.41,0,{"$f":"IF(ISNUMBER(MATCH($B1364,'Org functional rollups'!$A:$A,0)),INDEX('Org functional rollups'!$D:$D,MATCH($B1364,'Org functional rollups'!$A:$A,0)),0)","v":"Distribution"}]
[{"$f":"'12.2018 Data'!A1345","v":"935000"},{"$f":"'12.2018 Data'!B1345","v":"T19"},{"$f":"'12.2018 Data'!C1345","v":"CD"},{"$f":"'12.2018 Data'!D1345","v":"AA"},{"$f":"'12.2018 Data'!E1345","v":"OPER"},{"$f":"'12.2018 Data'!F1345","v":9769.9},{"$f":"'12.2018 Data'!G1345","v":6852.12},{"$f":"'12.2018 Data'!H1345","v":2007.62},{"$f":"'12.2018 Data'!I1345","v":910.16},{"$f":"'12.2018 Data'!J1345","v":0},"935",9769.9,6852.12,2007.62,910.16,0,{"$f":"IF(ISNUMBER(MATCH($B1365,'Org functional rollups'!$A:$A,0)),INDEX('Org functional rollups'!$D:$D,MATCH($B1365,'Org functional rollups'!$A:$A,0)),0)","v":"Common"}]
[{"$f":"'12.2018 Data'!A1346","v":"935000"},{"$f":"'12.2018 Data'!B1346","v":"V08"},{"$f":"'12.2018 Data'!C1346","v":"CD"},{"$f":"'12.2018 Data'!D1346","v":"AN"},{"$f":"'12.2018 Data'!E1346","v":"OPER"},{"$f":"'12.2018 Data'!F1346","v":77.86},{"$f":"'12.2018 Data'!G1346","v":60.51},{"$f":"'12.2018 Data'!H1346","v":17.350000000000001},{"$f":"'12.2018 Data'!I1346","v":0},{"$f":"'12.2018 Data'!J1346","v":0},"935",77.86,60.51,17.350000000000001,0,0,{"$f":"IF(ISNUMBER(MATCH($B1366,'Org functional rollups'!$A:$A,0)),INDEX('Org functional rollups'!$D:$D,MATCH($B1366,'Org functional rollups'!$A:$A,0)),0)","v":"Common"}]
[{"$f":"'12.2018 Data'!A1347","v":"935000"},{"$f":"'12.2018 Data'!B1347","v":"V08"},{"$f":"'12.2018 Data'!C1347","v":"ED"},{"$f":"'12.2018 Data'!D1347","v":"AN"},{"$f":"'12.2018 Data'!E1347","v":"OPER"},{"$f":"'12.2018 Data'!F1347","v":391.5},{"$f":"'12.2018 Data'!G1347","v":391.5},{"$f":"'12.2018 Data'!H1347","v":0},{"$f":"'12.2018 Data'!I1347","v":0},{"$f":"'12.2018 Data'!J1347","v":0},"935",391.5,391.5,0,0,0,{"$f":"IF(ISNUMBER(MATCH($B1367,'Org functional rollups'!$A:$A,0)),INDEX('Org functional rollups'!$D:$D,MATCH($B1367,'Org functional rollups'!$A:$A,0)),0)","v":"Common"}]
[{"$f":"'12.2018 Data'!A1348","v":"935000"},{"$f":"'12.2018 Data'!B1348","v":"W09"},{"$f":"'12.2018 Data'!C1348","v":"CD"},{"$f":"'12.2018 Data'!D1348","v":"AA"},{"$f":"'12.2018 Data'!E1348","v":"OPER"},{"$f":"'12.2018 Data'!F1348","v":5355.16},{"$f":"'12.2018 Data'!G1348","v":3755.84},{"$f":"'12.2018 Data'!H1348","v":1100.43},{"$f":"'12.2018 Data'!I1348","v":498.89},{"$f":"'12.2018 Data'!J1348","v":0},"935",5355.16,3755.84,1100.43,498.89,0,{"$f":"IF(ISNUMBER(MATCH($B1368,'Org functional rollups'!$A:$A,0)),INDEX('Org functional rollups'!$D:$D,MATCH($B1368,'Org functional rollups'!$A:$A,0)),0)","v":"Common"}]
[{"$f":"'12.2018 Data'!A1349","v":"935000"},{"$f":"'12.2018 Data'!B1349","v":"W39"},{"$f":"'12.2018 Data'!C1349","v":"CD"},{"$f":"'12.2018 Data'!D1349","v":"AA"},{"$f":"'12.2018 Data'!E1349","v":"OPER"},{"$f":"'12.2018 Data'!F1349","v":16997.7},{"$f":"'12.2018 Data'!G1349","v":11921.34},{"$f":"'12.2018 Data'!H1349","v":3492.87},{"$f":"'12.2018 Data'!I1349","v":1583.49},{"$f":"'12.2018 Data'!J1349","v":0},"935",16997.7,11921.34,3492.87,1583.49,0,{"$f":"IF(ISNUMBER(MATCH($B1369,'Org functional rollups'!$A:$A,0)),INDEX('Org functional rollups'!$D:$D,MATCH($B1369,'Org functional rollups'!$A:$A,0)),0)","v":"Common"}]
[{"$f":"'12.2018 Data'!A1350","v":"935000"},{"$f":"'12.2018 Data'!B1350","v":"X09"},{"$f":"'12.2018 Data'!C1350","v":"CD"},{"$f":"'12.2018 Data'!D1350","v":"AA"},{"$f":"'12.2018 Data'!E1350","v":"OPER"},{"$f":"'12.2018 Data'!F1350","v":-98.18},{"$f":"'12.2018 Data'!G1350","v":-68.86},{"$f":"'12.2018 Data'!H1350","v":-20.170000000000002},{"$f":"'12.2018 Data'!I1350","v":-9.15},{"$f":"'12.2018 Data'!J1350","v":0},"935",-98.18,-68.86,-20.170000000000002,-9.15,0,{"$f":"IF(ISNUMBER(MATCH($B1370,'Org functional rollups'!$A:$A,0)),INDEX('Org functional rollups'!$D:$D,MATCH($B1370,'Org functional rollups'!$A:$A,0)),0)","v":"Common"}]
[{"$f":"'12.2018 Data'!A1351","v":"935000"},{"$f":"'12.2018 Data'!B1351","v":"X19"},{"$f":"'12.2018 Data'!C1351","v":"CD"},{"$f":"'12.2018 Data'!D1351","v":"AA"},{"$f":"'12.2018 Data'!E1351","v":"OPER"},{"$f":"'12.2018 Data'!F1351","v":114.19},{"$f":"'12.2018 Data'!G1351","v":80.08},{"$f":"'12.2018 Data'!H1351","v":23.46},{"$f":"'12.2018 Data'!I1351","v":10.65},{"$f":"'12.2018 Data'!J1351","v":0},"935",114.19,80.08,23.46,10.65,0,{"$f":"IF(ISNUMBER(MATCH($B1371,'Org functional rollups'!$A:$A,0)),INDEX('Org functional rollups'!$D:$D,MATCH($B1371,'Org functional rollups'!$A:$A,0)),0)","v":"Common"}]
[{"$f":"'12.2018 Data'!A1352","v":"935000"},{"$f":"'12.2018 Data'!B1352","v":"X39"},{"$f":"'12.2018 Data'!C1352","v":"CD"},{"$f":"'12.2018 Data'!D1352","v":"AA"},{"$f":"'12.2018 Data'!E1352","v":"OPER"},{"$f":"'12.2018 Data'!F1352","v":67905.759999999995},{"$f":"'12.2018 Data'!G1352","v":47625.75},{"$f":"'12.2018 Data'!H1352","v":13953.94},{"$f":"'12.2018 Data'!I1352","v":6326.07},{"$f":"'12.2018 Data'!J1352","v":0},"935",67905.759999999995,47625.75,13953.94,6326.07,0,{"$f":"IF(ISNUMBER(MATCH($B1372,'Org functional rollups'!$A:$A,0)),INDEX('Org functional rollups'!$D:$D,MATCH($B1372,'Org functional rollups'!$A:$A,0)),0)","v":"Common"}]
[{"$f":"'12.2018 Data'!A1353","v":"935000"},{"$f":"'12.2018 Data'!B1353","v":"X54"},{"$f":"'12.2018 Data'!C1353","v":"CD"},{"$f":"'12.2018 Data'!D1353","v":"AA"},{"$f":"'12.2018 Data'!E1353","v":"OPER"},{"$f":"'12.2018 Data'!F1353","v":-38339.199999999997},{"$f":"'12.2018 Data'!G1353","v":-26889.19},{"$f":"'12.2018 Data'!H1353","v":-7878.33},{"$f":"'12.2018 Data'!I1353","v":-3571.68},{"$f":"'12.2018 Data'!J1353","v":0},"935",-38339.199999999997,-26889.19,-7878.33,-3571.68,0,{"$f":"IF(ISNUMBER(MATCH($B1373,'Org functional rollups'!$A:$A,0)),INDEX('Org functional rollups'!$D:$D,MATCH($B1373,'Org functional rollups'!$A:$A,0)),0)","v":"Common"}]
[{"$f":"'12.2018 Data'!A1354","v":"935000"},{"$f":"'12.2018 Data'!B1354","v":"Z09"},{"$f":"'12.2018 Data'!C1354","v":"CD"},{"$f":"'12.2018 Data'!D1354","v":"AA"},{"$f":"'12.2018 Data'!E1354","v":"OPER"},{"$f":"'12.2018 Data'!F1354","v":16422.900000000001},{"$f":"'12.2018 Data'!G1354","v":11518.24},{"$f":"'12.2018 Data'!H1354","v":3374.74},{"$f":"'12.2018 Data'!I1354","v":1529.92},{"$f":"'12.2018 Data'!J1354","v":0},"935",16422.900000000001,11518.24,3374.74,1529.92,0,{"$f":"IF(ISNUMBER(MATCH($B1374,'Org functional rollups'!$A:$A,0)),INDEX('Org functional rollups'!$D:$D,MATCH($B1374,'Org functional rollups'!$A:$A,0)),0)","v":"Common"}]
[{"$f":"'12.2018 Data'!A1355","v":"935000"},{"$f":"'12.2018 Data'!B1355","v":"Z57"},{"$f":"'12.2018 Data'!C1355","v":"CD"},{"$f":"'12.2018 Data'!D1355","v":"AA"},{"$f":"'12.2018 Data'!E1355","v":"OPER"},{"$f":"'12.2018 Data'!F1355","v":-15.8},{"$f":"'12.2018 Data'!G1355","v":-11.08},{"$f":"'12.2018 Data'!H1355","v":-3.25},{"$f":"'12.2018 Data'!I1355","v":-1.47},{"$f":"'12.2018 Data'!J1355","v":0},"935",-15.8,-11.08,-3.25,-1.47,0,{"$f":"IF(ISNUMBER(MATCH($B1375,'Org functional rollups'!$A:$A,0)),INDEX('Org functional rollups'!$D:$D,MATCH($B1375,'Org functional rollups'!$A:$A,0)),0)","v":"Common"}]
[{"$f":"'12.2018 Data'!A1356","v":"935000"},{"$f":"'12.2018 Data'!B1356","v":"Z87"},{"$f":"'12.2018 Data'!C1356","v":"CD"},{"$f":"'12.2018 Data'!D1356","v":"AN"},{"$f":"'12.2018 Data'!E1356","v":"OPER"},{"$f":"'12.2018 Data'!F1356","v":355198.8},{"$f":"'12.2018 Data'!G1356","v":276042.8},{"$f":"'12.2018 Data'!H1356","v":79156},{"$f":"'12.2018 Data'!I1356","v":0},{"$f":"'12.2018 Data'!J1356","v":0},"935",355198.8,276042.8,79156,0,0,{"$f":"IF(ISNUMBER(MATCH($B1376,'Org functional rollups'!$A:$A,0)),INDEX('Org functional rollups'!$D:$D,MATCH($B1376,'Org functional rollups'!$A:$A,0)),0)","v":"Common"}]
[{"$f":"'12.2018 Data'!A1357","v":"935000"},{"$f":"'12.2018 Data'!B1357","v":"Z87"},{"$f":"'12.2018 Data'!C1357","v":"ED"},{"$f":"'12.2018 Data'!D1357","v":"WA"},{"$f":"'12.2018 Data'!E1357","v":"OPER"},{"$f":"'12.2018 Data'!F1357","v":3372.12},{"$f":"'12.2018 Data'!G1357","v":3372.12},{"$f":"'12.2018 Data'!H1357","v":0},{"$f":"'12.2018 Data'!I1357","v":0},{"$f":"'12.2018 Data'!J1357","v":0},{"$f":"LEFT(A1377,3)","v":"935"},{"$f":"IF(ISNUMBER(F1377),F1377,0)","v":3372.12},{"$f":"IF(ISNUMBER(G1377),G1377,0)","v":3372.12},{"$f":"IF(ISNUMBER(H1377),H1377,0)","v":0},{"$f":"IF(ISNUMBER(I1377),I1377,0)","v":0},{"$f":"IF(ISNUMBER(J1377),J1377,0)","v":0},{"$f":"IF(ISNUMBER(MATCH($B1377,'Org functional rollups'!$A:$A,0)),INDEX('Org functional rollups'!$D:$D,MATCH($B1377,'Org functional rollups'!$A:$A,0)),0)","v":"Common"}]
[{"$f":"'12.2018 Data'!A1358","v":"935000"},{"$f":"'12.2018 Data'!B1358","v":"Z87"},{"$f":"'12.2018 Data'!C1358","v":"CD"},{"$f":"'12.2018 Data'!D1358","v":"WA"},{"$f":"'12.2018 Data'!E1358","v":"OPER"},{"$f":"'12.2018 Data'!F1358","v":8068.71},{"$f":"'12.2018 Data'!G1358","v":6270.57},{"$f":"'12.2018 Data'!H1358","v":1798.14},{"$f":"'12.2018 Data'!I1358","v":0},{"$f":"'12.2018 Data'!J1358","v":0},"935",8068.71,6270.57,1798.14,0,0,{"$f":"IF(ISNUMBER(MATCH($B1378,'Org functional rollups'!$A:$A,0)),INDEX('Org functional rollups'!$D:$D,MATCH($B1378,'Org functional rollups'!$A:$A,0)),0)","v":"Common"}]
[{"$f":"'12.2018 Data'!A1359","v":"935000"},{"$f":"'12.2018 Data'!B1359","v":"Z87"},{"$f":"'12.2018 Data'!C1359","v":"GD"},{"$f":"'12.2018 Data'!D1359","v":"OR"},{"$f":"'12.2018 Data'!E1359","v":"OPER"},{"$f":"'12.2018 Data'!F1359","v":169.02},{"$f":"'12.2018 Data'!G1359","v":0},{"$f":"'12.2018 Data'!H1359","v":0},{"$f":"'12.2018 Data'!I1359","v":169.02},{"$f":"'12.2018 Data'!J1359","v":0},"935",169.02,0,0,169.02,0,{"$f":"IF(ISNUMBER(MATCH($B1379,'Org functional rollups'!$A:$A,0)),INDEX('Org functional rollups'!$D:$D,MATCH($B1379,'Org functional rollups'!$A:$A,0)),0)","v":"Common"}]
[{"$f":"'12.2018 Data'!A1360","v":"935000"},{"$f":"'12.2018 Data'!B1360","v":"Z87"},{"$f":"'12.2018 Data'!C1360","v":"CD"},{"$f":"'12.2018 Data'!D1360","v":"ID"},{"$f":"'12.2018 Data'!E1360","v":"OPER"},{"$f":"'12.2018 Data'!F1360","v":31056.99},{"$f":"'12.2018 Data'!G1360","v":24135.96},{"$f":"'12.2018 Data'!H1360","v":6921.03},{"$f":"'12.2018 Data'!I1360","v":0},{"$f":"'12.2018 Data'!J1360","v":0},"935",31056.99,24135.96,6921.03,0,0,{"$f":"IF(ISNUMBER(MATCH($B1380,'Org functional rollups'!$A:$A,0)),INDEX('Org functional rollups'!$D:$D,MATCH($B1380,'Org functional rollups'!$A:$A,0)),0)","v":"Common"}]
[{"$f":"'12.2018 Data'!A1361","v":"935000"},{"$f":"'12.2018 Data'!B1361","v":"Z87"},{"$f":"'12.2018 Data'!C1361","v":"GD"},{"$f":"'12.2018 Data'!D1361","v":"WA"},{"$f":"'12.2018 Data'!E1361","v":"OPER"},{"$f":"'12.2018 Data'!F1361","v":5583.5},{"$f":"'12.2018 Data'!G1361","v":0},{"$f":"'12.2018 Data'!H1361","v":5583.5},{"$f":"'12.2018 Data'!I1361","v":0},{"$f":"'12.2018 Data'!J1361","v":0},"935",5583.5,0,5583.5,0,0,{"$f":"IF(ISNUMBER(MATCH($B1381,'Org functional rollups'!$A:$A,0)),INDEX('Org functional rollups'!$D:$D,MATCH($B1381,'Org functional rollups'!$A:$A,0)),0)","v":"Common"}]
[{"$f":"'12.2018 Data'!A1362","v":"935000"},{"$f":"'12.2018 Data'!B1362","v":"Z87"},{"$f":"'12.2018 Data'!C1362","v":"ED"},{"$f":"'12.2018 Data'!D1362","v":"ID"},{"$f":"'12.2018 Data'!E1362","v":"OPER"},{"$f":"'12.2018 Data'!F1362","v":5593.69},{"$f":"'12.2018 Data'!G1362","v":5593.69},{"$f":"'12.2018 Data'!H1362","v":0},{"$f":"'12.2018 Data'!I1362","v":0},{"$f":"'12.2018 Data'!J1362","v":0},"935",5593.69,5593.69,0,0,0,{"$f":"IF(ISNUMBER(MATCH($B1382,'Org functional rollups'!$A:$A,0)),INDEX('Org functional rollups'!$D:$D,MATCH($B1382,'Org functional rollups'!$A:$A,0)),0)","v":"Common"}]
[{"$f":"'12.2018 Data'!A1363","v":"935000"},{"$f":"'12.2018 Data'!B1363","v":"Z87"},{"$f":"'12.2018 Data'!C1363","v":"CD"},{"$f":"'12.2018 Data'!D1363","v":"AA"},{"$f":"'12.2018 Data'!E1363","v":"OPER"},{"$f":"'12.2018 Data'!F1363","v":842008.89},{"$f":"'12.2018 Data'!G1363","v":590542.81000000006},{"$f":"'12.2018 Data'!H1363","v":173024.73},{"$f":"'12.2018 Data'!I1363","v":78441.350000000006},{"$f":"'12.2018 Data'!J1363","v":0},"935",842008.89,590542.81000000006,173024.73,78441.350000000006,0,{"$f":"IF(ISNUMBER(MATCH($B1383,'Org functional rollups'!$A:$A,0)),INDEX('Org functional rollups'!$D:$D,MATCH($B1383,'Org functional rollups'!$A:$A,0)),0)","v":"Common"}]
[{"$f":"'12.2018 Data'!A1364","v":"935000"},{"$f":"'12.2018 Data'!B1364","v":"Z87"},{"$f":"'12.2018 Data'!C1364","v":"ED"},{"$f":"'12.2018 Data'!D1364","v":"AN"},{"$f":"'12.2018 Data'!E1364","v":"OPER"},{"$f":"'12.2018 Data'!F1364","v":253189.44},{"$f":"'12.2018 Data'!G1364","v":253189.44},{"$f":"'12.2018 Data'!H1364","v":0},{"$f":"'12.2018 Data'!I1364","v":0},{"$f":"'12.2018 Data'!J1364","v":0},"935",253189.44,253189.44,0,0,0,{"$f":"IF(ISNUMBER(MATCH($B1384,'Org functional rollups'!$A:$A,0)),INDEX('Org functional rollups'!$D:$D,MATCH($B1384,'Org functional rollups'!$A:$A,0)),0)","v":"Common"}]
[{"$f":"'12.2018 Data'!A1365","v":"935000"},{"$f":"'12.2018 Data'!B1365","v":"Z88"},{"$f":"'12.2018 Data'!C1365","v":"CD"},{"$f":"'12.2018 Data'!D1365","v":"ID"},{"$f":"'12.2018 Data'!E1365","v":"OPER"},{"$f":"'12.2018 Data'!F1365","v":29601},{"$f":"'12.2018 Data'!G1365","v":23004.39},{"$f":"'12.2018 Data'!H1365","v":6596.61},{"$f":"'12.2018 Data'!I1365","v":0},{"$f":"'12.2018 Data'!J1365","v":0},"935",29601,23004.39,6596.61,0,0,{"$f":"IF(ISNUMBER(MATCH($B1385,'Org functional rollups'!$A:$A,0)),INDEX('Org functional rollups'!$D:$D,MATCH($B1385,'Org functional rollups'!$A:$A,0)),0)","v":"Distribution"}]
[{"$f":"'12.2018 Data'!A1366","v":"935000"},{"$f":"'12.2018 Data'!B1366","v":"Z88"},{"$f":"'12.2018 Data'!C1366","v":"CD"},{"$f":"'12.2018 Data'!D1366","v":"AN"},{"$f":"'12.2018 Data'!E1366","v":"OPER"},{"$f":"'12.2018 Data'!F1366","v":90516.6},{"$f":"'12.2018 Data'!G1366","v":70344.97},{"$f":"'12.2018 Data'!H1366","v":20171.63},{"$f":"'12.2018 Data'!I1366","v":0},{"$f":"'12.2018 Data'!J1366","v":0},"935",90516.6,70344.97,20171.63,0,0,{"$f":"IF(ISNUMBER(MATCH($B1386,'Org functional rollups'!$A:$A,0)),INDEX('Org functional rollups'!$D:$D,MATCH($B1386,'Org functional rollups'!$A:$A,0)),0)","v":"Distribution"}]
[{"$f":"'12.2018 Data'!A1367","v":"935000"},{"$f":"'12.2018 Data'!B1367","v":"Z88"},{"$f":"'12.2018 Data'!C1367","v":"CD"},{"$f":"'12.2018 Data'!D1367","v":"WA"},{"$f":"'12.2018 Data'!E1367","v":"OPER"},{"$f":"'12.2018 Data'!F1367","v":11398.25},{"$f":"'12.2018 Data'!G1367","v":8858.1200000000008},{"$f":"'12.2018 Data'!H1367","v":2540.13},{"$f":"'12.2018 Data'!I1367","v":0},{"$f":"'12.2018 Data'!J1367","v":0},"935",11398.25,8858.1200000000008,2540.13,0,0,{"$f":"IF(ISNUMBER(MATCH($B1387,'Org functional rollups'!$A:$A,0)),INDEX('Org functional rollups'!$D:$D,MATCH($B1387,'Org functional rollups'!$A:$A,0)),0)","v":"Distribution"}]
[{"$f":"'12.2018 Data'!A1368","v":"935000"},{"$f":"'12.2018 Data'!B1368","v":"Z88"},{"$f":"'12.2018 Data'!C1368","v":"GD"},{"$f":"'12.2018 Data'!D1368","v":"WA"},{"$f":"'12.2018 Data'!E1368","v":"OPER"},{"$f":"'12.2018 Data'!F1368","v":1722.8},{"$f":"'12.2018 Data'!G1368","v":0},{"$f":"'12.2018 Data'!H1368","v":1722.8},{"$f":"'12.2018 Data'!I1368","v":0},{"$f":"'12.2018 Data'!J1368","v":0},"935",1722.8,0,1722.8,0,0,{"$f":"IF(ISNUMBER(MATCH($B1388,'Org functional rollups'!$A:$A,0)),INDEX('Org functional rollups'!$D:$D,MATCH($B1388,'Org functional rollups'!$A:$A,0)),0)","v":"Distribution"}]
[{"$f":"'12.2018 Data'!A1369","v":"935000"},{"$f":"'12.2018 Data'!B1369","v":"Z88"},{"$f":"'12.2018 Data'!C1369","v":"CD"},{"$f":"'12.2018 Data'!D1369","v":"AA"},{"$f":"'12.2018 Data'!E1369","v":"OPER"},{"$f":"'12.2018 Data'!F1369","v":24584.9},{"$f":"'12.2018 Data'!G1369","v":17242.62},{"$f":"'12.2018 Data'!H1369","v":5052.0600000000004},{"$f":"'12.2018 Data'!I1369","v":2290.2199999999998},{"$f":"'12.2018 Data'!J1369","v":0},"935",24584.9,17242.62,5052.0600000000004,2290.2199999999998,0,{"$f":"IF(ISNUMBER(MATCH($B1389,'Org functional rollups'!$A:$A,0)),INDEX('Org functional rollups'!$D:$D,MATCH($B1389,'Org functional rollups'!$A:$A,0)),0)","v":"Distribution"}]
[{"$f":"'12.2018 Data'!A1370","v":"935000"},{"$f":"'12.2018 Data'!B1370","v":"Z88"},{"$f":"'12.2018 Data'!C1370","v":"ED"},{"$f":"'12.2018 Data'!D1370","v":"AN"},{"$f":"'12.2018 Data'!E1370","v":"OPER"},{"$f":"'12.2018 Data'!F1370","v":16.8},{"$f":"'12.2018 Data'!G1370","v":16.8},{"$f":"'12.2018 Data'!H1370","v":0},{"$f":"'12.2018 Data'!I1370","v":0},{"$f":"'12.2018 Data'!J1370","v":0},"935",16.8,16.8,0,0,0,{"$f":"IF(ISNUMBER(MATCH($B1390,'Org functional rollups'!$A:$A,0)),INDEX('Org functional rollups'!$D:$D,MATCH($B1390,'Org functional rollups'!$A:$A,0)),0)","v":"Distribution"}]
[{"$f":"'12.2018 Data'!A1371","v":"935000"},{"$f":"'12.2018 Data'!B1371","v":"Z88"},{"$f":"'12.2018 Data'!C1371","v":"ED"},{"$f":"'12.2018 Data'!D1371","v":"WA"},{"$f":"'12.2018 Data'!E1371","v":"OPER"},{"$f":"'12.2018 Data'!F1371","v":12164.35},{"$f":"'12.2018 Data'!G1371","v":12164.35},{"$f":"'12.2018 Data'!H1371","v":0},{"$f":"'12.2018 Data'!I1371","v":0},{"$f":"'12.2018 Data'!J1371","v":0},"935",12164.35,12164.35,0,0,0,{"$f":"IF(ISNUMBER(MATCH($B1391,'Org functional rollups'!$A:$A,0)),INDEX('Org functional rollups'!$D:$D,MATCH($B1391,'Org functional rollups'!$A:$A,0)),0)","v":"Distribution"}]
[{"$f":"'12.2018 Data'!A1372","v":"935000"},{"$f":"'12.2018 Data'!B1372","v":"Z88"},{"$f":"'12.2018 Data'!C1372","v":"ED"},{"$f":"'12.2018 Data'!D1372","v":"ID"},{"$f":"'12.2018 Data'!E1372","v":"OPER"},{"$f":"'12.2018 Data'!F1372","v":14405.05},{"$f":"'12.2018 Data'!G1372","v":14405.05},{"$f":"'12.2018 Data'!H1372","v":0},{"$f":"'12.2018 Data'!I1372","v":0},{"$f":"'12.2018 Data'!J1372","v":0},"935",14405.05,14405.05,0,0,0,{"$f":"IF(ISNUMBER(MATCH($B1392,'Org functional rollups'!$A:$A,0)),INDEX('Org functional rollups'!$D:$D,MATCH($B1392,'Org functional rollups'!$A:$A,0)),0)","v":"Distribution"}]
[{"$f":"'12.2018 Data'!A1373","v":"935000"},{"$f":"'12.2018 Data'!B1373","v":"Z89"},{"$f":"'12.2018 Data'!C1373","v":"CD"},{"$f":"'12.2018 Data'!D1373","v":"ID"},{"$f":"'12.2018 Data'!E1373","v":"OPER"},{"$f":"'12.2018 Data'!F1373","v":-146.22999999999999},{"$f":"'12.2018 Data'!G1373","v":-113.65},{"$f":"'12.2018 Data'!H1373","v":-32.58},{"$f":"'12.2018 Data'!I1373","v":0},{"$f":"'12.2018 Data'!J1373","v":0},"935",-146.22999999999999,-113.65,-32.58,0,0,{"$f":"IF(ISNUMBER(MATCH($B1393,'Org functional rollups'!$A:$A,0)),INDEX('Org functional rollups'!$D:$D,MATCH($B1393,'Org functional rollups'!$A:$A,0)),0)","v":"Common"}]
[{"$f":"'12.2018 Data'!A1374","v":"935000"},{"$f":"'12.2018 Data'!B1374","v":"Z89"},{"$f":"'12.2018 Data'!C1374","v":"CD"},{"$f":"'12.2018 Data'!D1374","v":"AN"},{"$f":"'12.2018 Data'!E1374","v":"OPER"},{"$f":"'12.2018 Data'!F1374","v":2235.7199999999998},{"$f":"'12.2018 Data'!G1374","v":1737.49},{"$f":"'12.2018 Data'!H1374","v":498.23},{"$f":"'12.2018 Data'!I1374","v":0},{"$f":"'12.2018 Data'!J1374","v":0},"935",2235.7199999999998,1737.49,498.23,0,0,{"$f":"IF(ISNUMBER(MATCH($B1394,'Org functional rollups'!$A:$A,0)),INDEX('Org functional rollups'!$D:$D,MATCH($B1394,'Org functional rollups'!$A:$A,0)),0)","v":"Common"}]
[{"$f":"'12.2018 Data'!A1375","v":"935000"},{"$f":"'12.2018 Data'!B1375","v":"Z89"},{"$f":"'12.2018 Data'!C1375","v":"CD"},{"$f":"'12.2018 Data'!D1375","v":"WA"},{"$f":"'12.2018 Data'!E1375","v":"OPER"},{"$f":"'12.2018 Data'!F1375","v":286.69},{"$f":"'12.2018 Data'!G1375","v":222.8},{"$f":"'12.2018 Data'!H1375","v":63.89},{"$f":"'12.2018 Data'!I1375","v":0},{"$f":"'12.2018 Data'!J1375","v":0},"935",286.69,222.8,63.89,0,0,{"$f":"IF(ISNUMBER(MATCH($B1395,'Org functional rollups'!$A:$A,0)),INDEX('Org functional rollups'!$D:$D,MATCH($B1395,'Org functional rollups'!$A:$A,0)),0)","v":"Common"}]
[{"$f":"'12.2018 Data'!A1376","v":"935000"},{"$f":"'12.2018 Data'!B1376","v":"Z89"},{"$f":"'12.2018 Data'!C1376","v":"GD"},{"$f":"'12.2018 Data'!D1376","v":"OR"},{"$f":"'12.2018 Data'!E1376","v":"OPER"},{"$f":"'12.2018 Data'!F1376","v":0},{"$f":"'12.2018 Data'!G1376","v":0},{"$f":"'12.2018 Data'!H1376","v":0},{"$f":"'12.2018 Data'!I1376","v":0},{"$f":"'12.2018 Data'!J1376","v":0},"935",0,0,0,0,0,{"$f":"IF(ISNUMBER(MATCH($B1396,'Org functional rollups'!$A:$A,0)),INDEX('Org functional rollups'!$D:$D,MATCH($B1396,'Org functional rollups'!$A:$A,0)),0)","v":"Common"}]
[{"$f":"'12.2018 Data'!A1377","v":"935000"},{"$f":"'12.2018 Data'!B1377","v":"Z89"},{"$f":"'12.2018 Data'!C1377","v":"ED"},{"$f":"'12.2018 Data'!D1377","v":"WA"},{"$f":"'12.2018 Data'!E1377","v":"OPER"},{"$f":"'12.2018 Data'!F1377","v":0},{"$f":"'12.2018 Data'!G1377","v":0},{"$f":"'12.2018 Data'!H1377","v":0},{"$f":"'12.2018 Data'!I1377","v":0},{"$f":"'12.2018 Data'!J1377","v":0},"935",0,0,0,0,0,{"$f":"IF(ISNUMBER(MATCH($B1397,'Org functional rollups'!$A:$A,0)),INDEX('Org functional rollups'!$D:$D,MATCH($B1397,'Org functional rollups'!$A:$A,0)),0)","v":"Common"}]
[{"$f":"'12.2018 Data'!A1378","v":"935000"},{"$f":"'12.2018 Data'!B1378","v":"Z89"},{"$f":"'12.2018 Data'!C1378","v":"CD"},{"$f":"'12.2018 Data'!D1378","v":"AA"},{"$f":"'12.2018 Data'!E1378","v":"OPER"},{"$f":"'12.2018 Data'!F1378","v":13861.92},{"$f":"'12.2018 Data'!G1378","v":9722.09},{"$f":"'12.2018 Data'!H1378","v":2848.47},{"$f":"'12.2018 Data'!I1378","v":1291.3599999999999},{"$f":"'12.2018 Data'!J1378","v":0},"935",13861.92,9722.09,2848.47,1291.3599999999999,0,{"$f":"IF(ISNUMBER(MATCH($B1398,'Org functional rollups'!$A:$A,0)),INDEX('Org functional rollups'!$D:$D,MATCH($B1398,'Org functional rollups'!$A:$A,0)),0)","v":"Common"}]
[{"$f":"'12.2018 Data'!A1379","v":"935000"},{"$f":"'12.2018 Data'!B1379","v":"Z89"},{"$f":"'12.2018 Data'!C1379","v":"ED"},{"$f":"'12.2018 Data'!D1379","v":"AN"},{"$f":"'12.2018 Data'!E1379","v":"OPER"},{"$f":"'12.2018 Data'!F1379","v":3637.66},{"$f":"'12.2018 Data'!G1379","v":3637.66},{"$f":"'12.2018 Data'!H1379","v":0},{"$f":"'12.2018 Data'!I1379","v":0},{"$f":"'12.2018 Data'!J1379","v":0},"935",3637.66,3637.66,0,0,0,{"$f":"IF(ISNUMBER(MATCH($B1399,'Org functional rollups'!$A:$A,0)),INDEX('Org functional rollups'!$D:$D,MATCH($B1399,'Org functional rollups'!$A:$A,0)),0)","v":"Common"}]
[{"$f":"'12.2018 Data'!A1380","v":"935000"},{"$f":"'12.2018 Data'!B1380","v":"Z89"},{"$f":"'12.2018 Data'!C1380","v":"GD"},{"$f":"'12.2018 Data'!D1380","v":"WA"},{"$f":"'12.2018 Data'!E1380","v":"OPER"},{"$f":"'12.2018 Data'!F1380","v":-80.709999999999994},{"$f":"'12.2018 Data'!G1380","v":0},{"$f":"'12.2018 Data'!H1380","v":-80.709999999999994},{"$f":"'12.2018 Data'!I1380","v":0},{"$f":"'12.2018 Data'!J1380","v":0},"935",-80.709999999999994,0,-80.709999999999994,0,0,{"$f":"IF(ISNUMBER(MATCH($B1400,'Org functional rollups'!$A:$A,0)),INDEX('Org functional rollups'!$D:$D,MATCH($B1400,'Org functional rollups'!$A:$A,0)),0)","v":"Common"}]
[{"$f":"'12.2018 Data'!A1381","v":"935000"},{"$f":"'12.2018 Data'!B1381","v":"Z89"},{"$f":"'12.2018 Data'!C1381","v":"ED"},{"$f":"'12.2018 Data'!D1381","v":"ID"},{"$f":"'12.2018 Data'!E1381","v":"OPER"},{"$f":"'12.2018 Data'!F1381","v":0},{"$f":"'12.2018 Data'!G1381","v":0},{"$f":"'12.2018 Data'!H1381","v":0},{"$f":"'12.2018 Data'!I1381","v":0},{"$f":"'12.2018 Data'!J1381","v":0},"935",0,0,0,0,0,{"$f":"IF(ISNUMBER(MATCH($B1401,'Org functional rollups'!$A:$A,0)),INDEX('Org functional rollups'!$D:$D,MATCH($B1401,'Org functional rollups'!$A:$A,0)),0)","v":"Common"}]
[{"$f":"'12.2018 Data'!A1382","v":"935000"},{"$f":"'12.2018 Data'!B1382","v":"Z90"},{"$f":"'12.2018 Data'!C1382","v":"ED"},{"$f":"'12.2018 Data'!D1382","v":"AN"},{"$f":"'12.2018 Data'!E1382","v":"OPER"},{"$f":"'12.2018 Data'!F1382","v":22492.720000000001},{"$f":"'12.2018 Data'!G1382","v":22492.720000000001},{"$f":"'12.2018 Data'!H1382","v":0},{"$f":"'12.2018 Data'!I1382","v":0},{"$f":"'12.2018 Data'!J1382","v":0},"935",22492.720000000001,22492.720000000001,0,0,0,{"$f":"IF(ISNUMBER(MATCH($B1402,'Org functional rollups'!$A:$A,0)),INDEX('Org functional rollups'!$D:$D,MATCH($B1402,'Org functional rollups'!$A:$A,0)),0)","v":"Common"}]
[{"$f":"'12.2018 Data'!A1383","v":"935000"},{"$f":"'12.2018 Data'!B1383","v":"Z90"},{"$f":"'12.2018 Data'!C1383","v":"ED"},{"$f":"'12.2018 Data'!D1383","v":"WA"},{"$f":"'12.2018 Data'!E1383","v":"OPER"},{"$f":"'12.2018 Data'!F1383","v":72.2},{"$f":"'12.2018 Data'!G1383","v":72.2},{"$f":"'12.2018 Data'!H1383","v":0},{"$f":"'12.2018 Data'!I1383","v":0},{"$f":"'12.2018 Data'!J1383","v":0},"935",72.2,72.2,0,0,0,{"$f":"IF(ISNUMBER(MATCH($B1403,'Org functional rollups'!$A:$A,0)),INDEX('Org functional rollups'!$D:$D,MATCH($B1403,'Org functional rollups'!$A:$A,0)),0)","v":"Common"}]
[{"$f":"'12.2018 Data'!A1384","v":"935000"},{"$f":"'12.2018 Data'!B1384","v":"Z90"},{"$f":"'12.2018 Data'!C1384","v":"CD"},{"$f":"'12.2018 Data'!D1384","v":"AN"},{"$f":"'12.2018 Data'!E1384","v":"OPER"},{"$f":"'12.2018 Data'!F1384","v":9373.14},{"$f":"'12.2018 Data'!G1384","v":7284.29},{"$f":"'12.2018 Data'!H1384","v":2088.85},{"$f":"'12.2018 Data'!I1384","v":0},{"$f":"'12.2018 Data'!J1384","v":0},"935",9373.14,7284.29,2088.85,0,0,{"$f":"IF(ISNUMBER(MATCH($B1404,'Org functional rollups'!$A:$A,0)),INDEX('Org functional rollups'!$D:$D,MATCH($B1404,'Org functional rollups'!$A:$A,0)),0)","v":"Common"}]
[{"$f":"'12.2018 Data'!A1385","v":"935000"},{"$f":"'12.2018 Data'!B1385","v":"Z90"},{"$f":"'12.2018 Data'!C1385","v":"CD"},{"$f":"'12.2018 Data'!D1385","v":"ID"},{"$f":"'12.2018 Data'!E1385","v":"OPER"},{"$f":"'12.2018 Data'!F1385","v":720.07},{"$f":"'12.2018 Data'!G1385","v":559.58000000000004},{"$f":"'12.2018 Data'!H1385","v":160.49},{"$f":"'12.2018 Data'!I1385","v":0},{"$f":"'12.2018 Data'!J1385","v":0},"935",720.07,559.58000000000004,160.49,0,0,{"$f":"IF(ISNUMBER(MATCH($B1405,'Org functional rollups'!$A:$A,0)),INDEX('Org functional rollups'!$D:$D,MATCH($B1405,'Org functional rollups'!$A:$A,0)),0)","v":"Common"}]
[{"$f":"'12.2018 Data'!A1386","v":"935000"},{"$f":"'12.2018 Data'!B1386","v":"Z90"},{"$f":"'12.2018 Data'!C1386","v":"ED"},{"$f":"'12.2018 Data'!D1386","v":"ID"},{"$f":"'12.2018 Data'!E1386","v":"OPER"},{"$f":"'12.2018 Data'!F1386","v":399.83},{"$f":"'12.2018 Data'!G1386","v":399.83},{"$f":"'12.2018 Data'!H1386","v":0},{"$f":"'12.2018 Data'!I1386","v":0},{"$f":"'12.2018 Data'!J1386","v":0},"935",399.83,399.83,0,0,0,{"$f":"IF(ISNUMBER(MATCH($B1406,'Org functional rollups'!$A:$A,0)),INDEX('Org functional rollups'!$D:$D,MATCH($B1406,'Org functional rollups'!$A:$A,0)),0)","v":"Common"}]
[{"$f":"'12.2018 Data'!A1387","v":"935000"},{"$f":"'12.2018 Data'!B1387","v":"Z90"},{"$f":"'12.2018 Data'!C1387","v":"GD"},{"$f":"'12.2018 Data'!D1387","v":"OR"},{"$f":"'12.2018 Data'!E1387","v":"OPER"},{"$f":"'12.2018 Data'!F1387","v":43.5},{"$f":"'12.2018 Data'!G1387","v":0},{"$f":"'12.2018 Data'!H1387","v":0},{"$f":"'12.2018 Data'!I1387","v":43.5},{"$f":"'12.2018 Data'!J1387","v":0},"935",43.5,0,0,43.5,0,{"$f":"IF(ISNUMBER(MATCH($B1407,'Org functional rollups'!$A:$A,0)),INDEX('Org functional rollups'!$D:$D,MATCH($B1407,'Org functional rollups'!$A:$A,0)),0)","v":"Common"}]
[{"$f":"'12.2018 Data'!A1388","v":"935000"},{"$f":"'12.2018 Data'!B1388","v":"Z90"},{"$f":"'12.2018 Data'!C1388","v":"GD"},{"$f":"'12.2018 Data'!D1388","v":"WA"},{"$f":"'12.2018 Data'!E1388","v":"OPER"},{"$f":"'12.2018 Data'!F1388","v":137.88999999999999},{"$f":"'12.2018 Data'!G1388","v":0},{"$f":"'12.2018 Data'!H1388","v":137.88999999999999},{"$f":"'12.2018 Data'!I1388","v":0},{"$f":"'12.2018 Data'!J1388","v":0},"935",137.88999999999999,0,137.88999999999999,0,0,{"$f":"IF(ISNUMBER(MATCH($B1408,'Org functional rollups'!$A:$A,0)),INDEX('Org functional rollups'!$D:$D,MATCH($B1408,'Org functional rollups'!$A:$A,0)),0)","v":"Common"}]
[{"$f":"'12.2018 Data'!A1389","v":"935000"},{"$f":"'12.2018 Data'!B1389","v":"Z90"},{"$f":"'12.2018 Data'!C1389","v":"CD"},{"$f":"'12.2018 Data'!D1389","v":"AA"},{"$f":"'12.2018 Data'!E1389","v":"OPER"},{"$f":"'12.2018 Data'!F1389","v":87032.84},{"$f":"'12.2018 Data'!G1389","v":61040.17},{"$f":"'12.2018 Data'!H1389","v":17884.580000000002},{"$f":"'12.2018 Data'!I1389","v":8108.09},{"$f":"'12.2018 Data'!J1389","v":0},"935",87032.84,61040.17,17884.580000000002,8108.09,0,{"$f":"IF(ISNUMBER(MATCH($B1409,'Org functional rollups'!$A:$A,0)),INDEX('Org functional rollups'!$D:$D,MATCH($B1409,'Org functional rollups'!$A:$A,0)),0)","v":"Common"}]
[{"$f":"'12.2018 Data'!A1390","v":"935000"},{"$f":"'12.2018 Data'!B1390","v":"Z90"},{"$f":"'12.2018 Data'!C1390","v":"CD"},{"$f":"'12.2018 Data'!D1390","v":"WA"},{"$f":"'12.2018 Data'!E1390","v":"OPER"},{"$f":"'12.2018 Data'!F1390","v":203.53},{"$f":"'12.2018 Data'!G1390","v":158.21},{"$f":"'12.2018 Data'!H1390","v":45.32},{"$f":"'12.2018 Data'!I1390","v":0},{"$f":"'12.2018 Data'!J1390","v":0},"935",203.53,158.21,45.32,0,0,{"$f":"IF(ISNUMBER(MATCH($B1410,'Org functional rollups'!$A:$A,0)),INDEX('Org functional rollups'!$D:$D,MATCH($B1410,'Org functional rollups'!$A:$A,0)),0)","v":"Common"}]
[{"$f":"'12.2018 Data'!A1391","v":0},{"$f":"'12.2018 Data'!B1391","v":0},{"$f":"'12.2018 Data'!C1391","v":0},{"$f":"'12.2018 Data'!D1391","v":0},{"$f":"'12.2018 Data'!E1391","v":0},{"$f":"'12.2018 Data'!F1391","v":0},{"$f":"'12.2018 Data'!G1391","v":0},{"$f":"'12.2018 Data'!H1391","v":0},{"$f":"'12.2018 Data'!I1391","v":0},{"$f":"'12.2018 Data'!J1391","v":0},"0",0,0,0,0,0,{"$f":"IF(ISNUMBER(MATCH($B1411,'Org functional rollups'!$A:$A,0)),INDEX('Org functional rollups'!$D:$D,MATCH($B1411,'Org functional rollups'!$A:$A,0)),0)","v":0}]

{"sheet":"Org functional rollups","index":3,"n_rows":325,"n_cols":8,"rows_kept":325,"cut":false,"hidden":false,"merged":[]}
["Org data from AVANET, file as of 11/3/2008",null,null,null,null,null,"COS A&G function table"]
["Checked against 2/12/2010 Expenditure Organization Descriptions on Discoverer",null,null,null,null,null,"Any Org that rolls to ENGR will get assigned to Distribution."]
["Updated 1/15/2014 to Expenditure Org and Org Structure on Discoverer",null,null,null,null,null,"If there is an Org that rolls to ENGR that should not roll to Distribution,"]
[null,null,null,null,null,null,"it should be overridden at the Org level."]
[]
[" ",null,"Sum",null,null,null,"Unique"]
["Org","Org Name","Ctr - 1","COS A&G function lookup","Notes",null,"Ctr - 1","COS A&G function"]
["000","Direct GL Transactions","SUPP",{"$f":"INDEX($H:$H,MATCH($C8,$G:$G,0))","v":"Common"},null,null,"0004","Production"]
["028","Washington State Expense","GENL","Common",null,null,"0007","Production"]
["038","Idaho State Expense","GENL","Common",null,null,"0055","Production"]
["048","Montana State Expense","GENL","Common",null,null,"AAA","None"]
["068","Oregon State Expense","GENL","Common",null,null,"ACCT","Common"]
["078","California State Expense","GENL","Common",null,null,"AVIS","None"]
["092","Oregon/California Allocated Expense","GENL","Common",null,null,"BSPA","Distribution"]
["098","Washington/Idaho Common Expense","GENL","Common",null,null,"CCOM","Common"]
["099","WAID/OREG Common Expense","GENL","Common",null,null,"CEXO","None"]
["A01","Native American Relations","VPPS","Production",null,null,"CNST","Distribution"]
["A02","HRIS/Payroll","VPHR","Common",null,null,"COCR","Distribution"]
["A04","Environmental Affairs","0004","Production",null,null,"COMD","Customer"]
["A07","Production & Generation","0007","Production",null,null,"CUST","Customer"]
["A08","Relay & Protection Design","ENGR","Distribution",null,null,"ENGR","Distribution"]
["A09","IS/IT Shared Services","INFO","Common",null,null,"ESOL","Customer"]
["A19","Operating Tech Ops","INFO","Common",null,null,"EXEC","Common"]
["A39","COTS Development","INFO","Common",null,null,"GEGR","Distribution"]
["A50","Director of Operations Washington & Idaho","INFO","Common",null,null,"GENL","Common"]
["A51","Director of Operations South","CNST","Distribution",null,null,"INFO","Common"]
["A52","Service Development & Marketing","CUST","Customer",null,null,"MNTC","Distribution"]
["A56","System Operations","TRAN","Transmission",null,null,"OREG","Distribution"]
["A57","Energy Delivery Utility Accounting","VPCC","Common",null,null,"RSRC","Production"]
["A80","Director of OREG","OREG","Distribution",null,null,"SPOW","Distribution"]
["A81","Medford Construction","OREG","Distribution",null,null,"TRAN","Transmission"]
["A82","Roseburg","OREG","Distribution",null,null,"VPCC","Common"]
["A83","Klamath Falls","OREG","Distribution",null,null,"VPCS","Customer"]
["B02","Benefits","VPHR","Common"]
["B04","Clark Fork Licensing","0004","Production",null,null,"VPFO","Common"]
["B07","Project Delivery","0007","Production",null,null,"VPGC","Common"]
["B08","B08 - Business Process Improvement","CUST","Customer",null,null,"VPHR","Common"]
["B09","Telecommunications Shop","INFO","Common",null,null,"VPOP","Distribution"]
["B16","Government Relations","SUPP","Common",null,null,"VPPS","Production"]
["B50","Spokane Electric","CNST",{"$f":"INDEX($H:$H,MATCH($C40,$G:$G,0))","v":"Distribution"},null,null,"VPRR","Common"]
["B51","Gas Engineering","GEGR","Distribution",null,null,"VPTR","Common"]
["B52","Gas Engineering Cathodic Protection","GEGR","Distribution",null,null,"VPUP","Common"]
["B53","Pullman","CNST","Distribution",null,null,"SUPP","Common"]
["B54","Gas Compliance","GEGR","Distribution",null,null,"NGAS","Production"]
["B56","Misc Transmission Expense","TRAN","Transmission",null,null,"OPER","Distribution"]
["B81","Medford Customer Service/Call Center","CUST","Customer",null,null,"AMPI","Distribution"]
["C02","Employee Engagement","VPHR","Common",null,null,"CSOL","Customer"]
["C04","Spokane River Licensing","0004","Production"]
["C06","Joint Project - CS2","RSRC","Production"]
["C07","Hydro Spokane River","0007","Production"]
["C08","Technical Services - GIS","ENGR","Distribution"]
["C09","Security Systems","INFO","Common"]
["C11","CC&B Technology","INFO","Common"]
["C19","Security Operations","INFO","Common"]
["C29","Security Products & Serv","INFO","Common"]
["C50","C50 - Spokane Call Center","CUST","Customer"]
["C51","Electric Distribution Design","ENGR","Distribution"]
["C52","Customer Solutions","ESOL","Customer"]
["C53","C53 - Coeur d Alene Gas","OPER","Distribution"]
["C54","Tax Services","SUPP","Common"]
["C55","Gas Resource Costs","RSRC","Production"]
["C56","System Planning","TRAN","Transmission"]
["C57","Spokane Electric Network","ENGR","Distribution"]
["C59","Enterprise Business Continuity","INFO","Common"]
["C81","Medford Tech Service","OREG","Distribution"]
["C83","LaGrande","OREG","Distribution"]
["D01","Contracts","VPHR","Common"]
["D02","SR. VP HR and Corp. Services","VPHR","Common"]
["D08","Energy Delivery General Manager","VPOP","Distribution"]
["D09","SCADA","TRAN","Transmission"]
["D50","Meter Reading/Billing","CUST","Customer"]
["D51","Vegetation Management","MNTC",{"$f":"INDEX($H:$H,MATCH($C72,$G:$G,0))","v":"Distribution"}]
["D52","DSM Policy, Planning & Analysis","RSRC","Production"]
["D53","Clarkston ","CNST","Distribution"]
["D54","Corporate & Subsidiary Accounting","VPCC","Common"]
["D55","Natural Gas Resources","0055","Production"]
["D56","Director Transmission","TRAN","Transmission"]
["D83","Goldendale Construction","CNST","Distribution"]
["E01","Executive Administration","EXEC","Common"]
["E02","Corporate Organizational Development","VPHR","Common"]
["E07","Generation Engineers","0007","Production"]
["E08","Old RC for Conversion","OPER","Distribution"]
["E09","Distributed Systems","INFO","Common"]
["E14","Corp Environmental Compliance","0004","Production"]
["E19","Distributed Systems Ops","INFO","Common"]
["E29","Distributed Syst Prod & Serv","INFO","Common"]
["E50","Spokane Customer Service","CUST","Customer"]
["E51","Asset Management","AMPI","Distribution"]
["E52","Oregon DSM","ESOL","Customer"]
["E53","Lewiston Call Center","CUST","Customer"]
["E54","Accounts Payable","SUPP","Common"]
["E55","Power Supply","0055","Production"]
["E56","Transmission Services","TRAN","Transmission"]
["F02","HR Analytics and Compl","VPHR","Common"]
["F08","Electric Shop","0007","Transmission","Production by default"]
["F14","External Projects","VPCS",{"$f":"INDEX($H:$H,MATCH($C96,$G:$G,0))","v":"Customer"}]
["F19","Back Office Tech Ops","INFO","Common"]
["F39","Oracle Fin Services Dev","INFO","Common"]
["F50","Credit and Collections","CUST","Customer"]
["F51","GIS","OPER","Distribution"]
["F52","Market Services","ESOL","Customer"]
["F53","AM Lewiston/Clarkston","ESOL","Customer"]
["F54","Treasury & Trust Management Services","VPFO","Common"]
["F55","Analysis, Budget, Forecasting","VPFO","Common"]
["FIN","Financial Information Summary","GENL","Common"]
["G01","Officer Support Team","EXEC","Common"]
["G02","Employee Safety","VPHR","Distribution","Common by default"]
["G08","Gas Construction Management","OPER",{"$f":"INDEX($H:$H,MATCH($C108,$G:$G,0))","v":"Distribution"}]
["G10","Credit Union","VPFO","Common"]
["G39","GIS Development","INFO","Common"]
["G50","Colville","SPOW","Distribution"]
["G51","Director of Natural Gas","NGAS","Production"]
["G53","AM Coeur d'Alene","OPER","Distribution"]
["G54","Finance Administration","VPCC","Common"]
["G55","Power Purchases","RSRC","Production"]
["H02","Occupational Health","VPHR","Common"]
["H03","Fac. Lease Management","CUST","Common","Customer by default"]
["H04","Hydro Compliance","0004",{"$f":"INDEX($H:$H,MATCH($C118,$G:$G,0))","v":"Production"}]
["H07","Facilities Management","CUST","Common","Customer by default"]
["H08","Energy Delivery Strategic Projects","VPOP",{"$f":"INDEX($H:$H,MATCH($C120,$G:$G,0))","v":"Distribution"}]
["H14","Consumer Affairs","COMD",{"$f":"INDEX($H:$H,MATCH($C121,$G:$G,0))","v":"Customer"}]
["H50","Othello","SPOW",{"$f":"INDEX($H:$H,MATCH($C122,$G:$G,0))","v":"Distribution"}]
["H51","Supply Chain Management","SUPP",{"$f":"INDEX($H:$H,MATCH($C123,$G:$G,0))","v":"Common"}]
["H53","Kellogg/St Maries","COCR",{"$f":"INDEX($H:$H,MATCH($C124,$G:$G,0))","v":"Distribution"}]
["H54","Remittance Services","VPFO","Customer","Common by default"]
["H55","Fuels Management","RSRC",{"$f":"INDEX($H:$H,MATCH($C126,$G:$G,0))","v":"Production"}]
["I02","Craft Training","VPHR","Distribution","Common by Default"]
["I08","Energy Delivery Operations Support","VPOP",{"$f":"INDEX($H:$H,MATCH($C128,$G:$G,0))","v":"Distribution"}]
["I50","Contact Center - IT","CUST",{"$f":"INDEX($H:$H,MATCH($C129,$G:$G,0))","v":"Customer"}]
["I54","Taxes Other Than Income","ACCT",{"$f":"INDEX($H:$H,MATCH($C130,$G:$G,0))","v":"Common"}]
["J01","Executive VP & CFO","VPFO",{"$f":"INDEX($H:$H,MATCH($C131,$G:$G,0))","v":"Common"}]
["J02","Public Safety","VPHR","Customer","Common by default"]
["J06","Joint Project-Jackson Prairie","RSRC",{"$f":"INDEX($H:$H,MATCH($C133,$G:$G,0))","v":"Production"}]
["J08","Gas Construction Quality Control","GEGR","Distribution"]
["J09","Network System","INFO","Common"]
["J10","Utility Finance Centralization","VPFO","Common"]
["J11","Planning and Analysis","VPHR","Common"]
["J29","Ntwk Sys Prod & Serv","INFO","Common"]
["J50","Reg Bus Mgr - Spokane","OPER","Distribution"]
["J51","Warehousing","SUPP","Common"]
["J53","Sandpoint/Bonners Ferry","COCR","Distribution"]
["J54","Internal Auditing","EXEC","Common"]
["K02","Compensation","VPHR","Common"]
["K07","Thermal O&M","0007","Production"]
["K08","GIS Editing","OPER","Distribution"]
["K14","Public Affairs","VPCS","Customer"]
["K19","Customers Tech Ops","INFO","Common"]
["K39","Gen Custom App Dev","INFO","Common"]
["K50","Old RC for Conversion","OPER","Distribution"]
["K51","Fleet Management","CNST","Distribution"]
["K53","Coeur d'Alene Call Center","CUST","Customer"]
["K54","Financial Systems Project","VPFO","Common"]
["L02","Smart Grid Workforce Training","VPHR","Distribution","Common by Default"]
["L07","Hydro O&M","0007",{"$f":"INDEX($H:$H,MATCH($C154,$G:$G,0))","v":"Production"}]
["L08","Transmission Design","ENGR","Transmission","Distribution by default"]
["L39","Nucleus Development","INFO",{"$f":"INDEX($H:$H,MATCH($C156,$G:$G,0))","v":"Common"}]
["L50","Spokane Gas","SPOW",{"$f":"INDEX($H:$H,MATCH($C157,$G:$G,0))","v":"Distribution"}]
["L51","Claims","VPGC",{"$f":"INDEX($H:$H,MATCH($C158,$G:$G,0))","v":"Common"}]
["L52","Claims Accrual","VPGC",{"$f":"INDEX($H:$H,MATCH($C159,$G:$G,0))","v":"Common"}]
["L53","Coeur d'Alene","COCR",{"$f":"INDEX($H:$H,MATCH($C160,$G:$G,0))","v":"Distribution"}]
["L54","Travel & Flight Operations","CUST","Common","Customer by default"]
["M07","Mechanical/Structural Shop","0007",{"$f":"INDEX($H:$H,MATCH($C162,$G:$G,0))","v":"Production"}]
["M08","Substation Design","ENGR","Distribution"]
["M09","Central Systems","INFO","Common"]
["M11","EAM Technology","INFO","Common"]
["M19","Central Systems Ops","INFO","Common"]
["M29","Cntrl Syst Prod & Serv","INFO","Common"]
["M50","Deer Park","OPER","Distribution"]
["M51","Asset Maintenance","MNTC","Distribution"]
["M53","Business Entrepreeurial Network","ESOL","Customer"]
["M54","Business Development","SUPP","Common"]
["N06","Joint Project-Colstrip","RSRC","Production"]
["N07","Utility Environ Compliance","0004","Production"]
["N08","Drafting & Survey","ENGR","Distribution"]
["N09","Office of CIO","INFO","Common"]
["N50","Director of Customer Service","CUST","Customer"]
["N51","Write-Off Accrual","CUST","Customer"]
["N52","CSS Replacement Project","CUST","Customer"]
["N53","AM Spokane West","BSPA","Distribution"]
["N54","N54 - Contracts","CUST","Customer"]
["P01","Legal Expenses","VPGC","Common"]
["P03","Energy Deliver Tech Proj","VPOP","Distribution"]
["P07","Contract and Projection Management","0007","Production"]
["P08","Distribution Oper Sys","ENGR","Distribution"]
["P09","Project Management","INFO","Common"]
["P50","Davenport","SPOW","Distribution"]
["P51","Distribution Dispatch","TRAN","Distribution","Transmission by default"]
["P53","AM Moscow/Pullman","BSPA",{"$f":"INDEX($H:$H,MATCH($C188,$G:$G,0))","v":"Distribution"}]
["P59","Tech Service Center","INFO","Common"]
["P99","IT Director","INFO","Common"]
["PET","Petty Cash Advance","GENL","Common"]
["PRN","Property Removal Notice","GENL","Common"]
["PRT","Financial Information Summary","GENL","Common"]
["Q19","Qlty Assur & Rel Mgmt","INFO","Common"]
["R09","Communicated Systems","INFO","Common"]
["R11","Rates & Regulations","VPRR","Common"]
["R19","Comm Systems Ops","INFO","Common"]
["R29","Comm Sys Prod & Serv","INFO","Common"]
["R50","Spokane Construction Engineering/Mapping","SPOW","Distribution"]
["R51","Joint Use Projects - Distribution","CNST","Distribution"]
["R53","Grangeville","CNST","Distribution"]
["R54","Risk Management","VPFO","Common"]
["R55","Resource Risk Management","VPFO","Production","Common by default"]
["R56","Insurance Management","VPFO",{"$f":"INDEX($H:$H,MATCH($C204,$G:$G,0))","v":"Common"}]
["S01","VP & Counsel for Regulatory/Govt Affairs","VPGC","Common"]
["S03","Advantage IQ","AVIS","None"]
["S04","SPS CYOC Mgmt Oversight","AVIS","None"]
["S08","Strategic Projects Development","OPER","Distribution"]
["S09","Applications Operations & Support","INFO","Common"]
["S19","Intergrations Operations","INFO","Common"]
["S20","Director of Finance","VPFO","Common"]
["S39","Integrations Development","INFO","Common"]
["S50","Construction Services","SPOW","Distribution"]
["S51","Supply Chain Loadings","SUPP","Common"]
["S52","Sr Mgr of Shared Service","SUPP","Common"]
["S53","St. Maries","VPOP","Distribution"]
["S54","External Communications","SUPP","Common"]
["T01","President & COO Avista Corp","VPUP","Common"]
["T07","Turbine Maintenance","0007","Production"]
["T08","Electrical Engineering","ENGR","Distribution"]
["T19","CC&B Operations","SUPP","Common"]
["T39","CC&B Development","SUPP","Common"]
["T50","Econ Develop Analyst","VPCS","Customer"]
["T51","Operations Project Management","OPER","Distribution"]
["T52","Demand Side Management","ESOL","Customer"]
["T53","South East Engineer","CNST","Distribution"]
["T54","Rev and Fin Systems","VPFO","Common"]
["T55","Regional Power Issues","RSRC","Production"]
["U01","Legal Staff","VPGC","Common"]
["U50","Limited Income","ESOL","Customer"]
["V01","Sr. VP and General Counsel","VPGC","Common"]
["V08","Real Estate","VPGC","Common"]
["V19","EAM/Maximo Operations","SUPP","Common"]
["V39","EAM/Maximo Development","SUPP","Common"]
["V50","AM Oregon","BSPA","Distribution"]
["W01","Compliance","VPGC","Common"]
["W07","Wind Generation","0007","Production"]
["W09","IS/IT Application Support","INFO","Common"]
["W39","IS Delivery","INFO","Common"]
["W54","Finance Responsibility","ACCT","Common"]
["W55","Wholesale Exposure Reserve","ACCT","Production","Common by default"]
["X01","CEO & President","SUPP",{"$f":"INDEX($H:$H,MATCH($C242,$G:$G,0))","v":"Common"}]
["X02","HR/Comp/Labor & Emp Relations","VPHR","Common"]
["X08","Relay Shop","0007","Production"]
["X09","Applications Data","INFO","Common"]
["X19","Data Operations","INFO","Common"]
["X39","Data Development","INFO","Common"]
["X54","Accounting Responsibility","ACCT","Common"]
["X55","Misc Deferrals","RSRC","Production"]
["X57","Energy Delivery Accounting Responsibilities","ACCT","Distribution","Common by default"]
["Y01","Corporate Secretary","VPHR",{"$f":"INDEX($H:$H,MATCH($C251,$G:$G,0))","v":"Common"}]
["Y39","Web Development","INFO","Common"]
["Y54","Strategic Corporate Development","VPFO","Common"]
["Y55","Resource Accounting","RSRC","Production"]
["Z08","Electric Meter Shop","ENGR","Distribution"]
["Z09","Postage Centralization","SUPP","Common"]
["Z57","Centralized Credits","ACCT","Common"]
["Z81","General Construction Loader","OPER","Distribution"]
["Z82","Generation Production Loader","RSRC","Production"]
["Z83","Electric Transmission Loader","TRAN","Transmission"]
["Z84","Electric Distribution Loader","ENGR","Distribution"]
["Z85","WA/ID Gas Distribution Loader","VPOP","Distribution"]
["Z86","OR/CA Gas Distribution Loader","OREG","Distribution"]
["Z87","Benefits Loaders","VPHR","Common"]
["Z88","Transportation Loaders","OPER","Distribution"]
["Z89","Payroll Accrual","ACCT","Common"]
["Z90","Incentive Compensation","VPHR","Common"]
["Z91","Other One Leave","VPHR","Common"]
["0004","Environmental Affairs","VPPS","Production"]
["0007","Production & Generation","VPPS","Production"]
["0055","Energy Resource Department","VPPS","Production"]
["AAA","Total Company","AAA","None"]
["ACCT","Accounting Items","CEXO","None"]
["AVIS","Avista Subsidiaries","CEXO","None"]
["BSPA","Business and Public Affairs","VPCS","Customer"]
["CCOM","Corporate Communications","VPCS","Customer"]
["CEXO","CEO & President","AAA","None"]
["CNST","Operations Spokane & West","VPOP","Distribution"]
["COCR","Construction Services","CNST","Distribution"]
["COMD","Community Development","VPCS","Customer"]
["CUST","Customer & General Services","VPOP","Customer","Distribution by default"]
["DIV","Dividends Accrued","GENL",{"$f":"INDEX($H:$H,MATCH($C282,$G:$G,0))","v":"Common"}]
["ENGR","Engineering","VPOP","Distribution"]
["ERR","A/P Error Suspense","GENL","Common"]
["ESOL","Energy Solutions","VPCS","Customer"]
["EXEC","Executive Department Summary","CEXO","None"]
["GEGR","Gas Engineering","VPOP","Distribution"]
["GENL","General Corporate RCs","AAA","None"]
["MMA","Year End Move/Merge","GENL","Common"]
["MNTC","Maintenance","CNST","Distribution"]
["Q28","Washington State Revenue","GENL","Common"]
["Q38","Idaho State Revenue","GENL","Common"]
["Q48","Montana State Revenue","GENL","Common"]
["Q68","Oregon State Revenue","GENL","Common"]
["Q78","California State Revenue","GENL","Common"]
["Q92","Oregon/California Allocated Revenue","GENL","Common"]
["Q98","Washington/Idaho Common Revenue","GENL","Common"]
["Q99","WAID/OREG Common Revenue","GENL","Common"]
["RET","Work Order Retired","GENL","Common"]
["RSRC","Energy Resources","VPPS","Production"]
["SPOW","Spokane & West","CNST","Distribution"]
["SPRO","Strategic Projects","VPOP","Distribution"]
["TRAN","Transmission","VPOP","Transmission","Distribution by default"]
["TRF","Work Order Transferred","GENL",{"$f":"INDEX($H:$H,MATCH($C304,$G:$G,0))","v":"Common"}]
["VPCS","VP Customer Solutions","VPUP","Customer","Common by default"]
["VPCC","VP Corporate Controller","VPTR",{"$f":"INDEX($H:$H,MATCH($C306,$G:$G,0))","v":"Common"}]
["VPFO","Executive VP & CFO - Finance & Risk Management","CEXO",{"$f":"INDEX($H:$H,MATCH($C307,$G:$G,0))","v":"None"}]
["VPGC","Sr. VP & General Counsel","CEXO",{"$f":"INDEX($H:$H,MATCH($C308,$G:$G,0))","v":"None"}]
["VPHR","Sr. VP Human Resources & Corp Secretary","CEXO",{"$f":"INDEX($H:$H,MATCH($C309,$G:$G,0))","v":"None"}]
["VPOP","VP Operations","VPUP","Distribution","Common by default"]
["VPPS","VP Energy Resources","VPUP",{"$f":"INDEX($H:$H,MATCH($C311,$G:$G,0))","v":"Common"}]
["VPRR","VP Rates and Regs","VPUP","Common"]
["VPTR","VP Treasurer","VPFO","Common"]
["VPUP","President & COO Avista Corp","CEXO","None"]
["A54","Service Development & Marketing","CSOL","Customer"]
["S05","Salix","AVIS","None"]
["J07","Generation Civil/Mech. Engineering","new","Production"]
["M02","Corp Learning & Develop","new","Common"]
["N02","HR Shared Services","new","Common"]
["R07","Generation Controls Engineering","new","Production"]
["R08","Gas Programs","new","Distribution"]
["A53","External Affairs","new","Common"]
["G07","Generation Electrical Engineering","new","Production"]
["V51","Grid Modernization","new","Transmission"]
["L11","Trans Veg Mgmt","new","Transmission"]

{"sheet":"Org Pivot","index":4,"n_rows":2122,"n_cols":4,"rows_kept":2122,"cut":false,"hidden":false,"merged":[]}
[]
[]
[]
[]
["Link Org","Organization Desc","Organization","Org Structure Desc"]
["000","#N/A","000","GL Direct"]
[null,null,"ACCT","Accounting Items"]
[null,null,"AVA"]
[null,null,"CEXO","CEO & President"]
[null,null,"CORP","Accounting Items"]
[null,null,"SUPP","Support"]
[null,null,"VPCC","VP Corporate Controller"]
["028","#N/A","028","Washington State Expense"]
[null,null,"AVA"]
[null,null,"GENL","General Corporate"]
[null,null,"SUPP","Support"]
["038","#N/A","038","Idaho State Expense"]
[null,null,"AVA"]
[null,null,"GENL","General Corporate"]
[null,null,"SUPP","Support"]
["048","#N/A","048","Montana State Expense"]
[null,null,"AVA"]
[null,null,"GENL","General Corporate"]
[null,null,"SUPP","Support"]
["068","#N/A","068","Oregon State Expense"]
[null,null,"AVA"]
[null,null,"GENL","General Corporate"]
[null,null,"SUPP","Support"]
["078","#N/A","078","California State Expense"]
[null,null,"AVA"]
[null,null,"GENL","General Corporate"]
[null,null,"SUPP","Support"]
["092","#N/A","092","Oregon/California Allocated Expense"]
[null,null,"AVA"]
[null,null,"GENL","General Corporate"]
[null,null,"SUPP","Support"]
["098","#N/A","098","Washington/Idaho Common Expense"]
[null,null,"AVA"]
[null,null,"GENL","General Corporate"]
["099","#N/A","099","WAID/OREG Common Expense"]
[null,null,"AVA"]
[null,null,"CORP","Sr. VP & CFO"]
[null,null,"GENL","General Corporate RCs"]
[null,null,"SUPP","Support"]
["10A","N54 - Strategic Initiatives","10A","AA - Account Management"]
[null,null,"AVA"]
[null,null,"AVIS","Avista Subsidiaries"]
[null,null,null,"Avista Subsidiary"]
[null,null,"CORP","Finance & Risk Management"]
[null,null,"SUPP","Support"]
["11E","11E - AE Finance","11E","AE - Finance"]
[null,null,"AVA"]
[null,null,"AVIS","Avista Subsidiaries"]
[null,null,null,"Avista Subsidiary"]
[null,null,"CORP","Finance & Risk Management"]
[null,null,"SUPP","Support"]
["20A","N54 - Strategic Initiatives","20A","AA - Implementation"]
[null,null,"AVA"]
[null,null,"AVIS","Avista Subsidiaries"]
[null,null,"SUPP","Support"]
["20E","20E - AE - Marketing Spokane","20E","AE - Marketing Spokane"]
[null,null,"AVA"]
[null,null,"AVIS","Avista Subsidiaries"]
[null,null,null,"Avista Subsidiary"]
[null,null,"CORP","Finance & Risk Management"]
[null,null,"SUPP","Support"]
["21E","N54 - Strategic Initiatives","21E","AE - Marketing Houston"]
[null,null,"AVA"]
[null,null,"AVIS","Avista Subsidiaries"]
[null,null,"SUPP","Support"]
["260","260 - Development","260","Avista Development"]
[null,null,"AVA"]
[null,null,"AVIS","Avista Subsidiaries"]
["30E","N54 - Strategic Initiatives","30E","AE - IS"]
[null,null,"AVA"]
[null,null,"AVIS","Avista Subsidiaries"]
[null,null,"SUPP","Support"]
["35E","N54 - Strategic Initiatives","35E","AE - Credit/Contracts"]
[null,null,"AVA"]
[null,null,"AVIS","Avista Subsidiaries"]
[null,null,"SUPP","Support"]
["40A","N54 - Strategic Initiatives","40A","AA - Training"]
[null,null,"AVA"]
[null,null,"AVIS","Avista Subsidiaries"]
[null,null,"SUPP","Support"]
["40E","40E - AE - Risk","40E","AE - Risk"]
[null,null,"AVA"]
[null,null,"AVIS","Avista Subsidiaries"]
[null,null,null,"Avista Subsidiary"]
[null,null,"CORP","Finance & Risk Management"]
[null,null,"SUPP","Support"]
["50A","N54 - Strategic Initiatives","50A","AA - Administration"]
[null,null,"AVA"]
[null,null,"AVIS","Avista Subsidiaries"]
[null,null,"SUPP","Support"]
["50E","50E - AE - Trading Spokane","50E","AE - Trading Spokane"]
[null,null,"AVA"]
[null,null,"AVIS","Avista Subsidiaries"]
[null,null,null,"Avista Subsidiary"]
[null,null,"CORP","Finance & Risk Management"]
[null,null,"SUPP","Support"]
["52E","N54 - Strategic Initiatives","52E","AE - Trading Houston"]
[null,null,"AVA"]
[null,null,"AVIS","Avista Subsidiaries"]
[null,null,"SUPP","Support"]
["60A","N54 - Strategic Initiatives","60A","AA - Data Entry"]
[null,null,"AVA"]
[null,null,"AVIS","Avista Subsidiaries"]
[null,null,null,"Avista Subsidiary"]
[null,null,"CORP","Finance & Risk Management"]
[null,null,"SUPP","Support"]
["A01","A01 - Native American  Relations","A01","Native American Relations"]
[null,null,"AVA"]
[null,null,"CEXO","CEO & President"]
[null,null,"OPER","Sr. VP Energy Resources"]
[null,null,"SUPP","Support"]
[null,null,"VPPS","Sr. VP Energy Resources"]
[null,null,"VPUP","President & COO Avista Corp"]
["A02","A02 - HRIS/Payroll","A02","HRIS/Payroll"]
[null,null,"AVA"]
[null,null,"CEXO","CEO & President"]
[null,null,"CORP","Sr. VP Human Resources"]
[null,null,"SUPP","Support"]
[null,null,"VPHR","Sr. VP Human Resources"]
["A03","N54 - Strategic Initiatives","A03","Avista Power"]
[null,null,"AVA"]
[null,null,"AVIS","Avista Subsidiaries"]
[null,null,"CORP","Finance & Risk Management"]
[null,null,"SUPP","Support"]
["A04","A04 - Environmental Affairs","0004","Environmental Affairs"]
[null,null,"A04","Environmental Affairs"]
[null,null,"AVA"]
[null,null,"CEXO","CEO & President"]
[null,null,"CORP","Sr. VP & General Counsel"]
[null,null,"SUPP","Support"]
[null,null,"VPGC","Sr. VP & General Counsel"]
["A07","A07 - Gen Mgmt & Admin Support","0007","Gen Prod Sub Support"]
[null,null,"A07","Generation and Central Support"]
[null,null,"AVA"]
[null,null,"CEXO","CEO & President"]
[null,null,"OPER","Sr. VP Energy Resources"]
[null,null,"SUPP","Support"]
[null,null,"VPPS","Sr. VP Energy Resources"]
[null,null,"VPUP","President & COO Avista Corp"]
["A08","A08 - Relay & Protection","A08","Relay & Protection Design"]
[null,null,"AVA"]
[null,null,"CEXO","CEO & President"]
[null,null,"ENGR","Electric Engineering"]
[null,null,"OPER","VP Energy Delivery"]
[null,null,"SUPP","Support"]
[null,null,"VPOP","VP Energy Delivery"]
[null,null,"VPUP","President & COO Avista Corp"]
["A09","A09 - ET Shared Services","A09","ET Shared Services"]
[null,null,"AVA"]
[null,null,"CEXO","CEO & President"]
[null,null,"INFO","VP Info & Security"]
[null,null,"OPER","VP Info & Security"]
[null,null,"SUPP","Support"]
[null,null,"VPUP","President & COO Avista Corp"]
["A50","A50 - Director of Ops WA & ID","A50","West Ops and Asset Maint"]
[null,null,"AVA"]
[null,null,"CEXO","CEO & President"]
[null,null,"ELEC","Electric"]
[null,null,"OPER","VP Energy Delivery"]
[null,null,"VPOP","VP Energy Delivery"]
[null,null,"VPUP","President & COO Avista Corp"]
[null,null,"WEST","Director of Operations - West"]
["A51","A51 - Dir Operations East & South","A51","East and South Ops"]
[null,null,"AVA"]
[null,null,"CEXO","CEO & President"]
[null,null,"EAST","Director Operations - East"]
[null,null,"ELEC","Electric"]
[null,null,"OPER","VP Energy Delivery"]
[null,null,"VPOP","VP Energy Delivery"]
[null,null,"VPUP","President & COO Avista Corp"]
["A52","A52 - Svc Develop & Marketng","A52","Svc Develop & Marketing"]
[null,null,"AVA"]
[null,null,"CEXO","CEO & President"]
[null,null,"OPER","VP Customer Solutions"]
[null,null,"SUPP","Support"]
[null,null,"VPCS","VP Customer Solutions"]
[null,null,"VPUP","President & COO Avista Corp"]
[null,null,"CSOL","Customer Solutions"]
["A56","A56 - System Operations","A56","System Operations"]
[null,null,"AVA"]
[null,null,"CEXO","CEO & President"]
[null,null,"OPER","VP Energy Delivery"]
[null,null,"SUPP","Support"]
[null,null,"TRAN","Transmission"]
[null,null,"VPOP","VP Energy Delivery"]
[null,null,"VPUP","President & COO Avista Corp"]
["A57","A57 - Ed Utility Accounting","A57","Energy Delivery Utility Accounting"]
[null,null,"AVA"]
[null,null,"CEXO","CEO & President"]
[null,null,"CORP","Sr. VP & CFO"]
[null,null,"SUPP","Support"]
[null,null,"VPCC","VP Corporate Controller"]
[null,null,"VPFO","Sr. VP & CFO"]
["A80","A80 - Director of ORCA","A80","Director of OREG"]
[null,null,"AVA"]
[null,null,"CEXO","CEO & President"]
[null,null,"GAS","Gas"]
[null,null,"NGAS","Natural Gas Operations"]
[null,null,"OPER","Natural Gas Operations"]
[null,null,"VPOP","VP Operations"]
[null,null,"VPUP","President & COO Avista Corp"]
["A81","A81 - Medford Construction","A81","Medford Construction"]
[null,null,"AVA"]
[null,null,"CEXO","CEO & President"]
[null,null,"GAS","Gas"]
[null,null,"NGAS","Natural Gas"]
[null,null,"NGCO","Natural Gas Construction Ops"]
[null,null,"OPER","VP Energy Delivery"]
[null,null,"VPOP","VP Energy Delivery"]
[null,null,"VPUP","President & COO Avista Corp"]
["A82","A82 - Roseburg","A82","Roseburg"]
[null,null,"AVA"]
[null,null,"CEXO","CEO & President"]
[null,null,"GAS","Gas"]
[null,null,"NGAS","Natural Gas"]
[null,null,"NGCO","Natural Gas Construction Ops"]
[null,null,"OPER","VP Energy Delivery"]
[null,null,"VPOP","VP Energy Delivery"]
[null,null,"VPUP","President & COO Avista Corp"]
["A83","A83 - Klamath Falls","A83","Klamath Falls"]
[null,null,"AVA"]
[null,null,"CEXO","CEO & President"]
[null,null,"GAS","Gas"]
[null,null,"NGAS","Natural Gas"]
[null,null,"NGCO","Natural Gas Construction Ops"]
[null,null,"OPER","VP Energy Delivery"]
[null,null,"VPOP","VP Energy Delivery"]
[null,null,"VPUP","President & COO Avista Corp"]
["A84","A84 -South Lake Tahoe","A84","South Lake Tahoe"]
[null,null,"AVA"]
[null,null,"CEXO","CEO & President"]
[null,null,"GAS","Gas"]
[null,null,"OPER","Natural Gas Operations"]
[null,null,"VPOP","VP Operations"]
[null,null,"VPUP","President & COO Avista Corp"]
["B02","B02 - Benefits","AVA"]
[null,null,"B02","Benefits"]
[null,null,"CEXO","CEO & President"]
[null,null,"CORP","Sr. VP Human Resources"]
[null,null,"SUPP","Support"]
[null,null,"VPHR","Sr. VP Human Resources"]
["B04","B04 - Clark Fork License","0004","Environmental Affairs"]
[null,null,"AVA"]
[null,null,"B04","Clark Fork License"]
[null,null,"CEXO","CEO & President"]
[null,null,"CORP","Sr. VP & General Counsel"]
[null,null,"SUPP","Support"]
[null,null,"VPGC","Sr. VP & General Counsel"]
["B08","B08 - Business Process Improvement","AVA"]
[null,null,"B08","Business Process Improvement"]
[null,null,"CEXO","CEO & President"]
[null,null,"CUST","Customer Service & Sales"]
[null,null,"OPER","VP Customer Solutions"]
[null,null,"SUPP","Support"]
[null,null,"VPCS","VP Customer Solutions"]
[null,null,"VPUP","President & COO Avista Corp"]
["B09","B09 - Network Operations","AVA"]
[null,null,"B09","Network Systems Operations"]
[null,null,"CEXO","CEO & President"]
[null,null,"INFO","VP Info & Security"]
[null,null,"INFR","Infrastructure Technology Summary"]
[null,null,"OPER","VP Info & Security"]
[null,null,"SUPP","Support"]
[null,null,"VPUP","President & COO Avista Corp"]
[null,null,"ITOP","IT Operations Rollup"]
["B16","B16 - Government Relations","AVA"]
[null,null,"B16","Government Relations"]
[null,null,"CEXO","CEO & President"]
[null,null,"CORP","Executive Department Summary"]
[null,null,"SUPP","Support"]
[null,null,"VPUP","President & COO Avista Corp"]
["B50","B50 - Spokane Electric","AVA"]
[null,null,"B50","Spokane Electric"]
[null,null,"CEXO","CEO & President"]
[null,null,"ELEC","Electric"]
[null,null,"OPER","VP Energy Delivery"]
[null,null,"VPOP","VP Energy Delivery"]
[null,null,"VPUP","President & COO Avista Corp"]
[null,null,"WEST","Director of Operations - West"]
["B51","B51 - Gas Engineering","AVA"]
[null,null,"B51","Gas Engineering"]
[null,null,"CEXO","CEO & President"]
[null,null,"GAS","Gas"]
[null,null,"GEGR","Gas Engineering"]
[null,null,"NGAS","Natural Gas"]
[null,null,"OPER","VP Energy Delivery"]
[null,null,"VPOP","VP Energy Delivery"]
[null,null,"VPUP","President & COO Avista Corp"]
["B52","B52 - Gas Comp Cathodic","AVA"]
[null,null,"B52","Gas Comp Cathodic"]
[null,null,"CEXO","CEO & President"]
[null,null,"GAS","Gas"]
[null,null,"GEGR","Gas Engineering"]
[null,null,"NGAS","Natural Gas"]
[null,null,"OPER","VP Energy Delivery"]
[null,null,"VPOP","VP Energy Delivery"]
[null,null,"VPUP","President & COO Avista Corp"]
["B53","B53 - Pullman","AVA"]
[null,null,"B53","Pullman"]
[null,null,"CEXO","CEO & President"]
[null,null,"EAST","Director Operations - East"]
[null,null,"ELEC","Electric"]
[null,null,"OPER","VP Energy Delivery"]
[null,null,"VPOP","VP Energy Delivery"]
[null,null,"VPUP","President & COO Avista Corp"]
["B54","B54 - Gas Compliance","AVA"]
[null,null,"B54","Gas Compliance"]
[null,null,"CEXO","CEO & President"]
[null,null,"GAS","Gas"]
[null,null,"GEGR","Gas Engineering"]
[null,null,"NGAS","Natural Gas"]
[null,null,"OPER","VP Energy Delivery"]
[null,null,"VPOP","VP Energy Delivery"]
[null,null,"VPUP","President & COO Avista Corp"]
["B56","B56 - Misc Transmission Expense","AVA"]
[null,null,"B56","Misc Transmission Expense"]
[null,null,"CEXO","CEO & President"]
[null,null,"OPER","VP Energy Delivery"]
[null,null,"SUPP","Support"]
[null,null,"TRAN","Transmission"]
[null,null,"VPOP","VP Energy Delivery"]
[null,null,"VPUP","President & COO Avista Corp"]
["B81","B81 - Contact Ctr-Medford","AVA"]
[null,null,"B81","Con Ctr - Medford"]
[null,null,"CEXO","CEO & President"]
[null,null,"CSSS","Customer & Shared Services"]
[null,null,null,"Dir of Customer Service"]
[null,null,"CUST","Customer Service"]
[null,null,"FLDC","Field Customer Service"]
[null,null,"OPER","Customer Service"]
[null,null,"VPOP","Customer Service"]
[null,null,null,"VP Operations"]
[null,null,"VPUP","President & COO Avista Corp"]
["C02","C02 - Employee Engagement","AVA"]
[null,null,"C02","Internal Communications"]
[null,null,"CEXO","CEO & President"]
[null,null,"CORP","Sr. VP Human Resources"]
[null,null,"SUPP","Support"]
[null,null,"VPHR","Sr. VP Human Resources"]
["C04","C04 - Spokane River License","0004","Environmental Affairs"]
[null,null,"AVA"]
[null,null,"C04","Spokane River License"]
[null,null,"CEXO","CEO & President"]
[null,null,"CORP","Sr. VP & General Counsel"]
[null,null,"SUPP","Support"]
[null,null,"VPGC","Sr. VP & General Counsel"]
["C06","C06 - Joint Project - CS2","AVA"]
[null,null,"C06","Joint Project - CS2"]
[null,null,"CEXO","CEO & President"]
[null,null,"OPER","Sr. VP Energy Resources"]
[null,null,"RSRC","Joint Resources"]
[null,null,"SUPP","Support"]
[null,null,"VPPS","Sr. VP Energy Resources"]
[null,null,"VPUP","President & COO Avista Corp"]
["C07","C07 - Spokane River Hydro","0007","Gen Prod Sub Support"]
[null,null,"AVA"]
[null,null,"C07","Spokane River Hydro"]
[null,null,"CEXO","CEO & President"]
[null,null,"OPER","Sr. VP Energy Resources"]
[null,null,"SUPP","Support"]
[null,null,"VPPS","Sr. VP Energy Resources"]
[null,null,"VPUP","President & COO Avista Corp"]
["C08","C08 - Technical Services - GIS","AVA"]
[null,null,"C08","Engineering Technical Services"]
[null,null,"CEXO","CEO & President"]
[null,null,"ENGR","Electric Engineering"]
[null,null,"OPER","VP Energy Delivery"]
[null,null,"SUPP","Support"]
[null,null,"VPOP","VP Energy Delivery"]
[null,null,"VPUP","President & COO Avista Corp"]
["C09","C09 - Security Systems","AVA"]
[null,null,"C09","Security Engineering"]
[null,null,"CEXO","CEO & President"]
[null,null,"INFO","VP Info & Security"]
[null,null,"INFR","Infrastructure Technology Summary"]
[null,null,"OPER","VP Info & Security"]
[null,null,"SUPP","Support"]
[null,null,"VPUP","President & COO Avista Corp"]
[null,null,"SEO","Security Rollup"]
["C50","C50 - Contact Ctr Spokane-Hire & Train","AVA"]
[null,null,"C50","Con Ctr - Spokane"]
[null,null,"CEXO","CEO & President"]
[null,null,"CUST","Customer Service & Sales"]
[null,null,"OPER","VP Customer Solutions"]
[null,null,"SUPP","Support"]
[null,null,"VPCS","VP Customer Solutions"]
[null,null,"VPUP","President & COO Avista Corp"]
["C51","C51 - Elec Distributn Design","AVA"]
[null,null,"C51","Elec Distribution Design"]
[null,null,"CEXO","CEO & President"]
[null,null,"ENGR","Electric Engineering"]
[null,null,"OPER","VP Energy Delivery"]
[null,null,"SUPP","Support"]
[null,null,"VPOP","VP Energy Delivery"]
[null,null,"VPUP","President & COO Avista Corp"]
["C52","C52 - Customer Solutions","AVA"]
[null,null,"C52","VP Customer Solutions"]
[null,null,"CEXO","CEO & President"]
[null,null,"CSSS","VP Customer Solutions"]
[null,null,"CUST","Customer Service"]
[null,null,"ESOL","Energy Solutions"]
[null,null,"OPER","Customer Service"]
[null,null,"SUPP","Support"]
[null,null,"VPCS","Customer Service"]
[null,null,"VPUP","President & COO Avista Corp"]
["C53","C53 - Coeur d Alene Gas","AVA"]
[null,null,"C53","Coeur d'Alene Gas"]
[null,null,"CEXO","CEO & President"]
[null,null,"GAS","Gas"]
[null,null,"NGAS","Natural Gas"]
[null,null,"NGCO","Natural Gas Construction Ops"]
[null,null,"OPER","VP Energy Delivery"]
[null,null,"VPOP","VP Energy Delivery"]
[null,null,"VPUP","President & COO Avista Corp"]
["C54","C54 - Tax Services","AVA"]
[null,null,"C54","Tax Services"]
[null,null,"CEXO","CEO & President"]
[null,null,"CORP","Sr. VP & CFO"]
[null,null,"SUPP","Support"]
[null,null,"VPCC","VP Corporate Controller"]
[null,null,"VPFO","Sr. VP & CFO"]
["C55","C55 - Gas Resource Costs","AVA"]
[null,null,"C55","Gas Resource Costs"]
[null,null,"CEXO","CEO & President"]
[null,null,"OPER","Energy Resource Department"]
[null,null,"RSRC","Energy Resources"]
[null,null,"SUPP","Support"]
[null,null,"VPPS","VP Energy Resources"]
[null,null,"VPUP","President & COO Avista Corp"]
["C56","C56 - System Planning","AMSP","Planning & Asset Management"]
[null,null,"AVA"]
[null,null,"C56","System Planning"]
[null,null,"CEXO","CEO & President"]
[null,null,"OPER","VP Energy Delivery"]
[null,null,"SUPP","Support"]
[null,null,"VPOP","VP Energy Delivery"]
[null,null,"VPUP","President & COO Avista Corp"]
["C57","C57 - Spokane Electric Network","AVA"]
[null,null,"C57","Spokane Electric Network"]
[null,null,"CEXO","CEO & President"]
[null,null,"ELEC","Electric"]
[null,null,"OPER","VP Energy Delivery"]
[null,null,"VPOP","VP Energy Delivery"]
[null,null,"VPUP","President & COO Avista Corp"]
[null,null,"WEST","Director of Operations - West"]
["C81","C81 - Medford Tech Service","AVA"]
[null,null,"C81","Medford Technical Services"]
[null,null,"CEXO","CEO & President"]
[null,null,"GAS","Gas"]
[null,null,"NGAS","Natural Gas Operations"]
[null,null,"OPER","Natural Gas Operations"]
[null,null,"VPOP","VP Operations"]
[null,null,"VPUP","President & COO Avista Corp"]
["C83","C83 - La Grande","AVA"]
[null,null,"C83","LaGrande"]
[null,null,"CEXO","CEO & President"]
[null,null,"GAS","Gas"]
[null,null,"NGAS","Natural Gas"]
[null,null,"NGCO","Natural Gas Construction Ops"]
[null,null,"OPER","VP Energy Delivery"]
[null,null,"VPOP","VP Energy Delivery"]
[null,null,"VPUP","President & COO Avista Corp"]
["D01","N54 - Strategic Initiatives","VPHR","Sr Dir Human Resources"]
["D02","D02 - VP Of Hr & Corp Service","AVA"]
[null,null,"CEXO","CEO & President"]
[null,null,"CORP","Sr. VP Human Resources"]
[null,null,"D02","SR. VP HR and Corp. Services"]
[null,null,"SUPP","Support"]
[null,null,"VPHR","Sr. VP Human Resources"]
["D08","D08 - Energy Del Gen Mg","AVA"]
[null,null,"CEXO","CEO & President"]
[null,null,"D08","Energy Delivery General Manager"]
[null,null,"OPER","VP Energy Delivery"]
[null,null,"SUPP","Support"]
[null,null,"VPOP","VP Energy Delivery"]
[null,null,"VPUP","President & COO Avista Corp"]
["D09","D09 - Scada","AVA"]
[null,null,"CEXO","CEO & President"]
[null,null,"D09","SCADA"]
[null,null,"OPER","VP Energy Delivery"]
[null,null,"SUPP","Support"]
[null,null,"TRAN","Transmission"]
[null,null,"VPOP","VP Energy Delivery"]
[null,null,"VPUP","President & COO Avista Corp"]
["D50","D50 - Meter Read/Billing","AVA"]
[null,null,"CEXO","CEO & President"]
[null,null,"CUST","Customer Service & Sales"]
[null,null,"D50","Meter Reading - OSM"]
[null,null,"OPER","VP Customer Solutions"]
[null,null,"SUPP","Support"]
[null,null,"VPCS","VP Customer Solutions"]
[null,null,"VPUP","President & COO Avista Corp"]
["D51","D51 - Vegetation Management","AVA"]
[null,null,"CEXO","CEO & President"]
[null,null,"D51","Distribution Vegetation Management"]
[null,null,"ELEC","Electric"]
[null,null,"MNTC","Asset Maintenance"]
[null,null,"OPER","VP Energy Delivery"]
[null,null,"VPOP","VP Energy Delivery"]
[null,null,"VPUP","President & COO Avista Corp"]
[null,null,"WEST","Director of Operations - West"]
["D52","D52 - Energy Efficiency","AVA"]
[null,null,"CEXO","CEO & President"]
[null,null,"D52","Energy Efficiency"]
[null,null,"OPER","VP Customer Solutions"]
[null,null,"SUPP","Support"]
[null,null,"VPCS","VP Customer Solutions"]
[null,null,"VPUP","President & COO Avista Corp"]
[null,null,"CSOL","Customer Solutions"]
["D53","D53 - Clarkston","AVA"]
[null,null,"CEXO","CEO & President"]
[null,null,"D53","Clarkston "]
[null,null,"EAST","Director Operations - East"]
[null,null,"ELEC","Electric"]
[null,null,"OPER","VP Energy Delivery"]
[null,null,"VPOP","VP Energy Delivery"]
[null,null,"VPUP","President & COO Avista Corp"]
["D54","D54 - Corp & Subs Accounting","AVA"]
[null,null,"CEXO","CEO & President"]
[null,null,"CORP","Sr. VP & CFO"]
[null,null,"D54","Corporate & Subsidiary Accounting"]
[null,null,"SUPP","Support"]
[null,null,"VPCC","VP Corporate Controller"]
[null,null,"VPFO","Sr. VP & CFO"]
["D55","D55 - Natural Gas Resources","0055","Energy Resource Department"]
[null,null,"AVA"]
[null,null,"CEXO","CEO & President"]
[null,null,"D55","Natural Gas Resources"]
[null,null,"OPER","Sr. VP Energy Resources"]
[null,null,"SUPP","Support"]
[null,null,"VPPS","Sr. VP Energy Resources"]
[null,null,"VPUP","President & COO Avista Corp"]
["D56","D56 - Director of Engineering/System Ops","AVA"]
[null,null,"CEXO","CEO & President"]
[null,null,"D56","Director Transmission"]
[null,null,"OPER","VP Energy Delivery"]
[null,null,"SUPP","Support"]
[null,null,"TRAN","Transmission"]
[null,null,"VPOP","VP Energy Delivery"]
[null,null,"VPUP","President & COO Avista Corp"]
["D83","D83 - Goldendale Construction","AVA"]
[null,null,"CEXO","CEO & President"]
[null,null,"CNST","Operations"]
[null,null,"D83","Goldendale Construction"]
[null,null,"ELEC","Electric"]
[null,null,"OPER","Director of Operations - West"]
[null,null,"VPOP","VP Operations"]
[null,null,"VPUP","President & COO Avista Corp"]
["E01","E01 - Exec Administration","AVA"]
[null,null,"CEXO","CEO & President"]
[null,null,"CORP","Executive Department Summary"]
[null,null,"E01","Executive Administration"]
[null,null,"EXEC","Executive Department Summary"]
[null,null,"SUPP","Support"]
["E02","E02 - Corp Org Development","AVA"]
[null,null,"CEXO","CEO & President"]
[null,null,"CORP","Sr. VP Human Resources"]
[null,null,"E02","Corporate Organizational Development"]
[null,null,"SUPP","Support"]
[null,null,"VPHR","Sr. VP Human Resources"]
["E07","E07 - Generation Engineers","0007","Gen Prod Sub Support"]
[null,null,"AVA"]
[null,null,"CEXO","CEO & President"]
[null,null,"E07","Generation Engineers"]
[null,null,"OPER","Sr. VP Energy Resources"]
[null,null,"SUPP","Support"]
[null,null,"VPPS","Sr. VP Energy Resources"]
[null,null,"VPUP","President & COO Avista Corp"]
["E08","E08 - Old RC for Conversion","AVA"]
[null,null,"CEXO","CEO & President"]
[null,null,"CNST","Operations"]
[null,null,"E08","Conversion Org"]
[null,null,"ELEC","Electric"]
[null,null,"OPER","Director of Operations - West"]
[null,null,"VPOP","VP Operations"]
[null,null,"VPUP","President & COO Avista Corp"]
["E09","E09 - Distributed Systems","AVA"]
[null,null,"CEXO","CEO & President"]
[null,null,"E09","Distributed Systems Engineering"]
[null,null,"INFO","VP Info & Security"]
[null,null,"INFR","Infrastructure Technology Summary"]
[null,null,"OPER","VP Info & Security"]
[null,null,"SUPP","Support"]
[null,null,"VPUP","President & COO Avista Corp"]
[null,null,"ITSE","System Engineering Rollup"]
["E14","E14 - Environmental Compliance","0004","Environmental Affairs"]
[null,null,"AVA"]
[null,null,"CEXO","CEO & President"]
[null,null,"CORP","Sr. VP & General Counsel"]
[null,null,"E14","Environmental Compliance"]
[null,null,"SUPP","Support"]
[null,null,"VPGC","Sr. VP & General Counsel"]
["E50","E50 - Contact Ctr-Spokane","AVA"]
[null,null,"CEXO","CEO & President"]
[null,null,"CUST","Customer Service & Sales"]
[null,null,"E50","Con Ctr - Hiring-L and D"]
[null,null,"OPER","VP Customer Solutions"]
[null,null,"SUPP","Support"]
[null,null,"VPCS","VP Customer Solutions"]
[null,null,"VPUP","President & COO Avista Corp"]
["E51","E51 - Asset Management","AMSP","Planning & Asset Management"]
[null,null,"AVA"]
[null,null,"CEXO","CEO & President"]
[null,null,"E51","Asset Management"]
[null,null,"OPER","VP Energy Delivery"]
[null,null,"SUPP","Support"]
[null,null,"VPOP","VP Energy Delivery"]
[null,null,"VPUP","President & COO Avista Corp"]
["E52","E52 - Oregon DSM","AVA"]
[null,null,"CEXO","CEO & President"]
[null,null,"E52","OR DSM"]
[null,null,"ESOL","Energy Solutions"]
[null,null,"OPER","VP Customer Solutions"]
[null,null,"SUPP","Support"]
[null,null,"VPCS","VP Customer Solutions"]
[null,null,"VPUP","President & COO Avista Corp"]
["E53","E53 - Contact Ctr-Lewiston","AVA"]
[null,null,"CEXO","CEO & President"]
[null,null,"CUST","Customer Service & Sales"]
[null,null,"E53","Con Ctr - Lewiston"]
[null,null,"OPER","VP Customer Solutions"]
[null,null,"SUPP","Support"]
[null,null,"VPCS","VP Customer Solutions"]
[null,null,"VPUP","President & COO Avista Corp"]
["E54","E54 - Accounts Payable","AVA"]
[null,null,"CEXO","CEO & President"]
[null,null,"CORP","Finance & Risk Management"]
[null,null,"E54","Accounts Payable"]
[null,null,"SUPP","Support"]
[null,null,"VPFN","Dir of Finance"]
[null,null,null,"VP Finance"]
[null,null,"VPFO","Exec VP & CFO - Finance & Risk Mgmt"]
[null,null,null,"Executive VP & CFO - Finance & Risk Mana"]
[null,null,null,"Executive VP & CFO"]
["E55","E55 - Power Supply","0055","Energy Resource Department"]
[null,null,"AVA"]
[null,null,"CEXO","CEO & President"]
[null,null,"E55","Power Supply"]
[null,null,"OPER","Sr. VP Energy Resources"]
[null,null,"SUPP","Support"]
[null,null,"VPPS","Sr. VP Energy Resources"]
[null,null,"VPUP","President & COO Avista Corp"]
["E56","E56 - Transmission Services","AVA"]
[null,null,"CEXO","CEO & President"]
[null,null,"E56","Transmission Services"]
[null,null,"OPER","VP Energy Delivery"]
[null,null,"SUPP","Support"]
[null,null,"TRAN","Transmission"]
[null,null,"VPOP","VP Energy Delivery"]
[null,null,"VPUP","President & COO Avista Corp"]
["F08","F08 - Electric Shop","0007","Gen Prod Sub Support"]
[null,null,"AVA"]
[null,null,"CEXO","CEO & President"]
[null,null,"F08","Electric Shop"]
[null,null,"OPER","Sr. VP Energy Resources"]
[null,null,"SUPP","Support"]
[null,null,"VPPS","Sr. VP Energy Resources"]
[null,null,"VPUP","President & COO Avista Corp"]
["F14","F14 - External Projects","AVA"]
[null,null,"BCED","Business, Community & Econ Dev"]
[null,null,"CEXO","CEO & President"]
[null,null,"F14","External Projects"]
[null,null,"OPER","Customer Service"]
[null,null,"VPOP","VP Operations"]
[null,null,"VPUP","President & COO Avista Corp"]
["F50","F50 - Contact Ctr-Credit & Collections","AVA"]
[null,null,"CEXO","CEO & President"]
[null,null,"CUST","Customer Service & Sales"]
[null,null,"F50","Con Ctr Credit-Collection"]
[null,null,"OPER","VP Customer Solutions"]
[null,null,"SUPP","Support"]
[null,null,"VPCS","VP Customer Solutions"]
[null,null,"VPUP","President & COO Avista Corp"]
["F51","F51 - G.I.S.","AVA"]
[null,null,"CEXO","CEO & President"]
[null,null,"CNST","Operations"]
[null,null,"ELEC","Electric"]
[null,null,"F51","G. I. S."]
[null,null,"OPER","Director of Operations - West"]
[null,null,"VPOP","VP Operations"]
["F52","F52 - Market Services","AVA"]
[null,null,"CEXO","CEO & President"]
[null,null,"CUST","Customer Service & Sales"]
[null,null,"F52","Account Execs"]
[null,null,"OPER","VP Customer Solutions"]
[null,null,"SUPP","Support"]
[null,null,"VPCS","VP Customer Solutions"]
[null,null,"VPUP","President & COO Avista Corp"]
["F53","F53 - AM Lewis/Clark","AVA"]
[null,null,"CEXO","CEO & President"]
[null,null,"ESOL","Energy Solutions"]
[null,null,"F53","Reg Bus Mgr - Lewis Clark"]
[null,null,"OPER","VP Customer Solutions"]
[null,null,"SUPP","Support"]
[null,null,"VPCS","VP Customer Solutions"]
[null,null,"VPUP","President & COO Avista Corp"]
["F54","F54 - Treasury & Trust Mgmt","AVA"]
[null,null,"CEXO","CEO & President"]
[null,null,"CORP","Sr. VP & CFO"]
[null,null,"F54","Treasury & Trust Management Services"]
[null,null,"SUPP","Support"]
[null,null,"VPFN","Finance & Treasury"]
[null,null,"VPFO","Sr. VP & CFO"]
["F55","F55 - Financial Planning and Analysis","AVA"]
[null,null,"CEXO","CEO & President"]
[null,null,"CORP","Sr. VP & CFO"]
[null,null,"F55","Financial Planning & Analysis"]
[null,null,"SUPP","Support"]
[null,null,"VPFN","Finance & Treasury"]
[null,null,"VPFO","Sr. VP & CFO"]
["FIN","FIN - Financial Info Summary","AVA"]
[null,null,"CORP","Sr. VP & CFO"]
[null,null,"FIN","Financial Information Summary"]
[null,null,"GENL","General Corporate RCs"]
[null,null,"SUPP","Support"]
["G01","G01 - Officer Support Team","AVA"]
[null,null,"CEXO","CEO & President"]
[null,null,"CORP","Sr. VP & CFO"]
[null,null,"G01","Officer Support Team"]
[null,null,"SUPP","Support"]
[null,null,"VPFO","Sr. VP & CFO"]
["G02","G02 - Employee Safety","AVA"]
[null,null,"CEXO","CEO & President"]
[null,null,"CORP","Sr. VP Human Resources"]
[null,null,"G02","Employee Safety"]
[null,null,"SUPP","Support"]
[null,null,"VPHR","Sr. VP Human Resources"]
["G08","G08 - Gas Construction Management","AVA"]
[null,null,"CEXO","CEO & President"]
[null,null,"G08","Gas Construction Management"]
[null,null,"GAS","Gas"]
[null,null,"NGAS","Natural Gas"]
[null,null,"NGCO","Natural Gas Construction Ops"]
[null,null,"OPER","VP Energy Delivery"]
[null,null,"VPOP","VP Energy Delivery"]
[null,null,"VPUP","President & COO Avista Corp"]
["G10","G10 - Credit Union","AVA"]
[null,null,"CEXO","CEO & President"]
[null,null,"CORP","Sr. VP & CFO"]
[null,null,"G10","Credit Union"]
[null,null,"SUPP","Support"]
[null,null,"VPFN","Finance & Treasury"]
[null,null,"VPFO","Sr. VP & CFO"]
["G50","G50 - Colville","AVA"]
[null,null,"CEXO","CEO & President"]
[null,null,"ELEC","Electric"]
[null,null,"G50","Colville"]
[null,null,"OPER","VP Energy Delivery"]
[null,null,"VPOP","VP Energy Delivery"]
[null,null,"VPUP","President & COO Avista Corp"]
[null,null,"WEST","Director of Operations - West"]
["G51","G51 - Dir of Natural Gas","AVA"]
[null,null,"CEXO","CEO & President"]
[null,null,"G51","Dir of Natural Gas"]
[null,null,"GAS","Gas"]
[null,null,"NGAS","Natural Gas"]
[null,null,"OPER","VP Energy Delivery"]
[null,null,"VPOP","VP Energy Delivery"]
[null,null,"VPUP","President & COO Avista Corp"]
["G53","G53 - Area Manager - CDA","AVA"]
[null,null,"CEXO","CEO & President"]
[null,null,"ESOL","Energy Solutions"]
[null,null,"G53","Reg Bus Mgr - North Idaho"]
[null,null,"OPER","VP Customer Solutions"]
[null,null,"SUPP","Support"]
[null,null,"VPCS","VP Customer Solutions"]
[null,null,"VPUP","President & COO Avista Corp"]
["G54","G54 - Finance Administration","AVA"]
[null,null,"CEXO","CEO & President"]
[null,null,"CORP","Sr. VP & CFO"]
[null,null,"G54","Finance Administration"]
[null,null,"SUPP","Support"]
[null,null,"VPCC","VP Corporate Controller"]
[null,null,"VPFO","Sr. VP & CFO"]
["G55","G55 - Power Purchases","0055","Energy Resources"]
[null,null,"AVA"]
[null,null,"CEXO","CEO & President"]
[null,null,"G55","Power Purchases"]
[null,null,"OPER","Energy Resource Department"]
[null,null,"RSRC","Energy Resources"]
[null,null,"VPPS","VP Energy Resources"]
[null,null,"VPUP","President & COO Avista Corp"]
["H02","H02 - Occupational Health","AVA"]
[null,null,"CEXO","CEO & President"]
[null,null,"CORP","Sr. VP Human Resources"]
[null,null,"H02","Occupational Health"]
[null,null,"SUPP","Support"]
[null,null,"VPHR","Sr. VP Human Resources"]
["H03","H03 - Facility Lease Management","AVA"]
[null,null,"CEXO","CEO & President"]
[null,null,"CSSS","Dir of Shared Services"]
[null,null,"CUST","Customer Service"]
[null,null,"ESOL","Energy Solutions"]
[null,null,"FLDC","Field Customer Service"]
[null,null,"H03","Fac. Lease Management"]
[null,null,"OPER","Customer Service"]
[null,null,"VPOP","VP Operations"]
[null,null,"VPUP","President & COO Avista Corp"]
["H04","H04 - Hydro Compliance","0004","Environmental Affairs"]
[null,null,"AVA"]
[null,null,"CEXO","CEO & President"]
[null,null,"CORP","Sr. VP & General Counsel"]
[null,null,"H04","Hydro Compliance"]
[null,null,"SUPP","Support"]
[null,null,"VPGC","Sr. VP & General Counsel"]
["H07","H07 - Facilities Management","AVA"]
[null,null,"CEXO","CEO & President"]
[null,null,"H07","Facilities Management"]
[null,null,"OPER","VP Energy Delivery"]
[null,null,"SERV","Shared Services"]
[null,null,"SUPP","Support"]
[null,null,"VPOP","VP Energy Delivery"]
[null,null,"VPUP","President & COO Avista Corp"]
["H08","H08 - Energy Del Stratgic Proj","AVA"]
[null,null,"CEXO","CEO & President"]
[null,null,"ENGR","Electric Engineering"]
[null,null,"H08","Energy Del Strategic Proj"]
[null,null,"OPER","VP Energy Delivery"]
[null,null,"SUPP","Support"]
[null,null,"VPOP","VP Energy Delivery"]
[null,null,"VPUP","President & COO Avista Corp"]
["H14","H14 - Consumer Affairs","AVA"]
[null,null,"CEXO","CEO & President"]
[null,null,"ESOL","Energy Solutions"]
[null,null,"H14","Consumer Affairs"]
[null,null,"OPER","VP Customer Solutions"]
[null,null,"SUPP","Support"]
[null,null,"VPCS","VP Customer Solutions"]
[null,null,"VPUP","President & COO Avista Corp"]
["H50","H50 - Othello","AVA"]
[null,null,"CEXO","CEO & President"]
[null,null,"ELEC","Electric"]
[null,null,"H50","Othello"]
[null,null,"OPER","VP Energy Delivery"]
[null,null,"VPOP","VP Energy Delivery"]
[null,null,"VPUP","President & COO Avista Corp"]
[null,null,"WEST","Director of Operations - West"]
["H51","H51 - Supply Chain Mgmt","AVA"]
[null,null,"CEXO","CEO & President"]
[null,null,"H51","Supply Chain"]
[null,null,"OPER","VP Energy Delivery"]
[null,null,"SERV","Shared Services"]
[null,null,"SUPP","Support"]
[null,null,"VPOP","VP Energy Delivery"]
[null,null,"VPUP","President & COO Avista Corp"]
["H53","H53 - Kellogg","AVA"]
[null,null,"CEXO","CEO & President"]
[null,null,"EAST","Director Operations - East"]
[null,null,"ELEC","Electric"]
[null,null,"H53","Kellogg"]
[null,null,"OPER","VP Energy Delivery"]
[null,null,"VPOP","VP Energy Delivery"]
[null,null,"VPUP","President & COO Avista Corp"]
["H54","H54 - AP/Remittance Services","AVA"]
[null,null,"CEXO","CEO & President"]
[null,null,"CORP","Sr. VP & CFO"]
[null,null,"H54","Remittance & Acounts Payable"]
[null,null,"SUPP","Support"]
[null,null,"VPFN","Finance & Treasury"]
[null,null,"VPFO","Sr. VP & CFO"]
["H55","H55 - Fuels Management","0055","Energy Resources"]
[null,null,"AVA"]
[null,null,"CEXO","CEO & President"]
[null,null,"H55","Fuels Management"]
[null,null,"OPER","Energy Resource Department"]
[null,null,"RSRC","Energy Resources"]
[null,null,"VPPS","VP Energy Resources"]
[null,null,"VPUP","President & COO Avista Corp"]
["I02","I02 - Craft Training","AVA"]
[null,null,"CEXO","CEO & President"]
[null,null,"CORP","Sr. VP Human Resources"]
[null,null,"I02","Craft Training"]
[null,null,"SUPP","Support"]
[null,null,"VPHR","Sr. VP Human Resources"]
["I08","I08 - Energy Delivery Operations Support","AVA"]
[null,null,"CEXO","CEO & President"]
[null,null,"GAS","Gas"]
[null,null,"I08","Energy Delivery Operations Support"]
[null,null,"NGAS","Natural Gas"]
[null,null,"NGCO","Natural Gas Construction Ops"]
[null,null,"OPER","VP Energy Delivery"]
[null,null,"VPOP","VP Energy Delivery"]
[null,null,"VPUP","President & COO Avista Corp"]
["I50","I50 - Contact Center-IT","AVA"]
[null,null,"CEXO","CEO & President"]
[null,null,"CUST","Customer Service & Sales"]
[null,null,"I50","Con Ctr - IT"]
[null,null,"OPER","VP Customer Solutions"]
[null,null,"SUPP","Support"]
[null,null,"VPCS","VP Customer Solutions"]
[null,null,"VPUP","President & COO Avista Corp"]
["I54","I54 - Tax Other Than Income","ACCT","Accounting Items"]
[null,null,"AVA"]
[null,null,"CEXO","CEO & President"]
[null,null,"CORP","Accounting Items"]
[null,null,"I54","Taxes Other Than Income"]
[null,null,"SUPP","Support"]
[null,null,"VPCC","VP Corporate Controller"]
["J01","J01 - SR VP & CFO","AVA"]
[null,null,"CEXO","CEO & President"]
[null,null,"CORP","Sr. VP & CFO"]
[null,null,"J01","Executive VP & CFO"]
[null,null,"SUPP","Support"]
[null,null,"VPFO","Sr. VP & CFO"]
["J02","J02 - Public Safety","AVA"]
[null,null,"CEXO","CEO & President"]
[null,null,"CORP","Sr. VP Human Resources"]
[null,null,"J02","Public Safety"]
[null,null,"SUPP","Support"]
[null,null,"VPHR","Sr. VP Human Resources"]
["J06","J06 - Joint Project Jackson Prairie","AVA"]
[null,null,"CEXO","CEO & President"]
[null,null,"J06","Joint Project-Jackson Prairie"]
[null,null,"OPER","Sr. VP Energy Resources"]
[null,null,"RSRC","Joint Resources"]
[null,null,"SUPP","Support"]
[null,null,"VPPS","Sr. VP Energy Resources"]
[null,null,"VPUP","President & COO Avista Corp"]
["J08","J08 - Gas Construction Quality Control","AVA"]
[null,null,"CEXO","CEO & President"]
[null,null,"GAS","Gas"]
[null,null,"GEGR","Gas Engineering"]
[null,null,"J08","Gas Construction Quality Control"]
[null,null,"NGAS","Natural Gas"]
[null,null,"OPER","VP Energy Delivery"]
[null,null,"VPOP","VP Energy Delivery"]
[null,null,"VPUP","President & COO Avista Corp"]
["J09","J09 - Network Systems","AVA"]
[null,null,"CEXO","CEO & President"]
[null,null,"INFO","VP Info & Security"]
[null,null,"INFR","Infrastructure Technology Summary"]
[null,null,"J09","Network Systems Engineering"]
[null,null,"OPER","VP Info & Security"]
[null,null,"SUPP","Support"]
[null,null,"VPUP","President & COO Avista Corp"]
[null,null,"ITNE","Network Engineering Rollup"]
["J10","J10 - Utility Fin Central","AVA"]
[null,null,"CEXO","CEO & President"]
[null,null,"CORP","Sr. VP & CFO"]
[null,null,"J10","Utility Finance Centralization"]
[null,null,"SUPP","Support"]
[null,null,"VPFO","Sr. VP & CFO"]
["J11","J11 - Planning & Analysis","AVA"]
[null,null,"CEXO","CEO & President"]
[null,null,"CORP","Human Resources"]
[null,null,"EXEC","Executive"]
[null,null,"J11","Planning & Analysis"]
[null,null,"SUPP","Support"]
[null,null,"VPFO","Exec VP & CFO - Finance & Risk Mgmt"]
[null,null,null,"Executive VP & CFO"]
[null,null,"VPHR","Human Resources"]
["J50","J50 - Reg Bus Mgr - Spokane","AVA"]
[null,null,"CEXO","CEO & President"]
[null,null,"ESOL","Energy Solutions"]
[null,null,"J50","Reg Bus Mgr - Spokane"]
[null,null,"OPER","VP Customer Solutions"]
[null,null,"SUPP","Support"]
[null,null,"VPCS","VP Customer Solutions"]
[null,null,"VPUP","President & COO Avista Corp"]
["J51","J51 - Warehousing","AVA"]
[null,null,"CEXO","CEO & President"]
[null,null,"J51","Warehousing"]
[null,null,"OPER","VP Energy Delivery"]
[null,null,"SERV","Shared Services"]
[null,null,"SUPP","Support"]
[null,null,"VPOP","VP Energy Delivery"]
[null,null,"VPUP","President & COO Avista Corp"]
["J53","J53 - Sandpoint/Bonners Ferry","AVA"]
[null,null,"CEXO","CEO & President"]
[null,null,"EAST","Director Operations - East"]
[null,null,"ELEC","Electric"]
[null,null,"J53","Sandpoint/Bonners Ferry"]
[null,null,"OPER","VP Energy Delivery"]
[null,null,"VPOP","VP Energy Delivery"]
[null,null,"VPUP","President & COO Avista Corp"]
["J54","J54 - Internal Auditing","AVA"]
[null,null,"CEXO","CEO & President"]
[null,null,"CORP","Executive Department Summary"]
[null,null,"EXEC","Executive Department Summary"]
[null,null,"J54","Internal Auditing"]
[null,null,"SUPP","Support"]
["K02","K02 - Compensation","AVA"]
[null,null,"CEXO","CEO & President"]
[null,null,"CORP","Sr. VP Human Resources"]
[null,null,"K02","Compensation"]
[null,null,"SUPP","Support"]
[null,null,"VPHR","Sr. VP Human Resources"]
["K07","K07 - Kettle Falls Thermal","0007","Gen Prod Sub Support"]
[null,null,"AVA"]
[null,null,"CEXO","CEO & President"]
[null,null,"K07","Thermal Oper and Maint"]
[null,null,"OPER","Sr. VP Energy Resources"]
[null,null,"SUPP","Support"]
[null,null,"VPPS","Sr. VP Energy Resources"]
[null,null,"VPUP","President & COO Avista Corp"]
["K08","K08 - GIS Editing","AVA"]
[null,null,"CEXO","CEO & President"]
[null,null,"ENGR","Electric Engineering"]
[null,null,"K08","GIS Editing"]
[null,null,"OPER","VP Energy Delivery"]
[null,null,"SUPP","Support"]
[null,null,"VPOP","VP Energy Delivery"]
[null,null,"VPUP","President & COO Avista Corp"]
["K14","K14 - Public Affairs","AVA"]
[null,null,"BCED","Business, Community & Econ Dev"]
[null,null,"CEXO","CEO & President"]
[null,null,"K14","Public Affairs"]
[null,null,"OPER","Customer Service"]
[null,null,"VPCS","Customer Service"]
[null,null,"VPUP","President & COO Avista Corp"]
["K50","K50 - Old RC - Conversion","AVA"]
[null,null,"CEXO","CEO & President"]
[null,null,"CNST","Director of Ops WA & ID"]
[null,null,null,"Operations"]
[null,null,"ELEC","Electric"]
[null,null,"K50","Spokane Conversion Org"]
[null,null,"OPER","Director of Operations - West"]
[null,null,"VPOP","VP Operations"]
[null,null,"VPUP","President & COO Avista Corp"]
["K51","K51 - Fleet Management","AVA"]
[null,null,"CEXO","CEO & President"]
[null,null,"K51","Fleet Management"]
[null,null,"OPER","VP Energy Delivery"]
[null,null,"SERV","Shared Services"]
[null,null,"SUPP","Support"]
[null,null,"VPOP","VP Energy Delivery"]
[null,null,"VPUP","President & COO Avista Corp"]
["K53","K53 - Contact Ctr-CDA","AVA"]
[null,null,"CEXO","CEO & President"]
[null,null,"CUST","Customer Service & Sales"]
[null,null,"K53","Con Ctr - CDA"]
[null,null,"OPER","VP Customer Solutions"]
[null,null,"SUPP","Support"]
[null,null,"VPCS","VP Customer Solutions"]
[null,null,"VPUP","President & COO Avista Corp"]
["K54","K54 - Financial Systems Project","AVA"]
[null,null,"CEXO","CEO & President"]
[null,null,"CORP","Finance & Risk Management"]
[null,null,"K54","Financial Systems Project"]
[null,null,"VPCC","VP Corporate Controller"]
[null,null,"VPFO","Executive VP & CFO - Finance & Risk Mana"]
[null,null,null,"Executive VP & CFO"]
["L02","L02 - SG Workforce Training","AVA"]
[null,null,"CEXO","CEO & President"]
[null,null,"CORP","Sr. VP Human Resources"]
[null,null,"L02","SG Workforce Training"]
[null,null,"SUPP","Support"]
[null,null,"VPHR","Sr. VP Human Resources"]
["L07","L07 - Clarkfork Hydro","0007","Gen Prod Sub Support"]
[null,null,"AVA"]
[null,null,"CEXO","CEO & President"]
[null,null,"L07","Clark Fork River Hydro"]
[null,null,"OPER","Sr. VP Energy Resources"]
[null,null,"SUPP","Support"]
[null,null,"VPPS","Sr. VP Energy Resources"]
[null,null,"VPUP","President & COO Avista Corp"]
["L08","L08 - Transmission Design","AVA"]
[null,null,"CEXO","CEO & President"]
[null,null,"ENGR","Electric Engineering"]
[null,null,"L08","Transmission Design"]
[null,null,"OPER","VP Energy Delivery"]
[null,null,"SUPP","Support"]
[null,null,"VPOP","VP Energy Delivery"]
[null,null,"VPUP","President & COO Avista Corp"]
["L50","L50 - Spokane Gas","AVA"]
[null,null,"CEXO","CEO & President"]
[null,null,"GAS","Gas"]
[null,null,"L50","Spokane Gas"]
[null,null,"NGAS","Natural Gas"]
[null,null,"NGCO","Natural Gas Construction Ops"]
[null,null,"OPER","VP Energy Delivery"]
[null,null,"VPOP","VP Energy Delivery"]
[null,null,"VPUP","President & COO Avista Corp"]
["L51","L51 - Claims","AVA"]
[null,null,"CEXO","CEO & President"]
[null,null,"CORP","Sr. VP & General Counsel"]
[null,null,"L51","Claims"]
[null,null,"SUPP","Support"]
[null,null,"VPGC","Sr. VP & General Counsel"]
["L52","L52 - Claims Accrual","AVA"]
[null,null,"CEXO","CEO & President"]
[null,null,"CORP","Sr. VP & General Counsel"]
[null,null,"L52","Claims Accrual"]
[null,null,"SUPP","Support"]
[null,null,"VPGC","Sr. VP & General Counsel"]
["L53","L53 - CDA","AVA"]
[null,null,"CEXO","CEO & President"]
[null,null,"EAST","Director Operations - East"]
[null,null,"ELEC","Electric"]
[null,null,"L53","Coeur d'Alene"]
[null,null,"OPER","VP Energy Delivery"]
[null,null,"VPOP","VP Energy Delivery"]
[null,null,"VPUP","President & COO Avista Corp"]
["L54","L54 - Travel & Flight Operations","AVA"]
[null,null,"CEXO","CEO & President"]
[null,null,"L54","Travel & Flight Operations"]
[null,null,"OPER","VP Energy Delivery"]
[null,null,"SERV","Shared Services"]
[null,null,"SUPP","Support"]
[null,null,"VPOP","VP Energy Delivery"]
[null,null,"VPUP","President & COO Avista Corp"]
["M07","M07 - Mechanical/Structural Shop","0007","Gen Prod Sub Support"]
[null,null,"AVA"]
[null,null,"CEXO","CEO & President"]
[null,null,"M07","Mechanical/Structural Shop"]
[null,null,"OPER","Sr. VP Energy Resources"]
[null,null,"SUPP","Support"]
[null,null,"VPPS","Sr. VP Energy Resources"]
[null,null,"VPUP","President & COO Avista Corp"]
["M08","M08 - Substation Design","AVA"]
[null,null,"CEXO","CEO & President"]
[null,null,"ENGR","Electric Engineering"]
[null,null,"M08","Substation Design"]
[null,null,"OPER","VP Energy Delivery"]
[null,null,"SUPP","Support"]
[null,null,"VPOP","VP Energy Delivery"]
[null,null,"VPUP","President & COO Avista Corp"]
["M09","M09 - Central Systems","AVA"]
[null,null,"CEXO","CEO & President"]
[null,null,"INFO","VP Info & Security"]
[null,null,"INFR","Infrastructure Technology Summary"]
[null,null,"M09","Central Systems Engineering"]
[null,null,"OPER","VP Info & Security"]
[null,null,"SUPP","Support"]
[null,null,"VPUP","President & COO Avista Corp"]
[null,null,"ITSE","System Engineering Rollup"]
["M50","M50 - Deer Park","AVA"]
[null,null,"CEXO","CEO & President"]
[null,null,"ELEC","Electric"]
[null,null,"M50","Deer Park"]
[null,null,"OPER","VP Energy Delivery"]
[null,null,"VPOP","VP Energy Delivery"]
[null,null,"VPUP","President & COO Avista Corp"]
[null,null,"WEST","Director of Operations - West"]
["M51","M51 - Asset Maintenance","AVA"]
[null,null,"CEXO","CEO & President"]
[null,null,"ELEC","Electric"]
[null,null,"M51","Asset Maintenance"]
[null,null,"MNTC","Asset Maintenance"]
[null,null,"OPER","VP Energy Delivery"]
[null,null,"VPOP","VP Energy Delivery"]
[null,null,"VPUP","President & COO Avista Corp"]
[null,null,"WEST","Director of Operations - West"]
["M53","M53 - Business Entrepreneurial Network","AVA"]
[null,null,"CEXO","CEO & President"]
[null,null,"ESOL","Energy Solutions"]
[null,null,"M53","Business Entrepreneurship Network"]
[null,null,"OPER","VP Customer Solutions"]
[null,null,"SUPP","Support"]
[null,null,"VPCS","VP Customer Solutions"]
[null,null,"VPUP","President & COO Avista Corp"]
["M54","M54 - Business Development","AVA"]
[null,null,"CEXO","CEO & President"]
[null,null,"CORP","Sr. VP & CFO"]
[null,null,"M54","Business Development"]
[null,null,"SUPP","Support"]
[null,null,"VPFO","Sr. VP & CFO"]
["N06","N06 - Joint Project-Colstrip","AVA"]
[null,null,"CEXO","CEO & President"]
[null,null,"N06","Joint Project-Colstrip"]
[null,null,"OPER","Sr. VP Energy Resources"]
[null,null,"RSRC","Joint Resources"]
[null,null,"SUPP","Support"]
[null,null,"VPPS","Sr. VP Energy Resources"]
[null,null,"VPUP","President & COO Avista Corp"]
["N07","N07 - Utility Environ Compliance","0004","Environmental Affairs"]
[null,null,"AVA"]
[null,null,"CEXO","CEO & President"]
[null,null,"N07","Utility Environmental Compliance"]
[null,null,"OPER","Environmental Affairs"]
[null,null,"SUPP","Support"]
[null,null,"VPPS","VP Energy Resources"]
[null,null,"VPUP","President & COO Avista Corp"]
["N08","N08 - Drafting & Survey","AVA"]
[null,null,"CEXO","CEO & President"]
[null,null,"ENGR","Electric Engineering"]
[null,null,"N08","Drafting & Survey"]
[null,null,"OPER","VP Energy Delivery"]
[null,null,"SUPP","Support"]
[null,null,"VPOP","VP Energy Delivery"]
[null,null,"VPUP","President & COO Avista Corp"]
["N09","N09 - Office of CIO","AVA"]
[null,null,"CEXO","CEO & President"]
[null,null,"INFO","VP Info & Security"]
[null,null,"N09","Office of CISO"]
[null,null,"OPER","VP Info & Security"]
[null,null,"SUPP","Support"]
[null,null,"VPUP","President & COO Avista Corp"]
[null,null,"CISO","Chief Information & Security Officer Sum"]
["N50","N50 - Director of Customer Service","AVA"]
[null,null,"CEXO","CEO & President"]
[null,null,"CUST","Customer Service & Sales"]
[null,null,"N50","Dir of Customer Service"]
[null,null,"OPER","VP Customer Solutions"]
[null,null,"SUPP","Support"]
[null,null,"VPCS","VP Customer Solutions"]
[null,null,"VPUP","President & COO Avista Corp"]
["N51","N51 - Write-Off Accrual","AVA"]
[null,null,"CEXO","CEO & President"]
[null,null,"CUST","Customer Service & Sales"]
[null,null,"N51","Write-Off Accrual"]
[null,null,"OPER","VP Customer Solutions"]
[null,null,"SUPP","Support"]
[null,null,"VPCS","VP Customer Solutions"]
[null,null,"VPUP","President & COO Avista Corp"]
["N52","N52 - Compass Replace Project","AVA"]
[null,null,"CEXO","CEO & President"]
[null,null,"N52","Compass Replacement Project"]
[null,null,"OPER","VP Energy Delivery"]
[null,null,"SUPP","Support"]
[null,null,"VPOP","VP Energy Delivery"]
[null,null,"VPUP","President & COO Avista Corp"]
["N53","N53 - AM Spokane West","AVA"]
[null,null,"CEXO","CEO & President"]
[null,null,"ESOL","Dir Energy Solutions"]
[null,null,null,"Energy Solutions"]
[null,null,"N53","Reg Bus Mgr - Spok West"]
[null,null,null,"NA"]
[null,null,"OPER","Energy Solutions"]
[null,null,"SUPP","Support"]
[null,null,"VPCS","Customer Service"]
[null,null,"VPUP","President & COO Avista Corp"]
["N54","N54 - Strategic Initiatives","AVA"]
[null,null,"CEXO","CEO & President"]
[null,null,"N54","Strategic Initiatives"]
[null,null,"OPER","Sr. VP Energy Resources"]
[null,null,"SUPP","Support"]
[null,null,"VPPS","Sr. VP Energy Resources"]
[null,null,"VPUP","President & COO Avista Corp"]
["P01","P01 - Legal Expenses","AVA"]
[null,null,"CEXO","CEO & President"]
[null,null,"CORP","Sr. VP & General Counsel"]
[null,null,"P01","Legal Expenses"]
[null,null,"SUPP","Support"]
[null,null,"VPGC","Sr. VP & General Counsel"]
["P07","P07 - Contract and Proj Mgmt","0007","Gen Prod Sub Support"]
[null,null,"AVA"]
[null,null,"CEXO","CEO & President"]
[null,null,"OPER","Sr. VP Energy Resources"]
[null,null,"P07","Project Delivery"]
[null,null,"SUPP","Support"]
[null,null,"VPPS","Sr. VP Energy Resources"]
[null,null,"VPUP","President & COO Avista Corp"]
["P08","P08 - Distribution Oper Sys","AVA"]
[null,null,"CEXO","CEO & President"]
[null,null,"ENGR","Electric Engineering"]
[null,null,"OPER","VP Energy Delivery"]
[null,null,"P08","Distribution Operation Syst Mgmt"]
[null,null,"SUPP","Support"]
[null,null,"VPOP","VP Energy Delivery"]
[null,null,"VPUP","President & COO Avista Corp"]
["P09","P09 - Project Management","AVA"]
[null,null,"CEXO","CEO & President"]
[null,null,"INFO","VP Info & Security"]
[null,null,"INFR","Infrastructure Technology Summary"]
[null,null,"OPER","VP Info & Security"]
[null,null,"P09","Project Management"]
[null,null,"SUPP","Support"]
[null,null,"VPUP","President & COO Avista Corp"]
["P50","P50 - Davenport","AVA"]
[null,null,"CEXO","CEO & President"]
[null,null,"ELEC","Electric"]
[null,null,"OPER","VP Energy Delivery"]
[null,null,"P50","Davenport"]
[null,null,"VPOP","VP Energy Delivery"]
[null,null,"VPUP","President & COO Avista Corp"]
[null,null,"WEST","Director of Operations - West"]
["P51","P51 - Distribution Dispatch","AVA"]
[null,null,"CEXO","CEO & President"]
[null,null,"OPER","VP Energy Delivery"]
[null,null,"P51","Distribution Dispatch"]
[null,null,"SUPP","Support"]
[null,null,"TRAN","Transmission"]
[null,null,"VPOP","VP Energy Delivery"]
[null,null,"VPUP","President & COO Avista Corp"]
["P53","P53 - AM Moscow/Pullman","AVA"]
[null,null,"CEXO","CEO & President"]
[null,null,"ESOL","Energy Solutions"]
[null,null,"OPER","VP Customer Solutions"]
[null,null,"P53","Reg Bus Mgr - Palouse"]
[null,null,"SUPP","Support"]
[null,null,"VPCS","VP Customer Solutions"]
[null,null,"VPUP","President & COO Avista Corp"]
["PRT","P99 - IT Director","AVA"]
[null,null,"GENL","General Corporate"]
[null,null,"PRT","Financial Information Summary"]
["R03","R03 - Avista Energy","AVA"]
[null,null,"AVIS","Avista Subsidiaries"]
[null,null,null,"Avista Subsidiary"]
[null,null,"CORP","Finance & Risk Management"]
[null,null,"R03","Avista Energy"]
["R09","R09 - Communicated Systems","AVA"]
[null,null,"CEXO","CEO & President"]
[null,null,"INFO","VP Info & Security"]
[null,null,"INFR","Infrastructure Technology Summary"]
[null,null,"OPER","VP Info & Security"]
[null,null,"R09","Communication Systems Engineering"]
[null,null,"SUPP","Support"]
[null,null,"VPUP","President & COO Avista Corp"]
[null,null,"ITSE","System Engineering Rollup"]
["R11","R11 - Rates & Regulations","AVA"]
[null,null,"CEXO","CEO & President"]
[null,null,"CORP","VP Rates and Regs"]
[null,null,"R11","Rates & Regulations"]
[null,null,"SUPP","Support"]
[null,null,"VPRR","VP Rates and Regs"]
[null,null,"VPUP","President & COO Avista Corp"]
["R50","R50 - Spokane Construction Engineering","AVA"]
[null,null,"CEXO","CEO & President"]
[null,null,"CNST","Director of Ops WA & ID"]
[null,null,null,"Operations"]
[null,null,"ELEC","Electric"]
[null,null,"OPER","Director of Operations - West"]
[null,null,"R50","Spokane Construction Engineering/Mapping"]
[null,null,null,"Spokane Construction Eng/Mapping"]
[null,null,"VPOP","VP Operations"]
[null,null,"VPUP","President & COO Avista Corp"]
["R51","R51 - Joint Use Projects-Distribution","AVA"]
[null,null,"CEXO","CEO & President"]
[null,null,"DSGN","Construction Design"]
[null,null,"ENGR","Electric Engineering"]
[null,null,"OPER","VP Energy Delivery"]
[null,null,"R51","Joint Use Projects - Distribution"]
[null,null,"SUPP","Support"]
[null,null,"VPOP","VP Energy Delivery"]
[null,null,"VPUP","President & COO Avista Corp"]
["R54","R54 - Risk Management","AVA"]
[null,null,"CEXO","CEO & President"]
[null,null,"CORP","Sr. VP & CFO"]
[null,null,"R54","Risk Management"]
[null,null,"SUPP","Support"]
[null,null,"VPFN","Finance & Treasury"]
[null,null,"VPFO","Sr. VP & CFO"]
["R55","R55 - Resource Risk Mgmt","AVA"]
[null,null,"CEXO","CEO & President"]
[null,null,"CORP","Sr. VP & CFO"]
[null,null,"R55","Resource Risk Management"]
[null,null,"SUPP","Support"]
[null,null,"VPFN","Finance & Treasury"]
[null,null,"VPFO","Sr. VP & CFO"]
["R56","R56 - Insurance","AVA"]
[null,null,"CEXO","CEO & President"]
[null,null,"CORP","Sr. VP & CFO"]
[null,null,"R56","Insurance Management"]
[null,null,"SUPP","Support"]
[null,null,"VPFN","Finance & Treasury"]
[null,null,"VPFO","Sr. VP & CFO"]
["S01","S01 - VP & Counsl-Regultry/Govt Affairs","AVA"]
[null,null,"CEXO","CEO & President"]
[null,null,"CORP","Sr. VP & General Counsel"]
[null,null,"S01","VP & Counsel for Regulatory/Govt Affairs"]
[null,null,"SUPP","Support"]
[null,null,"VPGC","Sr. VP & General Counsel"]
["S03","S03 - Advantage IQ","AVA"]
[null,null,"AVIS","Avista Subsidiaries"]
[null,null,"CEXO","CEO & President"]
[null,null,"CORP","Sr. VP & CFO"]
[null,null,"S03","Avista Advantage"]
[null,null,"SUPP","Support"]
[null,null,"VPCC","VP Corporate Controller"]
["S04","S04 - SPS CYOC Mgmt Oversight","AVA"]
[null,null,"AVIS","Avista Subsidiaries"]
[null,null,"CEXO","CEO & President"]
[null,null,"CORP","Sr. VP & CFO"]
[null,null,"S04","SPS CYOC Mgmt Oversight"]
[null,null,"SUPP","Support"]
[null,null,"VPCC","VP Corporate Controller"]
["S08","S08 - Strategic Projects Development","AVA"]
[null,null,"CEXO","CEO & President"]
[null,null,"CSSS","Customer & Shared Services"]
[null,null,null,"Dir of Customer Service"]
[null,null,"ELEC","Electric"]
[null,null,"OPER","Shared Services"]
[null,null,"S08","Strategic Projects Development"]
[null,null,"SERV","Shared Services"]
[null,null,"VPOP","VP Operations"]
[null,null,"VPUP","President & COO Avista Corp"]
["S09","S09 - Apps Operations & Supp","AVA"]
[null,null,"CEXO","CEO & President"]
[null,null,"INFO","VP Info & Security"]
[null,null,"OPER","VP Info & Security"]
[null,null,"S09","IS Products & Services"]
[null,null,"SUPP","Support"]
[null,null,"VPUP","President & COO Avista Corp"]
[null,null,"APPS","Applications Summary"]
["S20","S20 - Director of Finance","AVA"]
[null,null,"CEXO","CEO & President"]
[null,null,"CORP","Sr. VP & CFO"]
[null,null,"S20","Director of Finance"]
[null,null,"SUPP","Support"]
[null,null,"VPFN","Finance & Treasury"]
[null,null,"VPFO","Sr. VP & CFO"]
["S50","S50 - Construction Services","AVA"]
[null,null,"CEXO","CEO & President"]
[null,null,"DSGN","Construction Design"]
[null,null,"ENGR","Electric Engineering"]
[null,null,"OPER","VP Energy Delivery"]
[null,null,"S50","Construction Services"]
[null,null,"SUPP","Support"]
[null,null,"VPOP","VP Energy Delivery"]
[null,null,"VPUP","President & COO Avista Corp"]
["S51","S51 - Supply Chain Loadings","AVA"]
[null,null,"CENT","Centralized Services - Energy Delivery"]
[null,null,"CEXO","CEO & President"]
[null,null,"OPER","VP Energy Delivery"]
[null,null,"S51","Supply Chain Loadings"]
[null,null,"SUPP","Support"]
[null,null,"VPOP","VP Energy Delivery"]
[null,null,"VPUP","President & COO Avista Corp"]
["S54","S54 - External Communications","AVA"]
[null,null,"CEXO","CEO & President"]
[null,null,"OPER","VP Customer Solutions"]
[null,null,"S54","External Communications"]
[null,null,"SUPP","Support"]
[null,null,"VPCS","VP Customer Solutions"]
[null,null,"VPUP","President & COO Avista Corp"]
[null,null,"CSOL","Customer Solutions"]
["T01","T01 - Utility President","AVA"]
[null,null,"CEXO","CEO & President"]
[null,null,"CORP","Executive Department Summary"]
[null,null,"SUPP","Support"]
[null,null,"T01","President & COO Avista Corp"]
[null,null,"VPUP","President & COO Avista Corp"]
["T03","N54 - Strategic Initiatives","AVA"]
[null,null,"AVIS","Avista Subsidiaries"]
[null,null,null,"Avista Subsidiary"]
[null,null,"CORP","Finance & Risk Management"]
[null,null,"T03","Avista Labs"]
["T07","T07 - Spokane Area Thermal","0007","Gen Prod Sub Support"]
[null,null,"AVA"]
[null,null,"CEXO","CEO & President"]
[null,null,"OPER","Sr. VP Energy Resources"]
[null,null,"SUPP","Support"]
[null,null,"T07","Spokane Area Thermal"]
[null,null,"VPPS","Sr. VP Energy Resources"]
[null,null,"VPUP","President & COO Avista Corp"]
["T08","T08 - Electric Engineer","AVA"]
[null,null,"CEXO","CEO & President"]
[null,null,"ENGR","Electric Engineering"]
[null,null,"OPER","VP Energy Delivery"]
[null,null,"SUPP","Support"]
[null,null,"T08","Electrical Engineering"]
[null,null,"VPOP","VP Energy Delivery"]
[null,null,"VPUP","President & COO Avista Corp"]
["T50","T50 - Econ Develop Analyst","AVA"]
[null,null,"BCED","Business, Community & Econ Dev"]
[null,null,"CEXO","CEO & President"]
[null,null,"OPER","Customer Service"]
[null,null,"T50","Economic Development - Analyst"]
[null,null,"VPCS","Customer Service"]
[null,null,"VPUP","President & COO Avista Corp"]
["T51","T51 - Operations Project Management","AVA"]
[null,null,"CEXO","CEO & President"]
[null,null,"ELEC","Electric"]
[null,null,"MNTC","Asset Maintenance"]
[null,null,"OPER","VP Energy Delivery"]
[null,null,"T51","Operations Project Management"]
[null,null,"VPOP","VP Energy Delivery"]
[null,null,"VPUP","President & COO Avista Corp"]
[null,null,"WEST","Director of Operations - West"]
["T52","T52 - Demand Side Mgmt","AVA"]
[null,null,"CEXO","CEO & President"]
[null,null,"OPER","VP Customer Solutions"]
[null,null,"SUPP","Support"]
[null,null,"T52","WA - ID DSM"]
[null,null,"VPCS","VP Customer Solutions"]
[null,null,"VPUP","President & COO Avista Corp"]
[null,null,"CSOL","Customer Solutions"]
["T53","T53 - South East Engineer","AVA"]
[null,null,"CEXO","CEO & President"]
[null,null,"CNST","Operations"]
[null,null,"ELEC","Electric"]
[null,null,"OPER","Director of Operations - West"]
[null,null,"T53","South Region Ops Engr"]
[null,null,"VPOP","VP Operations"]
[null,null,"VPUP","President & COO Avista Corp"]
["T55","T54 - Rev and Fin Systems","0055","Energy Resource Department"]
[null,null,"AVA"]
[null,null,"CEXO","CEO & President"]
[null,null,"OPER","Energy Resource Department"]
[null,null,"T55","Regional Power Issues"]
[null,null,"VPPS","VP Energy Resources"]
[null,null,"VPUP","President & COO Avista Corp"]
["U01","T54 - Rev and Fin Systems","AVA"]
[null,null,"CEXO","CEO & President"]
[null,null,"CORP","Sr. VP & General Counsel"]
[null,null,"SUPP","Support"]
[null,null,"U01","Legal Staff"]
[null,null,"VPGC","Sr. VP & General Counsel"]
["U50","T54 - Rev and Fin Systems","AVA"]
[null,null,"CEXO","CEO & President"]
[null,null,"ESOL","Energy Solutions"]
[null,null,"OPER","VP Customer Solutions"]
[null,null,"SUPP","Support"]
[null,null,"U50","Limited Income"]
[null,null,"VPCS","VP Customer Solutions"]
[null,null,"VPUP","President & COO Avista Corp"]
["V01","T54 - Rev and Fin Systems","AVA"]
[null,null,"CEXO","CEO & President"]
[null,null,"CORP","Sr. VP & General Counsel"]
[null,null,"SUPP","Support"]
[null,null,"V01","Sr. VP and General Counsel"]
[null,null,"VPGC","Sr. VP & General Counsel"]
["V08","T54 - Rev and Fin Systems","0004","Environmental Affairs"]
[null,null,"AVA"]
[null,null,"CEXO","CEO & President"]
[null,null,"CORP","Sr. VP & General Counsel"]
[null,null,"SUPP","Support"]
[null,null,"V08","Real Estate"]
[null,null,"VPGC","Sr. VP & General Counsel"]
["V50","T54 - Rev and Fin Systems","AVA"]
[null,null,"CEXO","CEO & President"]
[null,null,"ESOL","Energy Solutions"]
[null,null,"OPER","VP Customer Solutions"]
[null,null,"SUPP","Support"]
[null,null,"V50","Reg Bus Mgr - Oregon"]
[null,null,"VPCS","VP Customer Solutions"]
[null,null,"VPUP","President & COO Avista Corp"]
["W01","T54 - Rev and Fin Systems","AVA"]
[null,null,"CEXO","CEO & President"]
[null,null,"CORP","Sr. VP & General Counsel"]
[null,null,"SUPP","Support"]
[null,null,"VPGC","Sr. VP & General Counsel"]
[null,null,"W01","Compliance"]
["W07","T54 - Rev and Fin Systems","0007","Gen Prod Sub Support"]
[null,null,"AVA"]
[null,null,"CEXO","CEO & President"]
[null,null,"OPER","Sr. VP Energy Resources"]
[null,null,"SUPP","Support"]
[null,null,"VPPS","Sr. VP Energy Resources"]
[null,null,"VPUP","President & COO Avista Corp"]
[null,null,"W07","Wind Generation"]
["W09","T54 - Rev and Fin Systems","AVA"]
[null,null,"CEXO","CEO & President"]
[null,null,"INFO","VP Info & Security"]
[null,null,"OPER","VP Info & Security"]
[null,null,"SUPP","Support"]
[null,null,"VPUP","President & COO Avista Corp"]
[null,null,"W09","IS Director"]
[null,null,"APPS","Applications Summary"]
["W54","T54 - Rev and Fin Systems","ACCT","Accounting Items"]
[null,null,"AVA"]
[null,null,"CEXO","CEO & President"]
[null,null,"CORP","Accounting Items"]
[null,null,"SUPP","Support"]
[null,null,"VPCC","VP Corporate Controller"]
[null,null,"W54","Finance Responsibility"]
["W55","T54 - Rev and Fin Systems","ACCT","Accounting Items"]
[null,null,"AVA"]
[null,null,"CEXO","CEO & President"]
[null,null,"CORP","Accounting Items"]
[null,null,"SUPP","Support"]
[null,null,"VPCC","VP Corporate Controller"]
[null,null,"W55","Wholesale Exposure Reserve"]
["X01","T54 - Rev and Fin Systems","AVA"]
[null,null,"CEXO","CEO & President"]
[null,null,"EXEC","Executive Department Summary"]
[null,null,"OPER","VP Energy Delivery"]
[null,null,"SUPP","Support"]
[null,null,"X01","CEO"]
["X02","T54 - Rev and Fin Systems","AVA"]
[null,null,"CEXO","CEO & President"]
[null,null,"CORP","Sr. VP Human Resources"]
[null,null,"SUPP","Support"]
[null,null,"VPHR","Sr. VP Human Resources"]
[null,null,"X02","HR Labor & Emp Relations"]
["X08","T54 - Rev and Fin Systems","0007","Gen Prod Sub Support"]
[null,null,"AVA"]
[null,null,"CEXO","CEO & President"]
[null,null,"OPER","Sr. VP Energy Resources"]
[null,null,"SUPP","Support"]
[null,null,"VPPS","Sr. VP Energy Resources"]
[null,null,"VPUP","President & COO Avista Corp"]
[null,null,"X08","Relay Shop"]
["X09","T54 - Rev and Fin Systems","AVA"]
[null,null,"CEXO","CEO & President"]
[null,null,"INFO","VP Info & Security"]
[null,null,"OPER","VP Info & Security"]
[null,null,"SUPP","Support"]
[null,null,"VPUP","President & COO Avista Corp"]
[null,null,"X09","Data Science"]
[null,null,"CISO","Chief Information & Security Officer Sum"]
["X54","T54 - Rev and Fin Systems","ACCT","Accounting Items"]
[null,null,"AVA"]
[null,null,"CEXO","CEO & President"]
[null,null,"CORP","Accounting Items"]
[null,null,"SUPP","Support"]
[null,null,"VPCC","VP Corporate Controller"]
[null,null,"X54","Accounting Responsibility"]
["X55","T54 - Rev and Fin Systems","ACCT","Accounting Items"]
[null,null,"AVA"]
[null,null,"CEXO","CEO & President"]
[null,null,"CORP","Accounting Items"]
[null,null,"SUPP","Support"]
[null,null,"VPCC","VP Corporate Controller"]
[null,null,"X55","Misc Deferrals"]
["X57","T54 - Rev and Fin Systems","ACCT","Accounting Items"]
[null,null,"AVA"]
[null,null,"CEXO","CEO & President"]
[null,null,"CORP","Accounting Items"]
[null,null,"SUPP","Support"]
[null,null,"VPCC","VP Corporate Controller"]
[null,null,"X57","Energy Delivery Accounting Responsibilit"]
["Y01","T54 - Rev and Fin Systems","AVA"]
[null,null,"CEXO","CEO & President"]
[null,null,"CORP","Sr. VP & General Counsel"]
[null,null,"SUPP","Support"]
[null,null,"VPGC","Sr. VP & General Counsel"]
[null,null,"Y01","Corporate Secretary"]
["Y54","T54 - Rev and Fin Systems","AVA"]
[null,null,"CEXO","CEO & President"]
[null,null,"CORP","Sr. VP & CFO"]
[null,null,"SUPP","Support"]
[null,null,"VPFN","Finance & Treasury"]
[null,null,"VPFO","Sr. VP & CFO"]
[null,null,"Y54","Investor Relations"]
["Y55","T54 - Rev and Fin Systems","AVA"]
[null,null,"CEXO","CEO & President"]
[null,null,"CORP","Sr. VP & CFO"]
[null,null,"SUPP","Support"]
[null,null,"VPCC","VP Corporate Controller"]
[null,null,"VPFO","Sr. VP & CFO"]
[null,null,"Y55","Resource Accounting"]
["Z08","T54 - Rev and Fin Systems","AVA"]
[null,null,"CEXO","CEO & President"]
[null,null,"ENGR","Electric Engineering"]
[null,null,"OPER","VP Energy Delivery"]
[null,null,"SUPP","Support"]
[null,null,"VPOP","VP Energy Delivery"]
[null,null,"VPUP","President & COO Avista Corp"]
[null,null,"Z08","Electric Meter Shop"]
["Z09","T54 - Rev and Fin Systems","AVA"]
[null,null,"CENT","Centralized Services - Energy Delivery"]
[null,null,"CEXO","CEO & President"]
[null,null,"OPER","VP Energy Delivery"]
[null,null,"SUPP","Support"]
[null,null,"VPOP","VP Energy Delivery"]
[null,null,"VPUP","President & COO Avista Corp"]
[null,null,"Z09","Postage Centralization"]
["Z57","T54 - Rev and Fin Systems","ACCT","Accounting Items"]
[null,null,"AVA"]
[null,null,"CEXO","CEO & President"]
[null,null,"CORP","Accounting Items"]
[null,null,"SUPP","Support"]
[null,null,"VPCC","VP Corporate Controller"]
[null,null,"Z57","Centralized Credits"]
["Z81","T54 - Rev and Fin Systems","AVA"]
[null,null,"CEXO","CEO & President"]
[null,null,"CORP","Finance & Risk Management"]
[null,null,"VPCC","Finance & Risk Management"]
[null,null,null,"VP Corporate Controller"]
[null,null,"VPFO","Executive VP & CFO"]
[null,null,"Z81","WL1001 General Construction Admin/Acctng"]
["Z82","T54 - Rev and Fin Systems","0007","Production & Generation"]
[null,null,"AVA"]
[null,null,"CEXO","CEO & President"]
[null,null,"OPER","Production & Generation"]
[null,null,"VPPS","VP Energy Resources"]
[null,null,"VPUP","President & COO Avista Corp"]
[null,null,"Z82","WL1002 Gen & Prod Engineering"]
["Z83","T54 - Rev and Fin Systems","AVA"]
[null,null,"CEXO","CEO & President"]
[null,null,"ENGR","Electric Engineering"]
[null,null,"ENSO","Engineering & System Operations"]
[null,null,"OPER","Engineering & Transmission"]
[null,null,"VPOP","VP Operations"]
[null,null,"VPUP","President & COO Avista Corp"]
[null,null,"Z83","WL1003 Elec Trans Const & Engineering"]
["Z84","T54 - Rev and Fin Systems","AVA"]
[null,null,"CEXO","CEO & President"]
[null,null,"ENGR","Electric Engineering"]
[null,null,"ENSO","Engineering & System Operations"]
[null,null,"OPER","Engineering & Transmission"]
[null,null,"VPOP","VP Operations"]
[null,null,"VPUP","President & COO Avista Corp"]
[null,null,"Z84","WL1004 Elec Distr Const & Engineering"]
["Z85","T54 - Rev and Fin Systems","AVA"]
[null,null,"CEXO","CEO & President"]
[null,null,"CORP","Engineering & Transmission"]
[null,null,"ENSO","Engineering & System Operations"]
[null,null,"VPOP","VP Operations"]
[null,null,"VPUP","President & COO Avista Corp"]
[null,null,"Z85","WL1005 WA/ID Dist Const & Engr"]
["Z86","T54 - Rev and Fin Systems","AVA"]
[null,null,"CEXO","CEO & President"]
[null,null,"OPER","Natural Gas Operations"]
[null,null,"OREG","Oregon Gas Operations"]
[null,null,"VPOP","VP Operations"]
[null,null,"VPUP","President & COO Avista Corp"]
[null,null,"Z86","WL1006 OR/CA Const. & Engr"]
["Z87","T54 - Rev and Fin Systems","ACCT","Accounting Items"]
[null,null,"AVA"]
[null,null,"CEXO","CEO & President"]
[null,null,"CORP","Accounting Items"]
[null,null,"SUPP","Support"]
[null,null,"VPCC","VP Corporate Controller"]
[null,null,"Z87","Benefits Loaders"]
["Z88","T54 - Rev and Fin Systems","AVA"]
[null,null,"CENT","Centralized Services - Energy Delivery"]
[null,null,"CEXO","CEO & President"]
[null,null,"OPER","VP Energy Delivery"]
[null,null,"SUPP","Support"]
[null,null,"VPOP","VP Energy Delivery"]
[null,null,"VPUP","President & COO Avista Corp"]
[null,null,"Z88","Transportation Loaders"]
["Z89","T54 - Rev and Fin Systems","ACCT","Accounting Items"]
[null,null,"AVA"]
[null,null,"CEXO","CEO & President"]
[null,null,"CORP","Accounting Items"]
[null,null,"SUPP","Support"]
[null,null,"VPCC","VP Corporate Controller"]
[null,null,"Z89","Payroll Accrual"]
["Z90","T54 - Rev and Fin Systems","ACCT","Accounting Items"]
[null,null,"AVA"]
[null,null,"CEXO","CEO & President"]
[null,null,"CORP","Accounting Items"]
[null,null,"SUPP","Support"]
[null,null,"VPCC","VP Corporate Controller"]
[null,null,"Z90","Incentive Compensation"]
["Z91","T54 - Rev and Fin Systems","ACCT","Accounting Items"]
[null,null,"AVA"]
[null,null,"CEXO","CEO & President"]
[null,null,"CORP","Accounting Items"]
[null,null,"SUPP","Support"]
[null,null,"VPCC","VP Corporate Controller"]
[null,null,"Z91","Other One Leave"]
["A54","A54 - Dir of Customer Solution","AVA"]
[null,null,"CEXO","CEO & President"]
[null,null,"OPER","VP Customer Solutions"]
[null,null,"SUPP","Support"]
[null,null,"VPCS","VP Customer Solutions"]
[null,null,"VPUP","President & COO Avista Corp"]
[null,null,"A54","Customer Solutions"]
[null,null,"CSOL","Customer Solutions"]
["S05","S05 - Salix","AVA"]
[null,null,"AVIS","Avista Subsidiaries"]
[null,null,"CEXO","CEO & President"]
[null,null,"CORP","Sr. VP & CFO"]
[null,null,"SUPP","Support"]
[null,null,"VPCC","VP Corporate Controller"]
[null,null,"S05","Salix"]
["B07","B07 - Project Delivery","0007","Gen Prod Sub Support"]
[null,null,"AVA"]
[null,null,"CEXO","CEO & President"]
[null,null,"OPER","Sr. VP Energy Resources"]
[null,null,"SUPP","Support"]
[null,null,"VPPS","Sr. VP Energy Resources"]
[null,null,"VPUP","President & COO Avista Corp"]
[null,null,"B07","Maintenance Management & Construction"]
["C11","C11 - CC&B Technology","AVA"]
[null,null,"CEXO","CEO & President"]
[null,null,"CUST","Customer Service & Sales"]
[null,null,"OPER","VP Customer Solutions"]
[null,null,"SUPP","Support"]
[null,null,"VPCS","VP Customer Solutions"]
[null,null,"VPUP","President & COO Avista Corp"]
[null,null,"C11","CC&B Technology"]
["M11","M11 - EAM Technology","AVA"]
[null,null,"CEXO","CEO & President"]
[null,null,"ENGR","Electric Engineering"]
[null,null,"OPER","VP Energy Delivery"]
[null,null,"SUPP","Support"]
[null,null,"VPOP","VP Energy Delivery"]
[null,null,"VPUP","President & COO Avista Corp"]
[null,null,"M11","EAM Technology"]
["P03","P03 - Energy Deliver Tech Proj","AVA"]
[null,null,"CEXO","CEO & President"]
[null,null,"ENGR","Electric Engineering"]
[null,null,"OPER","VP Energy Delivery"]
[null,null,"SUPP","Support"]
[null,null,"VPOP","VP Energy Delivery"]
[null,null,"VPUP","President & COO Avista Corp"]
[null,null,"P03","Energy Delivery Tech Projects"]
["R53","R53 - Grangeville","AVA"]
[null,null,"CEXO","CEO & President"]
[null,null,"EAST","Director Operations - East"]
[null,null,"ELEC","Electric"]
[null,null,"OPER","VP Energy Delivery"]
[null,null,"VPOP","VP Energy Delivery"]
[null,null,"VPUP","President & COO Avista Corp"]
[null,null,"R53","Grangeville"]
["S53","S53 - St. Maries","AVA"]
[null,null,"CEXO","CEO & President"]
[null,null,"EAST","Director Operations - East"]
[null,null,"ELEC","Electric"]
[null,null,"OPER","VP Energy Delivery"]
[null,null,"VPOP","VP Energy Delivery"]
[null,null,"VPUP","President & COO Avista Corp"]
[null,null,"S53","St Maries"]
["P59","P59 - Tech Service Center","AVA"]
[null,null,"CEXO","CEO & President"]
[null,null,"INFO","VP Info & Security"]
[null,null,"INFR","Infrastructure Technology Summary"]
[null,null,"OPER","VP Info & Security"]
[null,null,"SUPP","Support"]
[null,null,"VPUP","President & COO Avista Corp"]
[null,null,"P59","Technology Service Center"]
["P99","P99 - IT Director","AVA"]
[null,null,"CEXO","CEO & President"]
[null,null,"INFO","VP Info & Security"]
[null,null,"INFR","Infrastructure Technology Summary"]
[null,null,"OPER","VP Info & Security"]
[null,null,"SUPP","Support"]
[null,null,"VPUP","President & COO Avista Corp"]
[null,null,"P99","IT Director"]
["C19","C19 - Security Operations","AVA"]
[null,null,"CEXO","CEO & President"]
[null,null,"INFO","VP Info & Security"]
[null,null,"INFR","Infrastructure Technology Summary"]
[null,null,"OPER","VP Info & Security"]
[null,null,"SUPP","Support"]
[null,null,"VPUP","President & COO Avista Corp"]
[null,null,"C19","Security Operations"]
[null,null,"SEO","Security Rollup"]
["C29","C29 - Security Products & Serv","AVA"]
[null,null,"CEXO","CEO & President"]
[null,null,"INFO","VP Info & Security"]
[null,null,"INFR","Infrastructure Technology Summary"]
[null,null,"OPER","VP Info & Security"]
[null,null,"SUPP","Support"]
[null,null,"VPUP","President & COO Avista Corp"]
[null,null,"C29","Security Products & Services"]
[null,null,"SEO","Security Rollup"]
["C59","C59 - Enterprise Busi Continuity","AVA"]
[null,null,"CEXO","CEO & President"]
[null,null,"INFO","VP Info & Security"]
[null,null,"INFR","Infrastructure Technology Summary"]
[null,null,"OPER","VP Info & Security"]
[null,null,"SUPP","Support"]
[null,null,"VPUP","President & COO Avista Corp"]
[null,null,"C59","Enterprise Business Continuity (EBC)"]
[null,null,"SEO","Security Rollup"]
["E19","E19 - Dist Systems Ops","AVA"]
[null,null,"CEXO","CEO & President"]
[null,null,"INFO","VP Info & Security"]
[null,null,"INFR","Infrastructure Technology Summary"]
[null,null,"OPER","VP Info & Security"]
[null,null,"SUPP","Support"]
[null,null,"VPUP","President & COO Avista Corp"]
[null,null,"ITOP","IT Operations Rollup"]
[null,null,"E19","Distributed Systems Operations"]
["M19","M19 - Central Systems Ops","AVA"]
[null,null,"CEXO","CEO & President"]
[null,null,"INFO","VP Info & Security"]
[null,null,"INFR","Infrastructure Technology Summary"]
[null,null,"OPER","VP Info & Security"]
[null,null,"SUPP","Support"]
[null,null,"VPUP","President & COO Avista Corp"]
[null,null,"ITOP","IT Operations Rollup"]
[null,null,"M19","Central Systems Operations"]
["R19","R19 - Comm Systems Ops","AVA"]
[null,null,"CEXO","CEO & President"]
[null,null,"INFO","VP Info & Security"]
[null,null,"INFR","Infrastructure Technology Summary"]
[null,null,"OPER","VP Info & Security"]
[null,null,"SUPP","Support"]
[null,null,"VPUP","President & COO Avista Corp"]
[null,null,"ITOP","IT Operations Rollup"]
[null,null,"R19","Communication Systems Operations"]
["J29","J29 - Ntwk Sys Prod & Serv","AVA"]
[null,null,"CEXO","CEO & President"]
[null,null,"INFO","VP Info & Security"]
[null,null,"INFR","Infrastructure Technology Summary"]
[null,null,"OPER","VP Info & Security"]
[null,null,"SUPP","Support"]
[null,null,"VPUP","President & COO Avista Corp"]
[null,null,"J29","Network Systems Products & Services"]
[null,null,"ITNE","Network Engineering Rollup"]
["E29","E29 - Dist Syst Prod & Serv","AVA"]
[null,null,"CEXO","CEO & President"]
[null,null,"INFO","VP Info & Security"]
[null,null,"INFR","Infrastructure Technology Summary"]
[null,null,"OPER","VP Info & Security"]
[null,null,"SUPP","Support"]
[null,null,"VPUP","President & COO Avista Corp"]
[null,null,"E29","Distributed Systems Products & Services"]
[null,null,"ITSE","System Engineering Rollup"]
["M29","M29 - Cntrl Syst Prod & Serv","AVA"]
[null,null,"CEXO","CEO & President"]
[null,null,"INFO","VP Info & Security"]
[null,null,"INFR","Infrastructure Technology Summary"]
[null,null,"OPER","VP Info & Security"]
[null,null,"SUPP","Support"]
[null,null,"VPUP","President & COO Avista Corp"]
[null,null,"M29","Central Systems Products & Services"]
[null,null,"ITSE","System Engineering Rollup"]
["R29","R29 - Comm Sys Prod & Serv","AVA"]
[null,null,"CEXO","CEO & President"]
[null,null,"INFO","VP Info & Security"]
[null,null,"INFR","Infrastructure Technology Summary"]
[null,null,"OPER","VP Info & Security"]
[null,null,"SUPP","Support"]
[null,null,"VPUP","President & COO Avista Corp"]
[null,null,"R29","Communication Systems Products & Service"]
[null,null,"ITSE","System Engineering Rollup"]
["Q19","Q19 - Qlty Assur & Rel Mgmt","AVA"]
[null,null,"CEXO","CEO & President"]
[null,null,"INFO","VP Info & Security"]
[null,null,"OPER","VP Info & Security"]
[null,null,"SUPP","Support"]
[null,null,"VPUP","President & COO Avista Corp"]
[null,null,"APPS","Applications Summary"]
[null,null,"Q19","Quality Assurance & Release Management"]
[null,null,"ISOP","IS Operations Rollup"]
["A19","A19 - Operating Tech Ops","AVA"]
[null,null,"CEXO","CEO & President"]
[null,null,"INFO","VP Info & Security"]
[null,null,"OPER","VP Info & Security"]
[null,null,"SUPP","Support"]
[null,null,"VPUP","President & COO Avista Corp"]
[null,null,"APPS","Applications Summary"]
[null,null,"ISOP","IS Operations Rollup"]
[null,null,"A19","Operating Technology Operations"]
["F19","F19 - Back Office Tech Ops","AVA"]
[null,null,"CEXO","CEO & President"]
[null,null,"INFO","VP Info & Security"]
[null,null,"OPER","VP Info & Security"]
[null,null,"SUPP","Support"]
[null,null,"VPUP","President & COO Avista Corp"]
[null,null,"APPS","Applications Summary"]
[null,null,"ISOP","IS Operations Rollup"]
[null,null,"F19","Back Office Technology Operations"]
["K19","K19 - Customer Tech Ops","AVA"]
[null,null,"CEXO","CEO & President"]
[null,null,"INFO","VP Info & Security"]
[null,null,"OPER","VP Info & Security"]
[null,null,"SUPP","Support"]
[null,null,"VPUP","President & COO Avista Corp"]
[null,null,"APPS","Applications Summary"]
[null,null,"ISOP","IS Operations Rollup"]
[null,null,"K19","Customer Technology Operations"]
["X19","T54 - Rev and Fin Systems","AVA"]
[null,null,"CEXO","CEO & President"]
[null,null,"INFO","VP Info & Security"]
[null,null,"OPER","VP Info & Security"]
[null,null,"SUPP","Support"]
[null,null,"VPUP","President & COO Avista Corp"]
[null,null,"APPS","Applications Summary"]
[null,null,"ISOP","IS Operations Rollup"]
[null,null,"X19","Data Operations"]
["S19","S19 - Integrations Operations","AVA"]
[null,null,"CEXO","CEO & President"]
[null,null,"INFO","VP Info & Security"]
[null,null,"OPER","VP Info & Security"]
[null,null,"SUPP","Support"]
[null,null,"VPUP","President & COO Avista Corp"]
[null,null,"APPS","Applications Summary"]
[null,null,"ISOP","IS Operations Rollup"]
[null,null,"S19","Integrations Operations"]
["T19","T19 - CC&B Operations","AVA"]
[null,null,"CEXO","CEO & President"]
[null,null,"INFO","VP Info & Security"]
[null,null,"OPER","VP Info & Security"]
[null,null,"SUPP","Support"]
[null,null,"VPUP","President & COO Avista Corp"]
[null,null,"APPS","Applications Summary"]
[null,null,"ISOP","IS Operations Rollup"]
[null,null,"T19","CC&B Operations"]
["V19","T54 - Rev and Fin Systems","AVA"]
[null,null,"CEXO","CEO & President"]
[null,null,"INFO","VP Info & Security"]
[null,null,"OPER","VP Info & Security"]
[null,null,"SUPP","Support"]
[null,null,"VPUP","President & COO Avista Corp"]
[null,null,"APPS","Applications Summary"]
[null,null,"ISOP","IS Operations Rollup"]
[null,null,"V19","EAM/Operations Operations"]
["W39","T54 - Rev and Fin Systems","AVA"]
[null,null,"CEXO","CEO & President"]
[null,null,"INFO","VP Info & Security"]
[null,null,"OPER","VP Info & Security"]
[null,null,"SUPP","Support"]
[null,null,"VPUP","President & COO Avista Corp"]
[null,null,"APPS","Applications Summary"]
[null,null,"W39","IS Delivery"]
[null,null,"ISDV","IS Development Rollup"]
["G39","G39 - GIS Development","AVA"]
[null,null,"CEXO","CEO & President"]
[null,null,"INFO","VP Info & Security"]
[null,null,"OPER","VP Info & Security"]
[null,null,"SUPP","Support"]
[null,null,"VPUP","President & COO Avista Corp"]
[null,null,"APPS","Applications Summary"]
[null,null,"ISDV","IS Development Rollup"]
[null,null,"G39","GIS Developemnt"]
["Y39","T54 - Rev and Fin Systems","AVA"]
[null,null,"CEXO","CEO & President"]
[null,null,"INFO","VP Info & Security"]
[null,null,"OPER","VP Info & Security"]
[null,null,"SUPP","Support"]
[null,null,"VPUP","President & COO Avista Corp"]
[null,null,"APPS","Applications Summary"]
[null,null,"ISDV","IS Development Rollup"]
[null,null,"Y39","Web Development"]
["K39","K39 - Gen Custom App Dev","AVA"]
[null,null,"CEXO","CEO & President"]
[null,null,"INFO","VP Info & Security"]
[null,null,"OPER","VP Info & Security"]
[null,null,"SUPP","Support"]
[null,null,"VPUP","President & COO Avista Corp"]
[null,null,"APPS","Applications Summary"]
[null,null,"ISDV","IS Development Rollup"]
[null,null,"K39","General Custom Application Development"]
["F39","F39 - Oracle Fin Sevices Dev","AVA"]
[null,null,"CEXO","CEO & President"]
[null,null,"INFO","VP Info & Security"]
[null,null,"OPER","VP Info & Security"]
[null,null,"SUPP","Support"]
[null,null,"VPUP","President & COO Avista Corp"]
[null,null,"APPS","Applications Summary"]
[null,null,"ISDV","IS Development Rollup"]
[null,null,"F39","Oracle Financial Services Development"]
["A39","A39 - COTS Development","AVA"]
[null,null,"CEXO","CEO & President"]
[null,null,"INFO","VP Info & Security"]
[null,null,"OPER","VP Info & Security"]
[null,null,"SUPP","Support"]
[null,null,"VPUP","President & COO Avista Corp"]
[null,null,"APPS","Applications Summary"]
[null,null,"ISDV","IS Development Rollup"]
[null,null,"A39","COTS Development"]
["L39","L39 - Nucleus Development","AVA"]
[null,null,"CEXO","CEO & President"]
[null,null,"INFO","VP Info & Security"]
[null,null,"OPER","VP Info & Security"]
[null,null,"SUPP","Support"]
[null,null,"VPUP","President & COO Avista Corp"]
[null,null,"APPS","Applications Summary"]
[null,null,"ISDV","IS Development Rollup"]
[null,null,"L39","Nucleus Development"]
["X39","T54 - Rev and Fin Systems","AVA"]
[null,null,"CEXO","CEO & President"]
[null,null,"INFO","VP Info & Security"]
[null,null,"OPER","VP Info & Security"]
[null,null,"SUPP","Support"]
[null,null,"VPUP","President & COO Avista Corp"]
[null,null,"APPS","Applications Summary"]
[null,null,"ISDV","IS Development Rollup"]
[null,null,"X39","Data Development"]
["S39","S39 - Integrations Development","AVA"]
[null,null,"CEXO","CEO & President"]
[null,null,"INFO","VP Info & Security"]
[null,null,"OPER","VP Info & Security"]
[null,null,"SUPP","Support"]
[null,null,"VPUP","President & COO Avista Corp"]
[null,null,"APPS","Applications Summary"]
[null,null,"ISDV","IS Development Rollup"]
[null,null,"S39","Integrations Development"]
["T39","T39 - CC&B Development","AVA"]
[null,null,"CEXO","CEO & President"]
[null,null,"INFO","VP Info & Security"]
[null,null,"OPER","VP Info & Security"]
[null,null,"SUPP","Support"]
[null,null,"VPUP","President & COO Avista Corp"]
[null,null,"APPS","Applications Summary"]
[null,null,"ISDV","IS Development Rollup"]
[null,null,"T39","CC&B Development"]
["V39","T54 - Rev and Fin Systems","AVA"]
[null,null,"CEXO","CEO & President"]
[null,null,"INFO","VP Info & Security"]
[null,null,"OPER","VP Info & Security"]
[null,null,"SUPP","Support"]
[null,null,"VPUP","President & COO Avista Corp"]
[null,null,"APPS","Applications Summary"]
[null,null,"ISDV","IS Development Rollup"]
[null,null,"V39","EAM/Maximo Development"]
["F02","F02 - HR Consulting and Analy","AVA"]
[null,null,"CEXO","CEO & President"]
[null,null,"CORP","Sr. VP Human Resources"]
[null,null,"SUPP","Support"]
[null,null,"VPHR","Sr. VP Human Resources"]
[null,null,"F02","HR Analytics and Compliance"]
["T54","T54 - Rev and Fin Systems","AVA"]
[null,null,"CEXO","CEO & President"]
[null,null,"CORP","Sr. VP & CFO"]
[null,null,"SUPP","Support"]
[null,null,"VPCC","VP Corporate Controller"]
[null,null,"VPFO","Sr. VP & CFO"]
[null,null,"T54","Revenue and Financial Systems"]
["B0i7i","N54 - Strategic Initiatives","VPPS","VP Energy Resources"]
["A53","A52 - Svc Develop & Marketng","AVA"]
[null,null,"CEXO","CEO & President"]
[null,null,"OPER","VP Customer Solutions"]
[null,null,"SUPP","Support"]
[null,null,"VPCS","VP Customer Solutions"]
[null,null,"VPUP","President & COO Avista Corp"]
[null,null,"CSOL","Customer Solutions"]
[null,null,"A53","VP of Customer Solutions"]
["S52","S51 - Supply Chain Loadings","AVA"]
[null,null,"CEXO","CEO & President"]
[null,null,"OPER","VP Energy Delivery"]
[null,null,"SERV","Shared Services"]
[null,null,"SUPP","Support"]
[null,null,"VPOP","VP Energy Delivery"]
[null,null,"VPUP","President & COO Avista Corp"]
[null,null,"S52","Sr Mgr of Shared Services"]
["L11","L08 - Transmission Design","AVA"]
[null,null,"CEXO","CEO & President"]
[null,null,"ENGR","Electric Engineering"]
[null,null,"OPER","VP Energy Delivery"]
[null,null,"SUPP","Support"]
[null,null,"VPOP","VP Energy Delivery"]
[null,null,"VPUP","President & COO Avista Corp"]
[null,null,"L11","Transmission Veg Management"]
["M02","L54 - Travel & Flight Operations","AVA"]
[null,null,"CEXO","CEO & President"]
[null,null,"CORP","Sr. VP Human Resources"]
[null,null,"SUPP","Support"]
[null,null,"VPHR","Sr. VP Human Resources"]
[null,null,"M02","Corporate Learning and Development"]
["N02","M54 - Business Development","AVA"]
[null,null,"CEXO","CEO & President"]
[null,null,"CORP","Sr. VP Human Resources"]
[null,null,"SUPP","Support"]
[null,null,"VPHR","Sr. VP Human Resources"]
[null,null,"N02","HR Shared Services"]
["Grand Total"]

{"sheet":"2016 update ORG","index":5,"n_rows":4031,"n_cols":14,"rows_kept":4031,"cut":false,"hidden":false,"merged":[]}
["Org Structure Tables  Organization Table  ",null,null,"Org Structure Tables  Org Structure Table  "]
["2016-02-03",null,null,"2017-04-11"]
["Expenditure Organization","Organization Desc",null,"Link Org","Organization","Org Level1","Org Level2","Org Level3","Org Level4","Org Level5","Org Structure Desc","Organization","Contact Reference Name","Organization Desc"]
["099","099 - Common to All",null,"J01","CEXO","NULL","NULL","NULL","NULL","NULL","CEO & President","J01"," ",{"$f":"VLOOKUP(L4,Table1,2)","v":"J01 - SR VP & CFO"}]
["11E","11E - AE Finance",null,"J01","J01","NULL","NULL","NULL","NULL","NULL","Executive VP & CFO","J01","Mark Thies","J01 - SR VP & CFO"]
["200","200 - Capital",null,"J01","SUPP","NULL","NULL","NULL","NULL","NULL","Support","J01","NULL","J01 - SR VP & CFO"]
["20E","20E - AE - Marketing Spokane",null,"028","028","NULL","NULL","NULL","NULL","NULL","Washington State Expense","028","NULL",{"$error":"#N/A"}]
["250","250 - Pentzer",null,"028","AVA","GENL","028","NULL","NULL","NULL","Total Company","028","NULL",{"$error":"#N/A"}]
["260","260 - Development",null,"028","GENL","028","NULL","NULL","NULL","NULL","General Corporate","028","NULL",{"$error":"#N/A"}]
["290","290 - Ventures",null,"038","038","NULL","NULL","NULL","NULL","NULL","Idaho State Expense","038","NULL",{"$error":"#N/A"}]
["400","400 - Salix LNG Inc",null,"038","AVA","GENL","038","NULL","NULL","NULL","Total Company","038","NULL",{"$error":"#N/A"}]
["40E","40E - AE - Risk",null,"038","GENL","038","NULL","NULL","NULL","NULL","General Corporate","038","NULL",{"$error":"#N/A"}]
["50E","50E - AE - Trading Spokane",null,"048","048","NULL","NULL","NULL","NULL","NULL","Montana State Expense","048","Jason Thackston",{"$error":"#N/A"}]
["A01","A01 - Native American  Relations",null,"048","AVA","GENL","048","NULL","NULL","NULL","Total Company","048","NULL",{"$error":"#N/A"}]
["A02","A02 - HRIS/Payroll",null,"048","GENL","048","NULL","NULL","NULL","NULL","General Corporate","048","NULL",{"$error":"#N/A"}]
["A04","A04 - Environmental Affairs",null,"068","068","NULL","NULL","NULL","NULL","NULL","Oregon State Expense","068","NULL",{"$error":"#N/A"}]
["A07","A07 - Gen Mgmt & Admin Support",null,"068","AVA","GENL","068","NULL","NULL","NULL","Total Company","068","NULL",{"$error":"#N/A"}]
["A08","A08 - Relay & Protection",null,"068","GENL","068","NULL","NULL","NULL","NULL","General Corporate","068","NULL",{"$error":"#N/A"}]
["A09","A09 - ET Shared Services",null,"078","078","NULL","NULL","NULL","NULL","NULL","California State Expense","078","NULL",{"$error":"#N/A"}]
["A19","A19 - Operating Tech Ops",null,"078","AVA","GENL","078","NULL","NULL","NULL","Total Company","078","NULL",{"$error":"#N/A"}]
["A39","A39 - COTS Development",null,"078","GENL","078","NULL","NULL","NULL","NULL","General Corporate","078","NULL",{"$error":"#N/A"}]
["A50","A50 - Director of Ops WA & ID",null,"092","092","NULL","NULL","NULL","NULL","NULL","Oregon/California Allocated Expense","092","NULL",{"$error":"#N/A"}]
["A51","A51 - Dir Operations East & South",null,"092","AVA","GENL","092","NULL","NULL","NULL","Total Company","092","NULL",{"$f":"VLOOKUP(L23,Table1,2)","v":{"$error":"#N/A"}}]
["A52","A52 - Svc Develop & Marketng",null,"092","GENL","092","NULL","NULL","NULL","NULL","General Corporate","092","NULL",{"$error":"#N/A"}]
["A54","A54 - Dir of Customer Solution",null,"098","098","NULL","NULL","NULL","NULL","NULL","Washington/Idaho Common Expense","098","NULL",{"$error":"#N/A"}]
["A56","A56 - System Operations",null,"098","AVA","GENL","098","NULL","NULL","NULL","Total Company","098","NULL",{"$error":"#N/A"}]
["A57","A57 - Ed Utility Accounting",null,"098","GENL","098","NULL","NULL","NULL","NULL","General Corporate","098","NULL",{"$error":"#N/A"}]
["A80","A80 - Director of ORCA",null,"J01","VPFO","NULL","NULL","NULL","NULL","NULL","Sr. VP & CFO","J01","Marian Durkin","J01 - SR VP & CFO"]
["A81","A81 - Medford Construction",null,"J02","AVA","NULL","NULL","NULL","NULL","NULL","Total Company","J02"," ","J02 - Public Safety"]
["A82","A82 - Roseburg",null,"J02","CEXO","NULL","NULL","NULL","NULL","NULL","CEO & President","J02"," ","J02 - Public Safety"]
["A83","A83 - Klamath Falls",null,"10A","10A","NULL","NULL","NULL","NULL","NULL","AA - Account Management","NULL","NULL","N54 - Strategic Initiatives"]
["A84","A84 -South Lake Tahoe",null,"10A","AVA","AVIS","10A","NULL","NULL","NULL","Total Company","NULL","NULL","N54 - Strategic Initiatives"]
["B02","B02 - Benefits",null,"10A","AVIS","10A","NULL","NULL","NULL","NULL","Avista Subsidiaries","NULL","Scott Morris","N54 - Strategic Initiatives"]
["B04","B04 - Clark Fork License",null,"11E","11E","NULL","NULL","NULL","NULL","NULL","AE - Finance","11E","NULL","11E - AE Finance"]
["B07","B07 - Project Delivery",null,"11E","AVA","AVIS","11E","NULL","NULL","NULL","Total Company","11E","NULL","11E - AE Finance"]
["B08","B08 - Business Process Improvement",null,"11E","AVIS","11E","NULL","NULL","NULL","NULL","Avista Subsidiaries","11E","Scott Morris","11E - AE Finance"]
["B09","B09 - Network Operations",null,"20A","20A","NULL","NULL","NULL","NULL","NULL","AA - Implementation","NULL","NULL","N54 - Strategic Initiatives"]
["B16","B16 - Government Relations",null,"20A","AVA","AVIS","20A","NULL","NULL","NULL","Total Company","NULL","NULL","N54 - Strategic Initiatives"]
["B50","B50 - Spokane Electric",null,"20A","AVIS","20A","NULL","NULL","NULL","NULL","Avista Subsidiaries","NULL","Scott Morris","N54 - Strategic Initiatives"]
["B51","B51 - Gas Engineering",null,"20E","20E","NULL","NULL","NULL","NULL","NULL","AE - Marketing Spokane","20E","NULL","20E - AE - Marketing Spokane"]
["B52","B52 - Gas Comp Cathodic",null,"20E","AVA","AVIS","20E","NULL","NULL","NULL","Total Company","20E","NULL","20E - AE - Marketing Spokane"]
["B53","B53 - Pullman",null,"20E","AVIS","20E","NULL","NULL","NULL","NULL","Avista Subsidiaries","20E","Scott Morris","20E - AE - Marketing Spokane"]
["B54","B54 - Gas Compliance",null,"21E","21E","NULL","NULL","NULL","NULL","NULL","AE - Marketing Houston","NULL","NULL","N54 - Strategic Initiatives"]
["B56","B56 - Misc Transmission Expense",null,"21E","AVA","AVIS","21E","NULL","NULL","NULL","Total Company","NULL","NULL","N54 - Strategic Initiatives"]
["B81","B81 - Contact Ctr-Medford",null,"21E","AVIS","21E","NULL","NULL","NULL","NULL","Avista Subsidiaries","NULL","Scott Morris","N54 - Strategic Initiatives"]
["C02","C02 - Employee Engagement",null,"260","260","NULL","NULL","NULL","NULL","NULL","Avista Development","260","NULL","260 - Development"]
["C04","C04 - Spokane River License",null,"260","AVA","AVIS","260","NULL","NULL","NULL","Total Company","260","NULL","260 - Development"]
["C06","C06 - Joint Project - CS2",null,"260","AVIS","260","NULL","NULL","NULL","NULL","Avista Subsidiaries","260","Scott Morris","260 - Development"]
["C07","C07 - Spokane River Hydro",null,"30E","30E","NULL","NULL","NULL","NULL","NULL","AE - IS","NULL","NULL","N54 - Strategic Initiatives"]
["C08","C08 - Technical Services - GIS",null,"30E","AVA","AVIS","30E","NULL","NULL","NULL","Total Company","NULL","NULL","N54 - Strategic Initiatives"]
["C09","C09 - Security Systems",null,"30E","AVIS","30E","NULL","NULL","NULL","NULL","Avista Subsidiaries","NULL","Scott Morris","N54 - Strategic Initiatives"]
["C11","C11 - CC&B Technology",null,"35E","35E","NULL","NULL","NULL","NULL","NULL","AE - Credit/Contracts","NULL","NULL","N54 - Strategic Initiatives"]
["C19","C19 - Security Operations",null,"35E","AVA","AVIS","35E","NULL","NULL","NULL","Total Company","NULL","NULL","N54 - Strategic Initiatives"]
["C29","C29 - Security Products & Serv",null,"35E","AVIS","35E","NULL","NULL","NULL","NULL","Avista Subsidiaries","NULL","Scott Morris","N54 - Strategic Initiatives"]
["C50","C50 - Contact Ctr Spokane-Hire & Train",null,"40A","40A","NULL","NULL","NULL","NULL","NULL","AA - Training","NULL","NULL","N54 - Strategic Initiatives"]
["C51","C51 - Elec Distributn Design",null,"40A","AVA","AVIS","40A","NULL","NULL","NULL","Total Company","NULL","NULL","N54 - Strategic Initiatives"]
["C52","C52 - Customer Solutions",null,"40A","AVIS","40A","NULL","NULL","NULL","NULL","Avista Subsidiaries","NULL","Scott Morris","N54 - Strategic Initiatives"]
["C53","C53 - Coeur d Alene Gas",null,"40E","40E","NULL","NULL","NULL","NULL","NULL","AE - Risk","40E","NULL","40E - AE - Risk"]
["C54","C54 - Tax Services",null,"40E","AVA","AVIS","40E","NULL","NULL","NULL","Total Company","40E","NULL","40E - AE - Risk"]
["C55","C55 - Gas Resource Costs",null,"40E","AVIS","40E","NULL","NULL","NULL","NULL","Avista Subsidiaries","40E","Scott Morris","40E - AE - Risk"]
["C56","C56 - System Planning",null,"50A","50A","NULL","NULL","NULL","NULL","NULL","AA - Administration","NULL","NULL","N54 - Strategic Initiatives"]
["C57","C57 - Spokane Electric Network",null,"50A","AVA","AVIS","50A","NULL","NULL","NULL","Total Company","NULL","NULL","N54 - Strategic Initiatives"]
["C59","C59 - Enterprise Busi Continuity",null,"50A","AVIS","50A","NULL","NULL","NULL","NULL","Avista Subsidiaries","NULL","Scott Morris","N54 - Strategic Initiatives"]
["C81","C81 - Medford Tech Service",null,"50E","50E","NULL","NULL","NULL","NULL","NULL","AE - Trading Spokane","50E","NULL","50E - AE - Trading Spokane"]
["C83","C83 - La Grande",null,"50E","AVA","AVIS","50E","NULL","NULL","NULL","Total Company","50E","NULL","50E - AE - Trading Spokane"]
["D02","D02 - VP Of Hr & Corp Service",null,"50E","AVIS","50E","NULL","NULL","NULL","NULL","Avista Subsidiaries","50E","Scott Morris","50E - AE - Trading Spokane"]
["D08","D08 - Energy Del Gen Mg",null,"52E","52E","NULL","NULL","NULL","NULL","NULL","AE - Trading Houston","NULL","NULL","N54 - Strategic Initiatives"]
["D09","D09 - Scada",null,"52E","AVA","AVIS","52E","NULL","NULL","NULL","Total Company","NULL","NULL",{"$f":"VLOOKUP(L68,Table1,2)","v":"N54 - Strategic Initiatives"}]
["D50","D50 - Meter Read/Billing",null,"52E","AVIS","52E","NULL","NULL","NULL","NULL","Avista Subsidiaries","NULL","Scott Morris","N54 - Strategic Initiatives"]
["D51","D51 - Vegetation Management",null,"60A","60A","NULL","NULL","NULL","NULL","NULL","AA - Data Entry","NULL","NULL","N54 - Strategic Initiatives"]
["D52","D52 - Energy Efficiency",null,"60A","AVA","AVIS","60A","NULL","NULL","NULL","Total Company","NULL","NULL","N54 - Strategic Initiatives"]
["D53","D53 - Clarkston",null,"60A","AVIS","60A","NULL","NULL","NULL","NULL","Avista Subsidiaries","NULL","Scott Morris","N54 - Strategic Initiatives"]
["D54","D54 - Corp & Subs Accounting",null,"J02","J02","NULL","NULL","NULL","NULL","NULL","Public Safety","J02","Anthony Klutz","J02 - Public Safety"]
["D55","D55 - Natural Gas Resources",null,"J02","SUPP","NULL","NULL","NULL","NULL","NULL","Support","J02","NULL","J02 - Public Safety"]
["D56","D56 - Director of Engineering/System Ops",null,"J02","VPHR","NULL","NULL","NULL","NULL","NULL","Sr. VP Human Resources","J02","Heather Rosentrater","J02 - Public Safety"]
["D83","D83 - Goldendale Construction",null,"J06","AVA","NULL","NULL","NULL","NULL","NULL","Total Company","J06"," ","J06 - Joint Project Jackson Prairie"]
["E01","E01 - Exec Administration",null,"J06","CEXO","NULL","NULL","NULL","NULL","NULL","CEO & President","J06"," ","J06 - Joint Project Jackson Prairie"]
["E02","E02 - Corp Org Development",null,"J06","J06","NULL","NULL","NULL","NULL","NULL","Joint Project-Jackson Prairie","J06","Jody Morehouse","J06 - Joint Project Jackson Prairie"]
["E07","E07 - Generation Engineers",null,"J06","RSRC","NULL","NULL","NULL","NULL","NULL","Joint Resources","J06","David Meyer","J06 - Joint Project Jackson Prairie"]
["E08","E08 - Old RC for Conversion",null,"J06","SUPP","NULL","NULL","NULL","NULL","NULL","Support","J06","NULL","J06 - Joint Project Jackson Prairie"]
["E09","E09 - Distributed Systems",null,"J06","VPPS","NULL","NULL","NULL","NULL","NULL","Sr. VP Energy Resources","J06","Kelly Norwood","J06 - Joint Project Jackson Prairie"]
["E14","E14 - Environmental Compliance",null,"J06","VPUP","NULL","NULL","NULL","NULL","NULL","President & COO Avista Corp","J06","Marian Durkin","J06 - Joint Project Jackson Prairie"]
["E19","E19 - Dist Systems Ops",null,"J08","AVA","NULL","NULL","NULL","NULL","NULL","Total Company","J08"," ","J08 - Gas Construction Quality Control"]
["E29","E29 - Dist Syst Prod & Serv",null,"A03","A03","NULL","NULL","NULL","NULL","NULL","Avista Power","NULL","NULL","N54 - Strategic Initiatives"]
["E50","E50 - Contact Ctr-Spokane",null,"A03","AVA","AVIS","A03","NULL","NULL","NULL","Total Company","NULL","NULL","N54 - Strategic Initiatives"]
["E51","E51 - Asset Management",null,"A03","AVIS","A03","NULL","NULL","NULL","NULL","Avista Subsidiaries","NULL","Scott Morris","N54 - Strategic Initiatives"]
["E52","E52 - Oregon DSM",null,"J08","CEXO","NULL","NULL","NULL","NULL","NULL","CEO & President","J08"," ","J08 - Gas Construction Quality Control"]
["E53","E53 - Contact Ctr-Lewiston",null,"J08","GAS","NULL","NULL","NULL","NULL","NULL","Gas","J08","NULL","J08 - Gas Construction Quality Control"]
["E54","E54 - Accounts Payable",null,"J08","GEGR","NULL","NULL","NULL","NULL","NULL","Gas Engineering","J08","Mike Faulkenberry","J08 - Gas Construction Quality Control"]
["E55","E55 - Power Supply",null,"J08","J08","NULL","NULL","NULL","NULL","NULL","Gas Construction Quality Control","J08","Matt Mullineaux","J08 - Gas Construction Quality Control"]
["E56","E56 - Transmission Services",null,"J08","NGAS","NULL","NULL","NULL","NULL","NULL","Natural Gas","J08","Mike Faulkenberry","J08 - Gas Construction Quality Control"]
["F02","F02 - HR Consulting and Analy",null,"J08","VPOP","NULL","NULL","NULL","NULL","NULL","VP Energy Delivery","J08","Jason Thackston","J08 - Gas Construction Quality Control"]
["F08","F08 - Electric Shop",null,"J08","VPUP","NULL","NULL","NULL","NULL","NULL","President & COO Avista Corp","J08","Marian Durkin","J08 - Gas Construction Quality Control"]
["F14","F14 - External Projects",null,"J09","AVA","NULL","NULL","NULL","NULL","NULL","Total Company","J09"," ","J09 - Network Systems"]
["F19","F19 - Back Office Tech Ops",null,"J09","CEXO","NULL","NULL","NULL","NULL","NULL","CEO & President","J09"," ","J09 - Network Systems"]
["F39","F39 - Oracle Fin Sevices Dev",null,"J09","INFO","NULL","NULL","NULL","NULL","NULL","VP Info & Security","J09","Jim Kensok","J09 - Network Systems"]
["F50","F50 - Contact Ctr-Credit & Collections",null,"J09","INFR","NULL","NULL","NULL","NULL","NULL","Infrastructure Technology Summary","J09","Jim Corder","J09 - Network Systems"]
["F51","F51 - G.I.S.",null,"J09","ITNE","NULL","NULL","NULL","NULL","NULL","Network Engineering Rollup","J09","Jim Corder","J09 - Network Systems"]
["F52","F52 - Market Services",null,"J09","J09","NULL","NULL","NULL","NULL","NULL","Network Systems Engineering","J09","Jim Corder","J09 - Network Systems"]
["F53","F53 - AM Lewis/Clark",null,"J09","SUPP","NULL","NULL","NULL","NULL","NULL","Support","J09","NULL","J09 - Network Systems"]
["F54","F54 - Treasury & Trust Mgmt",null,"J09","VPUP","NULL","NULL","NULL","NULL","NULL","President & COO Avista Corp","J09","Marian Durkin","J09 - Network Systems"]
["F55","F55 - Financial Planning and Analysis",null,"J10","AVA","NULL","NULL","NULL","NULL","NULL","Total Company","J10"," ","J10 - Utility Fin Central"]
["FIN","FIN - Financial Info Summary",null,"J10","CEXO","NULL","NULL","NULL","NULL","NULL","CEO & President","J10"," ","J10 - Utility Fin Central"]
["G01","G01 - Officer Support Team",null,"J10","J10","NULL","NULL","NULL","NULL","NULL","Utility Finance Centralization","J10","Laura Vickers","J10 - Utility Fin Central"]
["G02","G02 - Employee Safety",null,"J10","SUPP","NULL","NULL","NULL","NULL","NULL","Support","J10","NULL","J10 - Utility Fin Central"]
["G08","G08 - Gas Construction Management",null,"J10","VPFO","NULL","NULL","NULL","NULL","NULL","Sr. VP & CFO","J10","Marian Durkin","J10 - Utility Fin Central"]
["G10","G10 - Credit Union",null,"J29","AVA","NULL","NULL","NULL","NULL","NULL","Total Company","J29"," ","J29 - Ntwk Sys Prod & Serv"]
["G39","G39 - GIS Development",null,"J29","CEXO","NULL","NULL","NULL","NULL","NULL","CEO & President","J29"," ","J29 - Ntwk Sys Prod & Serv"]
["G50","G50 - Colville",null,"J29","INFO","NULL","NULL","NULL","NULL","NULL","VP Info & Security","J29","Jim Kensok","J29 - Ntwk Sys Prod & Serv"]
["G51","G51 - Dir of Natural Gas",null,"J29","INFR","NULL","NULL","NULL","NULL","NULL","Infrastructure Technology Summary","J29","Jim Corder","J29 - Ntwk Sys Prod & Serv"]
["G53","G53 - Area Manager - CDA",null,"J29","ITNE","NULL","NULL","NULL","NULL","NULL","Network Engineering Rollup","J29","Jim Corder","J29 - Ntwk Sys Prod & Serv"]
["G54","G54 - Finance Administration",null,"J29","J29","NULL","NULL","NULL","NULL","NULL","Network Systems Products & Services","J29","Jim Corder","J29 - Ntwk Sys Prod & Serv"]
["G55","G55 - Power Purchases",null,"J29","SUPP","NULL","NULL","NULL","NULL","NULL","Support","J29","NULL","J29 - Ntwk Sys Prod & Serv"]
["H02","H02 - Occupational Health",null,"J29","VPUP","NULL","NULL","NULL","NULL","NULL","President & COO Avista Corp","J29","Marian Durkin","J29 - Ntwk Sys Prod & Serv"]
["H03","H03 - Facility Lease Management",null,"J50","AVA","NULL","NULL","NULL","NULL","NULL","Total Company","J50"," ","J50 - Reg Bus Mgr - Spokane"]
["H04","H04 - Hydro Compliance",null,"J50","CEXO","NULL","NULL","NULL","NULL","NULL","CEO & President","J50"," ","J50 - Reg Bus Mgr - Spokane"]
["H07","H07 - Facilities Management",null,"J50","ESOL","NULL","NULL","NULL","NULL","NULL","Energy Solutions","J50","Pat Lynch","J50 - Reg Bus Mgr - Spokane"]
["H08","H08 - Energy Del Stratgic Proj",null,"J50","J50","NULL","NULL","NULL","NULL","NULL","Reg Bus Mgr - Spokane","J50","Pat Lynch","J50 - Reg Bus Mgr - Spokane"]
["H14","H14 - Consumer Affairs",null,"J50","SUPP","NULL","NULL","NULL","NULL","NULL","Support","J50","NULL","J50 - Reg Bus Mgr - Spokane"]
["H50","H50 - Othello",null,"J50","VPCS","NULL","NULL","NULL","NULL","NULL","VP Customer Solutions","J50","Kevin Christie","J50 - Reg Bus Mgr - Spokane"]
["H51","H51 - Supply Chain Mgmt",null,"J50","VPUP","NULL","NULL","NULL","NULL","NULL","President & COO Avista Corp","J50","Marian Durkin","J50 - Reg Bus Mgr - Spokane"]
["H53","H53 - Kellogg",null,"J51","AVA","NULL","NULL","NULL","NULL","NULL","Total Company","J51"," ","J51 - Warehousing"]
["H54","H54 - AP/Remittance Services",null,"J51","CEXO","NULL","NULL","NULL","NULL","NULL","CEO & President","J51"," ","J51 - Warehousing"]
["H55","H55 - Fuels Management",null,"J51","J51","NULL","NULL","NULL","NULL","NULL","Warehousing","J51","April Spacek","J51 - Warehousing"]
["I02","I02 - Craft Training",null,"J51","SERV","NULL","NULL","NULL","NULL","NULL","Shared Services","J51","Dennis Vermillion","J51 - Warehousing"]
["I08","I08 - Energy Delivery Operations Support",null,"J51","SUPP","NULL","NULL","NULL","NULL","NULL","Support","J51","NULL","J51 - Warehousing"]
["I50","I50 - Contact Center-IT",null,"J51","VPOP","NULL","NULL","NULL","NULL","NULL","VP Energy Delivery","J51","Jason Thackston","J51 - Warehousing"]
["I54","I54 - Tax Other Than Income",null,"J51","VPUP","NULL","NULL","NULL","NULL","NULL","President & COO Avista Corp","J51","Marian Durkin","J51 - Warehousing"]
["J01","J01 - SR VP & CFO",null,"J53","AVA","NULL","NULL","NULL","NULL","NULL","Total Company","J53"," ","J53 - Sandpoint/Bonners Ferry"]
["J02","J02 - Public Safety",null,"J53","CEXO","NULL","NULL","NULL","NULL","NULL","CEO & President","J53"," ","J53 - Sandpoint/Bonners Ferry"]
["J06","J06 - Joint Project Jackson Prairie",null,"J53","EAST","NULL","NULL","NULL","NULL","NULL","Director Operations - East","J53","Greg Gfeller","J53 - Sandpoint/Bonners Ferry"]
["J08","J08 - Gas Construction Quality Control",null,"J53","ELEC","NULL","NULL","NULL","NULL","NULL","Electric","J53","NULL",{"$f":"VLOOKUP(L132,Table1,2)","v":"J53 - Sandpoint/Bonners Ferry"}]
["J09","J09 - Network Systems",null,"J53","J53","NULL","NULL","NULL","NULL","NULL","Sandpoint/Bonners Ferry","J53","Jim Kane","J53 - Sandpoint/Bonners Ferry"]
["J10","J10 - Utility Fin Central",null,"J53","VPOP","NULL","NULL","NULL","NULL","NULL","VP Energy Delivery","J53","Jason Thackston","J53 - Sandpoint/Bonners Ferry"]
["J11","J11 - Planning & Analysis",null,"J53","VPUP","NULL","NULL","NULL","NULL","NULL","President & COO Avista Corp","J53","Marian Durkin","J53 - Sandpoint/Bonners Ferry"]
["J29","J29 - Ntwk Sys Prod & Serv",null,"J54","AVA","NULL","NULL","NULL","NULL","NULL","Total Company","J54"," ","J54 - Internal Auditing"]
["J50","J50 - Reg Bus Mgr - Spokane",null,"J54","CEXO","NULL","NULL","NULL","NULL","NULL","CEO & President","J54"," ","J54 - Internal Auditing"]
["J51","J51 - Warehousing",null,"J54","EXEC","NULL","NULL","NULL","NULL","NULL","Executive Department Summary","J54"," ","J54 - Internal Auditing"]
["J53","J53 - Sandpoint/Bonners Ferry",null,"J54","J54","NULL","NULL","NULL","NULL","NULL","Internal Auditing","J54","Tracy Van Orden","J54 - Internal Auditing"]
["J54","J54 - Internal Auditing",null,"J54","SUPP","NULL","NULL","NULL","NULL","NULL","Support","J54","NULL","J54 - Internal Auditing"]
["K02","K02 - Compensation",null,"K02","AVA","NULL","NULL","NULL","NULL","NULL","Total Company","K02"," ","K02 - Compensation"]
["K07","K07 - Kettle Falls Thermal",null,"K02","CEXO","NULL","NULL","NULL","NULL","NULL","CEO & President","K02"," ","K02 - Compensation"]
["K08","K08 - GIS Editing",null,"K02","K02","NULL","NULL","NULL","NULL","NULL","Compensation","K02","Dawnell Ellenson","K02 - Compensation"]
["K14","K14 - Public Affairs",null,"A80","A80","NULL","NULL","NULL","NULL","NULL","Director of OREG","A80","NULL","A80 - Director of ORCA"]
["K19","K19 - Customer Tech Ops",null,"A80","AVA","CEXO","VPUP","VPOP","NGAS","A80","Total Company","A80","NULL","A80 - Director of ORCA"]
["K39","K39 - Gen Custom App Dev",null,"A80","CEXO","VPUP","VPOP","NGAS","A80","NULL","CEO & President","A80","NULL","A80 - Director of ORCA"]
["K50","K50 - Old RC - Conversion",null,"A80","NGAS","A80","NULL","NULL","NULL","NULL","Natural Gas Operations","A80","Mike Faulkenberry","A80 - Director of ORCA"]
["K51","K51 - Fleet Management",null,"A80","VPOP","NGAS","A80","NULL","NULL","NULL","VP Operations","A80","NULL","A80 - Director of ORCA"]
["K53","K53 - Contact Ctr-CDA",null,"A80","VPUP","VPOP","NGAS","A80","NULL","NULL","President & COO Avista Corp","A80","Dennis Vermillion","A80 - Director of ORCA"]
["K54","K54 - Financial Systems Project",null,"K02","SUPP","NULL","NULL","NULL","NULL","NULL","Support","K02","NULL","K02 - Compensation"]
["L02","L02 - SG Workforce Training",null,"K02","VPHR","NULL","NULL","NULL","NULL","NULL","Sr. VP Human Resources","K02","Heather Rosentrater","K02 - Compensation"]
["L07","L07 - Clarkfork Hydro",null,"K07","0007","NULL","NULL","NULL","NULL","NULL","Gen Prod Sub Support","K07","Andy Vickers","K07 - Kettle Falls Thermal"]
["L08","L08 - Transmission Design",null,"K07","AVA","NULL","NULL","NULL","NULL","NULL","Total Company","K07"," ","K07 - Kettle Falls Thermal"]
["L39","L39 - Nucleus Development",null,"K07","CEXO","NULL","NULL","NULL","NULL","NULL","CEO & President","K07"," ","K07 - Kettle Falls Thermal"]
["L50","L50 - Spokane Gas",null,"K07","K07","NULL","NULL","NULL","NULL","NULL","Thermal Oper and Maint","K07","Tom Dempsey","K07 - Kettle Falls Thermal"]
["L51","L51 - Claims",null,"K07","SUPP","NULL","NULL","NULL","NULL","NULL","Support","K07","NULL","K07 - Kettle Falls Thermal"]
["L52","L52 - Claims Accrual",null,"K07","VPPS","NULL","NULL","NULL","NULL","NULL","Sr. VP Energy Resources","K07","Kelly Norwood","K07 - Kettle Falls Thermal"]
["L53","L53 - CDA",null,"K07","VPUP","NULL","NULL","NULL","NULL","NULL","President & COO Avista Corp","K07","Marian Durkin","K07 - Kettle Falls Thermal"]
["L54","L54 - Travel & Flight Operations",null,"K08","AVA","NULL","NULL","NULL","NULL","NULL","Total Company","K08"," ","K08 - GIS Editing"]
["M07","M07 - Mechanical/Structural Shop",null,"K08","CEXO","NULL","NULL","NULL","NULL","NULL","CEO & President","K08"," ","K08 - GIS Editing"]
["M08","M08 - Substation Design",null,"K08","ENGR","NULL","NULL","NULL","NULL","NULL","Electric Engineering","K08","David Howell","K08 - GIS Editing"]
["M09","M09 - Central Systems",null,"K08","K08","NULL","NULL","NULL","NULL","NULL","GIS Editing","K08","Lamont Miles","K08 - GIS Editing"]
["M11","M11 - EAM Technology",null,"K08","SUPP","NULL","NULL","NULL","NULL","NULL","Support","K08","NULL","K08 - GIS Editing"]
["M19","M19 - Central Systems Ops",null,"K08","VPOP","NULL","NULL","NULL","NULL","NULL","VP Energy Delivery","K08","Jason Thackston","K08 - GIS Editing"]
["M29","M29 - Cntrl Syst Prod & Serv",null,"K08","VPUP","NULL","NULL","NULL","NULL","NULL","President & COO Avista Corp","K08","Marian Durkin","K08 - GIS Editing"]
["M50","M50 - Deer Park",null,"K19","APPS","NULL","NULL","NULL","NULL","NULL","Applications Summary","K19","Hossein Nikdel","K19 - Customer Tech Ops"]
["M51","M51 - Asset Maintenance",null,"K19","AVA","NULL","NULL","NULL","NULL","NULL","Total Company","K19"," ","K19 - Customer Tech Ops"]
["M53","M53 - Business Entrepreneurial Network",null,"K19","CEXO","NULL","NULL","NULL","NULL","NULL","CEO & President","K19"," ","K19 - Customer Tech Ops"]
["M54","M54 - Business Development",null,"K19","INFO","NULL","NULL","NULL","NULL","NULL","VP Info & Security","K19","Jim Kensok","K19 - Customer Tech Ops"]
["N06","N06 - Joint Project-Colstrip",null,"K19","ISOP","NULL","NULL","NULL","NULL","NULL","IS Operations Rollup","K19","Hossein Nikdel","K19 - Customer Tech Ops"]
["N07","N07 - Utility Environ Compliance",null,"A84","A84","NULL","NULL","NULL","NULL","NULL","South Lake Tahoe","A84","NULL","A84 -South Lake Tahoe"]
["N08","N08 - Drafting & Survey",null,"A84","AVA","CEXO","VPUP","VPOP","NGAS","A84","Total Company","A84","NULL","A84 -South Lake Tahoe"]
["N09","N09 - Office of CIO",null,"A84","CEXO","VPUP","VPOP","NGAS","A84","NULL","CEO & President","A84","NULL","A84 -South Lake Tahoe"]
["N50","N50 - Director of Customer Service",null,"A84","VPOP","NGAS","A84","NULL","NULL","NULL","VP Operations","A84","NULL","A84 -South Lake Tahoe"]
["N51","N51 - Write-Off Accrual",null,"K19","K19","NULL","NULL","NULL","NULL","NULL","Customer Technology Operations","K19","Jason Pitts","K19 - Customer Tech Ops"]
["N52","N52 - Compass Replace Project",null,"K19","SUPP","NULL","NULL","NULL","NULL","NULL","Support","K19","NULL","K19 - Customer Tech Ops"]
["N53","N53 - AM Spokane West",null,"K19","VPUP","NULL","NULL","NULL","NULL","NULL","President & COO Avista Corp","K19","Marian Durkin","K19 - Customer Tech Ops"]
["N54","N54 - Strategic Initiatives",null,"K39","APPS","NULL","NULL","NULL","NULL","NULL","Applications Summary","K39","Hossein Nikdel","K39 - Gen Custom App Dev"]
["P01","P01 - Legal Expenses",null,"K39","AVA","NULL","NULL","NULL","NULL","NULL","Total Company","K39"," ","K39 - Gen Custom App Dev"]
["P03","P03 - Energy Deliver Tech Proj",null,"K39","CEXO","NULL","NULL","NULL","NULL","NULL","CEO & President","K39"," ","K39 - Gen Custom App Dev"]
["P07","P07 - Contract and Proj Mgmt",null,"I50","VPUP","NULL","NULL","NULL","NULL","NULL","President & COO Avista Corp","I50","Marian Durkin","I50 - Contact Center-IT"]
["P08","P08 - Distribution Oper Sys",null,"I54","ACCT","NULL","NULL","NULL","NULL","NULL","Accounting Items","I54","Adam Munson","I54 - Tax Other Than Income"]
["P09","P09 - Project Management",null,"I54","AVA","NULL","NULL","NULL","NULL","NULL","Total Company","I54"," ","I54 - Tax Other Than Income"]
["P50","P50 - Davenport",null,"I54","CEXO","NULL","NULL","NULL","NULL","NULL","CEO & President","I54"," ","I54 - Tax Other Than Income"]
["P51","P51 - Distribution Dispatch",null,"I54","I54","NULL","NULL","NULL","NULL","NULL","Taxes Other Than Income","I54","Don Falkner","I54 - Tax Other Than Income"]
["P53","P53 - AM Moscow/Pullman",null,"I54","SUPP","NULL","NULL","NULL","NULL","NULL","Support","I54","NULL","I54 - Tax Other Than Income"]
["P59","P59 - Tech Service Center",null,"J01","AVA","NULL","NULL","NULL","NULL","NULL","Total Company","J01"," ","J01 - SR VP & CFO"]
["P99","P99 - IT Director",null,"K39","INFO","NULL","NULL","NULL","NULL","NULL","VP Info & Security","K39","Jim Kensok","K39 - Gen Custom App Dev"]
["Q19","Q19 - Qlty Assur & Rel Mgmt",null,"K39","ISDV","NULL","NULL","NULL","NULL","NULL","IS Development Rollup","K39","Hossein Nikdel","K39 - Gen Custom App Dev"]
["R03","R03 - Avista Energy",null,"K39","K39","NULL","NULL","NULL","NULL","NULL","General Custom Application Development","K39","Graham Smith","K39 - Gen Custom App Dev"]
["R09","R09 - Communicated Systems",null,"K39","SUPP","NULL","NULL","NULL","NULL","NULL","Support","K39","NULL","K39 - Gen Custom App Dev"]
["R11","R11 - Rates & Regulations",null,"K39","VPUP","NULL","NULL","NULL","NULL","NULL","President & COO Avista Corp","K39","Marian Durkin","K39 - Gen Custom App Dev"]
["R19","R19 - Comm Systems Ops",null,"K51","AVA","NULL","NULL","NULL","NULL","NULL","Total Company","K51"," ","K51 - Fleet Management"]
["R29","R29 - Comm Sys Prod & Serv",null,"K51","CEXO","NULL","NULL","NULL","NULL","NULL","CEO & President","K51"," ","K51 - Fleet Management"]
["R50","R50 - Spokane Construction Engineering",null,"K51","K51","NULL","NULL","NULL","NULL","NULL","Fleet Management","K51","Greg Loew","K51 - Fleet Management"]
["R51","R51 - Joint Use Projects-Distribution",null,"K51","SERV","NULL","NULL","NULL","NULL","NULL","Shared Services","K51","Dennis Vermillion",{"$f":"VLOOKUP(L196,Table1,2)","v":"K51 - Fleet Management"}]
["R53","R53 - Grangeville",null,"K51","SUPP","NULL","NULL","NULL","NULL","NULL","Support","K51","NULL","K51 - Fleet Management"]
["R54","R54 - Risk Management",null,"K51","VPOP","NULL","NULL","NULL","NULL","NULL","VP Energy Delivery","K51","Jason Thackston","K51 - Fleet Management"]
["R55","R55 - Resource Risk Mgmt",null,"K51","VPUP","NULL","NULL","NULL","NULL","NULL","President & COO Avista Corp","K51","Marian Durkin","K51 - Fleet Management"]
["R56","R56 - Insurance",null,"K53","AVA","NULL","NULL","NULL","NULL","NULL","Total Company","K53"," ","K53 - Contact Ctr-CDA"]
["S01","S01 - VP & Counsl-Regultry/Govt Affairs",null,"K53","CEXO","NULL","NULL","NULL","NULL","NULL","CEO & President","K53"," ","K53 - Contact Ctr-CDA"]
["S03","S03 - Advantage IQ",null,"K53","CUST","NULL","NULL","NULL","NULL","NULL","Customer Service & Sales","K53","Mike Broemeling","K53 - Contact Ctr-CDA"]
["S04","S04 - SPS CYOC Mgmt Oversight",null,"K53","K53","NULL","NULL","NULL","NULL","NULL","Con Ctr - CDA","K53","Jenny Compton","K53 - Contact Ctr-CDA"]
["S05","S05 - Salix",null,"K53","SUPP","NULL","NULL","NULL","NULL","NULL","Support","K53","NULL","K53 - Contact Ctr-CDA"]
["S08","S08 - Strategic Projects Development",null,"K53","VPCS","NULL","NULL","NULL","NULL","NULL","VP Customer Solutions","K53","Kevin Christie","K53 - Contact Ctr-CDA"]
["S09","S09 - Apps Operations & Supp",null,"K53","VPUP","NULL","NULL","NULL","NULL","NULL","President & COO Avista Corp","K53","Marian Durkin","K53 - Contact Ctr-CDA"]
["S19","S19 - Integrations Operations",null,"B81","AVA","CEXO","VPUP","VPOP","CSSS","CUST","Total Company","B81","NULL","B81 - Contact Ctr-Medford"]
["S20","S20 - Director of Finance",null,"B81","B81","NULL","NULL","NULL","NULL","NULL","Con Ctr - Medford","B81","NULL","B81 - Contact Ctr-Medford"]
["S39","S39 - Integrations Development",null,"B81","CEXO","VPUP","VPOP","CSSS","CUST","B81","CEO & President","B81","NULL","B81 - Contact Ctr-Medford"]
["S50","S50 - Construction Services",null,"B81","CUST","B81","NULL","NULL","NULL","NULL","Customer Service","B81","Mike Broemeling","B81 - Contact Ctr-Medford"]
["S51","S51 - Supply Chain Loadings",null,"B81","VPOP","CSSS","CUST","B81","NULL","NULL","VP Operations","B81","NULL","B81 - Contact Ctr-Medford"]
["S53","S53 - St. Maries",null,"H50","H50","NULL","NULL","NULL","NULL","NULL","Othello","H50","Ian Eccles","H50 - Othello"]
["S54","S54 - External Communications",null,"H50","VPOP","WEST","H50","NULL","NULL","NULL","VP Energy Delivery","H50","Jason Thackston","H50 - Othello"]
["T01","T01 - Utility President",null,"H50","VPUP","VPOP","WEST","H50","NULL","NULL","President & COO Avista Corp","H50","Marian Durkin","H50 - Othello"]
["T07","T07 - Spokane Area Thermal",null,"H50","WEST","H50","NULL","NULL","NULL","NULL","Director of Operations - West","H50"," ","H50 - Othello"]
["T08","T08 - Electric Engineer",null,"H51","AVA","CEXO","VPUP","VPOP","SERV","H51","Total Company","H51"," ","H51 - Supply Chain Mgmt"]
["T19","T19 - CC&B Operations",null,"H51","CEXO","VPUP","VPOP","SERV","H51","NULL","CEO & President","H51"," ","H51 - Supply Chain Mgmt"]
["T39","T39 - CC&B Development",null,"H51","H51","NULL","NULL","NULL","NULL","NULL","Supply Chain","H51","Cody Krogh","H51 - Supply Chain Mgmt"]
["T50","T50 - Econ Develop Analyst",null,"H51","SERV","H51","NULL","NULL","NULL","NULL","Shared Services","H51","Dennis Vermillion","H51 - Supply Chain Mgmt"]
["T51","T51 - Operations Project Management",null,"H51","VPOP","SERV","H51","NULL","NULL","NULL","VP Energy Delivery","H51","Jason Thackston","H51 - Supply Chain Mgmt"]
["T52","T52 - Demand Side Mgmt",null,"H51","VPUP","VPOP","SERV","H51","NULL","NULL","President & COO Avista Corp","H51","Marian Durkin","H51 - Supply Chain Mgmt"]
["T53","T53 - South East Engineer",null,"H53","AVA","CEXO","VPUP","VPOP","EAST","H53","Total Company","H53"," ","H53 - Kellogg"]
["T54","T54 - Rev and Fin Systems",null,"H53","CEXO","VPUP","VPOP","EAST","H53","NULL","CEO & President","H53"," ","H53 - Kellogg"]
["T55","T55 - Regional Power Issues",null,"H53","EAST","H53","NULL","NULL","NULL","NULL","Director Operations - East","H53","Greg Gfeller","H53 - Kellogg"]
["U01","U01 - Legal Staff",null,"H53","H53","NULL","NULL","NULL","NULL","NULL","Kellogg","H53","Jesse Butler","H53 - Kellogg"]
["U50","U50 - Limited Income",null,"H53","VPOP","EAST","H53","NULL","NULL","NULL","VP Energy Delivery","H53","Jason Thackston","H53 - Kellogg"]
["V01","V01 - Sr. VP and General Counsel",null,"H53","VPUP","VPOP","EAST","H53","NULL","NULL","President & COO Avista Corp","H53","Marian Durkin","H53 - Kellogg"]
["V08","V08 - Real Estate",null,"H54","AVA","CEXO","VPFO","VPFN","H54","NULL","Total Company","H54"," ","H54 - AP/Remittance Services"]
["V19","V19 - EAM/Maximo Operations",null,"H54","CEXO","VPFO","VPFN","H54","NULL","NULL","CEO & President","H54"," ","H54 - AP/Remittance Services"]
["V39","V39 - EAM/Maximo Development",null,"H54","H54","NULL","NULL","NULL","NULL","NULL","Remittance & Acounts Payable","H54","Angela Hayne","H54 - AP/Remittance Services"]
["V50","V50 - AM Oregon",null,"H54","VPFN","H54","NULL","NULL","NULL","NULL","Finance & Treasury","H54","Mark Thies","H54 - AP/Remittance Services"]
["W01","W01 - Compliance",null,"H54","VPFO","VPFN","H54","NULL","NULL","NULL","Sr. VP & CFO","H54","Marian Durkin","H54 - AP/Remittance Services"]
["W07","W07 - Wind Generation",null,"I02","AVA","CEXO","VPHR","I02","NULL","NULL","Total Company","I02"," ","I02 - Craft Training"]
["W09","W09 - Application Support",null,"I02","CEXO","VPHR","I02","NULL","NULL","NULL","CEO & President","I02"," ","I02 - Craft Training"]
["W39","W39 - IS Delivery",null,"I02","I02","NULL","NULL","NULL","NULL","NULL","Craft Training","I02","Jeremy Gall","I02 - Craft Training"]
["W54","W54 - Finance Responsibility",null,"I02","VPHR","I02","NULL","NULL","NULL","NULL","Sr. VP Human Resources","I02","Heather Rosentrater","I02 - Craft Training"]
["W55","W55 - Wholesale Exposure Reserve",null,"I08","AVA","CEXO","VPUP","VPOP","NGAS","NGCO","Total Company","I08"," ","I08 - Energy Delivery Operations Support"]
["X01","X01 - CEO & President",null,"I08","CEXO","VPUP","VPOP","NGAS","NGCO","I08","CEO & President","I08"," ","I08 - Energy Delivery Operations Support"]
["X02","X02 - HR/Comp/Labor & Employee Relations",null,"I08","I08","NULL","NULL","NULL","NULL","NULL","Energy Delivery Operations Support","I08","Randy Gnaedinger","I08 - Energy Delivery Operations Support"]
["X08","X08 - Relay Shop",null,"I08","NGAS","NGCO","I08","NULL","NULL","NULL","Natural Gas","I08","Mike Faulkenberry","I08 - Energy Delivery Operations Support"]
["X09","X09 - Applications Data",null,"I08","NGCO","I08","NULL","NULL","NULL","NULL","Natural Gas Construction Ops","I08","Mike Faulkenberry","I08 - Energy Delivery Operations Support"]
["X19","X19 - Data Operations",null,"I08","VPOP","NGAS","NGCO","I08","NULL","NULL","VP Energy Delivery","I08","Jason Thackston","I08 - Energy Delivery Operations Support"]
["X39","X39 - Data Development",null,"I08","VPUP","VPOP","NGAS","NGCO","I08","NULL","President & COO Avista Corp","I08","Marian Durkin","I08 - Energy Delivery Operations Support"]
["X54","X54 - Accounting Responsibility",null,"I50","AVA","CEXO","VPUP","VPCS","CUST","I50","Total Company","I50"," ","I50 - Contact Center-IT"]
["X55","X55 - Misc Deferrals",null,"I50","CEXO","VPUP","VPCS","CUST","I50","NULL","CEO & President","I50"," ","I50 - Contact Center-IT"]
["X57","X57 - ED Accounting Resp",null,"I50","CUST","I50","NULL","NULL","NULL","NULL","Customer Service & Sales","I50","Mike Broemeling","I50 - Contact Center-IT"]
["Y01","Y01 - Corp Secretary",null,"I50","I50","NULL","NULL","NULL","NULL","NULL","Con Ctr - IT","I50","Galen Lorenz","I50 - Contact Center-IT"]
["Y39","Y39 - Web Development",null,"I50","VPCS","CUST","I50","NULL","NULL","NULL","VP Customer Solutions","I50","Kevin Christie","I50 - Contact Center-IT"]
["Y54","Y54 - Strategic Corp Develop",null,"I50","VPUP","VPCS","CUST","I50","NULL","NULL","President & COO Avista Corp","I50","Marian Durkin","I50 - Contact Center-IT"]
["Y55","Y55 - Resource Accounting",null,"I54","ACCT","I54","NULL","NULL","NULL","NULL","Accounting Items","I54","Adam Munson","I54 - Tax Other Than Income"]
["Z08","Z08 - Electric Meter Shop",null,"I54","AVA","CEXO","ACCT","I54","NULL","NULL","Total Company","I54"," ","I54 - Tax Other Than Income"]
["Z09","Z09 - Postage Centralization",null,"I54","CEXO","ACCT","I54","NULL","NULL","NULL","CEO & President","I54"," ","I54 - Tax Other Than Income"]
["Z57","Z57 - Centralized Credits",null,"I54","I54","NULL","NULL","NULL","NULL","NULL","Taxes Other Than Income","I54","Don Falkner","I54 - Tax Other Than Income"]
["Z81","Z81 - WL1001 General Construction Admin",null,"J01","AVA","CEXO","VPFO","J01","NULL","NULL","Total Company","J01"," ","J01 - SR VP & CFO"]
["Z82","Z82 - WL1002 Generation/Production",null,"J01","CEXO","VPFO","J01","NULL","NULL","NULL","CEO & President","J01"," ","J01 - SR VP & CFO"]
["Z83","Z83 - WL1003 Electric Transmission",null,"J01","J01","NULL","NULL","NULL","NULL","NULL","Executive VP & CFO","J01","Mark Thies","J01 - SR VP & CFO"]
["Z84","Z84 - WL1004 Electric Distribution",null,"J01","VPFO","J01","NULL","NULL","NULL","NULL","Sr. VP & CFO","J01","Marian Durkin","J01 - SR VP & CFO"]
["Z85","Z85 - WL1005 WA/ID Gas Dist",null,"C52","AVA","CEXO","VPUP","VPCS","C52","NULL","Total Company","C52","NULL","C52 - Customer Solutions"]
["Z86","Z86 - WL1006 OR/CA Constr",null,"C52","C52","NULL","NULL","NULL","NULL","NULL","VP Customer Solutions","C52","NULL","C52 - Customer Solutions"]
["Z87","Z87 - Benefits Loaders",null,"C52","CEXO","VPUP","VPCS","C52","NULL","NULL","CEO & President","C52","NULL",{"$f":"VLOOKUP(L260,Table1,2)","v":"C52 - Customer Solutions"}]
["Z88","Z88 - Transportation Loaders",null,"J02","AVA","CEXO","VPHR","J02","NULL","NULL","Total Company","J02"," ","J02 - Public Safety"]
["Z89","Z89 - Payroll Accrual",null,"J02","CEXO","VPHR","J02","NULL","NULL","NULL","CEO & President","J02"," ","J02 - Public Safety"]
["Z90","Z90 - Incentive Compensation",null,"J02","J02","NULL","NULL","NULL","NULL","NULL","Public Safety","J02","Anthony Klutz","J02 - Public Safety"]
["Z91","Z91 - Other One Leave",null,"J02","VPHR","J02","NULL","NULL","NULL","NULL","Sr. VP Human Resources","J02","Heather Rosentrater","J02 - Public Safety"]
["000","000 Direct GL",null,"J06","AVA","CEXO","VPUP","VPPS","RSRC","J06","Total Company","J06"," ","J06 - Joint Project Jackson Prairie"]
[null,null,null,"J06","CEXO","VPUP","VPPS","RSRC","J06","NULL","CEO & President","J06"," ","J06 - Joint Project Jackson Prairie"]
[null,null,null,"J06","J06","NULL","NULL","NULL","NULL","NULL","Joint Project-Jackson Prairie","J06","Jody Morehouse","J06 - Joint Project Jackson Prairie"]
[null,null,null,"J06","RSRC","J06","NULL","NULL","NULL","NULL","Joint Resources","J06","David Meyer","J06 - Joint Project Jackson Prairie"]
[null,null,null,"J06","VPPS","RSRC","J06","NULL","NULL","NULL","Sr. VP Energy Resources","J06","Kelly Norwood","J06 - Joint Project Jackson Prairie"]
[null,null,null,"J06","VPUP","VPPS","RSRC","J06","NULL","NULL","President & COO Avista Corp","J06","Marian Durkin","J06 - Joint Project Jackson Prairie"]
[null,null,null,"J08","AVA","CEXO","VPUP","VPOP","NGAS","GEGR","Total Company","J08"," ","J08 - Gas Construction Quality Control"]
[null,null,null,"J08","CEXO","VPUP","VPOP","NGAS","GEGR","J08","CEO & President","J08"," ","J08 - Gas Construction Quality Control"]
[null,null,null,"C55","AVA","CEXO","VPUP","VPPS","RSRC","C55","Total Company","C55","NULL","C55 - Gas Resource Costs"]
[null,null,null,"C55","C55","NULL","NULL","NULL","NULL","NULL","Gas Resource Costs","C55","NULL","C55 - Gas Resource Costs"]
[null,null,null,"C55","CEXO","VPUP","VPPS","RSRC","C55","NULL","CEO & President","C55","NULL","C55 - Gas Resource Costs"]
[null,null,null,"C55","RSRC","C55","NULL","NULL","NULL","NULL","Energy Resources","C55","NULL","C55 - Gas Resource Costs"]
[null,null,null,"C55","VPPS","RSRC","C55","NULL","NULL","NULL","VP Energy Resources","C55","Jason Thackston","C55 - Gas Resource Costs"]
[null,null,null,"J08","GEGR","J08","NULL","NULL","NULL","NULL","Gas Engineering","J08","Mike Faulkenberry","J08 - Gas Construction Quality Control"]
[null,null,null,"J08","J08","NULL","NULL","NULL","NULL","NULL","Gas Construction Quality Control","J08","Matt Mullineaux","J08 - Gas Construction Quality Control"]
[null,null,null,"J08","NGAS","GEGR","J08","NULL","NULL","NULL","Natural Gas","J08","Mike Faulkenberry","J08 - Gas Construction Quality Control"]
[null,null,null,"J08","VPOP","NGAS","GEGR","J08","NULL","NULL","VP Energy Delivery","J08","Jason Thackston","J08 - Gas Construction Quality Control"]
[null,null,null,"J08","VPUP","VPOP","NGAS","GEGR","J08","NULL","President & COO Avista Corp","J08","Marian Durkin","J08 - Gas Construction Quality Control"]
[null,null,null,"J09","AVA","CEXO","VPUP","INFO","INFR","ITNE","Total Company","J09"," ","J09 - Network Systems"]
[null,null,null,"J09","CEXO","VPUP","INFO","INFR","ITNE","J09","CEO & President","J09"," ","J09 - Network Systems"]
[null,null,null,"J09","INFO","INFR","ITNE","J09","NULL","NULL","VP Info & Security","J09","Jim Kensok","J09 - Network Systems"]
[null,null,null,"J09","INFR","ITNE","J09","NULL","NULL","NULL","Infrastructure Technology Summary","J09","Jim Corder","J09 - Network Systems"]
[null,null,null,"J09","ITNE","J09","NULL","NULL","NULL","NULL","Network Engineering Rollup","J09","Jim Corder","J09 - Network Systems"]
[null,null,null,"J09","J09","NULL","NULL","NULL","NULL","NULL","Network Systems Engineering","J09","Jim Corder","J09 - Network Systems"]
[null,null,null,"J09","VPUP","INFO","INFR","ITNE","J09","NULL","President & COO Avista Corp","J09","Marian Durkin","J09 - Network Systems"]
[null,null,null,"C81","AVA","CEXO","VPUP","VPOP","NGAS","C81","Total Company","C81","NULL","C81 - Medford Tech Service"]
[null,null,null,"C81","C81","NULL","NULL","NULL","NULL","NULL","Medford Technical Services","C81","NULL","C81 - Medford Tech Service"]
[null,null,null,"C81","CEXO","VPUP","VPOP","NGAS","C81","NULL","CEO & President","C81","NULL","C81 - Medford Tech Service"]
[null,null,null,"C81","NGAS","C81","NULL","NULL","NULL","NULL","Natural Gas Operations","C81","Mike Faulkenberry","C81 - Medford Tech Service"]
[null,null,null,"C81","VPOP","NGAS","C81","NULL","NULL","NULL","VP Operations","C81","NULL","C81 - Medford Tech Service"]
[null,null,null,"C81","VPUP","VPOP","NGAS","C81","NULL","NULL","President & COO Avista Corp","C81","Dennis Vermillion","C81 - Medford Tech Service"]
[null,null,null,"J10","AVA","CEXO","VPFO","J10","NULL","NULL","Total Company","J10"," ","J10 - Utility Fin Central"]
[null,null,null,"J10","CEXO","VPFO","J10","NULL","NULL","NULL","CEO & President","J10"," ","J10 - Utility Fin Central"]
[null,null,null,"J10","J10","NULL","NULL","NULL","NULL","NULL","Utility Finance Centralization","J10","Laura Vickers","J10 - Utility Fin Central"]
[null,null,null,"J10","VPFO","J10","NULL","NULL","NULL","NULL","Sr. VP & CFO","J10","Marian Durkin","J10 - Utility Fin Central"]
[null,null,null,"J29","AVA","CEXO","VPUP","INFO","INFR","ITNE","Total Company","J29"," ","J29 - Ntwk Sys Prod & Serv"]
[null,null,null,"J29","CEXO","VPUP","INFO","INFR","ITNE","J29","CEO & President","J29"," ","J29 - Ntwk Sys Prod & Serv"]
[null,null,null,"J29","INFO","INFR","ITNE","J29","NULL","NULL","VP Info & Security","J29","Jim Kensok","J29 - Ntwk Sys Prod & Serv"]
[null,null,null,"J29","INFR","ITNE","J29","NULL","NULL","NULL","Infrastructure Technology Summary","J29","Jim Corder","J29 - Ntwk Sys Prod & Serv"]
[null,null,null,"J29","ITNE","J29","NULL","NULL","NULL","NULL","Network Engineering Rollup","J29","Jim Corder","J29 - Ntwk Sys Prod & Serv"]
[null,null,null,"J29","J29","NULL","NULL","NULL","NULL","NULL","Network Systems Products & Services","J29","Jim Corder","J29 - Ntwk Sys Prod & Serv"]
[null,null,null,"J29","VPUP","INFO","INFR","ITNE","J29","NULL","President & COO Avista Corp","J29","Marian Durkin","J29 - Ntwk Sys Prod & Serv"]
[null,null,null,"J50","AVA","CEXO","VPUP","VPCS","ESOL","J50","Total Company","J50"," ","J50 - Reg Bus Mgr - Spokane"]
[null,null,null,"J50","CEXO","VPUP","VPCS","ESOL","J50","NULL","CEO & President","J50"," ","J50 - Reg Bus Mgr - Spokane"]
[null,null,null,"J50","ESOL","J50","NULL","NULL","NULL","NULL","Energy Solutions","J50","Pat Lynch","J50 - Reg Bus Mgr - Spokane"]
[null,null,null,"J50","J50","NULL","NULL","NULL","NULL","NULL","Reg Bus Mgr - Spokane","J50","Pat Lynch","J50 - Reg Bus Mgr - Spokane"]
[null,null,null,"J50","VPCS","ESOL","J50","NULL","NULL","NULL","VP Customer Solutions","J50","Kevin Christie","J50 - Reg Bus Mgr - Spokane"]
[null,null,null,"J50","VPUP","VPCS","ESOL","J50","NULL","NULL","President & COO Avista Corp","J50","Marian Durkin","J50 - Reg Bus Mgr - Spokane"]
[null,null,null,"J51","AVA","CEXO","VPUP","VPOP","SERV","J51","Total Company","J51"," ","J51 - Warehousing"]
[null,null,null,"J51","CEXO","VPUP","VPOP","SERV","J51","NULL","CEO & President","J51"," ","J51 - Warehousing"]
[null,null,null,"J51","J51","NULL","NULL","NULL","NULL","NULL","Warehousing","J51","April Spacek","J51 - Warehousing"]
[null,null,null,"J51","SERV","J51","NULL","NULL","NULL","NULL","Shared Services","J51","Dennis Vermillion","J51 - Warehousing"]
[null,null,null,"J51","VPOP","SERV","J51","NULL","NULL","NULL","VP Energy Delivery","J51","Jason Thackston","J51 - Warehousing"]
[null,null,null,"J51","VPUP","VPOP","SERV","J51","NULL","NULL","President & COO Avista Corp","J51","Marian Durkin","J51 - Warehousing"]
[null,null,null,"J53","AVA","CEXO","VPUP","VPOP","EAST","J53","Total Company","J53"," ","J53 - Sandpoint/Bonners Ferry"]
[null,null,null,"J53","CEXO","VPUP","VPOP","EAST","J53","NULL","CEO & President","J53"," ","J53 - Sandpoint/Bonners Ferry"]
[null,null,null,"J53","EAST","J53","NULL","NULL","NULL","NULL","Director Operations - East","J53","Greg Gfeller","J53 - Sandpoint/Bonners Ferry"]
[null,null,null,"J53","J53","NULL","NULL","NULL","NULL","NULL","Sandpoint/Bonners Ferry","J53","Jim Kane","J53 - Sandpoint/Bonners Ferry"]
[null,null,null,"J53","VPOP","EAST","J53","NULL","NULL","NULL","VP Energy Delivery","J53","Jason Thackston","J53 - Sandpoint/Bonners Ferry"]
[null,null,null,"J53","VPUP","VPOP","EAST","J53","NULL","NULL","President & COO Avista Corp","J53","Marian Durkin",{"$f":"VLOOKUP(L324,Table1,2)","v":"J53 - Sandpoint/Bonners Ferry"}]
[null,null,null,"J54","AVA","CEXO","EXEC","J54","NULL","NULL","Total Company","J54"," ","J54 - Internal Auditing"]
[null,null,null,"J54","CEXO","EXEC","J54","NULL","NULL","NULL","CEO & President","J54"," ","J54 - Internal Auditing"]
[null,null,null,"J54","EXEC","J54","NULL","NULL","NULL","NULL","Executive Department Summary","J54"," ","J54 - Internal Auditing"]
[null,null,null,"J54","J54","NULL","NULL","NULL","NULL","NULL","Internal Auditing","J54","Tracy Van Orden","J54 - Internal Auditing"]
[null,null,null,"K02","AVA","CEXO","VPHR","K02","NULL","NULL","Total Company","K02"," ","K02 - Compensation"]
[null,null,null,"K02","CEXO","VPHR","K02","NULL","NULL","NULL","CEO & President","K02"," ","K02 - Compensation"]
[null,null,null,"K02","K02","NULL","NULL","NULL","NULL","NULL","Compensation","K02","Dawnell Ellenson","K02 - Compensation"]
[null,null,null,"K02","VPHR","K02","NULL","NULL","NULL","NULL","Sr. VP Human Resources","K02","Heather Rosentrater","K02 - Compensation"]
[null,null,null,"K07","0007","K07","NULL","NULL","NULL","NULL","Gen Prod Sub Support","K07","Andy Vickers","K07 - Kettle Falls Thermal"]
[null,null,null,"K07","AVA","CEXO","VPUP","VPPS","0007","K07","Total Company","K07"," ","K07 - Kettle Falls Thermal"]
[null,null,null,"K07","CEXO","VPUP","VPPS","0007","K07","NULL","CEO & President","K07"," ","K07 - Kettle Falls Thermal"]
[null,null,null,"K07","K07","NULL","NULL","NULL","NULL","NULL","Thermal Oper and Maint","K07","Tom Dempsey","K07 - Kettle Falls Thermal"]
[null,null,null,"K07","VPPS","0007","K07","NULL","NULL","NULL","Sr. VP Energy Resources","K07","Kelly Norwood","K07 - Kettle Falls Thermal"]
[null,null,null,"K07","VPUP","VPPS","0007","K07","NULL","NULL","President & COO Avista Corp","K07","Marian Durkin","K07 - Kettle Falls Thermal"]
[null,null,null,"K08","AVA","CEXO","VPUP","VPOP","ENGR","K08","Total Company","K08"," ","K08 - GIS Editing"]
[null,null,null,"K08","CEXO","VPUP","VPOP","ENGR","K08","NULL","CEO & President","K08"," ","K08 - GIS Editing"]
[null,null,null,"K08","ENGR","K08","NULL","NULL","NULL","NULL","Electric Engineering","K08","David Howell","K08 - GIS Editing"]
[null,null,null,"K08","K08","NULL","NULL","NULL","NULL","NULL","GIS Editing","K08","Lamont Miles","K08 - GIS Editing"]
[null,null,null,"K08","VPOP","ENGR","K08","NULL","NULL","NULL","VP Energy Delivery","K08","Jason Thackston","K08 - GIS Editing"]
[null,null,null,"K08","VPUP","VPOP","ENGR","K08","NULL","NULL","President & COO Avista Corp","K08","Marian Durkin","K08 - GIS Editing"]
[null,null,null,"K19","APPS","ISOP","K19","NULL","NULL","NULL","Applications Summary","K19","Hossein Nikdel","K19 - Customer Tech Ops"]
[null,null,null,"K19","AVA","CEXO","VPUP","INFO","APPS","ISOP","Total Company","K19"," ","K19 - Customer Tech Ops"]
[null,null,null,"K19","CEXO","VPUP","INFO","APPS","ISOP","K19","CEO & President","K19"," ","K19 - Customer Tech Ops"]
[null,null,null,"K19","INFO","APPS","ISOP","K19","NULL","NULL","VP Info & Security","K19","Jim Kensok","K19 - Customer Tech Ops"]
[null,null,null,"K19","ISOP","K19","NULL","NULL","NULL","NULL","IS Operations Rollup","K19","Hossein Nikdel","K19 - Customer Tech Ops"]
[null,null,null,"K19","K19","NULL","NULL","NULL","NULL","NULL","Customer Technology Operations","K19","Jason Pitts","K19 - Customer Tech Ops"]
[null,null,null,"K19","VPUP","INFO","APPS","ISOP","K19","NULL","President & COO Avista Corp","K19","Marian Durkin","K19 - Customer Tech Ops"]
[null,null,null,"K39","APPS","ISDV","K39","NULL","NULL","NULL","Applications Summary","K39","Hossein Nikdel","K39 - Gen Custom App Dev"]
[null,null,null,"K39","AVA","CEXO","VPUP","INFO","APPS","ISDV","Total Company","K39"," ","K39 - Gen Custom App Dev"]
[null,null,null,"K39","CEXO","VPUP","INFO","APPS","ISDV","K39","CEO & President","K39"," ","K39 - Gen Custom App Dev"]
[null,null,null,"K39","INFO","APPS","ISDV","K39","NULL","NULL","VP Info & Security","K39","Jim Kensok","K39 - Gen Custom App Dev"]
[null,null,null,"K39","ISDV","K39","NULL","NULL","NULL","NULL","IS Development Rollup","K39","Hossein Nikdel","K39 - Gen Custom App Dev"]
[null,null,null,"K39","K39","NULL","NULL","NULL","NULL","NULL","General Custom Application Development","K39","Graham Smith","K39 - Gen Custom App Dev"]
[null,null,null,"K39","VPUP","INFO","APPS","ISDV","K39","NULL","President & COO Avista Corp","K39","Marian Durkin","K39 - Gen Custom App Dev"]
[null,null,null,"K51","AVA","CEXO","VPUP","VPOP","SERV","K51","Total Company","K51"," ","K51 - Fleet Management"]
[null,null,null,"D83","AVA","CEXO","VPUP","VPOP","CNST","D83","Total Company","D83","NULL","D83 - Goldendale Construction"]
[null,null,null,"D83","CEXO","VPUP","VPOP","CNST","D83","NULL","CEO & President","D83","NULL","D83 - Goldendale Construction"]
[null,null,null,"D83","D83","NULL","NULL","NULL","NULL","NULL","Goldendale Construction","D83","NULL","D83 - Goldendale Construction"]
[null,null,null,"D83","VPOP","CNST","D83","NULL","NULL","NULL","VP Operations","D83","NULL","D83 - Goldendale Construction"]
[null,null,null,"H14","ESOL","H14","NULL","NULL","NULL","NULL","Energy Solutions","H14","Pat Lynch","H14 - Consumer Affairs"]
[null,null,null,"H14","H14","NULL","NULL","NULL","NULL","NULL","Consumer Affairs","H14","Pat Lynch","H14 - Consumer Affairs"]
[null,null,null,"H14","VPCS","ESOL","H14","NULL","NULL","NULL","VP Customer Solutions","H14","Kevin Christie","H14 - Consumer Affairs"]
[null,null,null,"H14","VPUP","VPCS","ESOL","H14","NULL","NULL","President & COO Avista Corp","H14","Marian Durkin","H14 - Consumer Affairs"]
[null,null,null,"H50","AVA","CEXO","VPUP","VPOP","WEST","H50","Total Company","H50"," ","H50 - Othello"]
[null,null,null,"H50","CEXO","VPUP","VPOP","WEST","H50","NULL","CEO & President","H50"," ","H50 - Othello"]
[null,null,null,"E08","AVA","CEXO","VPUP","VPOP","CNST","E08","Total Company","E08","NULL","E08 - Old RC for Conversion"]
[null,null,null,"E08","CEXO","VPUP","VPOP","CNST","E08","NULL","CEO & President","E08","NULL","E08 - Old RC for Conversion"]
[null,null,null,"E08","E08","NULL","NULL","NULL","NULL","NULL","Conversion Org","E08","NULL","E08 - Old RC for Conversion"]
[null,null,null,"E08","VPOP","CNST","E08","NULL","NULL","NULL","VP Operations","E08","NULL","E08 - Old RC for Conversion"]
[null,null,null,"E08","VPUP","VPOP","CNST","E08","NULL","NULL","President & COO Avista Corp","E08","Dennis Vermillion","E08 - Old RC for Conversion"]
[null,null,null,"E54","AVA","CEXO","VPFO","VPFN","E54","NULL","Total Company","E54","NULL","E54 - Accounts Payable"]
[null,null,null,"E54","CEXO","VPFO","VPFN","E54","NULL","NULL","CEO & President","E54","NULL","E54 - Accounts Payable"]
[null,null,null,"E54","E54","NULL","NULL","NULL","NULL","NULL","Accounts Payable","E54","Angela Hayne","E54 - Accounts Payable"]
[null,null,null,"E54","VPFN","E54","NULL","NULL","NULL","NULL","VP Finance","E54","Mark Thies","E54 - Accounts Payable"]
[null,null,null,"F14","AVA","CEXO","VPUP","VPCS","ESOL","F14","Total Company","F14","NULL","F14 - External Projects"]
[null,null,null,"F14","BCED","F14","NULL","NULL","NULL","NULL","Business, Community & Econ Dev","F14","NULL","F14 - External Projects"]
[null,null,null,"F14","CEXO","VPUP","VPCS","BCED","F14","NULL","CEO & President","F14","NULL","F14 - External Projects"]
[null,null,null,"F14","F14","NULL","NULL","NULL","NULL","NULL","External Projects","F14","NULL","F14 - External Projects"]
[null,null,null,"A51","OPER","VPOP","EAST","Depart","A51","NULL","VP Energy Delivery","A51","Jason Thackston","A51 - Dir Operations East & South"]
[null,null,null,"A52","OPER","VPCS","CSOL","Depart","A52","NULL","VP Customer Solutions","A52","Kevin Christie","A52 - Svc Develop & Marketng"]
[null,null,null,"A53","OPER","VPCS","CSOL","Depart","A53","NULL","VP Customer Solutions","A53","Kevin Christie","A52 - Svc Develop & Marketng"]
[null,null,null,"A54","OPER","VPCS","CSOL","Depart","A54","NULL","VP Customer Solutions","A54","Kevin Christie","A54 - Dir of Customer Solution"]
[null,null,null,"A56","OPER","VPOP","TRAN","Depart","A56","NULL","VP Energy Delivery","A56","Jason Thackston","A56 - System Operations"]
[null,null,null,"A57","CORP","VPFO","A57","Depart","NULL","NULL","Sr. VP & CFO","A57","Marian Durkin",{"$f":"VLOOKUP(L388,Table1,2)","v":"A57 - Ed Utility Accounting"}]
[null,null,null,"A81","OPER","VPOP","NGAS","Depart","NGCO","A81","VP Energy Delivery","A81","Jason Thackston","A81 - Medford Construction"]
[null,null,null,"F51","AVA","CEXO","VPUP","VPOP","CNST","F51","Total Company","F51","NULL","F51 - G.I.S."]
[null,null,null,"F51","CEXO","VPOP","CNST","F51","NULL","NULL","CEO & President","F51","NULL","F51 - G.I.S."]
[null,null,null,"F51","F51","NULL","NULL","NULL","NULL","NULL","G. I. S.","F51","NULL","F51 - G.I.S."]
[null,null,null,"F51","VPOP","CNST","F51","NULL","NULL","NULL","VP Operations","F51","NULL","F51 - G.I.S."]
[null,null,null,"A82","OPER","VPOP","NGAS","Depart","NGCO","A82","VP Energy Delivery","A82","Jason Thackston","A82 - Roseburg"]
[null,null,null,"A83","OPER","VPOP","NGAS","Depart","NGCO","A83","VP Energy Delivery","A83","Jason Thackston","A83 - Klamath Falls"]
[null,null,null,"B02","CORP","VPHR","B02","Depart","NULL","NULL","Sr. VP Human Resources","B02","Heather Rosentrater","B02 - Benefits"]
[null,null,null,"B04","CORP","VPGC","B04","Depart","NULL","NULL","Sr. VP & General Counsel","B04","Karen Feltes","B04 - Clark Fork License"]
[null,null,null,"B07","OPER","VPPS","0007","Depart","B07","NULL","Sr. VP Energy Resources","B07","Kelly Norwood","B07 - Project Delivery"]
[null,null,null,"B08","OPER","VPCS","CUST","Depart","B08","NULL","VP Customer Solutions","B08","Kevin Christie","B08 - Business Process Improvement"]
[null,null,null,"B09","OPER","INFO","INFR","Depart","ITOP","B09","VP Info & Security","B09","Jim Kensok","B09 - Network Operations"]
[null,null,null,"B16","CORP","EXEC","B16","Depart","NULL","NULL","Executive Department Summary","B16"," ","B16 - Government Relations"]
[null,null,null,"B50","OPER","VPOP","WEST","Depart","B50","NULL","VP Energy Delivery","B50","Jason Thackston","B50 - Spokane Electric"]
[null,null,null,"B51","OPER","VPOP","NGAS","Depart","GEGR","B51","VP Energy Delivery","B51","Jason Thackston","B51 - Gas Engineering"]
[null,null,null,"B52","OPER","VPOP","NGAS","Depart","GEGR","B52","VP Energy Delivery","B52","Jason Thackston","B52 - Gas Comp Cathodic"]
[null,null,null,"B53","OPER","VPOP","EAST","Depart","B53","NULL","VP Energy Delivery","B53","Jason Thackston","B53 - Pullman"]
[null,null,null,"B54","OPER","VPOP","NGAS","Depart","GEGR","B54","VP Energy Delivery","B54","Jason Thackston","B54 - Gas Compliance"]
[null,null,null,"B56","OPER","VPOP","TRAN","Depart","B56","NULL","VP Energy Delivery","B56","Jason Thackston","B56 - Misc Transmission Expense"]
[null,null,null,"C02","CORP","VPHR","C02","Depart","NULL","NULL","Sr. VP Human Resources","C02","Heather Rosentrater","C02 - Employee Engagement"]
[null,null,null,"C04","CORP","VPGC","C04","Depart","NULL","NULL","Sr. VP & General Counsel","C04","Karen Feltes","C04 - Spokane River License"]
[null,null,null,"C06","OPER","VPPS","RSRC","Depart","C06","NULL","Sr. VP Energy Resources","C06","Kelly Norwood","C06 - Joint Project - CS2"]
[null,null,null,"C07","OPER","VPPS","0007","Depart","C07","NULL","Sr. VP Energy Resources","C07","Kelly Norwood","C07 - Spokane River Hydro"]
[null,null,null,"C08","OPER","VPOP","ENGR","Depart","C08","NULL","VP Energy Delivery","C08","Jason Thackston","C08 - Technical Services - GIS"]
[null,null,null,"C09","OPER","INFO","INFR","Depart","SEO","C09","VP Info & Security","C09","Jim Kensok","C09 - Security Systems"]
[null,null,null,"C11","OPER","VPCS","CUST","Depart","C11","NULL","VP Customer Solutions","C11","Kevin Christie","C11 - CC&B Technology"]
[null,null,null,"C19","OPER","INFO","INFR","Depart","SEO","C19","VP Info & Security","C19","Jim Kensok","C19 - Security Operations"]
[null,null,null,"C29","OPER","INFO","INFR","Depart","SEO","C29","VP Info & Security","C29","Jim Kensok","C29 - Security Products & Serv"]
[null,null,null,"C50","OPER","VPCS","CUST","Depart","C50","NULL","VP Customer Solutions","C50","Kevin Christie","C50 - Contact Ctr Spokane-Hire & Train"]
[null,null,null,"C51","OPER","VPOP","ENGR","Depart","C51","NULL","VP Energy Delivery","C51","Jason Thackston","C51 - Elec Distributn Design"]
[null,null,null,"C53","OPER","VPOP","NGAS","Depart","NGCO","C53","VP Energy Delivery","C53","Jason Thackston","C53 - Coeur d Alene Gas"]
[null,null,null,"C54","CORP","VPFO","C54","Depart","NULL","NULL","Sr. VP & CFO","C54","Marian Durkin","C54 - Tax Services"]
[null,null,null,"C56","OPER","VPOP","AMSP","Depart","C56","NULL","VP Energy Delivery","C56","Jason Thackston","C56 - System Planning"]
[null,null,null,"C57","OPER","VPOP","WEST","Depart","C57","NULL","VP Energy Delivery","C57","Jason Thackston","C57 - Spokane Electric Network"]
[null,null,null,"C59","OPER","INFO","INFR","Depart","SEO","C59","VP Info & Security","C59","Jim Kensok","C59 - Enterprise Busi Continuity"]
[null,null,null,"C83","OPER","VPOP","NGAS","Depart","NGCO","C83","VP Energy Delivery","C83","Jason Thackston","C83 - La Grande"]
[null,null,null,"D02","CORP","VPHR","D02","Depart","NULL","NULL","Sr. VP Human Resources","D02","Heather Rosentrater","D02 - VP Of Hr & Corp Service"]
[null,null,null,"D08","OPER","VPOP","D08","Depart","NULL","NULL","VP Energy Delivery","D08","Jason Thackston","D08 - Energy Del Gen Mg"]
[null,null,null,"D09","OPER","VPOP","TRAN","Depart","D09","NULL","VP Energy Delivery","D09","Jason Thackston","D09 - Scada"]
[null,null,null,"D50","OPER","VPCS","CUST","Depart","D50","NULL","VP Customer Solutions","D50","Kevin Christie","D50 - Meter Read/Billing"]
[null,null,null,"D51","OPER","VPOP","WEST","Depart","MNTC","D51","VP Energy Delivery","D51","Jason Thackston","D51 - Vegetation Management"]
[null,null,null,"D52","OPER","VPCS","CSOL","Depart","D52","NULL","VP Customer Solutions","D52","Kevin Christie","D52 - Energy Efficiency"]
[null,null,null,"D53","OPER","VPOP","EAST","Depart","D53","NULL","VP Energy Delivery","D53","Jason Thackston","D53 - Clarkston"]
[null,null,null,"D54","CORP","VPFO","D54","Depart","NULL","NULL","Sr. VP & CFO","D54","Marian Durkin","D54 - Corp & Subs Accounting"]
[null,null,null,"D55","OPER","VPPS","0055","Depart","D55","NULL","Sr. VP Energy Resources","D55","Kelly Norwood","D55 - Natural Gas Resources"]
[null,null,null,"D56","OPER","VPOP","TRAN","Depart","D56","NULL","VP Energy Delivery","D56","Jason Thackston","D56 - Director of Engineering/System Ops"]
[null,null,null,"E01","CORP","EXEC","E01","Depart","NULL","NULL","Executive Department Summary","E01"," ","E01 - Exec Administration"]
[null,null,null,"E02","CORP","VPHR","E02","Depart","NULL","NULL","Sr. VP Human Resources","E02","Heather Rosentrater","E02 - Corp Org Development"]
[null,null,null,"E07","OPER","VPPS","0007","Depart","E07","NULL","Sr. VP Energy Resources","E07","Kelly Norwood","E07 - Generation Engineers"]
[null,null,null,"E09","OPER","INFO","INFR","Depart","ITSE","E09","VP Info & Security","E09","Jim Kensok","E09 - Distributed Systems"]
[null,null,null,"E14","CORP","VPGC","E14","Depart","NULL","NULL","Sr. VP & General Counsel","E14","Karen Feltes","E14 - Environmental Compliance"]
[null,null,null,"E19","OPER","INFO","INFR","Depart","ITOP","E19","VP Info & Security","E19","Jim Kensok","E19 - Dist Systems Ops"]
[null,null,null,"E29","OPER","INFO","INFR","Depart","ITSE","E29","VP Info & Security","E29","Jim Kensok","E29 - Dist Syst Prod & Serv"]
[null,null,null,"E50","OPER","VPCS","CUST","Depart","E50","NULL","VP Customer Solutions","E50","Kevin Christie","E50 - Contact Ctr-Spokane"]
[null,null,null,"E51","OPER","VPOP","AMSP","Depart","E51","NULL","VP Energy Delivery","E51","Jason Thackston","E51 - Asset Management"]
[null,null,null,"E52","OPER","VPCS","ESOL","Depart","E52","NULL","VP Customer Solutions","E52","Kevin Christie","E52 - Oregon DSM"]
[null,null,null,"E53","OPER","VPCS","CUST","Depart","E53","NULL","VP Customer Solutions","E53","Kevin Christie","E53 - Contact Ctr-Lewiston"]
[null,null,null,"E55","OPER","VPPS","0055","Depart","E55","NULL","Sr. VP Energy Resources","E55","Kelly Norwood","E55 - Power Supply"]
[null,null,null,"E56","OPER","VPOP","TRAN","Depart","E56","NULL","VP Energy Delivery","E56","Jason Thackston","E56 - Transmission Services"]
[null,null,null,"F02","CORP","VPHR","F02","Depart","NULL","NULL","Sr. VP Human Resources","F02","Heather Rosentrater","F02 - HR Consulting and Analy"]
[null,null,null,"F08","OPER","VPPS","0007","Depart","F08","NULL","Sr. VP Energy Resources","F08","Kelly Norwood","F08 - Electric Shop"]
[null,null,null,"F19","OPER","INFO","APPS","Depart","ISOP","F19","VP Info & Security","F19","Jim Kensok","F19 - Back Office Tech Ops"]
[null,null,null,"F39","OPER","INFO","APPS","Depart","ISDV","F39","VP Info & Security","F39","Jim Kensok","F39 - Oracle Fin Sevices Dev"]
[null,null,null,"F50","OPER","VPCS","CUST","Depart","F50","NULL","VP Customer Solutions","F50","Kevin Christie",{"$f":"VLOOKUP(L452,Table1,2)","v":"F50 - Contact Ctr-Credit & Collections"}]
[null,null,null,"F52","OPER","VPCS","CUST","Depart","F52","NULL","VP Customer Solutions","F52","Kevin Christie","F52 - Market Services"]
[null,null,null,"F53","OPER","VPCS","ESOL","Depart","F53","NULL","VP Customer Solutions","F53","Kevin Christie","F53 - AM Lewis/Clark"]
[null,null,null,"F54","CORP","VPFO","F54","Depart","NULL","NULL","Sr. VP & CFO","F54","Marian Durkin","F54 - Treasury & Trust Mgmt"]
[null,null,null,"F55","CORP","VPFO","F55","Depart","NULL","NULL","Sr. VP & CFO","F55","Marian Durkin","F55 - Financial Planning and Analysis"]
[null,null,null,"FIN","CORP","VPFO","FIN","Depart","NULL","NULL","Sr. VP & CFO","FIN","Marian Durkin","FIN - Financial Info Summary"]
[null,null,null,"G01","CORP","VPFO","G01","Depart","NULL","NULL","Sr. VP & CFO","G01","Marian Durkin","G01 - Officer Support Team"]
[null,null,null,"G02","CORP","VPHR","G02","Depart","NULL","NULL","Sr. VP Human Resources","G02","Heather Rosentrater","G02 - Employee Safety"]
[null,null,null,"G08","OPER","VPOP","NGAS","Depart","NGCO","G08","VP Energy Delivery","G08","Jason Thackston","G08 - Gas Construction Management"]
[null,null,null,"G55","AVA","CEXO","VPUP","VPPS","0055","G55","Total Company","G55","NULL","G55 - Power Purchases"]
[null,null,null,"G55","CEXO","VPUP","VPPS","0055","G55","NULL","CEO & President","G55","NULL","G55 - Power Purchases"]
[null,null,null,"G55","G55","NULL","NULL","NULL","NULL","NULL","Power Purchases","G55","NULL","G55 - Power Purchases"]
[null,null,null,"G55","0055","G55","NULL","NULL","NULL","NULL","Energy Resources","G55","NULL","G55 - Power Purchases"]
[null,null,null,"G55","VPUP","VPPS","0055","G55","NULL","NULL","President & COO Avista Corp","G55","Dennis Vermillion","G55 - Power Purchases"]
[null,null,null,"G10","CORP","VPFO","G10","Depart","NULL","NULL","Sr. VP & CFO","G10","Marian Durkin","G10 - Credit Union"]
[null,null,null,"G39","OPER","INFO","APPS","Depart","ISDV","G39","VP Info & Security","G39","Jim Kensok","G39 - GIS Development"]
[null,null,null,"G50","OPER","VPOP","WEST","Depart","G50","NULL","VP Energy Delivery","G50","Jason Thackston","G50 - Colville"]
[null,null,null,"G51","OPER","VPOP","NGAS","Depart","G51","NULL","VP Energy Delivery","G51","Jason Thackston","G51 - Dir of Natural Gas"]
[null,null,null,"G53","OPER","VPCS","ESOL","Depart","G53","NULL","VP Customer Solutions","G53","Kevin Christie","G53 - Area Manager - CDA"]
[null,null,null,"G54","CORP","VPFO","G54","Depart","NULL","NULL","Sr. VP & CFO","G54","Marian Durkin","G54 - Finance Administration"]
[null,null,null,"H03","AVA","CEXO","VPUP","VPCS","CUST","H03","Total Company","H03","NULL","H03 - Facility Lease Management"]
[null,null,null,"H03","CEXO","VPUP","VPCS","CUST","H03","NULL","CEO & President","H03","NULL","H03 - Facility Lease Management"]
[null,null,null,"H03","CUST","H03","NULL","NULL","NULL","NULL","Customer Service","H03","Mike Broemeling","H03 - Facility Lease Management"]
[null,null,null,"H03","H03","NULL","NULL","NULL","NULL","NULL","Fac. Lease Management","H03","NULL","H03 - Facility Lease Management"]
[null,null,null,"H02","CORP","VPHR","H02","Depart","NULL","NULL","Sr. VP Human Resources","H02","Heather Rosentrater","H02 - Occupational Health"]
[null,null,null,"H04","CORP","VPGC","H04","Depart","NULL","NULL","Sr. VP & General Counsel","H04","Karen Feltes","H04 - Hydro Compliance"]
[null,null,null,"H07","OPER","VPOP","SERV","Depart","H07","NULL","VP Energy Delivery","H07","Jason Thackston","H07 - Facilities Management"]
[null,null,null,"H08","OPER","VPOP","ENGR","Depart","H08","NULL","VP Energy Delivery","H08","Jason Thackston","H08 - Energy Del Stratgic Proj"]
[null,null,null,"H14","OPER","VPCS","ESOL","Depart","H14","NULL","VP Customer Solutions","H14","Kevin Christie","H14 - Consumer Affairs"]
[null,null,null,"H50","OPER","VPOP","WEST","Depart","H50","NULL","VP Energy Delivery","H50","Jason Thackston","H50 - Othello"]
[null,null,null,"H51","OPER","VPOP","SERV","Depart","H51","NULL","VP Energy Delivery","H51","Jason Thackston","H51 - Supply Chain Mgmt"]
[null,null,null,"H53","OPER","VPOP","EAST","Depart","H53","NULL","VP Energy Delivery","H53","Jason Thackston","H53 - Kellogg"]
[null,null,null,"H54","CORP","VPFO","H54","Depart","NULL","NULL","Sr. VP & CFO","H54","Marian Durkin","H54 - AP/Remittance Services"]
[null,null,null,"I02","CORP","VPHR","I02","Depart","NULL","NULL","Sr. VP Human Resources","I02","Heather Rosentrater","I02 - Craft Training"]
[null,null,null,"I08","OPER","VPOP","NGAS","Depart","NGCO","I08","VP Energy Delivery","I08","Jason Thackston","I08 - Energy Delivery Operations Support"]
[null,null,null,"I50","OPER","VPCS","CUST","Depart","I50","NULL","VP Customer Solutions","I50","Kevin Christie","I50 - Contact Center-IT"]
[null,null,null,"I54","CORP","ACCT","I54","Depart","NULL","NULL","Accounting Items","I54","Adam Munson","I54 - Tax Other Than Income"]
[null,null,null,"J01","CORP","VPFO","J01","Depart","NULL","NULL","Sr. VP & CFO","J01","Marian Durkin","J01 - SR VP & CFO"]
[null,null,null,"J02","CORP","VPHR","J02","Depart","NULL","NULL","Sr. VP Human Resources","J02","Heather Rosentrater","J02 - Public Safety"]
[null,null,null,"J06","OPER","VPPS","RSRC","Depart","J06","NULL","Sr. VP Energy Resources","J06","Kelly Norwood","J06 - Joint Project Jackson Prairie"]
[null,null,null,"J08","OPER","VPOP","NGAS","Depart","GEGR","J08","VP Energy Delivery","J08","Jason Thackston","J08 - Gas Construction Quality Control"]
[null,null,null,"J09","OPER","INFO","INFR","Depart","ITNE","J09","VP Info & Security","J09","Jim Kensok","J09 - Network Systems"]
[null,null,null,"J10","CORP","VPFO","J10","Depart","NULL","NULL","Sr. VP & CFO","J10","Marian Durkin","J10 - Utility Fin Central"]
[null,null,null,"J29","OPER","INFO","INFR","Depart","ITNE","J29","VP Info & Security","J29","Jim Kensok","J29 - Ntwk Sys Prod & Serv"]
[null,null,null,"J50","OPER","VPCS","ESOL","Depart","J50","NULL","VP Customer Solutions","J50","Kevin Christie","J50 - Reg Bus Mgr - Spokane"]
[null,null,null,"J51","OPER","VPOP","SERV","Depart","J51","NULL","VP Energy Delivery","J51","Jason Thackston","J51 - Warehousing"]
[null,null,null,"J53","OPER","VPOP","EAST","Depart","J53","NULL","VP Energy Delivery","J53","Jason Thackston","J53 - Sandpoint/Bonners Ferry"]
[null,null,null,"J54","CORP","EXEC","J54","Depart","NULL","NULL","Executive Department Summary","J54"," ","J54 - Internal Auditing"]
[null,null,null,"K02","CORP","VPHR","K02","Depart","NULL","NULL","Sr. VP Human Resources","K02","Heather Rosentrater","K02 - Compensation"]
[null,null,null,"K07","OPER","VPPS","0007","Depart","K07","NULL","Sr. VP Energy Resources","K07","Kelly Norwood","K07 - Kettle Falls Thermal"]
[null,null,null,"K08","OPER","VPOP","ENGR","Depart","K08","NULL","VP Energy Delivery","K08","Jason Thackston","K08 - GIS Editing"]
[null,null,null,"K19","OPER","INFO","APPS","Depart","ISOP","K19","VP Info & Security","K19","Jim Kensok","K19 - Customer Tech Ops"]
[null,null,null,"K39","OPER","INFO","APPS","Depart","ISDV","K39","VP Info & Security","K39","Jim Kensok","K39 - Gen Custom App Dev"]
[null,null,null,"K51","OPER","VPOP","SERV","Depart","K51","NULL","VP Energy Delivery","K51","Jason Thackston","K51 - Fleet Management"]
[null,null,null,"K53","OPER","VPCS","CUST","Depart","K53","NULL","VP Customer Solutions","K53","Kevin Christie","K53 - Contact Ctr-CDA"]
[null,null,null,"H55","AVA","CEXO","VPUP","VPPS","0055","H55","Total Company","H55","NULL","H55 - Fuels Management"]
[null,null,null,"H55","CEXO","VPUP","VPPS","0055","H55","NULL","CEO & President","H55","NULL","H55 - Fuels Management"]
[null,null,null,"H55","H55","NULL","NULL","NULL","NULL","NULL","Fuels Management","H55","NULL","H55 - Fuels Management"]
[null,null,null,"H55","0055","H55","NULL","NULL","NULL","NULL","Energy Resources","H55","NULL","H55 - Fuels Management"]
[null,null,null,"H55","VPPS","0055","H55","NULL","NULL","NULL","VP Energy Resources","H55","Jason Thackston","H55 - Fuels Management"]
[null,null,null,"J11","AVA","CEXO","EXEC","VPHR","J11","NULL","Total Company","J11","NULL","J11 - Planning & Analysis"]
[null,null,null,"J11","CEXO","EXEC","VPFO","J11","NULL","NULL","CEO & President","J11","NULL","J11 - Planning & Analysis"]
[null,null,null,"J11","EXEC","VPHR","J11","NULL","NULL","NULL","Executive","J11","NULL","J11 - Planning & Analysis"]
[null,null,null,"J11","J11","NULL","NULL","NULL","NULL","NULL","Planning & Analysis","J11","NULL","J11 - Planning & Analysis"]
[null,null,null,"J11","VPFO","J11","NULL","NULL","NULL","NULL","Executive VP & CFO","J11","Mark Thies",{"$f":"VLOOKUP(L516,Table1,2)","v":"J11 - Planning & Analysis"}]
[null,null,null,"T19","INFO","T19","NULL","NULL","NULL","NULL","VP Info & Security","T19","Jim Kensok","T19 - CC&B Operations"]
[null,null,null,"T39","INFO","T39","NULL","NULL","NULL","NULL","VP Info & Security","T39","Jim Kensok","T39 - CC&B Development"]
[null,null,null,"T51","VPOP","T51","NULL","NULL","NULL","NULL","VP Energy Delivery","T51","Jason Thackston","T51 - Operations Project Management"]
[null,null,null,"T52","VPCS","T52","NULL","NULL","NULL","NULL","VP Customer Solutions","T52","Kevin Christie","T52 - Demand Side Mgmt"]
[null,null,null,"T54","VPFO","T54","NULL","NULL","NULL","NULL","Sr. VP & CFO","T54","Marian Durkin","T54 - Rev and Fin Systems"]
[null,null,null,"U01","VPGC","U01","NULL","NULL","NULL","NULL","Sr. VP & General Counsel","U01","Karen Feltes","T54 - Rev and Fin Systems"]
[null,null,null,"U50","VPCS","U50","NULL","NULL","NULL","NULL","VP Customer Solutions","U50","Kevin Christie","T54 - Rev and Fin Systems"]
[null,null,null,"V01","VPGC","V01","NULL","NULL","NULL","NULL","Sr. VP & General Counsel","V01","Karen Feltes","T54 - Rev and Fin Systems"]
[null,null,null,"V08","VPGC","V08","NULL","NULL","NULL","NULL","Sr. VP & General Counsel","V08","Karen Feltes","T54 - Rev and Fin Systems"]
[null,null,null,"V19","INFO","V19","NULL","NULL","NULL","NULL","VP Info & Security","V19","Jim Kensok","T54 - Rev and Fin Systems"]
[null,null,null,"V39","INFO","V39","NULL","NULL","NULL","NULL","VP Info & Security","V39","Jim Kensok","T54 - Rev and Fin Systems"]
[null,null,null,"V50","VPCS","V50","NULL","NULL","NULL","NULL","VP Customer Solutions","V50","Kevin Christie","T54 - Rev and Fin Systems"]
[null,null,null,"W01","VPGC","W01","NULL","NULL","NULL","NULL","Sr. VP & General Counsel","W01","Karen Feltes","T54 - Rev and Fin Systems"]
[null,null,null,"W07","VPPS","W07","NULL","NULL","NULL","NULL","Sr. VP Energy Resources","W07","Kelly Norwood","T54 - Rev and Fin Systems"]
[null,null,null,"W09","INFO","W09","NULL","NULL","NULL","NULL","VP Info & Security","W09","Jim Kensok","T54 - Rev and Fin Systems"]
[null,null,null,"W39","INFO","W39","NULL","NULL","NULL","NULL","VP Info & Security","W39","Jim Kensok","T54 - Rev and Fin Systems"]
[null,null,null,"K14","AVA","CEXO","VPUP","VPCS","K14","NULL","Total Company","K14","NULL","K14 - Public Affairs"]
[null,null,null,"K14","BCED","K14","NULL","NULL","NULL","NULL","Business, Community & Econ Dev","K14","NULL","K14 - Public Affairs"]
[null,null,null,"K14","CEXO","VPUP","VPCS","K14","NULL","NULL","CEO & President","K14","NULL","K14 - Public Affairs"]
[null,null,null,"K14","K14","NULL","NULL","NULL","NULL","NULL","Public Affairs","K14","NULL","K14 - Public Affairs"]
[null,null,null,"K50","AVA","CEXO","VPUP","VPOP","K50","NULL","Total Company","K50","NULL","K50 - Old RC - Conversion"]
[null,null,null,"K50","CEXO","VPUP","VPOP","K50","NULL","NULL","CEO & President","K50","NULL","K50 - Old RC - Conversion"]
[null,null,null,"K50","CNST","K50","NULL","NULL","NULL","NULL","Director of Ops WA & ID","K50","NULL","K50 - Old RC - Conversion"]
[null,null,null,"K50","K50","NULL","NULL","NULL","NULL","NULL","Spokane Conversion Org","K50","NULL","K50 - Old RC - Conversion"]
[null,null,null,"K50","VPOP","CNST","K50","NULL","NULL","NULL","VP Operations","K50","NULL","K50 - Old RC - Conversion"]
[null,null,null,"K50","VPUP","VPOP","CNST","K50","NULL","NULL","President & COO Avista Corp","K50","Dennis Vermillion","K50 - Old RC - Conversion"]
[null,null,null,"W54","ACCT","W54","NULL","NULL","NULL","NULL","Accounting Items","W54","Adam Munson","T54 - Rev and Fin Systems"]
[null,null,null,"W55","ACCT","W55","NULL","NULL","NULL","NULL","Accounting Items","W55","Adam Munson","T54 - Rev and Fin Systems"]
[null,null,null,"X01","EXEC","X01","NULL","NULL","NULL","NULL","Executive Department Summary","X01"," ","T54 - Rev and Fin Systems"]
[null,null,null,"X02","VPHR","X02","NULL","NULL","NULL","NULL","Sr. VP Human Resources","X02","Heather Rosentrater","T54 - Rev and Fin Systems"]
[null,null,null,"X08","VPPS","X08","NULL","NULL","NULL","NULL","Sr. VP Energy Resources","X08","Kelly Norwood","T54 - Rev and Fin Systems"]
[null,null,null,"X09","INFO","X09","NULL","NULL","NULL","NULL","VP Info & Security","X09","Jim Kensok","T54 - Rev and Fin Systems"]
[null,null,null,"X19","INFO","X19","NULL","NULL","NULL","NULL","VP Info & Security","X19","Jim Kensok","T54 - Rev and Fin Systems"]
[null,null,null,"X39","INFO","X39","NULL","NULL","NULL","NULL","VP Info & Security","X39","Jim Kensok","T54 - Rev and Fin Systems"]
[null,null,null,"X54","ACCT","X54","NULL","NULL","NULL","NULL","Accounting Items","X54","Adam Munson","T54 - Rev and Fin Systems"]
[null,null,null,"X55","ACCT","X55","NULL","NULL","NULL","NULL","Accounting Items","X55","Adam Munson","T54 - Rev and Fin Systems"]
[null,null,null,"X57","ACCT","X57","NULL","NULL","NULL","NULL","Accounting Items","X57","Adam Munson","T54 - Rev and Fin Systems"]
[null,null,null,"Y01","VPGC","Y01","NULL","NULL","NULL","NULL","Sr. VP & General Counsel","Y01","Karen Feltes","T54 - Rev and Fin Systems"]
[null,null,null,"Y39","INFO","Y39","NULL","NULL","NULL","NULL","VP Info & Security","Y39","Jim Kensok","T54 - Rev and Fin Systems"]
[null,null,null,"K54","AVA","CEXO","VPFO","VPCC","K54","NULL","Total Company","K54","NULL","K54 - Financial Systems Project"]
[null,null,null,"K54","CEXO","VPFO","VPCC","K54","NULL","NULL","CEO & President","K54","NULL","K54 - Financial Systems Project"]
[null,null,null,"K54","K54","NULL","NULL","NULL","NULL","NULL","Financial Systems Project","K54","NULL","K54 - Financial Systems Project"]
[null,null,null,"K54","VPCC","K54","NULL","NULL","NULL","NULL","VP Corporate Controller","K54","Ryan Krasselt","K54 - Financial Systems Project"]
[null,null,null,"K54","VPFO","VPCC","K54","NULL","NULL","NULL","Executive VP & CFO","K54","Mark Thies","K54 - Financial Systems Project"]
[null,null,null,"Y54","VPFO","Y54","NULL","NULL","NULL","NULL","Sr. VP & CFO","Y54","Marian Durkin","T54 - Rev and Fin Systems"]
[null,null,null,"Y55","VPFO","Y55","NULL","NULL","NULL","NULL","Sr. VP & CFO","Y55","Marian Durkin","T54 - Rev and Fin Systems"]
[null,null,null,"Z08","VPOP","Z08","NULL","NULL","NULL","NULL","VP Energy Delivery","Z08","Jason Thackston","T54 - Rev and Fin Systems"]
[null,null,null,"Z09","VPOP","Z09","NULL","NULL","NULL","NULL","VP Energy Delivery","Z09","Jason Thackston","T54 - Rev and Fin Systems"]
[null,null,null,"Z57","ACCT","Z57","NULL","NULL","NULL","NULL","Accounting Items","Z57","Adam Munson","T54 - Rev and Fin Systems"]
[null,null,null,"Z87","ACCT","Z87","NULL","NULL","NULL","NULL","Accounting Items","Z87","Adam Munson","T54 - Rev and Fin Systems"]
[null,null,null,"Z88","VPOP","Z88","NULL","NULL","NULL","NULL","VP Energy Delivery","Z88","Jason Thackston","T54 - Rev and Fin Systems"]
[null,null,null,"Z89","ACCT","Z89","NULL","NULL","NULL","NULL","Accounting Items","Z89","Adam Munson","T54 - Rev and Fin Systems"]
[null,null,null,"Z90","ACCT","Z90","NULL","NULL","NULL","NULL","Accounting Items","Z90","Adam Munson","T54 - Rev and Fin Systems"]
[null,null,null,"Z91","ACCT","Z91","NULL","NULL","NULL","NULL","Accounting Items","Z91","Adam Munson","T54 - Rev and Fin Systems"]
[null,null,null,"000","000","NULL","NULL","NULL","NULL","NULL","GL Direct","000","Adam Munson",{"$error":"#N/A"}]
[null,null,null,"000","ACCT","NULL","NULL","NULL","NULL","NULL","Accounting Items","000","Adam Munson",{"$error":"#N/A"}]
[null,null,null,"000","AVA","NULL","NULL","NULL","NULL","NULL","Total Company","000"," ",{"$error":"#N/A"}]
[null,null,null,"000","CEXO","NULL","NULL","NULL","NULL","NULL","CEO & President","000"," ",{"$error":"#N/A"}]
[null,null,null,"000","SUPP","NULL","NULL","NULL","NULL","NULL","Support","000","NULL",{"$error":"#N/A"}]
[null,null,null,"099","099","NULL","NULL","NULL","NULL","NULL","WAID/OREG Common Expense","099"," ",{"$error":"#N/A"}]
[null,null,null,"099","AVA","NULL","NULL","NULL","NULL","NULL","Total Company","099"," ",{"$error":"#N/A"}]
[null,null,null,"099","GENL","NULL","NULL","NULL","NULL","NULL","General Corporate RCs","099"," ",{"$error":"#N/A"}]
[null,null,null,"099","SUPP","NULL","NULL","NULL","NULL","NULL","Support","099","NULL",{"$error":"#N/A"}]
[null,null,null,"A01","A01","NULL","NULL","NULL","NULL","NULL","Native American Relations","A01","Toni Pessemier",{"$f":"VLOOKUP(L580,Table1,2)","v":"A01 - Native American  Relations"}]
[null,null,null,"A01","AVA","NULL","NULL","NULL","NULL","NULL","Total Company","A01"," ","A01 - Native American  Relations"]
[null,null,null,"A01","CEXO","NULL","NULL","NULL","NULL","NULL","CEO & President","A01"," ","A01 - Native American  Relations"]
[null,null,null,"A01","SUPP","NULL","NULL","NULL","NULL","NULL","Support","A01","NULL","A01 - Native American  Relations"]
[null,null,null,"A01","VPPS","NULL","NULL","NULL","NULL","NULL","Sr. VP Energy Resources","A01","Kelly Norwood","A01 - Native American  Relations"]
[null,null,null,"A01","VPUP","NULL","NULL","NULL","NULL","NULL","President & COO Avista Corp","A01","Marian Durkin","A01 - Native American  Relations"]
[null,null,null,"A02","A02","NULL","NULL","NULL","NULL","NULL","HRIS/Payroll","A02","Mary Prince","A02 - HRIS/Payroll"]
[null,null,null,"A02","AVA","NULL","NULL","NULL","NULL","NULL","Total Company","A02"," ","A02 - HRIS/Payroll"]
[null,null,null,"A02","CEXO","NULL","NULL","NULL","NULL","NULL","CEO & President","A02"," ","A02 - HRIS/Payroll"]
[null,null,null,"A02","SUPP","NULL","NULL","NULL","NULL","NULL","Support","A02","NULL","A02 - HRIS/Payroll"]
[null,null,null,"A02","VPHR","NULL","NULL","NULL","NULL","NULL","Sr. VP Human Resources","A02","Heather Rosentrater","A02 - HRIS/Payroll"]
[null,null,null,"A04","0004","NULL","NULL","NULL","NULL","NULL","Environmental Affairs","A04","Bruce Howard","A04 - Environmental Affairs"]
[null,null,null,"A04","A04","NULL","NULL","NULL","NULL","NULL","Environmental Affairs","A04","Bruce Howard","A04 - Environmental Affairs"]
[null,null,null,"A04","AVA","NULL","NULL","NULL","NULL","NULL","Total Company","A04"," ","A04 - Environmental Affairs"]
[null,null,null,"A04","CEXO","NULL","NULL","NULL","NULL","NULL","CEO & President","A04"," ","A04 - Environmental Affairs"]
[null,null,null,"A04","SUPP","NULL","NULL","NULL","NULL","NULL","Support","A04","NULL","A04 - Environmental Affairs"]
[null,null,null,"A04","VPGC","NULL","NULL","NULL","NULL","NULL","Sr. VP & General Counsel","A04","Karen Feltes","A04 - Environmental Affairs"]
[null,null,null,"A07","0007","NULL","NULL","NULL","NULL","NULL","Gen Prod Sub Support","A07","Andy Vickers","A07 - Gen Mgmt & Admin Support"]
[null,null,null,"A07","A07","NULL","NULL","NULL","NULL","NULL","Generation and Central Support","A07","Andy Vickers","A07 - Gen Mgmt & Admin Support"]
[null,null,null,"A07","AVA","NULL","NULL","NULL","NULL","NULL","Total Company","A07"," ","A07 - Gen Mgmt & Admin Support"]
[null,null,null,"A07","CEXO","NULL","NULL","NULL","NULL","NULL","CEO & President","A07"," ","A07 - Gen Mgmt & Admin Support"]
[null,null,null,"A07","SUPP","NULL","NULL","NULL","NULL","NULL","Support","A07","NULL","A07 - Gen Mgmt & Admin Support"]
[null,null,null,"A07","VPPS","NULL","NULL","NULL","NULL","NULL","Sr. VP Energy Resources","A07","Kelly Norwood","A07 - Gen Mgmt & Admin Support"]
[null,null,null,"A07","VPUP","NULL","NULL","NULL","NULL","NULL","President & COO Avista Corp","A07","Marian Durkin","A07 - Gen Mgmt & Admin Support"]
[null,null,null,"A08","A08","NULL","NULL","NULL","NULL","NULL","Relay & Protection Design","A08","Randy Spacek","A08 - Relay & Protection"]
[null,null,null,"A08","AVA","NULL","NULL","NULL","NULL","NULL","Total Company","A08"," ","A08 - Relay & Protection"]
[null,null,null,"A08","CEXO","NULL","NULL","NULL","NULL","NULL","CEO & President","A08"," ","A08 - Relay & Protection"]
[null,null,null,"A08","ENGR","NULL","NULL","NULL","NULL","NULL","Electric Engineering","A08","David Howell","A08 - Relay & Protection"]
[null,null,null,"A08","SUPP","NULL","NULL","NULL","NULL","NULL","Support","A08","NULL","A08 - Relay & Protection"]
[null,null,null,"A08","VPOP","NULL","NULL","NULL","NULL","NULL","VP Energy Delivery","A08","Jason Thackston","A08 - Relay & Protection"]
[null,null,null,"A08","VPUP","NULL","NULL","NULL","NULL","NULL","President & COO Avista Corp","A08","Marian Durkin","A08 - Relay & Protection"]
[null,null,null,"A09","A09","NULL","NULL","NULL","NULL","NULL","ET Shared Services","A09","David Plut","A09 - ET Shared Services"]
[null,null,null,"A09","AVA","NULL","NULL","NULL","NULL","NULL","Total Company","A09"," ","A09 - ET Shared Services"]
[null,null,null,"A09","CEXO","NULL","NULL","NULL","NULL","NULL","CEO & President","A09"," ","A09 - ET Shared Services"]
[null,null,null,"A09","INFO","NULL","NULL","NULL","NULL","NULL","VP Info & Security","A09","Jim Kensok","A09 - ET Shared Services"]
[null,null,null,"A09","SUPP","NULL","NULL","NULL","NULL","NULL","Support","A09","NULL","A09 - ET Shared Services"]
[null,null,null,"A09","VPUP","NULL","NULL","NULL","NULL","NULL","President & COO Avista Corp","A09","Marian Durkin","A09 - ET Shared Services"]
[null,null,null,"A19","A19","NULL","NULL","NULL","NULL","NULL","Operating Technology Operations","A19","Jason Pitts","A19 - Operating Tech Ops"]
[null,null,null,"A19","APPS","NULL","NULL","NULL","NULL","NULL","Applications Summary","A19","Hossein Nikdel","A19 - Operating Tech Ops"]
[null,null,null,"A19","AVA","NULL","NULL","NULL","NULL","NULL","Total Company","A19"," ","A19 - Operating Tech Ops"]
[null,null,null,"A19","CEXO","NULL","NULL","NULL","NULL","NULL","CEO & President","A19"," ","A19 - Operating Tech Ops"]
[null,null,null,"A19","INFO","NULL","NULL","NULL","NULL","NULL","VP Info & Security","A19","Jim Kensok","A19 - Operating Tech Ops"]
[null,null,null,"A19","ISOP","NULL","NULL","NULL","NULL","NULL","IS Operations Rollup","A19","Hossein Nikdel","A19 - Operating Tech Ops"]
[null,null,null,"A19","SUPP","NULL","NULL","NULL","NULL","NULL","Support","A19","NULL","A19 - Operating Tech Ops"]
[null,null,null,"A19","VPUP","NULL","NULL","NULL","NULL","NULL","President & COO Avista Corp","A19","Marian Durkin","A19 - Operating Tech Ops"]
[null,null,null,"A39","A39","NULL","NULL","NULL","NULL","NULL","COTS Development","A39","Graham Smith","A39 - COTS Development"]
[null,null,null,"A39","APPS","NULL","NULL","NULL","NULL","NULL","Applications Summary","A39","Hossein Nikdel","A39 - COTS Development"]
[null,null,null,"A39","AVA","NULL","NULL","NULL","NULL","NULL","Total Company","A39"," ","A39 - COTS Development"]
[null,null,null,"A39","CEXO","NULL","NULL","NULL","NULL","NULL","CEO & President","A39"," ","A39 - COTS Development"]
[null,null,null,"A39","INFO","NULL","NULL","NULL","NULL","NULL","VP Info & Security","A39","Jim Kensok","A39 - COTS Development"]
[null,null,null,"A39","ISDV","NULL","NULL","NULL","NULL","NULL","IS Development Rollup","A39","Hossein Nikdel","A39 - COTS Development"]
[null,null,null,"A39","SUPP","NULL","NULL","NULL","NULL","NULL","Support","A39","NULL","A39 - COTS Development"]
[null,null,null,"A39","VPUP","NULL","NULL","NULL","NULL","NULL","President & COO Avista Corp","A39","Marian Durkin","A39 - COTS Development"]
[null,null,null,"A50","A50","NULL","NULL","NULL","NULL","NULL","West Ops and Asset Maint","A50","Bryan Cox","A50 - Director of Ops WA & ID"]
[null,null,null,"A50","AVA","NULL","NULL","NULL","NULL","NULL","Total Company","A50"," ","A50 - Director of Ops WA & ID"]
[null,null,null,"A50","CEXO","NULL","NULL","NULL","NULL","NULL","CEO & President","A50"," ","A50 - Director of Ops WA & ID"]
[null,null,null,"A50","ELEC","NULL","NULL","NULL","NULL","NULL","Electric","A50","NULL","A50 - Director of Ops WA & ID"]
[null,null,null,"A50","VPOP","NULL","NULL","NULL","NULL","NULL","VP Energy Delivery","A50","Jason Thackston","A50 - Director of Ops WA & ID"]
[null,null,null,"A50","VPUP","NULL","NULL","NULL","NULL","NULL","President & COO Avista Corp","A50","Marian Durkin","A50 - Director of Ops WA & ID"]
[null,null,null,"A50","WEST","NULL","NULL","NULL","NULL","NULL","Director of Operations - West","A50"," ","A50 - Director of Ops WA & ID"]
[null,null,null,"A51","A51","NULL","NULL","NULL","NULL","NULL","East and South Ops","A51","Greg Gfeller","A51 - Dir Operations East & South"]
[null,null,null,"A51","AVA","NULL","NULL","NULL","NULL","NULL","Total Company","A51"," ","A51 - Dir Operations East & South"]
[null,null,null,"A51","CEXO","NULL","NULL","NULL","NULL","NULL","CEO & President","A51"," ","A51 - Dir Operations East & South"]
[null,null,null,"A51","EAST","NULL","NULL","NULL","NULL","NULL","Director Operations - East","A51","Greg Gfeller","A51 - Dir Operations East & South"]
[null,null,null,"A51","ELEC","NULL","NULL","NULL","NULL","NULL","Electric","A51","NULL",{"$f":"VLOOKUP(L644,Table1,2)","v":"A51 - Dir Operations East & South"}]
[null,null,null,"A51","VPOP","NULL","NULL","NULL","NULL","NULL","VP Energy Delivery","A51","Jason Thackston","A51 - Dir Operations East & South"]
[null,null,null,"A51","VPUP","NULL","NULL","NULL","NULL","NULL","President & COO Avista Corp","A51","Marian Durkin","A51 - Dir Operations East & South"]
[null,null,null,"A52","A52","NULL","NULL","NULL","NULL","NULL","Svc Develop & Marketing","A52","Dana Anderson","A52 - Svc Develop & Marketng"]
[null,null,null,"A52","AVA","NULL","NULL","NULL","NULL","NULL","Total Company","A52"," ","A52 - Svc Develop & Marketng"]
[null,null,null,"A52","CEXO","NULL","NULL","NULL","NULL","NULL","CEO & President","A52"," ","A52 - Svc Develop & Marketng"]
[null,null,null,"A52","CSOL","NULL","NULL","NULL","NULL","NULL","Customer Solutions","A52","Kevin Christie","A52 - Svc Develop & Marketng"]
[null,null,null,"A52","SUPP","NULL","NULL","NULL","NULL","NULL","Support","A52","NULL","A52 - Svc Develop & Marketng"]
[null,null,null,"N07","0004","N07","NULL","NULL","NULL","NULL","Environmental Affairs","N07","Bruce Howard","N07 - Utility Environ Compliance"]
[null,null,null,"N07","AVA","CEXO","VPUP","VPPS","0004","N07","Total Company","N07","NULL","N07 - Utility Environ Compliance"]
[null,null,null,"N07","CEXO","VPUP","VPPS","0004","N07","NULL","CEO & President","N07","NULL","N07 - Utility Environ Compliance"]
[null,null,null,"N07","N07","NULL","NULL","NULL","NULL","NULL","Utility Environmental Compliance","N07","NULL","N07 - Utility Environ Compliance"]
[null,null,null,"N07","VPPS","0004","N07","NULL","NULL","NULL","VP Energy Resources","N07","Jason Thackston","N07 - Utility Environ Compliance"]
[null,null,null,"N07","VPUP","VPPS","0004","N07","NULL","NULL","President & COO Avista Corp","N07","Dennis Vermillion","N07 - Utility Environ Compliance"]
[null,null,null,"A52","VPCS","NULL","NULL","NULL","NULL","NULL","VP Customer Solutions","A52","Kevin Christie","A52 - Svc Develop & Marketng"]
[null,null,null,"A52","VPUP","NULL","NULL","NULL","NULL","NULL","President & COO Avista Corp","A52","Marian Durkin","A52 - Svc Develop & Marketng"]
[null,null,null,"A53","A53","NULL","NULL","NULL","NULL","NULL","VP of Customer Solutions","A53","Kevin Christie","A52 - Svc Develop & Marketng"]
[null,null,null,"A53","AVA","NULL","NULL","NULL","NULL","NULL","Total Company","A53"," ","A52 - Svc Develop & Marketng"]
[null,null,null,"A53","CEXO","NULL","NULL","NULL","NULL","NULL","CEO & President","A53"," ","A52 - Svc Develop & Marketng"]
[null,null,null,"A53","CSOL","NULL","NULL","NULL","NULL","NULL","Customer Solutions","A53","Kevin Christie","A52 - Svc Develop & Marketng"]
[null,null,null,"A53","SUPP","NULL","NULL","NULL","NULL","NULL","Support","A53","NULL","A52 - Svc Develop & Marketng"]
[null,null,null,"A53","VPCS","NULL","NULL","NULL","NULL","NULL","VP Customer Solutions","A53","Kevin Christie","A52 - Svc Develop & Marketng"]
[null,null,null,"A53","VPUP","NULL","NULL","NULL","NULL","NULL","President & COO Avista Corp","A53","Marian Durkin","A52 - Svc Develop & Marketng"]
[null,null,null,"A54","A54","NULL","NULL","NULL","NULL","NULL","Customer Solutions","A54","Kevin Christie","A54 - Dir of Customer Solution"]
[null,null,null,"A54","AVA","NULL","NULL","NULL","NULL","NULL","Total Company","A54"," ","A54 - Dir of Customer Solution"]
[null,null,null,"A54","CEXO","NULL","NULL","NULL","NULL","NULL","CEO & President","A54"," ","A54 - Dir of Customer Solution"]
[null,null,null,"A54","CSOL","NULL","NULL","NULL","NULL","NULL","Customer Solutions","A54","Kevin Christie","A54 - Dir of Customer Solution"]
[null,null,null,"A54","SUPP","NULL","NULL","NULL","NULL","NULL","Support","A54","NULL","A54 - Dir of Customer Solution"]
[null,null,null,"A54","VPCS","NULL","NULL","NULL","NULL","NULL","VP Customer Solutions","A54","Kevin Christie","A54 - Dir of Customer Solution"]
[null,null,null,"A54","VPUP","NULL","NULL","NULL","NULL","NULL","President & COO Avista Corp","A54","Marian Durkin","A54 - Dir of Customer Solution"]
[null,null,null,"A56","A56","NULL","NULL","NULL","NULL","NULL","System Operations","A56","Garth Brandon","A56 - System Operations"]
[null,null,null,"A56","AVA","NULL","NULL","NULL","NULL","NULL","Total Company","A56"," ","A56 - System Operations"]
[null,null,null,"A56","CEXO","NULL","NULL","NULL","NULL","NULL","CEO & President","A56"," ","A56 - System Operations"]
[null,null,null,"A56","SUPP","NULL","NULL","NULL","NULL","NULL","Support","A56","NULL","A56 - System Operations"]
[null,null,null,"A56","TRAN","NULL","NULL","NULL","NULL","NULL","Transmission","A56","Bill Abrahamse","A56 - System Operations"]
[null,null,null,"A56","VPOP","NULL","NULL","NULL","NULL","NULL","VP Energy Delivery","A56","Jason Thackston","A56 - System Operations"]
[null,null,null,"A56","VPUP","NULL","NULL","NULL","NULL","NULL","President & COO Avista Corp","A56","Marian Durkin","A56 - System Operations"]
[null,null,null,"A57","A57","NULL","NULL","NULL","NULL","NULL","Energy Delivery Utility Accounting","A57","Catherine Mueller","A57 - Ed Utility Accounting"]
[null,null,null,"A57","AVA","NULL","NULL","NULL","NULL","NULL","Total Company","A57"," ","A57 - Ed Utility Accounting"]
[null,null,null,"A57","CEXO","NULL","NULL","NULL","NULL","NULL","CEO & President","A57"," ","A57 - Ed Utility Accounting"]
[null,null,null,"A57","SUPP","NULL","NULL","NULL","NULL","NULL","Support","A57","NULL","A57 - Ed Utility Accounting"]
[null,null,null,"A57","VPCC","NULL","NULL","NULL","NULL","NULL","VP Corporate Controller","A57","Kevin Christie","A57 - Ed Utility Accounting"]
[null,null,null,"N53","AVA","CEXO","VPUP","VPCS","ESOL","N53","Total Company","N53","NULL","N53 - AM Spokane West"]
[null,null,null,"N53","CEXO","VPUP","VPCS","ESOL","N53","NULL","CEO & President","N53","NULL","N53 - AM Spokane West"]
[null,null,null,"N53","ESOL","N53","NULL","NULL","NULL","NULL","Energy Solutions","N53","Pat Lynch","N53 - AM Spokane West"]
[null,null,null,"N53","N53","NULL","NULL","NULL","NULL","NULL","NA","N53","NULL","N53 - AM Spokane West"]
[null,null,null,"N53","VPUP","VPCS","ESOL","N53","NULL","NULL","President & COO Avista Corp","N53","Dennis Vermillion","N53 - AM Spokane West"]
[null,null,null,"S53","VPOP","S53","NULL","NULL","NULL","NULL","VP Energy Delivery","S53","Jason Thackston","S53 - St. Maries"]
[null,null,null,"S54","VPCS","S54","NULL","NULL","NULL","NULL","VP Customer Solutions","S54","Kevin Christie","S54 - External Communications"]
[null,null,null,"T01","VPUP","T01","NULL","NULL","NULL","NULL","President & COO Avista Corp","T01","Marian Durkin","T01 - Utility President"]
[null,null,null,"T07","VPPS","T07","NULL","NULL","NULL","NULL","Sr. VP Energy Resources","T07","Kelly Norwood","T07 - Spokane Area Thermal"]
[null,null,null,"T08","VPOP","T08","NULL","NULL","NULL","NULL","VP Energy Delivery","T08","Jason Thackston","T08 - Electric Engineer"]
[null,null,null,"PRT","AVA","GENL","PRT","NULL","NULL","NULL","Total Company","PRT","NULL","P99 - IT Director"]
[null,null,null,"PRT","GENL","PRT","NULL","NULL","NULL","NULL","General Corporate","PRT","NULL","P99 - IT Director"]
[null,null,null,"PRT","PRT","NULL","NULL","NULL","NULL","NULL","Financial Information Summary","PRT","NULL","P99 - IT Director"]
[null,null,null,"R03","AVA","AVIS","R03","NULL","NULL","NULL","Total Company","R03","NULL","R03 - Avista Energy"]
[null,null,null,"R03","AVIS","R03","NULL","NULL","NULL","NULL","Avista Subsidiaries","R03","Scott Morris","R03 - Avista Energy"]
[null,null,null,"R03","R03","NULL","NULL","NULL","NULL","NULL","Avista Energy","R03","NULL","R03 - Avista Energy"]
[null,null,null,"R50","AVA","CEXO","VPUP","VPOP","CNST","R50","Total Company","R50","NULL","R50 - Spokane Construction Engineering"]
[null,null,null,"R50","CEXO","VPUP","VPOP","CNST","R50","NULL","CEO & President","R50","NULL","R50 - Spokane Construction Engineering"]
[null,null,null,"R50","R50","NULL","NULL","NULL","NULL","NULL","Spokane Construction Eng/Mapping","R50","NULL","R50 - Spokane Construction Engineering"]
[null,null,null,"N52","N52","NULL","NULL","NULL","NULL","NULL","Compass Replacement Project","N52","Heather Rosentrater","N52 - Compass Replace Project"]
[null,null,null,"N52","VPOP","N52","NULL","NULL","NULL","NULL","VP Energy Delivery","N52","Jason Thackston","N52 - Compass Replace Project"]
[null,null,null,"N52","VPUP","VPOP","N52","NULL","NULL","NULL","President & COO Avista Corp","N52","Marian Durkin","N52 - Compass Replace Project"]
[null,null,null,"N54","AVA","CEXO","VPUP","VPPS","N54","NULL","Total Company","N54"," ",{"$f":"VLOOKUP(L708,Table1,2)","v":"N54 - Strategic Initiatives"}]
[null,null,null,"N54","CEXO","VPUP","VPPS","N54","NULL","NULL","CEO & President","N54"," ","N54 - Strategic Initiatives"]
[null,null,null,"N54","N54","NULL","NULL","NULL","NULL","NULL","Strategic Initiatives","N54","Nolan Steiner","N54 - Strategic Initiatives"]
[null,null,null,"N54","VPPS","N54","NULL","NULL","NULL","NULL","Sr. VP Energy Resources","N54","Kelly Norwood","N54 - Strategic Initiatives"]
[null,null,null,"N54","VPUP","VPPS","N54","NULL","NULL","NULL","President & COO Avista Corp","N54","Marian Durkin","N54 - Strategic Initiatives"]
[null,null,null,"P01","AVA","CEXO","VPGC","P01","NULL","NULL","Total Company","P01"," ","P01 - Legal Expenses"]
[null,null,null,"P01","CEXO","VPGC","P01","NULL","NULL","NULL","CEO & President","P01"," ","P01 - Legal Expenses"]
[null,null,null,"P01","P01","NULL","NULL","NULL","NULL","NULL","Legal Expenses","P01","Marian Durkin","P01 - Legal Expenses"]
[null,null,null,"P01","VPGC","P01","NULL","NULL","NULL","NULL","Sr. VP & General Counsel","P01","Karen Feltes","P01 - Legal Expenses"]
[null,null,null,"P03","AVA","CEXO","VPUP","VPOP","ENGR","P03","Total Company","P03"," ","P03 - Energy Deliver Tech Proj"]
[null,null,null,"P03","CEXO","VPUP","VPOP","ENGR","P03","NULL","CEO & President","P03"," ","P03 - Energy Deliver Tech Proj"]
[null,null,null,"P03","ENGR","P03","NULL","NULL","NULL","NULL","Electric Engineering","P03","David Howell","P03 - Energy Deliver Tech Proj"]
[null,null,null,"P03","P03","NULL","NULL","NULL","NULL","NULL","Energy Delivery Tech Projects","P03","Josh DiLuciano","P03 - Energy Deliver Tech Proj"]
[null,null,null,"P03","VPOP","ENGR","P03","NULL","NULL","NULL","VP Energy Delivery","P03","Jason Thackston","P03 - Energy Deliver Tech Proj"]
[null,null,null,"P03","VPUP","VPOP","ENGR","P03","NULL","NULL","President & COO Avista Corp","P03","Marian Durkin","P03 - Energy Deliver Tech Proj"]
[null,null,null,"P07","0007","P07","NULL","NULL","NULL","NULL","Gen Prod Sub Support","P07","Andy Vickers","P07 - Contract and Proj Mgmt"]
[null,null,null,"P07","AVA","CEXO","VPUP","VPPS","0007","P07","Total Company","P07"," ","P07 - Contract and Proj Mgmt"]
[null,null,null,"P07","CEXO","VPUP","VPPS","0007","P07","NULL","CEO & President","P07"," ","P07 - Contract and Proj Mgmt"]
[null,null,null,"P07","P07","NULL","NULL","NULL","NULL","NULL","Project Delivery","P07","Jacob Reidt","P07 - Contract and Proj Mgmt"]
[null,null,null,"P07","VPPS","0007","P07","NULL","NULL","NULL","Sr. VP Energy Resources","P07","Kelly Norwood","P07 - Contract and Proj Mgmt"]
[null,null,null,"P07","VPUP","VPPS","0007","P07","NULL","NULL","President & COO Avista Corp","P07","Marian Durkin","P07 - Contract and Proj Mgmt"]
[null,null,null,"P08","AVA","CEXO","VPUP","VPOP","ENGR","P08","Total Company","P08"," ","P08 - Distribution Oper Sys"]
[null,null,null,"P08","CEXO","VPUP","VPOP","ENGR","P08","NULL","CEO & President","P08"," ","P08 - Distribution Oper Sys"]
[null,null,null,"P08","ENGR","P08","NULL","NULL","NULL","NULL","Electric Engineering","P08","David Howell","P08 - Distribution Oper Sys"]
[null,null,null,"P08","P08","NULL","NULL","NULL","NULL","NULL","Distribution Operation Syst Mgmt","P08","John Gibson","P08 - Distribution Oper Sys"]
[null,null,null,"P08","VPOP","ENGR","P08","NULL","NULL","NULL","VP Energy Delivery","P08","Jason Thackston","P08 - Distribution Oper Sys"]
[null,null,null,"P08","VPUP","VPOP","ENGR","P08","NULL","NULL","President & COO Avista Corp","P08","Marian Durkin","P08 - Distribution Oper Sys"]
[null,null,null,"P09","AVA","CEXO","VPUP","INFO","INFR","P09","Total Company","P09"," ","P09 - Project Management"]
[null,null,null,"P09","CEXO","VPUP","INFO","INFR","P09","NULL","CEO & President","P09"," ","P09 - Project Management"]
[null,null,null,"S08","AVA","CEXO","VPUP","VPOP","CSSS","SERV","Total Company","S08","NULL","S08 - Strategic Projects Development"]
[null,null,null,"S08","CEXO","VPUP","VPOP","CSSS","SERV","S08","CEO & President","S08","NULL","S08 - Strategic Projects Development"]
[null,null,null,"S08","S08","NULL","NULL","NULL","NULL","NULL","Strategic Projects Development","S08","Mary Inman","S08 - Strategic Projects Development"]
[null,null,null,"S08","SERV","S08","NULL","NULL","NULL","NULL","Shared Services","S08","Mike Broemeling","S08 - Strategic Projects Development"]
[null,null,null,"S08","VPOP","CSSS","SERV","S08","NULL","NULL","VP Operations","S08","NULL","S08 - Strategic Projects Development"]
[null,null,null,"P09","INFO","INFR","P09","NULL","NULL","NULL","VP Info & Security","P09","Jim Kensok","P09 - Project Management"]
[null,null,null,"P09","INFR","P09","NULL","NULL","NULL","NULL","Infrastructure Technology Summary","P09","Jim Corder","P09 - Project Management"]
[null,null,null,"P09","P09","NULL","NULL","NULL","NULL","NULL","Project Management","P09","Jim Corder","P09 - Project Management"]
[null,null,null,"P09","VPUP","INFO","INFR","P09","NULL","NULL","President & COO Avista Corp","P09","Marian Durkin","P09 - Project Management"]
[null,null,null,"P50","AVA","CEXO","VPUP","VPOP","WEST","P50","Total Company","P50"," ","P50 - Davenport"]
[null,null,null,"P50","CEXO","VPUP","VPOP","WEST","P50","NULL","CEO & President","P50"," ","P50 - Davenport"]
[null,null,null,"P50","P50","NULL","NULL","NULL","NULL","NULL","Davenport","P50","Kelly Donohue","P50 - Davenport"]
[null,null,null,"P50","VPOP","WEST","P50","NULL","NULL","NULL","VP Energy Delivery","P50","Jason Thackston","P50 - Davenport"]
[null,null,null,"P50","VPUP","VPOP","WEST","P50","NULL","NULL","President & COO Avista Corp","P50","Marian Durkin","P50 - Davenport"]
[null,null,null,"P50","WEST","P50","NULL","NULL","NULL","NULL","Director of Operations - West","P50"," ","P50 - Davenport"]
[null,null,null,"P51","AVA","CEXO","VPUP","VPOP","TRAN","P51","Total Company","P51"," ","P51 - Distribution Dispatch"]
[null,null,null,"P51","CEXO","VPUP","VPOP","TRAN","P51","NULL","CEO & President","P51"," ","P51 - Distribution Dispatch"]
[null,null,null,"P51","P51","NULL","NULL","NULL","NULL","NULL","Distribution Dispatch","P51","Mike McAllister","P51 - Distribution Dispatch"]
[null,null,null,"P51","TRAN","P51","NULL","NULL","NULL","NULL","Transmission","P51","Bill Abrahamse","P51 - Distribution Dispatch"]
[null,null,null,"P51","VPOP","TRAN","P51","NULL","NULL","NULL","VP Energy Delivery","P51","Jason Thackston","P51 - Distribution Dispatch"]
[null,null,null,"P51","VPUP","VPOP","TRAN","P51","NULL","NULL","President & COO Avista Corp","P51","Marian Durkin","P51 - Distribution Dispatch"]
[null,null,null,"P53","AVA","CEXO","VPUP","VPCS","ESOL","P53","Total Company","P53"," ","P53 - AM Moscow/Pullman"]
[null,null,null,"P53","CEXO","VPUP","VPCS","ESOL","P53","NULL","CEO & President","P53"," ","P53 - AM Moscow/Pullman"]
[null,null,null,"P53","ESOL","P53","NULL","NULL","NULL","NULL","Energy Solutions","P53","Pat Lynch","P53 - AM Moscow/Pullman"]
[null,null,null,"P53","P53","NULL","NULL","NULL","NULL","NULL","Reg Bus Mgr - Palouse","P53","Paul Kimmell","P53 - AM Moscow/Pullman"]
[null,null,null,"P53","VPCS","ESOL","P53","NULL","NULL","NULL","VP Customer Solutions","P53","Kevin Christie","P53 - AM Moscow/Pullman"]
[null,null,null,"P53","VPUP","VPCS","ESOL","P53","NULL","NULL","President & COO Avista Corp","P53","Marian Durkin","P53 - AM Moscow/Pullman"]
[null,null,null,"P59","AVA","CEXO","VPUP","INFO","INFR","P59","Total Company","P59"," ","P59 - Tech Service Center"]
[null,null,null,"P59","CEXO","VPUP","INFO","INFR","P59","NULL","CEO & President","P59"," ","P59 - Tech Service Center"]
[null,null,null,"P59","INFO","INFR","P59","NULL","NULL","NULL","VP Info & Security","P59","Jim Kensok","P59 - Tech Service Center"]
[null,null,null,"P59","INFR","P59","NULL","NULL","NULL","NULL","Infrastructure Technology Summary","P59","Jim Corder","P59 - Tech Service Center"]
[null,null,null,"P59","P59","NULL","NULL","NULL","NULL","NULL","Technology Service Center","P59","Jim Corder","P59 - Tech Service Center"]
[null,null,null,"T03","AVA","AVIS","T03","NULL","NULL","NULL","Total Company","NULL","NULL","N54 - Strategic Initiatives"]
[null,null,null,"T03","AVIS","T03","NULL","NULL","NULL","NULL","Avista Subsidiaries","NULL","Scott Morris","N54 - Strategic Initiatives"]
[null,null,null,"T03","T03","NULL","NULL","NULL","NULL","NULL","Avista Labs","NULL","NULL","N54 - Strategic Initiatives"]
[null,null,null,"P59","VPUP","INFO","INFR","P59","NULL","NULL","President & COO Avista Corp","P59","Marian Durkin",{"$f":"VLOOKUP(L772,Table1,2)","v":"P59 - Tech Service Center"}]
[null,null,null,"P99","AVA","CEXO","VPUP","INFO","INFR","P99","Total Company","P99"," ","P99 - IT Director"]
[null,null,null,"P99","CEXO","VPUP","INFO","INFR","P99","NULL","CEO & President","P99"," ","P99 - IT Director"]
[null,null,null,"P99","INFO","INFR","P99","NULL","NULL","NULL","VP Info & Security","P99","Jim Kensok","P99 - IT Director"]
[null,null,null,"P99","INFR","P99","NULL","NULL","NULL","NULL","Infrastructure Technology Summary","P99","Jim Corder","P99 - IT Director"]
[null,null,null,"P99","P99","NULL","NULL","NULL","NULL","NULL","IT Director","P99","Jim Corder","P99 - IT Director"]
[null,null,null,"P99","VPUP","INFO","INFR","P99","NULL","NULL","President & COO Avista Corp","P99","Marian Durkin","P99 - IT Director"]
[null,null,null,"Q19","APPS","ISOP","Q19","NULL","NULL","NULL","Applications Summary","Q19","Hossein Nikdel","Q19 - Qlty Assur & Rel Mgmt"]
[null,null,null,"Q19","AVA","CEXO","VPUP","INFO","APPS","ISOP","Total Company","Q19"," ","Q19 - Qlty Assur & Rel Mgmt"]
[null,null,null,"Q19","CEXO","VPUP","INFO","APPS","ISOP","Q19","CEO & President","Q19"," ","Q19 - Qlty Assur & Rel Mgmt"]
[null,null,null,"Q19","INFO","APPS","ISOP","Q19","NULL","NULL","VP Info & Security","Q19","Jim Kensok","Q19 - Qlty Assur & Rel Mgmt"]
[null,null,null,"Q19","ISOP","Q19","NULL","NULL","NULL","NULL","IS Operations Rollup","Q19","Hossein Nikdel","Q19 - Qlty Assur & Rel Mgmt"]
[null,null,null,"T50","AVA","CEXO","VPUP","VPCS","BCED","T50","Total Company","T50","NULL","T50 - Econ Develop Analyst"]
[null,null,null,"T50","BCED","T50","NULL","NULL","NULL","NULL","Business, Community & Econ Dev","T50","NULL","T50 - Econ Develop Analyst"]
[null,null,null,"T50","CEXO","VPUP","VPCS","BCED","T50","NULL","CEO & President","T50","NULL","T50 - Econ Develop Analyst"]
[null,null,null,"T50","T50","NULL","NULL","NULL","NULL","NULL","Economic Development - Analyst","T50","NULL","T50 - Econ Develop Analyst"]
[null,null,null,"T50","VPUP","VPCS","BCED","T50","NULL","NULL","President & COO Avista Corp","T50","Dennis Vermillion","T50 - Econ Develop Analyst"]
[null,null,null,"Q19","Q19","NULL","NULL","NULL","NULL","NULL","Quality Assurance & Release Management","Q19","Graham Smith","Q19 - Qlty Assur & Rel Mgmt"]
[null,null,null,"Q19","VPUP","INFO","APPS","ISOP","Q19","NULL","President & COO Avista Corp","Q19","Marian Durkin","Q19 - Qlty Assur & Rel Mgmt"]
[null,null,null,"R09","AVA","CEXO","VPUP","INFO","INFR","ITSE","Total Company","R09"," ","R09 - Communicated Systems"]
[null,null,null,"R09","CEXO","VPUP","INFO","INFR","ITSE","R09","CEO & President","R09"," ","R09 - Communicated Systems"]
[null,null,null,"R09","INFO","INFR","ITSE","R09","NULL","NULL","VP Info & Security","R09","Jim Kensok","R09 - Communicated Systems"]
[null,null,null,"R09","INFR","ITSE","R09","NULL","NULL","NULL","Infrastructure Technology Summary","R09","Jim Corder","R09 - Communicated Systems"]
[null,null,null,"R09","ITSE","R09","NULL","NULL","NULL","NULL","System Engineering Rollup","R09","Walter Roys","R09 - Communicated Systems"]
[null,null,null,"R09","R09","NULL","NULL","NULL","NULL","NULL","Communication Systems Engineering","R09","Walter Roys","R09 - Communicated Systems"]
[null,null,null,"T53","AVA","CEXO","VPUP","VPOP","CNST","T53","Total Company","T53","NULL","T53 - South East Engineer"]
[null,null,null,"T53","CEXO","VPUP","VPOP","CNST","T53","NULL","CEO & President","T53","NULL","T53 - South East Engineer"]
[null,null,null,"T53","T53","NULL","NULL","NULL","NULL","NULL","South Region Ops Engr","T53","NULL","T53 - South East Engineer"]
[null,null,null,"T53","VPOP","CNST","T53","NULL","NULL","NULL","VP Operations","T53","NULL","T53 - South East Engineer"]
[null,null,null,"T53","VPUP","VPOP","CNST","T53","NULL","NULL","President & COO Avista Corp","T53","Dennis Vermillion","T53 - South East Engineer"]
[null,null,null,"T55","AVA","CEXO","VPUP","VPPS","0055","T55","Total Company","T55","NULL","T54 - Rev and Fin Systems"]
[null,null,null,"T55","CEXO","VPUP","VPPS","0055","T55","NULL","CEO & President","T55","NULL","T54 - Rev and Fin Systems"]
[null,null,null,"T55","T55","NULL","NULL","NULL","NULL","NULL","Regional Power Issues","T55","NULL","T54 - Rev and Fin Systems"]
[null,null,null,"T55","VPPS","0055","T55","NULL","NULL","NULL","VP Energy Resources","T55","Jason Thackston","T54 - Rev and Fin Systems"]
[null,null,null,"R09","VPUP","INFO","INFR","ITSE","R09","NULL","President & COO Avista Corp","R09","Marian Durkin","R09 - Communicated Systems"]
[null,null,null,"R11","AVA","CEXO","VPUP","VPRR","R11","NULL","Total Company","R11"," ","R11 - Rates & Regulations"]
[null,null,null,"R11","CEXO","VPUP","VPRR","R11","NULL","NULL","CEO & President","R11"," ","R11 - Rates & Regulations"]
[null,null,null,"R11","R11","NULL","NULL","NULL","NULL","NULL","Rates & Regulations","R11","Kelly Norwood","R11 - Rates & Regulations"]
[null,null,null,"R11","VPRR","R11","NULL","NULL","NULL","NULL","VP Rates and Regs","R11","Dennis Vermillion","R11 - Rates & Regulations"]
[null,null,null,"R11","VPUP","VPRR","R11","NULL","NULL","NULL","President & COO Avista Corp","R11","Marian Durkin","R11 - Rates & Regulations"]
[null,null,null,"R19","AVA","CEXO","VPUP","INFO","INFR","ITOP","Total Company","R19"," ","R19 - Comm Systems Ops"]
[null,null,null,"R19","CEXO","VPUP","INFO","INFR","ITOP","R19","CEO & President","R19"," ","R19 - Comm Systems Ops"]
[null,null,null,"R19","INFO","INFR","ITOP","R19","NULL","NULL","VP Info & Security","R19","Jim Kensok","R19 - Comm Systems Ops"]
[null,null,null,"R19","INFR","ITOP","R19","NULL","NULL","NULL","Infrastructure Technology Summary","R19","Jim Corder","R19 - Comm Systems Ops"]
[null,null,null,"R19","ITOP","R19","NULL","NULL","NULL","NULL","IT Operations Rollup","R19","Michael Busby","R19 - Comm Systems Ops"]
[null,null,null,"R19","R19","NULL","NULL","NULL","NULL","NULL","Communication Systems Operations","R19","Michael Busby","R19 - Comm Systems Ops"]
[null,null,null,"R19","VPUP","INFO","INFR","ITOP","R19","NULL","President & COO Avista Corp","R19","Marian Durkin","R19 - Comm Systems Ops"]
[null,null,null,"R29","AVA","CEXO","VPUP","INFO","INFR","ITSE","Total Company","R29"," ","R29 - Comm Sys Prod & Serv"]
[null,null,null,"R29","CEXO","VPUP","INFO","INFR","ITSE","R29","CEO & President","R29"," ","R29 - Comm Sys Prod & Serv"]
[null,null,null,"R29","INFO","INFR","ITSE","R29","NULL","NULL","VP Info & Security","R29","Jim Kensok","R29 - Comm Sys Prod & Serv"]
[null,null,null,"R29","INFR","ITSE","R29","NULL","NULL","NULL","Infrastructure Technology Summary","R29","Jim Corder","R29 - Comm Sys Prod & Serv"]
[null,null,null,"R29","ITSE","R29","NULL","NULL","NULL","NULL","System Engineering Rollup","R29","Walter Roys","R29 - Comm Sys Prod & Serv"]
[null,null,null,"R29","R29","NULL","NULL","NULL","NULL","NULL","Communication Systems Products & Service","R29","Walter Roys","R29 - Comm Sys Prod & Serv"]
[null,null,null,"R29","VPUP","INFO","INFR","ITSE","R29","NULL","President & COO Avista Corp","R29","Marian Durkin","R29 - Comm Sys Prod & Serv"]
[null,null,null,"R51","AVA","CEXO","VPUP","VPOP","ENGR","DSGN","Total Company","R51"," ","R51 - Joint Use Projects-Distribution"]
[null,null,null,"R51","CEXO","VPUP","VPOP","ENGR","DSGN","R51","CEO & President","R51"," ","R51 - Joint Use Projects-Distribution"]
[null,null,null,"R51","DSGN","R51","NULL","NULL","NULL","NULL","Construction Design","R51","Steve Plewman","R51 - Joint Use Projects-Distribution"]
[null,null,null,"R51","ENGR","DSGN","R51","NULL","NULL","NULL","Electric Engineering","R51","David Howell","R51 - Joint Use Projects-Distribution"]
[null,null,null,"R51","R51","NULL","NULL","NULL","NULL","NULL","Joint Use Projects - Distribution","R51","Steve Plewman","R51 - Joint Use Projects-Distribution"]
[null,null,null,"R51","VPOP","ENGR","DSGN","R51","NULL","NULL","VP Energy Delivery","R51","Jason Thackston","R51 - Joint Use Projects-Distribution"]
[null,null,null,"R51","VPUP","VPOP","ENGR","DSGN","R51","NULL","President & COO Avista Corp","R51","Marian Durkin","R51 - Joint Use Projects-Distribution"]
[null,null,null,"R53","AVA","CEXO","VPUP","VPOP","EAST","R53","Total Company","R53"," ","R53 - Grangeville"]
[null,null,null,"R53","CEXO","VPUP","VPOP","EAST","R53","NULL","CEO & President","R53"," ","R53 - Grangeville"]
[null,null,null,"R53","EAST","R53","NULL","NULL","NULL","NULL","Director Operations - East","R53","Greg Gfeller","R53 - Grangeville"]
[null,null,null,"R53","R53","NULL","NULL","NULL","NULL","NULL","Grangeville","R53","Jeff Schwendener",{"$f":"VLOOKUP(L836,Table1,2)","v":"R53 - Grangeville"}]
[null,null,null,"R53","VPOP","EAST","R53","NULL","NULL","NULL","VP Energy Delivery","R53","Jason Thackston","R53 - Grangeville"]
[null,null,null,"R53","VPUP","VPOP","EAST","R53","NULL","NULL","President & COO Avista Corp","R53","Marian Durkin","R53 - Grangeville"]
[null,null,null,"R54","AVA","CEXO","VPFO","VPFN","R54","NULL","Total Company","R54"," ","R54 - Risk Management"]
[null,null,null,"R54","CEXO","VPFO","VPFN","R54","NULL","NULL","CEO & President","R54"," ","R54 - Risk Management"]
[null,null,null,"R54","R54","NULL","NULL","NULL","NULL","NULL","Risk Management","R54","Pat Gorton","R54 - Risk Management"]
[null,null,null,"R54","VPFN","R54","NULL","NULL","NULL","NULL","Finance & Treasury","R54","Mark Thies","R54 - Risk Management"]
[null,null,null,"R54","VPFO","VPFN","R54","NULL","NULL","NULL","Sr. VP & CFO","R54","Marian Durkin","R54 - Risk Management"]
[null,null,null,"R55","AVA","CEXO","VPFO","VPFN","R55","NULL","Total Company","R55"," ","R55 - Resource Risk Mgmt"]
[null,null,null,"R55","CEXO","VPFO","VPFN","R55","NULL","NULL","CEO & President","R55"," ","R55 - Resource Risk Mgmt"]
[null,null,null,"R55","R55","NULL","NULL","NULL","NULL","NULL","Resource Risk Management","R55","Pat Gorton","R55 - Resource Risk Mgmt"]
[null,null,null,"R55","VPFN","R55","NULL","NULL","NULL","NULL","Finance & Treasury","R55","Mark Thies","R55 - Resource Risk Mgmt"]
[null,null,null,"N51","CUST","N51","NULL","NULL","NULL","NULL","Customer Service & Sales","N51","Mike Broemeling","N51 - Write-Off Accrual"]
[null,null,null,"N51","N51","NULL","NULL","NULL","NULL","NULL","Write-Off Accrual","N51","Mike Broemeling","N51 - Write-Off Accrual"]
[null,null,null,"N51","VPCS","CUST","N51","NULL","NULL","NULL","VP Customer Solutions","N51","Kevin Christie","N51 - Write-Off Accrual"]
[null,null,null,"N51","VPUP","VPCS","CUST","N51","NULL","NULL","President & COO Avista Corp","N51","Marian Durkin","N51 - Write-Off Accrual"]
[null,null,null,"N52","AVA","CEXO","VPUP","VPOP","N52","NULL","Total Company","N52"," ","N52 - Compass Replace Project"]
[null,null,null,"N52","CEXO","VPUP","VPOP","N52","NULL","NULL","CEO & President","N52"," ","N52 - Compass Replace Project"]
[null,null,null,"Z81","AVA","CEXO","VPFO","VPCC","Z81","NULL","Total Company","Z81","NULL","T54 - Rev and Fin Systems"]
[null,null,null,"Z81","CEXO","VPFO","VPCC","Z81","NULL","NULL","CEO & President","Z81","NULL","T54 - Rev and Fin Systems"]
[null,null,null,"Z81","VPCC","Z81","NULL","NULL","NULL","NULL","VP Corporate Controller","Z81","Ryan Krasselt","T54 - Rev and Fin Systems"]
[null,null,null,"Z81","VPFO","VPCC","Z81","NULL","NULL","NULL","Executive VP & CFO","Z81","Mark Thies","T54 - Rev and Fin Systems"]
[null,null,null,"Z81","Z81","NULL","NULL","NULL","NULL","NULL","WL1001 General Construction Admin/Acctng","Z81","NULL","T54 - Rev and Fin Systems"]
[null,null,null,"Z82","0007","Z82","NULL","NULL","NULL","NULL","Production & Generation","Z82","Andy Vickers","T54 - Rev and Fin Systems"]
[null,null,null,"Z82","AVA","CEXO","VPUP","VPPS","Z82","NULL","Total Company","Z82","NULL","T54 - Rev and Fin Systems"]
[null,null,null,"Z82","CEXO","VPUP","VPPS","Z82","NULL","NULL","CEO & President","Z82","NULL","T54 - Rev and Fin Systems"]
[null,null,null,"Z82","Z82","NULL","NULL","NULL","NULL","NULL","WL1002 Gen & Prod Engineering","Z82","NULL","T54 - Rev and Fin Systems"]
[null,null,null,"Z83","AVA","CEXO","VPUP","VPOP","ENGR","Z83","Total Company","Z83","NULL","T54 - Rev and Fin Systems"]
[null,null,null,"Z83","CEXO","VPUP","VPOP","ENSO","Z83","NULL","CEO & President","Z83","NULL","T54 - Rev and Fin Systems"]
[null,null,null,"Z83","ENGR","Z83","NULL","NULL","NULL","NULL","Electric Engineering","Z83","Heather Rosentrater","T54 - Rev and Fin Systems"]
[null,null,null,"Z83","ENSO","ENGR","Z83","NULL","NULL","NULL","Engineering & System Operations","Z83","NULL","T54 - Rev and Fin Systems"]
[null,null,null,"Z83","VPOP","ENSO","ENGR","Z83","NULL","NULL","VP Operations","Z83","NULL","T54 - Rev and Fin Systems"]
[null,null,null,"Z83","VPUP","VPOP","ENSO","ENGR","Z83","NULL","President & COO Avista Corp","Z83","Dennis Vermillion","T54 - Rev and Fin Systems"]
[null,null,null,"Z83","Z83","NULL","NULL","NULL","NULL","NULL","WL1003 Elec Trans Const & Engineering","Z83","NULL","T54 - Rev and Fin Systems"]
[null,null,null,"Z84","AVA","CEXO","VPUP","VPOP","ENGR","Z84","Total Company","Z84","NULL","T54 - Rev and Fin Systems"]
[null,null,null,"Z84","CEXO","VPUP","VPOP","ENSO","Z84","NULL","CEO & President","Z84","NULL","T54 - Rev and Fin Systems"]
[null,null,null,"Z84","ENGR","Z84","NULL","NULL","NULL","NULL","Electric Engineering","Z84","Heather Rosentrater","T54 - Rev and Fin Systems"]
[null,null,null,"Z84","ENSO","ENGR","Z84","NULL","NULL","NULL","Engineering & System Operations","Z84","NULL","T54 - Rev and Fin Systems"]
[null,null,null,"Z84","VPOP","ENSO","ENGR","Z84","Z84","NULL","VP Operations","Z84","NULL","T54 - Rev and Fin Systems"]
[null,null,null,"Z84","VPUP","VPOP","ENSO","ENGR","Z84","NULL","President & COO Avista Corp","Z84","Dennis Vermillion","T54 - Rev and Fin Systems"]
[null,null,null,"Z84","Z84","NULL","NULL","NULL","NULL","NULL","WL1004 Elec Distr Const & Engineering","Z84","NULL","T54 - Rev and Fin Systems"]
[null,null,null,"Z85","AVA","CEXO","VPUP","VPOP","Z85","NULL","Total Company","Z85","NULL","T54 - Rev and Fin Systems"]
[null,null,null,"Z85","CEXO","VPUP","VPOP","ENSO","Z85","NULL","CEO & President","Z85","NULL","T54 - Rev and Fin Systems"]
[null,null,null,"Z85","ENSO","Z85","NULL","NULL","NULL","NULL","Engineering & System Operations","Z85","NULL","T54 - Rev and Fin Systems"]
[null,null,null,"Z85","VPOP","ENSO","Z85","NULL","NULL","NULL","VP Operations","Z85","NULL","T54 - Rev and Fin Systems"]
[null,null,null,"Z85","Z85","NULL","NULL","NULL","NULL","NULL","WL1005 WA/ID Dist Const & Engr","Z85","NULL","T54 - Rev and Fin Systems"]
[null,null,null,"Z86","AVA","CEXO","VPUP","VPOP","Z86","NULL","Total Company","Z86","NULL","T54 - Rev and Fin Systems"]
[null,null,null,"Z86","CEXO","VPUP","VPOP","OREG","Z86","NULL","CEO & President","Z86","NULL","T54 - Rev and Fin Systems"]
[null,null,null,"Z86","OREG","Z86","NULL","NULL","NULL","NULL","Oregon Gas Operations","Z86","NULL","T54 - Rev and Fin Systems"]
[null,null,null,"Z86","VPUP","VPOP","NGAS","OREG","Z86","NULL","President & COO Avista Corp","Z86","Dennis Vermillion","T54 - Rev and Fin Systems"]
[null,null,null,"Z86","Z86","NULL","NULL","NULL","NULL","NULL","WL1006 OR/CA Const. & Engr","Z86","NULL","T54 - Rev and Fin Systems"]
[null,null,null,"R50","CNST","R50","NULL","NULL","NULL","NULL","Director of Ops WA & ID","R50","NULL","R50 - Spokane Construction Engineering"]
[null,null,null,"R56","AVA","CEXO","VPFO","VPFN","R56","NULL","Total Company","R56"," ","R56 - Insurance"]
[null,null,null,"R56","CEXO","VPFO","VPFN","R56","NULL","NULL","CEO & President","R56"," ","R56 - Insurance"]
[null,null,null,"R56","R56","NULL","NULL","NULL","NULL","NULL","Insurance Management","R56","Kellee Quick","R56 - Insurance"]
[null,null,null,"R56","VPFN","R56","NULL","NULL","NULL","NULL","Finance & Treasury","R56","Mark Thies","R56 - Insurance"]
[null,null,null,"R56","VPFO","VPFN","R56","NULL","NULL","NULL","Sr. VP & CFO","R56","Marian Durkin","R56 - Insurance"]
[null,null,null,"S01","AVA","CEXO","VPGC","S01","NULL","NULL","Total Company","S01"," ","S01 - VP & Counsl-Regultry/Govt Affairs"]
[null,null,null,"S01","CEXO","VPGC","S01","NULL","NULL","NULL","CEO & President","S01"," ","S01 - VP & Counsl-Regultry/Govt Affairs"]
[null,null,null,"S01","S01","NULL","NULL","NULL","NULL","NULL","VP & Counsel for Regulatory/Govt Affairs","S01","Keri Meister","S01 - VP & Counsl-Regultry/Govt Affairs"]
[null,null,null,"S01","VPGC","S01","NULL","NULL","NULL","NULL","Sr. VP & General Counsel","S01","Karen Feltes","S01 - VP & Counsl-Regultry/Govt Affairs"]
[null,null,null,"S03","AVA","CEXO","AVIS","S03","NULL","NULL","Total Company","S03"," ","S03 - Advantage IQ"]
[null,null,null,"S03","AVIS","S03","NULL","NULL","NULL","NULL","Avista Subsidiaries","S03","Adam Munson","S03 - Advantage IQ"]
[null,null,null,"S03","CEXO","AVIS","S03","NULL","NULL","NULL","CEO & President","S03"," ","S03 - Advantage IQ"]
[null,null,null,"S03","S03","NULL","NULL","NULL","NULL","NULL","Avista Advantage","S03","John Wilcox",{"$f":"VLOOKUP(L900,Table1,2)","v":"S03 - Advantage IQ"}]
[null,null,null,"S04","AVA","CEXO","AVIS","S04","NULL","NULL","Total Company","S04"," ","S04 - SPS CYOC Mgmt Oversight"]
[null,null,null,"S04","AVIS","S04","NULL","NULL","NULL","NULL","Avista Subsidiaries","S04","Adam Munson","S04 - SPS CYOC Mgmt Oversight"]
[null,null,null,"S04","CEXO","AVIS","S04","NULL","NULL","NULL","CEO & President","S04"," ","S04 - SPS CYOC Mgmt Oversight"]
[null,null,null,"S04","S04","NULL","NULL","NULL","NULL","NULL","SPS CYOC Mgmt Oversight","S04","Bob Lafferty","S04 - SPS CYOC Mgmt Oversight"]
[null,null,null,"S05","AVA","CEXO","AVIS","S05","NULL","NULL","Total Company","S05"," ","S05 - Salix"]
[null,null,null,"S05","AVIS","S05","NULL","NULL","NULL","NULL","Avista Subsidiaries","S05","Adam Munson","S05 - Salix"]
[null,null,null,"S05","CEXO","AVIS","S05","NULL","NULL","NULL","CEO & President","S05"," ","S05 - Salix"]
[null,null,null,"S05","S05","NULL","NULL","NULL","NULL","NULL","Salix","S05","Hossein Nikdel","S05 - Salix"]
[null,null,null,"S09","APPS","S09","NULL","NULL","NULL","NULL","Applications Summary","S09","Hossein Nikdel","S09 - Apps Operations & Supp"]
[null,null,null,"S09","AVA","CEXO","VPUP","INFO","APPS","S09","Total Company","S09"," ","S09 - Apps Operations & Supp"]
[null,null,null,"S09","CEXO","VPUP","INFO","APPS","S09","NULL","CEO & President","S09"," ","S09 - Apps Operations & Supp"]
[null,null,null,"S09","INFO","APPS","S09","NULL","NULL","NULL","VP Info & Security","S09","Jim Kensok","S09 - Apps Operations & Supp"]
[null,null,null,"S09","S09","NULL","NULL","NULL","NULL","NULL","IS Products & Services","S09","Jason Pitts","S09 - Apps Operations & Supp"]
[null,null,null,"S09","VPUP","INFO","APPS","S09","NULL","NULL","President & COO Avista Corp","S09","Marian Durkin","S09 - Apps Operations & Supp"]
[null,null,null,"S19","APPS","ISOP","S19","NULL","NULL","NULL","Applications Summary","S19","Hossein Nikdel","S19 - Integrations Operations"]
[null,null,null,"S19","AVA","CEXO","VPUP","INFO","APPS","ISOP","Total Company","S19"," ","S19 - Integrations Operations"]
[null,null,null,"S19","CEXO","VPUP","INFO","APPS","ISOP","S19","CEO & President","S19"," ","S19 - Integrations Operations"]
[null,null,null,"S19","INFO","APPS","ISOP","S19","NULL","NULL","VP Info & Security","S19","Jim Kensok","S19 - Integrations Operations"]
[null,null,null,"S19","ISOP","S19","NULL","NULL","NULL","NULL","IS Operations Rollup","S19","Hossein Nikdel","S19 - Integrations Operations"]
[null,null,null,"S19","S19","NULL","NULL","NULL","NULL","NULL","Integrations Operations","S19","Mark Thies","S19 - Integrations Operations"]
[null,null,null,"S19","VPUP","INFO","APPS","ISOP","S19","NULL","President & COO Avista Corp","S19","Marian Durkin","S19 - Integrations Operations"]
[null,null,null,"S20","AVA","CEXO","VPFO","VPFN","S20","NULL","Total Company","S20"," ","S20 - Director of Finance"]
[null,null,null,"S20","CEXO","VPFO","VPFN","S20","NULL","NULL","CEO & President","S20"," ","S20 - Director of Finance"]
[null,null,null,"S20","S20","NULL","NULL","NULL","NULL","NULL","Director of Finance","S20","Mike Mudge","S20 - Director of Finance"]
[null,null,null,"S20","VPFN","S20","NULL","NULL","NULL","NULL","Finance & Treasury","S20","Mark Thies","S20 - Director of Finance"]
[null,null,null,"S20","VPFO","VPFN","S20","NULL","NULL","NULL","Sr. VP & CFO","S20","Marian Durkin","S20 - Director of Finance"]
[null,null,null,"S39","APPS","ISDV","S39","NULL","NULL","NULL","Applications Summary","S39","Hossein Nikdel","S39 - Integrations Development"]
[null,null,null,"S39","AVA","CEXO","VPUP","INFO","APPS","ISDV","Total Company","S39"," ","S39 - Integrations Development"]
[null,null,null,"S39","CEXO","VPUP","INFO","APPS","ISDV","S39","CEO & President","S39"," ","S39 - Integrations Development"]
[null,null,null,"S39","INFO","APPS","ISDV","S39","NULL","NULL","VP Info & Security","S39","Jim Kensok","S39 - Integrations Development"]
[null,null,null,"S39","ISDV","S39","NULL","NULL","NULL","NULL","IS Development Rollup","S39","Hossein Nikdel","S39 - Integrations Development"]
[null,null,null,"S39","S39","NULL","NULL","NULL","NULL","NULL","Integrations Development","S39","Steve Plewman","S39 - Integrations Development"]
[null,null,null,"S39","VPUP","INFO","APPS","ISDV","S39","NULL","President & COO Avista Corp","S39","Marian Durkin","S39 - Integrations Development"]
[null,null,null,"S50","AVA","CEXO","VPUP","VPOP","ENGR","DSGN","Total Company","S50"," ","S50 - Construction Services"]
[null,null,null,"S50","CEXO","VPUP","VPOP","ENGR","DSGN","S50","CEO & President","S50"," ","S50 - Construction Services"]
[null,null,null,"S50","DSGN","S50","NULL","NULL","NULL","NULL","Construction Design","S50","Steve Plewman","S50 - Construction Services"]
[null,null,null,"S50","ENGR","DSGN","S50","NULL","NULL","NULL","Electric Engineering","S50","David Howell","S50 - Construction Services"]
[null,null,null,"S50","S50","NULL","NULL","NULL","NULL","NULL","Construction Services","S50","Steve Plewman","S50 - Construction Services"]
[null,null,null,"S50","VPOP","ENGR","DSGN","S50","NULL","NULL","VP Energy Delivery","S50","Jason Thackston","S50 - Construction Services"]
[null,null,null,"S50","VPUP","VPOP","ENGR","DSGN","S50","NULL","President & COO Avista Corp","S50","Marian Durkin","S50 - Construction Services"]
[null,null,null,"S51","AVA","CEXO","VPUP","VPOP","CENT","S51","Total Company","S51"," ","S51 - Supply Chain Loadings"]
[null,null,null,"S51","CENT","S51","NULL","NULL","NULL","NULL","Centralized Services - Energy Delivery","S51","Heather Rosentrater","S51 - Supply Chain Loadings"]
[null,null,null,"S51","CEXO","VPUP","VPOP","CENT","S51","NULL","CEO & President","S51"," ","S51 - Supply Chain Loadings"]
[null,null,null,"S51","S51","NULL","NULL","NULL","NULL","NULL","Supply Chain Loadings","S51","Anna Scarlett","S51 - Supply Chain Loadings"]
[null,null,null,"S51","VPOP","CENT","S51","NULL","NULL","NULL","VP Energy Delivery","S51","Jason Thackston","S51 - Supply Chain Loadings"]
[null,null,null,"S51","VPUP","VPOP","CENT","S51","NULL","NULL","President & COO Avista Corp","S51","Marian Durkin","S51 - Supply Chain Loadings"]
[null,null,null,"S52","AVA","CEXO","VPUP","VPOP","SERV","S52","Total Company","S52"," ","S51 - Supply Chain Loadings"]
[null,null,null,"S52","CEXO","VPUP","VPOP","SERV","S52","NULL","CEO & President","S52"," ","S51 - Supply Chain Loadings"]
[null,null,null,"S52","S52","NULL","NULL","NULL","NULL","NULL","Sr Mgr of Shared Services","S52","Anna Scarlett","S51 - Supply Chain Loadings"]
[null,null,null,"S52","SERV","S52","NULL","NULL","NULL","NULL","Shared Services","S52","Dennis Vermillion","S51 - Supply Chain Loadings"]
[null,null,null,"S52","VPOP","SERV","S52","NULL","NULL","NULL","VP Energy Delivery","S52","Jason Thackston","S51 - Supply Chain Loadings"]
[null,null,null,"S52","VPUP","VPOP","SERV","S52","NULL","NULL","President & COO Avista Corp","S52","Marian Durkin","S51 - Supply Chain Loadings"]
[null,null,null,"S53","AVA","CEXO","VPUP","VPOP","EAST","S53","Total Company","S53"," ","S53 - St. Maries"]
[null,null,null,"S53","CEXO","VPUP","VPOP","EAST","S53","NULL","CEO & President","S53"," ","S53 - St. Maries"]
[null,null,null,"S53","EAST","S53","NULL","NULL","NULL","NULL","Director Operations - East","S53","Greg Gfeller","S53 - St. Maries"]
[null,null,null,"S53","S53","NULL","NULL","NULL","NULL","NULL","St Maries","S53","Dana Anderson","S53 - St. Maries"]
[null,null,null,"S53","VPOP","EAST","S53","NULL","NULL","NULL","VP Energy Delivery","S53","Jason Thackston","S53 - St. Maries"]
[null,null,null,"S53","VPUP","VPOP","EAST","S53","NULL","NULL","President & COO Avista Corp","S53","Marian Durkin","S53 - St. Maries"]
[null,null,null,"S54","AVA","CEXO","VPUP","VPCS","CSOL","S54","Total Company","S54"," ","S54 - External Communications"]
[null,null,null,"S54","CEXO","VPUP","VPCS","CSOL","S54","NULL","CEO & President","S54"," ","S54 - External Communications"]
[null,null,null,"S54","CSOL","S54","NULL","NULL","NULL","NULL","Customer Solutions","S54","Kevin Christie","S54 - External Communications"]
[null,null,null,"S54","S54","NULL","NULL","NULL","NULL","NULL","External Communications","S54","Clay Storey","S54 - External Communications"]
[null,null,null,"S54","VPCS","CSOL","S54","NULL","NULL","NULL","VP Customer Solutions","S54","Kevin Christie","S54 - External Communications"]
[null,null,null,"S54","VPUP","VPCS","CSOL","S54","NULL","NULL","President & COO Avista Corp","S54","Marian Durkin",{"$f":"VLOOKUP(L964,Table1,2)","v":"S54 - External Communications"}]
[null,null,null,"T01","AVA","CEXO","VPUP","T01","NULL","NULL","Total Company","T01"," ","T01 - Utility President"]
[null,null,null,"T01","CEXO","VPUP","T01","NULL","NULL","NULL","CEO & President","T01"," ","T01 - Utility President"]
[null,null,null,"T01","T01","NULL","NULL","NULL","NULL","NULL","President & COO Avista Corp","T01","Tom Dempsey","T01 - Utility President"]
[null,null,null,"T01","VPUP","T01","NULL","NULL","NULL","NULL","President & COO Avista Corp","T01","Marian Durkin","T01 - Utility President"]
[null,null,null,"T07","0007","T07","NULL","NULL","NULL","NULL","Gen Prod Sub Support","T07","Andy Vickers","T07 - Spokane Area Thermal"]
[null,null,null,"T07","AVA","CEXO","VPUP","VPPS","0007","T07","Total Company","T07"," ","T07 - Spokane Area Thermal"]
[null,null,null,"T07","CEXO","VPUP","VPPS","0007","T07","NULL","CEO & President","T07"," ","T07 - Spokane Area Thermal"]
[null,null,null,"T07","T07","NULL","NULL","NULL","NULL","NULL","Spokane Area Thermal","T07","David Howell","T07 - Spokane Area Thermal"]
[null,null,null,"T07","VPPS","0007","T07","NULL","NULL","NULL","Sr. VP Energy Resources","T07","Kelly Norwood","T07 - Spokane Area Thermal"]
[null,null,null,"T07","VPUP","VPPS","0007","T07","NULL","NULL","President & COO Avista Corp","T07","Marian Durkin","T07 - Spokane Area Thermal"]
[null,null,null,"T08","AVA","CEXO","VPUP","VPOP","ENGR","T08","Total Company","T08"," ","T08 - Electric Engineer"]
[null,null,null,"T08","CEXO","VPUP","VPOP","ENGR","T08","NULL","CEO & President","T08"," ","T08 - Electric Engineer"]
[null,null,null,"T08","ENGR","T08","NULL","NULL","NULL","NULL","Electric Engineering","T08","David Howell","T08 - Electric Engineer"]
[null,null,null,"T08","T08","NULL","NULL","NULL","NULL","NULL","Electrical Engineering","T08","Karen Urion","T08 - Electric Engineer"]
[null,null,null,"T08","VPOP","ENGR","T08","NULL","NULL","NULL","VP Energy Delivery","T08","Jason Thackston","T08 - Electric Engineer"]
[null,null,null,"T08","VPUP","VPOP","ENGR","T08","NULL","NULL","President & COO Avista Corp","T08","Marian Durkin","T08 - Electric Engineer"]
[null,null,null,"T19","APPS","ISOP","T19","NULL","NULL","NULL","Applications Summary","T19","Hossein Nikdel","T19 - CC&B Operations"]
[null,null,null,"T19","AVA","CEXO","VPUP","INFO","APPS","ISOP","Total Company","T19"," ","T19 - CC&B Operations"]
[null,null,null,"T19","CEXO","VPUP","INFO","APPS","ISOP","T19","CEO & President","T19"," ","T19 - CC&B Operations"]
[null,null,null,"T19","INFO","APPS","ISOP","T19","NULL","NULL","VP Info & Security","T19","Jim Kensok","T19 - CC&B Operations"]
[null,null,null,"T19","ISOP","T19","NULL","NULL","NULL","NULL","IS Operations Rollup","T19","Hossein Nikdel","T19 - CC&B Operations"]
[null,null,null,"T19","T19","NULL","NULL","NULL","NULL","NULL","CC&B Operations","T19","Mike Mudge","T19 - CC&B Operations"]
[null,null,null,"T19","VPUP","INFO","APPS","ISOP","T19","NULL","President & COO Avista Corp","T19","Marian Durkin","T19 - CC&B Operations"]
[null,null,null,"T39","APPS","ISDV","T39","NULL","NULL","NULL","Applications Summary","T39","Hossein Nikdel","T39 - CC&B Development"]
[null,null,null,"T39","AVA","CEXO","VPUP","INFO","APPS","ISDV","Total Company","T39"," ","T39 - CC&B Development"]
[null,null,null,"T39","CEXO","VPUP","INFO","APPS","ISDV","T39","CEO & President","T39"," ","T39 - CC&B Development"]
[null,null,null,"T39","INFO","APPS","ISDV","T39","NULL","NULL","VP Info & Security","T39","Jim Kensok","T39 - CC&B Development"]
[null,null,null,"T39","ISDV","T39","NULL","NULL","NULL","NULL","IS Development Rollup","T39","Hossein Nikdel","T39 - CC&B Development"]
[null,null,null,"T39","T39","NULL","NULL","NULL","NULL","NULL","CC&B Development","T39","Glenn Madden","T39 - CC&B Development"]
[null,null,null,"T39","VPUP","INFO","APPS","ISDV","T39","NULL","President & COO Avista Corp","T39","Marian Durkin","T39 - CC&B Development"]
[null,null,null,"10A","CORP","VPFO","AVIS","Depart","10A","NULL","Finance & Risk Management","NULL","NULL","N54 - Strategic Initiatives"]
[null,null,null,"11E","CORP","VPFO","AVIS","Depart","11E","NULL","Finance & Risk Management","11E","NULL","11E - AE Finance"]
[null,null,null,"20E","CORP","VPFO","AVIS","Depart","20E","NULL","Finance & Risk Management","20E","NULL","20E - AE - Marketing Spokane"]
[null,null,null,"40E","CORP","VPFO","AVIS","Depart","40E","NULL","Finance & Risk Management","40E","NULL","40E - AE - Risk"]
[null,null,null,"50E","CORP","VPFO","AVIS","Depart","50E","NULL","Finance & Risk Management","50E","NULL","50E - AE - Trading Spokane"]
[null,null,null,"60A","CORP","VPFO","AVIS","Depart","60A","NULL","Finance & Risk Management","NULL","NULL","N54 - Strategic Initiatives"]
[null,null,null,"T51","AVA","CEXO","VPUP","VPOP","WEST","MNTC","Total Company","T51"," ","T51 - Operations Project Management"]
[null,null,null,"T51","CEXO","VPUP","VPOP","WEST","MNTC","T51","CEO & President","T51"," ","T51 - Operations Project Management"]
[null,null,null,"A03","CORP","VPFO","AVIS","Depart","A03","NULL","Finance & Risk Management","NULL","NULL","N54 - Strategic Initiatives"]
[null,null,null,"T51","MNTC","T51","NULL","NULL","NULL","NULL","Asset Maintenance","T51","Glenn Madden","T51 - Operations Project Management"]
[null,null,null,"T51","T51","NULL","NULL","NULL","NULL","NULL","Operations Project Management","T51","Dan Johnson","T51 - Operations Project Management"]
[null,null,null,"T51","VPOP","WEST","MNTC","T51","NULL","NULL","VP Energy Delivery","T51","Jason Thackston","T51 - Operations Project Management"]
[null,null,null,"T51","VPUP","VPOP","WEST","MNTC","T51","NULL","President & COO Avista Corp","T51","Marian Durkin","T51 - Operations Project Management"]
[null,null,null,"T51","WEST","MNTC","T51","NULL","NULL","NULL","Director of Operations - West","T51"," ","T51 - Operations Project Management"]
[null,null,null,"T52","AVA","CEXO","VPUP","VPCS","CSOL","T52","Total Company","T52"," ","T52 - Demand Side Mgmt"]
[null,null,null,"T52","CEXO","VPUP","VPCS","CSOL","T52","NULL","CEO & President","T52"," ","T52 - Demand Side Mgmt"]
[null,null,null,"T52","CSOL","T52","NULL","NULL","NULL","NULL","Customer Solutions","T52","Kevin Christie","T52 - Demand Side Mgmt"]
[null,null,null,"T52","T52","NULL","NULL","NULL","NULL","NULL","WA - ID DSM","T52","Tami Judge","T52 - Demand Side Mgmt"]
[null,null,null,"A80","OPER","VPOP","NGAS","Depart","OREG","A80","Natural Gas Operations","A80","NULL","A80 - Director of ORCA"]
[null,null,null,"T52","VPCS","CSOL","T52","NULL","NULL","NULL","VP Customer Solutions","T52","Kevin Christie","T52 - Demand Side Mgmt"]
[null,null,null,"T52","VPUP","VPCS","CSOL","T52","NULL","NULL","President & COO Avista Corp","T52","Marian Durkin","T52 - Demand Side Mgmt"]
[null,null,null,"T54","AVA","CEXO","VPFO","VPCC","T54","NULL","Total Company","T54"," ","T54 - Rev and Fin Systems"]
[null,null,null,"A84","OPER","VPOP","NGAS","Depart","OREG","A84","Natural Gas Operations","A84","NULL","A84 -South Lake Tahoe"]
[null,null,null,"T54","CEXO","VPFO","VPCC","T54","NULL","NULL","CEO & President","T54"," ","T54 - Rev and Fin Systems"]
[null,null,null,"T54","T54","NULL","NULL","NULL","NULL","NULL","Revenue and Financial Systems","T54","Bryan Cox","T54 - Rev and Fin Systems"]
[null,null,null,"T54","VPCC","T54","NULL","NULL","NULL","NULL","VP Corporate Controller","T54","Kevin Christie","T54 - Rev and Fin Systems"]
[null,null,null,"T54","VPFO","VPCC","T54","NULL","NULL","NULL","Sr. VP & CFO","T54","Marian Durkin","T54 - Rev and Fin Systems"]
[null,null,null,"U01","AVA","CEXO","VPGC","U01","NULL","NULL","Total Company","U01"," ","T54 - Rev and Fin Systems"]
[null,null,null,"U01","CEXO","VPGC","U01","NULL","NULL","NULL","CEO & President","U01"," ","T54 - Rev and Fin Systems"]
[null,null,null,"U01","U01","NULL","NULL","NULL","NULL","NULL","Legal Staff","U01","Pat Lynch","T54 - Rev and Fin Systems"]
[null,null,null,"U01","VPGC","U01","NULL","NULL","NULL","NULL","Sr. VP & General Counsel","U01","Karen Feltes","T54 - Rev and Fin Systems"]
[null,null,null,"R55","VPFO","VPFN","R55","NULL","NULL","NULL","Sr. VP & CFO","R55","Marian Durkin","R55 - Resource Risk Mgmt"]
[null,null,null,"U50","AVA","CEXO","VPUP","VPCS","ESOL","U50","Total Company","U50"," ","T54 - Rev and Fin Systems"]
[null,null,null,"U50","CEXO","VPUP","VPCS","ESOL","U50","NULL","CEO & President","U50"," ",{"$f":"VLOOKUP(L1028,Table1,2)","v":"T54 - Rev and Fin Systems"}]
[null,null,null,"B81","OPER","VPOP","CUST","Depart","B81","NULL","Customer Service","B81","NULL","B81 - Contact Ctr-Medford"]
[null,null,null,"U50","ESOL","U50","NULL","NULL","NULL","NULL","Energy Solutions","U50","Pat Lynch","T54 - Rev and Fin Systems"]
[null,null,null,"U50","U50","NULL","NULL","NULL","NULL","NULL","Limited Income","U50","Marian Durkin","T54 - Rev and Fin Systems"]
[null,null,null,"U50","VPCS","ESOL","U50","NULL","NULL","NULL","VP Customer Solutions","U50","Kevin Christie","T54 - Rev and Fin Systems"]
[null,null,null,"U50","VPUP","VPCS","ESOL","U50","NULL","NULL","President & COO Avista Corp","U50","Marian Durkin","T54 - Rev and Fin Systems"]
[null,null,null,"V01","AVA","CEXO","VPGC","V01","NULL","NULL","Total Company","V01"," ","T54 - Rev and Fin Systems"]
[null,null,null,"V01","CEXO","VPGC","V01","NULL","NULL","NULL","CEO & President","V01"," ","T54 - Rev and Fin Systems"]
[null,null,null,"V01","V01","NULL","NULL","NULL","NULL","NULL","Sr. VP and General Counsel","V01","Rod Price","T54 - Rev and Fin Systems"]
[null,null,null,"V01","VPGC","V01","NULL","NULL","NULL","NULL","Sr. VP & General Counsel","V01","Karen Feltes","T54 - Rev and Fin Systems"]
[null,null,null,"V08","0004","V08","NULL","NULL","NULL","NULL","Environmental Affairs","V08","Bruce Howard","T54 - Rev and Fin Systems"]
[null,null,null,"V08","AVA","CEXO","VPGC","0004","V08","NULL","Total Company","V08"," ","T54 - Rev and Fin Systems"]
[null,null,null,"C55","OPER","VPPS","RSOP","Depart","0055","C55","Energy Resource Department","C55","Jason Thackston","C55 - Gas Resource Costs"]
[null,null,null,"V08","CEXO","VPGC","0004","V08","NULL","NULL","CEO & President","V08"," ","T54 - Rev and Fin Systems"]
[null,null,null,"V08","V08","NULL","NULL","NULL","NULL","NULL","Real Estate","V08","Karen Urion","T54 - Rev and Fin Systems"]
[null,null,null,"C81","OPER","VPOP","NGAS","Depart","OREG","C81","Natural Gas Operations","C81","NULL","C81 - Medford Tech Service"]
[null,null,null,"V08","VPGC","0004","V08","NULL","NULL","NULL","Sr. VP & General Counsel","V08","Karen Feltes","T54 - Rev and Fin Systems"]
[null,null,null,"V19","APPS","ISOP","V19","NULL","NULL","NULL","Applications Summary","V19","Hossein Nikdel","T54 - Rev and Fin Systems"]
[null,null,null,"D83","OPER","VPOP","WEST","Depart","D83","NULL","Director of Operations - West","D83","NULL","D83 - Goldendale Construction"]
[null,null,null,"E08","OPER","VPOP","WEST","Depart","E08","NULL","Director of Operations - West","E08","NULL","E08 - Old RC for Conversion"]
[null,null,null,"F51","OPER","VPOP","WEST","Depart","F51","NULL","Director of Operations - West","F51","NULL","F51 - G.I.S."]
[null,null,null,"G55","OPER","VPPS","RSOP","Depart","0055","G55","Energy Resource Department","G55","Jason Thackston","G55 - Power Purchases"]
[null,null,null,"B09","B09","NULL","NULL","NULL","NULL","NULL","Network Systems Operations","B09","Michael Busby","B09 - Network Operations"]
[null,null,null,"B09","CEXO","VPUP","INFO","INFR","ITOP","B09","CEO & President","B09"," ","B09 - Network Operations"]
[null,null,null,"B09","INFO","INFR","ITOP","B09","NULL","NULL","VP Info & Security","B09","Jim Kensok","B09 - Network Operations"]
[null,null,null,"B09","INFR","ITOP","B09","NULL","NULL","NULL","Infrastructure Technology Summary","B09","Jim Corder","B09 - Network Operations"]
[null,null,null,"B09","ITOP","B09","NULL","NULL","NULL","NULL","IT Operations Rollup","B09","Michael Busby","B09 - Network Operations"]
[null,null,null,"B09","VPUP","INFO","INFR","ITOP","B09","NULL","President & COO Avista Corp","B09","Marian Durkin","B09 - Network Operations"]
[null,null,null,"B16","AVA","CEXO","VPUP","B16","NULL","NULL","Total Company","B16"," ","B16 - Government Relations"]
[null,null,null,"B16","B16","NULL","NULL","NULL","NULL","NULL","Government Relations","B16","Collins Sprague","B16 - Government Relations"]
[null,null,null,"B16","CEXO","VPUP","B16","NULL","NULL","NULL","CEO & President","B16"," ","B16 - Government Relations"]
[null,null,null,"B16","VPUP","B16","NULL","NULL","NULL","NULL","President & COO Avista Corp","B16","Marian Durkin","B16 - Government Relations"]
[null,null,null,"B50","AVA","CEXO","VPUP","VPOP","WEST","B50","Total Company","B50"," ","B50 - Spokane Electric"]
[null,null,null,"B50","B50","NULL","NULL","NULL","NULL","NULL","Spokane Electric","B50","Kermit Olson","B50 - Spokane Electric"]
[null,null,null,"B50","CEXO","VPUP","VPOP","WEST","B50","NULL","CEO & President","B50"," ","B50 - Spokane Electric"]
[null,null,null,"B50","VPOP","WEST","B50","NULL","NULL","NULL","VP Energy Delivery","B50","Jason Thackston","B50 - Spokane Electric"]
[null,null,null,"K14","OPER","VPOP","CUST","Depart","K14","NULL","Customer Service","K14","NULL","K14 - Public Affairs"]
[null,null,null,"K50","OPER","VPOP","WEST","Depart","K50","NULL","Director of Operations - West","K50","NULL","K50 - Old RC - Conversion"]
[null,null,null,"B50","VPUP","VPOP","WEST","B50","NULL","NULL","President & COO Avista Corp","B50","Marian Durkin","B50 - Spokane Electric"]
[null,null,null,"B50","WEST","B50","NULL","NULL","NULL","NULL","Director of Operations - West","B50"," ","B50 - Spokane Electric"]
[null,null,null,"B51","AVA","CEXO","VPUP","VPOP","NGAS","GEGR","Total Company","B51"," ","B51 - Gas Engineering"]
[null,null,null,"B51","B51","NULL","NULL","NULL","NULL","NULL","Gas Engineering","B51","Jeff Webb","B51 - Gas Engineering"]
[null,null,null,"B51","CEXO","VPUP","VPOP","NGAS","GEGR","B51","CEO & President","B51"," ","B51 - Gas Engineering"]
[null,null,null,"B51","GEGR","B51","NULL","NULL","NULL","NULL","Gas Engineering","B51","Mike Faulkenberry","B51 - Gas Engineering"]
[null,null,null,"B51","NGAS","GEGR","B51","NULL","NULL","NULL","Natural Gas","B51","Mike Faulkenberry","B51 - Gas Engineering"]
[null,null,null,"B51","VPOP","NGAS","GEGR","B51","NULL","NULL","VP Energy Delivery","B51","Jason Thackston","B51 - Gas Engineering"]
[null,null,null,"B51","VPUP","VPOP","NGAS","GEGR","B51","NULL","President & COO Avista Corp","B51","Marian Durkin","B51 - Gas Engineering"]
[null,null,null,"B52","AVA","CEXO","VPUP","VPOP","NGAS","GEGR","Total Company","B52"," ","B52 - Gas Comp Cathodic"]
[null,null,null,"B52","B52","NULL","NULL","NULL","NULL","NULL","Gas Comp Cathodic","B52","Jeff Webb","B52 - Gas Comp Cathodic"]
[null,null,null,"B52","CEXO","VPUP","VPOP","NGAS","GEGR","B52","CEO & President","B52"," ","B52 - Gas Comp Cathodic"]
[null,null,null,"B52","GEGR","B52","NULL","NULL","NULL","NULL","Gas Engineering","B52","Mike Faulkenberry","B52 - Gas Comp Cathodic"]
[null,null,null,"B52","NGAS","GEGR","B52","NULL","NULL","NULL","Natural Gas","B52","Mike Faulkenberry","B52 - Gas Comp Cathodic"]
[null,null,null,"B52","VPOP","NGAS","GEGR","B52","NULL","NULL","VP Energy Delivery","B52","Jason Thackston","B52 - Gas Comp Cathodic"]
[null,null,null,"B52","VPUP","VPOP","NGAS","GEGR","B52","NULL","President & COO Avista Corp","B52","Marian Durkin","B52 - Gas Comp Cathodic"]
[null,null,null,"B53","AVA","CEXO","VPUP","VPOP","EAST","B53","Total Company","B53"," ","B53 - Pullman"]
[null,null,null,"B53","B53","NULL","NULL","NULL","NULL","NULL","Pullman","B53","Jenny Blaylock","B53 - Pullman"]
[null,null,null,"B53","CEXO","VPUP","VPOP","EAST","B53","NULL","CEO & President","B53"," ","B53 - Pullman"]
[null,null,null,"B53","EAST","B53","NULL","NULL","NULL","NULL","Director Operations - East","B53","Greg Gfeller","B53 - Pullman"]
[null,null,null,"B53","VPOP","EAST","B53","NULL","NULL","NULL","VP Energy Delivery","B53","Jason Thackston","B53 - Pullman"]
[null,null,null,"B53","VPUP","VPOP","EAST","B53","NULL","NULL","President & COO Avista Corp","B53","Marian Durkin","B53 - Pullman"]
[null,null,null,"B54","AVA","CEXO","VPUP","VPOP","NGAS","GEGR","Total Company","B54"," ","B54 - Gas Compliance"]
[null,null,null,"N53","OPER","VPOP","ESOL","Depart","N53","NULL","Energy Solutions","N53","NULL","N53 - AM Spokane West"]
[null,null,null,"B54","B54","NULL","NULL","NULL","NULL","NULL","Gas Compliance","B54","Karen Cash","B54 - Gas Compliance"]
[null,null,null,"B54","CEXO","VPUP","VPOP","NGAS","GEGR","B54","CEO & President","B54"," ","B54 - Gas Compliance"]
[null,null,null,"B54","GEGR","B54","NULL","NULL","NULL","NULL","Gas Engineering","B54","Mike Faulkenberry",{"$f":"VLOOKUP(L1092,Table1,2)","v":"B54 - Gas Compliance"}]
[null,null,null,"B54","NGAS","GEGR","B54","NULL","NULL","NULL","Natural Gas","B54","Mike Faulkenberry","B54 - Gas Compliance"]
[null,null,null,"B54","VPOP","NGAS","GEGR","B54","NULL","NULL","VP Energy Delivery","B54","Jason Thackston","B54 - Gas Compliance"]
[null,null,null,"B54","VPUP","VPOP","NGAS","GEGR","B54","NULL","President & COO Avista Corp","B54","Marian Durkin","B54 - Gas Compliance"]
[null,null,null,"B56","AVA","CEXO","VPUP","VPOP","TRAN","B56","Total Company","B56"," ","B56 - Misc Transmission Expense"]
[null,null,null,"R03","CORP","VPFO","AVIS","Depart","R03","NULL","Finance & Risk Management","R03","NULL","R03 - Avista Energy"]
[null,null,null,"B56","B56","NULL","NULL","NULL","NULL","NULL","Misc Transmission Expense","B56","Jeff Schlect","B56 - Misc Transmission Expense"]
[null,null,null,"B56","CEXO","VPUP","VPOP","TRAN","B56","NULL","CEO & President","B56"," ","B56 - Misc Transmission Expense"]
[null,null,null,"R50","OPER","VPOP","WEST","Depart","R50","NULL","Director of Operations - West","R50","NULL","R50 - Spokane Construction Engineering"]
[null,null,null,"B56","TRAN","B56","NULL","NULL","NULL","NULL","Transmission","B56","Bill Abrahamse","B56 - Misc Transmission Expense"]
[null,null,null,"B56","VPOP","TRAN","B56","NULL","NULL","NULL","VP Energy Delivery","B56","Jason Thackston","B56 - Misc Transmission Expense"]
[null,null,null,"B56","VPUP","VPOP","TRAN","B56","NULL","NULL","President & COO Avista Corp","B56","Marian Durkin","B56 - Misc Transmission Expense"]
[null,null,null,"C02","AVA","CEXO","VPHR","C02","NULL","NULL","Total Company","C02"," ","C02 - Employee Engagement"]
[null,null,null,"C02","C02","NULL","NULL","NULL","NULL","NULL","Internal Communications","C02","Karen Feltes","C02 - Employee Engagement"]
[null,null,null,"S08","OPER","VPOP","SERV","Depart","S08","NULL","Shared Services","S08","NULL","S08 - Strategic Projects Development"]
[null,null,null,"C02","CEXO","VPHR","C02","NULL","NULL","NULL","CEO & President","C02"," ","C02 - Employee Engagement"]
[null,null,null,"C02","VPHR","C02","NULL","NULL","NULL","NULL","Sr. VP Human Resources","C02","Heather Rosentrater","C02 - Employee Engagement"]
[null,null,null,"C04","0004","C04","NULL","NULL","NULL","NULL","Environmental Affairs","C04","Bruce Howard","C04 - Spokane River License"]
[null,null,null,"C04","AVA","CEXO","VPGC","0004","C04","NULL","Total Company","C04"," ","C04 - Spokane River License"]
[null,null,null,"C04","C04","NULL","NULL","NULL","NULL","NULL","Spokane River License","C04","Speed (Elvin) Fitzhugh","C04 - Spokane River License"]
[null,null,null,"T03","CORP","VPFO","AVIS","Depart","T03","NULL","Finance & Risk Management","NULL","NULL","N54 - Strategic Initiatives"]
[null,null,null,"C04","CEXO","VPGC","0004","C04","NULL","NULL","CEO & President","C04"," ","C04 - Spokane River License"]
[null,null,null,"C04","VPGC","0004","C04","NULL","NULL","NULL","Sr. VP & General Counsel","C04","Karen Feltes","C04 - Spokane River License"]
[null,null,null,"T50","OPER","VPOP","CUST","Depart","T50","NULL","Customer Service","T50","NULL","T50 - Econ Develop Analyst"]
[null,null,null,"C06","AVA","CEXO","VPUP","VPPS","RSRC","C06","Total Company","C06"," ","C06 - Joint Project - CS2"]
[null,null,null,"C06","C06","NULL","NULL","NULL","NULL","NULL","Joint Project - CS2","C06","Tom Dempsey","C06 - Joint Project - CS2"]
[null,null,null,"T53","OPER","VPOP","WEST","Depart","T53","NULL","Director of Operations - West","T53","NULL","T53 - South East Engineer"]
[null,null,null,"C06","CEXO","VPUP","VPPS","RSRC","C06","NULL","CEO & President","C06"," ","C06 - Joint Project - CS2"]
[null,null,null,"C06","RSRC","C06","NULL","NULL","NULL","NULL","Joint Resources","C06","David Meyer","C06 - Joint Project - CS2"]
[null,null,null,"C06","VPPS","RSRC","C06","NULL","NULL","NULL","Sr. VP Energy Resources","C06","Kelly Norwood","C06 - Joint Project - CS2"]
[null,null,null,"C06","VPUP","VPPS","RSRC","C06","NULL","NULL","President & COO Avista Corp","C06","Marian Durkin","C06 - Joint Project - CS2"]
[null,null,null,"C07","0007","C07","NULL","NULL","NULL","NULL","Gen Prod Sub Support","C07","Andy Vickers","C07 - Spokane River Hydro"]
[null,null,null,"C07","AVA","CEXO","VPUP","VPPS","0007","C07","Total Company","C07"," ","C07 - Spokane River Hydro"]
[null,null,null,"C07","C07","NULL","NULL","NULL","NULL","NULL","Spokane River Hydro","C07"," ","C07 - Spokane River Hydro"]
[null,null,null,"C07","CEXO","VPUP","VPPS","0007","C07","NULL","CEO & President","C07"," ","C07 - Spokane River Hydro"]
[null,null,null,"C07","VPPS","0007","C07","NULL","NULL","NULL","Sr. VP Energy Resources","C07","Kelly Norwood","C07 - Spokane River Hydro"]
[null,null,null,"C07","VPUP","VPPS","0007","C07","NULL","NULL","President & COO Avista Corp","C07","Marian Durkin","C07 - Spokane River Hydro"]
[null,null,null,"C08","AVA","CEXO","VPUP","VPOP","ENGR","C08","Total Company","C08"," ","C08 - Technical Services - GIS"]
[null,null,null,"C08","C08","NULL","NULL","NULL","NULL","NULL","Engineering Technical Services","C08","Michael Littrel","C08 - Technical Services - GIS"]
[null,null,null,"C08","CEXO","VPUP","VPOP","ENGR","C08","NULL","CEO & President","C08"," ","C08 - Technical Services - GIS"]
[null,null,null,"C08","ENGR","C08","NULL","NULL","NULL","NULL","Electric Engineering","C08","David Howell","C08 - Technical Services - GIS"]
[null,null,null,"C08","VPOP","ENGR","C08","NULL","NULL","NULL","VP Energy Delivery","C08","Jason Thackston","C08 - Technical Services - GIS"]
[null,null,null,"C08","VPUP","VPOP","ENGR","C08","NULL","NULL","President & COO Avista Corp","C08","Marian Durkin","C08 - Technical Services - GIS"]
[null,null,null,"C09","AVA","CEXO","VPUP","INFO","INFR","SEO","Total Company","C09"," ","C09 - Security Systems"]
[null,null,null,"C09","C09","NULL","NULL","NULL","NULL","NULL","Security Engineering","C09","Clay Storey","C09 - Security Systems"]
[null,null,null,"C09","CEXO","VPUP","INFO","INFR","SEO","C09","CEO & President","C09"," ","C09 - Security Systems"]
[null,null,null,"C09","INFO","INFR","SEO","C09","NULL","NULL","VP Info & Security","C09","Jim Kensok","C09 - Security Systems"]
[null,null,null,"C09","INFR","SEO","C09","NULL","NULL","NULL","Infrastructure Technology Summary","C09","Jim Corder","C09 - Security Systems"]
[null,null,null,"C09","SEO","C09","NULL","NULL","NULL","NULL","Security Rollup","C09","Anna Scarlett","C09 - Security Systems"]
[null,null,null,"Z82","OPER","VPPS","0007","Depart","Z82","NULL","Production & Generation","Z82","Jason Thackston","T54 - Rev and Fin Systems"]
[null,null,null,"Z83","OPER","VPOP","ENTR","Depart","Z83","NULL","Engineering & Transmission","Z83","NULL","T54 - Rev and Fin Systems"]
[null,null,null,"Z84","OPER","VPOP","ENTR","Depart","Z84","NULL","Engineering & Transmission","Z84","NULL","T54 - Rev and Fin Systems"]
[null,null,null,"Z85","CORP","VPOP","ENTR","Depart","Z85","NULL","Engineering & Transmission","Z85","NULL","T54 - Rev and Fin Systems"]
[null,null,null,"C09","VPUP","INFO","INFR","SEO","C09","NULL","President & COO Avista Corp","C09","Marian Durkin","C09 - Security Systems"]
[null,null,null,"C11","AVA","CEXO","VPUP","VPCS","CUST","C11","Total Company","C11"," ","C11 - CC&B Technology"]
[null,null,null,"C11","C11","NULL","NULL","NULL","NULL","NULL","CC&B Technology","C11","Mary Silkworth","C11 - CC&B Technology"]
[null,null,null,"C11","CEXO","VPUP","VPCS","CUST","C11","NULL","CEO & President","C11"," ","C11 - CC&B Technology"]
[null,null,null,"C11","CUST","C11","NULL","NULL","NULL","NULL","Customer Service & Sales","C11","Mike Broemeling","C11 - CC&B Technology"]
[null,null,null,"C11","VPCS","CUST","C11","NULL","NULL","NULL","VP Customer Solutions","C11","Kevin Christie","C11 - CC&B Technology"]
[null,null,null,"C11","VPUP","VPCS","CUST","C11","NULL","NULL","President & COO Avista Corp","C11","Marian Durkin","C11 - CC&B Technology"]
[null,null,null,"C19","AVA","CEXO","VPUP","INFO","INFR","SEO","Total Company","C19"," ","C19 - Security Operations"]
[null,null,null,"C19","C19","NULL","NULL","NULL","NULL","NULL","Security Operations","C19","Clay Storey","C19 - Security Operations"]
[null,null,null,"C19","CEXO","VPUP","INFO","INFR","SEO","C19","CEO & President","C19"," ","C19 - Security Operations"]
[null,null,null,"C19","INFO","INFR","SEO","C19","NULL","NULL","VP Info & Security","C19","Jim Kensok","C19 - Security Operations"]
[null,null,null,"C19","INFR","SEO","C19","NULL","NULL","NULL","Infrastructure Technology Summary","C19","Jim Corder",{"$f":"VLOOKUP(L1156,Table1,2)","v":"C19 - Security Operations"}]
[null,null,null,"C19","SEO","C19","NULL","NULL","NULL","NULL","Security Rollup","C19","Anna Scarlett","C19 - Security Operations"]
[null,null,null,"C19","VPUP","INFO","INFR","SEO","C19","NULL","President & COO Avista Corp","C19","Marian Durkin","C19 - Security Operations"]
[null,null,null,"C29","AVA","CEXO","VPUP","INFO","INFR","SEO","Total Company","C29"," ","C29 - Security Products & Serv"]
[null,null,null,"C29","C29","NULL","NULL","NULL","NULL","NULL","Security Products & Services","C29","Clay Storey","C29 - Security Products & Serv"]
[null,null,null,"C29","CEXO","VPUP","INFO","INFR","SEO","C29","CEO & President","C29"," ","C29 - Security Products & Serv"]
[null,null,null,"C29","INFO","INFR","SEO","C29","NULL","NULL","VP Info & Security","C29","Jim Kensok","C29 - Security Products & Serv"]
[null,null,null,"C29","INFR","SEO","C29","NULL","NULL","NULL","Infrastructure Technology Summary","C29","Jim Corder","C29 - Security Products & Serv"]
[null,null,null,"C29","SEO","C29","NULL","NULL","NULL","NULL","Security Rollup","C29","Anna Scarlett","C29 - Security Products & Serv"]
[null,null,null,"C29","VPUP","INFO","INFR","SEO","C29","NULL","President & COO Avista Corp","C29","Marian Durkin","C29 - Security Products & Serv"]
[null,null,null,"C50","AVA","CEXO","VPUP","VPCS","CUST","C50","Total Company","C50"," ","C50 - Contact Ctr Spokane-Hire & Train"]
[null,null,null,"C50","C50","NULL","NULL","NULL","NULL","NULL","Con Ctr - Spokane","C50","Darrin Belgarde","C50 - Contact Ctr Spokane-Hire & Train"]
[null,null,null,"C50","CEXO","VPUP","VPCS","CUST","C50","NULL","CEO & President","C50"," ","C50 - Contact Ctr Spokane-Hire & Train"]
[null,null,null,"C50","CUST","C50","NULL","NULL","NULL","NULL","Customer Service & Sales","C50","Mike Broemeling","C50 - Contact Ctr Spokane-Hire & Train"]
[null,null,null,"C50","VPCS","CUST","C50","NULL","NULL","NULL","VP Customer Solutions","C50","Kevin Christie","C50 - Contact Ctr Spokane-Hire & Train"]
[null,null,null,"C50","VPUP","VPCS","CUST","C50","NULL","NULL","President & COO Avista Corp","C50","Marian Durkin","C50 - Contact Ctr Spokane-Hire & Train"]
[null,null,null,"C51","AVA","CEXO","VPUP","VPOP","ENGR","C51","Total Company","C51"," ","C51 - Elec Distributn Design"]
[null,null,null,"C51","C51","NULL","NULL","NULL","NULL","NULL","Elec Distribution Design","C51","Dave James","C51 - Elec Distributn Design"]
[null,null,null,"C51","CEXO","VPUP","VPOP","ENGR","C51","NULL","CEO & President","C51"," ","C51 - Elec Distributn Design"]
[null,null,null,"C51","ENGR","C51","NULL","NULL","NULL","NULL","Electric Engineering","C51","David Howell","C51 - Elec Distributn Design"]
[null,null,null,"C51","VPOP","ENGR","C51","NULL","NULL","NULL","VP Energy Delivery","C51","Jason Thackston","C51 - Elec Distributn Design"]
[null,null,null,"C51","VPUP","VPOP","ENGR","C51","NULL","NULL","President & COO Avista Corp","C51","Marian Durkin","C51 - Elec Distributn Design"]
[null,null,null,"C53","AVA","CEXO","VPUP","VPOP","NGAS","NGCO","Total Company","C53"," ","C53 - Coeur d Alene Gas"]
[null,null,null,"C53","C53","NULL","NULL","NULL","NULL","NULL","Coeur d'Alene Gas","C53","Paul Good","C53 - Coeur d Alene Gas"]
[null,null,null,"C53","CEXO","VPUP","VPOP","NGAS","NGCO","C53","CEO & President","C53"," ","C53 - Coeur d Alene Gas"]
[null,null,null,"C53","NGAS","NGCO","C53","NULL","NULL","NULL","Natural Gas","C53","Mike Faulkenberry","C53 - Coeur d Alene Gas"]
[null,null,null,"C53","NGCO","C53","NULL","NULL","NULL","NULL","Natural Gas Construction Ops","C53","Mike Faulkenberry","C53 - Coeur d Alene Gas"]
[null,null,null,"C53","VPOP","NGAS","NGCO","C53","NULL","NULL","VP Energy Delivery","C53","Jason Thackston","C53 - Coeur d Alene Gas"]
[null,null,null,"C53","VPUP","VPOP","NGAS","NGCO","C53","NULL","President & COO Avista Corp","C53","Marian Durkin","C53 - Coeur d Alene Gas"]
[null,null,null,"C54","AVA","CEXO","VPFO","VPCC","C54","NULL","Total Company","C54"," ","C54 - Tax Services"]
[null,null,null,"C54","C54","NULL","NULL","NULL","NULL","NULL","Tax Services","C54","Don Falkner","C54 - Tax Services"]
[null,null,null,"C54","CEXO","VPFO","VPCC","C54","NULL","NULL","CEO & President","C54"," ","C54 - Tax Services"]
[null,null,null,"C54","VPCC","C54","NULL","NULL","NULL","NULL","VP Corporate Controller","C54","Kevin Christie","C54 - Tax Services"]
[null,null,null,"C54","VPFO","VPCC","C54","NULL","NULL","NULL","Sr. VP & CFO","C54","Marian Durkin","C54 - Tax Services"]
[null,null,null,"C56","AMSP","C56","NULL","NULL","NULL","NULL","Planning & Asset Management","C56","Scott Waples","C56 - System Planning"]
[null,null,null,"C56","AVA","CEXO","VPUP","VPOP","AMSP","C56","Total Company","C56"," ","C56 - System Planning"]
[null,null,null,"C56","C56","NULL","NULL","NULL","NULL","NULL","System Planning","C56","Scott Waples","C56 - System Planning"]
[null,null,null,"C56","CEXO","VPUP","VPOP","AMSP","C56","NULL","CEO & President","C56"," ","C56 - System Planning"]
[null,null,null,"C56","VPOP","AMSP","C56","NULL","NULL","NULL","VP Energy Delivery","C56","Jason Thackston","C56 - System Planning"]
[null,null,null,"10A","AVIS","10A","NULL","NULL","NULL","NULL","Avista Subsidiary","NULL","NULL","N54 - Strategic Initiatives"]
[null,null,null,"11E","AVIS","11E","NULL","NULL","NULL","NULL","Avista Subsidiary","11E","NULL","11E - AE Finance"]
[null,null,null,"20E","AVIS","20E","NULL","NULL","NULL","NULL","Avista Subsidiary","20E","NULL","20E - AE - Marketing Spokane"]
[null,null,null,"40E","AVIS","40E","NULL","NULL","NULL","NULL","Avista Subsidiary","40E","NULL","40E - AE - Risk"]
[null,null,null,"50E","AVIS","50E","NULL","NULL","NULL","NULL","Avista Subsidiary","50E","NULL","50E - AE - Trading Spokane"]
[null,null,null,"60A","AVIS","60A","NULL","NULL","NULL","NULL","Avista Subsidiary","NULL","NULL","N54 - Strategic Initiatives"]
[null,null,null,"C56","VPUP","VPOP","AMSP","C56","NULL","NULL","President & COO Avista Corp","C56","Marian Durkin","C56 - System Planning"]
[null,null,null,"C57","AVA","CEXO","VPUP","VPOP","WEST","C57","Total Company","C57"," ","C57 - Spokane Electric Network"]
[null,null,null,"A80","VPOP","A80","NULL","NULL","NULL","NULL","VP Operations","A80","NULL","A80 - Director of ORCA"]
[null,null,null,"A84","VPOP","A84","NULL","NULL","NULL","NULL","VP Operations","A84","NULL","A84 -South Lake Tahoe"]
[null,null,null,"B81","VPOP","B81","NULL","NULL","NULL","NULL","Customer Service","B81","NULL","B81 - Contact Ctr-Medford"]
[null,null,null,"C52","VPCS","C52","NULL","NULL","NULL","NULL","Customer Service","C52","NULL","C52 - Customer Solutions"]
[null,null,null,"C55","VPPS","C55","NULL","NULL","NULL","NULL","VP Energy Resources","C55","NULL","C55 - Gas Resource Costs"]
[null,null,null,"C81","VPOP","C81","NULL","NULL","NULL","NULL","VP Operations","C81","NULL","C81 - Medford Tech Service"]
[null,null,null,"D83","VPOP","D83","NULL","NULL","NULL","NULL","VP Operations","D83","NULL","D83 - Goldendale Construction"]
[null,null,null,"E08","VPOP","E08","NULL","NULL","NULL","NULL","VP Operations","E08","NULL","E08 - Old RC for Conversion"]
[null,null,null,"E54","VPFO","E54","NULL","NULL","NULL","NULL","Executive VP & CFO - Finance & Risk Mana","E54","NULL","E54 - Accounts Payable"]
[null,null,null,"F14","VPOP","F14","NULL","NULL","NULL","NULL","VP Operations","F14","NULL","F14 - External Projects"]
[null,null,null,"F51","VPOP","F51","NULL","NULL","NULL","NULL","VP Operations","F51","NULL","F51 - G.I.S."]
[null,null,null,"L02","L02","NULL","NULL","NULL","NULL","NULL","SG Workforce Training","L02","Diane Quincy","L02 - SG Workforce Training"]
[null,null,null,"L02","SUPP","NULL","NULL","NULL","NULL","NULL","Support","L02","NULL","L02 - SG Workforce Training"]
[null,null,null,"L02","VPHR","NULL","NULL","NULL","NULL","NULL","Sr. VP Human Resources","L02","Heather Rosentrater","L02 - SG Workforce Training"]
[null,null,null,"L07","0007","NULL","NULL","NULL","NULL","NULL","Gen Prod Sub Support","L07","Andy Vickers","L07 - Clarkfork Hydro"]
[null,null,null,"L07","AVA","NULL","NULL","NULL","NULL","NULL","Total Company","L07"," ","L07 - Clarkfork Hydro"]
[null,null,null,"L07","CEXO","NULL","NULL","NULL","NULL","NULL","CEO & President","L07"," ","L07 - Clarkfork Hydro"]
[null,null,null,"L07","L07","NULL","NULL","NULL","NULL","NULL","Clark Fork River Hydro","L07"," ",{"$f":"VLOOKUP(L1220,Table1,2)","v":"L07 - Clarkfork Hydro"}]
[null,null,null,"L07","SUPP","NULL","NULL","NULL","NULL","NULL","Support","L07","NULL","L07 - Clarkfork Hydro"]
[null,null,null,"L07","VPPS","NULL","NULL","NULL","NULL","NULL","Sr. VP Energy Resources","L07","Kelly Norwood","L07 - Clarkfork Hydro"]
[null,null,null,"L07","VPUP","NULL","NULL","NULL","NULL","NULL","President & COO Avista Corp","L07","Marian Durkin","L07 - Clarkfork Hydro"]
[null,null,null,"L08","AVA","NULL","NULL","NULL","NULL","NULL","Total Company","L08"," ","L08 - Transmission Design"]
[null,null,null,"G55","VPPS","G55","NULL","NULL","NULL","NULL","VP Energy Resources","G55","NULL","G55 - Power Purchases"]
[null,null,null,"L08","CEXO","NULL","NULL","NULL","NULL","NULL","CEO & President","L08"," ","L08 - Transmission Design"]
[null,null,null,"H03","VPOP","H03","NULL","NULL","NULL","NULL","VP Operations","H03","NULL","H03 - Facility Lease Management"]
[null,null,null,"L08","ENGR","NULL","NULL","NULL","NULL","NULL","Electric Engineering","L08","David Howell","L08 - Transmission Design"]
[null,null,null,"L08","L08","NULL","NULL","NULL","NULL","NULL","Transmission Design","L08","Ken Sweigart","L08 - Transmission Design"]
[null,null,null,"L08","SUPP","NULL","NULL","NULL","NULL","NULL","Support","L08","NULL","L08 - Transmission Design"]
[null,null,null,"L08","VPOP","NULL","NULL","NULL","NULL","NULL","VP Energy Delivery","L08","Jason Thackston","L08 - Transmission Design"]
[null,null,null,"L08","VPUP","NULL","NULL","NULL","NULL","NULL","President & COO Avista Corp","L08","Marian Durkin","L08 - Transmission Design"]
[null,null,null,"L11","AVA","NULL","NULL","NULL","NULL","NULL","Total Company","L11"," ","L08 - Transmission Design"]
[null,null,null,"L11","CEXO","NULL","NULL","NULL","NULL","NULL","CEO & President","L11"," ","L08 - Transmission Design"]
[null,null,null,"L11","ENGR","NULL","NULL","NULL","NULL","NULL","Electric Engineering","L11","David Howell","L08 - Transmission Design"]
[null,null,null,"H55","VPPS","H55","NULL","NULL","NULL","NULL","VP Energy Resources","H55","NULL","H55 - Fuels Management"]
[null,null,null,"L11","L11","NULL","NULL","NULL","NULL","NULL","Transmission Veg Management","L11","Lamont Miles","L08 - Transmission Design"]
[null,null,null,"L11","SUPP","NULL","NULL","NULL","NULL","NULL","Support","L11","NULL","L08 - Transmission Design"]
[null,null,null,"L11","VPOP","NULL","NULL","NULL","NULL","NULL","VP Energy Delivery","L11","Jason Thackston","L08 - Transmission Design"]
[null,null,null,"L11","VPUP","NULL","NULL","NULL","NULL","NULL","President & COO Avista Corp","L11","Marian Durkin","L08 - Transmission Design"]
[null,null,null,"L39","APPS","NULL","NULL","NULL","NULL","NULL","Applications Summary","L39","Hossein Nikdel","L39 - Nucleus Development"]
[null,null,null,"L39","AVA","NULL","NULL","NULL","NULL","NULL","Total Company","L39"," ","L39 - Nucleus Development"]
[null,null,null,"L39","CEXO","NULL","NULL","NULL","NULL","NULL","CEO & President","L39"," ","L39 - Nucleus Development"]
[null,null,null,"L39","INFO","NULL","NULL","NULL","NULL","NULL","VP Info & Security","L39","Jim Kensok","L39 - Nucleus Development"]
[null,null,null,"L39","ISDV","NULL","NULL","NULL","NULL","NULL","IS Development Rollup","L39","Hossein Nikdel","L39 - Nucleus Development"]
[null,null,null,"L39","L39","NULL","NULL","NULL","NULL","NULL","Nucleus Development","L39","Graham Smith","L39 - Nucleus Development"]
[null,null,null,"J11","VPHR","J11","NULL","NULL","NULL","NULL","Human Resources","J11","NULL","J11 - Planning & Analysis"]
[null,null,null,"L39","SUPP","NULL","NULL","NULL","NULL","NULL","Support","L39","NULL","L39 - Nucleus Development"]
[null,null,null,"L39","VPUP","NULL","NULL","NULL","NULL","NULL","President & COO Avista Corp","L39","Marian Durkin","L39 - Nucleus Development"]
[null,null,null,"L50","AVA","NULL","NULL","NULL","NULL","NULL","Total Company","L50"," ","L50 - Spokane Gas"]
[null,null,null,"L50","CEXO","NULL","NULL","NULL","NULL","NULL","CEO & President","L50"," ","L50 - Spokane Gas"]
[null,null,null,"L50","GAS","NULL","NULL","NULL","NULL","NULL","Gas","L50","NULL","L50 - Spokane Gas"]
[null,null,null,"L50","L50","NULL","NULL","NULL","NULL","NULL","Spokane Gas","L50","Tim Mair","L50 - Spokane Gas"]
[null,null,null,"L50","NGAS","NULL","NULL","NULL","NULL","NULL","Natural Gas","L50","Mike Faulkenberry","L50 - Spokane Gas"]
[null,null,null,"K14","VPCS","K14","NULL","NULL","NULL","NULL","Customer Service","K14","NULL","K14 - Public Affairs"]
[null,null,null,"K50","VPOP","K50","NULL","NULL","NULL","NULL","VP Operations","K50","NULL","K50 - Old RC - Conversion"]
[null,null,null,"L50","NGCO","NULL","NULL","NULL","NULL","NULL","Natural Gas Construction Ops","L50","Mike Faulkenberry","L50 - Spokane Gas"]
[null,null,null,"L50","VPOP","NULL","NULL","NULL","NULL","NULL","VP Energy Delivery","L50","Jason Thackston","L50 - Spokane Gas"]
[null,null,null,"K54","VPFO","K54","NULL","NULL","NULL","NULL","Executive VP & CFO - Finance & Risk Mana","K54","NULL","K54 - Financial Systems Project"]
[null,null,null,"L50","VPUP","NULL","NULL","NULL","NULL","NULL","President & COO Avista Corp","L50","Marian Durkin","L50 - Spokane Gas"]
[null,null,null,"L51","AVA","NULL","NULL","NULL","NULL","NULL","Total Company","L51"," ","L51 - Claims"]
[null,null,null,"L51","CEXO","NULL","NULL","NULL","NULL","NULL","CEO & President","L51"," ","L51 - Claims"]
[null,null,null,"L51","L51","NULL","NULL","NULL","NULL","NULL","Claims","L51","Darrel Moss","L51 - Claims"]
[null,null,null,"L51","SUPP","NULL","NULL","NULL","NULL","NULL","Support","L51","NULL","L51 - Claims"]
[null,null,null,"L51","VPGC","NULL","NULL","NULL","NULL","NULL","Sr. VP & General Counsel","L51","Karen Feltes","L51 - Claims"]
[null,null,null,"L52","AVA","NULL","NULL","NULL","NULL","NULL","Total Company","L52"," ","L52 - Claims Accrual"]
[null,null,null,"L52","CEXO","NULL","NULL","NULL","NULL","NULL","CEO & President","L52"," ","L52 - Claims Accrual"]
[null,null,null,"L52","L52","NULL","NULL","NULL","NULL","NULL","Claims Accrual","L52","Darrel Moss","L52 - Claims Accrual"]
[null,null,null,"L52","SUPP","NULL","NULL","NULL","NULL","NULL","Support","L52","NULL","L52 - Claims Accrual"]
[null,null,null,"L52","VPGC","NULL","NULL","NULL","NULL","NULL","Sr. VP & General Counsel","L52","Karen Feltes","L52 - Claims Accrual"]
[null,null,null,"L53","AVA","NULL","NULL","NULL","NULL","NULL","Total Company","L53"," ","L53 - CDA"]
[null,null,null,"L53","CEXO","NULL","NULL","NULL","NULL","NULL","CEO & President","L53"," ","L53 - CDA"]
[null,null,null,"L53","EAST","NULL","NULL","NULL","NULL","NULL","Director Operations - East","L53","Greg Gfeller","L53 - CDA"]
[null,null,null,"L53","ELEC","NULL","NULL","NULL","NULL","NULL","Electric","L53","NULL","L53 - CDA"]
[null,null,null,"L53","L53","NULL","NULL","NULL","NULL","NULL","Coeur d'Alene","L53","Chris Schlothauer","L53 - CDA"]
[null,null,null,"N07","VPPS","N07","NULL","NULL","NULL","NULL","VP Energy Resources","N07","NULL","N07 - Utility Environ Compliance"]
[null,null,null,"L53","VPOP","NULL","NULL","NULL","NULL","NULL","VP Energy Delivery","L53","Jason Thackston","L53 - CDA"]
[null,null,null,"L53","VPUP","NULL","NULL","NULL","NULL","NULL","President & COO Avista Corp","L53","Marian Durkin","L53 - CDA"]
[null,null,null,"L54","AVA","NULL","NULL","NULL","NULL","NULL","Total Company","L54"," ","L54 - Travel & Flight Operations"]
[null,null,null,"L54","CEXO","NULL","NULL","NULL","NULL","NULL","CEO & President","L54"," ","L54 - Travel & Flight Operations"]
[null,null,null,"L54","L54","NULL","NULL","NULL","NULL","NULL","Travel & Flight Operations","L54","David Robinson","L54 - Travel & Flight Operations"]
[null,null,null,"N53","VPCS","N53","NULL","NULL","NULL","NULL","Customer Service","N53","NULL","N53 - AM Spokane West"]
[null,null,null,"L54","SERV","NULL","NULL","NULL","NULL","NULL","Shared Services","L54","Dennis Vermillion","L54 - Travel & Flight Operations"]
[null,null,null,"L54","SUPP","NULL","NULL","NULL","NULL","NULL","Support","L54","NULL",{"$f":"VLOOKUP(L1284,Table1,2)","v":"L54 - Travel & Flight Operations"}]
[null,null,null,"L54","VPOP","NULL","NULL","NULL","NULL","NULL","VP Energy Delivery","L54","Jason Thackston","L54 - Travel & Flight Operations"]
[null,null,null,"L54","VPUP","NULL","NULL","NULL","NULL","NULL","President & COO Avista Corp","L54","Marian Durkin","L54 - Travel & Flight Operations"]
[null,null,null,"M02","AVA","NULL","NULL","NULL","NULL","NULL","Total Company","M02"," ","L54 - Travel & Flight Operations"]
[null,null,null,"M02","CEXO","NULL","NULL","NULL","NULL","NULL","CEO & President","M02"," ","L54 - Travel & Flight Operations"]
[null,null,null,"M02","M02","NULL","NULL","NULL","NULL","NULL","Corporate Learning and Development","M02","Diane Quincy","L54 - Travel & Flight Operations"]
[null,null,null,"R03","AVIS","R03","NULL","NULL","NULL","NULL","Avista Subsidiary","R03","NULL","R03 - Avista Energy"]
[null,null,null,"M02","SUPP","NULL","NULL","NULL","NULL","NULL","Support","M02","NULL","L54 - Travel & Flight Operations"]
[null,null,null,"M02","VPHR","NULL","NULL","NULL","NULL","NULL","Sr. VP Human Resources","M02","Heather Rosentrater","L54 - Travel & Flight Operations"]
[null,null,null,"R50","VPOP","R50","NULL","NULL","NULL","NULL","VP Operations","R50","NULL","R50 - Spokane Construction Engineering"]
[null,null,null,"M07","0007","NULL","NULL","NULL","NULL","NULL","Gen Prod Sub Support","M07","Andy Vickers","M07 - Mechanical/Structural Shop"]
[null,null,null,"M07","AVA","NULL","NULL","NULL","NULL","NULL","Total Company","M07"," ","M07 - Mechanical/Structural Shop"]
[null,null,null,"M07","CEXO","NULL","NULL","NULL","NULL","NULL","CEO & President","M07"," ","M07 - Mechanical/Structural Shop"]
[null,null,null,"M07","M07","NULL","NULL","NULL","NULL","NULL","Mechanical/Structural Shop","M07","Randy Pierce","M07 - Mechanical/Structural Shop"]
[null,null,null,"M07","SUPP","NULL","NULL","NULL","NULL","NULL","Support","M07","NULL","M07 - Mechanical/Structural Shop"]
[null,null,null,"M07","VPPS","NULL","NULL","NULL","NULL","NULL","Sr. VP Energy Resources","M07","Kelly Norwood","M07 - Mechanical/Structural Shop"]
[null,null,null,"M07","VPUP","NULL","NULL","NULL","NULL","NULL","President & COO Avista Corp","M07","Marian Durkin","M07 - Mechanical/Structural Shop"]
[null,null,null,"S08","VPOP","S08","NULL","NULL","NULL","NULL","VP Operations","S08","NULL","S08 - Strategic Projects Development"]
[null,null,null,"M08","AVA","NULL","NULL","NULL","NULL","NULL","Total Company","M08"," ","M08 - Substation Design"]
[null,null,null,"M08","CEXO","NULL","NULL","NULL","NULL","NULL","CEO & President","M08"," ","M08 - Substation Design"]
[null,null,null,"M08","ENGR","NULL","NULL","NULL","NULL","NULL","Electric Engineering","M08","David Howell","M08 - Substation Design"]
[null,null,null,"M08","M08","NULL","NULL","NULL","NULL","NULL","Substation Design","M08"," ","M08 - Substation Design"]
[null,null,null,"M08","SUPP","NULL","NULL","NULL","NULL","NULL","Support","M08","NULL","M08 - Substation Design"]
[null,null,null,"T03","AVIS","T03","NULL","NULL","NULL","NULL","Avista Subsidiary","NULL","NULL","N54 - Strategic Initiatives"]
[null,null,null,"M08","VPOP","NULL","NULL","NULL","NULL","NULL","VP Energy Delivery","M08","Jason Thackston","M08 - Substation Design"]
[null,null,null,"M08","VPUP","NULL","NULL","NULL","NULL","NULL","President & COO Avista Corp","M08","Marian Durkin","M08 - Substation Design"]
[null,null,null,"T50","VPCS","T50","NULL","NULL","NULL","NULL","Customer Service","T50","NULL","T50 - Econ Develop Analyst"]
[null,null,null,"M09","AVA","NULL","NULL","NULL","NULL","NULL","Total Company","M09"," ","M09 - Central Systems"]
[null,null,null,"T53","VPOP","T53","NULL","NULL","NULL","NULL","VP Operations","T53","NULL","T53 - South East Engineer"]
[null,null,null,"T55","VPPS","T55","NULL","NULL","NULL","NULL","VP Energy Resources","T55","NULL","T54 - Rev and Fin Systems"]
[null,null,null,"M09","CEXO","NULL","NULL","NULL","NULL","NULL","CEO & President","M09"," ","M09 - Central Systems"]
[null,null,null,"M09","INFO","NULL","NULL","NULL","NULL","NULL","VP Info & Security","M09","Jim Kensok","M09 - Central Systems"]
[null,null,null,"M09","INFR","NULL","NULL","NULL","NULL","NULL","Infrastructure Technology Summary","M09","Jim Corder","M09 - Central Systems"]
[null,null,null,"M09","ITSE","NULL","NULL","NULL","NULL","NULL","System Engineering Rollup","M09","Walter Roys","M09 - Central Systems"]
[null,null,null,"M09","M09","NULL","NULL","NULL","NULL","NULL","Central Systems Engineering","M09","Walter Roys","M09 - Central Systems"]
[null,null,null,"M09","SUPP","NULL","NULL","NULL","NULL","NULL","Support","M09","NULL","M09 - Central Systems"]
[null,null,null,"M09","VPUP","NULL","NULL","NULL","NULL","NULL","President & COO Avista Corp","M09","Marian Durkin","M09 - Central Systems"]
[null,null,null,"M11","AVA","NULL","NULL","NULL","NULL","NULL","Total Company","M11"," ","M11 - EAM Technology"]
[null,null,null,"M11","CEXO","NULL","NULL","NULL","NULL","NULL","CEO & President","M11"," ","M11 - EAM Technology"]
[null,null,null,"M11","ENGR","NULL","NULL","NULL","NULL","NULL","Electric Engineering","M11","David Howell","M11 - EAM Technology"]
[null,null,null,"M11","M11","NULL","NULL","NULL","NULL","NULL","EAM Technology","M11","Lamont Miles","M11 - EAM Technology"]
[null,null,null,"M11","SUPP","NULL","NULL","NULL","NULL","NULL","Support","M11","NULL","M11 - EAM Technology"]
[null,null,null,"M11","VPOP","NULL","NULL","NULL","NULL","NULL","VP Energy Delivery","M11","Jason Thackston","M11 - EAM Technology"]
[null,null,null,"M11","VPUP","NULL","NULL","NULL","NULL","NULL","President & COO Avista Corp","M11","Marian Durkin","M11 - EAM Technology"]
[null,null,null,"M19","AVA","NULL","NULL","NULL","NULL","NULL","Total Company","M19"," ","M19 - Central Systems Ops"]
[null,null,null,"M19","CEXO","NULL","NULL","NULL","NULL","NULL","CEO & President","M19"," ","M19 - Central Systems Ops"]
[null,null,null,"M19","INFO","NULL","NULL","NULL","NULL","NULL","VP Info & Security","M19","Jim Kensok","M19 - Central Systems Ops"]
[null,null,null,"M19","INFR","NULL","NULL","NULL","NULL","NULL","Infrastructure Technology Summary","M19","Jim Corder","M19 - Central Systems Ops"]
[null,null,null,"M19","ITOP","NULL","NULL","NULL","NULL","NULL","IT Operations Rollup","M19","Michael Busby","M19 - Central Systems Ops"]
[null,null,null,"M19","M19","NULL","NULL","NULL","NULL","NULL","Central Systems Operations","M19","Michael Busby","M19 - Central Systems Ops"]
[null,null,null,"M19","SUPP","NULL","NULL","NULL","NULL","NULL","Support","M19","NULL","M19 - Central Systems Ops"]
[null,null,null,"M19","VPUP","NULL","NULL","NULL","NULL","NULL","President & COO Avista Corp","M19","Marian Durkin","M19 - Central Systems Ops"]
[null,null,null,"Z81","VPCC","Z81","NULL","NULL","NULL","NULL","Finance & Risk Management","Z81","NULL","T54 - Rev and Fin Systems"]
[null,null,null,"Z82","VPPS","Z82","NULL","NULL","NULL","NULL","VP Energy Resources","Z82","NULL","T54 - Rev and Fin Systems"]
[null,null,null,"Z83","VPOP","Z83","NULL","NULL","NULL","NULL","VP Operations","Z83","NULL","T54 - Rev and Fin Systems"]
[null,null,null,"Z84","VPOP","Z84","NULL","NULL","NULL","NULL","VP Operations","Z84","NULL","T54 - Rev and Fin Systems"]
[null,null,null,"Z85","VPOP","Z85","NULL","NULL","NULL","NULL","VP Operations","Z85","NULL","T54 - Rev and Fin Systems"]
[null,null,null,"Z86","VPOP","Z86","NULL","NULL","NULL","NULL","VP Operations","Z86","NULL","T54 - Rev and Fin Systems"]
[null,null,null,"M29","AVA","NULL","NULL","NULL","NULL","NULL","Total Company","M29"," ","M29 - Cntrl Syst Prod & Serv"]
[null,null,null,"M29","CEXO","NULL","NULL","NULL","NULL","NULL","CEO & President","M29"," ","M29 - Cntrl Syst Prod & Serv"]
[null,null,null,"M29","INFO","NULL","NULL","NULL","NULL","NULL","VP Info & Security","M29","Jim Kensok","M29 - Cntrl Syst Prod & Serv"]
[null,null,null,"M29","INFR","NULL","NULL","NULL","NULL","NULL","Infrastructure Technology Summary","M29","Jim Corder","M29 - Cntrl Syst Prod & Serv"]
[null,null,null,"M29","ITSE","NULL","NULL","NULL","NULL","NULL","System Engineering Rollup","M29","Walter Roys","M29 - Cntrl Syst Prod & Serv"]
[null,null,null,"M29","M29","NULL","NULL","NULL","NULL","NULL","Central Systems Products & Services","M29","Walter Roys","M29 - Cntrl Syst Prod & Serv"]
[null,null,null,"M29","SUPP","NULL","NULL","NULL","NULL","NULL","Support","M29","NULL",{"$f":"VLOOKUP(L1348,Table1,2)","v":"M29 - Cntrl Syst Prod & Serv"}]
[null,null,null,"M29","VPUP","NULL","NULL","NULL","NULL","NULL","President & COO Avista Corp","M29","Marian Durkin","M29 - Cntrl Syst Prod & Serv"]
[null,null,null,"M50","AVA","NULL","NULL","NULL","NULL","NULL","Total Company","M50"," ","M50 - Deer Park"]
[null,null,null,"M50","CEXO","NULL","NULL","NULL","NULL","NULL","CEO & President","M50"," ","M50 - Deer Park"]
[null,null,null,"M50","ELEC","NULL","NULL","NULL","NULL","NULL","Electric","M50","NULL","M50 - Deer Park"]
[null,null,null,"M50","M50","NULL","NULL","NULL","NULL","NULL","Deer Park","M50"," ","M50 - Deer Park"]
[null,null,null,"M50","VPOP","NULL","NULL","NULL","NULL","NULL","VP Energy Delivery","M50","Jason Thackston","M50 - Deer Park"]
[null,null,null,"L02","AVA","NULL","NULL","NULL","NULL","NULL","Total Company","L02"," ","L02 - SG Workforce Training"]
[null,null,null,"L02","CEXO","NULL","NULL","NULL","NULL","NULL","CEO & President","L02"," ","L02 - SG Workforce Training"]
[null,null,null,"B0i7i","VPPS","B07","NULL","NULL","NULL","NULL","VP Energy Resources","NULL","NULL","N54 - Strategic Initiatives"]
[null,null,null,"M50","VPUP","NULL","NULL","NULL","NULL","NULL","President & COO Avista Corp","M50","Marian Durkin","M50 - Deer Park"]
[null,null,null,"M50","WEST","NULL","NULL","NULL","NULL","NULL","Director of Operations - West","M50"," ","M50 - Deer Park"]
[null,null,null,"M51","AVA","NULL","NULL","NULL","NULL","NULL","Total Company","M51"," ","M51 - Asset Maintenance"]
[null,null,null,"M51","CEXO","NULL","NULL","NULL","NULL","NULL","CEO & President","M51"," ","M51 - Asset Maintenance"]
[null,null,null,"M51","ELEC","NULL","NULL","NULL","NULL","NULL","Electric","M51","NULL","M51 - Asset Maintenance"]
[null,null,null,"M51","M51","NULL","NULL","NULL","NULL","NULL","Asset Maintenance","M51","Glenn Madden","M51 - Asset Maintenance"]
[null,null,null,"M51","MNTC","NULL","NULL","NULL","NULL","NULL","Asset Maintenance","M51","Glenn Madden","M51 - Asset Maintenance"]
[null,null,null,"M51","VPOP","NULL","NULL","NULL","NULL","NULL","VP Energy Delivery","M51","Jason Thackston","M51 - Asset Maintenance"]
[null,null,null,"M51","VPUP","NULL","NULL","NULL","NULL","NULL","President & COO Avista Corp","M51","Marian Durkin","M51 - Asset Maintenance"]
[null,null,null,"M51","WEST","NULL","NULL","NULL","NULL","NULL","Director of Operations - West","M51"," ","M51 - Asset Maintenance"]
[null,null,null,"M53","AVA","NULL","NULL","NULL","NULL","NULL","Total Company","M53"," ","M53 - Business Entrepreneurial Network"]
[null,null,null,"M53","CEXO","NULL","NULL","NULL","NULL","NULL","CEO & President","M53"," ","M53 - Business Entrepreneurial Network"]
[null,null,null,"M53","ESOL","NULL","NULL","NULL","NULL","NULL","Energy Solutions","M53","Pat Lynch","M53 - Business Entrepreneurial Network"]
[null,null,null,"M53","M53","NULL","NULL","NULL","NULL","NULL","Business Entrepreneurship Network","M53","Steve Trabun","M53 - Business Entrepreneurial Network"]
[null,null,null,"M53","SUPP","NULL","NULL","NULL","NULL","NULL","Support","M53","NULL","M53 - Business Entrepreneurial Network"]
[null,null,null,"M53","VPCS","NULL","NULL","NULL","NULL","NULL","VP Customer Solutions","M53","Kevin Christie","M53 - Business Entrepreneurial Network"]
[null,null,null,"M53","VPUP","NULL","NULL","NULL","NULL","NULL","President & COO Avista Corp","M53","Marian Durkin","M53 - Business Entrepreneurial Network"]
[null,null,null,"M54","AVA","NULL","NULL","NULL","NULL","NULL","Total Company","M54"," ","M54 - Business Development"]
[null,null,null,"M54","CEXO","NULL","NULL","NULL","NULL","NULL","CEO & President","M54"," ","M54 - Business Development"]
[null,null,null,"M54","M54","NULL","NULL","NULL","NULL","NULL","Business Development","M54","Ed Schlect","M54 - Business Development"]
[null,null,null,"M54","SUPP","NULL","NULL","NULL","NULL","NULL","Support","M54","NULL","M54 - Business Development"]
[null,null,null,"M54","VPFO","NULL","NULL","NULL","NULL","NULL","Sr. VP & CFO","M54","Marian Durkin","M54 - Business Development"]
[null,null,null,"N02","AVA","NULL","NULL","NULL","NULL","NULL","Total Company","N02"," ","M54 - Business Development"]
[null,null,null,"N02","CEXO","NULL","NULL","NULL","NULL","NULL","CEO & President","N02"," ","M54 - Business Development"]
[null,null,null,"N02","N02","NULL","NULL","NULL","NULL","NULL","HR Shared Services","N02","George Brown","M54 - Business Development"]
[null,null,null,"N02","SUPP","NULL","NULL","NULL","NULL","NULL","Support","N02","NULL","M54 - Business Development"]
[null,null,null,"N02","VPHR","NULL","NULL","NULL","NULL","NULL","Sr. VP Human Resources","N02","Heather Rosentrater","M54 - Business Development"]
[null,null,null,"N06","AVA","NULL","NULL","NULL","NULL","NULL","Total Company","N06"," ","N06 - Joint Project-Colstrip"]
[null,null,null,"N06","CEXO","NULL","NULL","NULL","NULL","NULL","CEO & President","N06"," ","N06 - Joint Project-Colstrip"]
[null,null,null,"N06","N06","NULL","NULL","NULL","NULL","NULL","Joint Project-Colstrip","N06","Tom Dempsey","N06 - Joint Project-Colstrip"]
[null,null,null,"N06","RSRC","NULL","NULL","NULL","NULL","NULL","Joint Resources","N06","David Meyer","N06 - Joint Project-Colstrip"]
[null,null,null,"N06","SUPP","NULL","NULL","NULL","NULL","NULL","Support","N06","NULL","N06 - Joint Project-Colstrip"]
[null,null,null,"N06","VPPS","NULL","NULL","NULL","NULL","NULL","Sr. VP Energy Resources","N06","Kelly Norwood","N06 - Joint Project-Colstrip"]
[null,null,null,"N06","VPUP","NULL","NULL","NULL","NULL","NULL","President & COO Avista Corp","N06","Marian Durkin","N06 - Joint Project-Colstrip"]
[null,null,null,"N08","AVA","NULL","NULL","NULL","NULL","NULL","Total Company","N08"," ","N08 - Drafting & Survey"]
[null,null,null,"N08","CEXO","NULL","NULL","NULL","NULL","NULL","CEO & President","N08"," ","N08 - Drafting & Survey"]
[null,null,null,"N08","ENGR","NULL","NULL","NULL","NULL","NULL","Electric Engineering","N08","David Howell","N08 - Drafting & Survey"]
[null,null,null,"N08","N08","NULL","NULL","NULL","NULL","NULL","Drafting & Survey","N08","Clint Laws","N08 - Drafting & Survey"]
[null,null,null,"N08","SUPP","NULL","NULL","NULL","NULL","NULL","Support","N08","NULL","N08 - Drafting & Survey"]
[null,null,null,"10A","AVIS","10A","NULL","NULL","NULL","NULL","Avista Subsidiary","NULL","NULL","N54 - Strategic Initiatives"]
[null,null,null,"11E","AVIS","11E","NULL","NULL","NULL","NULL","Avista Subsidiary","11E","NULL","11E - AE Finance"]
[null,null,null,"20E","AVIS","20E","NULL","NULL","NULL","NULL","Avista Subsidiary","20E","NULL","20E - AE - Marketing Spokane"]
[null,null,null,"40E","AVIS","40E","NULL","NULL","NULL","NULL","Avista Subsidiary","40E","NULL","40E - AE - Risk"]
[null,null,null,"50E","AVIS","50E","NULL","NULL","NULL","NULL","Avista Subsidiary","50E","NULL","50E - AE - Trading Spokane"]
[null,null,null,"60A","AVIS","60A","NULL","NULL","NULL","NULL","Avista Subsidiary","NULL","NULL","N54 - Strategic Initiatives"]
[null,null,null,"N08","VPOP","NULL","NULL","NULL","NULL","NULL","VP Energy Delivery","N08","Jason Thackston","N08 - Drafting & Survey"]
[null,null,null,"N08","VPUP","NULL","NULL","NULL","NULL","NULL","President & COO Avista Corp","N08","Marian Durkin","N08 - Drafting & Survey"]
[null,null,null,"N09","AVA","NULL","NULL","NULL","NULL","NULL","Total Company","N09"," ","N09 - Office of CIO"]
[null,null,null,"N09","CEXO","NULL","NULL","NULL","NULL","NULL","CEO & President","N09"," ","N09 - Office of CIO"]
[null,null,null,"N09","CISO","NULL","NULL","NULL","NULL","NULL","Chief Information & Security Officer Sum","N09","Jim Kensok","N09 - Office of CIO"]
[null,null,null,"N09","INFO","NULL","NULL","NULL","NULL","NULL","VP Info & Security","N09","Jim Kensok","N09 - Office of CIO"]
[null,null,null,"N09","N09","NULL","NULL","NULL","NULL","NULL","Office of CISO","N09","Jim Kensok","N09 - Office of CIO"]
[null,null,null,"N09","SUPP","NULL","NULL","NULL","NULL","NULL","Support","N09","NULL","N09 - Office of CIO"]
[null,null,null,"A80","VPOP","A80","NULL","NULL","NULL","NULL","VP Operations","A80","NULL","A80 - Director of ORCA"]
[null,null,null,"A84","VPOP","A84","NULL","NULL","NULL","NULL","VP Operations","A84","NULL",{"$f":"VLOOKUP(L1412,Table1,2)","v":"A84 -South Lake Tahoe"}]
[null,null,null,"B81","VPOP","B81","NULL","NULL","NULL","NULL","Customer Service","B81","NULL","B81 - Contact Ctr-Medford"]
[null,null,null,"C52","VPCS","C52","NULL","NULL","NULL","NULL","Customer Service","C52","NULL","C52 - Customer Solutions"]
[null,null,null,"C55","VPPS","C55","NULL","NULL","NULL","NULL","VP Energy Resources","C55","NULL","C55 - Gas Resource Costs"]
[null,null,null,"C81","VPOP","C81","NULL","NULL","NULL","NULL","VP Operations","C81","NULL","C81 - Medford Tech Service"]
[null,null,null,"D83","VPOP","D83","NULL","NULL","NULL","NULL","VP Operations","D83","NULL","D83 - Goldendale Construction"]
[null,null,null,"E08","VPOP","E08","NULL","NULL","NULL","NULL","VP Operations","E08","NULL","E08 - Old RC for Conversion"]
[null,null,null,"E54","VPFO","E54","NULL","NULL","NULL","NULL","Executive VP & CFO - Finance & Risk Mana","E54","NULL","E54 - Accounts Payable"]
[null,null,null,"F14","VPOP","F14","NULL","NULL","NULL","NULL","VP Operations","F14","NULL","F14 - External Projects"]
[null,null,null,"F51","VPOP","F51","NULL","NULL","NULL","NULL","VP Operations","F51","NULL","F51 - G.I.S."]
[null,null,null,"G55","VPPS","G55","NULL","NULL","NULL","NULL","VP Energy Resources","G55","NULL","G55 - Power Purchases"]
[null,null,null,"H03","VPOP","H03","NULL","NULL","NULL","NULL","VP Operations","H03","NULL","H03 - Facility Lease Management"]
[null,null,null,"H55","VPPS","H55","NULL","NULL","NULL","NULL","VP Energy Resources","H55","NULL","H55 - Fuels Management"]
[null,null,null,"G02","VPHR","NULL","NULL","NULL","NULL","NULL","Sr. VP Human Resources","G02","Heather Rosentrater","G02 - Employee Safety"]
[null,null,null,"G08","AVA","NULL","NULL","NULL","NULL","NULL","Total Company","G08"," ","G08 - Gas Construction Management"]
[null,null,null,"G08","CEXO","NULL","NULL","NULL","NULL","NULL","CEO & President","G08"," ","G08 - Gas Construction Management"]
[null,null,null,"G08","G08","NULL","NULL","NULL","NULL","NULL","Gas Construction Management","G08","Mike Faulkenberry","G08 - Gas Construction Management"]
[null,null,null,"J11","VPHR","J11","NULL","NULL","NULL","NULL","Human Resources","J11","NULL","J11 - Planning & Analysis"]
[null,null,null,"G08","GAS","NULL","NULL","NULL","NULL","NULL","Gas","G08","NULL","G08 - Gas Construction Management"]
[null,null,null,"G08","NGAS","NULL","NULL","NULL","NULL","NULL","Natural Gas","G08","Mike Faulkenberry","G08 - Gas Construction Management"]
[null,null,null,"G08","NGCO","NULL","NULL","NULL","NULL","NULL","Natural Gas Construction Ops","G08","Mike Faulkenberry","G08 - Gas Construction Management"]
[null,null,null,"G08","VPOP","NULL","NULL","NULL","NULL","NULL","VP Energy Delivery","G08","Jason Thackston","G08 - Gas Construction Management"]
[null,null,null,"G08","VPUP","NULL","NULL","NULL","NULL","NULL","President & COO Avista Corp","G08","Marian Durkin","G08 - Gas Construction Management"]
[null,null,null,"G10","AVA","NULL","NULL","NULL","NULL","NULL","Total Company","G10"," ","G10 - Credit Union"]
[null,null,null,"G10","CEXO","NULL","NULL","NULL","NULL","NULL","CEO & President","G10"," ","G10 - Credit Union"]
[null,null,null,"K14","VPCS","K14","NULL","NULL","NULL","NULL","Customer Service","K14","NULL","K14 - Public Affairs"]
[null,null,null,"K50","VPOP","K50","NULL","NULL","NULL","NULL","VP Operations","K50","NULL","K50 - Old RC - Conversion"]
[null,null,null,"G10","G10","NULL","NULL","NULL","NULL","NULL","Credit Union","G10","Michael Grabicki","G10 - Credit Union"]
[null,null,null,"G10","SUPP","NULL","NULL","NULL","NULL","NULL","Support","G10","NULL","G10 - Credit Union"]
[null,null,null,"K54","VPFO","K54","NULL","NULL","NULL","NULL","Executive VP & CFO - Finance & Risk Mana","K54","NULL","K54 - Financial Systems Project"]
[null,null,null,"G10","VPFN","NULL","NULL","NULL","NULL","NULL","Finance & Treasury","G10","Mark Thies","G10 - Credit Union"]
[null,null,null,"G10","VPFO","NULL","NULL","NULL","NULL","NULL","Sr. VP & CFO","G10","Marian Durkin","G10 - Credit Union"]
[null,null,null,"G39","APPS","NULL","NULL","NULL","NULL","NULL","Applications Summary","G39","Hossein Nikdel","G39 - GIS Development"]
[null,null,null,"G39","AVA","NULL","NULL","NULL","NULL","NULL","Total Company","G39"," ","G39 - GIS Development"]
[null,null,null,"G39","CEXO","NULL","NULL","NULL","NULL","NULL","CEO & President","G39"," ","G39 - GIS Development"]
[null,null,null,"G39","G39","NULL","NULL","NULL","NULL","NULL","GIS Developemnt","G39","Graham Smith","G39 - GIS Development"]
[null,null,null,"G39","INFO","NULL","NULL","NULL","NULL","NULL","VP Info & Security","G39","Jim Kensok","G39 - GIS Development"]
[null,null,null,"G39","ISDV","NULL","NULL","NULL","NULL","NULL","IS Development Rollup","G39","Hossein Nikdel","G39 - GIS Development"]
[null,null,null,"G39","SUPP","NULL","NULL","NULL","NULL","NULL","Support","G39","NULL","G39 - GIS Development"]
[null,null,null,"G39","VPUP","NULL","NULL","NULL","NULL","NULL","President & COO Avista Corp","G39","Marian Durkin","G39 - GIS Development"]
[null,null,null,"G50","AVA","NULL","NULL","NULL","NULL","NULL","Total Company","G50"," ","G50 - Colville"]
[null,null,null,"G50","CEXO","NULL","NULL","NULL","NULL","NULL","CEO & President","G50"," ","G50 - Colville"]
[null,null,null,"G50","ELEC","NULL","NULL","NULL","NULL","NULL","Electric","G50","NULL","G50 - Colville"]
[null,null,null,"G50","G50","NULL","NULL","NULL","NULL","NULL","Colville","G50","Cesar Godinez","G50 - Colville"]
[null,null,null,"G50","VPOP","NULL","NULL","NULL","NULL","NULL","VP Energy Delivery","G50","Jason Thackston","G50 - Colville"]
[null,null,null,"G50","VPUP","NULL","NULL","NULL","NULL","NULL","President & COO Avista Corp","G50","Marian Durkin","G50 - Colville"]
[null,null,null,"N07","VPPS","N07","NULL","NULL","NULL","NULL","VP Energy Resources","N07","NULL","N07 - Utility Environ Compliance"]
[null,null,null,"G50","WEST","NULL","NULL","NULL","NULL","NULL","Director of Operations - West","G50"," ","G50 - Colville"]
[null,null,null,"G51","AVA","NULL","NULL","NULL","NULL","NULL","Total Company","G51"," ","G51 - Dir of Natural Gas"]
[null,null,null,"G51","CEXO","NULL","NULL","NULL","NULL","NULL","CEO & President","G51"," ","G51 - Dir of Natural Gas"]
[null,null,null,"G51","G51","NULL","NULL","NULL","NULL","NULL","Dir of Natural Gas","G51","Mike Faulkenberry","G51 - Dir of Natural Gas"]
[null,null,null,"G51","GAS","NULL","NULL","NULL","NULL","NULL","Gas","G51","NULL","G51 - Dir of Natural Gas"]
[null,null,null,"N53","VPCS","N53","NULL","NULL","NULL","NULL","Customer Service","N53","NULL","N53 - AM Spokane West"]
[null,null,null,"G51","NGAS","NULL","NULL","NULL","NULL","NULL","Natural Gas","G51","Mike Faulkenberry","G51 - Dir of Natural Gas"]
[null,null,null,"G51","VPOP","NULL","NULL","NULL","NULL","NULL","VP Energy Delivery","G51","Jason Thackston","G51 - Dir of Natural Gas"]
[null,null,null,"G51","VPUP","NULL","NULL","NULL","NULL","NULL","President & COO Avista Corp","G51","Marian Durkin","G51 - Dir of Natural Gas"]
[null,null,null,"G53","AVA","NULL","NULL","NULL","NULL","NULL","Total Company","G53"," ","G53 - Area Manager - CDA"]
[null,null,null,"G53","CEXO","NULL","NULL","NULL","NULL","NULL","CEO & President","G53"," ","G53 - Area Manager - CDA"]
[null,null,null,"G53","ESOL","NULL","NULL","NULL","NULL","NULL","Energy Solutions","G53","Pat Lynch","G53 - Area Manager - CDA"]
[null,null,null,"G53","G53","NULL","NULL","NULL","NULL","NULL","Reg Bus Mgr - North Idaho","G53","Sharmon Schmitt","G53 - Area Manager - CDA"]
[null,null,null,"R03","AVIS","R03","NULL","NULL","NULL","NULL","Avista Subsidiary","R03","NULL","R03 - Avista Energy"]
[null,null,null,"G53","SUPP","NULL","NULL","NULL","NULL","NULL","Support","G53","NULL","G53 - Area Manager - CDA"]
[null,null,null,"G53","VPCS","NULL","NULL","NULL","NULL","NULL","VP Customer Solutions","G53","Kevin Christie","G53 - Area Manager - CDA"]
[null,null,null,"R50","VPOP","R50","NULL","NULL","NULL","NULL","VP Operations","R50","NULL","R50 - Spokane Construction Engineering"]
[null,null,null,"G53","VPUP","NULL","NULL","NULL","NULL","NULL","President & COO Avista Corp","G53","Marian Durkin",{"$f":"VLOOKUP(L1476,Table1,2)","v":"G53 - Area Manager - CDA"}]
[null,null,null,"G54","AVA","NULL","NULL","NULL","NULL","NULL","Total Company","G54"," ","G54 - Finance Administration"]
[null,null,null,"G54","CEXO","NULL","NULL","NULL","NULL","NULL","CEO & President","G54"," ","G54 - Finance Administration"]
[null,null,null,"G54","G54","NULL","NULL","NULL","NULL","NULL","Finance Administration","G54","Karen Lorenz","G54 - Finance Administration"]
[null,null,null,"G54","SUPP","NULL","NULL","NULL","NULL","NULL","Support","G54","NULL","G54 - Finance Administration"]
[null,null,null,"G54","VPCC","NULL","NULL","NULL","NULL","NULL","VP Corporate Controller","G54","Kevin Christie","G54 - Finance Administration"]
[null,null,null,"G54","VPFO","NULL","NULL","NULL","NULL","NULL","Sr. VP & CFO","G54","Marian Durkin","G54 - Finance Administration"]
[null,null,null,"S08","VPOP","S08","NULL","NULL","NULL","NULL","VP Operations","S08","NULL","S08 - Strategic Projects Development"]
[null,null,null,"H02","AVA","NULL","NULL","NULL","NULL","NULL","Total Company","H02"," ","H02 - Occupational Health"]
[null,null,null,"H02","CEXO","NULL","NULL","NULL","NULL","NULL","CEO & President","H02"," ","H02 - Occupational Health"]
[null,null,null,"H02","H02","NULL","NULL","NULL","NULL","NULL","Occupational Health","H02","George Brown","H02 - Occupational Health"]
[null,null,null,"H02","SUPP","NULL","NULL","NULL","NULL","NULL","Support","H02","NULL","H02 - Occupational Health"]
[null,null,null,"H02","VPHR","NULL","NULL","NULL","NULL","NULL","Sr. VP Human Resources","H02","Heather Rosentrater","H02 - Occupational Health"]
[null,null,null,"T03","AVIS","T03","NULL","NULL","NULL","NULL","Avista Subsidiary","NULL","NULL","N54 - Strategic Initiatives"]
[null,null,null,"H04","0004","NULL","NULL","NULL","NULL","NULL","Environmental Affairs","H04","Bruce Howard","H04 - Hydro Compliance"]
[null,null,null,"H04","AVA","NULL","NULL","NULL","NULL","NULL","Total Company","H04"," ","H04 - Hydro Compliance"]
[null,null,null,"T50","VPCS","T50","NULL","NULL","NULL","NULL","Customer Service","T50","NULL","T50 - Econ Develop Analyst"]
[null,null,null,"H04","CEXO","NULL","NULL","NULL","NULL","NULL","CEO & President","H04"," ","H04 - Hydro Compliance"]
[null,null,null,"T53","VPOP","T53","NULL","NULL","NULL","NULL","VP Operations","T53","NULL","T53 - South East Engineer"]
[null,null,null,"T55","VPPS","T55","NULL","NULL","NULL","NULL","VP Energy Resources","T55","NULL","T54 - Rev and Fin Systems"]
[null,null,null,"H04","H04","NULL","NULL","NULL","NULL","NULL","Hydro Compliance","H04","Bruce Howard","H04 - Hydro Compliance"]
[null,null,null,"H04","SUPP","NULL","NULL","NULL","NULL","NULL","Support","H04","NULL","H04 - Hydro Compliance"]
[null,null,null,"H04","VPGC","NULL","NULL","NULL","NULL","NULL","Sr. VP & General Counsel","H04","Karen Feltes","H04 - Hydro Compliance"]
[null,null,null,"H07","AVA","NULL","NULL","NULL","NULL","NULL","Total Company","H07"," ","H07 - Facilities Management"]
[null,null,null,"H07","CEXO","NULL","NULL","NULL","NULL","NULL","CEO & President","H07"," ","H07 - Facilities Management"]
[null,null,null,"H07","H07","NULL","NULL","NULL","NULL","NULL","Facilities Management","H07","Eric Bowles","H07 - Facilities Management"]
[null,null,null,"H07","SERV","NULL","NULL","NULL","NULL","NULL","Shared Services","H07","Dennis Vermillion","H07 - Facilities Management"]
[null,null,null,"H07","SUPP","NULL","NULL","NULL","NULL","NULL","Support","H07","NULL","H07 - Facilities Management"]
[null,null,null,"H07","VPOP","NULL","NULL","NULL","NULL","NULL","VP Energy Delivery","H07","Jason Thackston","H07 - Facilities Management"]
[null,null,null,"H07","VPUP","NULL","NULL","NULL","NULL","NULL","President & COO Avista Corp","H07","Marian Durkin","H07 - Facilities Management"]
[null,null,null,"H08","AVA","NULL","NULL","NULL","NULL","NULL","Total Company","H08"," ","H08 - Energy Del Stratgic Proj"]
[null,null,null,"H08","CEXO","NULL","NULL","NULL","NULL","NULL","CEO & President","H08"," ","H08 - Energy Del Stratgic Proj"]
[null,null,null,"H08","ENGR","NULL","NULL","NULL","NULL","NULL","Electric Engineering","H08","David Howell","H08 - Energy Del Stratgic Proj"]
[null,null,null,"H08","H08","NULL","NULL","NULL","NULL","NULL","Energy Del Strategic Proj","H08","Heather Rosentrater","H08 - Energy Del Stratgic Proj"]
[null,null,null,"H08","SUPP","NULL","NULL","NULL","NULL","NULL","Support","H08","NULL","H08 - Energy Del Stratgic Proj"]
[null,null,null,"H08","VPOP","NULL","NULL","NULL","NULL","NULL","VP Energy Delivery","H08","Jason Thackston","H08 - Energy Del Stratgic Proj"]
[null,null,null,"H08","VPUP","NULL","NULL","NULL","NULL","NULL","President & COO Avista Corp","H08","Marian Durkin","H08 - Energy Del Stratgic Proj"]
[null,null,null,"H14","AVA","NULL","NULL","NULL","NULL","NULL","Total Company","H14"," ","H14 - Consumer Affairs"]
[null,null,null,"H14","CEXO","NULL","NULL","NULL","NULL","NULL","CEO & President","H14"," ","H14 - Consumer Affairs"]
[null,null,null,"H14","ESOL","NULL","NULL","NULL","NULL","NULL","Energy Solutions","H14","Pat Lynch","H14 - Consumer Affairs"]
[null,null,null,"H14","H14","NULL","NULL","NULL","NULL","NULL","Consumer Affairs","H14","Pat Lynch","H14 - Consumer Affairs"]
[null,null,null,"H14","SUPP","NULL","NULL","NULL","NULL","NULL","Support","H14","NULL","H14 - Consumer Affairs"]
[null,null,null,"Z81","VPCC","Z81","NULL","NULL","NULL","NULL","Finance & Risk Management","Z81","NULL","T54 - Rev and Fin Systems"]
[null,null,null,"Z82","VPPS","Z82","NULL","NULL","NULL","NULL","VP Energy Resources","Z82","NULL","T54 - Rev and Fin Systems"]
[null,null,null,"Z83","VPOP","Z83","NULL","NULL","NULL","NULL","VP Operations","Z83","NULL","T54 - Rev and Fin Systems"]
[null,null,null,"Z84","VPOP","Z84","NULL","NULL","NULL","NULL","VP Operations","Z84","NULL","T54 - Rev and Fin Systems"]
[null,null,null,"Z85","VPOP","Z85","NULL","NULL","NULL","NULL","VP Operations","Z85","NULL","T54 - Rev and Fin Systems"]
[null,null,null,"Z86","VPOP","Z86","NULL","NULL","NULL","NULL","VP Operations","Z86","NULL","T54 - Rev and Fin Systems"]
[null,null,null,"H14","VPCS","NULL","NULL","NULL","NULL","NULL","VP Customer Solutions","H14","Kevin Christie","H14 - Consumer Affairs"]
[null,null,null,"H14","VPUP","NULL","NULL","NULL","NULL","NULL","President & COO Avista Corp","H14","Marian Durkin","H14 - Consumer Affairs"]
[null,null,null,"H50","AVA","NULL","NULL","NULL","NULL","NULL","Total Company","H50"," ","H50 - Othello"]
[null,null,null,"H50","CEXO","NULL","NULL","NULL","NULL","NULL","CEO & President","H50"," ","H50 - Othello"]
[null,null,null,"H50","ELEC","NULL","NULL","NULL","NULL","NULL","Electric","H50","NULL","H50 - Othello"]
[null,null,null,"H50","H50","NULL","NULL","NULL","NULL","NULL","Othello","H50","Ian Eccles","H50 - Othello"]
[null,null,null,"H50","VPOP","NULL","NULL","NULL","NULL","NULL","VP Energy Delivery","H50","Jason Thackston","H50 - Othello"]
[null,null,null,"H50","VPUP","NULL","NULL","NULL","NULL","NULL","President & COO Avista Corp","H50","Marian Durkin","H50 - Othello"]
[null,null,null,"H50","WEST","NULL","NULL","NULL","NULL","NULL","Director of Operations - West","H50"," ","H50 - Othello"]
[null,null,null,"H51","AVA","NULL","NULL","NULL","NULL","NULL","Total Company","H51"," ","H51 - Supply Chain Mgmt"]
[null,null,null,"H51","CEXO","NULL","NULL","NULL","NULL","NULL","CEO & President","H51"," ","H51 - Supply Chain Mgmt"]
[null,null,null,"H51","H51","NULL","NULL","NULL","NULL","NULL","Supply Chain","H51","Cody Krogh","H51 - Supply Chain Mgmt"]
[null,null,null,"H51","SERV","NULL","NULL","NULL","NULL","NULL","Shared Services","H51","Dennis Vermillion","H51 - Supply Chain Mgmt"]
[null,null,null,"H51","SUPP","NULL","NULL","NULL","NULL","NULL","Support","H51","NULL","H51 - Supply Chain Mgmt"]
[null,null,null,"H51","VPOP","NULL","NULL","NULL","NULL","NULL","VP Energy Delivery","H51","Jason Thackston","H51 - Supply Chain Mgmt"]
[null,null,null,"H51","VPUP","NULL","NULL","NULL","NULL","NULL","President & COO Avista Corp","H51","Marian Durkin","H51 - Supply Chain Mgmt"]
[null,null,null,"H53","AVA","NULL","NULL","NULL","NULL","NULL","Total Company","H53"," ",{"$f":"VLOOKUP(L1540,Table1,2)","v":"H53 - Kellogg"}]
[null,null,null,"H53","CEXO","NULL","NULL","NULL","NULL","NULL","CEO & President","H53"," ","H53 - Kellogg"]
[null,null,null,"H53","EAST","NULL","NULL","NULL","NULL","NULL","Director Operations - East","H53","Greg Gfeller","H53 - Kellogg"]
[null,null,null,"H53","ELEC","NULL","NULL","NULL","NULL","NULL","Electric","H53","NULL","H53 - Kellogg"]
[null,null,null,"H53","H53","NULL","NULL","NULL","NULL","NULL","Kellogg","H53","Jesse Butler","H53 - Kellogg"]
[null,null,null,"H53","VPOP","NULL","NULL","NULL","NULL","NULL","VP Energy Delivery","H53","Jason Thackston","H53 - Kellogg"]
[null,null,null,"H53","VPUP","NULL","NULL","NULL","NULL","NULL","President & COO Avista Corp","H53","Marian Durkin","H53 - Kellogg"]
[null,null,null,"H54","AVA","NULL","NULL","NULL","NULL","NULL","Total Company","H54"," ","H54 - AP/Remittance Services"]
[null,null,null,"H54","CEXO","NULL","NULL","NULL","NULL","NULL","CEO & President","H54"," ","H54 - AP/Remittance Services"]
[null,null,null,"H54","H54","NULL","NULL","NULL","NULL","NULL","Remittance & Acounts Payable","H54","Angela Hayne","H54 - AP/Remittance Services"]
[null,null,null,"H54","SUPP","NULL","NULL","NULL","NULL","NULL","Support","H54","NULL","H54 - AP/Remittance Services"]
[null,null,null,"H54","VPFN","NULL","NULL","NULL","NULL","NULL","Finance & Treasury","H54","Mark Thies","H54 - AP/Remittance Services"]
[null,null,null,"H54","VPFO","NULL","NULL","NULL","NULL","NULL","Sr. VP & CFO","H54","Marian Durkin","H54 - AP/Remittance Services"]
[null,null,null,"I02","AVA","NULL","NULL","NULL","NULL","NULL","Total Company","I02"," ","I02 - Craft Training"]
[null,null,null,"I02","CEXO","NULL","NULL","NULL","NULL","NULL","CEO & President","I02"," ","I02 - Craft Training"]
[null,null,null,"I02","I02","NULL","NULL","NULL","NULL","NULL","Craft Training","I02","Jeremy Gall","I02 - Craft Training"]
[null,null,null,"I02","SUPP","NULL","NULL","NULL","NULL","NULL","Support","I02","NULL","I02 - Craft Training"]
[null,null,null,"I02","VPHR","NULL","NULL","NULL","NULL","NULL","Sr. VP Human Resources","I02","Heather Rosentrater","I02 - Craft Training"]
[null,null,null,"I08","AVA","NULL","NULL","NULL","NULL","NULL","Total Company","I08"," ","I08 - Energy Delivery Operations Support"]
[null,null,null,"I08","CEXO","NULL","NULL","NULL","NULL","NULL","CEO & President","I08"," ","I08 - Energy Delivery Operations Support"]
[null,null,null,"I08","GAS","NULL","NULL","NULL","NULL","NULL","Gas","I08","NULL","I08 - Energy Delivery Operations Support"]
[null,null,null,"I08","I08","NULL","NULL","NULL","NULL","NULL","Energy Delivery Operations Support","I08","Randy Gnaedinger","I08 - Energy Delivery Operations Support"]
[null,null,null,"I08","NGAS","NULL","NULL","NULL","NULL","NULL","Natural Gas","I08","Mike Faulkenberry","I08 - Energy Delivery Operations Support"]
[null,null,null,"I08","NGCO","NULL","NULL","NULL","NULL","NULL","Natural Gas Construction Ops","I08","Mike Faulkenberry","I08 - Energy Delivery Operations Support"]
[null,null,null,"I08","VPOP","NULL","NULL","NULL","NULL","NULL","VP Energy Delivery","I08","Jason Thackston","I08 - Energy Delivery Operations Support"]
[null,null,null,"I08","VPUP","NULL","NULL","NULL","NULL","NULL","President & COO Avista Corp","I08","Marian Durkin","I08 - Energy Delivery Operations Support"]
[null,null,null,"I50","AVA","NULL","NULL","NULL","NULL","NULL","Total Company","I50"," ","I50 - Contact Center-IT"]
[null,null,null,"I50","CEXO","NULL","NULL","NULL","NULL","NULL","CEO & President","I50"," ","I50 - Contact Center-IT"]
[null,null,null,"I50","CUST","NULL","NULL","NULL","NULL","NULL","Customer Service & Sales","I50","Mike Broemeling","I50 - Contact Center-IT"]
[null,null,null,"I50","I50","NULL","NULL","NULL","NULL","NULL","Con Ctr - IT","I50","Galen Lorenz","I50 - Contact Center-IT"]
[null,null,null,"I50","SUPP","NULL","NULL","NULL","NULL","NULL","Support","I50","NULL","I50 - Contact Center-IT"]
[null,null,null,"I50","VPCS","NULL","NULL","NULL","NULL","NULL","VP Customer Solutions","I50","Kevin Christie","I50 - Contact Center-IT"]
[null,null,null,"028","028","NULL","NULL","NULL","NULL","NULL","Washington State Expense","028","NULL",{"$error":"#N/A"}]
[null,null,null,"028","AVA","NULL","NULL","NULL","NULL","NULL","Total Company","028","NULL",{"$error":"#N/A"}]
[null,null,null,"028","SUPP","NULL","NULL","NULL","NULL","NULL","Support","028","NULL",{"$error":"#N/A"}]
[null,null,null,"038","038","NULL","NULL","NULL","NULL","NULL","Idaho State Expense","038","NULL",{"$error":"#N/A"}]
[null,null,null,"038","AVA","NULL","NULL","NULL","NULL","NULL","Total Company","038","NULL",{"$error":"#N/A"}]
[null,null,null,"038","SUPP","NULL","NULL","NULL","NULL","NULL","Support","038","NULL",{"$error":"#N/A"}]
[null,null,null,"048","048","NULL","NULL","NULL","NULL","NULL","Montana State Expense","048","Jason Thackston",{"$error":"#N/A"}]
[null,null,null,"048","AVA","NULL","NULL","NULL","NULL","NULL","Total Company","048","NULL",{"$error":"#N/A"}]
[null,null,null,"048","SUPP","NULL","NULL","NULL","NULL","NULL","Support","048","NULL",{"$error":"#N/A"}]
[null,null,null,"068","068","NULL","NULL","NULL","NULL","NULL","Oregon State Expense","068","NULL",{"$error":"#N/A"}]
[null,null,null,"068","AVA","NULL","NULL","NULL","NULL","NULL","Total Company","068","NULL",{"$error":"#N/A"}]
[null,null,null,"068","SUPP","NULL","NULL","NULL","NULL","NULL","Support","068","NULL",{"$error":"#N/A"}]
[null,null,null,"078","078","NULL","NULL","NULL","NULL","NULL","California State Expense","078","NULL",{"$error":"#N/A"}]
[null,null,null,"078","AVA","NULL","NULL","NULL","NULL","NULL","Total Company","078","NULL",{"$error":"#N/A"}]
[null,null,null,"078","SUPP","NULL","NULL","NULL","NULL","NULL","Support","078","NULL",{"$error":"#N/A"}]
[null,null,null,"092","092","NULL","NULL","NULL","NULL","NULL","Oregon/California Allocated Expense","092","NULL",{"$error":"#N/A"}]
[null,null,null,"092","AVA","NULL","NULL","NULL","NULL","NULL","Total Company","092","NULL",{"$error":"#N/A"}]
[null,null,null,"092","SUPP","NULL","NULL","NULL","NULL","NULL","Support","092","NULL",{"$error":"#N/A"}]
[null,null,null,"098","098","NULL","NULL","NULL","NULL","NULL","Washington/Idaho Common Expense","098","NULL",{"$error":"#N/A"}]
[null,null,null,"098","AVA","NULL","NULL","NULL","NULL","NULL","Total Company","098","NULL",{"$error":"#N/A"}]
[null,null,null,"098","GENL","NULL","NULL","NULL","NULL","NULL","General Corporate","098","NULL",{"$error":"#N/A"}]
[null,null,null,"10A","10A","NULL","NULL","NULL","NULL","NULL","AA - Account Management","NULL","NULL","N54 - Strategic Initiatives"]
[null,null,null,"10A","AVA","NULL","NULL","NULL","NULL","NULL","Total Company","NULL","NULL","N54 - Strategic Initiatives"]
[null,null,null,"10A","AVIS","NULL","NULL","NULL","NULL","NULL","Avista Subsidiaries","NULL","Scott Morris","N54 - Strategic Initiatives"]
[null,null,null,"10A","SUPP","NULL","NULL","NULL","NULL","NULL","Support","NULL","NULL","N54 - Strategic Initiatives"]
[null,null,null,"11E","11E","NULL","NULL","NULL","NULL","NULL","AE - Finance","11E","NULL","11E - AE Finance"]
[null,null,null,"11E","AVA","NULL","NULL","NULL","NULL","NULL","Total Company","11E","NULL","11E - AE Finance"]
[null,null,null,"11E","AVIS","NULL","NULL","NULL","NULL","NULL","Avista Subsidiaries","11E","Scott Morris","11E - AE Finance"]
[null,null,null,"11E","SUPP","NULL","NULL","NULL","NULL","NULL","Support","11E","NULL","11E - AE Finance"]
[null,null,null,"20A","20A","NULL","NULL","NULL","NULL","NULL","AA - Implementation","NULL","NULL","N54 - Strategic Initiatives"]
[null,null,null,"20A","AVA","NULL","NULL","NULL","NULL","NULL","Total Company","NULL","NULL","N54 - Strategic Initiatives"]
[null,null,null,"20A","AVIS","NULL","NULL","NULL","NULL","NULL","Avista Subsidiaries","NULL","Scott Morris","N54 - Strategic Initiatives"]
[null,null,null,"20A","SUPP","NULL","NULL","NULL","NULL","NULL","Support","NULL","NULL",{"$f":"VLOOKUP(L1604,Table1,2)","v":"N54 - Strategic Initiatives"}]
[null,null,null,"20E","20E","NULL","NULL","NULL","NULL","NULL","AE - Marketing Spokane","20E","NULL","20E - AE - Marketing Spokane"]
[null,null,null,"20E","AVA","NULL","NULL","NULL","NULL","NULL","Total Company","20E","NULL","20E - AE - Marketing Spokane"]
[null,null,null,"20E","AVIS","NULL","NULL","NULL","NULL","NULL","Avista Subsidiaries","20E","Scott Morris","20E - AE - Marketing Spokane"]
[null,null,null,"20E","SUPP","NULL","NULL","NULL","NULL","NULL","Support","20E","NULL","20E - AE - Marketing Spokane"]
[null,null,null,"21E","21E","NULL","NULL","NULL","NULL","NULL","AE - Marketing Houston","NULL","NULL","N54 - Strategic Initiatives"]
[null,null,null,"21E","AVA","NULL","NULL","NULL","NULL","NULL","Total Company","NULL","NULL","N54 - Strategic Initiatives"]
[null,null,null,"21E","AVIS","NULL","NULL","NULL","NULL","NULL","Avista Subsidiaries","NULL","Scott Morris","N54 - Strategic Initiatives"]
[null,null,null,"21E","SUPP","NULL","NULL","NULL","NULL","NULL","Support","NULL","NULL","N54 - Strategic Initiatives"]
[null,null,null,"30E","30E","NULL","NULL","NULL","NULL","NULL","AE - IS","NULL","NULL","N54 - Strategic Initiatives"]
[null,null,null,"30E","AVA","NULL","NULL","NULL","NULL","NULL","Total Company","NULL","NULL","N54 - Strategic Initiatives"]
[null,null,null,"30E","AVIS","NULL","NULL","NULL","NULL","NULL","Avista Subsidiaries","NULL","Scott Morris","N54 - Strategic Initiatives"]
[null,null,null,"30E","SUPP","NULL","NULL","NULL","NULL","NULL","Support","NULL","NULL","N54 - Strategic Initiatives"]
[null,null,null,"35E","35E","NULL","NULL","NULL","NULL","NULL","AE - Credit/Contracts","NULL","NULL","N54 - Strategic Initiatives"]
[null,null,null,"35E","AVA","NULL","NULL","NULL","NULL","NULL","Total Company","NULL","NULL","N54 - Strategic Initiatives"]
[null,null,null,"35E","AVIS","NULL","NULL","NULL","NULL","NULL","Avista Subsidiaries","NULL","Scott Morris","N54 - Strategic Initiatives"]
[null,null,null,"35E","SUPP","NULL","NULL","NULL","NULL","NULL","Support","NULL","NULL","N54 - Strategic Initiatives"]
[null,null,null,"40A","40A","NULL","NULL","NULL","NULL","NULL","AA - Training","NULL","NULL","N54 - Strategic Initiatives"]
[null,null,null,"40A","AVA","NULL","NULL","NULL","NULL","NULL","Total Company","NULL","NULL","N54 - Strategic Initiatives"]
[null,null,null,"40A","AVIS","NULL","NULL","NULL","NULL","NULL","Avista Subsidiaries","NULL","Scott Morris","N54 - Strategic Initiatives"]
[null,null,null,"40A","SUPP","NULL","NULL","NULL","NULL","NULL","Support","NULL","NULL","N54 - Strategic Initiatives"]
[null,null,null,"40E","40E","NULL","NULL","NULL","NULL","NULL","AE - Risk","40E","NULL","40E - AE - Risk"]
[null,null,null,"40E","AVA","NULL","NULL","NULL","NULL","NULL","Total Company","40E","NULL","40E - AE - Risk"]
[null,null,null,"40E","AVIS","NULL","NULL","NULL","NULL","NULL","Avista Subsidiaries","40E","Scott Morris","40E - AE - Risk"]
[null,null,null,"40E","SUPP","NULL","NULL","NULL","NULL","NULL","Support","40E","NULL","40E - AE - Risk"]
[null,null,null,"50A","50A","NULL","NULL","NULL","NULL","NULL","AA - Administration","NULL","NULL","N54 - Strategic Initiatives"]
[null,null,null,"50A","AVA","NULL","NULL","NULL","NULL","NULL","Total Company","NULL","NULL","N54 - Strategic Initiatives"]
[null,null,null,"50A","AVIS","NULL","NULL","NULL","NULL","NULL","Avista Subsidiaries","NULL","Scott Morris","N54 - Strategic Initiatives"]
[null,null,null,"50A","SUPP","NULL","NULL","NULL","NULL","NULL","Support","NULL","NULL","N54 - Strategic Initiatives"]
[null,null,null,"50E","50E","NULL","NULL","NULL","NULL","NULL","AE - Trading Spokane","50E","NULL","50E - AE - Trading Spokane"]
[null,null,null,"50E","AVA","NULL","NULL","NULL","NULL","NULL","Total Company","50E","NULL","50E - AE - Trading Spokane"]
[null,null,null,"50E","AVIS","NULL","NULL","NULL","NULL","NULL","Avista Subsidiaries","50E","Scott Morris","50E - AE - Trading Spokane"]
[null,null,null,"50E","SUPP","NULL","NULL","NULL","NULL","NULL","Support","50E","NULL","50E - AE - Trading Spokane"]
[null,null,null,"52E","52E","NULL","NULL","NULL","NULL","NULL","AE - Trading Houston","NULL","NULL","N54 - Strategic Initiatives"]
[null,null,null,"52E","AVA","NULL","NULL","NULL","NULL","NULL","Total Company","NULL","NULL","N54 - Strategic Initiatives"]
[null,null,null,"52E","AVIS","NULL","NULL","NULL","NULL","NULL","Avista Subsidiaries","NULL","Scott Morris","N54 - Strategic Initiatives"]
[null,null,null,"52E","SUPP","NULL","NULL","NULL","NULL","NULL","Support","NULL","NULL","N54 - Strategic Initiatives"]
[null,null,null,"60A","60A","NULL","NULL","NULL","NULL","NULL","AA - Data Entry","NULL","NULL","N54 - Strategic Initiatives"]
[null,null,null,"60A","AVA","NULL","NULL","NULL","NULL","NULL","Total Company","NULL","NULL","N54 - Strategic Initiatives"]
[null,null,null,"60A","AVIS","NULL","NULL","NULL","NULL","NULL","Avista Subsidiaries","NULL","Scott Morris","N54 - Strategic Initiatives"]
[null,null,null,"60A","SUPP","NULL","NULL","NULL","NULL","NULL","Support","NULL","NULL","N54 - Strategic Initiatives"]
[null,null,null,"A03","A03","NULL","NULL","NULL","NULL","NULL","Avista Power","NULL","NULL","N54 - Strategic Initiatives"]
[null,null,null,"A03","AVA","NULL","NULL","NULL","NULL","NULL","Total Company","NULL","NULL","N54 - Strategic Initiatives"]
[null,null,null,"A03","AVIS","NULL","NULL","NULL","NULL","NULL","Avista Subsidiaries","NULL","Scott Morris","N54 - Strategic Initiatives"]
[null,null,null,"A03","SUPP","NULL","NULL","NULL","NULL","NULL","Support","NULL","NULL","N54 - Strategic Initiatives"]
[null,null,null,"A80","A80","NULL","NULL","NULL","NULL","NULL","Director of OREG","A80","NULL","A80 - Director of ORCA"]
[null,null,null,"A80","AVA","NULL","NULL","NULL","NULL","NULL","Total Company","A80","NULL","A80 - Director of ORCA"]
[null,null,null,"A80","GAS","NULL","NULL","NULL","NULL","NULL","Gas","A80","NULL","A80 - Director of ORCA"]
[null,null,null,"A80","VPUP","NULL","NULL","NULL","NULL","NULL","President & COO Avista Corp","A80","Dennis Vermillion","A80 - Director of ORCA"]
[null,null,null,"A50","VPUP","VPOP","WEST","A50","NULL","NULL","President & COO Avista Corp","A50","Marian Durkin","A50 - Director of Ops WA & ID"]
[null,null,null,"A50","WEST","A50","NULL","NULL","NULL","NULL","Director of Operations - West","A50"," ","A50 - Director of Ops WA & ID"]
[null,null,null,"A51","A51","NULL","NULL","NULL","NULL","NULL","East and South Ops","A51","Greg Gfeller","A51 - Dir Operations East & South"]
[null,null,null,"A51","AVA","CEXO","VPUP","VPOP","EAST","A51","Total Company","A51"," ","A51 - Dir Operations East & South"]
[null,null,null,"A51","CEXO","VPUP","VPOP","EAST","A51","NULL","CEO & President","A51"," ","A51 - Dir Operations East & South"]
[null,null,null,"A51","EAST","A51","NULL","NULL","NULL","NULL","Director Operations - East","A51","Greg Gfeller","A51 - Dir Operations East & South"]
[null,null,null,"A51","VPOP","EAST","A51","NULL","NULL","NULL","VP Energy Delivery","A51","Jason Thackston","A51 - Dir Operations East & South"]
[null,null,null,"A51","VPUP","VPOP","EAST","A51","NULL","NULL","President & COO Avista Corp","A51","Marian Durkin","A51 - Dir Operations East & South"]
[null,null,null,"A52","A52","NULL","NULL","NULL","NULL","NULL","Svc Develop & Marketing","A52","Dana Anderson","A52 - Svc Develop & Marketng"]
[null,null,null,"A52","AVA","CEXO","VPUP","VPCS","CSOL","A52","Total Company","A52"," ","A52 - Svc Develop & Marketng"]
[null,null,null,"A52","CEXO","VPUP","VPCS","CSOL","A52","NULL","CEO & President","A52"," ","A52 - Svc Develop & Marketng"]
[null,null,null,"A52","CSOL","A52","NULL","NULL","NULL","NULL","Customer Solutions","A52","Kevin Christie","A52 - Svc Develop & Marketng"]
[null,null,null,"A52","VPCS","CSOL","A52","NULL","NULL","NULL","VP Customer Solutions","A52","Kevin Christie","A52 - Svc Develop & Marketng"]
[null,null,null,"A52","VPUP","VPCS","CSOL","A52","NULL","NULL","President & COO Avista Corp","A52","Marian Durkin","A52 - Svc Develop & Marketng"]
[null,null,null,"A53","A53","NULL","NULL","NULL","NULL","NULL","VP of Customer Solutions","A53","Kevin Christie","A52 - Svc Develop & Marketng"]
[null,null,null,"A53","AVA","CEXO","VPUP","VPCS","CSOL","A53","Total Company","A53"," ",{"$f":"VLOOKUP(L1668,Table1,2)","v":"A52 - Svc Develop & Marketng"}]
[null,null,null,"A53","CEXO","VPUP","VPCS","CSOL","A53","NULL","CEO & President","A53"," ","A52 - Svc Develop & Marketng"]
[null,null,null,"A53","CSOL","A53","NULL","NULL","NULL","NULL","Customer Solutions","A53","Kevin Christie","A52 - Svc Develop & Marketng"]
[null,null,null,"A53","VPCS","CSOL","A53","NULL","NULL","NULL","VP Customer Solutions","A53","Kevin Christie","A52 - Svc Develop & Marketng"]
[null,null,null,"A53","VPUP","VPCS","CSOL","A53","NULL","NULL","President & COO Avista Corp","A53","Marian Durkin","A52 - Svc Develop & Marketng"]
[null,null,null,"A54","A54","NULL","NULL","NULL","NULL","NULL","Customer Solutions","A54","Kevin Christie","A54 - Dir of Customer Solution"]
[null,null,null,"A84","A84","NULL","NULL","NULL","NULL","NULL","South Lake Tahoe","A84","NULL","A84 -South Lake Tahoe"]
[null,null,null,"A84","AVA","NULL","NULL","NULL","NULL","NULL","Total Company","A84","NULL","A84 -South Lake Tahoe"]
[null,null,null,"A84","GAS","NULL","NULL","NULL","NULL","NULL","Gas","A84","NULL","A84 -South Lake Tahoe"]
[null,null,null,"A84","VPOP","NULL","NULL","NULL","NULL","NULL","VP Operations","A84","NULL","A84 -South Lake Tahoe"]
[null,null,null,"A84","VPUP","NULL","NULL","NULL","NULL","NULL","President & COO Avista Corp","A84","Dennis Vermillion","A84 -South Lake Tahoe"]
[null,null,null,"A54","AVA","CEXO","VPUP","VPCS","CSOL","A54","Total Company","A54"," ","A54 - Dir of Customer Solution"]
[null,null,null,"A54","CEXO","VPUP","VPCS","CSOL","A54","NULL","CEO & President","A54"," ","A54 - Dir of Customer Solution"]
[null,null,null,"A54","CSOL","A54","NULL","NULL","NULL","NULL","Customer Solutions","A54","Kevin Christie","A54 - Dir of Customer Solution"]
[null,null,null,"A54","VPCS","CSOL","A54","NULL","NULL","NULL","VP Customer Solutions","A54","Kevin Christie","A54 - Dir of Customer Solution"]
[null,null,null,"A54","VPUP","VPCS","CSOL","A54","NULL","NULL","President & COO Avista Corp","A54","Marian Durkin","A54 - Dir of Customer Solution"]
[null,null,null,"A56","A56","NULL","NULL","NULL","NULL","NULL","System Operations","A56","Garth Brandon","A56 - System Operations"]
[null,null,null,"A56","AVA","CEXO","VPUP","VPOP","TRAN","A56","Total Company","A56"," ","A56 - System Operations"]
[null,null,null,"A56","CEXO","VPUP","VPOP","TRAN","A56","NULL","CEO & President","A56"," ","A56 - System Operations"]
[null,null,null,"A56","TRAN","A56","NULL","NULL","NULL","NULL","Transmission","A56","Bill Abrahamse","A56 - System Operations"]
[null,null,null,"A56","VPOP","TRAN","A56","NULL","NULL","NULL","VP Energy Delivery","A56","Jason Thackston","A56 - System Operations"]
[null,null,null,"A56","VPUP","VPOP","TRAN","A56","NULL","NULL","President & COO Avista Corp","A56","Marian Durkin","A56 - System Operations"]
[null,null,null,"A57","A57","NULL","NULL","NULL","NULL","NULL","Energy Delivery Utility Accounting","A57","Catherine Mueller","A57 - Ed Utility Accounting"]
[null,null,null,"A57","AVA","CEXO","VPFO","VPCC","A57","NULL","Total Company","A57"," ","A57 - Ed Utility Accounting"]
[null,null,null,"A57","CEXO","VPFO","VPCC","A57","NULL","NULL","CEO & President","A57"," ","A57 - Ed Utility Accounting"]
[null,null,null,"A57","VPCC","A57","NULL","NULL","NULL","NULL","VP Corporate Controller","A57","Kevin Christie","A57 - Ed Utility Accounting"]
[null,null,null,"A57","VPFO","VPCC","A57","NULL","NULL","NULL","Sr. VP & CFO","A57","Marian Durkin","A57 - Ed Utility Accounting"]
[null,null,null,"A81","A81","NULL","NULL","NULL","NULL","NULL","Medford Construction","A81","Brian Taylor","A81 - Medford Construction"]
[null,null,null,"A81","AVA","CEXO","VPUP","VPOP","NGAS","NGCO","Total Company","A81"," ","A81 - Medford Construction"]
[null,null,null,"A81","CEXO","VPUP","VPOP","NGAS","NGCO","A81","CEO & President","A81"," ","A81 - Medford Construction"]
[null,null,null,"A81","NGAS","NGCO","A81","NULL","NULL","NULL","Natural Gas","A81","Mike Faulkenberry","A81 - Medford Construction"]
[null,null,null,"A81","NGCO","A81","NULL","NULL","NULL","NULL","Natural Gas Construction Ops","A81","Mike Faulkenberry","A81 - Medford Construction"]
[null,null,null,"A81","VPOP","NGAS","NGCO","A81","NULL","NULL","VP Energy Delivery","A81","Jason Thackston","A81 - Medford Construction"]
[null,null,null,"A81","VPUP","VPOP","NGAS","NGCO","A81","NULL","President & COO Avista Corp","A81","Marian Durkin","A81 - Medford Construction"]
[null,null,null,"A82","A82","NULL","NULL","NULL","NULL","NULL","Roseburg","A82","Alan Smith","A82 - Roseburg"]
[null,null,null,"A82","AVA","CEXO","VPUP","VPOP","NGAS","NGCO","Total Company","A82"," ","A82 - Roseburg"]
[null,null,null,"A82","CEXO","VPUP","VPOP","NGAS","NGCO","A82","CEO & President","A82"," ","A82 - Roseburg"]
[null,null,null,"A82","NGAS","NGCO","A82","NULL","NULL","NULL","Natural Gas","A82","Mike Faulkenberry","A82 - Roseburg"]
[null,null,null,"A82","NGCO","A82","NULL","NULL","NULL","NULL","Natural Gas Construction Ops","A82","Mike Faulkenberry","A82 - Roseburg"]
[null,null,null,"A82","VPOP","NGAS","NGCO","A82","NULL","NULL","VP Energy Delivery","A82","Jason Thackston","A82 - Roseburg"]
[null,null,null,"A82","VPUP","VPOP","NGAS","NGCO","A82","NULL","President & COO Avista Corp","A82","Marian Durkin","A82 - Roseburg"]
[null,null,null,"A83","A83","NULL","NULL","NULL","NULL","NULL","Klamath Falls","A83","Jeff Daniels","A83 - Klamath Falls"]
[null,null,null,"A83","AVA","CEXO","VPUP","VPOP","NGAS","NGCO","Total Company","A83"," ","A83 - Klamath Falls"]
[null,null,null,"A83","CEXO","VPUP","VPOP","NGAS","NGCO","A83","CEO & President","A83"," ","A83 - Klamath Falls"]
[null,null,null,"A83","NGAS","NGCO","A83","NULL","NULL","NULL","Natural Gas","A83","Mike Faulkenberry","A83 - Klamath Falls"]
[null,null,null,"A83","NGCO","A83","NULL","NULL","NULL","NULL","Natural Gas Construction Ops","A83","Mike Faulkenberry","A83 - Klamath Falls"]
[null,null,null,"A83","VPOP","NGAS","NGCO","A83","NULL","NULL","VP Energy Delivery","A83","Jason Thackston","A83 - Klamath Falls"]
[null,null,null,"A83","VPUP","VPOP","NGAS","NGCO","A83","NULL","President & COO Avista Corp","A83","Marian Durkin","A83 - Klamath Falls"]
[null,null,null,"B02","AVA","CEXO","VPHR","B02","NULL","NULL","Total Company","B02"," ","B02 - Benefits"]
[null,null,null,"B02","B02","NULL","NULL","NULL","NULL","NULL","Benefits","B02","Mary Prince","B02 - Benefits"]
[null,null,null,"B02","CEXO","VPHR","B02","NULL","NULL","NULL","CEO & President","B02"," ","B02 - Benefits"]
[null,null,null,"B02","VPHR","B02","NULL","NULL","NULL","NULL","Sr. VP Human Resources","B02","Heather Rosentrater","B02 - Benefits"]
[null,null,null,"B04","0004","B04","NULL","NULL","NULL","NULL","Environmental Affairs","B04","Bruce Howard","B04 - Clark Fork License"]
[null,null,null,"B04","AVA","CEXO","VPGC","0004","B04","NULL","Total Company","B04"," ","B04 - Clark Fork License"]
[null,null,null,"B04","B04","NULL","NULL","NULL","NULL","NULL","Clark Fork License","B04","Tim Swant","B04 - Clark Fork License"]
[null,null,null,"B04","CEXO","VPGC","0004","B04","NULL","NULL","CEO & President","B04"," ","B04 - Clark Fork License"]
[null,null,null,"B04","VPGC","0004","B04","NULL","NULL","NULL","Sr. VP & General Counsel","B04","Karen Feltes","B04 - Clark Fork License"]
[null,null,null,"B07","0007","B07","NULL","NULL","NULL","NULL","Gen Prod Sub Support","B07","Andy Vickers","B07 - Project Delivery"]
[null,null,null,"B07","AVA","CEXO","VPUP","VPPS","0007","B07","Total Company","B07"," ","B07 - Project Delivery"]
[null,null,null,"B07","B07","NULL","NULL","NULL","NULL","NULL","Maintenance Management & Construction","B07","Bob Weisbeck","B07 - Project Delivery"]
[null,null,null,"B07","CEXO","VPUP","VPPS","0007","B07","NULL","CEO & President","B07"," ","B07 - Project Delivery"]
[null,null,null,"B07","VPPS","0007","B07","NULL","NULL","NULL","Sr. VP Energy Resources","B07","Kelly Norwood","B07 - Project Delivery"]
[null,null,null,"B07","VPUP","VPPS","0007","B07","NULL","NULL","President & COO Avista Corp","B07","Marian Durkin","B07 - Project Delivery"]
[null,null,null,"B08","AVA","CEXO","VPUP","VPCS","CUST","B08","Total Company","B08"," ","B08 - Business Process Improvement"]
[null,null,null,"B08","B08","NULL","NULL","NULL","NULL","NULL","Business Process Improvement","B08","Alicia Gibbs",{"$f":"VLOOKUP(L1732,Table1,2)","v":"B08 - Business Process Improvement"}]
[null,null,null,"B08","CEXO","VPUP","VPCS","CUST","B08","NULL","CEO & President","B08"," ","B08 - Business Process Improvement"]
[null,null,null,"B08","CUST","B08","NULL","NULL","NULL","NULL","Customer Service & Sales","B08","Mike Broemeling","B08 - Business Process Improvement"]
[null,null,null,"B08","VPCS","CUST","B08","NULL","NULL","NULL","VP Customer Solutions","B08","Kevin Christie","B08 - Business Process Improvement"]
[null,null,null,"B08","VPUP","VPCS","CUST","B08","NULL","NULL","President & COO Avista Corp","B08","Marian Durkin","B08 - Business Process Improvement"]
[null,null,null,"B09","AVA","CEXO","VPUP","INFO","INFR","ITOP","Total Company","B09"," ","B09 - Network Operations"]
[null,null,null,"B81","AVA","NULL","NULL","NULL","NULL","NULL","Total Company","B81","NULL","B81 - Contact Ctr-Medford"]
[null,null,null,"B81","B81","NULL","NULL","NULL","NULL","NULL","Con Ctr - Medford","B81","NULL","B81 - Contact Ctr-Medford"]
[null,null,null,"B81","CSSS","NULL","NULL","NULL","NULL","NULL","Customer & Shared Services","B81","Mike Broemeling","B81 - Contact Ctr-Medford"]
[null,null,null,"B81","CUST","NULL","NULL","NULL","NULL","NULL","Customer Service","B81","Mike Broemeling","B81 - Contact Ctr-Medford"]
[null,null,null,"B81","FLDC","NULL","NULL","NULL","NULL","NULL","Field Customer Service","B81","NULL","B81 - Contact Ctr-Medford"]
[null,null,null,"B81","VPUP","NULL","NULL","NULL","NULL","NULL","President & COO Avista Corp","B81","Dennis Vermillion","B81 - Contact Ctr-Medford"]
[null,null,null,"000","000","NULL","NULL","NULL","NULL","NULL","GL Direct","000","Adam Munson",{"$error":"#N/A"}]
[null,null,null,"000","ACCT","000","NULL","NULL","NULL","NULL","Accounting Items","000","Adam Munson",{"$error":"#N/A"}]
[null,null,null,"000","AVA","CEXO","ACCT","000","NULL","NULL","Total Company","000"," ",{"$error":"#N/A"}]
[null,null,null,"000","CEXO","ACCT","000","NULL","NULL","NULL","CEO & President","000"," ",{"$error":"#N/A"}]
[null,null,null,"099","099","NULL","NULL","NULL","NULL","NULL","WAID/OREG Common Expense","099"," ",{"$error":"#N/A"}]
[null,null,null,"099","AVA","GENL","099","NULL","NULL","NULL","Total Company","099"," ",{"$error":"#N/A"}]
[null,null,null,"099","GENL","099","NULL","NULL","NULL","NULL","General Corporate RCs","099"," ",{"$error":"#N/A"}]
[null,null,null,"A01","A01","NULL","NULL","NULL","NULL","NULL","Native American Relations","A01","Toni Pessemier","A01 - Native American  Relations"]
[null,null,null,"A01","AVA","CEXO","VPUP","VPPS","A01","NULL","Total Company","A01"," ","A01 - Native American  Relations"]
[null,null,null,"A01","CEXO","VPUP","VPPS","A01","NULL","NULL","CEO & President","A01"," ","A01 - Native American  Relations"]
[null,null,null,"A01","VPPS","A01","NULL","NULL","NULL","NULL","Sr. VP Energy Resources","A01","Kelly Norwood","A01 - Native American  Relations"]
[null,null,null,"A01","VPUP","VPPS","A01","NULL","NULL","NULL","President & COO Avista Corp","A01","Marian Durkin","A01 - Native American  Relations"]
[null,null,null,"A02","A02","NULL","NULL","NULL","NULL","NULL","HRIS/Payroll","A02","Mary Prince","A02 - HRIS/Payroll"]
[null,null,null,"A02","AVA","CEXO","VPHR","A02","NULL","NULL","Total Company","A02"," ","A02 - HRIS/Payroll"]
[null,null,null,"A02","CEXO","VPHR","A02","NULL","NULL","NULL","CEO & President","A02"," ","A02 - HRIS/Payroll"]
[null,null,null,"A02","VPHR","A02","NULL","NULL","NULL","NULL","Sr. VP Human Resources","A02","Heather Rosentrater","A02 - HRIS/Payroll"]
[null,null,null,"A04","0004","A04","NULL","NULL","NULL","NULL","Environmental Affairs","A04","Bruce Howard","A04 - Environmental Affairs"]
[null,null,null,"A04","A04","NULL","NULL","NULL","NULL","NULL","Environmental Affairs","A04","Bruce Howard","A04 - Environmental Affairs"]
[null,null,null,"A04","AVA","CEXO","VPGC","0004","A04","NULL","Total Company","A04"," ","A04 - Environmental Affairs"]
[null,null,null,"A04","CEXO","VPGC","0004","A04","NULL","NULL","CEO & President","A04"," ","A04 - Environmental Affairs"]
[null,null,null,"A04","VPGC","0004","A04","NULL","NULL","NULL","Sr. VP & General Counsel","A04","Karen Feltes","A04 - Environmental Affairs"]
[null,null,null,"A07","0007","A07","NULL","NULL","NULL","NULL","Gen Prod Sub Support","A07","Andy Vickers","A07 - Gen Mgmt & Admin Support"]
[null,null,null,"A07","A07","NULL","NULL","NULL","NULL","NULL","Generation and Central Support","A07","Andy Vickers","A07 - Gen Mgmt & Admin Support"]
[null,null,null,"A07","AVA","CEXO","VPUP","VPPS","0007","A07","Total Company","A07"," ","A07 - Gen Mgmt & Admin Support"]
[null,null,null,"A07","CEXO","VPUP","VPPS","0007","A07","NULL","CEO & President","A07"," ","A07 - Gen Mgmt & Admin Support"]
[null,null,null,"A07","VPPS","0007","A07","NULL","NULL","NULL","Sr. VP Energy Resources","A07","Kelly Norwood","A07 - Gen Mgmt & Admin Support"]
[null,null,null,"A07","VPUP","VPPS","0007","A07","NULL","NULL","President & COO Avista Corp","A07","Marian Durkin","A07 - Gen Mgmt & Admin Support"]
[null,null,null,"A08","A08","NULL","NULL","NULL","NULL","NULL","Relay & Protection Design","A08","Randy Spacek","A08 - Relay & Protection"]
[null,null,null,"C52","AVA","NULL","NULL","NULL","NULL","NULL","Total Company","C52","NULL","C52 - Customer Solutions"]
[null,null,null,"C52","C52","NULL","NULL","NULL","NULL","NULL","VP Customer Solutions","C52","NULL","C52 - Customer Solutions"]
[null,null,null,"C52","CUST","NULL","NULL","NULL","NULL","NULL","Customer Service","C52","Mike Broemeling","C52 - Customer Solutions"]
[null,null,null,"C52","ESOL","NULL","NULL","NULL","NULL","NULL","Energy Solutions","C52","Pat Lynch","C52 - Customer Solutions"]
[null,null,null,"C52","SUPP","NULL","NULL","NULL","NULL","NULL","Support","C52","NULL","C52 - Customer Solutions"]
[null,null,null,"A08","AVA","CEXO","VPUP","VPOP","ENGR","A08","Total Company","A08"," ","A08 - Relay & Protection"]
[null,null,null,"A08","CEXO","VPUP","VPOP","ENGR","A08","NULL","CEO & President","A08"," ","A08 - Relay & Protection"]
[null,null,null,"A08","ENGR","A08","NULL","NULL","NULL","NULL","Electric Engineering","A08","David Howell","A08 - Relay & Protection"]
[null,null,null,"A08","VPOP","ENGR","A08","NULL","NULL","NULL","VP Energy Delivery","A08","Jason Thackston","A08 - Relay & Protection"]
[null,null,null,"A08","VPUP","VPOP","ENGR","A08","NULL","NULL","President & COO Avista Corp","A08","Marian Durkin","A08 - Relay & Protection"]
[null,null,null,"A09","A09","NULL","NULL","NULL","NULL","NULL","ET Shared Services","A09","David Plut","A09 - ET Shared Services"]
[null,null,null,"A09","AVA","CEXO","VPUP","INFO","A09","NULL","Total Company","A09"," ","A09 - ET Shared Services"]
[null,null,null,"A09","CEXO","VPUP","INFO","A09","NULL","NULL","CEO & President","A09"," ","A09 - ET Shared Services"]
[null,null,null,"A09","INFO","A09","NULL","NULL","NULL","NULL","VP Info & Security","A09","Jim Kensok","A09 - ET Shared Services"]
[null,null,null,"A09","VPUP","INFO","A09","NULL","NULL","NULL","President & COO Avista Corp","A09","Marian Durkin","A09 - ET Shared Services"]
[null,null,null,"A19","A19","NULL","NULL","NULL","NULL","NULL","Operating Technology Operations","A19","Jason Pitts","A19 - Operating Tech Ops"]
[null,null,null,"A19","APPS","ISOP","A19","NULL","NULL","NULL","Applications Summary","A19","Hossein Nikdel","A19 - Operating Tech Ops"]
[null,null,null,"C55","AVA","NULL","NULL","NULL","NULL","NULL","Total Company","C55","NULL","C55 - Gas Resource Costs"]
[null,null,null,"C55","C55","NULL","NULL","NULL","NULL","NULL","Gas Resource Costs","C55","NULL","C55 - Gas Resource Costs"]
[null,null,null,"C55","RSRC","NULL","NULL","NULL","NULL","NULL","Energy Resources","C55","Jason Thackston","C55 - Gas Resource Costs"]
[null,null,null,"C55","SUPP","NULL","NULL","NULL","NULL","NULL","Support","C55","NULL","C55 - Gas Resource Costs"]
[null,null,null,"A19","AVA","CEXO","VPUP","INFO","APPS","ISOP","Total Company","A19"," ","A19 - Operating Tech Ops"]
[null,null,null,"A19","CEXO","VPUP","INFO","APPS","ISOP","A19","CEO & President","A19"," ","A19 - Operating Tech Ops"]
[null,null,null,"A19","INFO","APPS","ISOP","A19","NULL","NULL","VP Info & Security","A19","Jim Kensok","A19 - Operating Tech Ops"]
[null,null,null,"A19","ISOP","A19","NULL","NULL","NULL","NULL","IS Operations Rollup","A19","Hossein Nikdel",{"$f":"VLOOKUP(L1796,Table1,2)","v":"A19 - Operating Tech Ops"}]
[null,null,null,"A19","VPUP","INFO","APPS","ISOP","A19","NULL","President & COO Avista Corp","A19","Marian Durkin","A19 - Operating Tech Ops"]
[null,null,null,"A39","A39","NULL","NULL","NULL","NULL","NULL","COTS Development","A39","Graham Smith","A39 - COTS Development"]
[null,null,null,"A39","APPS","ISDV","A39","NULL","NULL","NULL","Applications Summary","A39","Hossein Nikdel","A39 - COTS Development"]
[null,null,null,"A39","AVA","CEXO","VPUP","INFO","APPS","ISDV","Total Company","A39"," ","A39 - COTS Development"]
[null,null,null,"A39","CEXO","VPUP","INFO","APPS","ISDV","A39","CEO & President","A39"," ","A39 - COTS Development"]
[null,null,null,"A39","INFO","APPS","ISDV","A39","NULL","NULL","VP Info & Security","A39","Jim Kensok","A39 - COTS Development"]
[null,null,null,"A39","ISDV","A39","NULL","NULL","NULL","NULL","IS Development Rollup","A39","Hossein Nikdel","A39 - COTS Development"]
[null,null,null,"A39","VPUP","INFO","APPS","ISDV","A39","NULL","President & COO Avista Corp","A39","Marian Durkin","A39 - COTS Development"]
[null,null,null,"C81","AVA","NULL","NULL","NULL","NULL","NULL","Total Company","C81","NULL","C81 - Medford Tech Service"]
[null,null,null,"C81","C81","NULL","NULL","NULL","NULL","NULL","Medford Technical Services","C81","NULL","C81 - Medford Tech Service"]
[null,null,null,"C81","GAS","NULL","NULL","NULL","NULL","NULL","Gas","C81","NULL","C81 - Medford Tech Service"]
[null,null,null,"C81","VPOP","NULL","NULL","NULL","NULL","NULL","VP Operations","C81","NULL","C81 - Medford Tech Service"]
[null,null,null,"C81","VPUP","NULL","NULL","NULL","NULL","NULL","President & COO Avista Corp","C81","Dennis Vermillion","C81 - Medford Tech Service"]
[null,null,null,"A50","A50","NULL","NULL","NULL","NULL","NULL","West Ops and Asset Maint","A50","Bryan Cox","A50 - Director of Ops WA & ID"]
[null,null,null,"A50","AVA","CEXO","VPUP","VPOP","WEST","A50","Total Company","A50"," ","A50 - Director of Ops WA & ID"]
[null,null,null,"A50","CEXO","VPUP","VPOP","WEST","A50","NULL","CEO & President","A50"," ","A50 - Director of Ops WA & ID"]
[null,null,null,"A50","VPOP","WEST","A50","NULL","NULL","NULL","VP Energy Delivery","A50","Jason Thackston","A50 - Director of Ops WA & ID"]
[null,null,null,"D83","AVA","NULL","NULL","NULL","NULL","NULL","Total Company","D83","NULL","D83 - Goldendale Construction"]
[null,null,null,"D83","CNST","NULL","NULL","NULL","NULL","NULL","Operations","D83","NULL","D83 - Goldendale Construction"]
[null,null,null,"D83","D83","NULL","NULL","NULL","NULL","NULL","Goldendale Construction","D83","NULL","D83 - Goldendale Construction"]
[null,null,null,"D83","ELEC","NULL","NULL","NULL","NULL","NULL","Electric","D83","NULL","D83 - Goldendale Construction"]
[null,null,null,"D83","VPUP","NULL","NULL","NULL","NULL","NULL","President & COO Avista Corp","D83","Dennis Vermillion","D83 - Goldendale Construction"]
[null,null,null,"E08","AVA","NULL","NULL","NULL","NULL","NULL","Total Company","E08","NULL","E08 - Old RC for Conversion"]
[null,null,null,"E08","CNST","NULL","NULL","NULL","NULL","NULL","Operations","E08","NULL","E08 - Old RC for Conversion"]
[null,null,null,"E08","E08","NULL","NULL","NULL","NULL","NULL","Conversion Org","E08","NULL","E08 - Old RC for Conversion"]
[null,null,null,"E08","ELEC","NULL","NULL","NULL","NULL","NULL","Electric","E08","NULL","E08 - Old RC for Conversion"]
[null,null,null,"E54","AVA","NULL","NULL","NULL","NULL","NULL","Total Company","E54","NULL","E54 - Accounts Payable"]
[null,null,null,"E54","E54","NULL","NULL","NULL","NULL","NULL","Accounts Payable","E54","Angela Hayne","E54 - Accounts Payable"]
[null,null,null,"E54","SUPP","NULL","NULL","NULL","NULL","NULL","Support","E54","NULL","E54 - Accounts Payable"]
[null,null,null,"E54","VPFO","NULL","NULL","NULL","NULL","NULL","Exec VP & CFO - Finance & Risk Mgmt","E54","Mark Thies","E54 - Accounts Payable"]
[null,null,null,"F14","AVA","NULL","NULL","NULL","NULL","NULL","Total Company","F14","NULL","F14 - External Projects"]
[null,null,null,"F14","F14","NULL","NULL","NULL","NULL","NULL","External Projects","F14","NULL","F14 - External Projects"]
[null,null,null,"F51","AVA","NULL","NULL","NULL","NULL","NULL","Total Company","F51","NULL","F51 - G.I.S."]
[null,null,null,"F51","CNST","NULL","NULL","NULL","NULL","NULL","Operations","F51","NULL","F51 - G.I.S."]
[null,null,null,"F51","ELEC","NULL","NULL","NULL","NULL","NULL","Electric","F51","NULL","F51 - G.I.S."]
[null,null,null,"F51","F51","NULL","NULL","NULL","NULL","NULL","G. I. S.","F51","NULL","F51 - G.I.S."]
[null,null,null,"G55","AVA","NULL","NULL","NULL","NULL","NULL","Total Company","G55","NULL","G55 - Power Purchases"]
[null,null,null,"G55","G55","NULL","NULL","NULL","NULL","NULL","Power Purchases","G55","NULL","G55 - Power Purchases"]
[null,null,null,"G55","RSRC","NULL","NULL","NULL","NULL","NULL","Energy Resources","G55","Jason Thackston","G55 - Power Purchases"]
[null,null,null,"H03","AVA","NULL","NULL","NULL","NULL","NULL","Total Company","H03","NULL","H03 - Facility Lease Management"]
[null,null,null,"H03","ESOL","NULL","NULL","NULL","NULL","NULL","Energy Solutions","H03","Pat Lynch","H03 - Facility Lease Management"]
[null,null,null,"H03","FLDC","NULL","NULL","NULL","NULL","NULL","Field Customer Service","H03","NULL","H03 - Facility Lease Management"]
[null,null,null,"H03","H03","NULL","NULL","NULL","NULL","NULL","Fac. Lease Management","H03","NULL","H03 - Facility Lease Management"]
[null,null,null,"H03","VPUP","NULL","NULL","NULL","NULL","NULL","President & COO Avista Corp","H03","Dennis Vermillion","H03 - Facility Lease Management"]
[null,null,null,"H55","AVA","NULL","NULL","NULL","NULL","NULL","Total Company","H55","NULL","H55 - Fuels Management"]
[null,null,null,"H55","H55","NULL","NULL","NULL","NULL","NULL","Fuels Management","H55","NULL","H55 - Fuels Management"]
[null,null,null,"J11","AVA","NULL","NULL","NULL","NULL","NULL","Total Company","J11","NULL","J11 - Planning & Analysis"]
[null,null,null,"J11","EXEC","NULL","NULL","NULL","NULL","NULL","Executive","J11","NULL","J11 - Planning & Analysis"]
[null,null,null,"J11","J11","NULL","NULL","NULL","NULL","NULL","Planning & Analysis","J11","NULL","J11 - Planning & Analysis"]
[null,null,null,"J11","SUPP","NULL","NULL","NULL","NULL","NULL","Support","J11","NULL","J11 - Planning & Analysis"]
[null,null,null,"J11","VPFO","NULL","NULL","NULL","NULL","NULL","Exec VP & CFO - Finance & Risk Mgmt","J11","Mark Thies","J11 - Planning & Analysis"]
[null,null,null,"S03","VPCC","S03","NULL","NULL","NULL","NULL","VP Corporate Controller","S03","Kevin Christie","S03 - Advantage IQ"]
[null,null,null,"S04","VPCC","S04","NULL","NULL","NULL","NULL","VP Corporate Controller","S04","Kevin Christie","S04 - SPS CYOC Mgmt Oversight"]
[null,null,null,"S05","VPCC","S05","NULL","NULL","NULL","NULL","VP Corporate Controller","S05","Kevin Christie","S05 - Salix"]
[null,null,null,"S09","INFO","S09","NULL","NULL","NULL","NULL","VP Info & Security","S09","Jim Kensok","S09 - Apps Operations & Supp"]
[null,null,null,"S19","INFO","S19","NULL","NULL","NULL","NULL","VP Info & Security","S19","Jim Kensok","S19 - Integrations Operations"]
[null,null,null,"S20","VPFO","S20","NULL","NULL","NULL","NULL","Sr. VP & CFO","S20","Marian Durkin","S20 - Director of Finance"]
[null,null,null,"S39","INFO","S39","NULL","NULL","NULL","NULL","VP Info & Security","S39","Jim Kensok","S39 - Integrations Development"]
[null,null,null,"S50","VPOP","S50","NULL","NULL","NULL","NULL","VP Energy Delivery","S50","Jason Thackston","S50 - Construction Services"]
[null,null,null,"S51","VPOP","S51","NULL","NULL","NULL","NULL","VP Energy Delivery","S51","Jason Thackston","S51 - Supply Chain Loadings"]
[null,null,null,"S52","VPOP","S52","NULL","NULL","NULL","NULL","VP Energy Delivery","S52","Jason Thackston","S51 - Supply Chain Loadings"]
[null,null,null,"S53","VPOP","S53","NULL","NULL","NULL","NULL","VP Energy Delivery","S53","Jason Thackston","S53 - St. Maries"]
[null,null,null,"S54","VPCS","S54","NULL","NULL","NULL","NULL","VP Customer Solutions","S54","Kevin Christie","S54 - External Communications"]
[null,null,null,"T01","VPUP","T01","NULL","NULL","NULL","NULL","President & COO Avista Corp","T01","Marian Durkin",{"$f":"VLOOKUP(L1860,Table1,2)","v":"T01 - Utility President"}]
[null,null,null,"K14","AVA","NULL","NULL","NULL","NULL","NULL","Total Company","K14","NULL","K14 - Public Affairs"]
[null,null,null,"K14","K14","NULL","NULL","NULL","NULL","NULL","Public Affairs","K14","NULL","K14 - Public Affairs"]
[null,null,null,"K50","AVA","NULL","NULL","NULL","NULL","NULL","Total Company","K50","NULL","K50 - Old RC - Conversion"]
[null,null,null,"K50","CNST","NULL","NULL","NULL","NULL","NULL","Operations","K50","NULL","K50 - Old RC - Conversion"]
[null,null,null,"K50","ELEC","NULL","NULL","NULL","NULL","NULL","Electric","K50","NULL","K50 - Old RC - Conversion"]
[null,null,null,"K50","K50","NULL","NULL","NULL","NULL","NULL","Spokane Conversion Org","K50","NULL","K50 - Old RC - Conversion"]
[null,null,null,"T07","VPPS","T07","NULL","NULL","NULL","NULL","Sr. VP Energy Resources","T07","Kelly Norwood","T07 - Spokane Area Thermal"]
[null,null,null,"T08","VPOP","T08","NULL","NULL","NULL","NULL","VP Energy Delivery","T08","Jason Thackston","T08 - Electric Engineer"]
[null,null,null,"T19","INFO","T19","NULL","NULL","NULL","NULL","VP Info & Security","T19","Jim Kensok","T19 - CC&B Operations"]
[null,null,null,"T39","INFO","T39","NULL","NULL","NULL","NULL","VP Info & Security","T39","Jim Kensok","T39 - CC&B Development"]
[null,null,null,"T51","VPOP","T51","NULL","NULL","NULL","NULL","VP Energy Delivery","T51","Jason Thackston","T51 - Operations Project Management"]
[null,null,null,"T52","VPCS","T52","NULL","NULL","NULL","NULL","VP Customer Solutions","T52","Kevin Christie","T52 - Demand Side Mgmt"]
[null,null,null,"T54","VPCC","T54","NULL","NULL","NULL","NULL","VP Corporate Controller","T54","Kevin Christie","T54 - Rev and Fin Systems"]
[null,null,null,"U01","VPGC","U01","NULL","NULL","NULL","NULL","Sr. VP & General Counsel","U01","Karen Feltes","T54 - Rev and Fin Systems"]
[null,null,null,"U50","VPCS","U50","NULL","NULL","NULL","NULL","VP Customer Solutions","U50","Kevin Christie","T54 - Rev and Fin Systems"]
[null,null,null,"V01","VPGC","V01","NULL","NULL","NULL","NULL","Sr. VP & General Counsel","V01","Karen Feltes","T54 - Rev and Fin Systems"]
[null,null,null,"V08","VPGC","V08","NULL","NULL","NULL","NULL","Sr. VP & General Counsel","V08","Karen Feltes","T54 - Rev and Fin Systems"]
[null,null,null,"V19","INFO","V19","NULL","NULL","NULL","NULL","VP Info & Security","V19","Jim Kensok","T54 - Rev and Fin Systems"]
[null,null,null,"V39","INFO","V39","NULL","NULL","NULL","NULL","VP Info & Security","V39","Jim Kensok","T54 - Rev and Fin Systems"]
[null,null,null,"K54","AVA","NULL","NULL","NULL","NULL","NULL","Total Company","K54","NULL","K54 - Financial Systems Project"]
[null,null,null,"K54","K54","NULL","NULL","NULL","NULL","NULL","Financial Systems Project","K54","NULL","K54 - Financial Systems Project"]
[null,null,null,"V50","VPCS","V50","NULL","NULL","NULL","NULL","VP Customer Solutions","V50","Kevin Christie","T54 - Rev and Fin Systems"]
[null,null,null,"W01","VPGC","W01","NULL","NULL","NULL","NULL","Sr. VP & General Counsel","W01","Karen Feltes","T54 - Rev and Fin Systems"]
[null,null,null,"W07","VPPS","W07","NULL","NULL","NULL","NULL","Sr. VP Energy Resources","W07","Kelly Norwood","T54 - Rev and Fin Systems"]
[null,null,null,"W09","INFO","W09","NULL","NULL","NULL","NULL","VP Info & Security","W09","Jim Kensok","T54 - Rev and Fin Systems"]
[null,null,null,"W39","INFO","W39","NULL","NULL","NULL","NULL","VP Info & Security","W39","Jim Kensok","T54 - Rev and Fin Systems"]
[null,null,null,"W54","VPCC","W54","NULL","NULL","NULL","NULL","VP Corporate Controller","W54","Kevin Christie","T54 - Rev and Fin Systems"]
[null,null,null,"W55","VPCC","W55","NULL","NULL","NULL","NULL","VP Corporate Controller","W55","Kevin Christie","T54 - Rev and Fin Systems"]
[null,null,null,"X01","EXEC","X01","NULL","NULL","NULL","NULL","Executive Department Summary","X01"," ","T54 - Rev and Fin Systems"]
[null,null,null,"X02","VPHR","X02","NULL","NULL","NULL","NULL","Sr. VP Human Resources","X02","Heather Rosentrater","T54 - Rev and Fin Systems"]
[null,null,null,"X08","VPPS","X08","NULL","NULL","NULL","NULL","Sr. VP Energy Resources","X08","Kelly Norwood","T54 - Rev and Fin Systems"]
[null,null,null,"X09","INFO","X09","NULL","NULL","NULL","NULL","VP Info & Security","X09","Jim Kensok","T54 - Rev and Fin Systems"]
[null,null,null,"X19","INFO","X19","NULL","NULL","NULL","NULL","VP Info & Security","X19","Jim Kensok","T54 - Rev and Fin Systems"]
[null,null,null,"X39","INFO","X39","NULL","NULL","NULL","NULL","VP Info & Security","X39","Jim Kensok","T54 - Rev and Fin Systems"]
[null,null,null,"X54","VPCC","X54","NULL","NULL","NULL","NULL","VP Corporate Controller","X54","Kevin Christie","T54 - Rev and Fin Systems"]
[null,null,null,"X55","VPCC","X55","NULL","NULL","NULL","NULL","VP Corporate Controller","X55","Kevin Christie","T54 - Rev and Fin Systems"]
[null,null,null,"X57","VPCC","X57","NULL","NULL","NULL","NULL","VP Corporate Controller","X57","Kevin Christie","T54 - Rev and Fin Systems"]
[null,null,null,"Y01","VPGC","Y01","NULL","NULL","NULL","NULL","Sr. VP & General Counsel","Y01","Karen Feltes","T54 - Rev and Fin Systems"]
[null,null,null,"Y39","INFO","Y39","NULL","NULL","NULL","NULL","VP Info & Security","Y39","Jim Kensok","T54 - Rev and Fin Systems"]
[null,null,null,"Y54","VPFO","Y54","NULL","NULL","NULL","NULL","Sr. VP & CFO","Y54","Marian Durkin","T54 - Rev and Fin Systems"]
[null,null,null,"Y55","VPCC","Y55","NULL","NULL","NULL","NULL","VP Corporate Controller","Y55","Kevin Christie","T54 - Rev and Fin Systems"]
[null,null,null,"Z08","VPOP","Z08","NULL","NULL","NULL","NULL","VP Energy Delivery","Z08","Jason Thackston","T54 - Rev and Fin Systems"]
[null,null,null,"Z09","VPOP","Z09","NULL","NULL","NULL","NULL","VP Energy Delivery","Z09","Jason Thackston","T54 - Rev and Fin Systems"]
[null,null,null,"Z57","VPCC","Z57","NULL","NULL","NULL","NULL","VP Corporate Controller","Z57","Kevin Christie","T54 - Rev and Fin Systems"]
[null,null,null,"Z87","VPCC","Z87","NULL","NULL","NULL","NULL","VP Corporate Controller","Z87","Kevin Christie","T54 - Rev and Fin Systems"]
[null,null,null,"Z88","VPOP","Z88","NULL","NULL","NULL","NULL","VP Energy Delivery","Z88","Jason Thackston","T54 - Rev and Fin Systems"]
[null,null,null,"Z89","VPCC","Z89","NULL","NULL","NULL","NULL","VP Corporate Controller","Z89","Kevin Christie","T54 - Rev and Fin Systems"]
[null,null,null,"Z90","VPCC","Z90","NULL","NULL","NULL","NULL","VP Corporate Controller","Z90","Kevin Christie","T54 - Rev and Fin Systems"]
[null,null,null,"Z91","VPCC","Z91","NULL","NULL","NULL","NULL","VP Corporate Controller","Z91","Kevin Christie","T54 - Rev and Fin Systems"]
[null,null,null,"000","ACCT","000","NULL","NULL","NULL","NULL","Accounting Items","000","Adam Munson",{"$error":"#N/A"}]
[null,null,null,"A01","VPPS","A01","NULL","NULL","NULL","NULL","Sr. VP Energy Resources","A01","Kelly Norwood","A01 - Native American  Relations"]
[null,null,null,"A02","VPHR","A02","NULL","NULL","NULL","NULL","Sr. VP Human Resources","A02","Heather Rosentrater","A02 - HRIS/Payroll"]
[null,null,null,"A04","VPGC","A04","NULL","NULL","NULL","NULL","Sr. VP & General Counsel","A04","Karen Feltes","A04 - Environmental Affairs"]
[null,null,null,"A07","VPPS","A07","NULL","NULL","NULL","NULL","Sr. VP Energy Resources","A07","Kelly Norwood","A07 - Gen Mgmt & Admin Support"]
[null,null,null,"A08","VPOP","A08","NULL","NULL","NULL","NULL","VP Energy Delivery","A08","Jason Thackston","A08 - Relay & Protection"]
[null,null,null,"A09","INFO","A09","NULL","NULL","NULL","NULL","VP Info & Security","A09","Jim Kensok","A09 - ET Shared Services"]
[null,null,null,"A19","INFO","A19","NULL","NULL","NULL","NULL","VP Info & Security","A19","Jim Kensok","A19 - Operating Tech Ops"]
[null,null,null,"A39","INFO","A39","NULL","NULL","NULL","NULL","VP Info & Security","A39","Jim Kensok","A39 - COTS Development"]
[null,null,null,"A50","VPOP","A50","NULL","NULL","NULL","NULL","VP Energy Delivery","A50","Jason Thackston","A50 - Director of Ops WA & ID"]
[null,null,null,"A51","VPOP","A51","NULL","NULL","NULL","NULL","VP Energy Delivery","A51","Jason Thackston","A51 - Dir Operations East & South"]
[null,null,null,"A52","VPCS","A52","NULL","NULL","NULL","NULL","VP Customer Solutions","A52","Kevin Christie","A52 - Svc Develop & Marketng"]
[null,null,null,"A53","VPCS","A53","NULL","NULL","NULL","NULL","VP Customer Solutions","A53","Kevin Christie","A52 - Svc Develop & Marketng"]
[null,null,null,"A54","VPCS","A54","NULL","NULL","NULL","NULL","VP Customer Solutions","A54","Kevin Christie","A54 - Dir of Customer Solution"]
[null,null,null,"A56","VPOP","A56","NULL","NULL","NULL","NULL","VP Energy Delivery","A56","Jason Thackston",{"$f":"VLOOKUP(L1924,Table1,2)","v":"A56 - System Operations"}]
[null,null,null,"A57","VPFO","A57","NULL","NULL","NULL","NULL","Sr. VP & CFO","A57","Marian Durkin","A57 - Ed Utility Accounting"]
[null,null,null,"A81","VPOP","A81","NULL","NULL","NULL","NULL","VP Energy Delivery","A81","Jason Thackston","A81 - Medford Construction"]
[null,null,null,"A82","VPOP","A82","NULL","NULL","NULL","NULL","VP Energy Delivery","A82","Jason Thackston","A82 - Roseburg"]
[null,null,null,"A83","VPOP","A83","NULL","NULL","NULL","NULL","VP Energy Delivery","A83","Jason Thackston","A83 - Klamath Falls"]
[null,null,null,"B02","VPHR","B02","NULL","NULL","NULL","NULL","Sr. VP Human Resources","B02","Heather Rosentrater","B02 - Benefits"]
[null,null,null,"B04","VPGC","B04","NULL","NULL","NULL","NULL","Sr. VP & General Counsel","B04","Karen Feltes","B04 - Clark Fork License"]
[null,null,null,"B07","VPPS","B07","NULL","NULL","NULL","NULL","Sr. VP Energy Resources","B07","Kelly Norwood","B07 - Project Delivery"]
[null,null,null,"B08","VPCS","B08","NULL","NULL","NULL","NULL","VP Customer Solutions","B08","Kevin Christie","B08 - Business Process Improvement"]
[null,null,null,"B09","INFO","B09","NULL","NULL","NULL","NULL","VP Info & Security","B09","Jim Kensok","B09 - Network Operations"]
[null,null,null,"B16","VPUP","B16","NULL","NULL","NULL","NULL","President & COO Avista Corp","B16","Marian Durkin","B16 - Government Relations"]
[null,null,null,"B50","VPOP","B50","NULL","NULL","NULL","NULL","VP Energy Delivery","B50","Jason Thackston","B50 - Spokane Electric"]
[null,null,null,"B51","VPOP","B51","NULL","NULL","NULL","NULL","VP Energy Delivery","B51","Jason Thackston","B51 - Gas Engineering"]
[null,null,null,"B52","VPOP","B52","NULL","NULL","NULL","NULL","VP Energy Delivery","B52","Jason Thackston","B52 - Gas Comp Cathodic"]
[null,null,null,"B53","VPOP","B53","NULL","NULL","NULL","NULL","VP Energy Delivery","B53","Jason Thackston","B53 - Pullman"]
[null,null,null,"B54","VPOP","B54","NULL","NULL","NULL","NULL","VP Energy Delivery","B54","Jason Thackston","B54 - Gas Compliance"]
[null,null,null,"B56","VPOP","B56","NULL","NULL","NULL","NULL","VP Energy Delivery","B56","Jason Thackston","B56 - Misc Transmission Expense"]
[null,null,null,"C02","VPHR","C02","NULL","NULL","NULL","NULL","Sr. VP Human Resources","C02","Heather Rosentrater","C02 - Employee Engagement"]
[null,null,null,"C04","VPGC","C04","NULL","NULL","NULL","NULL","Sr. VP & General Counsel","C04","Karen Feltes","C04 - Spokane River License"]
[null,null,null,"C06","VPPS","C06","NULL","NULL","NULL","NULL","Sr. VP Energy Resources","C06","Kelly Norwood","C06 - Joint Project - CS2"]
[null,null,null,"C07","VPPS","C07","NULL","NULL","NULL","NULL","Sr. VP Energy Resources","C07","Kelly Norwood","C07 - Spokane River Hydro"]
[null,null,null,"C08","VPOP","C08","NULL","NULL","NULL","NULL","VP Energy Delivery","C08","Jason Thackston","C08 - Technical Services - GIS"]
[null,null,null,"C09","INFO","C09","NULL","NULL","NULL","NULL","VP Info & Security","C09","Jim Kensok","C09 - Security Systems"]
[null,null,null,"C11","VPCS","C11","NULL","NULL","NULL","NULL","VP Customer Solutions","C11","Kevin Christie","C11 - CC&B Technology"]
[null,null,null,"C19","INFO","C19","NULL","NULL","NULL","NULL","VP Info & Security","C19","Jim Kensok","C19 - Security Operations"]
[null,null,null,"C29","INFO","C29","NULL","NULL","NULL","NULL","VP Info & Security","C29","Jim Kensok","C29 - Security Products & Serv"]
[null,null,null,"C50","VPCS","C50","NULL","NULL","NULL","NULL","VP Customer Solutions","C50","Kevin Christie","C50 - Contact Ctr Spokane-Hire & Train"]
[null,null,null,"C51","VPOP","C51","NULL","NULL","NULL","NULL","VP Energy Delivery","C51","Jason Thackston","C51 - Elec Distributn Design"]
[null,null,null,"C53","VPOP","C53","NULL","NULL","NULL","NULL","VP Energy Delivery","C53","Jason Thackston","C53 - Coeur d Alene Gas"]
[null,null,null,"C54","VPFO","C54","NULL","NULL","NULL","NULL","Sr. VP & CFO","C54","Marian Durkin","C54 - Tax Services"]
[null,null,null,"C56","VPOP","C56","NULL","NULL","NULL","NULL","VP Energy Delivery","C56","Jason Thackston","C56 - System Planning"]
[null,null,null,"C57","VPOP","C57","NULL","NULL","NULL","NULL","VP Energy Delivery","C57","Jason Thackston","C57 - Spokane Electric Network"]
[null,null,null,"C59","INFO","C59","NULL","NULL","NULL","NULL","VP Info & Security","C59","Jim Kensok","C59 - Enterprise Busi Continuity"]
[null,null,null,"C83","VPOP","C83","NULL","NULL","NULL","NULL","VP Energy Delivery","C83","Jason Thackston","C83 - La Grande"]
[null,null,null,"D02","VPHR","D02","NULL","NULL","NULL","NULL","Sr. VP Human Resources","D02","Heather Rosentrater","D02 - VP Of Hr & Corp Service"]
[null,null,null,"D08","VPOP","D08","NULL","NULL","NULL","NULL","VP Energy Delivery","D08","Jason Thackston","D08 - Energy Del Gen Mg"]
[null,null,null,"D09","VPOP","D09","NULL","NULL","NULL","NULL","VP Energy Delivery","D09","Jason Thackston","D09 - Scada"]
[null,null,null,"D50","VPCS","D50","NULL","NULL","NULL","NULL","VP Customer Solutions","D50","Kevin Christie","D50 - Meter Read/Billing"]
[null,null,null,"D51","VPOP","D51","NULL","NULL","NULL","NULL","VP Energy Delivery","D51","Jason Thackston","D51 - Vegetation Management"]
[null,null,null,"D52","VPCS","D52","NULL","NULL","NULL","NULL","VP Customer Solutions","D52","Kevin Christie","D52 - Energy Efficiency"]
[null,null,null,"D53","VPOP","D53","NULL","NULL","NULL","NULL","VP Energy Delivery","D53","Jason Thackston","D53 - Clarkston"]
[null,null,null,"D54","VPFO","D54","NULL","NULL","NULL","NULL","Sr. VP & CFO","D54","Marian Durkin","D54 - Corp & Subs Accounting"]
[null,null,null,"D55","VPPS","D55","NULL","NULL","NULL","NULL","Sr. VP Energy Resources","D55","Kelly Norwood","D55 - Natural Gas Resources"]
[null,null,null,"D56","VPOP","D56","NULL","NULL","NULL","NULL","VP Energy Delivery","D56","Jason Thackston","D56 - Director of Engineering/System Ops"]
[null,null,null,"E01","EXEC","E01","NULL","NULL","NULL","NULL","Executive Department Summary","E01"," ","E01 - Exec Administration"]
[null,null,null,"E02","VPHR","E02","NULL","NULL","NULL","NULL","Sr. VP Human Resources","E02","Heather Rosentrater","E02 - Corp Org Development"]
[null,null,null,"E07","VPPS","E07","NULL","NULL","NULL","NULL","Sr. VP Energy Resources","E07","Kelly Norwood","E07 - Generation Engineers"]
[null,null,null,"E09","INFO","E09","NULL","NULL","NULL","NULL","VP Info & Security","E09","Jim Kensok","E09 - Distributed Systems"]
[null,null,null,"E14","VPGC","E14","NULL","NULL","NULL","NULL","Sr. VP & General Counsel","E14","Karen Feltes","E14 - Environmental Compliance"]
[null,null,null,"N07","0004","NULL","NULL","NULL","NULL","NULL","Environmental Affairs","N07","Bruce Howard","N07 - Utility Environ Compliance"]
[null,null,null,"N07","AVA","NULL","NULL","NULL","NULL","NULL","Total Company","N07","NULL","N07 - Utility Environ Compliance"]
[null,null,null,"N07","N07","NULL","NULL","NULL","NULL","NULL","Utility Environmental Compliance","N07","NULL","N07 - Utility Environ Compliance"]
[null,null,null,"N07","SUPP","NULL","NULL","NULL","NULL","NULL","Support","N07","NULL","N07 - Utility Environ Compliance"]
[null,null,null,"E19","INFO","E19","NULL","NULL","NULL","NULL","VP Info & Security","E19","Jim Kensok","E19 - Dist Systems Ops"]
[null,null,null,"E29","INFO","E29","NULL","NULL","NULL","NULL","VP Info & Security","E29","Jim Kensok","E29 - Dist Syst Prod & Serv"]
[null,null,null,"N53","AVA","NULL","NULL","NULL","NULL","NULL","Total Company","N53","NULL","N53 - AM Spokane West"]
[null,null,null,"N53","ESOL","NULL","NULL","NULL","NULL","NULL","Energy Solutions","N53","Pat Lynch","N53 - AM Spokane West"]
[null,null,null,"N53","N53","NULL","NULL","NULL","NULL","NULL","Reg Bus Mgr - Spok West","N53","NULL","N53 - AM Spokane West"]
[null,null,null,"N53","SUPP","NULL","NULL","NULL","NULL","NULL","Support","N53","NULL","N53 - AM Spokane West"]
[null,null,null,"R51","VPOP","R51","NULL","NULL","NULL","NULL","VP Energy Delivery","R51","Jason Thackston","R51 - Joint Use Projects-Distribution"]
[null,null,null,"R53","VPOP","R53","NULL","NULL","NULL","NULL","VP Energy Delivery","R53","Jason Thackston","R53 - Grangeville"]
[null,null,null,"R54","VPFO","R54","NULL","NULL","NULL","NULL","Sr. VP & CFO","R54","Marian Durkin","R54 - Risk Management"]
[null,null,null,"R55","VPFO","R55","NULL","NULL","NULL","NULL","Sr. VP & CFO","R55","Marian Durkin","R55 - Resource Risk Mgmt"]
[null,null,null,"R56","VPFO","R56","NULL","NULL","NULL","NULL","Sr. VP & CFO","R56","Marian Durkin","R56 - Insurance"]
[null,null,null,"S01","VPGC","S01","NULL","NULL","NULL","NULL","Sr. VP & General Counsel","S01","Karen Feltes",{"$f":"VLOOKUP(L1988,Table1,2)","v":"S01 - VP & Counsl-Regultry/Govt Affairs"}]
[null,null,null,"PRT","AVA","NULL","NULL","NULL","NULL","NULL","Total Company","PRT","NULL","P99 - IT Director"]
[null,null,null,"PRT","GENL","NULL","NULL","NULL","NULL","NULL","General Corporate","PRT","NULL","P99 - IT Director"]
[null,null,null,"PRT","PRT","NULL","NULL","NULL","NULL","NULL","Financial Information Summary","PRT","NULL","P99 - IT Director"]
[null,null,null,"R03","AVA","NULL","NULL","NULL","NULL","NULL","Total Company","R03","NULL","R03 - Avista Energy"]
[null,null,null,"R03","AVIS","NULL","NULL","NULL","NULL","NULL","Avista Subsidiaries","R03","Scott Morris","R03 - Avista Energy"]
[null,null,null,"R03","R03","NULL","NULL","NULL","NULL","NULL","Avista Energy","R03","NULL","R03 - Avista Energy"]
[null,null,null,"R50","AVA","NULL","NULL","NULL","NULL","NULL","Total Company","R50","NULL","R50 - Spokane Construction Engineering"]
[null,null,null,"R50","CNST","NULL","NULL","NULL","NULL","NULL","Operations","R50","NULL","R50 - Spokane Construction Engineering"]
[null,null,null,"R50","ELEC","NULL","NULL","NULL","NULL","NULL","Electric","R50","NULL","R50 - Spokane Construction Engineering"]
[null,null,null,"R50","R50","NULL","NULL","NULL","NULL","NULL","Spokane Construction Engineering/Mapping","R50","NULL","R50 - Spokane Construction Engineering"]
[null,null,null,"R50","VPOP","NULL","NULL","NULL","NULL","NULL","VP Operations","R50","NULL","R50 - Spokane Construction Engineering"]
[null,null,null,"S08","AVA","NULL","NULL","NULL","NULL","NULL","Total Company","S08","NULL","S08 - Strategic Projects Development"]
[null,null,null,"S08","CSSS","NULL","NULL","NULL","NULL","NULL","Customer & Shared Services","S08","Mike Broemeling","S08 - Strategic Projects Development"]
[null,null,null,"S08","ELEC","NULL","NULL","NULL","NULL","NULL","Electric","S08","NULL","S08 - Strategic Projects Development"]
[null,null,null,"S08","VPOP","NULL","NULL","NULL","NULL","NULL","VP Operations","S08","NULL","S08 - Strategic Projects Development"]
[null,null,null,"N51","CUST","NULL","NULL","NULL","NULL","NULL","Customer Service & Sales","N51","Mike Broemeling","N51 - Write-Off Accrual"]
[null,null,null,"N51","N51","NULL","NULL","NULL","NULL","NULL","Write-Off Accrual","N51","Mike Broemeling","N51 - Write-Off Accrual"]
[null,null,null,"N51","SUPP","NULL","NULL","NULL","NULL","NULL","Support","N51","NULL","N51 - Write-Off Accrual"]
[null,null,null,"N51","VPCS","NULL","NULL","NULL","NULL","NULL","VP Customer Solutions","N51","Kevin Christie","N51 - Write-Off Accrual"]
[null,null,null,"N51","VPUP","NULL","NULL","NULL","NULL","NULL","President & COO Avista Corp","N51","Marian Durkin","N51 - Write-Off Accrual"]
[null,null,null,"N52","AVA","NULL","NULL","NULL","NULL","NULL","Total Company","N52"," ","N52 - Compass Replace Project"]
[null,null,null,"N52","CEXO","NULL","NULL","NULL","NULL","NULL","CEO & President","N52"," ","N52 - Compass Replace Project"]
[null,null,null,"N52","N52","NULL","NULL","NULL","NULL","NULL","Compass Replacement Project","N52","Heather Rosentrater","N52 - Compass Replace Project"]
[null,null,null,"N52","SUPP","NULL","NULL","NULL","NULL","NULL","Support","N52","NULL","N52 - Compass Replace Project"]
[null,null,null,"N52","VPOP","NULL","NULL","NULL","NULL","NULL","VP Energy Delivery","N52","Jason Thackston","N52 - Compass Replace Project"]
[null,null,null,"N52","VPUP","NULL","NULL","NULL","NULL","NULL","President & COO Avista Corp","N52","Marian Durkin","N52 - Compass Replace Project"]
[null,null,null,"N54","AVA","NULL","NULL","NULL","NULL","NULL","Total Company","N54"," ","N54 - Strategic Initiatives"]
[null,null,null,"N54","CEXO","NULL","NULL","NULL","NULL","NULL","CEO & President","N54"," ","N54 - Strategic Initiatives"]
[null,null,null,"N54","N54","NULL","NULL","NULL","NULL","NULL","Strategic Initiatives","N54","Nolan Steiner","N54 - Strategic Initiatives"]
[null,null,null,"N54","SUPP","NULL","NULL","NULL","NULL","NULL","Support","N54","NULL","N54 - Strategic Initiatives"]
[null,null,null,"N54","VPPS","NULL","NULL","NULL","NULL","NULL","Sr. VP Energy Resources","N54","Kelly Norwood","N54 - Strategic Initiatives"]
[null,null,null,"N54","VPUP","NULL","NULL","NULL","NULL","NULL","President & COO Avista Corp","N54","Marian Durkin","N54 - Strategic Initiatives"]
[null,null,null,"P01","AVA","NULL","NULL","NULL","NULL","NULL","Total Company","P01"," ","P01 - Legal Expenses"]
[null,null,null,"P01","CEXO","NULL","NULL","NULL","NULL","NULL","CEO & President","P01"," ","P01 - Legal Expenses"]
[null,null,null,"T53","AVA","NULL","NULL","NULL","NULL","NULL","Total Company","T53","NULL","T53 - South East Engineer"]
[null,null,null,"T53","CNST","NULL","NULL","NULL","NULL","NULL","Operations","T53","NULL","T53 - South East Engineer"]
[null,null,null,"T53","ELEC","NULL","NULL","NULL","NULL","NULL","Electric","T53","NULL","T53 - South East Engineer"]
[null,null,null,"T53","T53","NULL","NULL","NULL","NULL","NULL","South Region Ops Engr","T53","NULL","T53 - South East Engineer"]
[null,null,null,"T53","VPOP","NULL","NULL","NULL","NULL","NULL","VP Operations","T53","NULL","T53 - South East Engineer"]
[null,null,null,"P01","P01","NULL","NULL","NULL","NULL","NULL","Legal Expenses","P01","Marian Durkin","P01 - Legal Expenses"]
[null,null,null,"P01","SUPP","NULL","NULL","NULL","NULL","NULL","Support","P01","NULL","P01 - Legal Expenses"]
[null,null,null,"P01","VPGC","NULL","NULL","NULL","NULL","NULL","Sr. VP & General Counsel","P01","Karen Feltes","P01 - Legal Expenses"]
[null,null,null,"P03","AVA","NULL","NULL","NULL","NULL","NULL","Total Company","P03"," ","P03 - Energy Deliver Tech Proj"]
[null,null,null,"P03","CEXO","NULL","NULL","NULL","NULL","NULL","CEO & President","P03"," ","P03 - Energy Deliver Tech Proj"]
[null,null,null,"P03","ENGR","NULL","NULL","NULL","NULL","NULL","Electric Engineering","P03","David Howell","P03 - Energy Deliver Tech Proj"]
[null,null,null,"P03","P03","NULL","NULL","NULL","NULL","NULL","Energy Delivery Tech Projects","P03","Josh DiLuciano","P03 - Energy Deliver Tech Proj"]
[null,null,null,"P03","SUPP","NULL","NULL","NULL","NULL","NULL","Support","P03","NULL","P03 - Energy Deliver Tech Proj"]
[null,null,null,"P03","VPOP","NULL","NULL","NULL","NULL","NULL","VP Energy Delivery","P03","Jason Thackston","P03 - Energy Deliver Tech Proj"]
[null,null,null,"P03","VPUP","NULL","NULL","NULL","NULL","NULL","President & COO Avista Corp","P03","Marian Durkin","P03 - Energy Deliver Tech Proj"]
[null,null,null,"P07","0007","NULL","NULL","NULL","NULL","NULL","Gen Prod Sub Support","P07","Andy Vickers","P07 - Contract and Proj Mgmt"]
[null,null,null,"P07","AVA","NULL","NULL","NULL","NULL","NULL","Total Company","P07"," ","P07 - Contract and Proj Mgmt"]
[null,null,null,"P07","CEXO","NULL","NULL","NULL","NULL","NULL","CEO & President","P07"," ","P07 - Contract and Proj Mgmt"]
[null,null,null,"P07","P07","NULL","NULL","NULL","NULL","NULL","Project Delivery","P07","Jacob Reidt","P07 - Contract and Proj Mgmt"]
[null,null,null,"P07","SUPP","NULL","NULL","NULL","NULL","NULL","Support","P07","NULL","P07 - Contract and Proj Mgmt"]
[null,null,null,"P07","VPPS","NULL","NULL","NULL","NULL","NULL","Sr. VP Energy Resources","P07","Kelly Norwood","P07 - Contract and Proj Mgmt"]
[null,null,null,"P07","VPUP","NULL","NULL","NULL","NULL","NULL","President & COO Avista Corp","P07","Marian Durkin","P07 - Contract and Proj Mgmt"]
[null,null,null,"P08","AVA","NULL","NULL","NULL","NULL","NULL","Total Company","P08"," ","P08 - Distribution Oper Sys"]
[null,null,null,"P08","CEXO","NULL","NULL","NULL","NULL","NULL","CEO & President","P08"," ","P08 - Distribution Oper Sys"]
[null,null,null,"P08","ENGR","NULL","NULL","NULL","NULL","NULL","Electric Engineering","P08","David Howell","P08 - Distribution Oper Sys"]
[null,null,null,"P08","P08","NULL","NULL","NULL","NULL","NULL","Distribution Operation Syst Mgmt","P08","John Gibson","P08 - Distribution Oper Sys"]
[null,null,null,"P08","SUPP","NULL","NULL","NULL","NULL","NULL","Support","P08","NULL","P08 - Distribution Oper Sys"]
[null,null,null,"P08","VPOP","NULL","NULL","NULL","NULL","NULL","VP Energy Delivery","P08","Jason Thackston","P08 - Distribution Oper Sys"]
[null,null,null,"P08","VPUP","NULL","NULL","NULL","NULL","NULL","President & COO Avista Corp","P08","Marian Durkin","P08 - Distribution Oper Sys"]
[null,null,null,"P09","AVA","NULL","NULL","NULL","NULL","NULL","Total Company","P09"," ",{"$f":"VLOOKUP(L2052,Table1,2)","v":"P09 - Project Management"}]
[null,null,null,"P09","CEXO","NULL","NULL","NULL","NULL","NULL","CEO & President","P09"," ","P09 - Project Management"]
[null,null,null,"P09","INFO","NULL","NULL","NULL","NULL","NULL","VP Info & Security","P09","Jim Kensok","P09 - Project Management"]
[null,null,null,"P09","INFR","NULL","NULL","NULL","NULL","NULL","Infrastructure Technology Summary","P09","Jim Corder","P09 - Project Management"]
[null,null,null,"P09","P09","NULL","NULL","NULL","NULL","NULL","Project Management","P09","Jim Corder","P09 - Project Management"]
[null,null,null,"P09","SUPP","NULL","NULL","NULL","NULL","NULL","Support","P09","NULL","P09 - Project Management"]
[null,null,null,"P09","VPUP","NULL","NULL","NULL","NULL","NULL","President & COO Avista Corp","P09","Marian Durkin","P09 - Project Management"]
[null,null,null,"P50","AVA","NULL","NULL","NULL","NULL","NULL","Total Company","P50"," ","P50 - Davenport"]
[null,null,null,"P50","CEXO","NULL","NULL","NULL","NULL","NULL","CEO & President","P50"," ","P50 - Davenport"]
[null,null,null,"P50","ELEC","NULL","NULL","NULL","NULL","NULL","Electric","P50","NULL","P50 - Davenport"]
[null,null,null,"P50","P50","NULL","NULL","NULL","NULL","NULL","Davenport","P50","Kelly Donohue","P50 - Davenport"]
[null,null,null,"P50","VPOP","NULL","NULL","NULL","NULL","NULL","VP Energy Delivery","P50","Jason Thackston","P50 - Davenport"]
[null,null,null,"P50","VPUP","NULL","NULL","NULL","NULL","NULL","President & COO Avista Corp","P50","Marian Durkin","P50 - Davenport"]
[null,null,null,"P50","WEST","NULL","NULL","NULL","NULL","NULL","Director of Operations - West","P50"," ","P50 - Davenport"]
[null,null,null,"P51","AVA","NULL","NULL","NULL","NULL","NULL","Total Company","P51"," ","P51 - Distribution Dispatch"]
[null,null,null,"P51","CEXO","NULL","NULL","NULL","NULL","NULL","CEO & President","P51"," ","P51 - Distribution Dispatch"]
[null,null,null,"P51","P51","NULL","NULL","NULL","NULL","NULL","Distribution Dispatch","P51","Mike McAllister","P51 - Distribution Dispatch"]
[null,null,null,"P51","SUPP","NULL","NULL","NULL","NULL","NULL","Support","P51","NULL","P51 - Distribution Dispatch"]
[null,null,null,"P51","TRAN","NULL","NULL","NULL","NULL","NULL","Transmission","P51","Bill Abrahamse","P51 - Distribution Dispatch"]
[null,null,null,"P51","VPOP","NULL","NULL","NULL","NULL","NULL","VP Energy Delivery","P51","Jason Thackston","P51 - Distribution Dispatch"]
[null,null,null,"P51","VPUP","NULL","NULL","NULL","NULL","NULL","President & COO Avista Corp","P51","Marian Durkin","P51 - Distribution Dispatch"]
[null,null,null,"P53","AVA","NULL","NULL","NULL","NULL","NULL","Total Company","P53"," ","P53 - AM Moscow/Pullman"]
[null,null,null,"P53","CEXO","NULL","NULL","NULL","NULL","NULL","CEO & President","P53"," ","P53 - AM Moscow/Pullman"]
[null,null,null,"P53","ESOL","NULL","NULL","NULL","NULL","NULL","Energy Solutions","P53","Pat Lynch","P53 - AM Moscow/Pullman"]
[null,null,null,"P53","P53","NULL","NULL","NULL","NULL","NULL","Reg Bus Mgr - Palouse","P53","Paul Kimmell","P53 - AM Moscow/Pullman"]
[null,null,null,"P53","SUPP","NULL","NULL","NULL","NULL","NULL","Support","P53","NULL","P53 - AM Moscow/Pullman"]
[null,null,null,"P53","VPCS","NULL","NULL","NULL","NULL","NULL","VP Customer Solutions","P53","Kevin Christie","P53 - AM Moscow/Pullman"]
[null,null,null,"P53","VPUP","NULL","NULL","NULL","NULL","NULL","President & COO Avista Corp","P53","Marian Durkin","P53 - AM Moscow/Pullman"]
[null,null,null,"P59","AVA","NULL","NULL","NULL","NULL","NULL","Total Company","P59"," ","P59 - Tech Service Center"]
[null,null,null,"P59","CEXO","NULL","NULL","NULL","NULL","NULL","CEO & President","P59"," ","P59 - Tech Service Center"]
[null,null,null,"P59","INFO","NULL","NULL","NULL","NULL","NULL","VP Info & Security","P59","Jim Kensok","P59 - Tech Service Center"]
[null,null,null,"P59","INFR","NULL","NULL","NULL","NULL","NULL","Infrastructure Technology Summary","P59","Jim Corder","P59 - Tech Service Center"]
[null,null,null,"P59","P59","NULL","NULL","NULL","NULL","NULL","Technology Service Center","P59","Jim Corder","P59 - Tech Service Center"]
[null,null,null,"P59","SUPP","NULL","NULL","NULL","NULL","NULL","Support","P59","NULL","P59 - Tech Service Center"]
[null,null,null,"P59","VPUP","NULL","NULL","NULL","NULL","NULL","President & COO Avista Corp","P59","Marian Durkin","P59 - Tech Service Center"]
[null,null,null,"P99","AVA","NULL","NULL","NULL","NULL","NULL","Total Company","P99"," ","P99 - IT Director"]
[null,null,null,"P99","CEXO","NULL","NULL","NULL","NULL","NULL","CEO & President","P99"," ","P99 - IT Director"]
[null,null,null,"P99","INFO","NULL","NULL","NULL","NULL","NULL","VP Info & Security","P99","Jim Kensok","P99 - IT Director"]
[null,null,null,"P99","INFR","NULL","NULL","NULL","NULL","NULL","Infrastructure Technology Summary","P99","Jim Corder","P99 - IT Director"]
[null,null,null,"P99","P99","NULL","NULL","NULL","NULL","NULL","IT Director","P99","Jim Corder","P99 - IT Director"]
[null,null,null,"P99","SUPP","NULL","NULL","NULL","NULL","NULL","Support","P99","NULL","P99 - IT Director"]
[null,null,null,"P99","VPUP","NULL","NULL","NULL","NULL","NULL","President & COO Avista Corp","P99","Marian Durkin","P99 - IT Director"]
[null,null,null,"Q19","APPS","NULL","NULL","NULL","NULL","NULL","Applications Summary","Q19","Hossein Nikdel","Q19 - Qlty Assur & Rel Mgmt"]
[null,null,null,"Q19","AVA","NULL","NULL","NULL","NULL","NULL","Total Company","Q19"," ","Q19 - Qlty Assur & Rel Mgmt"]
[null,null,null,"Q19","CEXO","NULL","NULL","NULL","NULL","NULL","CEO & President","Q19"," ","Q19 - Qlty Assur & Rel Mgmt"]
[null,null,null,"Q19","INFO","NULL","NULL","NULL","NULL","NULL","VP Info & Security","Q19","Jim Kensok","Q19 - Qlty Assur & Rel Mgmt"]
[null,null,null,"Q19","ISOP","NULL","NULL","NULL","NULL","NULL","IS Operations Rollup","Q19","Hossein Nikdel","Q19 - Qlty Assur & Rel Mgmt"]
[null,null,null,"Q19","Q19","NULL","NULL","NULL","NULL","NULL","Quality Assurance & Release Management","Q19","Graham Smith","Q19 - Qlty Assur & Rel Mgmt"]
[null,null,null,"Q19","SUPP","NULL","NULL","NULL","NULL","NULL","Support","Q19","NULL","Q19 - Qlty Assur & Rel Mgmt"]
[null,null,null,"Q19","VPUP","NULL","NULL","NULL","NULL","NULL","President & COO Avista Corp","Q19","Marian Durkin","Q19 - Qlty Assur & Rel Mgmt"]
[null,null,null,"R09","AVA","NULL","NULL","NULL","NULL","NULL","Total Company","R09"," ","R09 - Communicated Systems"]
[null,null,null,"R09","CEXO","NULL","NULL","NULL","NULL","NULL","CEO & President","R09"," ","R09 - Communicated Systems"]
[null,null,null,"R09","INFO","NULL","NULL","NULL","NULL","NULL","VP Info & Security","R09","Jim Kensok","R09 - Communicated Systems"]
[null,null,null,"R09","INFR","NULL","NULL","NULL","NULL","NULL","Infrastructure Technology Summary","R09","Jim Corder","R09 - Communicated Systems"]
[null,null,null,"R09","ITSE","NULL","NULL","NULL","NULL","NULL","System Engineering Rollup","R09","Walter Roys","R09 - Communicated Systems"]
[null,null,null,"R09","R09","NULL","NULL","NULL","NULL","NULL","Communication Systems Engineering","R09","Walter Roys","R09 - Communicated Systems"]
[null,null,null,"R09","SUPP","NULL","NULL","NULL","NULL","NULL","Support","R09","NULL","R09 - Communicated Systems"]
[null,null,null,"R09","VPUP","NULL","NULL","NULL","NULL","NULL","President & COO Avista Corp","R09","Marian Durkin","R09 - Communicated Systems"]
[null,null,null,"R11","AVA","NULL","NULL","NULL","NULL","NULL","Total Company","R11"," ","R11 - Rates & Regulations"]
[null,null,null,"R11","CEXO","NULL","NULL","NULL","NULL","NULL","CEO & President","R11"," ","R11 - Rates & Regulations"]
[null,null,null,"R11","R11","NULL","NULL","NULL","NULL","NULL","Rates & Regulations","R11","Kelly Norwood","R11 - Rates & Regulations"]
[null,null,null,"R11","SUPP","NULL","NULL","NULL","NULL","NULL","Support","R11","NULL","R11 - Rates & Regulations"]
[null,null,null,"R11","VPRR","NULL","NULL","NULL","NULL","NULL","VP Rates and Regs","R11","Dennis Vermillion","R11 - Rates & Regulations"]
[null,null,null,"R11","VPUP","NULL","NULL","NULL","NULL","NULL","President & COO Avista Corp","R11","Marian Durkin","R11 - Rates & Regulations"]
[null,null,null,"R19","AVA","NULL","NULL","NULL","NULL","NULL","Total Company","R19"," ",{"$f":"VLOOKUP(L2116,Table1,2)","v":"R19 - Comm Systems Ops"}]
[null,null,null,"R19","CEXO","NULL","NULL","NULL","NULL","NULL","CEO & President","R19"," ","R19 - Comm Systems Ops"]
[null,null,null,"R19","INFO","NULL","NULL","NULL","NULL","NULL","VP Info & Security","R19","Jim Kensok","R19 - Comm Systems Ops"]
[null,null,null,"R19","INFR","NULL","NULL","NULL","NULL","NULL","Infrastructure Technology Summary","R19","Jim Corder","R19 - Comm Systems Ops"]
[null,null,null,"R19","ITOP","NULL","NULL","NULL","NULL","NULL","IT Operations Rollup","R19","Michael Busby","R19 - Comm Systems Ops"]
[null,null,null,"R19","R19","NULL","NULL","NULL","NULL","NULL","Communication Systems Operations","R19","Michael Busby","R19 - Comm Systems Ops"]
[null,null,null,"R19","SUPP","NULL","NULL","NULL","NULL","NULL","Support","R19","NULL","R19 - Comm Systems Ops"]
[null,null,null,"R19","VPUP","NULL","NULL","NULL","NULL","NULL","President & COO Avista Corp","R19","Marian Durkin","R19 - Comm Systems Ops"]
[null,null,null,"R29","AVA","NULL","NULL","NULL","NULL","NULL","Total Company","R29"," ","R29 - Comm Sys Prod & Serv"]
[null,null,null,"R29","CEXO","NULL","NULL","NULL","NULL","NULL","CEO & President","R29"," ","R29 - Comm Sys Prod & Serv"]
[null,null,null,"R29","INFO","NULL","NULL","NULL","NULL","NULL","VP Info & Security","R29","Jim Kensok","R29 - Comm Sys Prod & Serv"]
[null,null,null,"R29","INFR","NULL","NULL","NULL","NULL","NULL","Infrastructure Technology Summary","R29","Jim Corder","R29 - Comm Sys Prod & Serv"]
[null,null,null,"R29","ITSE","NULL","NULL","NULL","NULL","NULL","System Engineering Rollup","R29","Walter Roys","R29 - Comm Sys Prod & Serv"]
[null,null,null,"R29","R29","NULL","NULL","NULL","NULL","NULL","Communication Systems Products & Service","R29","Walter Roys","R29 - Comm Sys Prod & Serv"]
[null,null,null,"R29","SUPP","NULL","NULL","NULL","NULL","NULL","Support","R29","NULL","R29 - Comm Sys Prod & Serv"]
[null,null,null,"R29","VPUP","NULL","NULL","NULL","NULL","NULL","President & COO Avista Corp","R29","Marian Durkin","R29 - Comm Sys Prod & Serv"]
[null,null,null,"R51","AVA","NULL","NULL","NULL","NULL","NULL","Total Company","R51"," ","R51 - Joint Use Projects-Distribution"]
[null,null,null,"R51","CEXO","NULL","NULL","NULL","NULL","NULL","CEO & President","R51"," ","R51 - Joint Use Projects-Distribution"]
[null,null,null,"R51","DSGN","NULL","NULL","NULL","NULL","NULL","Construction Design","R51","Steve Plewman","R51 - Joint Use Projects-Distribution"]
[null,null,null,"R51","ENGR","NULL","NULL","NULL","NULL","NULL","Electric Engineering","R51","David Howell","R51 - Joint Use Projects-Distribution"]
[null,null,null,"R51","R51","NULL","NULL","NULL","NULL","NULL","Joint Use Projects - Distribution","R51","Steve Plewman","R51 - Joint Use Projects-Distribution"]
[null,null,null,"R51","SUPP","NULL","NULL","NULL","NULL","NULL","Support","R51","NULL","R51 - Joint Use Projects-Distribution"]
[null,null,null,"R51","VPOP","NULL","NULL","NULL","NULL","NULL","VP Energy Delivery","R51","Jason Thackston","R51 - Joint Use Projects-Distribution"]
[null,null,null,"R51","VPUP","NULL","NULL","NULL","NULL","NULL","President & COO Avista Corp","R51","Marian Durkin","R51 - Joint Use Projects-Distribution"]
[null,null,null,"R53","AVA","NULL","NULL","NULL","NULL","NULL","Total Company","R53"," ","R53 - Grangeville"]
[null,null,null,"R53","CEXO","NULL","NULL","NULL","NULL","NULL","CEO & President","R53"," ","R53 - Grangeville"]
[null,null,null,"R53","EAST","NULL","NULL","NULL","NULL","NULL","Director Operations - East","R53","Greg Gfeller","R53 - Grangeville"]
[null,null,null,"R53","ELEC","NULL","NULL","NULL","NULL","NULL","Electric","R53","NULL","R53 - Grangeville"]
[null,null,null,"R53","R53","NULL","NULL","NULL","NULL","NULL","Grangeville","R53","Jeff Schwendener","R53 - Grangeville"]
[null,null,null,"R53","VPOP","NULL","NULL","NULL","NULL","NULL","VP Energy Delivery","R53","Jason Thackston","R53 - Grangeville"]
[null,null,null,"R53","VPUP","NULL","NULL","NULL","NULL","NULL","President & COO Avista Corp","R53","Marian Durkin","R53 - Grangeville"]
[null,null,null,"R54","AVA","NULL","NULL","NULL","NULL","NULL","Total Company","R54"," ","R54 - Risk Management"]
[null,null,null,"R54","CEXO","NULL","NULL","NULL","NULL","NULL","CEO & President","R54"," ","R54 - Risk Management"]
[null,null,null,"R54","R54","NULL","NULL","NULL","NULL","NULL","Risk Management","R54","Pat Gorton","R54 - Risk Management"]
[null,null,null,"R54","SUPP","NULL","NULL","NULL","NULL","NULL","Support","R54","NULL","R54 - Risk Management"]
[null,null,null,"R54","VPFN","NULL","NULL","NULL","NULL","NULL","Finance & Treasury","R54","Mark Thies","R54 - Risk Management"]
[null,null,null,"R54","VPFO","NULL","NULL","NULL","NULL","NULL","Sr. VP & CFO","R54","Marian Durkin","R54 - Risk Management"]
[null,null,null,"R55","AVA","NULL","NULL","NULL","NULL","NULL","Total Company","R55"," ","R55 - Resource Risk Mgmt"]
[null,null,null,"R55","CEXO","NULL","NULL","NULL","NULL","NULL","CEO & President","R55"," ","R55 - Resource Risk Mgmt"]
[null,null,null,"R55","R55","NULL","NULL","NULL","NULL","NULL","Resource Risk Management","R55","Pat Gorton","R55 - Resource Risk Mgmt"]
[null,null,null,"R55","SUPP","NULL","NULL","NULL","NULL","NULL","Support","R55","NULL","R55 - Resource Risk Mgmt"]
[null,null,null,"R55","VPFN","NULL","NULL","NULL","NULL","NULL","Finance & Treasury","R55","Mark Thies","R55 - Resource Risk Mgmt"]
[null,null,null,"R55","VPFO","NULL","NULL","NULL","NULL","NULL","Sr. VP & CFO","R55","Marian Durkin","R55 - Resource Risk Mgmt"]
[null,null,null,"R56","AVA","NULL","NULL","NULL","NULL","NULL","Total Company","R56"," ","R56 - Insurance"]
[null,null,null,"R56","CEXO","NULL","NULL","NULL","NULL","NULL","CEO & President","R56"," ","R56 - Insurance"]
[null,null,null,"R56","R56","NULL","NULL","NULL","NULL","NULL","Insurance Management","R56","Kellee Quick","R56 - Insurance"]
[null,null,null,"R56","SUPP","NULL","NULL","NULL","NULL","NULL","Support","R56","NULL","R56 - Insurance"]
[null,null,null,"R56","VPFN","NULL","NULL","NULL","NULL","NULL","Finance & Treasury","R56","Mark Thies","R56 - Insurance"]
[null,null,null,"R56","VPFO","NULL","NULL","NULL","NULL","NULL","Sr. VP & CFO","R56","Marian Durkin","R56 - Insurance"]
[null,null,null,"S01","AVA","NULL","NULL","NULL","NULL","NULL","Total Company","S01"," ","S01 - VP & Counsl-Regultry/Govt Affairs"]
[null,null,null,"S01","CEXO","NULL","NULL","NULL","NULL","NULL","CEO & President","S01"," ","S01 - VP & Counsl-Regultry/Govt Affairs"]
[null,null,null,"S01","S01","NULL","NULL","NULL","NULL","NULL","VP & Counsel for Regulatory/Govt Affairs","S01","Keri Meister","S01 - VP & Counsl-Regultry/Govt Affairs"]
[null,null,null,"S01","SUPP","NULL","NULL","NULL","NULL","NULL","Support","S01","NULL","S01 - VP & Counsl-Regultry/Govt Affairs"]
[null,null,null,"S01","VPGC","NULL","NULL","NULL","NULL","NULL","Sr. VP & General Counsel","S01","Karen Feltes","S01 - VP & Counsl-Regultry/Govt Affairs"]
[null,null,null,"S03","AVA","NULL","NULL","NULL","NULL","NULL","Total Company","S03"," ","S03 - Advantage IQ"]
[null,null,null,"S03","AVIS","NULL","NULL","NULL","NULL","NULL","Avista Subsidiaries","S03","Adam Munson","S03 - Advantage IQ"]
[null,null,null,"S03","CEXO","NULL","NULL","NULL","NULL","NULL","CEO & President","S03"," ","S03 - Advantage IQ"]
[null,null,null,"S03","S03","NULL","NULL","NULL","NULL","NULL","Avista Advantage","S03","John Wilcox","S03 - Advantage IQ"]
[null,null,null,"S03","SUPP","NULL","NULL","NULL","NULL","NULL","Support","S03","NULL","S03 - Advantage IQ"]
[null,null,null,"S04","AVA","NULL","NULL","NULL","NULL","NULL","Total Company","S04"," ","S04 - SPS CYOC Mgmt Oversight"]
[null,null,null,"S04","AVIS","NULL","NULL","NULL","NULL","NULL","Avista Subsidiaries","S04","Adam Munson","S04 - SPS CYOC Mgmt Oversight"]
[null,null,null,"S04","CEXO","NULL","NULL","NULL","NULL","NULL","CEO & President","S04"," ","S04 - SPS CYOC Mgmt Oversight"]
[null,null,null,"S04","S04","NULL","NULL","NULL","NULL","NULL","SPS CYOC Mgmt Oversight","S04","Bob Lafferty","S04 - SPS CYOC Mgmt Oversight"]
[null,null,null,"S04","SUPP","NULL","NULL","NULL","NULL","NULL","Support","S04","NULL","S04 - SPS CYOC Mgmt Oversight"]
[null,null,null,"S05","AVA","NULL","NULL","NULL","NULL","NULL","Total Company","S05"," ",{"$f":"VLOOKUP(L2180,Table1,2)","v":"S05 - Salix"}]
[null,null,null,"S05","AVIS","NULL","NULL","NULL","NULL","NULL","Avista Subsidiaries","S05","Adam Munson","S05 - Salix"]
[null,null,null,"S05","CEXO","NULL","NULL","NULL","NULL","NULL","CEO & President","S05"," ","S05 - Salix"]
[null,null,null,"S05","S05","NULL","NULL","NULL","NULL","NULL","Salix","S05","Hossein Nikdel","S05 - Salix"]
[null,null,null,"S05","SUPP","NULL","NULL","NULL","NULL","NULL","Support","S05","NULL","S05 - Salix"]
[null,null,null,"S09","APPS","NULL","NULL","NULL","NULL","NULL","Applications Summary","S09","Hossein Nikdel","S09 - Apps Operations & Supp"]
[null,null,null,"S09","AVA","NULL","NULL","NULL","NULL","NULL","Total Company","S09"," ","S09 - Apps Operations & Supp"]
[null,null,null,"S09","CEXO","NULL","NULL","NULL","NULL","NULL","CEO & President","S09"," ","S09 - Apps Operations & Supp"]
[null,null,null,"S09","INFO","NULL","NULL","NULL","NULL","NULL","VP Info & Security","S09","Jim Kensok","S09 - Apps Operations & Supp"]
[null,null,null,"S09","S09","NULL","NULL","NULL","NULL","NULL","IS Products & Services","S09","Jason Pitts","S09 - Apps Operations & Supp"]
[null,null,null,"S09","SUPP","NULL","NULL","NULL","NULL","NULL","Support","S09","NULL","S09 - Apps Operations & Supp"]
[null,null,null,"S09","VPUP","NULL","NULL","NULL","NULL","NULL","President & COO Avista Corp","S09","Marian Durkin","S09 - Apps Operations & Supp"]
[null,null,null,"S19","APPS","NULL","NULL","NULL","NULL","NULL","Applications Summary","S19","Hossein Nikdel","S19 - Integrations Operations"]
[null,null,null,"S19","AVA","NULL","NULL","NULL","NULL","NULL","Total Company","S19"," ","S19 - Integrations Operations"]
[null,null,null,"N09","VPUP","NULL","NULL","NULL","NULL","NULL","President & COO Avista Corp","N09","Marian Durkin","N09 - Office of CIO"]
[null,null,null,"N50","AVA","NULL","NULL","NULL","NULL","NULL","Total Company","N50"," ","N50 - Director of Customer Service"]
[null,null,null,"N50","CEXO","NULL","NULL","NULL","NULL","NULL","CEO & President","N50"," ","N50 - Director of Customer Service"]
[null,null,null,"N50","CUST","NULL","NULL","NULL","NULL","NULL","Customer Service & Sales","N50","Mike Broemeling","N50 - Director of Customer Service"]
[null,null,null,"N50","N50","NULL","NULL","NULL","NULL","NULL","Dir of Customer Service","N50","Mike Broemeling","N50 - Director of Customer Service"]
[null,null,null,"N50","SUPP","NULL","NULL","NULL","NULL","NULL","Support","N50","NULL","N50 - Director of Customer Service"]
[null,null,null,"N50","VPCS","NULL","NULL","NULL","NULL","NULL","VP Customer Solutions","N50","Kevin Christie","N50 - Director of Customer Service"]
[null,null,null,"N50","VPUP","NULL","NULL","NULL","NULL","NULL","President & COO Avista Corp","N50","Marian Durkin","N50 - Director of Customer Service"]
[null,null,null,"N51","AVA","NULL","NULL","NULL","NULL","NULL","Total Company","N51"," ","N51 - Write-Off Accrual"]
[null,null,null,"N51","CEXO","NULL","NULL","NULL","NULL","NULL","CEO & President","N51"," ","N51 - Write-Off Accrual"]
[null,null,null,"B52","VPOP","B52","NULL","NULL","NULL","NULL","VP Energy Delivery","B52","Jason Thackston","B52 - Gas Comp Cathodic"]
[null,null,null,"B53","VPOP","B53","NULL","NULL","NULL","NULL","VP Energy Delivery","B53","Jason Thackston","B53 - Pullman"]
[null,null,null,"B54","VPOP","B54","NULL","NULL","NULL","NULL","VP Energy Delivery","B54","Jason Thackston","B54 - Gas Compliance"]
[null,null,null,"B56","VPOP","B56","NULL","NULL","NULL","NULL","VP Energy Delivery","B56","Jason Thackston","B56 - Misc Transmission Expense"]
[null,null,null,"C02","VPHR","C02","NULL","NULL","NULL","NULL","Sr. VP Human Resources","C02","Heather Rosentrater","C02 - Employee Engagement"]
[null,null,null,"C04","VPGC","C04","NULL","NULL","NULL","NULL","Sr. VP & General Counsel","C04","Karen Feltes","C04 - Spokane River License"]
[null,null,null,"C06","VPPS","C06","NULL","NULL","NULL","NULL","Sr. VP Energy Resources","C06","Kelly Norwood","C06 - Joint Project - CS2"]
[null,null,null,"C07","VPPS","C07","NULL","NULL","NULL","NULL","Sr. VP Energy Resources","C07","Kelly Norwood","C07 - Spokane River Hydro"]
[null,null,null,"C08","VPOP","C08","NULL","NULL","NULL","NULL","VP Energy Delivery","C08","Jason Thackston","C08 - Technical Services - GIS"]
[null,null,null,"C09","INFO","C09","NULL","NULL","NULL","NULL","VP Info & Security","C09","Jim Kensok","C09 - Security Systems"]
[null,null,null,"C11","VPCS","C11","NULL","NULL","NULL","NULL","VP Customer Solutions","C11","Kevin Christie","C11 - CC&B Technology"]
[null,null,null,"C19","INFO","C19","NULL","NULL","NULL","NULL","VP Info & Security","C19","Jim Kensok","C19 - Security Operations"]
[null,null,null,"C29","INFO","C29","NULL","NULL","NULL","NULL","VP Info & Security","C29","Jim Kensok","C29 - Security Products & Serv"]
[null,null,null,"C50","VPCS","C50","NULL","NULL","NULL","NULL","VP Customer Solutions","C50","Kevin Christie","C50 - Contact Ctr Spokane-Hire & Train"]
[null,null,null,"C51","VPOP","C51","NULL","NULL","NULL","NULL","VP Energy Delivery","C51","Jason Thackston","C51 - Elec Distributn Design"]
[null,null,null,"C53","VPOP","C53","NULL","NULL","NULL","NULL","VP Energy Delivery","C53","Jason Thackston","C53 - Coeur d Alene Gas"]
[null,null,null,"C54","VPCC","C54","NULL","NULL","NULL","NULL","VP Corporate Controller","C54","Kevin Christie","C54 - Tax Services"]
[null,null,null,"C56","VPOP","C56","NULL","NULL","NULL","NULL","VP Energy Delivery","C56","Jason Thackston","C56 - System Planning"]
[null,null,null,"C57","VPOP","C57","NULL","NULL","NULL","NULL","VP Energy Delivery","C57","Jason Thackston","C57 - Spokane Electric Network"]
[null,null,null,"C59","INFO","C59","NULL","NULL","NULL","NULL","VP Info & Security","C59","Jim Kensok","C59 - Enterprise Busi Continuity"]
[null,null,null,"C83","VPOP","C83","NULL","NULL","NULL","NULL","VP Energy Delivery","C83","Jason Thackston","C83 - La Grande"]
[null,null,null,"D02","VPHR","D02","NULL","NULL","NULL","NULL","Sr. VP Human Resources","D02","Heather Rosentrater","D02 - VP Of Hr & Corp Service"]
[null,null,null,"D08","VPOP","D08","NULL","NULL","NULL","NULL","VP Energy Delivery","D08","Jason Thackston","D08 - Energy Del Gen Mg"]
[null,null,null,"D09","VPOP","D09","NULL","NULL","NULL","NULL","VP Energy Delivery","D09","Jason Thackston","D09 - Scada"]
[null,null,null,"D50","VPCS","D50","NULL","NULL","NULL","NULL","VP Customer Solutions","D50","Kevin Christie","D50 - Meter Read/Billing"]
[null,null,null,"D51","VPOP","D51","NULL","NULL","NULL","NULL","VP Energy Delivery","D51","Jason Thackston","D51 - Vegetation Management"]
[null,null,null,"D52","VPCS","D52","NULL","NULL","NULL","NULL","VP Customer Solutions","D52","Kevin Christie","D52 - Energy Efficiency"]
[null,null,null,"D53","VPOP","D53","NULL","NULL","NULL","NULL","VP Energy Delivery","D53","Jason Thackston","D53 - Clarkston"]
[null,null,null,"D54","VPCC","D54","NULL","NULL","NULL","NULL","VP Corporate Controller","D54","Kevin Christie","D54 - Corp & Subs Accounting"]
[null,null,null,"D55","VPPS","D55","NULL","NULL","NULL","NULL","Sr. VP Energy Resources","D55","Kelly Norwood","D55 - Natural Gas Resources"]
[null,null,null,"D56","VPOP","D56","NULL","NULL","NULL","NULL","VP Energy Delivery","D56","Jason Thackston","D56 - Director of Engineering/System Ops"]
[null,null,null,"E01","EXEC","E01","NULL","NULL","NULL","NULL","Executive Department Summary","E01"," ","E01 - Exec Administration"]
[null,null,null,"E02","VPHR","E02","NULL","NULL","NULL","NULL","Sr. VP Human Resources","E02","Heather Rosentrater","E02 - Corp Org Development"]
[null,null,null,"E07","VPPS","E07","NULL","NULL","NULL","NULL","Sr. VP Energy Resources","E07","Kelly Norwood","E07 - Generation Engineers"]
[null,null,null,"E09","INFO","E09","NULL","NULL","NULL","NULL","VP Info & Security","E09","Jim Kensok","E09 - Distributed Systems"]
[null,null,null,"E14","VPGC","E14","NULL","NULL","NULL","NULL","Sr. VP & General Counsel","E14","Karen Feltes","E14 - Environmental Compliance"]
[null,null,null,"E19","INFO","E19","NULL","NULL","NULL","NULL","VP Info & Security","E19","Jim Kensok","E19 - Dist Systems Ops"]
[null,null,null,"E29","INFO","E29","NULL","NULL","NULL","NULL","VP Info & Security","E29","Jim Kensok","E29 - Dist Syst Prod & Serv"]
[null,null,null,"E50","VPCS","E50","NULL","NULL","NULL","NULL","VP Customer Solutions","E50","Kevin Christie","E50 - Contact Ctr-Spokane"]
[null,null,null,"E51","VPOP","E51","NULL","NULL","NULL","NULL","VP Energy Delivery","E51","Jason Thackston","E51 - Asset Management"]
[null,null,null,"E52","VPCS","E52","NULL","NULL","NULL","NULL","VP Customer Solutions","E52","Kevin Christie",{"$f":"VLOOKUP(L2244,Table1,2)","v":"E52 - Oregon DSM"}]
[null,null,null,"E53","VPCS","E53","NULL","NULL","NULL","NULL","VP Customer Solutions","E53","Kevin Christie","E53 - Contact Ctr-Lewiston"]
[null,null,null,"E55","VPPS","E55","NULL","NULL","NULL","NULL","Sr. VP Energy Resources","E55","Kelly Norwood","E55 - Power Supply"]
[null,null,null,"E56","VPOP","E56","NULL","NULL","NULL","NULL","VP Energy Delivery","E56","Jason Thackston","E56 - Transmission Services"]
[null,null,null,"F02","VPHR","F02","NULL","NULL","NULL","NULL","Sr. VP Human Resources","F02","Heather Rosentrater","F02 - HR Consulting and Analy"]
[null,null,null,"F08","VPPS","F08","NULL","NULL","NULL","NULL","Sr. VP Energy Resources","F08","Kelly Norwood","F08 - Electric Shop"]
[null,null,null,"F19","INFO","F19","NULL","NULL","NULL","NULL","VP Info & Security","F19","Jim Kensok","F19 - Back Office Tech Ops"]
[null,null,null,"F39","INFO","F39","NULL","NULL","NULL","NULL","VP Info & Security","F39","Jim Kensok","F39 - Oracle Fin Sevices Dev"]
[null,null,null,"F50","VPCS","F50","NULL","NULL","NULL","NULL","VP Customer Solutions","F50","Kevin Christie","F50 - Contact Ctr-Credit & Collections"]
[null,null,null,"F52","VPCS","F52","NULL","NULL","NULL","NULL","VP Customer Solutions","F52","Kevin Christie","F52 - Market Services"]
[null,null,null,"F53","VPCS","F53","NULL","NULL","NULL","NULL","VP Customer Solutions","F53","Kevin Christie","F53 - AM Lewis/Clark"]
[null,null,null,"F54","VPFO","F54","NULL","NULL","NULL","NULL","Sr. VP & CFO","F54","Marian Durkin","F54 - Treasury & Trust Mgmt"]
[null,null,null,"F55","VPFO","F55","NULL","NULL","NULL","NULL","Sr. VP & CFO","F55","Marian Durkin","F55 - Financial Planning and Analysis"]
[null,null,null,"G01","VPFO","G01","NULL","NULL","NULL","NULL","Sr. VP & CFO","G01","Marian Durkin","G01 - Officer Support Team"]
[null,null,null,"G02","VPHR","G02","NULL","NULL","NULL","NULL","Sr. VP Human Resources","G02","Heather Rosentrater","G02 - Employee Safety"]
[null,null,null,"G08","VPOP","G08","NULL","NULL","NULL","NULL","VP Energy Delivery","G08","Jason Thackston","G08 - Gas Construction Management"]
[null,null,null,"G10","VPFO","G10","NULL","NULL","NULL","NULL","Sr. VP & CFO","G10","Marian Durkin","G10 - Credit Union"]
[null,null,null,"G39","INFO","G39","NULL","NULL","NULL","NULL","VP Info & Security","G39","Jim Kensok","G39 - GIS Development"]
[null,null,null,"G50","VPOP","G50","NULL","NULL","NULL","NULL","VP Energy Delivery","G50","Jason Thackston","G50 - Colville"]
[null,null,null,"G51","VPOP","G51","NULL","NULL","NULL","NULL","VP Energy Delivery","G51","Jason Thackston","G51 - Dir of Natural Gas"]
[null,null,null,"G53","VPCS","G53","NULL","NULL","NULL","NULL","VP Customer Solutions","G53","Kevin Christie","G53 - Area Manager - CDA"]
[null,null,null,"G54","VPCC","G54","NULL","NULL","NULL","NULL","VP Corporate Controller","G54","Kevin Christie","G54 - Finance Administration"]
[null,null,null,"H02","VPHR","H02","NULL","NULL","NULL","NULL","Sr. VP Human Resources","H02","Heather Rosentrater","H02 - Occupational Health"]
[null,null,null,"H04","VPGC","H04","NULL","NULL","NULL","NULL","Sr. VP & General Counsel","H04","Karen Feltes","H04 - Hydro Compliance"]
[null,null,null,"H07","VPOP","H07","NULL","NULL","NULL","NULL","VP Energy Delivery","H07","Jason Thackston","H07 - Facilities Management"]
[null,null,null,"H08","VPOP","H08","NULL","NULL","NULL","NULL","VP Energy Delivery","H08","Jason Thackston","H08 - Energy Del Stratgic Proj"]
[null,null,null,"H14","VPCS","H14","NULL","NULL","NULL","NULL","VP Customer Solutions","H14","Kevin Christie","H14 - Consumer Affairs"]
[null,null,null,"H50","VPOP","H50","NULL","NULL","NULL","NULL","VP Energy Delivery","H50","Jason Thackston","H50 - Othello"]
[null,null,null,"H51","VPOP","H51","NULL","NULL","NULL","NULL","VP Energy Delivery","H51","Jason Thackston","H51 - Supply Chain Mgmt"]
[null,null,null,"H53","VPOP","H53","NULL","NULL","NULL","NULL","VP Energy Delivery","H53","Jason Thackston","H53 - Kellogg"]
[null,null,null,"H54","VPFO","H54","NULL","NULL","NULL","NULL","Sr. VP & CFO","H54","Marian Durkin","H54 - AP/Remittance Services"]
[null,null,null,"I02","VPHR","I02","NULL","NULL","NULL","NULL","Sr. VP Human Resources","I02","Heather Rosentrater","I02 - Craft Training"]
[null,null,null,"I08","VPOP","I08","NULL","NULL","NULL","NULL","VP Energy Delivery","I08","Jason Thackston","I08 - Energy Delivery Operations Support"]
[null,null,null,"I50","VPCS","I50","NULL","NULL","NULL","NULL","VP Customer Solutions","I50","Kevin Christie","I50 - Contact Center-IT"]
[null,null,null,"I54","VPCC","I54","NULL","NULL","NULL","NULL","VP Corporate Controller","I54","Kevin Christie","I54 - Tax Other Than Income"]
[null,null,null,"J01","VPFO","J01","NULL","NULL","NULL","NULL","Sr. VP & CFO","J01","Marian Durkin","J01 - SR VP & CFO"]
[null,null,null,"J02","VPHR","J02","NULL","NULL","NULL","NULL","Sr. VP Human Resources","J02","Heather Rosentrater","J02 - Public Safety"]
[null,null,null,"J06","VPPS","J06","NULL","NULL","NULL","NULL","Sr. VP Energy Resources","J06","Kelly Norwood","J06 - Joint Project Jackson Prairie"]
[null,null,null,"J08","VPOP","J08","NULL","NULL","NULL","NULL","VP Energy Delivery","J08","Jason Thackston","J08 - Gas Construction Quality Control"]
[null,null,null,"J09","INFO","J09","NULL","NULL","NULL","NULL","VP Info & Security","J09","Jim Kensok","J09 - Network Systems"]
[null,null,null,"J10","VPFO","J10","NULL","NULL","NULL","NULL","Sr. VP & CFO","J10","Marian Durkin","J10 - Utility Fin Central"]
[null,null,null,"J29","INFO","J29","NULL","NULL","NULL","NULL","VP Info & Security","J29","Jim Kensok","J29 - Ntwk Sys Prod & Serv"]
[null,null,null,"J50","VPCS","J50","NULL","NULL","NULL","NULL","VP Customer Solutions","J50","Kevin Christie","J50 - Reg Bus Mgr - Spokane"]
[null,null,null,"J51","VPOP","J51","NULL","NULL","NULL","NULL","VP Energy Delivery","J51","Jason Thackston","J51 - Warehousing"]
[null,null,null,"J53","VPOP","J53","NULL","NULL","NULL","NULL","VP Energy Delivery","J53","Jason Thackston","J53 - Sandpoint/Bonners Ferry"]
[null,null,null,"J54","EXEC","J54","NULL","NULL","NULL","NULL","Executive Department Summary","J54"," ","J54 - Internal Auditing"]
[null,null,null,"K02","VPHR","K02","NULL","NULL","NULL","NULL","Sr. VP Human Resources","K02","Heather Rosentrater","K02 - Compensation"]
[null,null,null,"K07","VPPS","K07","NULL","NULL","NULL","NULL","Sr. VP Energy Resources","K07","Kelly Norwood","K07 - Kettle Falls Thermal"]
[null,null,null,"K08","VPOP","K08","NULL","NULL","NULL","NULL","VP Energy Delivery","K08","Jason Thackston","K08 - GIS Editing"]
[null,null,null,"K19","INFO","K19","NULL","NULL","NULL","NULL","VP Info & Security","K19","Jim Kensok","K19 - Customer Tech Ops"]
[null,null,null,"K39","INFO","K39","NULL","NULL","NULL","NULL","VP Info & Security","K39","Jim Kensok","K39 - Gen Custom App Dev"]
[null,null,null,"K51","VPOP","K51","NULL","NULL","NULL","NULL","VP Energy Delivery","K51","Jason Thackston","K51 - Fleet Management"]
[null,null,null,"K53","VPCS","K53","NULL","NULL","NULL","NULL","VP Customer Solutions","K53","Kevin Christie","K53 - Contact Ctr-CDA"]
[null,null,null,"L02","VPHR","L02","NULL","NULL","NULL","NULL","Sr. VP Human Resources","L02","Heather Rosentrater","L02 - SG Workforce Training"]
[null,null,null,"L07","VPPS","L07","NULL","NULL","NULL","NULL","Sr. VP Energy Resources","L07","Kelly Norwood","L07 - Clarkfork Hydro"]
[null,null,null,"L08","VPOP","L08","NULL","NULL","NULL","NULL","VP Energy Delivery","L08","Jason Thackston","L08 - Transmission Design"]
[null,null,null,"L11","VPOP","L11","NULL","NULL","NULL","NULL","VP Energy Delivery","L11","Jason Thackston","L08 - Transmission Design"]
[null,null,null,"L39","INFO","L39","NULL","NULL","NULL","NULL","VP Info & Security","L39","Jim Kensok","L39 - Nucleus Development"]
[null,null,null,"L50","VPOP","L50","NULL","NULL","NULL","NULL","VP Energy Delivery","L50","Jason Thackston","L50 - Spokane Gas"]
[null,null,null,"L51","VPGC","L51","NULL","NULL","NULL","NULL","Sr. VP & General Counsel","L51","Karen Feltes","L51 - Claims"]
[null,null,null,"L52","VPGC","L52","NULL","NULL","NULL","NULL","Sr. VP & General Counsel","L52","Karen Feltes","L52 - Claims Accrual"]
[null,null,null,"L53","VPOP","L53","NULL","NULL","NULL","NULL","VP Energy Delivery","L53","Jason Thackston","L53 - CDA"]
[null,null,null,"L54","VPOP","L54","NULL","NULL","NULL","NULL","VP Energy Delivery","L54","Jason Thackston","L54 - Travel & Flight Operations"]
[null,null,null,"M02","VPHR","M02","NULL","NULL","NULL","NULL","Sr. VP Human Resources","M02","Heather Rosentrater","L54 - Travel & Flight Operations"]
[null,null,null,"M07","VPPS","M07","NULL","NULL","NULL","NULL","Sr. VP Energy Resources","M07","Kelly Norwood",{"$f":"VLOOKUP(L2308,Table1,2)","v":"M07 - Mechanical/Structural Shop"}]
[null,null,null,"M08","VPOP","M08","NULL","NULL","NULL","NULL","VP Energy Delivery","M08","Jason Thackston","M08 - Substation Design"]
[null,null,null,"M09","INFO","M09","NULL","NULL","NULL","NULL","VP Info & Security","M09","Jim Kensok","M09 - Central Systems"]
[null,null,null,"M11","VPOP","M11","NULL","NULL","NULL","NULL","VP Energy Delivery","M11","Jason Thackston","M11 - EAM Technology"]
[null,null,null,"M19","INFO","M19","NULL","NULL","NULL","NULL","VP Info & Security","M19","Jim Kensok","M19 - Central Systems Ops"]
[null,null,null,"M29","INFO","M29","NULL","NULL","NULL","NULL","VP Info & Security","M29","Jim Kensok","M29 - Cntrl Syst Prod & Serv"]
[null,null,null,"M50","VPOP","M50","NULL","NULL","NULL","NULL","VP Energy Delivery","M50","Jason Thackston","M50 - Deer Park"]
[null,null,null,"M51","VPOP","M51","NULL","NULL","NULL","NULL","VP Energy Delivery","M51","Jason Thackston","M51 - Asset Maintenance"]
[null,null,null,"M53","VPCS","M53","NULL","NULL","NULL","NULL","VP Customer Solutions","M53","Kevin Christie","M53 - Business Entrepreneurial Network"]
[null,null,null,"M54","VPFO","M54","NULL","NULL","NULL","NULL","Sr. VP & CFO","M54","Marian Durkin","M54 - Business Development"]
[null,null,null,"N02","VPHR","N02","NULL","NULL","NULL","NULL","Sr. VP Human Resources","N02","Heather Rosentrater","M54 - Business Development"]
[null,null,null,"N06","VPPS","N06","NULL","NULL","NULL","NULL","Sr. VP Energy Resources","N06","Kelly Norwood","N06 - Joint Project-Colstrip"]
[null,null,null,"N08","VPOP","N08","NULL","NULL","NULL","NULL","VP Energy Delivery","N08","Jason Thackston","N08 - Drafting & Survey"]
[null,null,null,"N09","INFO","N09","NULL","NULL","NULL","NULL","VP Info & Security","N09","Jim Kensok","N09 - Office of CIO"]
[null,null,null,"N50","VPCS","N50","NULL","NULL","NULL","NULL","VP Customer Solutions","N50","Kevin Christie","N50 - Director of Customer Service"]
[null,null,null,"N51","VPCS","N51","NULL","NULL","NULL","NULL","VP Customer Solutions","N51","Kevin Christie","N51 - Write-Off Accrual"]
[null,null,null,"N52","VPOP","N52","NULL","NULL","NULL","NULL","VP Energy Delivery","N52","Jason Thackston","N52 - Compass Replace Project"]
[null,null,null,"N54","VPPS","N54","NULL","NULL","NULL","NULL","Sr. VP Energy Resources","N54","Kelly Norwood","N54 - Strategic Initiatives"]
[null,null,null,"N53","ESOL","N53","NULL","NULL","NULL","NULL","Dir Energy Solutions","N53","Pat Lynch","N53 - AM Spokane West"]
[null,null,null,"P01","VPGC","P01","NULL","NULL","NULL","NULL","Sr. VP & General Counsel","P01","Karen Feltes","P01 - Legal Expenses"]
[null,null,null,"P03","VPOP","P03","NULL","NULL","NULL","NULL","VP Energy Delivery","P03","Jason Thackston","P03 - Energy Deliver Tech Proj"]
[null,null,null,"P07","VPPS","P07","NULL","NULL","NULL","NULL","Sr. VP Energy Resources","P07","Kelly Norwood","P07 - Contract and Proj Mgmt"]
[null,null,null,"P08","VPOP","P08","NULL","NULL","NULL","NULL","VP Energy Delivery","P08","Jason Thackston","P08 - Distribution Oper Sys"]
[null,null,null,"P09","INFO","P09","NULL","NULL","NULL","NULL","VP Info & Security","P09","Jim Kensok","P09 - Project Management"]
[null,null,null,"P50","VPOP","P50","NULL","NULL","NULL","NULL","VP Energy Delivery","P50","Jason Thackston","P50 - Davenport"]
[null,null,null,"P51","VPOP","P51","NULL","NULL","NULL","NULL","VP Energy Delivery","P51","Jason Thackston","P51 - Distribution Dispatch"]
[null,null,null,"P53","VPCS","P53","NULL","NULL","NULL","NULL","VP Customer Solutions","P53","Kevin Christie","P53 - AM Moscow/Pullman"]
[null,null,null,"P59","INFO","P59","NULL","NULL","NULL","NULL","VP Info & Security","P59","Jim Kensok","P59 - Tech Service Center"]
[null,null,null,"P99","INFO","P99","NULL","NULL","NULL","NULL","VP Info & Security","P99","Jim Kensok","P99 - IT Director"]
[null,null,null,"Q19","INFO","Q19","NULL","NULL","NULL","NULL","VP Info & Security","Q19","Jim Kensok","Q19 - Qlty Assur & Rel Mgmt"]
[null,null,null,"R09","INFO","R09","NULL","NULL","NULL","NULL","VP Info & Security","R09","Jim Kensok","R09 - Communicated Systems"]
[null,null,null,"R11","VPRR","R11","NULL","NULL","NULL","NULL","VP Rates and Regs","R11","Dennis Vermillion","R11 - Rates & Regulations"]
[null,null,null,"R19","INFO","R19","NULL","NULL","NULL","NULL","VP Info & Security","R19","Jim Kensok","R19 - Comm Systems Ops"]
[null,null,null,"R29","INFO","R29","NULL","NULL","NULL","NULL","VP Info & Security","R29","Jim Kensok","R29 - Comm Sys Prod & Serv"]
[null,null,null,"S08","CSSS","S08","NULL","NULL","NULL","NULL","Dir of Customer Service","S08","Mike Broemeling","S08 - Strategic Projects Development"]
[null,null,null,"B81","CSSS","B81","NULL","NULL","NULL","NULL","Dir of Customer Service","B81","Mike Broemeling","B81 - Contact Ctr-Medford"]
[null,null,null,"C52","CSSS","C52","NULL","NULL","NULL","NULL","VP Customer Solutions","C52","Mike Broemeling","C52 - Customer Solutions"]
[null,null,null,"E56","VPOP","E56","NULL","NULL","NULL","NULL","VP Energy Delivery","E56","Jason Thackston","E56 - Transmission Services"]
[null,null,null,"F02","VPHR","F02","NULL","NULL","NULL","NULL","Sr. VP Human Resources","F02","Heather Rosentrater","F02 - HR Consulting and Analy"]
[null,null,null,"F08","VPPS","F08","NULL","NULL","NULL","NULL","Sr. VP Energy Resources","F08","Kelly Norwood","F08 - Electric Shop"]
[null,null,null,"D01","VPHR","D01","NULL","NULL","NULL","NULL","Sr Dir Human Resources","NULL","NULL","N54 - Strategic Initiatives"]
[null,null,null,"F19","INFO","F19","NULL","NULL","NULL","NULL","VP Info & Security","F19","Jim Kensok","F19 - Back Office Tech Ops"]
[null,null,null,"F39","INFO","F39","NULL","NULL","NULL","NULL","VP Info & Security","F39","Jim Kensok","F39 - Oracle Fin Sevices Dev"]
[null,null,null,"F50","VPCS","F50","NULL","NULL","NULL","NULL","VP Customer Solutions","F50","Kevin Christie","F50 - Contact Ctr-Credit & Collections"]
[null,null,null,"F52","VPCS","F52","NULL","NULL","NULL","NULL","VP Customer Solutions","F52","Kevin Christie","F52 - Market Services"]
[null,null,null,"F53","VPCS","F53","NULL","NULL","NULL","NULL","VP Customer Solutions","F53","Kevin Christie","F53 - AM Lewis/Clark"]
[null,null,null,"F54","VPFO","F54","NULL","NULL","NULL","NULL","Sr. VP & CFO","F54","Marian Durkin","F54 - Treasury & Trust Mgmt"]
[null,null,null,"F55","VPFO","F55","NULL","NULL","NULL","NULL","Sr. VP & CFO","F55","Marian Durkin","F55 - Financial Planning and Analysis"]
[null,null,null,"G01","VPFO","G01","NULL","NULL","NULL","NULL","Sr. VP & CFO","G01","Marian Durkin","G01 - Officer Support Team"]
[null,null,null,"G02","VPHR","G02","NULL","NULL","NULL","NULL","Sr. VP Human Resources","G02","Heather Rosentrater","G02 - Employee Safety"]
[null,null,null,"G08","VPOP","G08","NULL","NULL","NULL","NULL","VP Energy Delivery","G08","Jason Thackston","G08 - Gas Construction Management"]
[null,null,null,"G10","VPFO","G10","NULL","NULL","NULL","NULL","Sr. VP & CFO","G10","Marian Durkin","G10 - Credit Union"]
[null,null,null,"G39","INFO","G39","NULL","NULL","NULL","NULL","VP Info & Security","G39","Jim Kensok","G39 - GIS Development"]
[null,null,null,"G50","VPOP","G50","NULL","NULL","NULL","NULL","VP Energy Delivery","G50","Jason Thackston","G50 - Colville"]
[null,null,null,"G51","VPOP","G51","NULL","NULL","NULL","NULL","VP Energy Delivery","G51","Jason Thackston","G51 - Dir of Natural Gas"]
[null,null,null,"G53","VPCS","G53","NULL","NULL","NULL","NULL","VP Customer Solutions","G53","Kevin Christie","G53 - Area Manager - CDA"]
[null,null,null,"G54","VPFO","G54","NULL","NULL","NULL","NULL","Sr. VP & CFO","G54","Marian Durkin","G54 - Finance Administration"]
[null,null,null,"H02","VPHR","H02","NULL","NULL","NULL","NULL","Sr. VP Human Resources","H02","Heather Rosentrater","H02 - Occupational Health"]
[null,null,null,"H04","VPGC","H04","NULL","NULL","NULL","NULL","Sr. VP & General Counsel","H04","Karen Feltes","H04 - Hydro Compliance"]
[null,null,null,"H07","VPOP","H07","NULL","NULL","NULL","NULL","VP Energy Delivery","H07","Jason Thackston","H07 - Facilities Management"]
[null,null,null,"H08","VPOP","H08","NULL","NULL","NULL","NULL","VP Energy Delivery","H08","Jason Thackston","H08 - Energy Del Stratgic Proj"]
[null,null,null,"H14","VPCS","H14","NULL","NULL","NULL","NULL","VP Customer Solutions","H14","Kevin Christie","H14 - Consumer Affairs"]
[null,null,null,"H50","VPOP","H50","NULL","NULL","NULL","NULL","VP Energy Delivery","H50","Jason Thackston","H50 - Othello"]
[null,null,null,"H51","VPOP","H51","NULL","NULL","NULL","NULL","VP Energy Delivery","H51","Jason Thackston","H51 - Supply Chain Mgmt"]
[null,null,null,"H53","VPOP","H53","NULL","NULL","NULL","NULL","VP Energy Delivery","H53","Jason Thackston",{"$f":"VLOOKUP(L2372,Table1,2)","v":"H53 - Kellogg"}]
[null,null,null,"H54","VPFO","H54","NULL","NULL","NULL","NULL","Sr. VP & CFO","H54","Marian Durkin","H54 - AP/Remittance Services"]
[null,null,null,"I02","VPHR","I02","NULL","NULL","NULL","NULL","Sr. VP Human Resources","I02","Heather Rosentrater","I02 - Craft Training"]
[null,null,null,"I08","VPOP","I08","NULL","NULL","NULL","NULL","VP Energy Delivery","I08","Jason Thackston","I08 - Energy Delivery Operations Support"]
[null,null,null,"I50","VPCS","I50","NULL","NULL","NULL","NULL","VP Customer Solutions","I50","Kevin Christie","I50 - Contact Center-IT"]
[null,null,null,"I54","ACCT","I54","NULL","NULL","NULL","NULL","Accounting Items","I54","Adam Munson","I54 - Tax Other Than Income"]
[null,null,null,"J01","VPFO","J01","NULL","NULL","NULL","NULL","Sr. VP & CFO","J01","Marian Durkin","J01 - SR VP & CFO"]
[null,null,null,"J02","VPHR","J02","NULL","NULL","NULL","NULL","Sr. VP Human Resources","J02","Heather Rosentrater","J02 - Public Safety"]
[null,null,null,"J06","VPPS","J06","NULL","NULL","NULL","NULL","Sr. VP Energy Resources","J06","Kelly Norwood","J06 - Joint Project Jackson Prairie"]
[null,null,null,"J08","VPOP","J08","NULL","NULL","NULL","NULL","VP Energy Delivery","J08","Jason Thackston","J08 - Gas Construction Quality Control"]
[null,null,null,"J09","INFO","J09","NULL","NULL","NULL","NULL","VP Info & Security","J09","Jim Kensok","J09 - Network Systems"]
[null,null,null,"J10","VPFO","J10","NULL","NULL","NULL","NULL","Sr. VP & CFO","J10","Marian Durkin","J10 - Utility Fin Central"]
[null,null,null,"J29","INFO","J29","NULL","NULL","NULL","NULL","VP Info & Security","J29","Jim Kensok","J29 - Ntwk Sys Prod & Serv"]
[null,null,null,"J50","VPCS","J50","NULL","NULL","NULL","NULL","VP Customer Solutions","J50","Kevin Christie","J50 - Reg Bus Mgr - Spokane"]
[null,null,null,"J51","VPOP","J51","NULL","NULL","NULL","NULL","VP Energy Delivery","J51","Jason Thackston","J51 - Warehousing"]
[null,null,null,"J53","VPOP","J53","NULL","NULL","NULL","NULL","VP Energy Delivery","J53","Jason Thackston","J53 - Sandpoint/Bonners Ferry"]
[null,null,null,"J54","EXEC","J54","NULL","NULL","NULL","NULL","Executive Department Summary","J54"," ","J54 - Internal Auditing"]
[null,null,null,"K02","VPHR","K02","NULL","NULL","NULL","NULL","Sr. VP Human Resources","K02","Heather Rosentrater","K02 - Compensation"]
[null,null,null,"K07","VPPS","K07","NULL","NULL","NULL","NULL","Sr. VP Energy Resources","K07","Kelly Norwood","K07 - Kettle Falls Thermal"]
[null,null,null,"K08","VPOP","K08","NULL","NULL","NULL","NULL","VP Energy Delivery","K08","Jason Thackston","K08 - GIS Editing"]
[null,null,null,"K19","INFO","K19","NULL","NULL","NULL","NULL","VP Info & Security","K19","Jim Kensok","K19 - Customer Tech Ops"]
[null,null,null,"K39","INFO","K39","NULL","NULL","NULL","NULL","VP Info & Security","K39","Jim Kensok","K39 - Gen Custom App Dev"]
[null,null,null,"K51","VPOP","K51","NULL","NULL","NULL","NULL","VP Energy Delivery","K51","Jason Thackston","K51 - Fleet Management"]
[null,null,null,"K53","VPCS","K53","NULL","NULL","NULL","NULL","VP Customer Solutions","K53","Kevin Christie","K53 - Contact Ctr-CDA"]
[null,null,null,"L02","VPHR","L02","NULL","NULL","NULL","NULL","Sr. VP Human Resources","L02","Heather Rosentrater","L02 - SG Workforce Training"]
[null,null,null,"L07","VPPS","L07","NULL","NULL","NULL","NULL","Sr. VP Energy Resources","L07","Kelly Norwood","L07 - Clarkfork Hydro"]
[null,null,null,"L08","VPOP","L08","NULL","NULL","NULL","NULL","VP Energy Delivery","L08","Jason Thackston","L08 - Transmission Design"]
[null,null,null,"L11","VPOP","L11","NULL","NULL","NULL","NULL","VP Energy Delivery","L11","Jason Thackston","L08 - Transmission Design"]
[null,null,null,"L39","INFO","L39","NULL","NULL","NULL","NULL","VP Info & Security","L39","Jim Kensok","L39 - Nucleus Development"]
[null,null,null,"L50","VPOP","L50","NULL","NULL","NULL","NULL","VP Energy Delivery","L50","Jason Thackston","L50 - Spokane Gas"]
[null,null,null,"L51","VPGC","L51","NULL","NULL","NULL","NULL","Sr. VP & General Counsel","L51","Karen Feltes","L51 - Claims"]
[null,null,null,"L52","VPGC","L52","NULL","NULL","NULL","NULL","Sr. VP & General Counsel","L52","Karen Feltes","L52 - Claims Accrual"]
[null,null,null,"L53","VPOP","L53","NULL","NULL","NULL","NULL","VP Energy Delivery","L53","Jason Thackston","L53 - CDA"]
[null,null,null,"L54","VPOP","L54","NULL","NULL","NULL","NULL","VP Energy Delivery","L54","Jason Thackston","L54 - Travel & Flight Operations"]
[null,null,null,"M02","VPHR","M02","NULL","NULL","NULL","NULL","Sr. VP Human Resources","M02","Heather Rosentrater","L54 - Travel & Flight Operations"]
[null,null,null,"M07","VPPS","M07","NULL","NULL","NULL","NULL","Sr. VP Energy Resources","M07","Kelly Norwood","M07 - Mechanical/Structural Shop"]
[null,null,null,"M08","VPOP","M08","NULL","NULL","NULL","NULL","VP Energy Delivery","M08","Jason Thackston","M08 - Substation Design"]
[null,null,null,"M09","INFO","M09","NULL","NULL","NULL","NULL","VP Info & Security","M09","Jim Kensok","M09 - Central Systems"]
[null,null,null,"M11","VPOP","M11","NULL","NULL","NULL","NULL","VP Energy Delivery","M11","Jason Thackston","M11 - EAM Technology"]
[null,null,null,"M19","INFO","M19","NULL","NULL","NULL","NULL","VP Info & Security","M19","Jim Kensok","M19 - Central Systems Ops"]
[null,null,null,"M29","INFO","M29","NULL","NULL","NULL","NULL","VP Info & Security","M29","Jim Kensok","M29 - Cntrl Syst Prod & Serv"]
[null,null,null,"M50","VPOP","M50","NULL","NULL","NULL","NULL","VP Energy Delivery","M50","Jason Thackston","M50 - Deer Park"]
[null,null,null,"S08","S08","NULL","NULL","NULL","NULL","NULL","Strategic Projects Development","S08","Mary Inman","S08 - Strategic Projects Development"]
[null,null,null,"M51","VPOP","M51","NULL","NULL","NULL","NULL","VP Energy Delivery","M51","Jason Thackston","M51 - Asset Maintenance"]
[null,null,null,"M53","VPCS","M53","NULL","NULL","NULL","NULL","VP Customer Solutions","M53","Kevin Christie","M53 - Business Entrepreneurial Network"]
[null,null,null,"B81","CSSS","CUST","B81","NULL","NULL","NULL","Customer & Shared Services","B81","Mike Broemeling","B81 - Contact Ctr-Medford"]
[null,null,null,"M54","VPFO","M54","NULL","NULL","NULL","NULL","Sr. VP & CFO","M54","Marian Durkin","M54 - Business Development"]
[null,null,null,"N02","VPHR","N02","NULL","NULL","NULL","NULL","Sr. VP Human Resources","N02","Heather Rosentrater","M54 - Business Development"]
[null,null,null,"N06","VPPS","N06","NULL","NULL","NULL","NULL","Sr. VP Energy Resources","N06","Kelly Norwood","N06 - Joint Project-Colstrip"]
[null,null,null,"N08","VPOP","N08","NULL","NULL","NULL","NULL","VP Energy Delivery","N08","Jason Thackston","N08 - Drafting & Survey"]
[null,null,null,"S08","CSSS","SERV","S08","NULL","NULL","NULL","Customer & Shared Services","S08","Mike Broemeling","S08 - Strategic Projects Development"]
[null,null,null,"N09","INFO","N09","NULL","NULL","NULL","NULL","VP Info & Security","N09","Jim Kensok","N09 - Office of CIO"]
[null,null,null,"N50","VPCS","N50","NULL","NULL","NULL","NULL","VP Customer Solutions","N50","Kevin Christie","N50 - Director of Customer Service"]
[null,null,null,"N51","VPCS","N51","NULL","NULL","NULL","NULL","VP Customer Solutions","N51","Kevin Christie","N51 - Write-Off Accrual"]
[null,null,null,"N52","VPOP","N52","NULL","NULL","NULL","NULL","VP Energy Delivery","N52","Jason Thackston","N52 - Compass Replace Project"]
[null,null,null,"N54","VPPS","N54","NULL","NULL","NULL","NULL","Sr. VP Energy Resources","N54","Kelly Norwood","N54 - Strategic Initiatives"]
[null,null,null,"H03","CUST","NULL","NULL","NULL","NULL","NULL","Customer Service","H03","Mike Broemeling","H03 - Facility Lease Management"]
[null,null,null,"P01","VPGC","P01","NULL","NULL","NULL","NULL","Sr. VP & General Counsel","P01","Karen Feltes","P01 - Legal Expenses"]
[null,null,null,"P03","VPOP","P03","NULL","NULL","NULL","NULL","VP Energy Delivery","P03","Jason Thackston","P03 - Energy Deliver Tech Proj"]
[null,null,null,"P07","VPPS","P07","NULL","NULL","NULL","NULL","Sr. VP Energy Resources","P07","Kelly Norwood","P07 - Contract and Proj Mgmt"]
[null,null,null,"P08","VPOP","P08","NULL","NULL","NULL","NULL","VP Energy Delivery","P08","Jason Thackston","P08 - Distribution Oper Sys"]
[null,null,null,"P09","INFO","P09","NULL","NULL","NULL","NULL","VP Info & Security","P09","Jim Kensok","P09 - Project Management"]
[null,null,null,"P50","VPOP","P50","NULL","NULL","NULL","NULL","VP Energy Delivery","P50","Jason Thackston","P50 - Davenport"]
[null,null,null,"P51","VPOP","P51","NULL","NULL","NULL","NULL","VP Energy Delivery","P51","Jason Thackston","P51 - Distribution Dispatch"]
[null,null,null,"P53","VPCS","P53","NULL","NULL","NULL","NULL","VP Customer Solutions","P53","Kevin Christie",{"$f":"VLOOKUP(L2436,Table1,2)","v":"P53 - AM Moscow/Pullman"}]
[null,null,null,"P59","INFO","P59","NULL","NULL","NULL","NULL","VP Info & Security","P59","Jim Kensok","P59 - Tech Service Center"]
[null,null,null,"P99","INFO","P99","NULL","NULL","NULL","NULL","VP Info & Security","P99","Jim Kensok","P99 - IT Director"]
[null,null,null,"S08","SERV","NULL","NULL","NULL","NULL","NULL","Shared Services","S08","Mike Broemeling","S08 - Strategic Projects Development"]
[null,null,null,"Q19","INFO","Q19","NULL","NULL","NULL","NULL","VP Info & Security","Q19","Jim Kensok","Q19 - Qlty Assur & Rel Mgmt"]
[null,null,null,"R09","INFO","R09","NULL","NULL","NULL","NULL","VP Info & Security","R09","Jim Kensok","R09 - Communicated Systems"]
[null,null,null,"R11","VPRR","R11","NULL","NULL","NULL","NULL","VP Rates and Regs","R11","Dennis Vermillion","R11 - Rates & Regulations"]
[null,null,null,"R19","INFO","R19","NULL","NULL","NULL","NULL","VP Info & Security","R19","Jim Kensok","R19 - Comm Systems Ops"]
[null,null,null,"R29","INFO","R29","NULL","NULL","NULL","NULL","VP Info & Security","R29","Jim Kensok","R29 - Comm Sys Prod & Serv"]
[null,null,null,"R51","VPOP","R51","NULL","NULL","NULL","NULL","VP Energy Delivery","R51","Jason Thackston","R51 - Joint Use Projects-Distribution"]
[null,null,null,"R53","VPOP","R53","NULL","NULL","NULL","NULL","VP Energy Delivery","R53","Jason Thackston","R53 - Grangeville"]
[null,null,null,"R54","VPFO","R54","NULL","NULL","NULL","NULL","Sr. VP & CFO","R54","Marian Durkin","R54 - Risk Management"]
[null,null,null,"H03","CSSS","H03","NULL","NULL","NULL","NULL","Dir of Shared Services","H03","Mike Broemeling","H03 - Facility Lease Management"]
[null,null,null,"R55","VPFO","R55","NULL","NULL","NULL","NULL","Sr. VP & CFO","R55","Marian Durkin","R55 - Resource Risk Mgmt"]
[null,null,null,"R56","VPFO","R56","NULL","NULL","NULL","NULL","Sr. VP & CFO","R56","Marian Durkin","R56 - Insurance"]
[null,null,null,"S01","VPGC","S01","NULL","NULL","NULL","NULL","Sr. VP & General Counsel","S01","Karen Feltes","S01 - VP & Counsl-Regultry/Govt Affairs"]
[null,null,null,"S03","AVIS","S03","NULL","NULL","NULL","NULL","Avista Subsidiaries","S03","Adam Munson","S03 - Advantage IQ"]
[null,null,null,"S04","AVIS","S04","NULL","NULL","NULL","NULL","Avista Subsidiaries","S04","Adam Munson","S04 - SPS CYOC Mgmt Oversight"]
[null,null,null,"S05","AVIS","S05","NULL","NULL","NULL","NULL","Avista Subsidiaries","S05","Adam Munson","S05 - Salix"]
[null,null,null,"S09","INFO","S09","NULL","NULL","NULL","NULL","VP Info & Security","S09","Jim Kensok","S09 - Apps Operations & Supp"]
[null,null,null,"S19","INFO","S19","NULL","NULL","NULL","NULL","VP Info & Security","S19","Jim Kensok","S19 - Integrations Operations"]
[null,null,null,"S20","VPFO","S20","NULL","NULL","NULL","NULL","Sr. VP & CFO","S20","Marian Durkin","S20 - Director of Finance"]
[null,null,null,"S39","INFO","S39","NULL","NULL","NULL","NULL","VP Info & Security","S39","Jim Kensok","S39 - Integrations Development"]
[null,null,null,"S50","VPOP","S50","NULL","NULL","NULL","NULL","VP Energy Delivery","S50","Jason Thackston","S50 - Construction Services"]
[null,null,null,"S51","VPOP","S51","NULL","NULL","NULL","NULL","VP Energy Delivery","S51","Jason Thackston","S51 - Supply Chain Loadings"]
[null,null,null,"S52","VPOP","S52","NULL","NULL","NULL","NULL","VP Energy Delivery","S52","Jason Thackston","S51 - Supply Chain Loadings"]
[null,null,null,"E50","VPCS","E50","NULL","NULL","NULL","NULL","VP Customer Solutions","E50","Kevin Christie","E50 - Contact Ctr-Spokane"]
[null,null,null,"E51","VPOP","E51","NULL","NULL","NULL","NULL","VP Energy Delivery","E51","Jason Thackston","E51 - Asset Management"]
[null,null,null,"E52","VPCS","E52","NULL","NULL","NULL","NULL","VP Customer Solutions","E52","Kevin Christie","E52 - Oregon DSM"]
[null,null,null,"E53","VPCS","E53","NULL","NULL","NULL","NULL","VP Customer Solutions","E53","Kevin Christie","E53 - Contact Ctr-Lewiston"]
[null,null,null,"E55","VPPS","E55","NULL","NULL","NULL","NULL","Sr. VP Energy Resources","E55","Kelly Norwood","E55 - Power Supply"]
[null,null,null,"S19","CEXO","NULL","NULL","NULL","NULL","NULL","CEO & President","S19"," ","S19 - Integrations Operations"]
[null,null,null,"S19","INFO","NULL","NULL","NULL","NULL","NULL","VP Info & Security","S19","Jim Kensok","S19 - Integrations Operations"]
[null,null,null,"S19","ISOP","NULL","NULL","NULL","NULL","NULL","IS Operations Rollup","S19","Hossein Nikdel","S19 - Integrations Operations"]
[null,null,null,"S19","S19","NULL","NULL","NULL","NULL","NULL","Integrations Operations","S19","Mark Thies","S19 - Integrations Operations"]
[null,null,null,"S19","SUPP","NULL","NULL","NULL","NULL","NULL","Support","S19","NULL","S19 - Integrations Operations"]
[null,null,null,"S19","VPUP","NULL","NULL","NULL","NULL","NULL","President & COO Avista Corp","S19","Marian Durkin","S19 - Integrations Operations"]
[null,null,null,"S20","AVA","NULL","NULL","NULL","NULL","NULL","Total Company","S20"," ","S20 - Director of Finance"]
[null,null,null,"S20","CEXO","NULL","NULL","NULL","NULL","NULL","CEO & President","S20"," ","S20 - Director of Finance"]
[null,null,null,"S20","S20","NULL","NULL","NULL","NULL","NULL","Director of Finance","S20","Mike Mudge","S20 - Director of Finance"]
[null,null,null,"S20","SUPP","NULL","NULL","NULL","NULL","NULL","Support","S20","NULL","S20 - Director of Finance"]
[null,null,null,"S20","VPFN","NULL","NULL","NULL","NULL","NULL","Finance & Treasury","S20","Mark Thies","S20 - Director of Finance"]
[null,null,null,"S20","VPFO","NULL","NULL","NULL","NULL","NULL","Sr. VP & CFO","S20","Marian Durkin","S20 - Director of Finance"]
[null,null,null,"S39","APPS","NULL","NULL","NULL","NULL","NULL","Applications Summary","S39","Hossein Nikdel","S39 - Integrations Development"]
[null,null,null,"S39","AVA","NULL","NULL","NULL","NULL","NULL","Total Company","S39"," ","S39 - Integrations Development"]
[null,null,null,"S39","CEXO","NULL","NULL","NULL","NULL","NULL","CEO & President","S39"," ","S39 - Integrations Development"]
[null,null,null,"S39","INFO","NULL","NULL","NULL","NULL","NULL","VP Info & Security","S39","Jim Kensok","S39 - Integrations Development"]
[null,null,null,"S39","ISDV","NULL","NULL","NULL","NULL","NULL","IS Development Rollup","S39","Hossein Nikdel","S39 - Integrations Development"]
[null,null,null,"S39","S39","NULL","NULL","NULL","NULL","NULL","Integrations Development","S39","Steve Plewman","S39 - Integrations Development"]
[null,null,null,"S39","SUPP","NULL","NULL","NULL","NULL","NULL","Support","S39","NULL","S39 - Integrations Development"]
[null,null,null,"S39","VPUP","NULL","NULL","NULL","NULL","NULL","President & COO Avista Corp","S39","Marian Durkin","S39 - Integrations Development"]
[null,null,null,"S50","AVA","NULL","NULL","NULL","NULL","NULL","Total Company","S50"," ","S50 - Construction Services"]
[null,null,null,"S50","CEXO","NULL","NULL","NULL","NULL","NULL","CEO & President","S50"," ","S50 - Construction Services"]
[null,null,null,"S50","DSGN","NULL","NULL","NULL","NULL","NULL","Construction Design","S50","Steve Plewman","S50 - Construction Services"]
[null,null,null,"S50","ENGR","NULL","NULL","NULL","NULL","NULL","Electric Engineering","S50","David Howell","S50 - Construction Services"]
[null,null,null,"S50","S50","NULL","NULL","NULL","NULL","NULL","Construction Services","S50","Steve Plewman","S50 - Construction Services"]
[null,null,null,"S50","SUPP","NULL","NULL","NULL","NULL","NULL","Support","S50","NULL","S50 - Construction Services"]
[null,null,null,"S50","VPOP","NULL","NULL","NULL","NULL","NULL","VP Energy Delivery","S50","Jason Thackston","S50 - Construction Services"]
[null,null,null,"S50","VPUP","NULL","NULL","NULL","NULL","NULL","President & COO Avista Corp","S50","Marian Durkin","S50 - Construction Services"]
[null,null,null,"S51","AVA","NULL","NULL","NULL","NULL","NULL","Total Company","S51"," ","S51 - Supply Chain Loadings"]
[null,null,null,"S51","CENT","NULL","NULL","NULL","NULL","NULL","Centralized Services - Energy Delivery","S51","Heather Rosentrater","S51 - Supply Chain Loadings"]
[null,null,null,"S51","CEXO","NULL","NULL","NULL","NULL","NULL","CEO & President","S51"," ","S51 - Supply Chain Loadings"]
[null,null,null,"S51","S51","NULL","NULL","NULL","NULL","NULL","Supply Chain Loadings","S51","Anna Scarlett","S51 - Supply Chain Loadings"]
[null,null,null,"S51","SUPP","NULL","NULL","NULL","NULL","NULL","Support","S51","NULL","S51 - Supply Chain Loadings"]
[null,null,null,"S51","VPOP","NULL","NULL","NULL","NULL","NULL","VP Energy Delivery","S51","Jason Thackston",{"$f":"VLOOKUP(L2500,Table1,2)","v":"S51 - Supply Chain Loadings"}]
[null,null,null,"S51","VPUP","NULL","NULL","NULL","NULL","NULL","President & COO Avista Corp","S51","Marian Durkin","S51 - Supply Chain Loadings"]
[null,null,null,"S52","AVA","NULL","NULL","NULL","NULL","NULL","Total Company","S52"," ","S51 - Supply Chain Loadings"]
[null,null,null,"S52","CEXO","NULL","NULL","NULL","NULL","NULL","CEO & President","S52"," ","S51 - Supply Chain Loadings"]
[null,null,null,"S52","S52","NULL","NULL","NULL","NULL","NULL","Sr Mgr of Shared Services","S52","Anna Scarlett","S51 - Supply Chain Loadings"]
[null,null,null,"S52","SERV","NULL","NULL","NULL","NULL","NULL","Shared Services","S52","Dennis Vermillion","S51 - Supply Chain Loadings"]
[null,null,null,"S52","SUPP","NULL","NULL","NULL","NULL","NULL","Support","S52","NULL","S51 - Supply Chain Loadings"]
[null,null,null,"S52","VPOP","NULL","NULL","NULL","NULL","NULL","VP Energy Delivery","S52","Jason Thackston","S51 - Supply Chain Loadings"]
[null,null,null,"S52","VPUP","NULL","NULL","NULL","NULL","NULL","President & COO Avista Corp","S52","Marian Durkin","S51 - Supply Chain Loadings"]
[null,null,null,"S53","AVA","NULL","NULL","NULL","NULL","NULL","Total Company","S53"," ","S53 - St. Maries"]
[null,null,null,"S53","CEXO","NULL","NULL","NULL","NULL","NULL","CEO & President","S53"," ","S53 - St. Maries"]
[null,null,null,"S53","EAST","NULL","NULL","NULL","NULL","NULL","Director Operations - East","S53","Greg Gfeller","S53 - St. Maries"]
[null,null,null,"S53","ELEC","NULL","NULL","NULL","NULL","NULL","Electric","S53","NULL","S53 - St. Maries"]
[null,null,null,"S53","S53","NULL","NULL","NULL","NULL","NULL","St Maries","S53","Dana Anderson","S53 - St. Maries"]
[null,null,null,"S53","VPOP","NULL","NULL","NULL","NULL","NULL","VP Energy Delivery","S53","Jason Thackston","S53 - St. Maries"]
[null,null,null,"S53","VPUP","NULL","NULL","NULL","NULL","NULL","President & COO Avista Corp","S53","Marian Durkin","S53 - St. Maries"]
[null,null,null,"S54","AVA","NULL","NULL","NULL","NULL","NULL","Total Company","S54"," ","S54 - External Communications"]
[null,null,null,"S54","CEXO","NULL","NULL","NULL","NULL","NULL","CEO & President","S54"," ","S54 - External Communications"]
[null,null,null,"S54","CSOL","NULL","NULL","NULL","NULL","NULL","Customer Solutions","S54","Kevin Christie","S54 - External Communications"]
[null,null,null,"S54","S54","NULL","NULL","NULL","NULL","NULL","External Communications","S54","Clay Storey","S54 - External Communications"]
[null,null,null,"S54","SUPP","NULL","NULL","NULL","NULL","NULL","Support","S54","NULL","S54 - External Communications"]
[null,null,null,"S54","VPCS","NULL","NULL","NULL","NULL","NULL","VP Customer Solutions","S54","Kevin Christie","S54 - External Communications"]
[null,null,null,"S54","VPUP","NULL","NULL","NULL","NULL","NULL","President & COO Avista Corp","S54","Marian Durkin","S54 - External Communications"]
[null,null,null,"T01","AVA","NULL","NULL","NULL","NULL","NULL","Total Company","T01"," ","T01 - Utility President"]
[null,null,null,"T01","CEXO","NULL","NULL","NULL","NULL","NULL","CEO & President","T01"," ","T01 - Utility President"]
[null,null,null,"T01","SUPP","NULL","NULL","NULL","NULL","NULL","Support","T01","NULL","T01 - Utility President"]
[null,null,null,"T01","T01","NULL","NULL","NULL","NULL","NULL","President & COO Avista Corp","T01","Tom Dempsey","T01 - Utility President"]
[null,null,null,"T01","VPUP","NULL","NULL","NULL","NULL","NULL","President & COO Avista Corp","T01","Marian Durkin","T01 - Utility President"]
[null,null,null,"T07","0007","NULL","NULL","NULL","NULL","NULL","Gen Prod Sub Support","T07","Andy Vickers","T07 - Spokane Area Thermal"]
[null,null,null,"T07","AVA","NULL","NULL","NULL","NULL","NULL","Total Company","T07"," ","T07 - Spokane Area Thermal"]
[null,null,null,"T07","CEXO","NULL","NULL","NULL","NULL","NULL","CEO & President","T07"," ","T07 - Spokane Area Thermal"]
[null,null,null,"T07","SUPP","NULL","NULL","NULL","NULL","NULL","Support","T07","NULL","T07 - Spokane Area Thermal"]
[null,null,null,"T07","T07","NULL","NULL","NULL","NULL","NULL","Spokane Area Thermal","T07","David Howell","T07 - Spokane Area Thermal"]
[null,null,null,"T07","VPPS","NULL","NULL","NULL","NULL","NULL","Sr. VP Energy Resources","T07","Kelly Norwood","T07 - Spokane Area Thermal"]
[null,null,null,"T07","VPUP","NULL","NULL","NULL","NULL","NULL","President & COO Avista Corp","T07","Marian Durkin","T07 - Spokane Area Thermal"]
[null,null,null,"T08","AVA","NULL","NULL","NULL","NULL","NULL","Total Company","T08"," ","T08 - Electric Engineer"]
[null,null,null,"T08","CEXO","NULL","NULL","NULL","NULL","NULL","CEO & President","T08"," ","T08 - Electric Engineer"]
[null,null,null,"T08","ENGR","NULL","NULL","NULL","NULL","NULL","Electric Engineering","T08","David Howell","T08 - Electric Engineer"]
[null,null,null,"T08","SUPP","NULL","NULL","NULL","NULL","NULL","Support","T08","NULL","T08 - Electric Engineer"]
[null,null,null,"T08","T08","NULL","NULL","NULL","NULL","NULL","Electrical Engineering","T08","Karen Urion","T08 - Electric Engineer"]
[null,null,null,"T08","VPOP","NULL","NULL","NULL","NULL","NULL","VP Energy Delivery","T08","Jason Thackston","T08 - Electric Engineer"]
[null,null,null,"T08","VPUP","NULL","NULL","NULL","NULL","NULL","President & COO Avista Corp","T08","Marian Durkin","T08 - Electric Engineer"]
[null,null,null,"T19","APPS","NULL","NULL","NULL","NULL","NULL","Applications Summary","T19","Hossein Nikdel","T19 - CC&B Operations"]
[null,null,null,"T19","AVA","NULL","NULL","NULL","NULL","NULL","Total Company","T19"," ","T19 - CC&B Operations"]
[null,null,null,"T19","CEXO","NULL","NULL","NULL","NULL","NULL","CEO & President","T19"," ","T19 - CC&B Operations"]
[null,null,null,"T19","INFO","NULL","NULL","NULL","NULL","NULL","VP Info & Security","T19","Jim Kensok","T19 - CC&B Operations"]
[null,null,null,"T19","ISOP","NULL","NULL","NULL","NULL","NULL","IS Operations Rollup","T19","Hossein Nikdel","T19 - CC&B Operations"]
[null,null,null,"T19","SUPP","NULL","NULL","NULL","NULL","NULL","Support","T19","NULL","T19 - CC&B Operations"]
[null,null,null,"T19","T19","NULL","NULL","NULL","NULL","NULL","CC&B Operations","T19","Mike Mudge","T19 - CC&B Operations"]
[null,null,null,"T19","VPUP","NULL","NULL","NULL","NULL","NULL","President & COO Avista Corp","T19","Marian Durkin","T19 - CC&B Operations"]
[null,null,null,"T39","APPS","NULL","NULL","NULL","NULL","NULL","Applications Summary","T39","Hossein Nikdel","T39 - CC&B Development"]
[null,null,null,"T39","AVA","NULL","NULL","NULL","NULL","NULL","Total Company","T39"," ","T39 - CC&B Development"]
[null,null,null,"T39","CEXO","NULL","NULL","NULL","NULL","NULL","CEO & President","T39"," ","T39 - CC&B Development"]
[null,null,null,"T39","INFO","NULL","NULL","NULL","NULL","NULL","VP Info & Security","T39","Jim Kensok","T39 - CC&B Development"]
[null,null,null,"T39","ISDV","NULL","NULL","NULL","NULL","NULL","IS Development Rollup","T39","Hossein Nikdel","T39 - CC&B Development"]
[null,null,null,"T39","SUPP","NULL","NULL","NULL","NULL","NULL","Support","T39","NULL","T39 - CC&B Development"]
[null,null,null,"T39","T39","NULL","NULL","NULL","NULL","NULL","CC&B Development","T39","Glenn Madden","T39 - CC&B Development"]
[null,null,null,"T39","VPUP","NULL","NULL","NULL","NULL","NULL","President & COO Avista Corp","T39","Marian Durkin","T39 - CC&B Development"]
[null,null,null,"T51","AVA","NULL","NULL","NULL","NULL","NULL","Total Company","T51"," ","T51 - Operations Project Management"]
[null,null,null,"T51","CEXO","NULL","NULL","NULL","NULL","NULL","CEO & President","T51"," ","T51 - Operations Project Management"]
[null,null,null,"T51","ELEC","NULL","NULL","NULL","NULL","NULL","Electric","T51","NULL","T51 - Operations Project Management"]
[null,null,null,"T51","MNTC","NULL","NULL","NULL","NULL","NULL","Asset Maintenance","T51","Glenn Madden","T51 - Operations Project Management"]
[null,null,null,"T51","T51","NULL","NULL","NULL","NULL","NULL","Operations Project Management","T51","Dan Johnson","T51 - Operations Project Management"]
[null,null,null,"A80","NGAS","NULL","NULL","NULL","NULL","NULL","Natural Gas Operations","A80","Mike Faulkenberry","A80 - Director of ORCA"]
[null,null,null,"T51","VPOP","NULL","NULL","NULL","NULL","NULL","VP Energy Delivery","T51","Jason Thackston",{"$f":"VLOOKUP(L2564,Table1,2)","v":"T51 - Operations Project Management"}]
[null,null,null,"T51","VPUP","NULL","NULL","NULL","NULL","NULL","President & COO Avista Corp","T51","Marian Durkin","T51 - Operations Project Management"]
[null,null,null,"T51","WEST","NULL","NULL","NULL","NULL","NULL","Director of Operations - West","T51"," ","T51 - Operations Project Management"]
[null,null,null,"T52","AVA","NULL","NULL","NULL","NULL","NULL","Total Company","T52"," ","T52 - Demand Side Mgmt"]
[null,null,null,"T52","CEXO","NULL","NULL","NULL","NULL","NULL","CEO & President","T52"," ","T52 - Demand Side Mgmt"]
[null,null,null,"C81","NGAS","NULL","NULL","NULL","NULL","NULL","Natural Gas Operations","C81","Mike Faulkenberry","C81 - Medford Tech Service"]
[null,null,null,"T52","CSOL","NULL","NULL","NULL","NULL","NULL","Customer Solutions","T52","Kevin Christie","T52 - Demand Side Mgmt"]
[null,null,null,"T52","SUPP","NULL","NULL","NULL","NULL","NULL","Support","T52","NULL","T52 - Demand Side Mgmt"]
[null,null,null,"T52","T52","NULL","NULL","NULL","NULL","NULL","WA - ID DSM","T52","Tami Judge","T52 - Demand Side Mgmt"]
[null,null,null,"T52","VPCS","NULL","NULL","NULL","NULL","NULL","VP Customer Solutions","T52","Kevin Christie","T52 - Demand Side Mgmt"]
[null,null,null,"T52","VPUP","NULL","NULL","NULL","NULL","NULL","President & COO Avista Corp","T52","Marian Durkin","T52 - Demand Side Mgmt"]
[null,null,null,"T54","AVA","NULL","NULL","NULL","NULL","NULL","Total Company","T54"," ","T54 - Rev and Fin Systems"]
[null,null,null,"T54","CEXO","NULL","NULL","NULL","NULL","NULL","CEO & President","T54"," ","T54 - Rev and Fin Systems"]
[null,null,null,"T54","SUPP","NULL","NULL","NULL","NULL","NULL","Support","T54","NULL","T54 - Rev and Fin Systems"]
[null,null,null,"T54","T54","NULL","NULL","NULL","NULL","NULL","Revenue and Financial Systems","T54","Bryan Cox","T54 - Rev and Fin Systems"]
[null,null,null,"T54","VPCC","NULL","NULL","NULL","NULL","NULL","VP Corporate Controller","T54","Kevin Christie","T54 - Rev and Fin Systems"]
[null,null,null,"T54","VPFO","NULL","NULL","NULL","NULL","NULL","Sr. VP & CFO","T54","Marian Durkin","T54 - Rev and Fin Systems"]
[null,null,null,"U01","AVA","NULL","NULL","NULL","NULL","NULL","Total Company","U01"," ","T54 - Rev and Fin Systems"]
[null,null,null,"U01","CEXO","NULL","NULL","NULL","NULL","NULL","CEO & President","U01"," ","T54 - Rev and Fin Systems"]
[null,null,null,"U01","SUPP","NULL","NULL","NULL","NULL","NULL","Support","U01","NULL","T54 - Rev and Fin Systems"]
[null,null,null,"U01","U01","NULL","NULL","NULL","NULL","NULL","Legal Staff","U01","Pat Lynch","T54 - Rev and Fin Systems"]
[null,null,null,"U01","VPGC","NULL","NULL","NULL","NULL","NULL","Sr. VP & General Counsel","U01","Karen Feltes","T54 - Rev and Fin Systems"]
[null,null,null,"U50","AVA","NULL","NULL","NULL","NULL","NULL","Total Company","U50"," ","T54 - Rev and Fin Systems"]
[null,null,null,"U50","CEXO","NULL","NULL","NULL","NULL","NULL","CEO & President","U50"," ","T54 - Rev and Fin Systems"]
[null,null,null,"U50","ESOL","NULL","NULL","NULL","NULL","NULL","Energy Solutions","U50","Pat Lynch","T54 - Rev and Fin Systems"]
[null,null,null,"U50","SUPP","NULL","NULL","NULL","NULL","NULL","Support","U50","NULL","T54 - Rev and Fin Systems"]
[null,null,null,"U50","U50","NULL","NULL","NULL","NULL","NULL","Limited Income","U50","Marian Durkin","T54 - Rev and Fin Systems"]
[null,null,null,"U50","VPCS","NULL","NULL","NULL","NULL","NULL","VP Customer Solutions","U50","Kevin Christie","T54 - Rev and Fin Systems"]
[null,null,null,"U50","VPUP","NULL","NULL","NULL","NULL","NULL","President & COO Avista Corp","U50","Marian Durkin","T54 - Rev and Fin Systems"]
[null,null,null,"V01","AVA","NULL","NULL","NULL","NULL","NULL","Total Company","V01"," ","T54 - Rev and Fin Systems"]
[null,null,null,"V01","CEXO","NULL","NULL","NULL","NULL","NULL","CEO & President","V01"," ","T54 - Rev and Fin Systems"]
[null,null,null,"V01","SUPP","NULL","NULL","NULL","NULL","NULL","Support","V01","NULL","T54 - Rev and Fin Systems"]
[null,null,null,"V01","V01","NULL","NULL","NULL","NULL","NULL","Sr. VP and General Counsel","V01","Rod Price","T54 - Rev and Fin Systems"]
[null,null,null,"V01","VPGC","NULL","NULL","NULL","NULL","NULL","Sr. VP & General Counsel","V01","Karen Feltes","T54 - Rev and Fin Systems"]
[null,null,null,"V08","0004","NULL","NULL","NULL","NULL","NULL","Environmental Affairs","V08","Bruce Howard","T54 - Rev and Fin Systems"]
[null,null,null,"V08","AVA","NULL","NULL","NULL","NULL","NULL","Total Company","V08"," ","T54 - Rev and Fin Systems"]
[null,null,null,"V08","CEXO","NULL","NULL","NULL","NULL","NULL","CEO & President","V08"," ","T54 - Rev and Fin Systems"]
[null,null,null,"V08","SUPP","NULL","NULL","NULL","NULL","NULL","Support","V08","NULL","T54 - Rev and Fin Systems"]
[null,null,null,"V08","V08","NULL","NULL","NULL","NULL","NULL","Real Estate","V08","Karen Urion","T54 - Rev and Fin Systems"]
[null,null,null,"V08","VPGC","NULL","NULL","NULL","NULL","NULL","Sr. VP & General Counsel","V08","Karen Feltes","T54 - Rev and Fin Systems"]
[null,null,null,"V19","APPS","NULL","NULL","NULL","NULL","NULL","Applications Summary","V19","Hossein Nikdel","T54 - Rev and Fin Systems"]
[null,null,null,"V19","AVA","NULL","NULL","NULL","NULL","NULL","Total Company","V19"," ","T54 - Rev and Fin Systems"]
[null,null,null,"V19","CEXO","NULL","NULL","NULL","NULL","NULL","CEO & President","V19"," ","T54 - Rev and Fin Systems"]
[null,null,null,"V19","INFO","NULL","NULL","NULL","NULL","NULL","VP Info & Security","V19","Jim Kensok","T54 - Rev and Fin Systems"]
[null,null,null,"V19","ISOP","NULL","NULL","NULL","NULL","NULL","IS Operations Rollup","V19","Hossein Nikdel","T54 - Rev and Fin Systems"]
[null,null,null,"V19","SUPP","NULL","NULL","NULL","NULL","NULL","Support","V19","NULL","T54 - Rev and Fin Systems"]
[null,null,null,"V19","V19","NULL","NULL","NULL","NULL","NULL","EAM/Operations Operations","V19","Mike Mudge","T54 - Rev and Fin Systems"]
[null,null,null,"V19","VPUP","NULL","NULL","NULL","NULL","NULL","President & COO Avista Corp","V19","Marian Durkin","T54 - Rev and Fin Systems"]
[null,null,null,"V39","APPS","NULL","NULL","NULL","NULL","NULL","Applications Summary","V39","Hossein Nikdel","T54 - Rev and Fin Systems"]
[null,null,null,"V39","AVA","NULL","NULL","NULL","NULL","NULL","Total Company","V39"," ","T54 - Rev and Fin Systems"]
[null,null,null,"V39","CEXO","NULL","NULL","NULL","NULL","NULL","CEO & President","V39"," ","T54 - Rev and Fin Systems"]
[null,null,null,"V39","INFO","NULL","NULL","NULL","NULL","NULL","VP Info & Security","V39","Jim Kensok","T54 - Rev and Fin Systems"]
[null,null,null,"V39","ISDV","NULL","NULL","NULL","NULL","NULL","IS Development Rollup","V39","Hossein Nikdel","T54 - Rev and Fin Systems"]
[null,null,null,"V39","SUPP","NULL","NULL","NULL","NULL","NULL","Support","V39","NULL","T54 - Rev and Fin Systems"]
[null,null,null,"V39","V39","NULL","NULL","NULL","NULL","NULL","EAM/Maximo Development","V39","Steve Vincent","T54 - Rev and Fin Systems"]
[null,null,null,"V39","VPUP","NULL","NULL","NULL","NULL","NULL","President & COO Avista Corp","V39","Marian Durkin","T54 - Rev and Fin Systems"]
[null,null,null,"V50","AVA","NULL","NULL","NULL","NULL","NULL","Total Company","V50"," ","T54 - Rev and Fin Systems"]
[null,null,null,"V50","CEXO","NULL","NULL","NULL","NULL","NULL","CEO & President","V50"," ","T54 - Rev and Fin Systems"]
[null,null,null,"V50","ESOL","NULL","NULL","NULL","NULL","NULL","Energy Solutions","V50","Pat Lynch","T54 - Rev and Fin Systems"]
[null,null,null,"V50","SUPP","NULL","NULL","NULL","NULL","NULL","Support","V50","NULL","T54 - Rev and Fin Systems"]
[null,null,null,"V50","V50","NULL","NULL","NULL","NULL","NULL","Reg Bus Mgr - Oregon","V50","Ryan Krasselt","T54 - Rev and Fin Systems"]
[null,null,null,"V50","VPCS","NULL","NULL","NULL","NULL","NULL","VP Customer Solutions","V50","Kevin Christie","T54 - Rev and Fin Systems"]
[null,null,null,"V50","VPUP","NULL","NULL","NULL","NULL","NULL","President & COO Avista Corp","V50","Marian Durkin","T54 - Rev and Fin Systems"]
[null,null,null,"C57","C57","NULL","NULL","NULL","NULL","NULL","Spokane Electric Network","C57","Ryan Bradeen","C57 - Spokane Electric Network"]
[null,null,null,"C57","CEXO","VPUP","VPOP","WEST","C57","NULL","CEO & President","C57"," ",{"$f":"VLOOKUP(L2628,Table1,2)","v":"C57 - Spokane Electric Network"}]
[null,null,null,"C57","VPOP","WEST","C57","NULL","NULL","NULL","VP Energy Delivery","C57","Jason Thackston","C57 - Spokane Electric Network"]
[null,null,null,"C57","VPUP","VPOP","WEST","C57","NULL","NULL","President & COO Avista Corp","C57","Marian Durkin","C57 - Spokane Electric Network"]
[null,null,null,"C57","WEST","C57","NULL","NULL","NULL","NULL","Director of Operations - West","C57"," ","C57 - Spokane Electric Network"]
[null,null,null,"C59","AVA","CEXO","VPUP","INFO","INFR","SEO","Total Company","C59"," ","C59 - Enterprise Busi Continuity"]
[null,null,null,"C59","C59","NULL","NULL","NULL","NULL","NULL","Enterprise Business Continuity (EBC)","C59","Clay Storey","C59 - Enterprise Busi Continuity"]
[null,null,null,"C59","CEXO","VPUP","INFO","INFR","SEO","C59","CEO & President","C59"," ","C59 - Enterprise Busi Continuity"]
[null,null,null,"C59","INFO","INFR","SEO","C59","NULL","NULL","VP Info & Security","C59","Jim Kensok","C59 - Enterprise Busi Continuity"]
[null,null,null,"C59","INFR","SEO","C59","NULL","NULL","NULL","Infrastructure Technology Summary","C59","Jim Corder","C59 - Enterprise Busi Continuity"]
[null,null,null,"C59","SEO","C59","NULL","NULL","NULL","NULL","Security Rollup","C59","Anna Scarlett","C59 - Enterprise Busi Continuity"]
[null,null,null,"C59","VPUP","INFO","INFR","SEO","C59","NULL","President & COO Avista Corp","C59","Marian Durkin","C59 - Enterprise Busi Continuity"]
[null,null,null,"J11","CORP","VPHR","J11","Depart","NULL","NULL","Human Resources","J11","Karen Feltes","J11 - Planning & Analysis"]
[null,null,null,"C83","AVA","CEXO","VPUP","VPOP","NGAS","NGCO","Total Company","C83"," ","C83 - La Grande"]
[null,null,null,"C83","C83","NULL","NULL","NULL","NULL","NULL","LaGrande","C83","Donald Kellogg","C83 - La Grande"]
[null,null,null,"C83","CEXO","VPUP","VPOP","NGAS","NGCO","C83","CEO & President","C83"," ","C83 - La Grande"]
[null,null,null,"C83","NGAS","NGCO","C83","NULL","NULL","NULL","Natural Gas","C83","Mike Faulkenberry","C83 - La Grande"]
[null,null,null,"C83","NGCO","C83","NULL","NULL","NULL","NULL","Natural Gas Construction Ops","C83","Mike Faulkenberry","C83 - La Grande"]
[null,null,null,"C83","VPOP","NGAS","NGCO","C83","NULL","NULL","VP Energy Delivery","C83","Jason Thackston","C83 - La Grande"]
[null,null,null,"C83","VPUP","VPOP","NGAS","NGCO","C83","NULL","President & COO Avista Corp","C83","Marian Durkin","C83 - La Grande"]
[null,null,null,"D02","AVA","CEXO","VPHR","D02","NULL","NULL","Total Company","D02"," ","D02 - VP Of Hr & Corp Service"]
[null,null,null,"D02","CEXO","VPHR","D02","NULL","NULL","NULL","CEO & President","D02"," ","D02 - VP Of Hr & Corp Service"]
[null,null,null,"D02","D02","NULL","NULL","NULL","NULL","NULL","SR. VP HR and Corp. Services","D02","Karen Feltes","D02 - VP Of Hr & Corp Service"]
[null,null,null,"D02","VPHR","D02","NULL","NULL","NULL","NULL","Sr. VP Human Resources","D02","Heather Rosentrater","D02 - VP Of Hr & Corp Service"]
[null,null,null,"D08","AVA","CEXO","VPUP","VPOP","D08","NULL","Total Company","D08"," ","D08 - Energy Del Gen Mg"]
[null,null,null,"D08","CEXO","VPUP","VPOP","D08","NULL","NULL","CEO & President","D08"," ","D08 - Energy Del Gen Mg"]
[null,null,null,"D08","D08","NULL","NULL","NULL","NULL","NULL","Energy Delivery General Manager","D08","Heather Rosentrater","D08 - Energy Del Gen Mg"]
[null,null,null,"D08","VPOP","D08","NULL","NULL","NULL","NULL","VP Energy Delivery","D08","Jason Thackston","D08 - Energy Del Gen Mg"]
[null,null,null,"D08","VPUP","VPOP","D08","NULL","NULL","NULL","President & COO Avista Corp","D08","Marian Durkin","D08 - Energy Del Gen Mg"]
[null,null,null,"D09","AVA","CEXO","VPUP","VPOP","TRAN","D09","Total Company","D09"," ","D09 - Scada"]
[null,null,null,"D09","CEXO","VPUP","VPOP","TRAN","D09","NULL","CEO & President","D09"," ","D09 - Scada"]
[null,null,null,"D09","D09","NULL","NULL","NULL","NULL","NULL","SCADA","D09","Brad Calbick","D09 - Scada"]
[null,null,null,"D09","TRAN","D09","NULL","NULL","NULL","NULL","Transmission","D09","Bill Abrahamse","D09 - Scada"]
[null,null,null,"D09","VPOP","TRAN","D09","NULL","NULL","NULL","VP Energy Delivery","D09","Jason Thackston","D09 - Scada"]
[null,null,null,"D09","VPUP","VPOP","TRAN","D09","NULL","NULL","President & COO Avista Corp","D09","Marian Durkin","D09 - Scada"]
[null,null,null,"D50","AVA","CEXO","VPUP","VPCS","CUST","D50","Total Company","D50"," ","D50 - Meter Read/Billing"]
[null,null,null,"D50","CEXO","VPUP","VPCS","CUST","D50","NULL","CEO & President","D50"," ","D50 - Meter Read/Billing"]
[null,null,null,"D50","CUST","D50","NULL","NULL","NULL","NULL","Customer Service & Sales","D50","Mike Broemeling","D50 - Meter Read/Billing"]
[null,null,null,"D50","D50","NULL","NULL","NULL","NULL","NULL","Meter Reading - OSM","D50","Jackie Foss","D50 - Meter Read/Billing"]
[null,null,null,"D50","VPCS","CUST","D50","NULL","NULL","NULL","VP Customer Solutions","D50","Kevin Christie","D50 - Meter Read/Billing"]
[null,null,null,"D50","VPUP","VPCS","CUST","D50","NULL","NULL","President & COO Avista Corp","D50","Marian Durkin","D50 - Meter Read/Billing"]
[null,null,null,"D51","AVA","CEXO","VPUP","VPOP","WEST","MNTC","Total Company","D51"," ","D51 - Vegetation Management"]
[null,null,null,"D51","CEXO","VPUP","VPOP","WEST","MNTC","D51","CEO & President","D51"," ","D51 - Vegetation Management"]
[null,null,null,"D51","D51","NULL","NULL","NULL","NULL","NULL","Distribution Vegetation Management","D51","Glenn Madden","D51 - Vegetation Management"]
[null,null,null,"D51","MNTC","D51","NULL","NULL","NULL","NULL","Asset Maintenance","D51","Glenn Madden","D51 - Vegetation Management"]
[null,null,null,"D51","VPOP","WEST","MNTC","D51","NULL","NULL","VP Energy Delivery","D51","Jason Thackston","D51 - Vegetation Management"]
[null,null,null,"D51","VPUP","VPOP","WEST","MNTC","D51","NULL","President & COO Avista Corp","D51","Marian Durkin","D51 - Vegetation Management"]
[null,null,null,"G55","VPPS","0055","G55","NULL","NULL","NULL","VP Energy Resources","G55","Jason Thackston","G55 - Power Purchases"]
[null,null,null,"D51","WEST","MNTC","D51","NULL","NULL","NULL","Director of Operations - West","D51"," ","D51 - Vegetation Management"]
[null,null,null,"D52","AVA","CEXO","VPUP","VPCS","CSOL","D52","Total Company","D52"," ","D52 - Energy Efficiency"]
[null,null,null,"D52","CEXO","VPUP","VPCS","CSOL","D52","NULL","CEO & President","D52"," ","D52 - Energy Efficiency"]
[null,null,null,"D52","CSOL","D52","NULL","NULL","NULL","NULL","Customer Solutions","D52","Kevin Christie","D52 - Energy Efficiency"]
[null,null,null,"D52","D52","NULL","NULL","NULL","NULL","NULL","Energy Efficiency","D52","Dan Johnson","D52 - Energy Efficiency"]
[null,null,null,"D52","VPCS","CSOL","D52","NULL","NULL","NULL","VP Customer Solutions","D52","Kevin Christie","D52 - Energy Efficiency"]
[null,null,null,"T55","0055","T55","NULL","NULL","NULL","NULL","Energy Resource Department","T55","Jason Thackston","T54 - Rev and Fin Systems"]
[null,null,null,"D52","VPUP","VPCS","CSOL","D52","NULL","NULL","President & COO Avista Corp","D52","Marian Durkin","D52 - Energy Efficiency"]
[null,null,null,"Z82","VPPS","0007","Z82","NULL","NULL","NULL","VP Energy Resources","Z82","Jason Thackston","T54 - Rev and Fin Systems"]
[null,null,null,"D53","AVA","CEXO","VPUP","VPOP","EAST","D53","Total Company","D53"," ","D53 - Clarkston"]
[null,null,null,"D53","CEXO","VPUP","VPOP","EAST","D53","NULL","CEO & President","D53"," ","D53 - Clarkston"]
[null,null,null,"D53","D53","NULL","NULL","NULL","NULL","NULL","Clarkston ","D53","Steven Aubuchon","D53 - Clarkston"]
[null,null,null,"D53","EAST","D53","NULL","NULL","NULL","NULL","Director Operations - East","D53","Greg Gfeller","D53 - Clarkston"]
[null,null,null,"D53","VPOP","EAST","D53","NULL","NULL","NULL","VP Energy Delivery","D53","Jason Thackston","D53 - Clarkston"]
[null,null,null,"H55","OPER","VPPS","RSOP","Depart","0055","H55","Energy Resource Department","H55","Jason Thackston","H55 - Fuels Management"]
[null,null,null,"D53","VPUP","VPOP","EAST","D53","NULL","NULL","President & COO Avista Corp","D53","Marian Durkin","D53 - Clarkston"]
[null,null,null,"D54","AVA","CEXO","VPFO","VPCC","D54","NULL","Total Company","D54"," ","D54 - Corp & Subs Accounting"]
[null,null,null,"N07","OPER","VPPS","0004","Depart","N07","NULL","Environmental Affairs","N07","Jason Thackston",{"$f":"VLOOKUP(L2692,Table1,2)","v":"N07 - Utility Environ Compliance"}]
[null,null,null,"T55","OPER","VPPS","RSOP","Depart","0055","T55","Energy Resource Department","T55","Jason Thackston","T54 - Rev and Fin Systems"]
[null,null,null,"D54","CEXO","VPFO","VPCC","D54","NULL","NULL","CEO & President","D54"," ","D54 - Corp & Subs Accounting"]
[null,null,null,"D54","D54","NULL","NULL","NULL","NULL","NULL","Corporate & Subsidiary Accounting","D54","Adam Munson","D54 - Corp & Subs Accounting"]
[null,null,null,"D54","VPCC","D54","NULL","NULL","NULL","NULL","VP Corporate Controller","D54","Kevin Christie","D54 - Corp & Subs Accounting"]
[null,null,null,"C55","VPPS","NULL","NULL","NULL","NULL","NULL","VP Energy Resources","C55","Jason Thackston","C55 - Gas Resource Costs"]
[null,null,null,"D54","VPFO","VPCC","D54","NULL","NULL","NULL","Sr. VP & CFO","D54","Marian Durkin","D54 - Corp & Subs Accounting"]
[null,null,null,"D55","0055","D55","NULL","NULL","NULL","NULL","Energy Resource Department","D55","Jason Thackston","D55 - Natural Gas Resources"]
[null,null,null,"D55","AVA","CEXO","VPUP","VPPS","0055","D55","Total Company","D55"," ","D55 - Natural Gas Resources"]
[null,null,null,"D55","CEXO","VPUP","VPPS","0055","D55","NULL","CEO & President","D55"," ","D55 - Natural Gas Resources"]
[null,null,null,"H55","RSRC","NULL","NULL","NULL","NULL","NULL","Energy Resources","H55","Jason Thackston","H55 - Fuels Management"]
[null,null,null,"D55","D55","NULL","NULL","NULL","NULL","NULL","Natural Gas Resources","D55","Jody Morehouse","D55 - Natural Gas Resources"]
[null,null,null,"D55","VPPS","0055","D55","NULL","NULL","NULL","Sr. VP Energy Resources","D55","Kelly Norwood","D55 - Natural Gas Resources"]
[null,null,null,"D55","VPUP","VPPS","0055","D55","NULL","NULL","President & COO Avista Corp","D55","Marian Durkin","D55 - Natural Gas Resources"]
[null,null,null,"N07","VPPS","NULL","NULL","NULL","NULL","NULL","VP Energy Resources","N07","Jason Thackston","N07 - Utility Environ Compliance"]
[null,null,null,"D56","AVA","CEXO","VPUP","VPOP","TRAN","D56","Total Company","D56"," ","D56 - Director of Engineering/System Ops"]
[null,null,null,"D56","CEXO","VPUP","VPOP","TRAN","D56","NULL","CEO & President","D56"," ","D56 - Director of Engineering/System Ops"]
[null,null,null,"D56","D56","NULL","NULL","NULL","NULL","NULL","Director Transmission","D56","Bryan Cox","D56 - Director of Engineering/System Ops"]
[null,null,null,"D56","TRAN","D56","NULL","NULL","NULL","NULL","Transmission","D56","Bill Abrahamse","D56 - Director of Engineering/System Ops"]
[null,null,null,"E54","VPFO","VPFN","E54","NULL","NULL","NULL","Executive VP & CFO","E54","Mark Thies","E54 - Accounts Payable"]
[null,null,null,"D56","VPOP","TRAN","D56","NULL","NULL","NULL","VP Energy Delivery","D56","Jason Thackston","D56 - Director of Engineering/System Ops"]
[null,null,null,"D56","VPUP","VPOP","TRAN","D56","NULL","NULL","President & COO Avista Corp","D56","Marian Durkin","D56 - Director of Engineering/System Ops"]
[null,null,null,"E01","AVA","CEXO","EXEC","E01","NULL","NULL","Total Company","E01"," ","E01 - Exec Administration"]
[null,null,null,"E01","CEXO","EXEC","E01","NULL","NULL","NULL","CEO & President","E01"," ","E01 - Exec Administration"]
[null,null,null,"E01","E01","NULL","NULL","NULL","NULL","NULL","Executive Administration","E01","Linda Williams","E01 - Exec Administration"]
[null,null,null,"E29","ITSE","E29","NULL","NULL","NULL","NULL","System Engineering Rollup","E29","Walter Roys","E29 - Dist Syst Prod & Serv"]
[null,null,null,"E01","EXEC","E01","NULL","NULL","NULL","NULL","Executive Department Summary","E01"," ","E01 - Exec Administration"]
[null,null,null,"E02","AVA","CEXO","VPHR","E02","NULL","NULL","Total Company","E02"," ","E02 - Corp Org Development"]
[null,null,null,"E02","CEXO","VPHR","E02","NULL","NULL","NULL","CEO & President","E02"," ","E02 - Corp Org Development"]
[null,null,null,"E02","E02","NULL","NULL","NULL","NULL","NULL","Corporate Organizational Development","E02","Diane Quincy","E02 - Corp Org Development"]
[null,null,null,"E02","VPHR","E02","NULL","NULL","NULL","NULL","Sr. VP Human Resources","E02","Heather Rosentrater","E02 - Corp Org Development"]
[null,null,null,"E07","0007","E07","NULL","NULL","NULL","NULL","Gen Prod Sub Support","E07","Andy Vickers","E07 - Generation Engineers"]
[null,null,null,"E07","AVA","CEXO","VPUP","VPPS","0007","E07","Total Company","E07"," ","E07 - Generation Engineers"]
[null,null,null,"E54","CORP","VPFO","E54","Depart","NULL","NULL","Finance & Risk Management","E54","Mark Thies","E54 - Accounts Payable"]
[null,null,null,"E07","CEXO","VPUP","VPPS","0007","E07","NULL","CEO & President","E07"," ","E07 - Generation Engineers"]
[null,null,null,"E07","E07","NULL","NULL","NULL","NULL","NULL","Generation Engineers","E07","Andy Vickers","E07 - Generation Engineers"]
[null,null,null,"E07","VPPS","0007","E07","NULL","NULL","NULL","Sr. VP Energy Resources","E07","Kelly Norwood","E07 - Generation Engineers"]
[null,null,null,"K54","CORP","VPFO","K54","Depart","NULL","NULL","Finance & Risk Management","K54","Mark Thies","K54 - Financial Systems Project"]
[null,null,null,"E29","VPUP","INFO","INFR","ITSE","E29","NULL","President & COO Avista Corp","E29","Marian Durkin","E29 - Dist Syst Prod & Serv"]
[null,null,null,"E07","VPUP","VPPS","0007","E07","NULL","NULL","President & COO Avista Corp","E07","Marian Durkin","E07 - Generation Engineers"]
[null,null,null,"E09","AVA","CEXO","VPUP","INFO","INFR","ITSE","Total Company","E09"," ","E09 - Distributed Systems"]
[null,null,null,"E09","CEXO","VPUP","INFO","INFR","ITSE","E09","CEO & President","E09"," ","E09 - Distributed Systems"]
[null,null,null,"E09","E09","NULL","NULL","NULL","NULL","NULL","Distributed Systems Engineering","E09","Walter Roys","E09 - Distributed Systems"]
[null,null,null,"E09","INFO","INFR","ITSE","E09","NULL","NULL","VP Info & Security","E09","Jim Kensok","E09 - Distributed Systems"]
[null,null,null,"E09","INFR","ITSE","E09","NULL","NULL","NULL","Infrastructure Technology Summary","E09","Jim Corder","E09 - Distributed Systems"]
[null,null,null,"E09","ITSE","E09","NULL","NULL","NULL","NULL","System Engineering Rollup","E09","Walter Roys","E09 - Distributed Systems"]
[null,null,null,"E09","VPUP","INFO","INFR","ITSE","E09","NULL","President & COO Avista Corp","E09","Marian Durkin","E09 - Distributed Systems"]
[null,null,null,"E14","0004","E14","NULL","NULL","NULL","NULL","Environmental Affairs","E14","Bruce Howard","E14 - Environmental Compliance"]
[null,null,null,"E14","AVA","CEXO","VPGC","0004","E14","NULL","Total Company","E14"," ","E14 - Environmental Compliance"]
[null,null,null,"E14","CEXO","VPGC","0004","E14","NULL","NULL","CEO & President","E14"," ","E14 - Environmental Compliance"]
[null,null,null,"E14","E14","NULL","NULL","NULL","NULL","NULL","Environmental Compliance","E14","Darrell Soyars","E14 - Environmental Compliance"]
[null,null,null,"E14","VPGC","0004","E14","NULL","NULL","NULL","Sr. VP & General Counsel","E14","Karen Feltes","E14 - Environmental Compliance"]
[null,null,null,"E19","AVA","CEXO","VPUP","INFO","INFR","ITOP","Total Company","E19"," ","E19 - Dist Systems Ops"]
[null,null,null,"E19","CEXO","VPUP","INFO","INFR","ITOP","E19","CEO & President","E19"," ","E19 - Dist Systems Ops"]
[null,null,null,"E19","E19","NULL","NULL","NULL","NULL","NULL","Distributed Systems Operations","E19","Michael Busby","E19 - Dist Systems Ops"]
[null,null,null,"E19","INFO","INFR","ITOP","E19","NULL","NULL","VP Info & Security","E19","Jim Kensok","E19 - Dist Systems Ops"]
[null,null,null,"E19","INFR","ITOP","E19","NULL","NULL","NULL","Infrastructure Technology Summary","E19","Jim Corder","E19 - Dist Systems Ops"]
[null,null,null,"E19","ITOP","E19","NULL","NULL","NULL","NULL","IT Operations Rollup","E19","Michael Busby","E19 - Dist Systems Ops"]
[null,null,null,"E19","VPUP","INFO","INFR","ITOP","E19","NULL","President & COO Avista Corp","E19","Marian Durkin","E19 - Dist Systems Ops"]
[null,null,null,"E29","AVA","CEXO","VPUP","INFO","INFR","ITSE","Total Company","E29"," ","E29 - Dist Syst Prod & Serv"]
[null,null,null,"E29","CEXO","VPUP","INFO","INFR","ITSE","E29","CEO & President","E29"," ","E29 - Dist Syst Prod & Serv"]
[null,null,null,"E29","E29","NULL","NULL","NULL","NULL","NULL","Distributed Systems Products & Services","E29","Walter Roys","E29 - Dist Syst Prod & Serv"]
[null,null,null,"E29","INFO","INFR","ITSE","E29","NULL","NULL","VP Info & Security","E29","Jim Kensok","E29 - Dist Syst Prod & Serv"]
[null,null,null,"E29","INFR","ITSE","E29","NULL","NULL","NULL","Infrastructure Technology Summary","E29","Jim Corder","E29 - Dist Syst Prod & Serv"]
[null,null,null,"Z81","CORP","VPFO","Z81","Depart","NULL","NULL","Finance & Risk Management","Z81","Mark Thies",{"$f":"VLOOKUP(L2756,Table1,2)","v":"T54 - Rev and Fin Systems"}]
[null,null,null,"C19","INFR","NULL","NULL","NULL","NULL","NULL","Infrastructure Technology Summary","C19","Jim Corder","C19 - Security Operations"]
[null,null,null,"C19","SEO","NULL","NULL","NULL","NULL","NULL","Security Rollup","C19","Anna Scarlett","C19 - Security Operations"]
[null,null,null,"C19","SUPP","NULL","NULL","NULL","NULL","NULL","Support","C19","NULL","C19 - Security Operations"]
[null,null,null,"C19","VPUP","NULL","NULL","NULL","NULL","NULL","President & COO Avista Corp","C19","Marian Durkin","C19 - Security Operations"]
[null,null,null,"C29","AVA","NULL","NULL","NULL","NULL","NULL","Total Company","C29"," ","C29 - Security Products & Serv"]
[null,null,null,"C29","C29","NULL","NULL","NULL","NULL","NULL","Security Products & Services","C29","Clay Storey","C29 - Security Products & Serv"]
[null,null,null,"C29","CEXO","NULL","NULL","NULL","NULL","NULL","CEO & President","C29"," ","C29 - Security Products & Serv"]
[null,null,null,"C29","INFO","NULL","NULL","NULL","NULL","NULL","VP Info & Security","C29","Jim Kensok","C29 - Security Products & Serv"]
[null,null,null,"C29","INFR","NULL","NULL","NULL","NULL","NULL","Infrastructure Technology Summary","C29","Jim Corder","C29 - Security Products & Serv"]
[null,null,null,"C29","SEO","NULL","NULL","NULL","NULL","NULL","Security Rollup","C29","Anna Scarlett","C29 - Security Products & Serv"]
[null,null,null,"C29","SUPP","NULL","NULL","NULL","NULL","NULL","Support","C29","NULL","C29 - Security Products & Serv"]
[null,null,null,"C29","VPUP","NULL","NULL","NULL","NULL","NULL","President & COO Avista Corp","C29","Marian Durkin","C29 - Security Products & Serv"]
[null,null,null,"C50","AVA","NULL","NULL","NULL","NULL","NULL","Total Company","C50"," ","C50 - Contact Ctr Spokane-Hire & Train"]
[null,null,null,"E54","VPFN","E54","NULL","NULL","NULL","NULL","Dir of Finance","E54","Mark Thies","E54 - Accounts Payable"]
[null,null,null,"C50","C50","NULL","NULL","NULL","NULL","NULL","Con Ctr - Spokane","C50","Darrin Belgarde","C50 - Contact Ctr Spokane-Hire & Train"]
[null,null,null,"C50","CEXO","NULL","NULL","NULL","NULL","NULL","CEO & President","C50"," ","C50 - Contact Ctr Spokane-Hire & Train"]
[null,null,null,"C50","CUST","NULL","NULL","NULL","NULL","NULL","Customer Service & Sales","C50","Mike Broemeling","C50 - Contact Ctr Spokane-Hire & Train"]
[null,null,null,"C50","SUPP","NULL","NULL","NULL","NULL","NULL","Support","C50","NULL","C50 - Contact Ctr Spokane-Hire & Train"]
[null,null,null,"C50","VPCS","NULL","NULL","NULL","NULL","NULL","VP Customer Solutions","C50","Kevin Christie","C50 - Contact Ctr Spokane-Hire & Train"]
[null,null,null,"C50","VPUP","NULL","NULL","NULL","NULL","NULL","President & COO Avista Corp","C50","Marian Durkin","C50 - Contact Ctr Spokane-Hire & Train"]
[null,null,null,"A84","VPUP","VPOP","NGAS","A84","NULL","NULL","President & COO Avista Corp","A84","Dennis Vermillion","A84 -South Lake Tahoe"]
[null,null,null,"C51","AVA","NULL","NULL","NULL","NULL","NULL","Total Company","C51"," ","C51 - Elec Distributn Design"]
[null,null,null,"C51","C51","NULL","NULL","NULL","NULL","NULL","Elec Distribution Design","C51","Dave James","C51 - Elec Distributn Design"]
[null,null,null,"C51","CEXO","NULL","NULL","NULL","NULL","NULL","CEO & President","C51"," ","C51 - Elec Distributn Design"]
[null,null,null,"B81","VPUP","VPOP","CSSS","CUST","B81","NULL","President & COO Avista Corp","B81","Dennis Vermillion","B81 - Contact Ctr-Medford"]
[null,null,null,"C51","ENGR","NULL","NULL","NULL","NULL","NULL","Electric Engineering","C51","David Howell","C51 - Elec Distributn Design"]
[null,null,null,"C51","SUPP","NULL","NULL","NULL","NULL","NULL","Support","C51","NULL","C51 - Elec Distributn Design"]
[null,null,null,"C52","VPUP","VPCS","C52","NULL","NULL","NULL","President & COO Avista Corp","C52","Dennis Vermillion","C52 - Customer Solutions"]
[null,null,null,"C55","VPUP","VPPS","RSRC","C55","NULL","NULL","President & COO Avista Corp","C55","Dennis Vermillion","C55 - Gas Resource Costs"]
[null,null,null,"C51","VPOP","NULL","NULL","NULL","NULL","NULL","VP Energy Delivery","C51","Jason Thackston","C51 - Elec Distributn Design"]
[null,null,null,"C51","VPUP","NULL","NULL","NULL","NULL","NULL","President & COO Avista Corp","C51","Marian Durkin","C51 - Elec Distributn Design"]
[null,null,null,"C53","AVA","NULL","NULL","NULL","NULL","NULL","Total Company","C53"," ","C53 - Coeur d Alene Gas"]
[null,null,null,"C53","C53","NULL","NULL","NULL","NULL","NULL","Coeur d'Alene Gas","C53","Paul Good","C53 - Coeur d Alene Gas"]
[null,null,null,"C53","CEXO","NULL","NULL","NULL","NULL","NULL","CEO & President","C53"," ","C53 - Coeur d Alene Gas"]
[null,null,null,"D83","VPUP","VPOP","CNST","D83","NULL","NULL","President & COO Avista Corp","D83","Dennis Vermillion","D83 - Goldendale Construction"]
[null,null,null,"C53","GAS","NULL","NULL","NULL","NULL","NULL","Gas","C53","NULL","C53 - Coeur d Alene Gas"]
[null,null,null,"C53","NGAS","NULL","NULL","NULL","NULL","NULL","Natural Gas","C53","Mike Faulkenberry","C53 - Coeur d Alene Gas"]
[null,null,null,"C53","NGCO","NULL","NULL","NULL","NULL","NULL","Natural Gas Construction Ops","C53","Mike Faulkenberry","C53 - Coeur d Alene Gas"]
[null,null,null,"C53","VPOP","NULL","NULL","NULL","NULL","NULL","VP Energy Delivery","C53","Jason Thackston","C53 - Coeur d Alene Gas"]
[null,null,null,"F14","VPUP","VPCS","BCED","F14","NULL","NULL","President & COO Avista Corp","F14","Dennis Vermillion","F14 - External Projects"]
[null,null,null,"C53","VPUP","NULL","NULL","NULL","NULL","NULL","President & COO Avista Corp","C53","Marian Durkin","C53 - Coeur d Alene Gas"]
[null,null,null,"C54","AVA","NULL","NULL","NULL","NULL","NULL","Total Company","C54"," ","C54 - Tax Services"]
[null,null,null,"C54","C54","NULL","NULL","NULL","NULL","NULL","Tax Services","C54","Don Falkner","C54 - Tax Services"]
[null,null,null,"H03","VPUP","VPOP","CUST","H03","NULL","NULL","President & COO Avista Corp","H03","Dennis Vermillion","H03 - Facility Lease Management"]
[null,null,null,"C54","CEXO","NULL","NULL","NULL","NULL","NULL","CEO & President","C54"," ","C54 - Tax Services"]
[null,null,null,"C54","SUPP","NULL","NULL","NULL","NULL","NULL","Support","C54","NULL","C54 - Tax Services"]
[null,null,null,"H55","VPUP","VPPS","0055","H55","NULL","NULL","President & COO Avista Corp","H55","Dennis Vermillion","H55 - Fuels Management"]
[null,null,null,"C54","VPCC","NULL","NULL","NULL","NULL","NULL","VP Corporate Controller","C54","Kevin Christie","C54 - Tax Services"]
[null,null,null,"C54","VPFO","NULL","NULL","NULL","NULL","NULL","Sr. VP & CFO","C54","Marian Durkin","C54 - Tax Services"]
[null,null,null,"C56","AMSP","NULL","NULL","NULL","NULL","NULL","Planning & Asset Management","C56","Scott Waples","C56 - System Planning"]
[null,null,null,"C56","AVA","NULL","NULL","NULL","NULL","NULL","Total Company","C56"," ","C56 - System Planning"]
[null,null,null,"K14","VPUP","VPCS","BCED","K14","NULL","NULL","President & COO Avista Corp","K14","Dennis Vermillion","K14 - Public Affairs"]
[null,null,null,"C56","C56","NULL","NULL","NULL","NULL","NULL","System Planning","C56","Scott Waples","C56 - System Planning"]
[null,null,null,"C56","CEXO","NULL","NULL","NULL","NULL","NULL","CEO & President","C56"," ","C56 - System Planning"]
[null,null,null,"C56","SUPP","NULL","NULL","NULL","NULL","NULL","Support","C56","NULL","C56 - System Planning"]
[null,null,null,"C56","VPOP","NULL","NULL","NULL","NULL","NULL","VP Energy Delivery","C56","Jason Thackston","C56 - System Planning"]
[null,null,null,"C56","VPUP","NULL","NULL","NULL","NULL","NULL","President & COO Avista Corp","C56","Marian Durkin","C56 - System Planning"]
[null,null,null,"C57","AVA","NULL","NULL","NULL","NULL","NULL","Total Company","C57"," ","C57 - Spokane Electric Network"]
[null,null,null,"C57","C57","NULL","NULL","NULL","NULL","NULL","Spokane Electric Network","C57","Ryan Bradeen","C57 - Spokane Electric Network"]
[null,null,null,"C57","CEXO","NULL","NULL","NULL","NULL","NULL","CEO & President","C57"," ","C57 - Spokane Electric Network"]
[null,null,null,"C57","ELEC","NULL","NULL","NULL","NULL","NULL","Electric","C57","NULL","C57 - Spokane Electric Network"]
[null,null,null,"C57","VPOP","NULL","NULL","NULL","NULL","NULL","VP Energy Delivery","C57","Jason Thackston","C57 - Spokane Electric Network"]
[null,null,null,"C57","VPUP","NULL","NULL","NULL","NULL","NULL","President & COO Avista Corp","C57","Marian Durkin","C57 - Spokane Electric Network"]
[null,null,null,"C57","WEST","NULL","NULL","NULL","NULL","NULL","Director of Operations - West","C57"," ",{"$f":"VLOOKUP(L2820,Table1,2)","v":"C57 - Spokane Electric Network"}]
[null,null,null,"C59","AVA","NULL","NULL","NULL","NULL","NULL","Total Company","C59"," ","C59 - Enterprise Busi Continuity"]
[null,null,null,"R50","VPUP","VPOP","CNST","R50","NULL","NULL","President & COO Avista Corp","R50","Dennis Vermillion","R50 - Spokane Construction Engineering"]
[null,null,null,"S08","VPUP","VPOP","CSSS","SERV","S08","NULL","President & COO Avista Corp","S08","Dennis Vermillion","S08 - Strategic Projects Development"]
[null,null,null,"C59","C59","NULL","NULL","NULL","NULL","NULL","Enterprise Business Continuity (EBC)","C59","Clay Storey","C59 - Enterprise Busi Continuity"]
[null,null,null,"C59","CEXO","NULL","NULL","NULL","NULL","NULL","CEO & President","C59"," ","C59 - Enterprise Busi Continuity"]
[null,null,null,"C59","INFO","NULL","NULL","NULL","NULL","NULL","VP Info & Security","C59","Jim Kensok","C59 - Enterprise Busi Continuity"]
[null,null,null,"C59","INFR","NULL","NULL","NULL","NULL","NULL","Infrastructure Technology Summary","C59","Jim Corder","C59 - Enterprise Busi Continuity"]
[null,null,null,"T55","VPUP","VPPS","0055","T55","NULL","NULL","President & COO Avista Corp","T55","Dennis Vermillion","T54 - Rev and Fin Systems"]
[null,null,null,"C59","SEO","NULL","NULL","NULL","NULL","NULL","Security Rollup","C59","Anna Scarlett","C59 - Enterprise Busi Continuity"]
[null,null,null,"C59","SUPP","NULL","NULL","NULL","NULL","NULL","Support","C59","NULL","C59 - Enterprise Busi Continuity"]
[null,null,null,"C59","VPUP","NULL","NULL","NULL","NULL","NULL","President & COO Avista Corp","C59","Marian Durkin","C59 - Enterprise Busi Continuity"]
[null,null,null,"Z82","VPUP","VPPS","0007","Z82","NULL","NULL","President & COO Avista Corp","Z82","Dennis Vermillion","T54 - Rev and Fin Systems"]
[null,null,null,"Z85","VPUP","VPOP","ENSO","Z85","NULL","NULL","President & COO Avista Corp","Z85","Dennis Vermillion","T54 - Rev and Fin Systems"]
[null,null,null,"C83","AVA","NULL","NULL","NULL","NULL","NULL","Total Company","C83"," ","C83 - La Grande"]
[null,null,null,"C83","C83","NULL","NULL","NULL","NULL","NULL","LaGrande","C83","Donald Kellogg","C83 - La Grande"]
[null,null,null,"C83","CEXO","NULL","NULL","NULL","NULL","NULL","CEO & President","C83"," ","C83 - La Grande"]
[null,null,null,"C83","GAS","NULL","NULL","NULL","NULL","NULL","Gas","C83","NULL","C83 - La Grande"]
[null,null,null,"C83","NGAS","NULL","NULL","NULL","NULL","NULL","Natural Gas","C83","Mike Faulkenberry","C83 - La Grande"]
[null,null,null,"C83","NGCO","NULL","NULL","NULL","NULL","NULL","Natural Gas Construction Ops","C83","Mike Faulkenberry","C83 - La Grande"]
[null,null,null,"C83","VPOP","NULL","NULL","NULL","NULL","NULL","VP Energy Delivery","C83","Jason Thackston","C83 - La Grande"]
[null,null,null,"C83","VPUP","NULL","NULL","NULL","NULL","NULL","President & COO Avista Corp","C83","Marian Durkin","C83 - La Grande"]
[null,null,null,"D02","AVA","NULL","NULL","NULL","NULL","NULL","Total Company","D02"," ","D02 - VP Of Hr & Corp Service"]
[null,null,null,"D02","CEXO","NULL","NULL","NULL","NULL","NULL","CEO & President","D02"," ","D02 - VP Of Hr & Corp Service"]
[null,null,null,"D02","D02","NULL","NULL","NULL","NULL","NULL","SR. VP HR and Corp. Services","D02","Karen Feltes","D02 - VP Of Hr & Corp Service"]
[null,null,null,"D02","SUPP","NULL","NULL","NULL","NULL","NULL","Support","D02","NULL","D02 - VP Of Hr & Corp Service"]
[null,null,null,"D02","VPHR","NULL","NULL","NULL","NULL","NULL","Sr. VP Human Resources","D02","Heather Rosentrater","D02 - VP Of Hr & Corp Service"]
[null,null,null,"D08","AVA","NULL","NULL","NULL","NULL","NULL","Total Company","D08"," ","D08 - Energy Del Gen Mg"]
[null,null,null,"D08","CEXO","NULL","NULL","NULL","NULL","NULL","CEO & President","D08"," ","D08 - Energy Del Gen Mg"]
[null,null,null,"D08","D08","NULL","NULL","NULL","NULL","NULL","Energy Delivery General Manager","D08","Heather Rosentrater","D08 - Energy Del Gen Mg"]
[null,null,null,"D08","SUPP","NULL","NULL","NULL","NULL","NULL","Support","D08","NULL","D08 - Energy Del Gen Mg"]
[null,null,null,"D08","VPOP","NULL","NULL","NULL","NULL","NULL","VP Energy Delivery","D08","Jason Thackston","D08 - Energy Del Gen Mg"]
[null,null,null,"D08","VPUP","NULL","NULL","NULL","NULL","NULL","President & COO Avista Corp","D08","Marian Durkin","D08 - Energy Del Gen Mg"]
[null,null,null,"D09","AVA","NULL","NULL","NULL","NULL","NULL","Total Company","D09"," ","D09 - Scada"]
[null,null,null,"D09","CEXO","NULL","NULL","NULL","NULL","NULL","CEO & President","D09"," ","D09 - Scada"]
[null,null,null,"D09","D09","NULL","NULL","NULL","NULL","NULL","SCADA","D09","Brad Calbick","D09 - Scada"]
[null,null,null,"D09","SUPP","NULL","NULL","NULL","NULL","NULL","Support","D09","NULL","D09 - Scada"]
[null,null,null,"D09","TRAN","NULL","NULL","NULL","NULL","NULL","Transmission","D09","Bill Abrahamse","D09 - Scada"]
[null,null,null,"D09","VPOP","NULL","NULL","NULL","NULL","NULL","VP Energy Delivery","D09","Jason Thackston","D09 - Scada"]
[null,null,null,"D09","VPUP","NULL","NULL","NULL","NULL","NULL","President & COO Avista Corp","D09","Marian Durkin","D09 - Scada"]
[null,null,null,"D50","AVA","NULL","NULL","NULL","NULL","NULL","Total Company","D50"," ","D50 - Meter Read/Billing"]
[null,null,null,"D50","CEXO","NULL","NULL","NULL","NULL","NULL","CEO & President","D50"," ","D50 - Meter Read/Billing"]
[null,null,null,"D50","CUST","NULL","NULL","NULL","NULL","NULL","Customer Service & Sales","D50","Mike Broemeling","D50 - Meter Read/Billing"]
[null,null,null,"D50","D50","NULL","NULL","NULL","NULL","NULL","Meter Reading - OSM","D50","Jackie Foss","D50 - Meter Read/Billing"]
[null,null,null,"D50","SUPP","NULL","NULL","NULL","NULL","NULL","Support","D50","NULL","D50 - Meter Read/Billing"]
[null,null,null,"D50","VPCS","NULL","NULL","NULL","NULL","NULL","VP Customer Solutions","D50","Kevin Christie","D50 - Meter Read/Billing"]
[null,null,null,"D50","VPUP","NULL","NULL","NULL","NULL","NULL","President & COO Avista Corp","D50","Marian Durkin","D50 - Meter Read/Billing"]
[null,null,null,"D51","AVA","NULL","NULL","NULL","NULL","NULL","Total Company","D51"," ","D51 - Vegetation Management"]
[null,null,null,"D51","CEXO","NULL","NULL","NULL","NULL","NULL","CEO & President","D51"," ","D51 - Vegetation Management"]
[null,null,null,"D51","D51","NULL","NULL","NULL","NULL","NULL","Distribution Vegetation Management","D51","Glenn Madden","D51 - Vegetation Management"]
[null,null,null,"D51","ELEC","NULL","NULL","NULL","NULL","NULL","Electric","D51","NULL","D51 - Vegetation Management"]
[null,null,null,"D51","MNTC","NULL","NULL","NULL","NULL","NULL","Asset Maintenance","D51","Glenn Madden","D51 - Vegetation Management"]
[null,null,null,"D51","VPOP","NULL","NULL","NULL","NULL","NULL","VP Energy Delivery","D51","Jason Thackston","D51 - Vegetation Management"]
[null,null,null,"D51","VPUP","NULL","NULL","NULL","NULL","NULL","President & COO Avista Corp","D51","Marian Durkin","D51 - Vegetation Management"]
[null,null,null,"D51","WEST","NULL","NULL","NULL","NULL","NULL","Director of Operations - West","D51"," ","D51 - Vegetation Management"]
[null,null,null,"D52","AVA","NULL","NULL","NULL","NULL","NULL","Total Company","D52"," ","D52 - Energy Efficiency"]
[null,null,null,"D52","CEXO","NULL","NULL","NULL","NULL","NULL","CEO & President","D52"," ","D52 - Energy Efficiency"]
[null,null,null,"D52","CSOL","NULL","NULL","NULL","NULL","NULL","Customer Solutions","D52","Kevin Christie","D52 - Energy Efficiency"]
[null,null,null,"D52","D52","NULL","NULL","NULL","NULL","NULL","Energy Efficiency","D52","Dan Johnson","D52 - Energy Efficiency"]
[null,null,null,"D52","SUPP","NULL","NULL","NULL","NULL","NULL","Support","D52","NULL","D52 - Energy Efficiency"]
[null,null,null,"D52","VPCS","NULL","NULL","NULL","NULL","NULL","VP Customer Solutions","D52","Kevin Christie","D52 - Energy Efficiency"]
[null,null,null,"D52","VPUP","NULL","NULL","NULL","NULL","NULL","President & COO Avista Corp","D52","Marian Durkin","D52 - Energy Efficiency"]
[null,null,null,"D53","AVA","NULL","NULL","NULL","NULL","NULL","Total Company","D53"," ","D53 - Clarkston"]
[null,null,null,"D53","CEXO","NULL","NULL","NULL","NULL","NULL","CEO & President","D53"," ","D53 - Clarkston"]
[null,null,null,"D53","D53","NULL","NULL","NULL","NULL","NULL","Clarkston ","D53","Steven Aubuchon",{"$f":"VLOOKUP(L2884,Table1,2)","v":"D53 - Clarkston"}]
[null,null,null,"D53","EAST","NULL","NULL","NULL","NULL","NULL","Director Operations - East","D53","Greg Gfeller","D53 - Clarkston"]
[null,null,null,"D53","ELEC","NULL","NULL","NULL","NULL","NULL","Electric","D53","NULL","D53 - Clarkston"]
[null,null,null,"D53","VPOP","NULL","NULL","NULL","NULL","NULL","VP Energy Delivery","D53","Jason Thackston","D53 - Clarkston"]
[null,null,null,"D53","VPUP","NULL","NULL","NULL","NULL","NULL","President & COO Avista Corp","D53","Marian Durkin","D53 - Clarkston"]
[null,null,null,"D54","AVA","NULL","NULL","NULL","NULL","NULL","Total Company","D54"," ","D54 - Corp & Subs Accounting"]
[null,null,null,"D54","CEXO","NULL","NULL","NULL","NULL","NULL","CEO & President","D54"," ","D54 - Corp & Subs Accounting"]
[null,null,null,"D54","D54","NULL","NULL","NULL","NULL","NULL","Corporate & Subsidiary Accounting","D54","Adam Munson","D54 - Corp & Subs Accounting"]
[null,null,null,"D54","SUPP","NULL","NULL","NULL","NULL","NULL","Support","D54","NULL","D54 - Corp & Subs Accounting"]
[null,null,null,"D54","VPCC","NULL","NULL","NULL","NULL","NULL","VP Corporate Controller","D54","Kevin Christie","D54 - Corp & Subs Accounting"]
[null,null,null,"D54","VPFO","NULL","NULL","NULL","NULL","NULL","Sr. VP & CFO","D54","Marian Durkin","D54 - Corp & Subs Accounting"]
[null,null,null,"D55","0055","NULL","NULL","NULL","NULL","NULL","Energy Resource Department","D55","Jason Thackston","D55 - Natural Gas Resources"]
[null,null,null,"D55","AVA","NULL","NULL","NULL","NULL","NULL","Total Company","D55"," ","D55 - Natural Gas Resources"]
[null,null,null,"D55","CEXO","NULL","NULL","NULL","NULL","NULL","CEO & President","D55"," ","D55 - Natural Gas Resources"]
[null,null,null,"D55","D55","NULL","NULL","NULL","NULL","NULL","Natural Gas Resources","D55","Jody Morehouse","D55 - Natural Gas Resources"]
[null,null,null,"D55","SUPP","NULL","NULL","NULL","NULL","NULL","Support","D55","NULL","D55 - Natural Gas Resources"]
[null,null,null,"D55","VPPS","NULL","NULL","NULL","NULL","NULL","Sr. VP Energy Resources","D55","Kelly Norwood","D55 - Natural Gas Resources"]
[null,null,null,"D55","VPUP","NULL","NULL","NULL","NULL","NULL","President & COO Avista Corp","D55","Marian Durkin","D55 - Natural Gas Resources"]
[null,null,null,"D56","AVA","NULL","NULL","NULL","NULL","NULL","Total Company","D56"," ","D56 - Director of Engineering/System Ops"]
[null,null,null,"D56","CEXO","NULL","NULL","NULL","NULL","NULL","CEO & President","D56"," ","D56 - Director of Engineering/System Ops"]
[null,null,null,"D56","D56","NULL","NULL","NULL","NULL","NULL","Director Transmission","D56","Bryan Cox","D56 - Director of Engineering/System Ops"]
[null,null,null,"D56","SUPP","NULL","NULL","NULL","NULL","NULL","Support","D56","NULL","D56 - Director of Engineering/System Ops"]
[null,null,null,"D56","TRAN","NULL","NULL","NULL","NULL","NULL","Transmission","D56","Bill Abrahamse","D56 - Director of Engineering/System Ops"]
[null,null,null,"D56","VPOP","NULL","NULL","NULL","NULL","NULL","VP Energy Delivery","D56","Jason Thackston","D56 - Director of Engineering/System Ops"]
[null,null,null,"D56","VPUP","NULL","NULL","NULL","NULL","NULL","President & COO Avista Corp","D56","Marian Durkin","D56 - Director of Engineering/System Ops"]
[null,null,null,"C11","VPUP","NULL","NULL","NULL","NULL","NULL","President & COO Avista Corp","C11","Marian Durkin","C11 - CC&B Technology"]
[null,null,null,"C19","AVA","NULL","NULL","NULL","NULL","NULL","Total Company","C19"," ","C19 - Security Operations"]
[null,null,null,"C19","C19","NULL","NULL","NULL","NULL","NULL","Security Operations","C19","Clay Storey","C19 - Security Operations"]
[null,null,null,"C19","CEXO","NULL","NULL","NULL","NULL","NULL","CEO & President","C19"," ","C19 - Security Operations"]
[null,null,null,"C19","INFO","NULL","NULL","NULL","NULL","NULL","VP Info & Security","C19","Jim Kensok","C19 - Security Operations"]
[null,null,null,"A81","VPOP","NULL","NULL","NULL","NULL","NULL","VP Energy Delivery","A81","Jason Thackston","A81 - Medford Construction"]
[null,null,null,"A81","VPUP","NULL","NULL","NULL","NULL","NULL","President & COO Avista Corp","A81","Marian Durkin","A81 - Medford Construction"]
[null,null,null,"A82","A82","NULL","NULL","NULL","NULL","NULL","Roseburg","A82","Alan Smith","A82 - Roseburg"]
[null,null,null,"A82","AVA","NULL","NULL","NULL","NULL","NULL","Total Company","A82"," ","A82 - Roseburg"]
[null,null,null,"A82","CEXO","NULL","NULL","NULL","NULL","NULL","CEO & President","A82"," ","A82 - Roseburg"]
[null,null,null,"A82","GAS","NULL","NULL","NULL","NULL","NULL","Gas","A82","NULL","A82 - Roseburg"]
[null,null,null,"A82","NGAS","NULL","NULL","NULL","NULL","NULL","Natural Gas","A82","Mike Faulkenberry","A82 - Roseburg"]
[null,null,null,"A82","NGCO","NULL","NULL","NULL","NULL","NULL","Natural Gas Construction Ops","A82","Mike Faulkenberry","A82 - Roseburg"]
[null,null,null,"A82","VPOP","NULL","NULL","NULL","NULL","NULL","VP Energy Delivery","A82","Jason Thackston","A82 - Roseburg"]
[null,null,null,"A82","VPUP","NULL","NULL","NULL","NULL","NULL","President & COO Avista Corp","A82","Marian Durkin","A82 - Roseburg"]
[null,null,null,"A83","A83","NULL","NULL","NULL","NULL","NULL","Klamath Falls","A83","Jeff Daniels","A83 - Klamath Falls"]
[null,null,null,"A83","AVA","NULL","NULL","NULL","NULL","NULL","Total Company","A83"," ","A83 - Klamath Falls"]
[null,null,null,"A83","CEXO","NULL","NULL","NULL","NULL","NULL","CEO & President","A83"," ","A83 - Klamath Falls"]
[null,null,null,"A83","GAS","NULL","NULL","NULL","NULL","NULL","Gas","A83","NULL","A83 - Klamath Falls"]
[null,null,null,"C52","VPUP","NULL","NULL","NULL","NULL","NULL","President & COO Avista Corp","C52","Dennis Vermillion","C52 - Customer Solutions"]
[null,null,null,"C55","VPUP","NULL","NULL","NULL","NULL","NULL","President & COO Avista Corp","C55","Dennis Vermillion","C55 - Gas Resource Costs"]
[null,null,null,"A83","NGAS","NULL","NULL","NULL","NULL","NULL","Natural Gas","A83","Mike Faulkenberry","A83 - Klamath Falls"]
[null,null,null,"A83","NGCO","NULL","NULL","NULL","NULL","NULL","Natural Gas Construction Ops","A83","Mike Faulkenberry","A83 - Klamath Falls"]
[null,null,null,"A83","VPOP","NULL","NULL","NULL","NULL","NULL","VP Energy Delivery","A83","Jason Thackston","A83 - Klamath Falls"]
[null,null,null,"A83","VPUP","NULL","NULL","NULL","NULL","NULL","President & COO Avista Corp","A83","Marian Durkin","A83 - Klamath Falls"]
[null,null,null,"B02","AVA","NULL","NULL","NULL","NULL","NULL","Total Company","B02"," ","B02 - Benefits"]
[null,null,null,"B02","B02","NULL","NULL","NULL","NULL","NULL","Benefits","B02","Mary Prince","B02 - Benefits"]
[null,null,null,"B02","CEXO","NULL","NULL","NULL","NULL","NULL","CEO & President","B02"," ","B02 - Benefits"]
[null,null,null,"B02","SUPP","NULL","NULL","NULL","NULL","NULL","Support","B02","NULL","B02 - Benefits"]
[null,null,null,"B02","VPHR","NULL","NULL","NULL","NULL","NULL","Sr. VP Human Resources","B02","Heather Rosentrater","B02 - Benefits"]
[null,null,null,"B04","0004","NULL","NULL","NULL","NULL","NULL","Environmental Affairs","B04","Bruce Howard","B04 - Clark Fork License"]
[null,null,null,"B04","AVA","NULL","NULL","NULL","NULL","NULL","Total Company","B04"," ","B04 - Clark Fork License"]
[null,null,null,"B04","B04","NULL","NULL","NULL","NULL","NULL","Clark Fork License","B04","Tim Swant","B04 - Clark Fork License"]
[null,null,null,"B04","CEXO","NULL","NULL","NULL","NULL","NULL","CEO & President","B04"," ","B04 - Clark Fork License"]
[null,null,null,"B04","SUPP","NULL","NULL","NULL","NULL","NULL","Support","B04","NULL","B04 - Clark Fork License"]
[null,null,null,"B04","VPGC","NULL","NULL","NULL","NULL","NULL","Sr. VP & General Counsel","B04","Karen Feltes","B04 - Clark Fork License"]
[null,null,null,"B07","0007","NULL","NULL","NULL","NULL","NULL","Gen Prod Sub Support","B07","Andy Vickers","B07 - Project Delivery"]
[null,null,null,"B07","AVA","NULL","NULL","NULL","NULL","NULL","Total Company","B07"," ","B07 - Project Delivery"]
[null,null,null,"B07","B07","NULL","NULL","NULL","NULL","NULL","Maintenance Management & Construction","B07","Bob Weisbeck","B07 - Project Delivery"]
[null,null,null,"B07","CEXO","NULL","NULL","NULL","NULL","NULL","CEO & President","B07"," ",{"$f":"VLOOKUP(L2948,Table1,2)","v":"B07 - Project Delivery"}]
[null,null,null,"B07","SUPP","NULL","NULL","NULL","NULL","NULL","Support","B07","NULL","B07 - Project Delivery"]
[null,null,null,"B07","VPPS","NULL","NULL","NULL","NULL","NULL","Sr. VP Energy Resources","B07","Kelly Norwood","B07 - Project Delivery"]
[null,null,null,"B07","VPUP","NULL","NULL","NULL","NULL","NULL","President & COO Avista Corp","B07","Marian Durkin","B07 - Project Delivery"]
[null,null,null,"B08","AVA","NULL","NULL","NULL","NULL","NULL","Total Company","B08"," ","B08 - Business Process Improvement"]
[null,null,null,"B08","B08","NULL","NULL","NULL","NULL","NULL","Business Process Improvement","B08","Alicia Gibbs","B08 - Business Process Improvement"]
[null,null,null,"B08","CEXO","NULL","NULL","NULL","NULL","NULL","CEO & President","B08"," ","B08 - Business Process Improvement"]
[null,null,null,"B08","CUST","NULL","NULL","NULL","NULL","NULL","Customer Service & Sales","B08","Mike Broemeling","B08 - Business Process Improvement"]
[null,null,null,"B08","SUPP","NULL","NULL","NULL","NULL","NULL","Support","B08","NULL","B08 - Business Process Improvement"]
[null,null,null,"B08","VPCS","NULL","NULL","NULL","NULL","NULL","VP Customer Solutions","B08","Kevin Christie","B08 - Business Process Improvement"]
[null,null,null,"B08","VPUP","NULL","NULL","NULL","NULL","NULL","President & COO Avista Corp","B08","Marian Durkin","B08 - Business Process Improvement"]
[null,null,null,"B09","AVA","NULL","NULL","NULL","NULL","NULL","Total Company","B09"," ","B09 - Network Operations"]
[null,null,null,"N07","VPUP","NULL","NULL","NULL","NULL","NULL","President & COO Avista Corp","N07","Dennis Vermillion","N07 - Utility Environ Compliance"]
[null,null,null,"B09","B09","NULL","NULL","NULL","NULL","NULL","Network Systems Operations","B09","Michael Busby","B09 - Network Operations"]
[null,null,null,"B09","CEXO","NULL","NULL","NULL","NULL","NULL","CEO & President","B09"," ","B09 - Network Operations"]
[null,null,null,"N53","VPUP","NULL","NULL","NULL","NULL","NULL","President & COO Avista Corp","N53","Dennis Vermillion","N53 - AM Spokane West"]
[null,null,null,"B09","INFO","NULL","NULL","NULL","NULL","NULL","VP Info & Security","B09","Jim Kensok","B09 - Network Operations"]
[null,null,null,"B09","INFR","NULL","NULL","NULL","NULL","NULL","Infrastructure Technology Summary","B09","Jim Corder","B09 - Network Operations"]
[null,null,null,"B09","ITOP","NULL","NULL","NULL","NULL","NULL","IT Operations Rollup","B09","Michael Busby","B09 - Network Operations"]
[null,null,null,"R50","VPUP","NULL","NULL","NULL","NULL","NULL","President & COO Avista Corp","R50","Dennis Vermillion","R50 - Spokane Construction Engineering"]
[null,null,null,"S08","VPUP","NULL","NULL","NULL","NULL","NULL","President & COO Avista Corp","S08","Dennis Vermillion","S08 - Strategic Projects Development"]
[null,null,null,"B09","SUPP","NULL","NULL","NULL","NULL","NULL","Support","B09","NULL","B09 - Network Operations"]
[null,null,null,"B09","VPUP","NULL","NULL","NULL","NULL","NULL","President & COO Avista Corp","B09","Marian Durkin","B09 - Network Operations"]
[null,null,null,"B16","AVA","NULL","NULL","NULL","NULL","NULL","Total Company","B16"," ","B16 - Government Relations"]
[null,null,null,"B16","B16","NULL","NULL","NULL","NULL","NULL","Government Relations","B16","Collins Sprague","B16 - Government Relations"]
[null,null,null,"T53","VPUP","NULL","NULL","NULL","NULL","NULL","President & COO Avista Corp","T53","Dennis Vermillion","T53 - South East Engineer"]
[null,null,null,"B16","CEXO","NULL","NULL","NULL","NULL","NULL","CEO & President","B16"," ","B16 - Government Relations"]
[null,null,null,"B16","SUPP","NULL","NULL","NULL","NULL","NULL","Support","B16","NULL","B16 - Government Relations"]
[null,null,null,"B16","VPUP","NULL","NULL","NULL","NULL","NULL","President & COO Avista Corp","B16","Marian Durkin","B16 - Government Relations"]
[null,null,null,"B50","AVA","NULL","NULL","NULL","NULL","NULL","Total Company","B50"," ","B50 - Spokane Electric"]
[null,null,null,"B50","B50","NULL","NULL","NULL","NULL","NULL","Spokane Electric","B50","Kermit Olson","B50 - Spokane Electric"]
[null,null,null,"B50","CEXO","NULL","NULL","NULL","NULL","NULL","CEO & President","B50"," ","B50 - Spokane Electric"]
[null,null,null,"B50","ELEC","NULL","NULL","NULL","NULL","NULL","Electric","B50","NULL","B50 - Spokane Electric"]
[null,null,null,"B50","VPOP","NULL","NULL","NULL","NULL","NULL","VP Energy Delivery","B50","Jason Thackston","B50 - Spokane Electric"]
[null,null,null,"B50","VPUP","NULL","NULL","NULL","NULL","NULL","President & COO Avista Corp","B50","Marian Durkin","B50 - Spokane Electric"]
[null,null,null,"B50","WEST","NULL","NULL","NULL","NULL","NULL","Director of Operations - West","B50"," ","B50 - Spokane Electric"]
[null,null,null,"B51","AVA","NULL","NULL","NULL","NULL","NULL","Total Company","B51"," ","B51 - Gas Engineering"]
[null,null,null,"B51","B51","NULL","NULL","NULL","NULL","NULL","Gas Engineering","B51","Jeff Webb","B51 - Gas Engineering"]
[null,null,null,"B51","CEXO","NULL","NULL","NULL","NULL","NULL","CEO & President","B51"," ","B51 - Gas Engineering"]
[null,null,null,"B51","GAS","NULL","NULL","NULL","NULL","NULL","Gas","B51","NULL","B51 - Gas Engineering"]
[null,null,null,"B51","GEGR","NULL","NULL","NULL","NULL","NULL","Gas Engineering","B51","Mike Faulkenberry","B51 - Gas Engineering"]
[null,null,null,"B51","NGAS","NULL","NULL","NULL","NULL","NULL","Natural Gas","B51","Mike Faulkenberry","B51 - Gas Engineering"]
[null,null,null,"B51","VPOP","NULL","NULL","NULL","NULL","NULL","VP Energy Delivery","B51","Jason Thackston","B51 - Gas Engineering"]
[null,null,null,"B51","VPUP","NULL","NULL","NULL","NULL","NULL","President & COO Avista Corp","B51","Marian Durkin","B51 - Gas Engineering"]
[null,null,null,"B52","AVA","NULL","NULL","NULL","NULL","NULL","Total Company","B52"," ","B52 - Gas Comp Cathodic"]
[null,null,null,"B52","B52","NULL","NULL","NULL","NULL","NULL","Gas Comp Cathodic","B52","Jeff Webb","B52 - Gas Comp Cathodic"]
[null,null,null,"B52","CEXO","NULL","NULL","NULL","NULL","NULL","CEO & President","B52"," ","B52 - Gas Comp Cathodic"]
[null,null,null,"B52","GAS","NULL","NULL","NULL","NULL","NULL","Gas","B52","NULL","B52 - Gas Comp Cathodic"]
[null,null,null,"B52","GEGR","NULL","NULL","NULL","NULL","NULL","Gas Engineering","B52","Mike Faulkenberry","B52 - Gas Comp Cathodic"]
[null,null,null,"B52","NGAS","NULL","NULL","NULL","NULL","NULL","Natural Gas","B52","Mike Faulkenberry","B52 - Gas Comp Cathodic"]
[null,null,null,"B52","VPOP","NULL","NULL","NULL","NULL","NULL","VP Energy Delivery","B52","Jason Thackston","B52 - Gas Comp Cathodic"]
[null,null,null,"B52","VPUP","NULL","NULL","NULL","NULL","NULL","President & COO Avista Corp","B52","Marian Durkin","B52 - Gas Comp Cathodic"]
[null,null,null,"B53","AVA","NULL","NULL","NULL","NULL","NULL","Total Company","B53"," ","B53 - Pullman"]
[null,null,null,"B53","B53","NULL","NULL","NULL","NULL","NULL","Pullman","B53","Jenny Blaylock","B53 - Pullman"]
[null,null,null,"B53","CEXO","NULL","NULL","NULL","NULL","NULL","CEO & President","B53"," ","B53 - Pullman"]
[null,null,null,"B53","EAST","NULL","NULL","NULL","NULL","NULL","Director Operations - East","B53","Greg Gfeller","B53 - Pullman"]
[null,null,null,"B53","ELEC","NULL","NULL","NULL","NULL","NULL","Electric","B53","NULL","B53 - Pullman"]
[null,null,null,"B53","VPOP","NULL","NULL","NULL","NULL","NULL","VP Energy Delivery","B53","Jason Thackston","B53 - Pullman"]
[null,null,null,"B53","VPUP","NULL","NULL","NULL","NULL","NULL","President & COO Avista Corp","B53","Marian Durkin","B53 - Pullman"]
[null,null,null,"B54","AVA","NULL","NULL","NULL","NULL","NULL","Total Company","B54"," ","B54 - Gas Compliance"]
[null,null,null,"B54","B54","NULL","NULL","NULL","NULL","NULL","Gas Compliance","B54","Karen Cash","B54 - Gas Compliance"]
[null,null,null,"B54","CEXO","NULL","NULL","NULL","NULL","NULL","CEO & President","B54"," ","B54 - Gas Compliance"]
[null,null,null,"B54","GAS","NULL","NULL","NULL","NULL","NULL","Gas","B54","NULL","B54 - Gas Compliance"]
[null,null,null,"B54","GEGR","NULL","NULL","NULL","NULL","NULL","Gas Engineering","B54","Mike Faulkenberry","B54 - Gas Compliance"]
[null,null,null,"B54","NGAS","NULL","NULL","NULL","NULL","NULL","Natural Gas","B54","Mike Faulkenberry",{"$f":"VLOOKUP(L3012,Table1,2)","v":"B54 - Gas Compliance"}]
[null,null,null,"B54","VPOP","NULL","NULL","NULL","NULL","NULL","VP Energy Delivery","B54","Jason Thackston","B54 - Gas Compliance"]
[null,null,null,"B54","VPUP","NULL","NULL","NULL","NULL","NULL","President & COO Avista Corp","B54","Marian Durkin","B54 - Gas Compliance"]
[null,null,null,"B56","AVA","NULL","NULL","NULL","NULL","NULL","Total Company","B56"," ","B56 - Misc Transmission Expense"]
[null,null,null,"B56","B56","NULL","NULL","NULL","NULL","NULL","Misc Transmission Expense","B56","Jeff Schlect","B56 - Misc Transmission Expense"]
[null,null,null,"B56","CEXO","NULL","NULL","NULL","NULL","NULL","CEO & President","B56"," ","B56 - Misc Transmission Expense"]
[null,null,null,"B56","SUPP","NULL","NULL","NULL","NULL","NULL","Support","B56","NULL","B56 - Misc Transmission Expense"]
[null,null,null,"B56","TRAN","NULL","NULL","NULL","NULL","NULL","Transmission","B56","Bill Abrahamse","B56 - Misc Transmission Expense"]
[null,null,null,"B56","VPOP","NULL","NULL","NULL","NULL","NULL","VP Energy Delivery","B56","Jason Thackston","B56 - Misc Transmission Expense"]
[null,null,null,"B56","VPUP","NULL","NULL","NULL","NULL","NULL","President & COO Avista Corp","B56","Marian Durkin","B56 - Misc Transmission Expense"]
[null,null,null,"C02","AVA","NULL","NULL","NULL","NULL","NULL","Total Company","C02"," ","C02 - Employee Engagement"]
[null,null,null,"C02","C02","NULL","NULL","NULL","NULL","NULL","Internal Communications","C02","Karen Feltes","C02 - Employee Engagement"]
[null,null,null,"C02","CEXO","NULL","NULL","NULL","NULL","NULL","CEO & President","C02"," ","C02 - Employee Engagement"]
[null,null,null,"C02","SUPP","NULL","NULL","NULL","NULL","NULL","Support","C02","NULL","C02 - Employee Engagement"]
[null,null,null,"C02","VPHR","NULL","NULL","NULL","NULL","NULL","Sr. VP Human Resources","C02","Heather Rosentrater","C02 - Employee Engagement"]
[null,null,null,"C04","0004","NULL","NULL","NULL","NULL","NULL","Environmental Affairs","C04","Bruce Howard","C04 - Spokane River License"]
[null,null,null,"C04","AVA","NULL","NULL","NULL","NULL","NULL","Total Company","C04"," ","C04 - Spokane River License"]
[null,null,null,"C04","C04","NULL","NULL","NULL","NULL","NULL","Spokane River License","C04","Speed (Elvin) Fitzhugh","C04 - Spokane River License"]
[null,null,null,"C04","CEXO","NULL","NULL","NULL","NULL","NULL","CEO & President","C04"," ","C04 - Spokane River License"]
[null,null,null,"C04","SUPP","NULL","NULL","NULL","NULL","NULL","Support","C04","NULL","C04 - Spokane River License"]
[null,null,null,"C04","VPGC","NULL","NULL","NULL","NULL","NULL","Sr. VP & General Counsel","C04","Karen Feltes","C04 - Spokane River License"]
[null,null,null,"C06","AVA","NULL","NULL","NULL","NULL","NULL","Total Company","C06"," ","C06 - Joint Project - CS2"]
[null,null,null,"C06","C06","NULL","NULL","NULL","NULL","NULL","Joint Project - CS2","C06","Tom Dempsey","C06 - Joint Project - CS2"]
[null,null,null,"C06","CEXO","NULL","NULL","NULL","NULL","NULL","CEO & President","C06"," ","C06 - Joint Project - CS2"]
[null,null,null,"C06","RSRC","NULL","NULL","NULL","NULL","NULL","Joint Resources","C06","David Meyer","C06 - Joint Project - CS2"]
[null,null,null,"C06","SUPP","NULL","NULL","NULL","NULL","NULL","Support","C06","NULL","C06 - Joint Project - CS2"]
[null,null,null,"C06","VPPS","NULL","NULL","NULL","NULL","NULL","Sr. VP Energy Resources","C06","Kelly Norwood","C06 - Joint Project - CS2"]
[null,null,null,"C06","VPUP","NULL","NULL","NULL","NULL","NULL","President & COO Avista Corp","C06","Marian Durkin","C06 - Joint Project - CS2"]
[null,null,null,"C07","0007","NULL","NULL","NULL","NULL","NULL","Gen Prod Sub Support","C07","Andy Vickers","C07 - Spokane River Hydro"]
[null,null,null,"C07","AVA","NULL","NULL","NULL","NULL","NULL","Total Company","C07"," ","C07 - Spokane River Hydro"]
[null,null,null,"C07","C07","NULL","NULL","NULL","NULL","NULL","Spokane River Hydro","C07"," ","C07 - Spokane River Hydro"]
[null,null,null,"C07","CEXO","NULL","NULL","NULL","NULL","NULL","CEO & President","C07"," ","C07 - Spokane River Hydro"]
[null,null,null,"C07","SUPP","NULL","NULL","NULL","NULL","NULL","Support","C07","NULL","C07 - Spokane River Hydro"]
[null,null,null,"C07","VPPS","NULL","NULL","NULL","NULL","NULL","Sr. VP Energy Resources","C07","Kelly Norwood","C07 - Spokane River Hydro"]
[null,null,null,"C07","VPUP","NULL","NULL","NULL","NULL","NULL","President & COO Avista Corp","C07","Marian Durkin","C07 - Spokane River Hydro"]
[null,null,null,"C08","AVA","NULL","NULL","NULL","NULL","NULL","Total Company","C08"," ","C08 - Technical Services - GIS"]
[null,null,null,"C08","C08","NULL","NULL","NULL","NULL","NULL","Engineering Technical Services","C08","Michael Littrel","C08 - Technical Services - GIS"]
[null,null,null,"C08","CEXO","NULL","NULL","NULL","NULL","NULL","CEO & President","C08"," ","C08 - Technical Services - GIS"]
[null,null,null,"A57","VPFO","NULL","NULL","NULL","NULL","NULL","Sr. VP & CFO","A57","Marian Durkin","A57 - Ed Utility Accounting"]
[null,null,null,"A81","A81","NULL","NULL","NULL","NULL","NULL","Medford Construction","A81","Brian Taylor","A81 - Medford Construction"]
[null,null,null,"A81","AVA","NULL","NULL","NULL","NULL","NULL","Total Company","A81"," ","A81 - Medford Construction"]
[null,null,null,"A81","CEXO","NULL","NULL","NULL","NULL","NULL","CEO & President","A81"," ","A81 - Medford Construction"]
[null,null,null,"A81","GAS","NULL","NULL","NULL","NULL","NULL","Gas","A81","NULL","A81 - Medford Construction"]
[null,null,null,"A81","NGAS","NULL","NULL","NULL","NULL","NULL","Natural Gas","A81","Mike Faulkenberry","A81 - Medford Construction"]
[null,null,null,"A81","NGCO","NULL","NULL","NULL","NULL","NULL","Natural Gas Construction Ops","A81","Mike Faulkenberry","A81 - Medford Construction"]
[null,null,null,"C08","ENGR","NULL","NULL","NULL","NULL","NULL","Electric Engineering","C08","David Howell","C08 - Technical Services - GIS"]
[null,null,null,"C08","SUPP","NULL","NULL","NULL","NULL","NULL","Support","C08","NULL","C08 - Technical Services - GIS"]
[null,null,null,"C08","VPOP","NULL","NULL","NULL","NULL","NULL","VP Energy Delivery","C08","Jason Thackston","C08 - Technical Services - GIS"]
[null,null,null,"C08","VPUP","NULL","NULL","NULL","NULL","NULL","President & COO Avista Corp","C08","Marian Durkin","C08 - Technical Services - GIS"]
[null,null,null,"C09","AVA","NULL","NULL","NULL","NULL","NULL","Total Company","C09"," ","C09 - Security Systems"]
[null,null,null,"C09","C09","NULL","NULL","NULL","NULL","NULL","Security Engineering","C09","Clay Storey","C09 - Security Systems"]
[null,null,null,"C09","CEXO","NULL","NULL","NULL","NULL","NULL","CEO & President","C09"," ","C09 - Security Systems"]
[null,null,null,"C09","INFO","NULL","NULL","NULL","NULL","NULL","VP Info & Security","C09","Jim Kensok","C09 - Security Systems"]
[null,null,null,"C09","INFR","NULL","NULL","NULL","NULL","NULL","Infrastructure Technology Summary","C09","Jim Corder","C09 - Security Systems"]
[null,null,null,"C09","SEO","NULL","NULL","NULL","NULL","NULL","Security Rollup","C09","Anna Scarlett","C09 - Security Systems"]
[null,null,null,"C09","SUPP","NULL","NULL","NULL","NULL","NULL","Support","C09","NULL","C09 - Security Systems"]
[null,null,null,"C09","VPUP","NULL","NULL","NULL","NULL","NULL","President & COO Avista Corp","C09","Marian Durkin","C09 - Security Systems"]
[null,null,null,"C11","AVA","NULL","NULL","NULL","NULL","NULL","Total Company","C11"," ","C11 - CC&B Technology"]
[null,null,null,"C11","C11","NULL","NULL","NULL","NULL","NULL","CC&B Technology","C11","Mary Silkworth","C11 - CC&B Technology"]
[null,null,null,"C11","CEXO","NULL","NULL","NULL","NULL","NULL","CEO & President","C11"," ","C11 - CC&B Technology"]
[null,null,null,"C11","CUST","NULL","NULL","NULL","NULL","NULL","Customer Service & Sales","C11","Mike Broemeling","C11 - CC&B Technology"]
[null,null,null,"C11","SUPP","NULL","NULL","NULL","NULL","NULL","Support","C11","NULL","C11 - CC&B Technology"]
[null,null,null,"C11","VPCS","NULL","NULL","NULL","NULL","NULL","VP Customer Solutions","C11","Kevin Christie","C11 - CC&B Technology"]
[null,null,null,"E02","VPHR","NULL","NULL","NULL","NULL","NULL","Sr. VP Human Resources","E02","Heather Rosentrater","E02 - Corp Org Development"]
[null,null,null,"E07","0007","NULL","NULL","NULL","NULL","NULL","Gen Prod Sub Support","E07","Andy Vickers",{"$f":"VLOOKUP(L3076,Table1,2)","v":"E07 - Generation Engineers"}]
[null,null,null,"E07","AVA","NULL","NULL","NULL","NULL","NULL","Total Company","E07"," ","E07 - Generation Engineers"]
[null,null,null,"E07","CEXO","NULL","NULL","NULL","NULL","NULL","CEO & President","E07"," ","E07 - Generation Engineers"]
[null,null,null,"E07","E07","NULL","NULL","NULL","NULL","NULL","Generation Engineers","E07","Andy Vickers","E07 - Generation Engineers"]
[null,null,null,"E07","SUPP","NULL","NULL","NULL","NULL","NULL","Support","E07","NULL","E07 - Generation Engineers"]
[null,null,null,"E07","VPPS","NULL","NULL","NULL","NULL","NULL","Sr. VP Energy Resources","E07","Kelly Norwood","E07 - Generation Engineers"]
[null,null,null,"E07","VPUP","NULL","NULL","NULL","NULL","NULL","President & COO Avista Corp","E07","Marian Durkin","E07 - Generation Engineers"]
[null,null,null,"E09","AVA","NULL","NULL","NULL","NULL","NULL","Total Company","E09"," ","E09 - Distributed Systems"]
[null,null,null,"E09","CEXO","NULL","NULL","NULL","NULL","NULL","CEO & President","E09"," ","E09 - Distributed Systems"]
[null,null,null,"E09","E09","NULL","NULL","NULL","NULL","NULL","Distributed Systems Engineering","E09","Walter Roys","E09 - Distributed Systems"]
[null,null,null,"E09","INFO","NULL","NULL","NULL","NULL","NULL","VP Info & Security","E09","Jim Kensok","E09 - Distributed Systems"]
[null,null,null,"E09","INFR","NULL","NULL","NULL","NULL","NULL","Infrastructure Technology Summary","E09","Jim Corder","E09 - Distributed Systems"]
[null,null,null,"E09","ITSE","NULL","NULL","NULL","NULL","NULL","System Engineering Rollup","E09","Walter Roys","E09 - Distributed Systems"]
[null,null,null,"E09","SUPP","NULL","NULL","NULL","NULL","NULL","Support","E09","NULL","E09 - Distributed Systems"]
[null,null,null,"E09","VPUP","NULL","NULL","NULL","NULL","NULL","President & COO Avista Corp","E09","Marian Durkin","E09 - Distributed Systems"]
[null,null,null,"E14","0004","NULL","NULL","NULL","NULL","NULL","Environmental Affairs","E14","Bruce Howard","E14 - Environmental Compliance"]
[null,null,null,"E14","AVA","NULL","NULL","NULL","NULL","NULL","Total Company","E14"," ","E14 - Environmental Compliance"]
[null,null,null,"E14","CEXO","NULL","NULL","NULL","NULL","NULL","CEO & President","E14"," ","E14 - Environmental Compliance"]
[null,null,null,"E14","E14","NULL","NULL","NULL","NULL","NULL","Environmental Compliance","E14","Darrell Soyars","E14 - Environmental Compliance"]
[null,null,null,"E14","SUPP","NULL","NULL","NULL","NULL","NULL","Support","E14","NULL","E14 - Environmental Compliance"]
[null,null,null,"E14","VPGC","NULL","NULL","NULL","NULL","NULL","Sr. VP & General Counsel","E14","Karen Feltes","E14 - Environmental Compliance"]
[null,null,null,"E19","AVA","NULL","NULL","NULL","NULL","NULL","Total Company","E19"," ","E19 - Dist Systems Ops"]
[null,null,null,"E19","CEXO","NULL","NULL","NULL","NULL","NULL","CEO & President","E19"," ","E19 - Dist Systems Ops"]
[null,null,null,"E19","E19","NULL","NULL","NULL","NULL","NULL","Distributed Systems Operations","E19","Michael Busby","E19 - Dist Systems Ops"]
[null,null,null,"E19","INFO","NULL","NULL","NULL","NULL","NULL","VP Info & Security","E19","Jim Kensok","E19 - Dist Systems Ops"]
[null,null,null,"E19","INFR","NULL","NULL","NULL","NULL","NULL","Infrastructure Technology Summary","E19","Jim Corder","E19 - Dist Systems Ops"]
[null,null,null,"E19","ITOP","NULL","NULL","NULL","NULL","NULL","IT Operations Rollup","E19","Michael Busby","E19 - Dist Systems Ops"]
[null,null,null,"E19","SUPP","NULL","NULL","NULL","NULL","NULL","Support","E19","NULL","E19 - Dist Systems Ops"]
[null,null,null,"E19","VPUP","NULL","NULL","NULL","NULL","NULL","President & COO Avista Corp","E19","Marian Durkin","E19 - Dist Systems Ops"]
[null,null,null,"E29","AVA","NULL","NULL","NULL","NULL","NULL","Total Company","E29"," ","E29 - Dist Syst Prod & Serv"]
[null,null,null,"E29","CEXO","NULL","NULL","NULL","NULL","NULL","CEO & President","E29"," ","E29 - Dist Syst Prod & Serv"]
[null,null,null,"E29","E29","NULL","NULL","NULL","NULL","NULL","Distributed Systems Products & Services","E29","Walter Roys","E29 - Dist Syst Prod & Serv"]
[null,null,null,"E29","INFO","NULL","NULL","NULL","NULL","NULL","VP Info & Security","E29","Jim Kensok","E29 - Dist Syst Prod & Serv"]
[null,null,null,"E29","INFR","NULL","NULL","NULL","NULL","NULL","Infrastructure Technology Summary","E29","Jim Corder","E29 - Dist Syst Prod & Serv"]
[null,null,null,"E29","ITSE","NULL","NULL","NULL","NULL","NULL","System Engineering Rollup","E29","Walter Roys","E29 - Dist Syst Prod & Serv"]
[null,null,null,"E29","SUPP","NULL","NULL","NULL","NULL","NULL","Support","E29","NULL","E29 - Dist Syst Prod & Serv"]
[null,null,null,"E29","VPUP","NULL","NULL","NULL","NULL","NULL","President & COO Avista Corp","E29","Marian Durkin","E29 - Dist Syst Prod & Serv"]
[null,null,null,"Z86","VPOP","OREG","Z86","NULL","NULL","NULL","VP Operations","Z86","NULL","T54 - Rev and Fin Systems"]
[null,null,null,"E50","AVA","NULL","NULL","NULL","NULL","NULL","Total Company","E50"," ","E50 - Contact Ctr-Spokane"]
[null,null,null,"E50","CEXO","NULL","NULL","NULL","NULL","NULL","CEO & President","E50"," ","E50 - Contact Ctr-Spokane"]
[null,null,null,"E50","CUST","NULL","NULL","NULL","NULL","NULL","Customer Service & Sales","E50","Mike Broemeling","E50 - Contact Ctr-Spokane"]
[null,null,null,"C52","OPER","VPOP","CUST","Depart","C52","NULL","Customer Service","C52","NULL","C52 - Customer Solutions"]
[null,null,null,"E50","E50","NULL","NULL","NULL","NULL","NULL","Con Ctr - Hiring-L and D","E50","Carol Hicks","E50 - Contact Ctr-Spokane"]
[null,null,null,"E50","SUPP","NULL","NULL","NULL","NULL","NULL","Support","E50","NULL","E50 - Contact Ctr-Spokane"]
[null,null,null,"E50","VPCS","NULL","NULL","NULL","NULL","NULL","VP Customer Solutions","E50","Kevin Christie","E50 - Contact Ctr-Spokane"]
[null,null,null,"E50","VPUP","NULL","NULL","NULL","NULL","NULL","President & COO Avista Corp","E50","Marian Durkin","E50 - Contact Ctr-Spokane"]
[null,null,null,"E51","AMSP","NULL","NULL","NULL","NULL","NULL","Planning & Asset Management","E51","Scott Waples","E51 - Asset Management"]
[null,null,null,"E51","AVA","NULL","NULL","NULL","NULL","NULL","Total Company","E51"," ","E51 - Asset Management"]
[null,null,null,"F14","OPER","VPOP","CUST","Depart","F14","NULL","Customer Service","F14","NULL","F14 - External Projects"]
[null,null,null,"E51","CEXO","NULL","NULL","NULL","NULL","NULL","CEO & President","E51"," ","E51 - Asset Management"]
[null,null,null,"E51","E51","NULL","NULL","NULL","NULL","NULL","Asset Management","E51","Rodney Pickett","E51 - Asset Management"]
[null,null,null,"H03","OPER","VPOP","CUST","Depart","H03","NULL","Customer Service","H03","NULL","H03 - Facility Lease Management"]
[null,null,null,"E51","SUPP","NULL","NULL","NULL","NULL","NULL","Support","E51","NULL","E51 - Asset Management"]
[null,null,null,"E51","VPOP","NULL","NULL","NULL","NULL","NULL","VP Energy Delivery","E51","Jason Thackston","E51 - Asset Management"]
[null,null,null,"E51","VPUP","NULL","NULL","NULL","NULL","NULL","President & COO Avista Corp","E51","Marian Durkin","E51 - Asset Management"]
[null,null,null,"E52","AVA","NULL","NULL","NULL","NULL","NULL","Total Company","E52"," ","E52 - Oregon DSM"]
[null,null,null,"E52","CEXO","NULL","NULL","NULL","NULL","NULL","CEO & President","E52"," ","E52 - Oregon DSM"]
[null,null,null,"E52","E52","NULL","NULL","NULL","NULL","NULL","OR DSM","E52","Kerry Shroy","E52 - Oregon DSM"]
[null,null,null,"E52","ESOL","NULL","NULL","NULL","NULL","NULL","Energy Solutions","E52","Pat Lynch","E52 - Oregon DSM"]
[null,null,null,"E52","SUPP","NULL","NULL","NULL","NULL","NULL","Support","E52","NULL","E52 - Oregon DSM"]
[null,null,null,"E52","VPCS","NULL","NULL","NULL","NULL","NULL","VP Customer Solutions","E52","Kevin Christie","E52 - Oregon DSM"]
[null,null,null,"E52","VPUP","NULL","NULL","NULL","NULL","NULL","President & COO Avista Corp","E52","Marian Durkin","E52 - Oregon DSM"]
[null,null,null,"E53","AVA","NULL","NULL","NULL","NULL","NULL","Total Company","E53"," ","E53 - Contact Ctr-Lewiston"]
[null,null,null,"E53","CEXO","NULL","NULL","NULL","NULL","NULL","CEO & President","E53"," ","E53 - Contact Ctr-Lewiston"]
[null,null,null,"E53","CUST","NULL","NULL","NULL","NULL","NULL","Customer Service & Sales","E53","Mike Broemeling",{"$f":"VLOOKUP(L3140,Table1,2)","v":"E53 - Contact Ctr-Lewiston"}]
[null,null,null,"E53","E53","NULL","NULL","NULL","NULL","NULL","Con Ctr - Lewiston","E53","Kimberley Casey","E53 - Contact Ctr-Lewiston"]
[null,null,null,"E53","SUPP","NULL","NULL","NULL","NULL","NULL","Support","E53","NULL","E53 - Contact Ctr-Lewiston"]
[null,null,null,"E53","VPCS","NULL","NULL","NULL","NULL","NULL","VP Customer Solutions","E53","Kevin Christie","E53 - Contact Ctr-Lewiston"]
[null,null,null,"E53","VPUP","NULL","NULL","NULL","NULL","NULL","President & COO Avista Corp","E53","Marian Durkin","E53 - Contact Ctr-Lewiston"]
[null,null,null,"Z86","OPER","VPOP","NGAS","Depart","Z86","NULL","Natural Gas Operations","Z86","NULL","T54 - Rev and Fin Systems"]
[null,null,null,"E55","0055","NULL","NULL","NULL","NULL","NULL","Energy Resource Department","E55","Jason Thackston","E55 - Power Supply"]
[null,null,null,"E55","AVA","NULL","NULL","NULL","NULL","NULL","Total Company","E55"," ","E55 - Power Supply"]
[null,null,null,"E55","CEXO","NULL","NULL","NULL","NULL","NULL","CEO & President","E55"," ","E55 - Power Supply"]
[null,null,null,"A80","VPOP","NULL","NULL","NULL","NULL","NULL","VP Operations","A80","NULL","A80 - Director of ORCA"]
[null,null,null,"E55","E55","NULL","NULL","NULL","NULL","NULL","Power Supply","E55","Scott Kinney","E55 - Power Supply"]
[null,null,null,"D83","VPOP","NULL","NULL","NULL","NULL","NULL","VP Operations","D83","NULL","D83 - Goldendale Construction"]
[null,null,null,"E55","SUPP","NULL","NULL","NULL","NULL","NULL","Support","E55","NULL","E55 - Power Supply"]
[null,null,null,"E55","VPPS","NULL","NULL","NULL","NULL","NULL","Sr. VP Energy Resources","E55","Kelly Norwood","E55 - Power Supply"]
[null,null,null,"E55","VPUP","NULL","NULL","NULL","NULL","NULL","President & COO Avista Corp","E55","Marian Durkin","E55 - Power Supply"]
[null,null,null,"E56","AVA","NULL","NULL","NULL","NULL","NULL","Total Company","E56"," ","E56 - Transmission Services"]
[null,null,null,"E56","CEXO","NULL","NULL","NULL","NULL","NULL","CEO & President","E56"," ","E56 - Transmission Services"]
[null,null,null,"E56","E56","NULL","NULL","NULL","NULL","NULL","Transmission Services","E56","Jeff Schlect","E56 - Transmission Services"]
[null,null,null,"E56","SUPP","NULL","NULL","NULL","NULL","NULL","Support","E56","NULL","E56 - Transmission Services"]
[null,null,null,"E56","TRAN","NULL","NULL","NULL","NULL","NULL","Transmission","E56","Bill Abrahamse","E56 - Transmission Services"]
[null,null,null,"E56","VPOP","NULL","NULL","NULL","NULL","NULL","VP Energy Delivery","E56","Jason Thackston","E56 - Transmission Services"]
[null,null,null,"E56","VPUP","NULL","NULL","NULL","NULL","NULL","President & COO Avista Corp","E56","Marian Durkin","E56 - Transmission Services"]
[null,null,null,"F02","AVA","NULL","NULL","NULL","NULL","NULL","Total Company","F02"," ","F02 - HR Consulting and Analy"]
[null,null,null,"F02","CEXO","NULL","NULL","NULL","NULL","NULL","CEO & President","F02"," ","F02 - HR Consulting and Analy"]
[null,null,null,"F02","F02","NULL","NULL","NULL","NULL","NULL","HR Analytics and Compliance","F02","Dawnell Ellenson","F02 - HR Consulting and Analy"]
[null,null,null,"F02","SUPP","NULL","NULL","NULL","NULL","NULL","Support","F02","NULL","F02 - HR Consulting and Analy"]
[null,null,null,"F02","VPHR","NULL","NULL","NULL","NULL","NULL","Sr. VP Human Resources","F02","Heather Rosentrater","F02 - HR Consulting and Analy"]
[null,null,null,"F08","0007","NULL","NULL","NULL","NULL","NULL","Gen Prod Sub Support","F08","Andy Vickers","F08 - Electric Shop"]
[null,null,null,"F08","AVA","NULL","NULL","NULL","NULL","NULL","Total Company","F08"," ","F08 - Electric Shop"]
[null,null,null,"F08","CEXO","NULL","NULL","NULL","NULL","NULL","CEO & President","F08"," ","F08 - Electric Shop"]
[null,null,null,"F08","F08","NULL","NULL","NULL","NULL","NULL","Electric Shop","F08","Bob Weisbeck","F08 - Electric Shop"]
[null,null,null,"F08","SUPP","NULL","NULL","NULL","NULL","NULL","Support","F08","NULL","F08 - Electric Shop"]
[null,null,null,"F08","VPPS","NULL","NULL","NULL","NULL","NULL","Sr. VP Energy Resources","F08","Kelly Norwood","F08 - Electric Shop"]
[null,null,null,"F08","VPUP","NULL","NULL","NULL","NULL","NULL","President & COO Avista Corp","F08","Marian Durkin","F08 - Electric Shop"]
[null,null,null,"F19","APPS","NULL","NULL","NULL","NULL","NULL","Applications Summary","F19","Hossein Nikdel","F19 - Back Office Tech Ops"]
[null,null,null,"F19","AVA","NULL","NULL","NULL","NULL","NULL","Total Company","F19"," ","F19 - Back Office Tech Ops"]
[null,null,null,"F19","CEXO","NULL","NULL","NULL","NULL","NULL","CEO & President","F19"," ","F19 - Back Office Tech Ops"]
[null,null,null,"F19","F19","NULL","NULL","NULL","NULL","NULL","Back Office Technology Operations","F19","Jason Pitts","F19 - Back Office Tech Ops"]
[null,null,null,"F19","INFO","NULL","NULL","NULL","NULL","NULL","VP Info & Security","F19","Jim Kensok","F19 - Back Office Tech Ops"]
[null,null,null,"F19","ISOP","NULL","NULL","NULL","NULL","NULL","IS Operations Rollup","F19","Hossein Nikdel","F19 - Back Office Tech Ops"]
[null,null,null,"F19","SUPP","NULL","NULL","NULL","NULL","NULL","Support","F19","NULL","F19 - Back Office Tech Ops"]
[null,null,null,"F19","VPUP","NULL","NULL","NULL","NULL","NULL","President & COO Avista Corp","F19","Marian Durkin","F19 - Back Office Tech Ops"]
[null,null,null,"F39","APPS","NULL","NULL","NULL","NULL","NULL","Applications Summary","F39","Hossein Nikdel","F39 - Oracle Fin Sevices Dev"]
[null,null,null,"F39","AVA","NULL","NULL","NULL","NULL","NULL","Total Company","F39"," ","F39 - Oracle Fin Sevices Dev"]
[null,null,null,"F39","CEXO","NULL","NULL","NULL","NULL","NULL","CEO & President","F39"," ","F39 - Oracle Fin Sevices Dev"]
[null,null,null,"F39","F39","NULL","NULL","NULL","NULL","NULL","Oracle Financial Services Development","F39","Graham Smith","F39 - Oracle Fin Sevices Dev"]
[null,null,null,"F39","INFO","NULL","NULL","NULL","NULL","NULL","VP Info & Security","F39","Jim Kensok","F39 - Oracle Fin Sevices Dev"]
[null,null,null,"F39","ISDV","NULL","NULL","NULL","NULL","NULL","IS Development Rollup","F39","Hossein Nikdel","F39 - Oracle Fin Sevices Dev"]
[null,null,null,"F39","SUPP","NULL","NULL","NULL","NULL","NULL","Support","F39","NULL","F39 - Oracle Fin Sevices Dev"]
[null,null,null,"F39","VPUP","NULL","NULL","NULL","NULL","NULL","President & COO Avista Corp","F39","Marian Durkin","F39 - Oracle Fin Sevices Dev"]
[null,null,null,"F50","AVA","NULL","NULL","NULL","NULL","NULL","Total Company","F50"," ","F50 - Contact Ctr-Credit & Collections"]
[null,null,null,"F50","CEXO","NULL","NULL","NULL","NULL","NULL","CEO & President","F50"," ","F50 - Contact Ctr-Credit & Collections"]
[null,null,null,"F50","CUST","NULL","NULL","NULL","NULL","NULL","Customer Service & Sales","F50","Mike Broemeling","F50 - Contact Ctr-Credit & Collections"]
[null,null,null,"F50","F50","NULL","NULL","NULL","NULL","NULL","Con Ctr Credit-Collection","F50","Jennifer Esch","F50 - Contact Ctr-Credit & Collections"]
[null,null,null,"F50","SUPP","NULL","NULL","NULL","NULL","NULL","Support","F50","NULL","F50 - Contact Ctr-Credit & Collections"]
[null,null,null,"F50","VPCS","NULL","NULL","NULL","NULL","NULL","VP Customer Solutions","F50","Kevin Christie","F50 - Contact Ctr-Credit & Collections"]
[null,null,null,"F50","VPUP","NULL","NULL","NULL","NULL","NULL","President & COO Avista Corp","F50","Marian Durkin","F50 - Contact Ctr-Credit & Collections"]
[null,null,null,"F52","AVA","NULL","NULL","NULL","NULL","NULL","Total Company","F52"," ","F52 - Market Services"]
[null,null,null,"F52","CEXO","NULL","NULL","NULL","NULL","NULL","CEO & President","F52"," ","F52 - Market Services"]
[null,null,null,"F52","CUST","NULL","NULL","NULL","NULL","NULL","Customer Service & Sales","F52","Mike Broemeling","F52 - Market Services"]
[null,null,null,"F52","F52","NULL","NULL","NULL","NULL","NULL","Account Execs","F52","Pat Lynch","F52 - Market Services"]
[null,null,null,"F52","SUPP","NULL","NULL","NULL","NULL","NULL","Support","F52","NULL","F52 - Market Services"]
[null,null,null,"F52","VPCS","NULL","NULL","NULL","NULL","NULL","VP Customer Solutions","F52","Kevin Christie","F52 - Market Services"]
[null,null,null,"F52","VPUP","NULL","NULL","NULL","NULL","NULL","President & COO Avista Corp","F52","Marian Durkin","F52 - Market Services"]
[null,null,null,"F53","AVA","NULL","NULL","NULL","NULL","NULL","Total Company","F53"," ",{"$f":"VLOOKUP(L3204,Table1,2)","v":"F53 - AM Lewis/Clark"}]
[null,null,null,"F53","CEXO","NULL","NULL","NULL","NULL","NULL","CEO & President","F53"," ","F53 - AM Lewis/Clark"]
[null,null,null,"F53","ESOL","NULL","NULL","NULL","NULL","NULL","Energy Solutions","F53","Pat Lynch","F53 - AM Lewis/Clark"]
[null,null,null,"F53","F53","NULL","NULL","NULL","NULL","NULL","Reg Bus Mgr - Lewis Clark","F53","Mike Tatko","F53 - AM Lewis/Clark"]
[null,null,null,"F53","SUPP","NULL","NULL","NULL","NULL","NULL","Support","F53","NULL","F53 - AM Lewis/Clark"]
[null,null,null,"F53","VPCS","NULL","NULL","NULL","NULL","NULL","VP Customer Solutions","F53","Kevin Christie","F53 - AM Lewis/Clark"]
[null,null,null,"E01","AVA","NULL","NULL","NULL","NULL","NULL","Total Company","E01"," ","E01 - Exec Administration"]
[null,null,null,"E01","CEXO","NULL","NULL","NULL","NULL","NULL","CEO & President","E01"," ","E01 - Exec Administration"]
[null,null,null,"E01","E01","NULL","NULL","NULL","NULL","NULL","Executive Administration","E01","Linda Williams","E01 - Exec Administration"]
[null,null,null,"E01","EXEC","NULL","NULL","NULL","NULL","NULL","Executive Department Summary","E01"," ","E01 - Exec Administration"]
[null,null,null,"E01","SUPP","NULL","NULL","NULL","NULL","NULL","Support","E01","NULL","E01 - Exec Administration"]
[null,null,null,"E02","AVA","NULL","NULL","NULL","NULL","NULL","Total Company","E02"," ","E02 - Corp Org Development"]
[null,null,null,"E02","CEXO","NULL","NULL","NULL","NULL","NULL","CEO & President","E02"," ","E02 - Corp Org Development"]
[null,null,null,"E02","E02","NULL","NULL","NULL","NULL","NULL","Corporate Organizational Development","E02","Diane Quincy","E02 - Corp Org Development"]
[null,null,null,"E02","SUPP","NULL","NULL","NULL","NULL","NULL","Support","E02","NULL","E02 - Corp Org Development"]
[null,null,null,"F53","VPUP","NULL","NULL","NULL","NULL","NULL","President & COO Avista Corp","F53","Marian Durkin","F53 - AM Lewis/Clark"]
[null,null,null,"F54","AVA","NULL","NULL","NULL","NULL","NULL","Total Company","F54"," ","F54 - Treasury & Trust Mgmt"]
[null,null,null,"F54","CEXO","NULL","NULL","NULL","NULL","NULL","CEO & President","F54"," ","F54 - Treasury & Trust Mgmt"]
[null,null,null,"F54","F54","NULL","NULL","NULL","NULL","NULL","Treasury & Trust Management Services","F54","Pat Gorton","F54 - Treasury & Trust Mgmt"]
[null,null,null,"F54","SUPP","NULL","NULL","NULL","NULL","NULL","Support","F54","NULL","F54 - Treasury & Trust Mgmt"]
[null,null,null,"F54","VPFN","NULL","NULL","NULL","NULL","NULL","Finance & Treasury","F54","Mark Thies","F54 - Treasury & Trust Mgmt"]
[null,null,null,"F54","VPFO","NULL","NULL","NULL","NULL","NULL","Sr. VP & CFO","F54","Marian Durkin","F54 - Treasury & Trust Mgmt"]
[null,null,null,"F55","AVA","NULL","NULL","NULL","NULL","NULL","Total Company","F55"," ","F55 - Financial Planning and Analysis"]
[null,null,null,"F55","CEXO","NULL","NULL","NULL","NULL","NULL","CEO & President","F55"," ","F55 - Financial Planning and Analysis"]
[null,null,null,"F55","F55","NULL","NULL","NULL","NULL","NULL","Financial Planning & Analysis","F55","Laura Vickers","F55 - Financial Planning and Analysis"]
[null,null,null,"F55","SUPP","NULL","NULL","NULL","NULL","NULL","Support","F55","NULL","F55 - Financial Planning and Analysis"]
[null,null,null,"F55","VPFN","NULL","NULL","NULL","NULL","NULL","Finance & Treasury","F55","Mark Thies","F55 - Financial Planning and Analysis"]
[null,null,null,"F55","VPFO","NULL","NULL","NULL","NULL","NULL","Sr. VP & CFO","F55","Marian Durkin","F55 - Financial Planning and Analysis"]
[null,null,null,"FIN","AVA","NULL","NULL","NULL","NULL","NULL","Total Company","FIN"," ","FIN - Financial Info Summary"]
[null,null,null,"FIN","FIN","NULL","NULL","NULL","NULL","NULL","Financial Information Summary","FIN"," ","FIN - Financial Info Summary"]
[null,null,null,"FIN","GENL","NULL","NULL","NULL","NULL","NULL","General Corporate RCs","FIN"," ","FIN - Financial Info Summary"]
[null,null,null,"FIN","SUPP","NULL","NULL","NULL","NULL","NULL","Support","FIN","NULL","FIN - Financial Info Summary"]
[null,null,null,"G01","AVA","NULL","NULL","NULL","NULL","NULL","Total Company","G01"," ","G01 - Officer Support Team"]
[null,null,null,"G01","CEXO","NULL","NULL","NULL","NULL","NULL","CEO & President","G01"," ","G01 - Officer Support Team"]
[null,null,null,"G01","G01","NULL","NULL","NULL","NULL","NULL","Officer Support Team","G01","Linda Williams","G01 - Officer Support Team"]
[null,null,null,"G01","SUPP","NULL","NULL","NULL","NULL","NULL","Support","G01","NULL","G01 - Officer Support Team"]
[null,null,null,"G01","VPFO","NULL","NULL","NULL","NULL","NULL","Sr. VP & CFO","G01","Marian Durkin","G01 - Officer Support Team"]
[null,null,null,"G02","AVA","NULL","NULL","NULL","NULL","NULL","Total Company","G02"," ","G02 - Employee Safety"]
[null,null,null,"G02","CEXO","NULL","NULL","NULL","NULL","NULL","CEO & President","G02"," ","G02 - Employee Safety"]
[null,null,null,"G02","G02","NULL","NULL","NULL","NULL","NULL","Employee Safety","G02","Anthony Klutz","G02 - Employee Safety"]
[null,null,null,"G02","SUPP","NULL","NULL","NULL","NULL","NULL","Support","G02","NULL","G02 - Employee Safety"]
[null,null,null,"W07","W07","NULL","NULL","NULL","NULL","NULL","Wind Generation","W07","Hossein Nikdel","T54 - Rev and Fin Systems"]
[null,null,null,"W09","APPS","NULL","NULL","NULL","NULL","NULL","Applications Summary","W09","Hossein Nikdel","T54 - Rev and Fin Systems"]
[null,null,null,"W09","AVA","NULL","NULL","NULL","NULL","NULL","Total Company","W09"," ","T54 - Rev and Fin Systems"]
[null,null,null,"W09","CEXO","NULL","NULL","NULL","NULL","NULL","CEO & President","W09"," ","T54 - Rev and Fin Systems"]
[null,null,null,"W09","INFO","NULL","NULL","NULL","NULL","NULL","VP Info & Security","W09","Jim Kensok","T54 - Rev and Fin Systems"]
[null,null,null,"W09","SUPP","NULL","NULL","NULL","NULL","NULL","Support","W09","NULL","T54 - Rev and Fin Systems"]
[null,null,null,"W09","VPUP","NULL","NULL","NULL","NULL","NULL","President & COO Avista Corp","W09","Marian Durkin","T54 - Rev and Fin Systems"]
[null,null,null,"W09","W09","NULL","NULL","NULL","NULL","NULL","IS Director","W09","Graham Smith","T54 - Rev and Fin Systems"]
[null,null,null,"W39","APPS","NULL","NULL","NULL","NULL","NULL","Applications Summary","W39","Hossein Nikdel","T54 - Rev and Fin Systems"]
[null,null,null,"W39","AVA","NULL","NULL","NULL","NULL","NULL","Total Company","W39"," ","T54 - Rev and Fin Systems"]
[null,null,null,"W39","CEXO","NULL","NULL","NULL","NULL","NULL","CEO & President","W39"," ","T54 - Rev and Fin Systems"]
[null,null,null,"W39","INFO","NULL","NULL","NULL","NULL","NULL","VP Info & Security","W39","Jim Kensok","T54 - Rev and Fin Systems"]
[null,null,null,"W39","ISDV","NULL","NULL","NULL","NULL","NULL","IS Development Rollup","W39","Hossein Nikdel","T54 - Rev and Fin Systems"]
[null,null,null,"W39","SUPP","NULL","NULL","NULL","NULL","NULL","Support","W39","NULL","T54 - Rev and Fin Systems"]
[null,null,null,"W39","VPUP","NULL","NULL","NULL","NULL","NULL","President & COO Avista Corp","W39","Marian Durkin","T54 - Rev and Fin Systems"]
[null,null,null,"W39","W39","NULL","NULL","NULL","NULL","NULL","IS Delivery","W39","Pat Gorton","T54 - Rev and Fin Systems"]
[null,null,null,"W54","ACCT","NULL","NULL","NULL","NULL","NULL","Accounting Items","W54","Adam Munson","T54 - Rev and Fin Systems"]
[null,null,null,"W54","AVA","NULL","NULL","NULL","NULL","NULL","Total Company","W54"," ","T54 - Rev and Fin Systems"]
[null,null,null,"W54","CEXO","NULL","NULL","NULL","NULL","NULL","CEO & President","W54"," ","T54 - Rev and Fin Systems"]
[null,null,null,"W54","SUPP","NULL","NULL","NULL","NULL","NULL","Support","W54","NULL","T54 - Rev and Fin Systems"]
[null,null,null,"W54","W54","NULL","NULL","NULL","NULL","NULL","Finance Responsibility","W54","Cheryl Kettner","T54 - Rev and Fin Systems"]
[null,null,null,"W55","ACCT","NULL","NULL","NULL","NULL","NULL","Accounting Items","W55","Adam Munson","T54 - Rev and Fin Systems"]
[null,null,null,"W55","AVA","NULL","NULL","NULL","NULL","NULL","Total Company","W55"," ","T54 - Rev and Fin Systems"]
[null,null,null,"W55","CEXO","NULL","NULL","NULL","NULL","NULL","CEO & President","W55"," ",{"$f":"VLOOKUP(L3268,Table1,2)","v":"T54 - Rev and Fin Systems"}]
[null,null,null,"W55","SUPP","NULL","NULL","NULL","NULL","NULL","Support","W55","NULL","T54 - Rev and Fin Systems"]
[null,null,null,"W55","W55","NULL","NULL","NULL","NULL","NULL","Wholesale Exposure Reserve","W55","Bryan Cox","T54 - Rev and Fin Systems"]
[null,null,null,"X01","AVA","NULL","NULL","NULL","NULL","NULL","Total Company","X01"," ","T54 - Rev and Fin Systems"]
[null,null,null,"X01","CEXO","NULL","NULL","NULL","NULL","NULL","CEO & President","X01"," ","T54 - Rev and Fin Systems"]
[null,null,null,"X01","EXEC","NULL","NULL","NULL","NULL","NULL","Executive Department Summary","X01"," ","T54 - Rev and Fin Systems"]
[null,null,null,"X01","SUPP","NULL","NULL","NULL","NULL","NULL","Support","X01","NULL","T54 - Rev and Fin Systems"]
[null,null,null,"X01","X01","NULL","NULL","NULL","NULL","NULL","CEO","X01","Dave Zimmerman","T54 - Rev and Fin Systems"]
[null,null,null,"X02","AVA","NULL","NULL","NULL","NULL","NULL","Total Company","X02"," ","T54 - Rev and Fin Systems"]
[null,null,null,"X02","CEXO","NULL","NULL","NULL","NULL","NULL","CEO & President","X02"," ","T54 - Rev and Fin Systems"]
[null,null,null,"X02","SUPP","NULL","NULL","NULL","NULL","NULL","Support","X02","NULL","T54 - Rev and Fin Systems"]
[null,null,null,"X02","VPHR","NULL","NULL","NULL","NULL","NULL","Sr. VP Human Resources","X02","Heather Rosentrater","T54 - Rev and Fin Systems"]
[null,null,null,"X02","X02","NULL","NULL","NULL","NULL","NULL","HR Labor & Emp Relations","X02","Bob Weisbeck","T54 - Rev and Fin Systems"]
[null,null,null,"X08","0007","NULL","NULL","NULL","NULL","NULL","Gen Prod Sub Support","X08","Andy Vickers","T54 - Rev and Fin Systems"]
[null,null,null,"X08","AVA","NULL","NULL","NULL","NULL","NULL","Total Company","X08"," ","T54 - Rev and Fin Systems"]
[null,null,null,"X08","CEXO","NULL","NULL","NULL","NULL","NULL","CEO & President","X08"," ","T54 - Rev and Fin Systems"]
[null,null,null,"X08","SUPP","NULL","NULL","NULL","NULL","NULL","Support","X08","NULL","T54 - Rev and Fin Systems"]
[null,null,null,"X08","VPPS","NULL","NULL","NULL","NULL","NULL","Sr. VP Energy Resources","X08","Kelly Norwood","T54 - Rev and Fin Systems"]
[null,null,null,"X08","VPUP","NULL","NULL","NULL","NULL","NULL","President & COO Avista Corp","X08","Marian Durkin","T54 - Rev and Fin Systems"]
[null,null,null,"X08","X08","NULL","NULL","NULL","NULL","NULL","Relay Shop","X08","Pat Dever","T54 - Rev and Fin Systems"]
[null,null,null,"X09","AVA","NULL","NULL","NULL","NULL","NULL","Total Company","X09"," ","T54 - Rev and Fin Systems"]
[null,null,null,"X09","CEXO","NULL","NULL","NULL","NULL","NULL","CEO & President","X09"," ","T54 - Rev and Fin Systems"]
[null,null,null,"X09","CISO","NULL","NULL","NULL","NULL","NULL","Chief Information & Security Officer Sum","X09","Jim Kensok","T54 - Rev and Fin Systems"]
[null,null,null,"X09","INFO","NULL","NULL","NULL","NULL","NULL","VP Info & Security","X09","Jim Kensok","T54 - Rev and Fin Systems"]
[null,null,null,"X09","SUPP","NULL","NULL","NULL","NULL","NULL","Support","X09","NULL","T54 - Rev and Fin Systems"]
[null,null,null,"X09","VPUP","NULL","NULL","NULL","NULL","NULL","President & COO Avista Corp","X09","Marian Durkin","T54 - Rev and Fin Systems"]
[null,null,null,"X09","X09","NULL","NULL","NULL","NULL","NULL","Data Science","X09","Jason Pitts","T54 - Rev and Fin Systems"]
[null,null,null,"X19","APPS","NULL","NULL","NULL","NULL","NULL","Applications Summary","X19","Hossein Nikdel","T54 - Rev and Fin Systems"]
[null,null,null,"X19","AVA","NULL","NULL","NULL","NULL","NULL","Total Company","X19"," ","T54 - Rev and Fin Systems"]
[null,null,null,"X19","CEXO","NULL","NULL","NULL","NULL","NULL","CEO & President","X19"," ","T54 - Rev and Fin Systems"]
[null,null,null,"X19","INFO","NULL","NULL","NULL","NULL","NULL","VP Info & Security","X19","Jim Kensok","T54 - Rev and Fin Systems"]
[null,null,null,"X19","ISOP","NULL","NULL","NULL","NULL","NULL","IS Operations Rollup","X19","Hossein Nikdel","T54 - Rev and Fin Systems"]
[null,null,null,"X19","SUPP","NULL","NULL","NULL","NULL","NULL","Support","X19","NULL","T54 - Rev and Fin Systems"]
[null,null,null,"X19","VPUP","NULL","NULL","NULL","NULL","NULL","President & COO Avista Corp","X19","Marian Durkin","T54 - Rev and Fin Systems"]
[null,null,null,"X19","X19","NULL","NULL","NULL","NULL","NULL","Data Operations","X19","Mike Mudge","T54 - Rev and Fin Systems"]
[null,null,null,"X39","APPS","NULL","NULL","NULL","NULL","NULL","Applications Summary","X39","Hossein Nikdel","T54 - Rev and Fin Systems"]
[null,null,null,"X39","AVA","NULL","NULL","NULL","NULL","NULL","Total Company","X39"," ","T54 - Rev and Fin Systems"]
[null,null,null,"X39","CEXO","NULL","NULL","NULL","NULL","NULL","CEO & President","X39"," ","T54 - Rev and Fin Systems"]
[null,null,null,"X39","INFO","NULL","NULL","NULL","NULL","NULL","VP Info & Security","X39","Jim Kensok","T54 - Rev and Fin Systems"]
[null,null,null,"X39","ISDV","NULL","NULL","NULL","NULL","NULL","IS Development Rollup","X39","Hossein Nikdel","T54 - Rev and Fin Systems"]
[null,null,null,"X39","SUPP","NULL","NULL","NULL","NULL","NULL","Support","X39","NULL","T54 - Rev and Fin Systems"]
[null,null,null,"X39","VPUP","NULL","NULL","NULL","NULL","NULL","President & COO Avista Corp","X39","Marian Durkin","T54 - Rev and Fin Systems"]
[null,null,null,"X39","X39","NULL","NULL","NULL","NULL","NULL","Data Development","X39","Adam Munson","T54 - Rev and Fin Systems"]
[null,null,null,"X54","ACCT","NULL","NULL","NULL","NULL","NULL","Accounting Items","X54","Adam Munson","T54 - Rev and Fin Systems"]
[null,null,null,"X54","AVA","NULL","NULL","NULL","NULL","NULL","Total Company","X54"," ","T54 - Rev and Fin Systems"]
[null,null,null,"X54","CEXO","NULL","NULL","NULL","NULL","NULL","CEO & President","X54"," ","T54 - Rev and Fin Systems"]
[null,null,null,"X54","SUPP","NULL","NULL","NULL","NULL","NULL","Support","X54","NULL","T54 - Rev and Fin Systems"]
[null,null,null,"X54","X54","NULL","NULL","NULL","NULL","NULL","Accounting Responsibility","X54","John Wilcox","T54 - Rev and Fin Systems"]
[null,null,null,"X55","ACCT","NULL","NULL","NULL","NULL","NULL","Accounting Items","X55","Adam Munson","T54 - Rev and Fin Systems"]
[null,null,null,"X55","AVA","NULL","NULL","NULL","NULL","NULL","Total Company","X55"," ","T54 - Rev and Fin Systems"]
[null,null,null,"X55","CEXO","NULL","NULL","NULL","NULL","NULL","CEO & President","X55"," ","T54 - Rev and Fin Systems"]
[null,null,null,"X55","SUPP","NULL","NULL","NULL","NULL","NULL","Support","X55","NULL","T54 - Rev and Fin Systems"]
[null,null,null,"X55","X55","NULL","NULL","NULL","NULL","NULL","Misc Deferrals","X55","Howard Grimsrud","T54 - Rev and Fin Systems"]
[null,null,null,"X57","ACCT","NULL","NULL","NULL","NULL","NULL","Accounting Items","X57","Adam Munson","T54 - Rev and Fin Systems"]
[null,null,null,"X57","AVA","NULL","NULL","NULL","NULL","NULL","Total Company","X57"," ","T54 - Rev and Fin Systems"]
[null,null,null,"X57","CEXO","NULL","NULL","NULL","NULL","NULL","CEO & President","X57"," ","T54 - Rev and Fin Systems"]
[null,null,null,"X57","SUPP","NULL","NULL","NULL","NULL","NULL","Support","X57","NULL","T54 - Rev and Fin Systems"]
[null,null,null,"X57","X57","NULL","NULL","NULL","NULL","NULL","Energy Delivery Accounting Responsibilit","X57","Marian Durkin","T54 - Rev and Fin Systems"]
[null,null,null,"Y01","AVA","NULL","NULL","NULL","NULL","NULL","Total Company","Y01"," ","T54 - Rev and Fin Systems"]
[null,null,null,"Y01","CEXO","NULL","NULL","NULL","NULL","NULL","CEO & President","Y01"," ","T54 - Rev and Fin Systems"]
[null,null,null,"Y01","SUPP","NULL","NULL","NULL","NULL","NULL","Support","Y01","NULL","T54 - Rev and Fin Systems"]
[null,null,null,"Y01","VPGC","NULL","NULL","NULL","NULL","NULL","Sr. VP & General Counsel","Y01","Karen Feltes","T54 - Rev and Fin Systems"]
[null,null,null,"Y01","Y01","NULL","NULL","NULL","NULL","NULL","Corporate Secretary","Y01","Graham Smith","T54 - Rev and Fin Systems"]
[null,null,null,"Y39","APPS","NULL","NULL","NULL","NULL","NULL","Applications Summary","Y39","Hossein Nikdel","T54 - Rev and Fin Systems"]
[null,null,null,"Y39","AVA","NULL","NULL","NULL","NULL","NULL","Total Company","Y39"," ",{"$f":"VLOOKUP(L3332,Table1,2)","v":"T54 - Rev and Fin Systems"}]
[null,null,null,"Y39","CEXO","NULL","NULL","NULL","NULL","NULL","CEO & President","Y39"," ","T54 - Rev and Fin Systems"]
[null,null,null,"Y39","INFO","NULL","NULL","NULL","NULL","NULL","VP Info & Security","Y39","Jim Kensok","T54 - Rev and Fin Systems"]
[null,null,null,"Y39","ISDV","NULL","NULL","NULL","NULL","NULL","IS Development Rollup","Y39","Hossein Nikdel","T54 - Rev and Fin Systems"]
[null,null,null,"Y39","SUPP","NULL","NULL","NULL","NULL","NULL","Support","Y39","NULL","T54 - Rev and Fin Systems"]
[null,null,null,"Y39","VPUP","NULL","NULL","NULL","NULL","NULL","President & COO Avista Corp","Y39","Marian Durkin","T54 - Rev and Fin Systems"]
[null,null,null,"Y39","Y39","NULL","NULL","NULL","NULL","NULL","Web Development","Y39","Jason Lang","T54 - Rev and Fin Systems"]
[null,null,null,"Y54","AVA","NULL","NULL","NULL","NULL","NULL","Total Company","Y54"," ","T54 - Rev and Fin Systems"]
[null,null,null,"Y54","CEXO","NULL","NULL","NULL","NULL","NULL","CEO & President","Y54"," ","T54 - Rev and Fin Systems"]
[null,null,null,"Y54","SUPP","NULL","NULL","NULL","NULL","NULL","Support","Y54","NULL","T54 - Rev and Fin Systems"]
[null,null,null,"Y54","VPFN","NULL","NULL","NULL","NULL","NULL","Finance & Treasury","Y54","Mark Thies","T54 - Rev and Fin Systems"]
[null,null,null,"Y54","VPFO","NULL","NULL","NULL","NULL","NULL","Sr. VP & CFO","Y54","Marian Durkin","T54 - Rev and Fin Systems"]
[null,null,null,"Y54","Y54","NULL","NULL","NULL","NULL","NULL","Investor Relations","Y54","John Wilcox","T54 - Rev and Fin Systems"]
[null,null,null,"Y55","AVA","NULL","NULL","NULL","NULL","NULL","Total Company","Y55"," ","T54 - Rev and Fin Systems"]
[null,null,null,"Y55","CEXO","NULL","NULL","NULL","NULL","NULL","CEO & President","Y55"," ","T54 - Rev and Fin Systems"]
[null,null,null,"Y55","SUPP","NULL","NULL","NULL","NULL","NULL","Support","Y55","NULL","T54 - Rev and Fin Systems"]
[null,null,null,"Y55","VPCC","NULL","NULL","NULL","NULL","NULL","VP Corporate Controller","Y55","Kevin Christie","T54 - Rev and Fin Systems"]
[null,null,null,"Y55","VPFO","NULL","NULL","NULL","NULL","NULL","Sr. VP & CFO","Y55","Marian Durkin","T54 - Rev and Fin Systems"]
[null,null,null,"Y55","Y55","NULL","NULL","NULL","NULL","NULL","Resource Accounting","Y55","Daniel Austin","T54 - Rev and Fin Systems"]
[null,null,null,"Z08","AVA","NULL","NULL","NULL","NULL","NULL","Total Company","Z08"," ","T54 - Rev and Fin Systems"]
[null,null,null,"Z08","CEXO","NULL","NULL","NULL","NULL","NULL","CEO & President","Z08"," ","T54 - Rev and Fin Systems"]
[null,null,null,"Z08","ENGR","NULL","NULL","NULL","NULL","NULL","Electric Engineering","Z08","David Howell","T54 - Rev and Fin Systems"]
[null,null,null,"Z08","SUPP","NULL","NULL","NULL","NULL","NULL","Support","Z08","NULL","T54 - Rev and Fin Systems"]
[null,null,null,"Z08","VPOP","NULL","NULL","NULL","NULL","NULL","VP Energy Delivery","Z08","Jason Thackston","T54 - Rev and Fin Systems"]
[null,null,null,"Z08","VPUP","NULL","NULL","NULL","NULL","NULL","President & COO Avista Corp","Z08","Marian Durkin","T54 - Rev and Fin Systems"]
[null,null,null,"Z08","Z08","NULL","NULL","NULL","NULL","NULL","Electric Meter Shop","Z08","Cody Krogh","T54 - Rev and Fin Systems"]
[null,null,null,"Z09","AVA","NULL","NULL","NULL","NULL","NULL","Total Company","Z09"," ","T54 - Rev and Fin Systems"]
[null,null,null,"Z09","CENT","NULL","NULL","NULL","NULL","NULL","Centralized Services - Energy Delivery","Z09","Heather Rosentrater","T54 - Rev and Fin Systems"]
[null,null,null,"Z09","CEXO","NULL","NULL","NULL","NULL","NULL","CEO & President","Z09"," ","T54 - Rev and Fin Systems"]
[null,null,null,"Z09","SUPP","NULL","NULL","NULL","NULL","NULL","Support","Z09","NULL","T54 - Rev and Fin Systems"]
[null,null,null,"Z09","VPOP","NULL","NULL","NULL","NULL","NULL","VP Energy Delivery","Z09","Jason Thackston","T54 - Rev and Fin Systems"]
[null,null,null,"Z09","VPUP","NULL","NULL","NULL","NULL","NULL","President & COO Avista Corp","Z09","Marian Durkin","T54 - Rev and Fin Systems"]
[null,null,null,"Z09","Z09","NULL","NULL","NULL","NULL","NULL","Postage Centralization","Z09","Catherine Mueller","T54 - Rev and Fin Systems"]
[null,null,null,"Z57","ACCT","NULL","NULL","NULL","NULL","NULL","Accounting Items","Z57","Adam Munson","T54 - Rev and Fin Systems"]
[null,null,null,"Z57","AVA","NULL","NULL","NULL","NULL","NULL","Total Company","Z57"," ","T54 - Rev and Fin Systems"]
[null,null,null,"Z57","CEXO","NULL","NULL","NULL","NULL","NULL","CEO & President","Z57"," ","T54 - Rev and Fin Systems"]
[null,null,null,"Z57","SUPP","NULL","NULL","NULL","NULL","NULL","Support","Z57","NULL","T54 - Rev and Fin Systems"]
[null,null,null,"Z57","Z57","NULL","NULL","NULL","NULL","NULL","Centralized Credits","Z57","Adam Munson","T54 - Rev and Fin Systems"]
[null,null,null,"Z87","ACCT","NULL","NULL","NULL","NULL","NULL","Accounting Items","Z87","Adam Munson","T54 - Rev and Fin Systems"]
[null,null,null,"Z87","AVA","NULL","NULL","NULL","NULL","NULL","Total Company","Z87"," ","T54 - Rev and Fin Systems"]
[null,null,null,"Z87","CEXO","NULL","NULL","NULL","NULL","NULL","CEO & President","Z87"," ","T54 - Rev and Fin Systems"]
[null,null,null,"Z87","SUPP","NULL","NULL","NULL","NULL","NULL","Support","Z87","NULL","T54 - Rev and Fin Systems"]
[null,null,null,"Z87","Z87","NULL","NULL","NULL","NULL","NULL","Benefits Loaders","Z87","Greg Loew","T54 - Rev and Fin Systems"]
[null,null,null,"Z88","AVA","NULL","NULL","NULL","NULL","NULL","Total Company","Z88"," ","T54 - Rev and Fin Systems"]
[null,null,null,"Z88","CENT","NULL","NULL","NULL","NULL","NULL","Centralized Services - Energy Delivery","Z88","Heather Rosentrater","T54 - Rev and Fin Systems"]
[null,null,null,"Z88","CEXO","NULL","NULL","NULL","NULL","NULL","CEO & President","Z88"," ","T54 - Rev and Fin Systems"]
[null,null,null,"Z88","SUPP","NULL","NULL","NULL","NULL","NULL","Support","Z88","NULL","T54 - Rev and Fin Systems"]
[null,null,null,"Z88","VPOP","NULL","NULL","NULL","NULL","NULL","VP Energy Delivery","Z88","Jason Thackston","T54 - Rev and Fin Systems"]
[null,null,null,"Z88","VPUP","NULL","NULL","NULL","NULL","NULL","President & COO Avista Corp","Z88","Marian Durkin","T54 - Rev and Fin Systems"]
[null,null,null,"Z88","Z88","NULL","NULL","NULL","NULL","NULL","Transportation Loaders","Z88","Adam Munson","T54 - Rev and Fin Systems"]
[null,null,null,"Z89","ACCT","NULL","NULL","NULL","NULL","NULL","Accounting Items","Z89","Adam Munson","T54 - Rev and Fin Systems"]
[null,null,null,"Z89","AVA","NULL","NULL","NULL","NULL","NULL","Total Company","Z89"," ","T54 - Rev and Fin Systems"]
[null,null,null,"Z89","CEXO","NULL","NULL","NULL","NULL","NULL","CEO & President","Z89"," ","T54 - Rev and Fin Systems"]
[null,null,null,"Z89","SUPP","NULL","NULL","NULL","NULL","NULL","Support","Z89","NULL","T54 - Rev and Fin Systems"]
[null,null,null,"Z89","Z89","NULL","NULL","NULL","NULL","NULL","Payroll Accrual","Z89","Adam Munson","T54 - Rev and Fin Systems"]
[null,null,null,"Z90","ACCT","NULL","NULL","NULL","NULL","NULL","Accounting Items","Z90","Adam Munson","T54 - Rev and Fin Systems"]
[null,null,null,"Z90","AVA","NULL","NULL","NULL","NULL","NULL","Total Company","Z90"," ","T54 - Rev and Fin Systems"]
[null,null,null,"Z90","CEXO","NULL","NULL","NULL","NULL","NULL","CEO & President","Z90"," ","T54 - Rev and Fin Systems"]
[null,null,null,"Z90","SUPP","NULL","NULL","NULL","NULL","NULL","Support","Z90","NULL","T54 - Rev and Fin Systems"]
[null,null,null,"Z90","Z90","NULL","NULL","NULL","NULL","NULL","Incentive Compensation","Z90","Adam Munson","T54 - Rev and Fin Systems"]
[null,null,null,"Z91","ACCT","NULL","NULL","NULL","NULL","NULL","Accounting Items","Z91","Adam Munson","T54 - Rev and Fin Systems"]
[null,null,null,"Z91","AVA","NULL","NULL","NULL","NULL","NULL","Total Company","Z91"," ","T54 - Rev and Fin Systems"]
[null,null,null,"W01","AVA","NULL","NULL","NULL","NULL","NULL","Total Company","W01"," ","T54 - Rev and Fin Systems"]
[null,null,null,"W01","CEXO","NULL","NULL","NULL","NULL","NULL","CEO & President","W01"," ","T54 - Rev and Fin Systems"]
[null,null,null,"W01","SUPP","NULL","NULL","NULL","NULL","NULL","Support","W01","NULL",{"$f":"VLOOKUP(L3396,Table1,2)","v":"T54 - Rev and Fin Systems"}]
[null,null,null,"W01","VPGC","NULL","NULL","NULL","NULL","NULL","Sr. VP & General Counsel","W01","Karen Feltes","T54 - Rev and Fin Systems"]
[null,null,null,"W01","W01","NULL","NULL","NULL","NULL","NULL","Compliance","W01","Andy Vickers","T54 - Rev and Fin Systems"]
[null,null,null,"W07","0007","NULL","NULL","NULL","NULL","NULL","Gen Prod Sub Support","W07","Andy Vickers","T54 - Rev and Fin Systems"]
[null,null,null,"W07","AVA","NULL","NULL","NULL","NULL","NULL","Total Company","W07"," ","T54 - Rev and Fin Systems"]
[null,null,null,"W07","CEXO","NULL","NULL","NULL","NULL","NULL","CEO & President","W07"," ","T54 - Rev and Fin Systems"]
[null,null,null,"Z91","CEXO","NULL","NULL","NULL","NULL","NULL","CEO & President","Z91"," ","T54 - Rev and Fin Systems"]
[null,null,null,"Z91","SUPP","NULL","NULL","NULL","NULL","NULL","Support","Z91","NULL","T54 - Rev and Fin Systems"]
[null,null,null,"Z91","Z91","NULL","NULL","NULL","NULL","NULL","Other One Leave","Z91","NULL","T54 - Rev and Fin Systems"]
[null,null,null,"W07","SUPP","NULL","NULL","NULL","NULL","NULL","Support","W07","NULL","T54 - Rev and Fin Systems"]
[null,null,null,"W07","VPPS","NULL","NULL","NULL","NULL","NULL","Sr. VP Energy Resources","W07","Kelly Norwood","T54 - Rev and Fin Systems"]
[null,null,null,"W07","VPUP","NULL","NULL","NULL","NULL","NULL","President & COO Avista Corp","W07","Marian Durkin","T54 - Rev and Fin Systems"]
[null,null,null,"E50","AVA","CEXO","VPUP","VPCS","CUST","E50","Total Company","E50"," ","E50 - Contact Ctr-Spokane"]
[null,null,null,"E50","CEXO","VPUP","VPCS","CUST","E50","NULL","CEO & President","E50"," ","E50 - Contact Ctr-Spokane"]
[null,null,null,"E50","CUST","E50","NULL","NULL","NULL","NULL","Customer Service & Sales","E50","Mike Broemeling","E50 - Contact Ctr-Spokane"]
[null,null,null,"E50","E50","NULL","NULL","NULL","NULL","NULL","Con Ctr - Hiring-L and D","E50","Carol Hicks","E50 - Contact Ctr-Spokane"]
[null,null,null,"E50","VPCS","CUST","E50","NULL","NULL","NULL","VP Customer Solutions","E50","Kevin Christie","E50 - Contact Ctr-Spokane"]
[null,null,null,"E50","VPUP","VPCS","CUST","E50","NULL","NULL","President & COO Avista Corp","E50","Marian Durkin","E50 - Contact Ctr-Spokane"]
[null,null,null,"E51","AMSP","E51","NULL","NULL","NULL","NULL","Planning & Asset Management","E51","Scott Waples","E51 - Asset Management"]
[null,null,null,"E51","AVA","CEXO","VPUP","VPOP","AMSP","E51","Total Company","E51"," ","E51 - Asset Management"]
[null,null,null,"E51","CEXO","VPUP","VPOP","AMSP","E51","NULL","CEO & President","E51"," ","E51 - Asset Management"]
[null,null,null,"E51","E51","NULL","NULL","NULL","NULL","NULL","Asset Management","E51","Rodney Pickett","E51 - Asset Management"]
[null,null,null,"E51","VPOP","AMSP","E51","NULL","NULL","NULL","VP Energy Delivery","E51","Jason Thackston","E51 - Asset Management"]
[null,null,null,"E51","VPUP","VPOP","AMSP","E51","NULL","NULL","President & COO Avista Corp","E51","Marian Durkin","E51 - Asset Management"]
[null,null,null,"E52","AVA","CEXO","VPUP","VPCS","ESOL","E52","Total Company","E52"," ","E52 - Oregon DSM"]
[null,null,null,"E52","CEXO","VPUP","VPCS","ESOL","E52","NULL","CEO & President","E52"," ","E52 - Oregon DSM"]
[null,null,null,"E52","E52","NULL","NULL","NULL","NULL","NULL","OR DSM","E52","Kerry Shroy","E52 - Oregon DSM"]
[null,null,null,"E52","ESOL","E52","NULL","NULL","NULL","NULL","Energy Solutions","E52","Pat Lynch","E52 - Oregon DSM"]
[null,null,null,"E52","VPCS","ESOL","E52","NULL","NULL","NULL","VP Customer Solutions","E52","Kevin Christie","E52 - Oregon DSM"]
[null,null,null,"E52","VPUP","VPCS","ESOL","E52","NULL","NULL","President & COO Avista Corp","E52","Marian Durkin","E52 - Oregon DSM"]
[null,null,null,"E53","AVA","CEXO","VPUP","VPCS","CUST","E53","Total Company","E53"," ","E53 - Contact Ctr-Lewiston"]
[null,null,null,"E53","CEXO","VPUP","VPCS","CUST","E53","NULL","CEO & President","E53"," ","E53 - Contact Ctr-Lewiston"]
[null,null,null,"E53","CUST","E53","NULL","NULL","NULL","NULL","Customer Service & Sales","E53","Mike Broemeling","E53 - Contact Ctr-Lewiston"]
[null,null,null,"E53","E53","NULL","NULL","NULL","NULL","NULL","Con Ctr - Lewiston","E53","Kimberley Casey","E53 - Contact Ctr-Lewiston"]
[null,null,null,"E53","VPCS","CUST","E53","NULL","NULL","NULL","VP Customer Solutions","E53","Kevin Christie","E53 - Contact Ctr-Lewiston"]
[null,null,null,"E53","VPUP","VPCS","CUST","E53","NULL","NULL","President & COO Avista Corp","E53","Marian Durkin","E53 - Contact Ctr-Lewiston"]
[null,null,null,"E55","0055","E55","NULL","NULL","NULL","NULL","Energy Resource Department","E55","Jason Thackston","E55 - Power Supply"]
[null,null,null,"E55","AVA","CEXO","VPUP","VPPS","0055","E55","Total Company","E55"," ","E55 - Power Supply"]
[null,null,null,"E55","CEXO","VPUP","VPPS","0055","E55","NULL","CEO & President","E55"," ","E55 - Power Supply"]
[null,null,null,"E55","E55","NULL","NULL","NULL","NULL","NULL","Power Supply","E55","Scott Kinney","E55 - Power Supply"]
[null,null,null,"E55","VPPS","0055","E55","NULL","NULL","NULL","Sr. VP Energy Resources","E55","Kelly Norwood","E55 - Power Supply"]
[null,null,null,"E55","VPUP","VPPS","0055","E55","NULL","NULL","President & COO Avista Corp","E55","Marian Durkin","E55 - Power Supply"]
[null,null,null,"E56","AVA","CEXO","VPUP","VPOP","TRAN","E56","Total Company","E56"," ","E56 - Transmission Services"]
[null,null,null,"E56","CEXO","VPUP","VPOP","TRAN","E56","NULL","CEO & President","E56"," ","E56 - Transmission Services"]
[null,null,null,"E56","E56","NULL","NULL","NULL","NULL","NULL","Transmission Services","E56","Jeff Schlect","E56 - Transmission Services"]
[null,null,null,"E56","TRAN","E56","NULL","NULL","NULL","NULL","Transmission","E56","Bill Abrahamse","E56 - Transmission Services"]
[null,null,null,"E56","VPOP","TRAN","E56","NULL","NULL","NULL","VP Energy Delivery","E56","Jason Thackston","E56 - Transmission Services"]
[null,null,null,"E56","VPUP","VPOP","TRAN","E56","NULL","NULL","President & COO Avista Corp","E56","Marian Durkin","E56 - Transmission Services"]
[null,null,null,"F02","AVA","CEXO","VPHR","F02","NULL","NULL","Total Company","F02"," ","F02 - HR Consulting and Analy"]
[null,null,null,"F02","CEXO","VPHR","F02","NULL","NULL","NULL","CEO & President","F02"," ","F02 - HR Consulting and Analy"]
[null,null,null,"F02","F02","NULL","NULL","NULL","NULL","NULL","HR Analytics and Compliance","F02","Dawnell Ellenson","F02 - HR Consulting and Analy"]
[null,null,null,"F02","VPHR","F02","NULL","NULL","NULL","NULL","Sr. VP Human Resources","F02","Heather Rosentrater","F02 - HR Consulting and Analy"]
[null,null,null,"F08","0007","F08","NULL","NULL","NULL","NULL","Gen Prod Sub Support","F08","Andy Vickers","F08 - Electric Shop"]
[null,null,null,"F08","AVA","CEXO","VPUP","VPPS","0007","F08","Total Company","F08"," ","F08 - Electric Shop"]
[null,null,null,"F08","CEXO","VPUP","VPPS","0007","F08","NULL","CEO & President","F08"," ","F08 - Electric Shop"]
[null,null,null,"F08","F08","NULL","NULL","NULL","NULL","NULL","Electric Shop","F08","Bob Weisbeck","F08 - Electric Shop"]
[null,null,null,"F08","VPPS","0007","F08","NULL","NULL","NULL","Sr. VP Energy Resources","F08","Kelly Norwood","F08 - Electric Shop"]
[null,null,null,"F08","VPUP","VPPS","0007","F08","NULL","NULL","President & COO Avista Corp","F08","Marian Durkin","F08 - Electric Shop"]
[null,null,null,"F19","APPS","ISOP","F19","NULL","NULL","NULL","Applications Summary","F19","Hossein Nikdel","F19 - Back Office Tech Ops"]
[null,null,null,"F19","AVA","CEXO","VPUP","INFO","APPS","ISOP","Total Company","F19"," ","F19 - Back Office Tech Ops"]
[null,null,null,"F19","CEXO","VPUP","INFO","APPS","ISOP","F19","CEO & President","F19"," ","F19 - Back Office Tech Ops"]
[null,null,null,"F19","F19","NULL","NULL","NULL","NULL","NULL","Back Office Technology Operations","F19","Jason Pitts","F19 - Back Office Tech Ops"]
[null,null,null,"F19","INFO","APPS","ISOP","F19","NULL","NULL","VP Info & Security","F19","Jim Kensok","F19 - Back Office Tech Ops"]
[null,null,null,"F19","ISOP","F19","NULL","NULL","NULL","NULL","IS Operations Rollup","F19","Hossein Nikdel","F19 - Back Office Tech Ops"]
[null,null,null,"F19","VPUP","INFO","APPS","ISOP","F19","NULL","President & COO Avista Corp","F19","Marian Durkin",{"$f":"VLOOKUP(L3460,Table1,2)","v":"F19 - Back Office Tech Ops"}]
[null,null,null,"F39","APPS","ISDV","F39","NULL","NULL","NULL","Applications Summary","F39","Hossein Nikdel","F39 - Oracle Fin Sevices Dev"]
[null,null,null,"F39","AVA","CEXO","VPUP","INFO","APPS","ISDV","Total Company","F39"," ","F39 - Oracle Fin Sevices Dev"]
[null,null,null,"F39","CEXO","VPUP","INFO","APPS","ISDV","F39","CEO & President","F39"," ","F39 - Oracle Fin Sevices Dev"]
[null,null,null,"F39","F39","NULL","NULL","NULL","NULL","NULL","Oracle Financial Services Development","F39","Graham Smith","F39 - Oracle Fin Sevices Dev"]
[null,null,null,"F39","INFO","APPS","ISDV","F39","NULL","NULL","VP Info & Security","F39","Jim Kensok","F39 - Oracle Fin Sevices Dev"]
[null,null,null,"F39","ISDV","F39","NULL","NULL","NULL","NULL","IS Development Rollup","F39","Hossein Nikdel","F39 - Oracle Fin Sevices Dev"]
[null,null,null,"F39","VPUP","INFO","APPS","ISDV","F39","NULL","President & COO Avista Corp","F39","Marian Durkin","F39 - Oracle Fin Sevices Dev"]
[null,null,null,"F50","AVA","CEXO","VPUP","VPCS","CUST","F50","Total Company","F50"," ","F50 - Contact Ctr-Credit & Collections"]
[null,null,null,"F50","CEXO","VPUP","VPCS","CUST","F50","NULL","CEO & President","F50"," ","F50 - Contact Ctr-Credit & Collections"]
[null,null,null,"F50","CUST","F50","NULL","NULL","NULL","NULL","Customer Service & Sales","F50","Mike Broemeling","F50 - Contact Ctr-Credit & Collections"]
[null,null,null,"F50","F50","NULL","NULL","NULL","NULL","NULL","Con Ctr Credit-Collection","F50","Jennifer Esch","F50 - Contact Ctr-Credit & Collections"]
[null,null,null,"F50","VPCS","CUST","F50","NULL","NULL","NULL","VP Customer Solutions","F50","Kevin Christie","F50 - Contact Ctr-Credit & Collections"]
[null,null,null,"F50","VPUP","VPCS","CUST","F50","NULL","NULL","President & COO Avista Corp","F50","Marian Durkin","F50 - Contact Ctr-Credit & Collections"]
[null,null,null,"F52","AVA","CEXO","VPUP","VPCS","CUST","F52","Total Company","F52"," ","F52 - Market Services"]
[null,null,null,"F52","CEXO","VPUP","VPCS","CUST","F52","NULL","CEO & President","F52"," ","F52 - Market Services"]
[null,null,null,"F52","CUST","F52","NULL","NULL","NULL","NULL","Customer Service & Sales","F52","Mike Broemeling","F52 - Market Services"]
[null,null,null,"F52","F52","NULL","NULL","NULL","NULL","NULL","Account Execs","F52","Pat Lynch","F52 - Market Services"]
[null,null,null,"F52","VPCS","CUST","F52","NULL","NULL","NULL","VP Customer Solutions","F52","Kevin Christie","F52 - Market Services"]
[null,null,null,"F52","VPUP","VPCS","CUST","F52","NULL","NULL","President & COO Avista Corp","F52","Marian Durkin","F52 - Market Services"]
[null,null,null,"F53","AVA","CEXO","VPUP","VPCS","ESOL","F53","Total Company","F53"," ","F53 - AM Lewis/Clark"]
[null,null,null,"F53","CEXO","VPUP","VPCS","ESOL","F53","NULL","CEO & President","F53"," ","F53 - AM Lewis/Clark"]
[null,null,null,"F53","ESOL","F53","NULL","NULL","NULL","NULL","Energy Solutions","F53","Pat Lynch","F53 - AM Lewis/Clark"]
[null,null,null,"F53","F53","NULL","NULL","NULL","NULL","NULL","Reg Bus Mgr - Lewis Clark","F53","Mike Tatko","F53 - AM Lewis/Clark"]
[null,null,null,"F53","VPCS","ESOL","F53","NULL","NULL","NULL","VP Customer Solutions","F53","Kevin Christie","F53 - AM Lewis/Clark"]
[null,null,null,"F53","VPUP","VPCS","ESOL","F53","NULL","NULL","President & COO Avista Corp","F53","Marian Durkin","F53 - AM Lewis/Clark"]
[null,null,null,"F54","AVA","CEXO","VPFO","VPFN","F54","NULL","Total Company","F54"," ","F54 - Treasury & Trust Mgmt"]
[null,null,null,"F54","CEXO","VPFO","VPFN","F54","NULL","NULL","CEO & President","F54"," ","F54 - Treasury & Trust Mgmt"]
[null,null,null,"F54","F54","NULL","NULL","NULL","NULL","NULL","Treasury & Trust Management Services","F54","Pat Gorton","F54 - Treasury & Trust Mgmt"]
[null,null,null,"F54","VPFN","F54","NULL","NULL","NULL","NULL","Finance & Treasury","F54","Mark Thies","F54 - Treasury & Trust Mgmt"]
[null,null,null,"F54","VPFO","VPFN","F54","NULL","NULL","NULL","Sr. VP & CFO","F54","Marian Durkin","F54 - Treasury & Trust Mgmt"]
[null,null,null,"F55","AVA","CEXO","VPFO","VPFN","F55","NULL","Total Company","F55"," ","F55 - Financial Planning and Analysis"]
[null,null,null,"F55","CEXO","VPFO","VPFN","F55","NULL","NULL","CEO & President","F55"," ","F55 - Financial Planning and Analysis"]
[null,null,null,"F55","F55","NULL","NULL","NULL","NULL","NULL","Financial Planning & Analysis","F55","Laura Vickers","F55 - Financial Planning and Analysis"]
[null,null,null,"F55","VPFN","F55","NULL","NULL","NULL","NULL","Finance & Treasury","F55","Mark Thies","F55 - Financial Planning and Analysis"]
[null,null,null,"F55","VPFO","VPFN","F55","NULL","NULL","NULL","Sr. VP & CFO","F55","Marian Durkin","F55 - Financial Planning and Analysis"]
[null,null,null,"FIN","AVA","GENL","FIN","NULL","NULL","NULL","Total Company","FIN"," ","FIN - Financial Info Summary"]
[null,null,null,"FIN","FIN","NULL","NULL","NULL","NULL","NULL","Financial Information Summary","FIN"," ","FIN - Financial Info Summary"]
[null,null,null,"FIN","GENL","FIN","NULL","NULL","NULL","NULL","General Corporate RCs","FIN"," ","FIN - Financial Info Summary"]
[null,null,null,"G01","AVA","CEXO","VPFO","G01","NULL","NULL","Total Company","G01"," ","G01 - Officer Support Team"]
[null,null,null,"G01","CEXO","VPFO","G01","NULL","NULL","NULL","CEO & President","G01"," ","G01 - Officer Support Team"]
[null,null,null,"G01","G01","NULL","NULL","NULL","NULL","NULL","Officer Support Team","G01","Linda Williams","G01 - Officer Support Team"]
[null,null,null,"G01","VPFO","G01","NULL","NULL","NULL","NULL","Sr. VP & CFO","G01","Marian Durkin","G01 - Officer Support Team"]
[null,null,null,"G02","AVA","CEXO","VPHR","G02","NULL","NULL","Total Company","G02"," ","G02 - Employee Safety"]
[null,null,null,"G02","CEXO","VPHR","G02","NULL","NULL","NULL","CEO & President","G02"," ","G02 - Employee Safety"]
[null,null,null,"G02","G02","NULL","NULL","NULL","NULL","NULL","Employee Safety","G02","Anthony Klutz","G02 - Employee Safety"]
[null,null,null,"G02","VPHR","G02","NULL","NULL","NULL","NULL","Sr. VP Human Resources","G02","Heather Rosentrater","G02 - Employee Safety"]
[null,null,null,"G08","AVA","CEXO","VPUP","VPOP","NGAS","NGCO","Total Company","G08"," ","G08 - Gas Construction Management"]
[null,null,null,"G08","CEXO","VPUP","VPOP","NGAS","NGCO","G08","CEO & President","G08"," ","G08 - Gas Construction Management"]
[null,null,null,"G08","G08","NULL","NULL","NULL","NULL","NULL","Gas Construction Management","G08","Mike Faulkenberry","G08 - Gas Construction Management"]
[null,null,null,"G08","NGAS","NGCO","G08","NULL","NULL","NULL","Natural Gas","G08","Mike Faulkenberry","G08 - Gas Construction Management"]
[null,null,null,"G08","NGCO","G08","NULL","NULL","NULL","NULL","Natural Gas Construction Ops","G08","Mike Faulkenberry","G08 - Gas Construction Management"]
[null,null,null,"G08","VPOP","NGAS","NGCO","G08","NULL","NULL","VP Energy Delivery","G08","Jason Thackston","G08 - Gas Construction Management"]
[null,null,null,"G08","VPUP","VPOP","NGAS","NGCO","G08","NULL","President & COO Avista Corp","G08","Marian Durkin","G08 - Gas Construction Management"]
[null,null,null,"G10","AVA","CEXO","VPFO","VPFN","G10","NULL","Total Company","G10"," ","G10 - Credit Union"]
[null,null,null,"G10","CEXO","VPFO","VPFN","G10","NULL","NULL","CEO & President","G10"," ","G10 - Credit Union"]
[null,null,null,"G10","G10","NULL","NULL","NULL","NULL","NULL","Credit Union","G10","Michael Grabicki","G10 - Credit Union"]
[null,null,null,"G10","VPFN","G10","NULL","NULL","NULL","NULL","Finance & Treasury","G10","Mark Thies","G10 - Credit Union"]
[null,null,null,"G10","VPFO","VPFN","G10","NULL","NULL","NULL","Sr. VP & CFO","G10","Marian Durkin","G10 - Credit Union"]
[null,null,null,"G39","APPS","ISDV","G39","NULL","NULL","NULL","Applications Summary","G39","Hossein Nikdel","G39 - GIS Development"]
[null,null,null,"G39","AVA","CEXO","VPUP","INFO","APPS","ISDV","Total Company","G39"," ","G39 - GIS Development"]
[null,null,null,"G39","CEXO","VPUP","INFO","APPS","ISDV","G39","CEO & President","G39"," ","G39 - GIS Development"]
[null,null,null,"G39","G39","NULL","NULL","NULL","NULL","NULL","GIS Developemnt","G39","Graham Smith","G39 - GIS Development"]
[null,null,null,"G39","INFO","APPS","ISDV","G39","NULL","NULL","VP Info & Security","G39","Jim Kensok","G39 - GIS Development"]
[null,null,null,"G39","ISDV","G39","NULL","NULL","NULL","NULL","IS Development Rollup","G39","Hossein Nikdel",{"$f":"VLOOKUP(L3524,Table1,2)","v":"G39 - GIS Development"}]
[null,null,null,"G39","VPUP","INFO","APPS","ISDV","G39","NULL","President & COO Avista Corp","G39","Marian Durkin","G39 - GIS Development"]
[null,null,null,"G50","AVA","CEXO","VPUP","VPOP","WEST","G50","Total Company","G50"," ","G50 - Colville"]
[null,null,null,"G50","CEXO","VPUP","VPOP","WEST","G50","NULL","CEO & President","G50"," ","G50 - Colville"]
[null,null,null,"G50","G50","NULL","NULL","NULL","NULL","NULL","Colville","G50","Cesar Godinez","G50 - Colville"]
[null,null,null,"G50","VPOP","WEST","G50","NULL","NULL","NULL","VP Energy Delivery","G50","Jason Thackston","G50 - Colville"]
[null,null,null,"G50","VPUP","VPOP","WEST","G50","NULL","NULL","President & COO Avista Corp","G50","Marian Durkin","G50 - Colville"]
[null,null,null,"G50","WEST","G50","NULL","NULL","NULL","NULL","Director of Operations - West","G50"," ","G50 - Colville"]
[null,null,null,"G51","AVA","CEXO","VPUP","VPOP","NGAS","G51","Total Company","G51"," ","G51 - Dir of Natural Gas"]
[null,null,null,"G51","CEXO","VPUP","VPOP","NGAS","G51","NULL","CEO & President","G51"," ","G51 - Dir of Natural Gas"]
[null,null,null,"G51","G51","NULL","NULL","NULL","NULL","NULL","Dir of Natural Gas","G51","Mike Faulkenberry","G51 - Dir of Natural Gas"]
[null,null,null,"G51","NGAS","G51","NULL","NULL","NULL","NULL","Natural Gas","G51","Mike Faulkenberry","G51 - Dir of Natural Gas"]
[null,null,null,"G51","VPOP","NGAS","G51","NULL","NULL","NULL","VP Energy Delivery","G51","Jason Thackston","G51 - Dir of Natural Gas"]
[null,null,null,"G51","VPUP","VPOP","NGAS","G51","NULL","NULL","President & COO Avista Corp","G51","Marian Durkin","G51 - Dir of Natural Gas"]
[null,null,null,"G53","AVA","CEXO","VPUP","VPCS","ESOL","G53","Total Company","G53"," ","G53 - Area Manager - CDA"]
[null,null,null,"G53","CEXO","VPUP","VPCS","ESOL","G53","NULL","CEO & President","G53"," ","G53 - Area Manager - CDA"]
[null,null,null,"G53","ESOL","G53","NULL","NULL","NULL","NULL","Energy Solutions","G53","Pat Lynch","G53 - Area Manager - CDA"]
[null,null,null,"G53","G53","NULL","NULL","NULL","NULL","NULL","Reg Bus Mgr - North Idaho","G53","Sharmon Schmitt","G53 - Area Manager - CDA"]
[null,null,null,"G53","VPCS","ESOL","G53","NULL","NULL","NULL","VP Customer Solutions","G53","Kevin Christie","G53 - Area Manager - CDA"]
[null,null,null,"G53","VPUP","VPCS","ESOL","G53","NULL","NULL","President & COO Avista Corp","G53","Marian Durkin","G53 - Area Manager - CDA"]
[null,null,null,"G54","AVA","CEXO","VPFO","VPCC","G54","NULL","Total Company","G54"," ","G54 - Finance Administration"]
[null,null,null,"G54","CEXO","VPFO","VPCC","G54","NULL","NULL","CEO & President","G54"," ","G54 - Finance Administration"]
[null,null,null,"G54","G54","NULL","NULL","NULL","NULL","NULL","Finance Administration","G54","Karen Lorenz","G54 - Finance Administration"]
[null,null,null,"G54","VPCC","G54","NULL","NULL","NULL","NULL","VP Corporate Controller","G54","Kevin Christie","G54 - Finance Administration"]
[null,null,null,"G54","VPFO","VPCC","G54","NULL","NULL","NULL","Sr. VP & CFO","G54","Marian Durkin","G54 - Finance Administration"]
[null,null,null,"H02","AVA","CEXO","VPHR","H02","NULL","NULL","Total Company","H02"," ","H02 - Occupational Health"]
[null,null,null,"H02","CEXO","VPHR","H02","NULL","NULL","NULL","CEO & President","H02"," ","H02 - Occupational Health"]
[null,null,null,"H02","H02","NULL","NULL","NULL","NULL","NULL","Occupational Health","H02","George Brown","H02 - Occupational Health"]
[null,null,null,"H02","VPHR","H02","NULL","NULL","NULL","NULL","Sr. VP Human Resources","H02","Heather Rosentrater","H02 - Occupational Health"]
[null,null,null,"H04","0004","H04","NULL","NULL","NULL","NULL","Environmental Affairs","H04","Bruce Howard","H04 - Hydro Compliance"]
[null,null,null,"H04","AVA","CEXO","VPGC","0004","H04","NULL","Total Company","H04"," ","H04 - Hydro Compliance"]
[null,null,null,"H04","CEXO","VPGC","0004","H04","NULL","NULL","CEO & President","H04"," ","H04 - Hydro Compliance"]
[null,null,null,"H04","H04","NULL","NULL","NULL","NULL","NULL","Hydro Compliance","H04","Bruce Howard","H04 - Hydro Compliance"]
[null,null,null,"H04","VPGC","0004","H04","NULL","NULL","NULL","Sr. VP & General Counsel","H04","Karen Feltes","H04 - Hydro Compliance"]
[null,null,null,"H07","AVA","CEXO","VPUP","VPOP","SERV","H07","Total Company","H07"," ","H07 - Facilities Management"]
[null,null,null,"H07","CEXO","VPUP","VPOP","SERV","H07","NULL","CEO & President","H07"," ","H07 - Facilities Management"]
[null,null,null,"H07","H07","NULL","NULL","NULL","NULL","NULL","Facilities Management","H07","Eric Bowles","H07 - Facilities Management"]
[null,null,null,"H07","SERV","H07","NULL","NULL","NULL","NULL","Shared Services","H07","Dennis Vermillion","H07 - Facilities Management"]
[null,null,null,"H07","VPOP","SERV","H07","NULL","NULL","NULL","VP Energy Delivery","H07","Jason Thackston","H07 - Facilities Management"]
[null,null,null,"H07","VPUP","VPOP","SERV","H07","NULL","NULL","President & COO Avista Corp","H07","Marian Durkin","H07 - Facilities Management"]
[null,null,null,"H08","AVA","CEXO","VPUP","VPOP","ENGR","H08","Total Company","H08"," ","H08 - Energy Del Stratgic Proj"]
[null,null,null,"H08","CEXO","VPUP","VPOP","ENGR","H08","NULL","CEO & President","H08"," ","H08 - Energy Del Stratgic Proj"]
[null,null,null,"H08","ENGR","H08","NULL","NULL","NULL","NULL","Electric Engineering","H08","David Howell","H08 - Energy Del Stratgic Proj"]
[null,null,null,"H08","H08","NULL","NULL","NULL","NULL","NULL","Energy Del Strategic Proj","H08","Heather Rosentrater","H08 - Energy Del Stratgic Proj"]
[null,null,null,"H08","VPOP","ENGR","H08","NULL","NULL","NULL","VP Energy Delivery","H08","Jason Thackston","H08 - Energy Del Stratgic Proj"]
[null,null,null,"H08","VPUP","VPOP","ENGR","H08","NULL","NULL","President & COO Avista Corp","H08","Marian Durkin","H08 - Energy Del Stratgic Proj"]
[null,null,null,"H14","AVA","CEXO","VPUP","VPCS","ESOL","H14","Total Company","H14"," ","H14 - Consumer Affairs"]
[null,null,null,"H14","CEXO","VPUP","VPCS","ESOL","H14","NULL","CEO & President","H14"," ","H14 - Consumer Affairs"]
[null,null,null,"L52","CORP","VPGC","L52","Depart","NULL","NULL","Sr. VP & General Counsel","L52","Karen Feltes","L52 - Claims Accrual"]
[null,null,null,"L53","OPER","VPOP","EAST","Depart","L53","NULL","VP Energy Delivery","L53","Jason Thackston","L53 - CDA"]
[null,null,null,"L54","OPER","VPOP","SERV","Depart","L54","NULL","VP Energy Delivery","L54","Jason Thackston","L54 - Travel & Flight Operations"]
[null,null,null,"M02","CORP","VPHR","M02","Depart","NULL","NULL","Sr. VP Human Resources","M02","Heather Rosentrater","L54 - Travel & Flight Operations"]
[null,null,null,"M07","OPER","VPPS","0007","Depart","M07","NULL","Sr. VP Energy Resources","M07","Kelly Norwood","M07 - Mechanical/Structural Shop"]
[null,null,null,"M08","OPER","VPOP","ENGR","Depart","M08","NULL","VP Energy Delivery","M08","Jason Thackston","M08 - Substation Design"]
[null,null,null,"M09","OPER","INFO","INFR","Depart","ITSE","M09","VP Info & Security","M09","Jim Kensok","M09 - Central Systems"]
[null,null,null,"M11","OPER","VPOP","ENGR","Depart","M11","NULL","VP Energy Delivery","M11","Jason Thackston","M11 - EAM Technology"]
[null,null,null,"M19","OPER","INFO","INFR","Depart","ITOP","M19","VP Info & Security","M19","Jim Kensok","M19 - Central Systems Ops"]
[null,null,null,"M29","OPER","INFO","INFR","Depart","ITSE","M29","VP Info & Security","M29","Jim Kensok","M29 - Cntrl Syst Prod & Serv"]
[null,null,null,"M50","OPER","VPOP","WEST","Depart","M50","NULL","VP Energy Delivery","M50","Jason Thackston","M50 - Deer Park"]
[null,null,null,"M51","OPER","VPOP","WEST","Depart","MNTC","M51","VP Energy Delivery","M51","Jason Thackston","M51 - Asset Maintenance"]
[null,null,null,"M53","OPER","VPCS","ESOL","Depart","M53","NULL","VP Customer Solutions","M53","Kevin Christie","M53 - Business Entrepreneurial Network"]
[null,null,null,"M54","CORP","VPFO","M54","Depart","NULL","NULL","Sr. VP & CFO","M54","Marian Durkin","M54 - Business Development"]
[null,null,null,"N02","CORP","VPHR","N02","Depart","NULL","NULL","Sr. VP Human Resources","N02","Heather Rosentrater","M54 - Business Development"]
[null,null,null,"N06","OPER","VPPS","RSRC","Depart","N06","NULL","Sr. VP Energy Resources","N06","Kelly Norwood","N06 - Joint Project-Colstrip"]
[null,null,null,"N08","OPER","VPOP","ENGR","Depart","N08","NULL","VP Energy Delivery","N08","Jason Thackston",{"$f":"VLOOKUP(L3588,Table1,2)","v":"N08 - Drafting & Survey"}]
[null,null,null,"N09","OPER","INFO","CISO","Depart","N09","NULL","VP Info & Security","N09","Jim Kensok","N09 - Office of CIO"]
[null,null,null,"N50","OPER","VPCS","CUST","Depart","N50","NULL","VP Customer Solutions","N50","Kevin Christie","N50 - Director of Customer Service"]
[null,null,null,"N51","OPER","VPCS","CUST","Depart","N51","NULL","VP Customer Solutions","N51","Kevin Christie","N51 - Write-Off Accrual"]
[null,null,null,"N52","OPER","VPOP","N52","Depart","NULL","NULL","VP Energy Delivery","N52","Jason Thackston","N52 - Compass Replace Project"]
[null,null,null,"N54","OPER","VPPS","N54","Depart","NULL","NULL","Sr. VP Energy Resources","N54","Kelly Norwood","N54 - Strategic Initiatives"]
[null,null,null,"P01","CORP","VPGC","P01","Depart","NULL","NULL","Sr. VP & General Counsel","P01","Karen Feltes","P01 - Legal Expenses"]
[null,null,null,"P03","OPER","VPOP","ENGR","Depart","P03","NULL","VP Energy Delivery","P03","Jason Thackston","P03 - Energy Deliver Tech Proj"]
[null,null,null,"P07","OPER","VPPS","0007","Depart","P07","NULL","Sr. VP Energy Resources","P07","Kelly Norwood","P07 - Contract and Proj Mgmt"]
[null,null,null,"P08","OPER","VPOP","ENGR","Depart","P08","NULL","VP Energy Delivery","P08","Jason Thackston","P08 - Distribution Oper Sys"]
[null,null,null,"P09","OPER","INFO","INFR","Depart","P09","NULL","VP Info & Security","P09","Jim Kensok","P09 - Project Management"]
[null,null,null,"P50","OPER","VPOP","WEST","Depart","P50","NULL","VP Energy Delivery","P50","Jason Thackston","P50 - Davenport"]
[null,null,null,"P51","OPER","VPOP","TRAN","Depart","P51","NULL","VP Energy Delivery","P51","Jason Thackston","P51 - Distribution Dispatch"]
[null,null,null,"P53","OPER","VPCS","ESOL","Depart","P53","NULL","VP Customer Solutions","P53","Kevin Christie","P53 - AM Moscow/Pullman"]
[null,null,null,"P59","OPER","INFO","INFR","Depart","P59","NULL","VP Info & Security","P59","Jim Kensok","P59 - Tech Service Center"]
[null,null,null,"P99","OPER","INFO","INFR","Depart","P99","NULL","VP Info & Security","P99","Jim Kensok","P99 - IT Director"]
[null,null,null,"Q19","OPER","INFO","APPS","Depart","ISOP","Q19","VP Info & Security","Q19","Jim Kensok","Q19 - Qlty Assur & Rel Mgmt"]
[null,null,null,"R09","OPER","INFO","INFR","Depart","ITSE","R09","VP Info & Security","R09","Jim Kensok","R09 - Communicated Systems"]
[null,null,null,"R11","CORP","VPRR","R11","Depart","NULL","NULL","VP Rates and Regs","R11","Dennis Vermillion","R11 - Rates & Regulations"]
[null,null,null,"R19","OPER","INFO","INFR","Depart","ITOP","R19","VP Info & Security","R19","Jim Kensok","R19 - Comm Systems Ops"]
[null,null,null,"R29","OPER","INFO","INFR","Depart","ITSE","R29","VP Info & Security","R29","Jim Kensok","R29 - Comm Sys Prod & Serv"]
[null,null,null,"R51","OPER","VPOP","ENGR","Depart","DSGN","R51","VP Energy Delivery","R51","Jason Thackston","R51 - Joint Use Projects-Distribution"]
[null,null,null,"R53","OPER","VPOP","EAST","Depart","R53","NULL","VP Energy Delivery","R53","Jason Thackston","R53 - Grangeville"]
[null,null,null,"R54","CORP","VPFO","R54","Depart","NULL","NULL","Sr. VP & CFO","R54","Marian Durkin","R54 - Risk Management"]
[null,null,null,"R55","CORP","VPFO","R55","Depart","NULL","NULL","Sr. VP & CFO","R55","Marian Durkin","R55 - Resource Risk Mgmt"]
[null,null,null,"R56","CORP","VPFO","R56","Depart","NULL","NULL","Sr. VP & CFO","R56","Marian Durkin","R56 - Insurance"]
[null,null,null,"S01","CORP","VPGC","S01","Depart","NULL","NULL","Sr. VP & General Counsel","S01","Karen Feltes","S01 - VP & Counsl-Regultry/Govt Affairs"]
[null,null,null,"S03","CORP","VPFO","AVIS","Depart","S03","NULL","Sr. VP & CFO","S03","Marian Durkin","S03 - Advantage IQ"]
[null,null,null,"S04","CORP","VPFO","AVIS","Depart","S04","NULL","Sr. VP & CFO","S04","Marian Durkin","S04 - SPS CYOC Mgmt Oversight"]
[null,null,null,"S05","CORP","VPFO","AVIS","Depart","S05","NULL","Sr. VP & CFO","S05","Marian Durkin","S05 - Salix"]
[null,null,null,"S09","OPER","INFO","APPS","Depart","S09","NULL","VP Info & Security","S09","Jim Kensok","S09 - Apps Operations & Supp"]
[null,null,null,"S19","OPER","INFO","APPS","Depart","ISOP","S19","VP Info & Security","S19","Jim Kensok","S19 - Integrations Operations"]
[null,null,null,"S20","CORP","VPFO","S20","Depart","NULL","NULL","Sr. VP & CFO","S20","Marian Durkin","S20 - Director of Finance"]
[null,null,null,"S39","OPER","INFO","APPS","Depart","ISDV","S39","VP Info & Security","S39","Jim Kensok","S39 - Integrations Development"]
[null,null,null,"S50","OPER","VPOP","ENGR","Depart","DSGN","S50","VP Energy Delivery","S50","Jason Thackston","S50 - Construction Services"]
[null,null,null,"S51","OPER","VPOP","CENT","Depart","S51","NULL","VP Energy Delivery","S51","Jason Thackston","S51 - Supply Chain Loadings"]
[null,null,null,"S52","OPER","VPOP","SERV","Depart","S52","NULL","VP Energy Delivery","S52","Jason Thackston","S51 - Supply Chain Loadings"]
[null,null,null,"S53","OPER","VPOP","EAST","Depart","S53","NULL","VP Energy Delivery","S53","Jason Thackston","S53 - St. Maries"]
[null,null,null,"S54","OPER","VPCS","CSOL","Depart","S54","NULL","VP Customer Solutions","S54","Kevin Christie","S54 - External Communications"]
[null,null,null,"T01","CORP","EXEC","T01","Depart","NULL","NULL","Executive Department Summary","T01"," ","T01 - Utility President"]
[null,null,null,"T07","OPER","VPPS","0007","Depart","T07","NULL","Sr. VP Energy Resources","T07","Kelly Norwood","T07 - Spokane Area Thermal"]
[null,null,null,"T08","OPER","VPOP","ENGR","Depart","T08","NULL","VP Energy Delivery","T08","Jason Thackston","T08 - Electric Engineer"]
[null,null,null,"T19","OPER","INFO","APPS","Depart","ISOP","T19","VP Info & Security","T19","Jim Kensok","T19 - CC&B Operations"]
[null,null,null,"T39","OPER","INFO","APPS","Depart","ISDV","T39","VP Info & Security","T39","Jim Kensok","T39 - CC&B Development"]
[null,null,null,"T51","OPER","VPOP","WEST","Depart","MNTC","T51","VP Energy Delivery","T51","Jason Thackston","T51 - Operations Project Management"]
[null,null,null,"T52","OPER","VPCS","CSOL","Depart","T52","NULL","VP Customer Solutions","T52","Kevin Christie","T52 - Demand Side Mgmt"]
[null,null,null,"T54","CORP","VPFO","T54","Depart","NULL","NULL","Sr. VP & CFO","T54","Marian Durkin","T54 - Rev and Fin Systems"]
[null,null,null,"U01","CORP","VPGC","U01","Depart","NULL","NULL","Sr. VP & General Counsel","U01","Karen Feltes","T54 - Rev and Fin Systems"]
[null,null,null,"U50","OPER","VPCS","ESOL","Depart","U50","NULL","VP Customer Solutions","U50","Kevin Christie","T54 - Rev and Fin Systems"]
[null,null,null,"V01","CORP","VPGC","V01","Depart","NULL","NULL","Sr. VP & General Counsel","V01","Karen Feltes","T54 - Rev and Fin Systems"]
[null,null,null,"V08","CORP","VPGC","V08","Depart","NULL","NULL","Sr. VP & General Counsel","V08","Karen Feltes","T54 - Rev and Fin Systems"]
[null,null,null,"V19","OPER","INFO","APPS","Depart","ISOP","V19","VP Info & Security","V19","Jim Kensok","T54 - Rev and Fin Systems"]
[null,null,null,"V39","OPER","INFO","APPS","Depart","ISDV","V39","VP Info & Security","V39","Jim Kensok","T54 - Rev and Fin Systems"]
[null,null,null,"V50","OPER","VPCS","ESOL","Depart","V50","NULL","VP Customer Solutions","V50","Kevin Christie","T54 - Rev and Fin Systems"]
[null,null,null,"W01","CORP","VPGC","W01","Depart","NULL","NULL","Sr. VP & General Counsel","W01","Karen Feltes","T54 - Rev and Fin Systems"]
[null,null,null,"W07","OPER","VPPS","0007","Depart","W07","NULL","Sr. VP Energy Resources","W07","Kelly Norwood","T54 - Rev and Fin Systems"]
[null,null,null,"W09","OPER","INFO","APPS","Depart","W09","NULL","VP Info & Security","W09","Jim Kensok","T54 - Rev and Fin Systems"]
[null,null,null,"W39","OPER","INFO","APPS","Depart","ISDV","W39","VP Info & Security","W39","Jim Kensok","T54 - Rev and Fin Systems"]
[null,null,null,"W54","CORP","ACCT","W54","Depart","NULL","NULL","Accounting Items","W54","Adam Munson","T54 - Rev and Fin Systems"]
[null,null,null,"W55","CORP","ACCT","W55","Depart","NULL","NULL","Accounting Items","W55","Adam Munson","T54 - Rev and Fin Systems"]
[null,null,null,"X01","OPER","VPOP","VPUP","Depart","X01","NULL","VP Energy Delivery","X01","Jason Thackston","T54 - Rev and Fin Systems"]
[null,null,null,"X02","CORP","VPHR","X02","Depart","NULL","NULL","Sr. VP Human Resources","X02","Heather Rosentrater","T54 - Rev and Fin Systems"]
[null,null,null,"X08","OPER","VPPS","0007","Depart","X08","NULL","Sr. VP Energy Resources","X08","Kelly Norwood","T54 - Rev and Fin Systems"]
[null,null,null,"X09","OPER","INFO","CISO","Depart","X09","NULL","VP Info & Security","X09","Jim Kensok","T54 - Rev and Fin Systems"]
[null,null,null,"X19","OPER","INFO","APPS","Depart","ISOP","X19","VP Info & Security","X19","Jim Kensok",{"$f":"VLOOKUP(L3652,Table1,2)","v":"T54 - Rev and Fin Systems"}]
[null,null,null,"X39","OPER","INFO","APPS","Depart","ISDV","X39","VP Info & Security","X39","Jim Kensok","T54 - Rev and Fin Systems"]
[null,null,null,"X54","CORP","ACCT","X54","Depart","NULL","NULL","Accounting Items","X54","Adam Munson","T54 - Rev and Fin Systems"]
[null,null,null,"X55","CORP","ACCT","X55","Depart","NULL","NULL","Accounting Items","X55","Adam Munson","T54 - Rev and Fin Systems"]
[null,null,null,"X57","CORP","ACCT","X57","Depart","NULL","NULL","Accounting Items","X57","Adam Munson","T54 - Rev and Fin Systems"]
[null,null,null,"Y01","CORP","VPGC","Y01","Depart","NULL","NULL","Sr. VP & General Counsel","Y01","Karen Feltes","T54 - Rev and Fin Systems"]
[null,null,null,"Y39","OPER","INFO","APPS","Depart","ISDV","Y39","VP Info & Security","Y39","Jim Kensok","T54 - Rev and Fin Systems"]
[null,null,null,"Y54","CORP","VPFO","Y54","Depart","NULL","NULL","Sr. VP & CFO","Y54","Marian Durkin","T54 - Rev and Fin Systems"]
[null,null,null,"Y55","CORP","VPFO","Y55","Depart","NULL","NULL","Sr. VP & CFO","Y55","Marian Durkin","T54 - Rev and Fin Systems"]
[null,null,null,"Z08","OPER","VPOP","ENGR","Depart","Z08","NULL","VP Energy Delivery","Z08","Jason Thackston","T54 - Rev and Fin Systems"]
[null,null,null,"Z09","OPER","VPOP","CENT","Depart","Z09","NULL","VP Energy Delivery","Z09","Jason Thackston","T54 - Rev and Fin Systems"]
[null,null,null,"Z57","CORP","ACCT","Z57","Depart","NULL","NULL","Accounting Items","Z57","Adam Munson","T54 - Rev and Fin Systems"]
[null,null,null,"Z87","CORP","ACCT","Z87","Depart","NULL","NULL","Accounting Items","Z87","Adam Munson","T54 - Rev and Fin Systems"]
[null,null,null,"Z88","OPER","VPOP","CENT","Depart","Z88","NULL","VP Energy Delivery","Z88","Jason Thackston","T54 - Rev and Fin Systems"]
[null,null,null,"Z89","CORP","ACCT","Z89","Depart","NULL","NULL","Accounting Items","Z89","Adam Munson","T54 - Rev and Fin Systems"]
[null,null,null,"Z90","CORP","ACCT","Z90","Depart","NULL","NULL","Accounting Items","Z90","Adam Munson","T54 - Rev and Fin Systems"]
[null,null,null,"Z91","CORP","ACCT","Z91","Depart","NULL","NULL","Accounting Items","Z91","Adam Munson","T54 - Rev and Fin Systems"]
[null,null,null,"000","VPCC","000","NULL","NULL","NULL","NULL","VP Corporate Controller","000","Kevin Christie",{"$error":"#N/A"}]
[null,null,null,"A01","VPPS","A01","NULL","NULL","NULL","NULL","Sr. VP Energy Resources","A01","Kelly Norwood","A01 - Native American  Relations"]
[null,null,null,"A02","VPHR","A02","NULL","NULL","NULL","NULL","Sr. VP Human Resources","A02","Heather Rosentrater","A02 - HRIS/Payroll"]
[null,null,null,"A04","VPGC","A04","NULL","NULL","NULL","NULL","Sr. VP & General Counsel","A04","Karen Feltes","A04 - Environmental Affairs"]
[null,null,null,"A07","VPPS","A07","NULL","NULL","NULL","NULL","Sr. VP Energy Resources","A07","Kelly Norwood","A07 - Gen Mgmt & Admin Support"]
[null,null,null,"A08","VPOP","A08","NULL","NULL","NULL","NULL","VP Energy Delivery","A08","Jason Thackston","A08 - Relay & Protection"]
[null,null,null,"A09","INFO","A09","NULL","NULL","NULL","NULL","VP Info & Security","A09","Jim Kensok","A09 - ET Shared Services"]
[null,null,null,"A19","INFO","A19","NULL","NULL","NULL","NULL","VP Info & Security","A19","Jim Kensok","A19 - Operating Tech Ops"]
[null,null,null,"A39","INFO","A39","NULL","NULL","NULL","NULL","VP Info & Security","A39","Jim Kensok","A39 - COTS Development"]
[null,null,null,"A50","VPOP","A50","NULL","NULL","NULL","NULL","VP Energy Delivery","A50","Jason Thackston","A50 - Director of Ops WA & ID"]
[null,null,null,"A51","VPOP","A51","NULL","NULL","NULL","NULL","VP Energy Delivery","A51","Jason Thackston","A51 - Dir Operations East & South"]
[null,null,null,"A52","VPCS","A52","NULL","NULL","NULL","NULL","VP Customer Solutions","A52","Kevin Christie","A52 - Svc Develop & Marketng"]
[null,null,null,"A53","VPCS","A53","NULL","NULL","NULL","NULL","VP Customer Solutions","A53","Kevin Christie","A52 - Svc Develop & Marketng"]
[null,null,null,"A54","VPCS","A54","NULL","NULL","NULL","NULL","VP Customer Solutions","A54","Kevin Christie","A54 - Dir of Customer Solution"]
[null,null,null,"A56","VPOP","A56","NULL","NULL","NULL","NULL","VP Energy Delivery","A56","Jason Thackston","A56 - System Operations"]
[null,null,null,"A57","VPCC","A57","NULL","NULL","NULL","NULL","VP Corporate Controller","A57","Kevin Christie","A57 - Ed Utility Accounting"]
[null,null,null,"A81","VPOP","A81","NULL","NULL","NULL","NULL","VP Energy Delivery","A81","Jason Thackston","A81 - Medford Construction"]
[null,null,null,"A82","VPOP","A82","NULL","NULL","NULL","NULL","VP Energy Delivery","A82","Jason Thackston","A82 - Roseburg"]
[null,null,null,"A83","VPOP","A83","NULL","NULL","NULL","NULL","VP Energy Delivery","A83","Jason Thackston","A83 - Klamath Falls"]
[null,null,null,"B02","VPHR","B02","NULL","NULL","NULL","NULL","Sr. VP Human Resources","B02","Heather Rosentrater","B02 - Benefits"]
[null,null,null,"B04","VPGC","B04","NULL","NULL","NULL","NULL","Sr. VP & General Counsel","B04","Karen Feltes","B04 - Clark Fork License"]
[null,null,null,"B07","VPPS","B07","NULL","NULL","NULL","NULL","Sr. VP Energy Resources","B07","Kelly Norwood","B07 - Project Delivery"]
[null,null,null,"B08","VPCS","B08","NULL","NULL","NULL","NULL","VP Customer Solutions","B08","Kevin Christie","B08 - Business Process Improvement"]
[null,null,null,"B09","INFO","B09","NULL","NULL","NULL","NULL","VP Info & Security","B09","Jim Kensok","B09 - Network Operations"]
[null,null,null,"B16","VPUP","B16","NULL","NULL","NULL","NULL","President & COO Avista Corp","B16","Marian Durkin","B16 - Government Relations"]
[null,null,null,"B50","VPOP","B50","NULL","NULL","NULL","NULL","VP Energy Delivery","B50","Jason Thackston","B50 - Spokane Electric"]
[null,null,null,"B51","VPOP","B51","NULL","NULL","NULL","NULL","VP Energy Delivery","B51","Jason Thackston","B51 - Gas Engineering"]
[null,null,null,"L02","CORP","VPHR","L02","Depart","NULL","NULL","Sr. VP Human Resources","L02","Heather Rosentrater","L02 - SG Workforce Training"]
[null,null,null,"L07","OPER","VPPS","0007","Depart","L07","NULL","Sr. VP Energy Resources","L07","Kelly Norwood","L07 - Clarkfork Hydro"]
[null,null,null,"L08","OPER","VPOP","ENGR","Depart","L08","NULL","VP Energy Delivery","L08","Jason Thackston","L08 - Transmission Design"]
[null,null,null,"L11","OPER","VPOP","ENGR","Depart","L11","NULL","VP Energy Delivery","L11","Jason Thackston","L08 - Transmission Design"]
[null,null,null,"L39","OPER","INFO","APPS","Depart","ISDV","L39","VP Info & Security","L39","Jim Kensok","L39 - Nucleus Development"]
[null,null,null,"L50","OPER","VPOP","NGAS","Depart","NGCO","L50","VP Energy Delivery","L50","Jason Thackston","L50 - Spokane Gas"]
[null,null,null,"L51","CORP","VPGC","L51","Depart","NULL","NULL","Sr. VP & General Counsel","L51","Karen Feltes","L51 - Claims"]
[null,null,null,"K53","VPCS","CUST","K53","NULL","NULL","NULL","VP Customer Solutions","K53","Kevin Christie","K53 - Contact Ctr-CDA"]
[null,null,null,"K53","VPUP","VPCS","CUST","K53","NULL","NULL","President & COO Avista Corp","K53","Marian Durkin","K53 - Contact Ctr-CDA"]
[null,null,null,"L02","AVA","CEXO","VPHR","L02","NULL","NULL","Total Company","L02"," ","L02 - SG Workforce Training"]
[null,null,null,"L02","CEXO","VPHR","L02","NULL","NULL","NULL","CEO & President","L02"," ","L02 - SG Workforce Training"]
[null,null,null,"L02","L02","NULL","NULL","NULL","NULL","NULL","SG Workforce Training","L02","Diane Quincy","L02 - SG Workforce Training"]
[null,null,null,"L02","VPHR","L02","NULL","NULL","NULL","NULL","Sr. VP Human Resources","L02","Heather Rosentrater","L02 - SG Workforce Training"]
[null,null,null,"L07","0007","L07","NULL","NULL","NULL","NULL","Gen Prod Sub Support","L07","Andy Vickers","L07 - Clarkfork Hydro"]
[null,null,null,"L07","AVA","CEXO","VPUP","VPPS","0007","L07","Total Company","L07"," ","L07 - Clarkfork Hydro"]
[null,null,null,"L07","CEXO","VPUP","VPPS","0007","L07","NULL","CEO & President","L07"," ","L07 - Clarkfork Hydro"]
[null,null,null,"L07","L07","NULL","NULL","NULL","NULL","NULL","Clark Fork River Hydro","L07"," ","L07 - Clarkfork Hydro"]
[null,null,null,"L07","VPPS","0007","L07","NULL","NULL","NULL","Sr. VP Energy Resources","L07","Kelly Norwood","L07 - Clarkfork Hydro"]
[null,null,null,"L07","VPUP","VPPS","0007","L07","NULL","NULL","President & COO Avista Corp","L07","Marian Durkin","L07 - Clarkfork Hydro"]
[null,null,null,"L08","AVA","CEXO","VPUP","VPOP","ENGR","L08","Total Company","L08"," ","L08 - Transmission Design"]
[null,null,null,"L08","CEXO","VPUP","VPOP","ENGR","L08","NULL","CEO & President","L08"," ",{"$f":"VLOOKUP(L3716,Table1,2)","v":"L08 - Transmission Design"}]
[null,null,null,"L08","ENGR","L08","NULL","NULL","NULL","NULL","Electric Engineering","L08","David Howell","L08 - Transmission Design"]
[null,null,null,"L08","L08","NULL","NULL","NULL","NULL","NULL","Transmission Design","L08","Ken Sweigart","L08 - Transmission Design"]
[null,null,null,"L08","VPOP","ENGR","L08","NULL","NULL","NULL","VP Energy Delivery","L08","Jason Thackston","L08 - Transmission Design"]
[null,null,null,"L08","VPUP","VPOP","ENGR","L08","NULL","NULL","President & COO Avista Corp","L08","Marian Durkin","L08 - Transmission Design"]
[null,null,null,"L11","AVA","CEXO","VPUP","VPOP","ENGR","L11","Total Company","L11"," ","L08 - Transmission Design"]
[null,null,null,"L11","CEXO","VPUP","VPOP","ENGR","L11","NULL","CEO & President","L11"," ","L08 - Transmission Design"]
[null,null,null,"L11","ENGR","L11","NULL","NULL","NULL","NULL","Electric Engineering","L11","David Howell","L08 - Transmission Design"]
[null,null,null,"L11","L11","NULL","NULL","NULL","NULL","NULL","Transmission Veg Management","L11","Lamont Miles","L08 - Transmission Design"]
[null,null,null,"L11","VPOP","ENGR","L11","NULL","NULL","NULL","VP Energy Delivery","L11","Jason Thackston","L08 - Transmission Design"]
[null,null,null,"L11","VPUP","VPOP","ENGR","L11","NULL","NULL","President & COO Avista Corp","L11","Marian Durkin","L08 - Transmission Design"]
[null,null,null,"L39","APPS","ISDV","L39","NULL","NULL","NULL","Applications Summary","L39","Hossein Nikdel","L39 - Nucleus Development"]
[null,null,null,"L39","AVA","CEXO","VPUP","INFO","APPS","ISDV","Total Company","L39"," ","L39 - Nucleus Development"]
[null,null,null,"L39","CEXO","VPUP","INFO","APPS","ISDV","L39","CEO & President","L39"," ","L39 - Nucleus Development"]
[null,null,null,"L39","INFO","APPS","ISDV","L39","NULL","NULL","VP Info & Security","L39","Jim Kensok","L39 - Nucleus Development"]
[null,null,null,"L39","ISDV","L39","NULL","NULL","NULL","NULL","IS Development Rollup","L39","Hossein Nikdel","L39 - Nucleus Development"]
[null,null,null,"L39","L39","NULL","NULL","NULL","NULL","NULL","Nucleus Development","L39","Graham Smith","L39 - Nucleus Development"]
[null,null,null,"L39","VPUP","INFO","APPS","ISDV","L39","NULL","President & COO Avista Corp","L39","Marian Durkin","L39 - Nucleus Development"]
[null,null,null,"L50","AVA","CEXO","VPUP","VPOP","NGAS","NGCO","Total Company","L50"," ","L50 - Spokane Gas"]
[null,null,null,"L50","CEXO","VPUP","VPOP","NGAS","NGCO","L50","CEO & President","L50"," ","L50 - Spokane Gas"]
[null,null,null,"L50","L50","NULL","NULL","NULL","NULL","NULL","Spokane Gas","L50","Tim Mair","L50 - Spokane Gas"]
[null,null,null,"L50","NGAS","NGCO","L50","NULL","NULL","NULL","Natural Gas","L50","Mike Faulkenberry","L50 - Spokane Gas"]
[null,null,null,"L50","NGCO","L50","NULL","NULL","NULL","NULL","Natural Gas Construction Ops","L50","Mike Faulkenberry","L50 - Spokane Gas"]
[null,null,null,"L50","VPOP","NGAS","NGCO","L50","NULL","NULL","VP Energy Delivery","L50","Jason Thackston","L50 - Spokane Gas"]
[null,null,null,"L50","VPUP","VPOP","NGAS","NGCO","L50","NULL","President & COO Avista Corp","L50","Marian Durkin","L50 - Spokane Gas"]
[null,null,null,"L51","AVA","CEXO","VPGC","L51","NULL","NULL","Total Company","L51"," ","L51 - Claims"]
[null,null,null,"L51","CEXO","VPGC","L51","NULL","NULL","NULL","CEO & President","L51"," ","L51 - Claims"]
[null,null,null,"L51","L51","NULL","NULL","NULL","NULL","NULL","Claims","L51","Darrel Moss","L51 - Claims"]
[null,null,null,"L51","VPGC","L51","NULL","NULL","NULL","NULL","Sr. VP & General Counsel","L51","Karen Feltes","L51 - Claims"]
[null,null,null,"L52","AVA","CEXO","VPGC","L52","NULL","NULL","Total Company","L52"," ","L52 - Claims Accrual"]
[null,null,null,"L52","CEXO","VPGC","L52","NULL","NULL","NULL","CEO & President","L52"," ","L52 - Claims Accrual"]
[null,null,null,"L52","L52","NULL","NULL","NULL","NULL","NULL","Claims Accrual","L52","Darrel Moss","L52 - Claims Accrual"]
[null,null,null,"L52","VPGC","L52","NULL","NULL","NULL","NULL","Sr. VP & General Counsel","L52","Karen Feltes","L52 - Claims Accrual"]
[null,null,null,"L53","AVA","CEXO","VPUP","VPOP","EAST","L53","Total Company","L53"," ","L53 - CDA"]
[null,null,null,"L53","CEXO","VPUP","VPOP","EAST","L53","NULL","CEO & President","L53"," ","L53 - CDA"]
[null,null,null,"L53","EAST","L53","NULL","NULL","NULL","NULL","Director Operations - East","L53","Greg Gfeller","L53 - CDA"]
[null,null,null,"L53","L53","NULL","NULL","NULL","NULL","NULL","Coeur d'Alene","L53","Chris Schlothauer","L53 - CDA"]
[null,null,null,"L53","VPOP","EAST","L53","NULL","NULL","NULL","VP Energy Delivery","L53","Jason Thackston","L53 - CDA"]
[null,null,null,"L53","VPUP","VPOP","EAST","L53","NULL","NULL","President & COO Avista Corp","L53","Marian Durkin","L53 - CDA"]
[null,null,null,"L54","AVA","CEXO","VPUP","VPOP","SERV","L54","Total Company","L54"," ","L54 - Travel & Flight Operations"]
[null,null,null,"L54","CEXO","VPUP","VPOP","SERV","L54","NULL","CEO & President","L54"," ","L54 - Travel & Flight Operations"]
[null,null,null,"L54","L54","NULL","NULL","NULL","NULL","NULL","Travel & Flight Operations","L54","David Robinson","L54 - Travel & Flight Operations"]
[null,null,null,"L54","SERV","L54","NULL","NULL","NULL","NULL","Shared Services","L54","Dennis Vermillion","L54 - Travel & Flight Operations"]
[null,null,null,"L54","VPOP","SERV","L54","NULL","NULL","NULL","VP Energy Delivery","L54","Jason Thackston","L54 - Travel & Flight Operations"]
[null,null,null,"L54","VPUP","VPOP","SERV","L54","NULL","NULL","President & COO Avista Corp","L54","Marian Durkin","L54 - Travel & Flight Operations"]
[null,null,null,"M02","AVA","CEXO","VPHR","M02","NULL","NULL","Total Company","M02"," ","L54 - Travel & Flight Operations"]
[null,null,null,"M02","CEXO","VPHR","M02","NULL","NULL","NULL","CEO & President","M02"," ","L54 - Travel & Flight Operations"]
[null,null,null,"M02","M02","NULL","NULL","NULL","NULL","NULL","Corporate Learning and Development","M02","Diane Quincy","L54 - Travel & Flight Operations"]
[null,null,null,"M02","VPHR","M02","NULL","NULL","NULL","NULL","Sr. VP Human Resources","M02","Heather Rosentrater","L54 - Travel & Flight Operations"]
[null,null,null,"M07","0007","M07","NULL","NULL","NULL","NULL","Gen Prod Sub Support","M07","Andy Vickers","M07 - Mechanical/Structural Shop"]
[null,null,null,"M07","AVA","CEXO","VPUP","VPPS","0007","M07","Total Company","M07"," ","M07 - Mechanical/Structural Shop"]
[null,null,null,"M07","CEXO","VPUP","VPPS","0007","M07","NULL","CEO & President","M07"," ","M07 - Mechanical/Structural Shop"]
[null,null,null,"M07","M07","NULL","NULL","NULL","NULL","NULL","Mechanical/Structural Shop","M07","Randy Pierce","M07 - Mechanical/Structural Shop"]
[null,null,null,"M07","VPPS","0007","M07","NULL","NULL","NULL","Sr. VP Energy Resources","M07","Kelly Norwood","M07 - Mechanical/Structural Shop"]
[null,null,null,"M07","VPUP","VPPS","0007","M07","NULL","NULL","President & COO Avista Corp","M07","Marian Durkin","M07 - Mechanical/Structural Shop"]
[null,null,null,"M08","AVA","CEXO","VPUP","VPOP","ENGR","M08","Total Company","M08"," ","M08 - Substation Design"]
[null,null,null,"M08","CEXO","VPUP","VPOP","ENGR","M08","NULL","CEO & President","M08"," ","M08 - Substation Design"]
[null,null,null,"M08","ENGR","M08","NULL","NULL","NULL","NULL","Electric Engineering","M08","David Howell","M08 - Substation Design"]
[null,null,null,"M08","M08","NULL","NULL","NULL","NULL","NULL","Substation Design","M08"," ","M08 - Substation Design"]
[null,null,null,"M08","VPOP","ENGR","M08","NULL","NULL","NULL","VP Energy Delivery","M08","Jason Thackston","M08 - Substation Design"]
[null,null,null,"M08","VPUP","VPOP","ENGR","M08","NULL","NULL","President & COO Avista Corp","M08","Marian Durkin","M08 - Substation Design"]
[null,null,null,"M09","AVA","CEXO","VPUP","INFO","INFR","ITSE","Total Company","M09"," ","M09 - Central Systems"]
[null,null,null,"M09","CEXO","VPUP","INFO","INFR","ITSE","M09","CEO & President","M09"," ","M09 - Central Systems"]
[null,null,null,"M09","INFO","INFR","ITSE","M09","NULL","NULL","VP Info & Security","M09","Jim Kensok","M09 - Central Systems"]
[null,null,null,"M09","INFR","ITSE","M09","NULL","NULL","NULL","Infrastructure Technology Summary","M09","Jim Corder",{"$f":"VLOOKUP(L3780,Table1,2)","v":"M09 - Central Systems"}]
[null,null,null,"M09","ITSE","M09","NULL","NULL","NULL","NULL","System Engineering Rollup","M09","Walter Roys","M09 - Central Systems"]
[null,null,null,"M09","M09","NULL","NULL","NULL","NULL","NULL","Central Systems Engineering","M09","Walter Roys","M09 - Central Systems"]
[null,null,null,"M09","VPUP","INFO","INFR","ITSE","M09","NULL","President & COO Avista Corp","M09","Marian Durkin","M09 - Central Systems"]
[null,null,null,"M11","AVA","CEXO","VPUP","VPOP","ENGR","M11","Total Company","M11"," ","M11 - EAM Technology"]
[null,null,null,"M11","CEXO","VPUP","VPOP","ENGR","M11","NULL","CEO & President","M11"," ","M11 - EAM Technology"]
[null,null,null,"M11","ENGR","M11","NULL","NULL","NULL","NULL","Electric Engineering","M11","David Howell","M11 - EAM Technology"]
[null,null,null,"M11","M11","NULL","NULL","NULL","NULL","NULL","EAM Technology","M11","Lamont Miles","M11 - EAM Technology"]
[null,null,null,"M11","VPOP","ENGR","M11","NULL","NULL","NULL","VP Energy Delivery","M11","Jason Thackston","M11 - EAM Technology"]
[null,null,null,"M11","VPUP","VPOP","ENGR","M11","NULL","NULL","President & COO Avista Corp","M11","Marian Durkin","M11 - EAM Technology"]
[null,null,null,"M19","AVA","CEXO","VPUP","INFO","INFR","ITOP","Total Company","M19"," ","M19 - Central Systems Ops"]
[null,null,null,"M19","CEXO","VPUP","INFO","INFR","ITOP","M19","CEO & President","M19"," ","M19 - Central Systems Ops"]
[null,null,null,"M19","INFO","INFR","ITOP","M19","NULL","NULL","VP Info & Security","M19","Jim Kensok","M19 - Central Systems Ops"]
[null,null,null,"M19","INFR","ITOP","M19","NULL","NULL","NULL","Infrastructure Technology Summary","M19","Jim Corder","M19 - Central Systems Ops"]
[null,null,null,"M19","ITOP","M19","NULL","NULL","NULL","NULL","IT Operations Rollup","M19","Michael Busby","M19 - Central Systems Ops"]
[null,null,null,"M19","M19","NULL","NULL","NULL","NULL","NULL","Central Systems Operations","M19","Michael Busby","M19 - Central Systems Ops"]
[null,null,null,"M19","VPUP","INFO","INFR","ITOP","M19","NULL","President & COO Avista Corp","M19","Marian Durkin","M19 - Central Systems Ops"]
[null,null,null,"M29","AVA","CEXO","VPUP","INFO","INFR","ITSE","Total Company","M29"," ","M29 - Cntrl Syst Prod & Serv"]
[null,null,null,"M29","CEXO","VPUP","INFO","INFR","ITSE","M29","CEO & President","M29"," ","M29 - Cntrl Syst Prod & Serv"]
[null,null,null,"M29","INFO","INFR","ITSE","M29","NULL","NULL","VP Info & Security","M29","Jim Kensok","M29 - Cntrl Syst Prod & Serv"]
[null,null,null,"M29","INFR","ITSE","M29","NULL","NULL","NULL","Infrastructure Technology Summary","M29","Jim Corder","M29 - Cntrl Syst Prod & Serv"]
[null,null,null,"M29","ITSE","M29","NULL","NULL","NULL","NULL","System Engineering Rollup","M29","Walter Roys","M29 - Cntrl Syst Prod & Serv"]
[null,null,null,"M29","M29","NULL","NULL","NULL","NULL","NULL","Central Systems Products & Services","M29","Walter Roys","M29 - Cntrl Syst Prod & Serv"]
[null,null,null,"M29","VPUP","INFO","INFR","ITSE","M29","NULL","President & COO Avista Corp","M29","Marian Durkin","M29 - Cntrl Syst Prod & Serv"]
[null,null,null,"M50","AVA","CEXO","VPUP","VPOP","WEST","M50","Total Company","M50"," ","M50 - Deer Park"]
[null,null,null,"M50","CEXO","VPUP","VPOP","WEST","M50","NULL","CEO & President","M50"," ","M50 - Deer Park"]
[null,null,null,"M50","M50","NULL","NULL","NULL","NULL","NULL","Deer Park","M50"," ","M50 - Deer Park"]
[null,null,null,"M50","VPOP","WEST","M50","NULL","NULL","NULL","VP Energy Delivery","M50","Jason Thackston","M50 - Deer Park"]
[null,null,null,"M50","VPUP","VPOP","WEST","M50","NULL","NULL","President & COO Avista Corp","M50","Marian Durkin","M50 - Deer Park"]
[null,null,null,"M50","WEST","M50","NULL","NULL","NULL","NULL","Director of Operations - West","M50"," ","M50 - Deer Park"]
[null,null,null,"M51","AVA","CEXO","VPUP","VPOP","WEST","MNTC","Total Company","M51"," ","M51 - Asset Maintenance"]
[null,null,null,"M51","CEXO","VPUP","VPOP","WEST","MNTC","M51","CEO & President","M51"," ","M51 - Asset Maintenance"]
[null,null,null,"M51","M51","NULL","NULL","NULL","NULL","NULL","Asset Maintenance","M51","Glenn Madden","M51 - Asset Maintenance"]
[null,null,null,"M51","MNTC","M51","NULL","NULL","NULL","NULL","Asset Maintenance","M51","Glenn Madden","M51 - Asset Maintenance"]
[null,null,null,"M51","VPOP","WEST","MNTC","M51","NULL","NULL","VP Energy Delivery","M51","Jason Thackston","M51 - Asset Maintenance"]
[null,null,null,"M51","VPUP","VPOP","WEST","MNTC","M51","NULL","President & COO Avista Corp","M51","Marian Durkin","M51 - Asset Maintenance"]
[null,null,null,"M51","WEST","MNTC","M51","NULL","NULL","NULL","Director of Operations - West","M51"," ","M51 - Asset Maintenance"]
[null,null,null,"M53","AVA","CEXO","VPUP","VPCS","ESOL","M53","Total Company","M53"," ","M53 - Business Entrepreneurial Network"]
[null,null,null,"M53","CEXO","VPUP","VPCS","ESOL","M53","NULL","CEO & President","M53"," ","M53 - Business Entrepreneurial Network"]
[null,null,null,"M53","ESOL","M53","NULL","NULL","NULL","NULL","Energy Solutions","M53","Pat Lynch","M53 - Business Entrepreneurial Network"]
[null,null,null,"M53","M53","NULL","NULL","NULL","NULL","NULL","Business Entrepreneurship Network","M53","Steve Trabun","M53 - Business Entrepreneurial Network"]
[null,null,null,"M53","VPCS","ESOL","M53","NULL","NULL","NULL","VP Customer Solutions","M53","Kevin Christie","M53 - Business Entrepreneurial Network"]
[null,null,null,"M53","VPUP","VPCS","ESOL","M53","NULL","NULL","President & COO Avista Corp","M53","Marian Durkin","M53 - Business Entrepreneurial Network"]
[null,null,null,"M54","AVA","CEXO","VPFO","M54","NULL","NULL","Total Company","M54"," ","M54 - Business Development"]
[null,null,null,"M54","CEXO","VPFO","M54","NULL","NULL","NULL","CEO & President","M54"," ","M54 - Business Development"]
[null,null,null,"M54","M54","NULL","NULL","NULL","NULL","NULL","Business Development","M54","Ed Schlect","M54 - Business Development"]
[null,null,null,"M54","VPFO","M54","NULL","NULL","NULL","NULL","Sr. VP & CFO","M54","Marian Durkin","M54 - Business Development"]
[null,null,null,"N02","AVA","CEXO","VPHR","N02","NULL","NULL","Total Company","N02"," ","M54 - Business Development"]
[null,null,null,"N02","CEXO","VPHR","N02","NULL","NULL","NULL","CEO & President","N02"," ","M54 - Business Development"]
[null,null,null,"N02","N02","NULL","NULL","NULL","NULL","NULL","HR Shared Services","N02","George Brown","M54 - Business Development"]
[null,null,null,"N02","VPHR","N02","NULL","NULL","NULL","NULL","Sr. VP Human Resources","N02","Heather Rosentrater","M54 - Business Development"]
[null,null,null,"N06","AVA","CEXO","VPUP","VPPS","RSRC","N06","Total Company","N06"," ","N06 - Joint Project-Colstrip"]
[null,null,null,"N06","CEXO","VPUP","VPPS","RSRC","N06","NULL","CEO & President","N06"," ","N06 - Joint Project-Colstrip"]
[null,null,null,"N06","N06","NULL","NULL","NULL","NULL","NULL","Joint Project-Colstrip","N06","Tom Dempsey","N06 - Joint Project-Colstrip"]
[null,null,null,"N06","RSRC","N06","NULL","NULL","NULL","NULL","Joint Resources","N06","David Meyer","N06 - Joint Project-Colstrip"]
[null,null,null,"N06","VPPS","RSRC","N06","NULL","NULL","NULL","Sr. VP Energy Resources","N06","Kelly Norwood","N06 - Joint Project-Colstrip"]
[null,null,null,"N06","VPUP","VPPS","RSRC","N06","NULL","NULL","President & COO Avista Corp","N06","Marian Durkin","N06 - Joint Project-Colstrip"]
[null,null,null,"N08","AVA","CEXO","VPUP","VPOP","ENGR","N08","Total Company","N08"," ","N08 - Drafting & Survey"]
[null,null,null,"N08","CEXO","VPUP","VPOP","ENGR","N08","NULL","CEO & President","N08"," ","N08 - Drafting & Survey"]
[null,null,null,"N08","ENGR","N08","NULL","NULL","NULL","NULL","Electric Engineering","N08","David Howell","N08 - Drafting & Survey"]
[null,null,null,"N08","N08","NULL","NULL","NULL","NULL","NULL","Drafting & Survey","N08","Clint Laws","N08 - Drafting & Survey"]
[null,null,null,"N08","VPOP","ENGR","N08","NULL","NULL","NULL","VP Energy Delivery","N08","Jason Thackston","N08 - Drafting & Survey"]
[null,null,null,"N08","VPUP","VPOP","ENGR","N08","NULL","NULL","President & COO Avista Corp","N08","Marian Durkin","N08 - Drafting & Survey"]
[null,null,null,"N09","AVA","CEXO","VPUP","INFO","CISO","N09","Total Company","N09"," ","N09 - Office of CIO"]
[null,null,null,"N09","CEXO","VPUP","INFO","CISO","N09","NULL","CEO & President","N09"," ",{"$f":"VLOOKUP(L3844,Table1,2)","v":"N09 - Office of CIO"}]
[null,null,null,"N09","CISO","N09","NULL","NULL","NULL","NULL","Chief Information & Security Officer Sum","N09","Jim Kensok","N09 - Office of CIO"]
[null,null,null,"N09","INFO","CISO","N09","NULL","NULL","NULL","VP Info & Security","N09","Jim Kensok","N09 - Office of CIO"]
[null,null,null,"N09","N09","NULL","NULL","NULL","NULL","NULL","Office of CISO","N09","Jim Kensok","N09 - Office of CIO"]
[null,null,null,"N09","VPUP","INFO","CISO","N09","NULL","NULL","President & COO Avista Corp","N09","Marian Durkin","N09 - Office of CIO"]
[null,null,null,"N50","AVA","CEXO","VPUP","VPCS","CUST","N50","Total Company","N50"," ","N50 - Director of Customer Service"]
[null,null,null,"N50","CEXO","VPUP","VPCS","CUST","N50","NULL","CEO & President","N50"," ","N50 - Director of Customer Service"]
[null,null,null,"N50","CUST","N50","NULL","NULL","NULL","NULL","Customer Service & Sales","N50","Mike Broemeling","N50 - Director of Customer Service"]
[null,null,null,"N50","N50","NULL","NULL","NULL","NULL","NULL","Dir of Customer Service","N50","Mike Broemeling","N50 - Director of Customer Service"]
[null,null,null,"N50","VPCS","CUST","N50","NULL","NULL","NULL","VP Customer Solutions","N50","Kevin Christie","N50 - Director of Customer Service"]
[null,null,null,"N50","VPUP","VPCS","CUST","N50","NULL","NULL","President & COO Avista Corp","N50","Marian Durkin","N50 - Director of Customer Service"]
[null,null,null,"N51","AVA","CEXO","VPUP","VPCS","CUST","N51","Total Company","N51"," ","N51 - Write-Off Accrual"]
[null,null,null,"N51","CEXO","VPUP","VPCS","CUST","N51","NULL","CEO & President","N51"," ","N51 - Write-Off Accrual"]
[null,null,null,"K51","CEXO","VPUP","VPOP","SERV","K51","NULL","CEO & President","K51"," ","K51 - Fleet Management"]
[null,null,null,"K51","K51","NULL","NULL","NULL","NULL","NULL","Fleet Management","K51","Greg Loew","K51 - Fleet Management"]
[null,null,null,"K51","SERV","K51","NULL","NULL","NULL","NULL","Shared Services","K51","Dennis Vermillion","K51 - Fleet Management"]
[null,null,null,"K51","VPOP","SERV","K51","NULL","NULL","NULL","VP Energy Delivery","K51","Jason Thackston","K51 - Fleet Management"]
[null,null,null,"K51","VPUP","VPOP","SERV","K51","NULL","NULL","President & COO Avista Corp","K51","Marian Durkin","K51 - Fleet Management"]
[null,null,null,"K53","AVA","CEXO","VPUP","VPCS","CUST","K53","Total Company","K53"," ","K53 - Contact Ctr-CDA"]
[null,null,null,"K53","CEXO","VPUP","VPCS","CUST","K53","NULL","CEO & President","K53"," ","K53 - Contact Ctr-CDA"]
[null,null,null,"K53","CUST","K53","NULL","NULL","NULL","NULL","Customer Service & Sales","K53","Mike Broemeling","K53 - Contact Ctr-CDA"]
[null,null,null,"K53","K53","NULL","NULL","NULL","NULL","NULL","Con Ctr - CDA","K53","Jenny Compton","K53 - Contact Ctr-CDA"]
[null,null,null,"V39","CEXO","VPUP","INFO","APPS","ISDV","V39","CEO & President","V39"," ","T54 - Rev and Fin Systems"]
[null,null,null,"V39","INFO","APPS","ISDV","V39","NULL","NULL","VP Info & Security","V39","Jim Kensok","T54 - Rev and Fin Systems"]
[null,null,null,"V39","ISDV","V39","NULL","NULL","NULL","NULL","IS Development Rollup","V39","Hossein Nikdel","T54 - Rev and Fin Systems"]
[null,null,null,"V39","V39","NULL","NULL","NULL","NULL","NULL","EAM/Maximo Development","V39","Steve Vincent","T54 - Rev and Fin Systems"]
[null,null,null,"V39","VPUP","INFO","APPS","ISDV","V39","NULL","President & COO Avista Corp","V39","Marian Durkin","T54 - Rev and Fin Systems"]
[null,null,null,"V50","AVA","CEXO","VPUP","VPCS","ESOL","V50","Total Company","V50"," ","T54 - Rev and Fin Systems"]
[null,null,null,"V50","CEXO","VPUP","VPCS","ESOL","V50","NULL","CEO & President","V50"," ","T54 - Rev and Fin Systems"]
[null,null,null,"V50","ESOL","V50","NULL","NULL","NULL","NULL","Energy Solutions","V50","Pat Lynch","T54 - Rev and Fin Systems"]
[null,null,null,"V50","V50","NULL","NULL","NULL","NULL","NULL","Reg Bus Mgr - Oregon","V50","Ryan Krasselt","T54 - Rev and Fin Systems"]
[null,null,null,"V50","VPCS","ESOL","V50","NULL","NULL","NULL","VP Customer Solutions","V50","Kevin Christie","T54 - Rev and Fin Systems"]
[null,null,null,"V50","VPUP","VPCS","ESOL","V50","NULL","NULL","President & COO Avista Corp","V50","Marian Durkin","T54 - Rev and Fin Systems"]
[null,null,null,"W01","AVA","CEXO","VPGC","W01","NULL","NULL","Total Company","W01"," ","T54 - Rev and Fin Systems"]
[null,null,null,"W01","CEXO","VPGC","W01","NULL","NULL","NULL","CEO & President","W01"," ","T54 - Rev and Fin Systems"]
[null,null,null,"W01","VPGC","W01","NULL","NULL","NULL","NULL","Sr. VP & General Counsel","W01","Karen Feltes","T54 - Rev and Fin Systems"]
[null,null,null,"W01","W01","NULL","NULL","NULL","NULL","NULL","Compliance","W01","Andy Vickers","T54 - Rev and Fin Systems"]
[null,null,null,"W07","0007","W07","NULL","NULL","NULL","NULL","Gen Prod Sub Support","W07","Andy Vickers","T54 - Rev and Fin Systems"]
[null,null,null,"W07","AVA","CEXO","VPUP","VPPS","0007","W07","Total Company","W07"," ","T54 - Rev and Fin Systems"]
[null,null,null,"W07","CEXO","VPUP","VPPS","0007","W07","NULL","CEO & President","W07"," ","T54 - Rev and Fin Systems"]
[null,null,null,"W07","VPPS","0007","W07","NULL","NULL","NULL","Sr. VP Energy Resources","W07","Kelly Norwood","T54 - Rev and Fin Systems"]
[null,null,null,"W07","VPUP","VPPS","0007","W07","NULL","NULL","President & COO Avista Corp","W07","Marian Durkin","T54 - Rev and Fin Systems"]
[null,null,null,"W07","W07","NULL","NULL","NULL","NULL","NULL","Wind Generation","W07","Hossein Nikdel","T54 - Rev and Fin Systems"]
[null,null,null,"W09","APPS","W09","NULL","NULL","NULL","NULL","Applications Summary","W09","Hossein Nikdel","T54 - Rev and Fin Systems"]
[null,null,null,"W09","AVA","CEXO","VPUP","INFO","APPS","W09","Total Company","W09"," ","T54 - Rev and Fin Systems"]
[null,null,null,"W09","CEXO","VPUP","INFO","APPS","W09","NULL","CEO & President","W09"," ","T54 - Rev and Fin Systems"]
[null,null,null,"W09","INFO","APPS","W09","NULL","NULL","NULL","VP Info & Security","W09","Jim Kensok","T54 - Rev and Fin Systems"]
[null,null,null,"W09","VPUP","INFO","APPS","W09","NULL","NULL","President & COO Avista Corp","W09","Marian Durkin","T54 - Rev and Fin Systems"]
[null,null,null,"W09","W09","NULL","NULL","NULL","NULL","NULL","IS Director","W09","Graham Smith","T54 - Rev and Fin Systems"]
[null,null,null,"W39","APPS","ISDV","W39","NULL","NULL","NULL","Applications Summary","W39","Hossein Nikdel","T54 - Rev and Fin Systems"]
[null,null,null,"W39","AVA","CEXO","VPUP","INFO","APPS","ISDV","Total Company","W39"," ","T54 - Rev and Fin Systems"]
[null,null,null,"W39","CEXO","VPUP","INFO","APPS","ISDV","W39","CEO & President","W39"," ","T54 - Rev and Fin Systems"]
[null,null,null,"W39","INFO","APPS","ISDV","W39","NULL","NULL","VP Info & Security","W39","Jim Kensok","T54 - Rev and Fin Systems"]
[null,null,null,"W39","ISDV","W39","NULL","NULL","NULL","NULL","IS Development Rollup","W39","Hossein Nikdel","T54 - Rev and Fin Systems"]
[null,null,null,"W39","VPUP","INFO","APPS","ISDV","W39","NULL","President & COO Avista Corp","W39","Marian Durkin","T54 - Rev and Fin Systems"]
[null,null,null,"W39","W39","NULL","NULL","NULL","NULL","NULL","IS Delivery","W39","Pat Gorton","T54 - Rev and Fin Systems"]
[null,null,null,"W54","ACCT","W54","NULL","NULL","NULL","NULL","Accounting Items","W54","Adam Munson","T54 - Rev and Fin Systems"]
[null,null,null,"W54","AVA","CEXO","ACCT","W54","NULL","NULL","Total Company","W54"," ","T54 - Rev and Fin Systems"]
[null,null,null,"W54","CEXO","ACCT","W54","NULL","NULL","NULL","CEO & President","W54"," ","T54 - Rev and Fin Systems"]
[null,null,null,"W54","W54","NULL","NULL","NULL","NULL","NULL","Finance Responsibility","W54","Cheryl Kettner","T54 - Rev and Fin Systems"]
[null,null,null,"W55","ACCT","W55","NULL","NULL","NULL","NULL","Accounting Items","W55","Adam Munson","T54 - Rev and Fin Systems"]
[null,null,null,"W55","AVA","CEXO","ACCT","W55","NULL","NULL","Total Company","W55"," ","T54 - Rev and Fin Systems"]
[null,null,null,"W55","CEXO","ACCT","W55","NULL","NULL","NULL","CEO & President","W55"," ","T54 - Rev and Fin Systems"]
[null,null,null,"W55","W55","NULL","NULL","NULL","NULL","NULL","Wholesale Exposure Reserve","W55","Bryan Cox","T54 - Rev and Fin Systems"]
[null,null,null,"X01","AVA","CEXO","EXEC","X01","NULL","NULL","Total Company","X01"," ",{"$f":"VLOOKUP(L3908,Table1,2)","v":"T54 - Rev and Fin Systems"}]
[null,null,null,"X01","CEXO","EXEC","X01","NULL","NULL","NULL","CEO & President","X01"," ","T54 - Rev and Fin Systems"]
[null,null,null,"X01","EXEC","X01","NULL","NULL","NULL","NULL","Executive Department Summary","X01"," ","T54 - Rev and Fin Systems"]
[null,null,null,"X01","X01","NULL","NULL","NULL","NULL","NULL","CEO","X01","Dave Zimmerman","T54 - Rev and Fin Systems"]
[null,null,null,"X02","AVA","CEXO","VPHR","X02","NULL","NULL","Total Company","X02"," ","T54 - Rev and Fin Systems"]
[null,null,null,"X02","CEXO","VPHR","X02","NULL","NULL","NULL","CEO & President","X02"," ","T54 - Rev and Fin Systems"]
[null,null,null,"X02","VPHR","X02","NULL","NULL","NULL","NULL","Sr. VP Human Resources","X02","Heather Rosentrater","T54 - Rev and Fin Systems"]
[null,null,null,"X02","X02","NULL","NULL","NULL","NULL","NULL","HR Labor & Emp Relations","X02","Bob Weisbeck","T54 - Rev and Fin Systems"]
[null,null,null,"X08","0007","X08","NULL","NULL","NULL","NULL","Gen Prod Sub Support","X08","Andy Vickers","T54 - Rev and Fin Systems"]
[null,null,null,"X08","AVA","CEXO","VPUP","VPPS","0007","X08","Total Company","X08"," ","T54 - Rev and Fin Systems"]
[null,null,null,"X08","CEXO","VPUP","VPPS","0007","X08","NULL","CEO & President","X08"," ","T54 - Rev and Fin Systems"]
[null,null,null,"X08","VPPS","0007","X08","NULL","NULL","NULL","Sr. VP Energy Resources","X08","Kelly Norwood","T54 - Rev and Fin Systems"]
[null,null,null,"X08","VPUP","VPPS","0007","X08","NULL","NULL","President & COO Avista Corp","X08","Marian Durkin","T54 - Rev and Fin Systems"]
[null,null,null,"X08","X08","NULL","NULL","NULL","NULL","NULL","Relay Shop","X08","Pat Dever","T54 - Rev and Fin Systems"]
[null,null,null,"X09","AVA","CEXO","VPUP","INFO","CISO","X09","Total Company","X09"," ","T54 - Rev and Fin Systems"]
[null,null,null,"X09","CEXO","VPUP","INFO","CISO","X09","NULL","CEO & President","X09"," ","T54 - Rev and Fin Systems"]
[null,null,null,"X09","CISO","X09","NULL","NULL","NULL","NULL","Chief Information & Security Officer Sum","X09","Jim Kensok","T54 - Rev and Fin Systems"]
[null,null,null,"X09","INFO","CISO","X09","NULL","NULL","NULL","VP Info & Security","X09","Jim Kensok","T54 - Rev and Fin Systems"]
[null,null,null,"X09","VPUP","INFO","CISO","X09","NULL","NULL","President & COO Avista Corp","X09","Marian Durkin","T54 - Rev and Fin Systems"]
[null,null,null,"X09","X09","NULL","NULL","NULL","NULL","NULL","Data Science","X09","Jason Pitts","T54 - Rev and Fin Systems"]
[null,null,null,"X19","APPS","ISOP","X19","NULL","NULL","NULL","Applications Summary","X19","Hossein Nikdel","T54 - Rev and Fin Systems"]
[null,null,null,"X19","AVA","CEXO","VPUP","INFO","APPS","ISOP","Total Company","X19"," ","T54 - Rev and Fin Systems"]
[null,null,null,"X19","CEXO","VPUP","INFO","APPS","ISOP","X19","CEO & President","X19"," ","T54 - Rev and Fin Systems"]
[null,null,null,"X19","INFO","APPS","ISOP","X19","NULL","NULL","VP Info & Security","X19","Jim Kensok","T54 - Rev and Fin Systems"]
[null,null,null,"X19","ISOP","X19","NULL","NULL","NULL","NULL","IS Operations Rollup","X19","Hossein Nikdel","T54 - Rev and Fin Systems"]
[null,null,null,"X19","VPUP","INFO","APPS","ISOP","X19","NULL","President & COO Avista Corp","X19","Marian Durkin","T54 - Rev and Fin Systems"]
[null,null,null,"X19","X19","NULL","NULL","NULL","NULL","NULL","Data Operations","X19","Mike Mudge","T54 - Rev and Fin Systems"]
[null,null,null,"X39","APPS","ISDV","X39","NULL","NULL","NULL","Applications Summary","X39","Hossein Nikdel","T54 - Rev and Fin Systems"]
[null,null,null,"X39","AVA","CEXO","VPUP","INFO","APPS","ISDV","Total Company","X39"," ","T54 - Rev and Fin Systems"]
[null,null,null,"X39","CEXO","VPUP","INFO","APPS","ISDV","X39","CEO & President","X39"," ","T54 - Rev and Fin Systems"]
[null,null,null,"X39","INFO","APPS","ISDV","X39","NULL","NULL","VP Info & Security","X39","Jim Kensok","T54 - Rev and Fin Systems"]
[null,null,null,"X39","ISDV","X39","NULL","NULL","NULL","NULL","IS Development Rollup","X39","Hossein Nikdel","T54 - Rev and Fin Systems"]
[null,null,null,"X39","VPUP","INFO","APPS","ISDV","X39","NULL","President & COO Avista Corp","X39","Marian Durkin","T54 - Rev and Fin Systems"]
[null,null,null,"X39","X39","NULL","NULL","NULL","NULL","NULL","Data Development","X39","Adam Munson","T54 - Rev and Fin Systems"]
[null,null,null,"X54","ACCT","X54","NULL","NULL","NULL","NULL","Accounting Items","X54","Adam Munson","T54 - Rev and Fin Systems"]
[null,null,null,"X54","AVA","CEXO","ACCT","X54","NULL","NULL","Total Company","X54"," ","T54 - Rev and Fin Systems"]
[null,null,null,"X54","CEXO","ACCT","X54","NULL","NULL","NULL","CEO & President","X54"," ","T54 - Rev and Fin Systems"]
[null,null,null,"X54","X54","NULL","NULL","NULL","NULL","NULL","Accounting Responsibility","X54","John Wilcox","T54 - Rev and Fin Systems"]
[null,null,null,"X55","ACCT","X55","NULL","NULL","NULL","NULL","Accounting Items","X55","Adam Munson","T54 - Rev and Fin Systems"]
[null,null,null,"X55","AVA","CEXO","ACCT","X55","NULL","NULL","Total Company","X55"," ","T54 - Rev and Fin Systems"]
[null,null,null,"X55","CEXO","ACCT","X55","NULL","NULL","NULL","CEO & President","X55"," ","T54 - Rev and Fin Systems"]
[null,null,null,"X55","X55","NULL","NULL","NULL","NULL","NULL","Misc Deferrals","X55","Howard Grimsrud","T54 - Rev and Fin Systems"]
[null,null,null,"X57","ACCT","X57","NULL","NULL","NULL","NULL","Accounting Items","X57","Adam Munson","T54 - Rev and Fin Systems"]
[null,null,null,"X57","AVA","CEXO","ACCT","X57","NULL","NULL","Total Company","X57"," ","T54 - Rev and Fin Systems"]
[null,null,null,"X57","CEXO","ACCT","X57","NULL","NULL","NULL","CEO & President","X57"," ","T54 - Rev and Fin Systems"]
[null,null,null,"X57","X57","NULL","NULL","NULL","NULL","NULL","Energy Delivery Accounting Responsibilit","X57","Marian Durkin","T54 - Rev and Fin Systems"]
[null,null,null,"Y01","AVA","CEXO","VPGC","Y01","NULL","NULL","Total Company","Y01"," ","T54 - Rev and Fin Systems"]
[null,null,null,"Y01","CEXO","VPGC","Y01","NULL","NULL","NULL","CEO & President","Y01"," ","T54 - Rev and Fin Systems"]
[null,null,null,"Y01","VPGC","Y01","NULL","NULL","NULL","NULL","Sr. VP & General Counsel","Y01","Karen Feltes","T54 - Rev and Fin Systems"]
[null,null,null,"Y01","Y01","NULL","NULL","NULL","NULL","NULL","Corporate Secretary","Y01","Graham Smith","T54 - Rev and Fin Systems"]
[null,null,null,"Y39","APPS","ISDV","Y39","NULL","NULL","NULL","Applications Summary","Y39","Hossein Nikdel","T54 - Rev and Fin Systems"]
[null,null,null,"Y39","AVA","CEXO","VPUP","INFO","APPS","ISDV","Total Company","Y39"," ","T54 - Rev and Fin Systems"]
[null,null,null,"Y39","CEXO","VPUP","INFO","APPS","ISDV","Y39","CEO & President","Y39"," ","T54 - Rev and Fin Systems"]
[null,null,null,"Y39","INFO","APPS","ISDV","Y39","NULL","NULL","VP Info & Security","Y39","Jim Kensok","T54 - Rev and Fin Systems"]
[null,null,null,"Y39","ISDV","Y39","NULL","NULL","NULL","NULL","IS Development Rollup","Y39","Hossein Nikdel","T54 - Rev and Fin Systems"]
[null,null,null,"Y39","VPUP","INFO","APPS","ISDV","Y39","NULL","President & COO Avista Corp","Y39","Marian Durkin","T54 - Rev and Fin Systems"]
[null,null,null,"Y39","Y39","NULL","NULL","NULL","NULL","NULL","Web Development","Y39","Jason Lang","T54 - Rev and Fin Systems"]
[null,null,null,"Y54","AVA","CEXO","VPFO","VPFN","Y54","NULL","Total Company","Y54"," ","T54 - Rev and Fin Systems"]
[null,null,null,"Y54","CEXO","VPFO","VPFN","Y54","NULL","NULL","CEO & President","Y54"," ","T54 - Rev and Fin Systems"]
[null,null,null,"Y54","VPFN","Y54","NULL","NULL","NULL","NULL","Finance & Treasury","Y54","Mark Thies","T54 - Rev and Fin Systems"]
[null,null,null,"Y54","VPFO","VPFN","Y54","NULL","NULL","NULL","Sr. VP & CFO","Y54","Marian Durkin","T54 - Rev and Fin Systems"]
[null,null,null,"Y54","Y54","NULL","NULL","NULL","NULL","NULL","Investor Relations","Y54","John Wilcox","T54 - Rev and Fin Systems"]
[null,null,null,"Y55","AVA","CEXO","VPFO","VPCC","Y55","NULL","Total Company","Y55"," ","T54 - Rev and Fin Systems"]
[null,null,null,"Y55","CEXO","VPFO","VPCC","Y55","NULL","NULL","CEO & President","Y55"," ","T54 - Rev and Fin Systems"]
[null,null,null,"Y55","VPCC","Y55","NULL","NULL","NULL","NULL","VP Corporate Controller","Y55","Kevin Christie",{"$f":"VLOOKUP(L3972,Table1,2)","v":"T54 - Rev and Fin Systems"}]
[null,null,null,"Y55","VPFO","VPCC","Y55","NULL","NULL","NULL","Sr. VP & CFO","Y55","Marian Durkin","T54 - Rev and Fin Systems"]
[null,null,null,"Y55","Y55","NULL","NULL","NULL","NULL","NULL","Resource Accounting","Y55","Daniel Austin","T54 - Rev and Fin Systems"]
[null,null,null,"Z08","AVA","CEXO","VPUP","VPOP","ENGR","Z08","Total Company","Z08"," ","T54 - Rev and Fin Systems"]
[null,null,null,"Z08","CEXO","VPUP","VPOP","ENGR","Z08","NULL","CEO & President","Z08"," ","T54 - Rev and Fin Systems"]
[null,null,null,"Z08","ENGR","Z08","NULL","NULL","NULL","NULL","Electric Engineering","Z08","David Howell","T54 - Rev and Fin Systems"]
[null,null,null,"Z08","VPOP","ENGR","Z08","NULL","NULL","NULL","VP Energy Delivery","Z08","Jason Thackston","T54 - Rev and Fin Systems"]
[null,null,null,"Z08","VPUP","VPOP","ENGR","Z08","NULL","NULL","President & COO Avista Corp","Z08","Marian Durkin","T54 - Rev and Fin Systems"]
[null,null,null,"Z08","Z08","NULL","NULL","NULL","NULL","NULL","Electric Meter Shop","Z08","Cody Krogh","T54 - Rev and Fin Systems"]
[null,null,null,"Z09","AVA","CEXO","VPUP","VPOP","CENT","Z09","Total Company","Z09"," ","T54 - Rev and Fin Systems"]
[null,null,null,"Z09","CENT","Z09","NULL","NULL","NULL","NULL","Centralized Services - Energy Delivery","Z09","Heather Rosentrater","T54 - Rev and Fin Systems"]
[null,null,null,"Z09","CEXO","VPUP","VPOP","CENT","Z09","NULL","CEO & President","Z09"," ","T54 - Rev and Fin Systems"]
[null,null,null,"Z09","VPOP","CENT","Z09","NULL","NULL","NULL","VP Energy Delivery","Z09","Jason Thackston","T54 - Rev and Fin Systems"]
[null,null,null,"Z09","VPUP","VPOP","CENT","Z09","NULL","NULL","President & COO Avista Corp","Z09","Marian Durkin","T54 - Rev and Fin Systems"]
[null,null,null,"Z09","Z09","NULL","NULL","NULL","NULL","NULL","Postage Centralization","Z09","Catherine Mueller","T54 - Rev and Fin Systems"]
[null,null,null,"Z57","ACCT","Z57","NULL","NULL","NULL","NULL","Accounting Items","Z57","Adam Munson","T54 - Rev and Fin Systems"]
[null,null,null,"Z57","AVA","CEXO","ACCT","Z57","NULL","NULL","Total Company","Z57"," ","T54 - Rev and Fin Systems"]
[null,null,null,"Z57","CEXO","ACCT","Z57","NULL","NULL","NULL","CEO & President","Z57"," ","T54 - Rev and Fin Systems"]
[null,null,null,"Z57","Z57","NULL","NULL","NULL","NULL","NULL","Centralized Credits","Z57","Adam Munson","T54 - Rev and Fin Systems"]
[null,null,null,"Z87","ACCT","Z87","NULL","NULL","NULL","NULL","Accounting Items","Z87","Adam Munson","T54 - Rev and Fin Systems"]
[null,null,null,"Z87","AVA","CEXO","ACCT","Z87","NULL","NULL","Total Company","Z87"," ","T54 - Rev and Fin Systems"]
[null,null,null,"Z87","CEXO","ACCT","Z87","NULL","NULL","NULL","CEO & President","Z87"," ","T54 - Rev and Fin Systems"]
[null,null,null,"Z87","Z87","NULL","NULL","NULL","NULL","NULL","Benefits Loaders","Z87","Greg Loew","T54 - Rev and Fin Systems"]
[null,null,null,"Z88","AVA","CEXO","VPUP","VPOP","CENT","Z88","Total Company","Z88"," ","T54 - Rev and Fin Systems"]
[null,null,null,"Z88","CENT","Z88","NULL","NULL","NULL","NULL","Centralized Services - Energy Delivery","Z88","Heather Rosentrater","T54 - Rev and Fin Systems"]
[null,null,null,"Z88","CEXO","VPUP","VPOP","CENT","Z88","NULL","CEO & President","Z88"," ","T54 - Rev and Fin Systems"]
[null,null,null,"Z88","VPOP","CENT","Z88","NULL","NULL","NULL","VP Energy Delivery","Z88","Jason Thackston","T54 - Rev and Fin Systems"]
[null,null,null,"Z88","VPUP","VPOP","CENT","Z88","NULL","NULL","President & COO Avista Corp","Z88","Marian Durkin","T54 - Rev and Fin Systems"]
[null,null,null,"Z88","Z88","NULL","NULL","NULL","NULL","NULL","Transportation Loaders","Z88","Adam Munson","T54 - Rev and Fin Systems"]
[null,null,null,"Z89","ACCT","Z89","NULL","NULL","NULL","NULL","Accounting Items","Z89","Adam Munson","T54 - Rev and Fin Systems"]
[null,null,null,"Z89","AVA","CEXO","ACCT","Z89","NULL","NULL","Total Company","Z89"," ","T54 - Rev and Fin Systems"]
[null,null,null,"Z89","CEXO","ACCT","Z89","NULL","NULL","NULL","CEO & President","Z89"," ","T54 - Rev and Fin Systems"]
[null,null,null,"Z89","Z89","NULL","NULL","NULL","NULL","NULL","Payroll Accrual","Z89","Adam Munson","T54 - Rev and Fin Systems"]
[null,null,null,"Z90","ACCT","Z90","NULL","NULL","NULL","NULL","Accounting Items","Z90","Adam Munson","T54 - Rev and Fin Systems"]
[null,null,null,"Z90","AVA","CEXO","ACCT","Z90","NULL","NULL","Total Company","Z90"," ","T54 - Rev and Fin Systems"]
[null,null,null,"Z90","CEXO","ACCT","Z90","NULL","NULL","NULL","CEO & President","Z90"," ","T54 - Rev and Fin Systems"]
[null,null,null,"Z90","Z90","NULL","NULL","NULL","NULL","NULL","Incentive Compensation","Z90","Adam Munson","T54 - Rev and Fin Systems"]
[null,null,null,"Z91","ACCT","Z91","NULL","NULL","NULL","NULL","Accounting Items","Z91","Adam Munson","T54 - Rev and Fin Systems"]
[null,null,null,"Z91","AVA","CEXO","ACCT","Z91","NULL","NULL","Total Company","Z91"," ","T54 - Rev and Fin Systems"]
[null,null,null,"Z91","CEXO","ACCT","Z91","NULL","NULL","NULL","CEO & President","Z91"," ","T54 - Rev and Fin Systems"]
[null,null,null,"Z91","Z91","NULL","NULL","NULL","NULL","NULL","Other One Leave","Z91","NULL","T54 - Rev and Fin Systems"]
[null,null,null,"000","CORP","ACCT","000","Depart","NULL","NULL","Accounting Items","000","Adam Munson",{"$error":"#N/A"}]
[null,null,null,"099","CORP","VPFO","099","Depart","NULL","NULL","Sr. VP & CFO","099","Marian Durkin",{"$error":"#N/A"}]
[null,null,null,"A01","OPER","VPPS","A01","Depart","NULL","NULL","Sr. VP Energy Resources","A01","Kelly Norwood","A01 - Native American  Relations"]
[null,null,null,"A02","CORP","VPHR","A02","Depart","NULL","NULL","Sr. VP Human Resources","A02","Heather Rosentrater","A02 - HRIS/Payroll"]
[null,null,null,"A04","CORP","VPGC","A04","Depart","NULL","NULL","Sr. VP & General Counsel","A04","Karen Feltes","A04 - Environmental Affairs"]
[null,null,null,"A07","OPER","VPPS","0007","Depart","A07","NULL","Sr. VP Energy Resources","A07","Kelly Norwood","A07 - Gen Mgmt & Admin Support"]
[null,null,null,"A08","OPER","VPOP","ENGR","Depart","A08","NULL","VP Energy Delivery","A08","Jason Thackston","A08 - Relay & Protection"]
[null,null,null,"A09","OPER","INFO","A09","Depart","NULL","NULL","VP Info & Security","A09","Jim Kensok","A09 - ET Shared Services"]
[null,null,null,"A19","OPER","INFO","APPS","Depart","ISOP","A19","VP Info & Security","A19","Jim Kensok","A19 - Operating Tech Ops"]
[null,null,null,"A39","OPER","INFO","APPS","Depart","ISDV","A39","VP Info & Security","A39","Jim Kensok","A39 - COTS Development"]
[null,null,null,"A50","OPER","VPOP","WEST","Depart","A50","NULL","VP Energy Delivery","A50","Jason Thackston","A50 - Director of Ops WA & ID"]
[null,null,null,"V19","AVA","CEXO","VPUP","INFO","APPS","ISOP","Total Company","V19"," ","T54 - Rev and Fin Systems"]
[null,null,null,"V19","CEXO","VPUP","INFO","APPS","ISOP","V19","CEO & President","V19"," ","T54 - Rev and Fin Systems"]
[null,null,null,"V19","INFO","APPS","ISOP","V19","NULL","NULL","VP Info & Security","V19","Jim Kensok","T54 - Rev and Fin Systems"]
[null,null,null,"V19","ISOP","V19","NULL","NULL","NULL","NULL","IS Operations Rollup","V19","Hossein Nikdel","T54 - Rev and Fin Systems"]
[null,null,null,"V19","V19","NULL","NULL","NULL","NULL","NULL","EAM/Operations Operations","V19","Mike Mudge","T54 - Rev and Fin Systems"]
[null,null,null,"V19","VPUP","INFO","APPS","ISOP","V19","NULL","President & COO Avista Corp","V19","Marian Durkin","T54 - Rev and Fin Systems"]
[null,null,null,"V39","APPS","ISDV","V39","NULL","NULL","NULL","Applications Summary","V39","Hossein Nikdel","T54 - Rev and Fin Systems"]
[null,null,null,"V39","AVA","CEXO","VPUP","INFO","APPS","ISDV","Total Company","V39"," ","T54 - Rev and Fin Systems"]

{"sheet":"Macro1","index":6,"n_rows":56,"n_cols":2,"rows_kept":56,"cut":false,"hidden":true,"merged":[]}
["Macro1","Auto_Open"]
[{"$f":"ALIGNMENT(2,FALSE,1,0,FALSE)","v":true},{"$f":"ERROR(2,Recover)","v":true}]
[{"$f":"BORDER(0,0,0,0,0,0,0,0,0,0,0)","v":true},{"$f":"WORKBOOK.SELECT(\"Sheet 1\")","v":true}]
[{"$f":"PATTERNS(1,0,2,TRUE)","v":true},{"$f":"WINDOW.RESTORE()","v":true}]
[{"$f":"FORMAT.FONT(\"Arial\",10,FALSE,FALSE,FALSE,FALSE,1,FALSE,FALSE)","v":true},{"$f":"WINDOW.SIZE(82.5,42.75)","v":true}]
[{"$f":"RETURN()","v":true},{"$f":"WORKBOOK.HIDE(\"Macro1\",TRUE)","v":true}]
[null,{"$f":"EDIT.COLOR(1,0,0,0)","v":true}]
["Macro2",{"$f":"EDIT.COLOR(3,255,0,0)","v":true}]
[{"$f":"ALIGNMENT(4,FALSE,1,0,FALSE)","v":true},{"$f":"EDIT.COLOR(5,204,204,204)","v":true}]
[{"$f":"BORDER(0,0,0,0,0,0,0,0,0,0,0)","v":true},{"$f":"EDIT.COLOR(4,212,212,212)","v":true}]
[{"$f":"PATTERNS(1,0,2,TRUE)","v":true},{"$f":"EDIT.COLOR(2,255,255,255)","v":true}]
[{"$f":"FORMAT.FONT(\"Arial\",10,FALSE,FALSE,FALSE,FALSE,1,FALSE,FALSE)","v":true},{"$f":"RUN(\"Macro6\")","v":{"$error":"#N/A"}}]
[{"$f":"RETURN()","v":true},{"$f":"DELETE.NAME(\"Auto_Open\")","v":true}]
[null,{"$f":"WORKBOOK.SELECT(\"Sheet 1\")","v":true}]
["Macro3",{"$f":"SELECT(\"R1:R16384\")","v":true}]
[{"$f":"ALIGNMENT(2,FALSE,1,0,FALSE)","v":true},{"$f":"COLUMN.WIDTH(,,,3)","v":true}]
[{"$f":"BORDER(0,0,0,0,0,0,0,0,0,0,0)","v":true},{"$f":"ROW.HEIGHT(,,,3)","v":true}]
[{"$f":"PATTERNS(1,0,5,TRUE)","v":true},{"$f":"SELECT(\"R1C1\")","v":true}]
[{"$f":"FORMAT.FONT(\"Arial\",10,FALSE,FALSE,FALSE,FALSE,1,FALSE,FALSE)","v":true},{"$f":"WINDOW.MAXIMIZE()","v":true}]
[{"$f":"RETURN()","v":true},{"$f":"RETURN()","v":true}]
[]
["Macro4"]
[{"$f":"ALIGNMENT(4,FALSE,1,0,FALSE)","v":true}]
[{"$f":"BORDER(0,0,0,0,0,0,0,0,0,0,0)","v":true}]
[{"$f":"PATTERNS(1,0,5,TRUE)","v":true}]
[{"$f":"FORMAT.FONT(\"Arial\",10,FALSE,FALSE,FALSE,FALSE,1,FALSE,FALSE)","v":true}]
[{"$f":"RETURN()","v":true}]
[]
["Macro5"]
[{"$f":"ALIGNMENT(2,FALSE,1,0,FALSE)","v":true}]
[{"$f":"BORDER(0,0,0,0,0,0,0,0,0,0,0)","v":true}]
[{"$f":"PATTERNS(1,0,2,TRUE)","v":true}]
[{"$f":"FORMAT.FONT(\"Arial\",10,FALSE,FALSE,FALSE,FALSE,1,FALSE,FALSE)","v":true}]
[{"$f":"RETURN()","v":true}]
[]
["Macro6"]
[{"$f":"WORKBOOK.SELECT(\"Sheet 1\")","v":true}]
[{"$f":"SELECT(\"R2C1:R717C4,R2C10:R717C10\")","v":true}]
[{"$f":"RUN(\"Macro1\")","v":{"$error":"#N/A"}}]
[{"$f":"SELECT(\"R2C5:R717C9\")","v":true}]
[{"$f":"RUN(\"Macro2\")","v":{"$error":"#N/A"}}]
[{"$f":"SELECT(\"R2C5:R717C5,R2C6:R717C6,R2C7:R717C7,R2C8:R717C8,R2C9:R717C9\")","v":true}]
[{"$f":"FORMAT.NUMBER(\"#,###,###,###,###.00\")","v":true}]
[{"$f":"SELECT(\"R717C5,R717C6,R717C7,R717C8,R717C9\")","v":true}]
[{"$f":"FORMAT.NUMBER(\"\"\"Sum: \"\"#,###,###,###,###.00;\"\"Sum: \"\"-#,###,###,###,###.00\")","v":true}]
[{"$f":"SELECT(\"R1C1:R1C4,R1C10\")","v":true}]
[{"$f":"RUN(\"Macro3\")","v":{"$error":"#N/A"}}]
[{"$f":"SELECT(\"R1C5:R1C9\")","v":true}]
[{"$f":"RUN(\"Macro4\")","v":{"$error":"#N/A"}}]
[{"$f":"SELECT(\"R717C5,R717C6,R717C7,R717C8,R717C9\")","v":true}]
[{"$f":"RUN(\"Macro5\")","v":{"$error":"#N/A"}}]
[{"$f":"RETURN()","v":true}]
[]
["Recover"]
[{"$f":"GOTO(ABSREF(\"R[1]C[0]\",LAST.ERROR()))","v":false}]
[{"$f":"RETURN()","v":true}]